Workbook

Sheet calendrier
A1: 2015 | B1: =DATE($A$1,COLUMN()-1,1) -> 42005 | D1: =DATE($A$1,COLUMN()-2,1) -> 42036 | F1: =DATE($A$1,COLUMN()-3,1) -> 42064 | H1: =DATE($A$1,COLUMN()-4,1) -> 42095 | J1: =DATE($A$1,COLUMN()-5,1) -> 42125 | L1: =DATE($A$1,COLUMN()-6,1) -> 42156 | N1: =DATE($A$1,COLUMN()-7,1) -> 42186 | P1: =DATE($A$1,COLUMN()-8,1) -> 42217 | R1: =DATE($A$1,COLUMN()-9,1) -> 42248 | T1: =DATE($A$1,COLUMN()-10,1) -> 42278 | V1: =DATE($A$1,COLUMN()-11,1) -> 42309 | X1: =DATE($A$1,COLUMN()-12,1) -> 42339
B2: =DATE($A$1,COLUMN()-1,ROW()-1) -> 42005 | C2: =IFERROR(OFFSET(grille!$A$1,MOD(INT((B2-parametres!$D$1)/7),42)+1,WEEKDAY(calendrier!B2,2)),"") -> T220__ | D2: =DATE($A$1,COLUMN()-2,ROW()-1) -> 42036 | E2: =IFERROR(OFFSET(grille!$A$1,MOD(INT((D2-parametres!$D$1)/7),42)+1,WEEKDAY(calendrier!D2,2)),"") -> RP | F2: =DATE($A$1,COLUMN()-3,ROW()-1) -> 42064 | G2: =IFERROR(OFFSET(grille!$A$1,MOD(INT((F2-parametres!$D$1)/7),42)+1,WEEKDAY(calendrier!F2,2)),"") -> T637__ | H2: =DATE($A$1,COLUMN()-4,ROW()-1) -> 42095 | I2: =IFERROR(OFFSET(grille!$A$1,MOD(INT((H2-parametres!$D$1)/7),42)+1,WEEKDAY(calendrier!H2,2)),"") -> 0 | J2: =DATE($A$1,COLUMN()-5,ROW()-1) -> 42125 | K2: =IFERROR(OFFSET(grille!$A$1,MOD(INT((J2-parametres!$D$1)/7),42)+1,WEEKDAY(calendrier!J2,2)),"") -> 0 | L2: =DATE($A$1,COLUMN()-6,ROW()-1) -> 42156 | M2: =IFERROR(OFFSET(grille!$A$1,MOD(INT((L2-parametres!$D$1)/7),42)+1,WEEKDAY(calendrier!L2,2)),"") -> 0 | N2: =DATE($A$1,COLUMN()-7,ROW()-1) -> 42186 | O2: =IFERROR(OFFSET(grille!$A$1,MOD(INT((N2-parametres!$D$1)/7),42)+1,WEEKDAY(calendrier!N2,2)),"") -> 0 | P2: =DATE($A$1,COLUMN()-8,ROW()-1) -> 42217 | Q2: =IFERROR(OFFSET(grille!$A$1,MOD(INT((P2-parametres!$D$1)/7),42)+1,WEEKDAY(calendrier!P2,2)),"") -> 0 | R2: =DATE($A$1,COLUMN()-9,ROW()-1) -> 42248 | S2: =IFERROR(OFFSET(grille!$A$1,MOD(INT((R2-parametres!$D$1)/7),42)+1,WEEKDAY(calendrier!R2,2)),"") -> T650__ | T2: =DATE($A$1,COLUMN()-10,ROW()-1) -> 42278 | U2: =IFERROR(OFFSET(grille!$A$1,MOD(INT((T2-parametres!$D$1)/7),42)+1,WEEKDAY(calendrier!T2,2)),"") -> T120 | V2: =DATE($A$1,COLUMN()-11,ROW()-1) -> 42309 | W2: =IFERROR(OFFSET(grille!$A$1,MOD(INT((V2-parametres!$D$1)/7),42)+1,WEEKDAY(calendrier!V2,2)),"") -> T227__ | X2: =DATE($A$1,COLUMN()-12,ROW()-1) -> 42339 | Y2: =IFERROR(OFFSET(grille!$A$1,MOD(INT((X2-parametres!$D$1)/7),42)+1,WEEKDAY(calendrier!X2,2)),"") -> __T450
B3: =DATE($A$1,COLUMN()-1,ROW()-1) -> 42006 | C3: =IFERROR(OFFSET(grille!$A$1,MOD(INT((B3-parametres!$D$1)/7),42)+1,WEEKDAY(calendrier!B3,2)),"") -> __T230 | D3: =DATE($A$1,COLUMN()-2,ROW()-1) -> 42037 | E3: =IFERROR(OFFSET(grille!$A$1,MOD(INT((D3-parametres!$D$1)/7),42)+1,WEEKDAY(calendrier!D3,2)),"") -> T410 | F3: =DATE($A$1,COLUMN()-3,ROW()-1) -> 42065 | G3: =IFERROR(OFFSET(grille!$A$1,MOD(INT((F3-parametres!$D$1)/7),42)+1,WEEKDAY(calendrier!F3,2)),"") -> __T640 | H3: =DATE($A$1,COLUMN()-4,ROW()-1) -> 42096 | I3: =IFERROR(OFFSET(grille!$A$1,MOD(INT((H3-parametres!$D$1)/7),42)+1,WEEKDAY(calendrier!H3,2)),"") -> 0 | J3: =DATE($A$1,COLUMN()-5,ROW()-1) -> 42126 | K3: =IFERROR(OFFSET(grille!$A$1,MOD(INT((J3-parametres!$D$1)/7),42)+1,WEEKDAY(calendrier!J3,2)),"") -> 0 | L3: =DATE($A$1,COLUMN()-6,ROW()-1) -> 42157 | M3: =IFERROR(OFFSET(grille!$A$1,MOD(INT((L3-parametres!$D$1)/7),42)+1,WEEKDAY(calendrier!L3,2)),"") -> 0 | N3: =DATE($A$1,COLUMN()-7,ROW()-1) -> 42187 | O3: =IFERROR(OFFSET(grille!$A$1,MOD(INT((N3-parametres!$D$1)/7),42)+1,WEEKDAY(calendrier!N3,2)),"") -> 0 | P3: =DATE($A$1,COLUMN()-8,ROW()-1) -> 42218 | Q3: =IFERROR(OFFSET(grille!$A$1,MOD(INT((P3-parametres!$D$1)/7),42)+1,WEEKDAY(calendrier!P3,2)),"") -> 0 | R3: =DATE($A$1,COLUMN()-9,ROW()-1) -> 42249 | S3: =IFERROR(OFFSET(grille!$A$1,MOD(INT((R3-parametres!$D$1)/7),42)+1,WEEKDAY(calendrier!R3,2)),"") -> __T660 | T3: =DATE($A$1,COLUMN()-10,ROW()-1) -> 42279 | U3: =IFERROR(OFFSET(grille!$A$1,MOD(INT((T3-parametres!$D$1)/7),42)+1,WEEKDAY(calendrier!T3,2)),"") -> T720 | V3: =DATE($A$1,COLUMN()-11,ROW()-1) -> 42310 | W3: =IFERROR(OFFSET(grille!$A$1,MOD(INT((V3-parametres!$D$1)/7),42)+1,WEEKDAY(calendrier!V3,2)),"") -> __T230 | X3: =DATE($A$1,COLUMN()-12,ROW()-1) -> 42340 | Y3: =IFERROR(OFFSET(grille!$A$1,MOD(INT((X3-parametres!$D$1)/7),42)+1,WEEKDAY(calendrier!X3,2)),"") -> T240__
B4: =DATE($A$1,COLUMN()-1,ROW()-1) -> 42007 | C4: =IFERROR(OFFSET(grille!$A$1,MOD(INT((B4-parametres!$D$1)/7),42)+1,WEEKDAY(calendrier!B4,2)),"") -> RP | D4: =DATE($A$1,COLUMN()-2,ROW()-1) -> 42038 | E4: =IFERROR(OFFSET(grille!$A$1,MOD(INT((D4-parametres!$D$1)/7),42)+1,WEEKDAY(calendrier!D4,2)),"") -> T720 | F4: =DATE($A$1,COLUMN()-3,ROW()-1) -> 42066 | G4: =IFERROR(OFFSET(grille!$A$1,MOD(INT((F4-parametres!$D$1)/7),42)+1,WEEKDAY(calendrier!F4,2)),"") -> T430 | H4: =DATE($A$1,COLUMN()-4,ROW()-1) -> 42097 | I4: =IFERROR(OFFSET(grille!$A$1,MOD(INT((H4-parametres!$D$1)/7),42)+1,WEEKDAY(calendrier!H4,2)),"") -> 0 | J4: =DATE($A$1,COLUMN()-5,ROW()-1) -> 42127 | K4: =IFERROR(OFFSET(grille!$A$1,MOD(INT((J4-parametres!$D$1)/7),42)+1,WEEKDAY(calendrier!J4,2)),"") -> 0 | L4: =DATE($A$1,COLUMN()-6,ROW()-1) -> 42158 | M4: =IFERROR(OFFSET(grille!$A$1,MOD(INT((L4-parametres!$D$1)/7),42)+1,WEEKDAY(calendrier!L4,2)),"") -> 0 | N4: =DATE($A$1,COLUMN()-7,ROW()-1) -> 42188 | O4: =IFERROR(OFFSET(grille!$A$1,MOD(INT((N4-parametres!$D$1)/7),42)+1,WEEKDAY(calendrier!N4,2)),"") -> 0 | P4: =DATE($A$1,COLUMN()-8,ROW()-1) -> 42219 | Q4: =IFERROR(OFFSET(grille!$A$1,MOD(INT((P4-parametres!$D$1)/7),42)+1,WEEKDAY(calendrier!P4,2)),"") -> 0 | R4: =DATE($A$1,COLUMN()-9,ROW()-1) -> 42250 | S4: =IFERROR(OFFSET(grille!$A$1,MOD(INT((R4-parametres!$D$1)/7),42)+1,WEEKDAY(calendrier!R4,2)),"") -> T260 | T4: =DATE($A$1,COLUMN()-10,ROW()-1) -> 42280 | U4: =IFERROR(OFFSET(grille!$A$1,MOD(INT((T4-parametres!$D$1)/7),42)+1,WEEKDAY(calendrier!T4,2)),"") -> T346__ | V4: =DATE($A$1,COLUMN()-11,ROW()-1) -> 42311 | W4: =IFERROR(OFFSET(grille!$A$1,MOD(INT((V4-parametres!$D$1)/7),42)+1,WEEKDAY(calendrier!V4,2)),"") -> T260 | X4: =DATE($A$1,COLUMN()-12,ROW()-1) -> 42341 | Y4: =IFERROR(OFFSET(grille!$A$1,MOD(INT((X4-parametres!$D$1)/7),42)+1,WEEKDAY(calendrier!X4,2)),"") -> __T250
B5: =DATE($A$1,COLUMN()-1,ROW()-1) -> 42008 | C5: =IFERROR(OFFSET(grille!$A$1,MOD(INT((B5-parametres!$D$1)/7),42)+1,WEEKDAY(calendrier!B5,2)),"") -> RP | D5: =DATE($A$1,COLUMN()-2,ROW()-1) -> 42039 | E5: =IFERROR(OFFSET(grille!$A$1,MOD(INT((D5-parametres!$D$1)/7),42)+1,WEEKDAY(calendrier!D5,2)),"") -> T510 | F5: =DATE($A$1,COLUMN()-3,ROW()-1) -> 42067 | G5: =IFERROR(OFFSET(grille!$A$1,MOD(INT((F5-parametres!$D$1)/7),42)+1,WEEKDAY(calendrier!F5,2)),"") -> T820__ | H5: =DATE($A$1,COLUMN()-4,ROW()-1) -> 42098 | I5: =IFERROR(OFFSET(grille!$A$1,MOD(INT((H5-parametres!$D$1)/7),42)+1,WEEKDAY(calendrier!H5,2)),"") -> 0 | J5: =DATE($A$1,COLUMN()-5,ROW()-1) -> 42128 | K5: =IFERROR(OFFSET(grille!$A$1,MOD(INT((J5-parametres!$D$1)/7),42)+1,WEEKDAY(calendrier!J5,2)),"") -> 0 | L5: =DATE($A$1,COLUMN()-6,ROW()-1) -> 42159 | M5: =IFERROR(OFFSET(grille!$A$1,MOD(INT((L5-parametres!$D$1)/7),42)+1,WEEKDAY(calendrier!L5,2)),"") -> 0 | N5: =DATE($A$1,COLUMN()-7,ROW()-1) -> 42189 | O5: =IFERROR(OFFSET(grille!$A$1,MOD(INT((N5-parametres!$D$1)/7),42)+1,WEEKDAY(calendrier!N5,2)),"") -> 0 | P5: =DATE($A$1,COLUMN()-8,ROW()-1) -> 42220 | Q5: =IFERROR(OFFSET(grille!$A$1,MOD(INT((P5-parametres!$D$1)/7),42)+1,WEEKDAY(calendrier!P5,2)),"") -> 0 | R5: =DATE($A$1,COLUMN()-9,ROW()-1) -> 42251 | S5: =IFERROR(OFFSET(grille!$A$1,MOD(INT((R5-parametres!$D$1)/7),42)+1,WEEKDAY(calendrier!R5,2)),"") -> D | T5: =DATE($A$1,COLUMN()-10,ROW()-1) -> 42281 | U5: =IFERROR(OFFSET(grille!$A$1,MOD(INT((T5-parametres!$D$1)/7),42)+1,WEEKDAY(calendrier!T5,2)),"") -> __T357 | V5: =DATE($A$1,COLUMN()-11,ROW()-1) -> 42312 | W5: =IFERROR(OFFSET(grille!$A$1,MOD(INT((V5-parametres!$D$1)/7),42)+1,WEEKDAY(calendrier!V5,2)),"") -> RP | X5: =DATE($A$1,COLUMN()-12,ROW()-1) -> 42342 | Y5: =IFERROR(OFFSET(grille!$A$1,MOD(INT((X5-parametres!$D$1)/7),42)+1,WEEKDAY(calendrier!X5,2)),"") -> RP
B6: =DATE($A$1,COLUMN()-1,ROW()-1) -> 42009 | C6: =IFERROR(OFFSET(grille!$A$1,MOD(INT((B6-parametres!$D$1)/7),42)+1,WEEKDAY(calendrier!B6,2)),"") -> T220__ | D6: =DATE($A$1,COLUMN()-2,ROW()-1) -> 42040 | E6: =IFERROR(OFFSET(grille!$A$1,MOD(INT((D6-parametres!$D$1)/7),42)+1,WEEKDAY(calendrier!D6,2)),"") -> T140__ | F6: =DATE($A$1,COLUMN()-3,ROW()-1) -> 42068 | G6: =IFERROR(OFFSET(grille!$A$1,MOD(INT((F6-parametres!$D$1)/7),42)+1,WEEKDAY(calendrier!F6,2)),"") -> __T830 | H6: =DATE($A$1,COLUMN()-4,ROW()-1) -> 42099 | I6: =IFERROR(OFFSET(grille!$A$1,MOD(INT((H6-parametres!$D$1)/7),42)+1,WEEKDAY(calendrier!H6,2)),"") -> 0 | J6: =DATE($A$1,COLUMN()-5,ROW()-1) -> 42129 | K6: =IFERROR(OFFSET(grille!$A$1,MOD(INT((J6-parametres!$D$1)/7),42)+1,WEEKDAY(calendrier!J6,2)),"") -> 0 | L6: =DATE($A$1,COLUMN()-6,ROW()-1) -> 42160 | M6: =IFERROR(OFFSET(grille!$A$1,MOD(INT((L6-parametres!$D$1)/7),42)+1,WEEKDAY(calendrier!L6,2)),"") -> 0 | N6: =DATE($A$1,COLUMN()-7,ROW()-1) -> 42190 | O6: =IFERROR(OFFSET(grille!$A$1,MOD(INT((N6-parametres!$D$1)/7),42)+1,WEEKDAY(calendrier!N6,2)),"") -> 0 | P6: =DATE($A$1,COLUMN()-8,ROW()-1) -> 42221 | Q6: =IFERROR(OFFSET(grille!$A$1,MOD(INT((P6-parametres!$D$1)/7),42)+1,WEEKDAY(calendrier!P6,2)),"") -> 0 | R6: =DATE($A$1,COLUMN()-9,ROW()-1) -> 42252 | S6: =IFERROR(OFFSET(grille!$A$1,MOD(INT((R6-parametres!$D$1)/7),42)+1,WEEKDAY(calendrier!R6,2)),"") -> RP | T6: =DATE($A$1,COLUMN()-10,ROW()-1) -> 42282 | U6: =IFERROR(OFFSET(grille!$A$1,MOD(INT((T6-parametres!$D$1)/7),42)+1,WEEKDAY(calendrier!T6,2)),"") -> RP | V6: =DATE($A$1,COLUMN()-11,ROW()-1) -> 42313 | W6: =IFERROR(OFFSET(grille!$A$1,MOD(INT((V6-parametres!$D$1)/7),42)+1,WEEKDAY(calendrier!V6,2)),"") -> RP | X6: =DATE($A$1,COLUMN()-12,ROW()-1) -> 42343 | Y6: =IFERROR(OFFSET(grille!$A$1,MOD(INT((X6-parametres!$D$1)/7),42)+1,WEEKDAY(calendrier!X6,2)),"") -> RP
B7: =DATE($A$1,COLUMN()-1,ROW()-1) -> 42010 | C7: =IFERROR(OFFSET(grille!$A$1,MOD(INT((B7-parametres!$D$1)/7),42)+1,WEEKDAY(calendrier!B7,2)),"") -> __T230 | D7: =DATE($A$1,COLUMN()-2,ROW()-1) -> 42041 | E7: =IFERROR(OFFSET(grille!$A$1,MOD(INT((D7-parametres!$D$1)/7),42)+1,WEEKDAY(calendrier!D7,2)),"") -> __T150 | F7: =DATE($A$1,COLUMN()-3,ROW()-1) -> 42069 | G7: =IFERROR(OFFSET(grille!$A$1,MOD(INT((F7-parametres!$D$1)/7),42)+1,WEEKDAY(calendrier!F7,2)),"") -> D | H7: =DATE($A$1,COLUMN()-4,ROW()-1) -> 42100 | I7: =IFERROR(OFFSET(grille!$A$1,MOD(INT((H7-parametres!$D$1)/7),42)+1,WEEKDAY(calendrier!H7,2)),"") -> 0 | J7: =DATE($A$1,COLUMN()-5,ROW()-1) -> 42130 | K7: =IFERROR(OFFSET(grille!$A$1,MOD(INT((J7-parametres!$D$1)/7),42)+1,WEEKDAY(calendrier!J7,2)),"") -> 0 | L7: =DATE($A$1,COLUMN()-6,ROW()-1) -> 42161 | M7: =IFERROR(OFFSET(grille!$A$1,MOD(INT((L7-parametres!$D$1)/7),42)+1,WEEKDAY(calendrier!L7,2)),"") -> 0 | N7: =DATE($A$1,COLUMN()-7,ROW()-1) -> 42191 | O7: =IFERROR(OFFSET(grille!$A$1,MOD(INT((N7-parametres!$D$1)/7),42)+1,WEEKDAY(calendrier!N7,2)),"") -> 0 | P7: =DATE($A$1,COLUMN()-8,ROW()-1) -> 42222 | Q7: =IFERROR(OFFSET(grille!$A$1,MOD(INT((P7-parametres!$D$1)/7),42)+1,WEEKDAY(calendrier!P7,2)),"") -> 0 | R7: =DATE($A$1,COLUMN()-9,ROW()-1) -> 42253 | S7: =IFERROR(OFFSET(grille!$A$1,MOD(INT((R7-parametres!$D$1)/7),42)+1,WEEKDAY(calendrier!R7,2)),"") -> RP | T7: =DATE($A$1,COLUMN()-10,ROW()-1) -> 42283 | U7: =IFERROR(OFFSET(grille!$A$1,MOD(INT((T7-parametres!$D$1)/7),42)+1,WEEKDAY(calendrier!T7,2)),"") -> RP | V7: =DATE($A$1,COLUMN()-11,ROW()-1) -> 42314 | W7: =IFERROR(OFFSET(grille!$A$1,MOD(INT((V7-parametres!$D$1)/7),42)+1,WEEKDAY(calendrier!V7,2)),"") -> T410 | X7: =DATE($A$1,COLUMN()-12,ROW()-1) -> 42344 | Y7: =IFERROR(OFFSET(grille!$A$1,MOD(INT((X7-parametres!$D$1)/7),42)+1,WEEKDAY(calendrier!X7,2)),"") -> T657__
B8: =DATE($A$1,COLUMN()-1,ROW()-1) -> 42011 | C8: =IFERROR(OFFSET(grille!$A$1,MOD(INT((B8-parametres!$D$1)/7),42)+1,WEEKDAY(calendrier!B8,2)),"") -> RP | D8: =DATE($A$1,COLUMN()-2,ROW()-1) -> 42042 | E8: =IFERROR(OFFSET(grille!$A$1,MOD(INT((D8-parametres!$D$1)/7),42)+1,WEEKDAY(calendrier!D8,2)),"") -> RP | F8: =DATE($A$1,COLUMN()-3,ROW()-1) -> 42070 | G8: =IFERROR(OFFSET(grille!$A$1,MOD(INT((F8-parametres!$D$1)/7),42)+1,WEEKDAY(calendrier!F8,2)),"") -> RP | H8: =DATE($A$1,COLUMN()-4,ROW()-1) -> 42101 | I8: =IFERROR(OFFSET(grille!$A$1,MOD(INT((H8-parametres!$D$1)/7),42)+1,WEEKDAY(calendrier!H8,2)),"") -> 0 | J8: =DATE($A$1,COLUMN()-5,ROW()-1) -> 42131 | K8: =IFERROR(OFFSET(grille!$A$1,MOD(INT((J8-parametres!$D$1)/7),42)+1,WEEKDAY(calendrier!J8,2)),"") -> 0 | L8: =DATE($A$1,COLUMN()-6,ROW()-1) -> 42162 | M8: =IFERROR(OFFSET(grille!$A$1,MOD(INT((L8-parametres!$D$1)/7),42)+1,WEEKDAY(calendrier!L8,2)),"") -> 0 | N8: =DATE($A$1,COLUMN()-7,ROW()-1) -> 42192 | O8: =IFERROR(OFFSET(grille!$A$1,MOD(INT((N8-parametres!$D$1)/7),42)+1,WEEKDAY(calendrier!N8,2)),"") -> 0 | P8: =DATE($A$1,COLUMN()-8,ROW()-1) -> 42223 | Q8: =IFERROR(OFFSET(grille!$A$1,MOD(INT((P8-parametres!$D$1)/7),42)+1,WEEKDAY(calendrier!P8,2)),"") -> 0 | R8: =DATE($A$1,COLUMN()-9,ROW()-1) -> 42254 | S8: =IFERROR(OFFSET(grille!$A$1,MOD(INT((R8-parametres!$D$1)/7),42)+1,WEEKDAY(calendrier!R8,2)),"") -> T210 | T8: =DATE($A$1,COLUMN()-10,ROW()-1) -> 42284 | U8: =IFERROR(OFFSET(grille!$A$1,MOD(INT((T8-parametres!$D$1)/7),42)+1,WEEKDAY(calendrier!T8,2)),"") -> T840__ | V8: =DATE($A$1,COLUMN()-11,ROW()-1) -> 42315 | W8: =IFERROR(OFFSET(grille!$A$1,MOD(INT((V8-parametres!$D$1)/7),42)+1,WEEKDAY(calendrier!V8,2)),"") -> T146__ | X8: =DATE($A$1,COLUMN()-12,ROW()-1) -> 42345 | Y8: =IFERROR(OFFSET(grille!$A$1,MOD(INT((X8-parametres!$D$1)/7),42)+1,WEEKDAY(calendrier!X8,2)),"") -> __T661
B9: =DATE($A$1,COLUMN()-1,ROW()-1) -> 42012 | C9: =IFERROR(OFFSET(grille!$A$1,MOD(INT((B9-parametres!$D$1)/7),42)+1,WEEKDAY(calendrier!B9,2)),"") -> RP | D9: =DATE($A$1,COLUMN()-2,ROW()-1) -> 42043 | E9: =IFERROR(OFFSET(grille!$A$1,MOD(INT((D9-parametres!$D$1)/7),42)+1,WEEKDAY(calendrier!D9,2)),"") -> RP | F9: =DATE($A$1,COLUMN()-3,ROW()-1) -> 42071 | G9: =IFERROR(OFFSET(grille!$A$1,MOD(INT((F9-parametres!$D$1)/7),42)+1,WEEKDAY(calendrier!F9,2)),"") -> RP | H9: =DATE($A$1,COLUMN()-4,ROW()-1) -> 42102 | I9: =IFERROR(OFFSET(grille!$A$1,MOD(INT((H9-parametres!$D$1)/7),42)+1,WEEKDAY(calendrier!H9,2)),"") -> 0 | J9: =DATE($A$1,COLUMN()-5,ROW()-1) -> 42132 | K9: =IFERROR(OFFSET(grille!$A$1,MOD(INT((J9-parametres!$D$1)/7),42)+1,WEEKDAY(calendrier!J9,2)),"") -> 0 | L9: =DATE($A$1,COLUMN()-6,ROW()-1) -> 42163 | M9: =IFERROR(OFFSET(grille!$A$1,MOD(INT((L9-parametres!$D$1)/7),42)+1,WEEKDAY(calendrier!L9,2)),"") -> 0 | N9: =DATE($A$1,COLUMN()-7,ROW()-1) -> 42193 | O9: =IFERROR(OFFSET(grille!$A$1,MOD(INT((N9-parametres!$D$1)/7),42)+1,WEEKDAY(calendrier!N9,2)),"") -> 0 | P9: =DATE($A$1,COLUMN()-8,ROW()-1) -> 42224 | Q9: =IFERROR(OFFSET(grille!$A$1,MOD(INT((P9-parametres!$D$1)/7),42)+1,WEEKDAY(calendrier!P9,2)),"") -> 0 | R9: =DATE($A$1,COLUMN()-9,ROW()-1) -> 42255 | S9: =IFERROR(OFFSET(grille!$A$1,MOD(INT((R9-parametres!$D$1)/7),42)+1,WEEKDAY(calendrier!R9,2)),"") -> T410 | T9: =DATE($A$1,COLUMN()-10,ROW()-1) -> 42285 | U9: =IFERROR(OFFSET(grille!$A$1,MOD(INT((T9-parametres!$D$1)/7),42)+1,WEEKDAY(calendrier!T9,2)),"") -> __T850 | V9: =DATE($A$1,COLUMN()-11,ROW()-1) -> 42316 | W9: =IFERROR(OFFSET(grille!$A$1,MOD(INT((V9-parametres!$D$1)/7),42)+1,WEEKDAY(calendrier!V9,2)),"") -> __T157 | X9: =DATE($A$1,COLUMN()-12,ROW()-1) -> 42346 | Y9: =IFERROR(OFFSET(grille!$A$1,MOD(INT((X9-parametres!$D$1)/7),42)+1,WEEKDAY(calendrier!X9,2)),"") -> T240__
B10: =DATE($A$1,COLUMN()-1,ROW()-1) -> 42013 | C10: =IFERROR(OFFSET(grille!$A$1,MOD(INT((B10-parametres!$D$1)/7),42)+1,WEEKDAY(calendrier!B10,2)),"") -> T320__ | D10: =DATE($A$1,COLUMN()-2,ROW()-1) -> 42044 | E10: =IFERROR(OFFSET(grille!$A$1,MOD(INT((D10-parametres!$D$1)/7),42)+1,WEEKDAY(calendrier!D10,2)),"") -> T440__ | F10: =DATE($A$1,COLUMN()-3,ROW()-1) -> 42072 | G10: =IFERROR(OFFSET(grille!$A$1,MOD(INT((F10-parametres!$D$1)/7),42)+1,WEEKDAY(calendrier!F10,2)),"") -> RP | H10: =DATE($A$1,COLUMN()-4,ROW()-1) -> 42103 | I10: =IFERROR(OFFSET(grille!$A$1,MOD(INT((H10-parametres!$D$1)/7),42)+1,WEEKDAY(calendrier!H10,2)),"") -> 0 | J10: =DATE($A$1,COLUMN()-5,ROW()-1) -> 42133 | K10: =IFERROR(OFFSET(grille!$A$1,MOD(INT((J10-parametres!$D$1)/7),42)+1,WEEKDAY(calendrier!J10,2)),"") -> 0 | L10: =DATE($A$1,COLUMN()-6,ROW()-1) -> 42164 | M10: =IFERROR(OFFSET(grille!$A$1,MOD(INT((L10-parametres!$D$1)/7),42)+1,WEEKDAY(calendrier!L10,2)),"") -> 0 | N10: =DATE($A$1,COLUMN()-7,ROW()-1) -> 42194 | O10: =IFERROR(OFFSET(grille!$A$1,MOD(INT((N10-parametres!$D$1)/7),42)+1,WEEKDAY(calendrier!N10,2)),"") -> 0 | P10: =DATE($A$1,COLUMN()-8,ROW()-1) -> 42225 | Q10: =IFERROR(OFFSET(grille!$A$1,MOD(INT((P10-parametres!$D$1)/7),42)+1,WEEKDAY(calendrier!P10,2)),"") -> 0 | R10: =DATE($A$1,COLUMN()-9,ROW()-1) -> 42256 | S10: =IFERROR(OFFSET(grille!$A$1,MOD(INT((R10-parametres!$D$1)/7),42)+1,WEEKDAY(calendrier!R10,2)),"") -> T810 | T10: =DATE($A$1,COLUMN()-10,ROW()-1) -> 42286 | U10: =IFERROR(OFFSET(grille!$A$1,MOD(INT((T10-parametres!$D$1)/7),42)+1,WEEKDAY(calendrier!T10,2)),"") -> Fac | V10: =DATE($A$1,COLUMN()-11,ROW()-1) -> 42317 | W10: =IFERROR(OFFSET(grille!$A$1,MOD(INT((V10-parametres!$D$1)/7),42)+1,WEEKDAY(calendrier!V10,2)),"") -> T260 | X10: =DATE($A$1,COLUMN()-12,ROW()-1) -> 42347 | Y10: =IFERROR(OFFSET(grille!$A$1,MOD(INT((X10-parametres!$D$1)/7),42)+1,WEEKDAY(calendrier!X10,2)),"") -> __T250
B11: =DATE($A$1,COLUMN()-1,ROW()-1) -> 42014 | C11: =IFERROR(OFFSET(grille!$A$1,MOD(INT((B11-parametres!$D$1)/7),42)+1,WEEKDAY(calendrier!B11,2)),"") -> __T336 | D11: =DATE($A$1,COLUMN()-2,ROW()-1) -> 42045 | E11: =IFERROR(OFFSET(grille!$A$1,MOD(INT((D11-parametres!$D$1)/7),42)+1,WEEKDAY(calendrier!D11,2)),"") -> __T450 | F11: =DATE($A$1,COLUMN()-3,ROW()-1) -> 42073 | G11: =IFERROR(OFFSET(grille!$A$1,MOD(INT((F11-parametres!$D$1)/7),42)+1,WEEKDAY(calendrier!F11,2)),"") -> T730__ | H11: =DATE($A$1,COLUMN()-4,ROW()-1) -> 42104 | I11: =IFERROR(OFFSET(grille!$A$1,MOD(INT((H11-parametres!$D$1)/7),42)+1,WEEKDAY(calendrier!H11,2)),"") -> 0 | J11: =DATE($A$1,COLUMN()-5,ROW()-1) -> 42134 | K11: =IFERROR(OFFSET(grille!$A$1,MOD(INT((J11-parametres!$D$1)/7),42)+1,WEEKDAY(calendrier!J11,2)),"") -> 0 | L11: =DATE($A$1,COLUMN()-6,ROW()-1) -> 42165 | M11: =IFERROR(OFFSET(grille!$A$1,MOD(INT((L11-parametres!$D$1)/7),42)+1,WEEKDAY(calendrier!L11,2)),"") -> 0 | N11: =DATE($A$1,COLUMN()-7,ROW()-1) -> 42195 | O11: =IFERROR(OFFSET(grille!$A$1,MOD(INT((N11-parametres!$D$1)/7),42)+1,WEEKDAY(calendrier!N11,2)),"") -> 0 | P11: =DATE($A$1,COLUMN()-8,ROW()-1) -> 42226 | Q11: =IFERROR(OFFSET(grille!$A$1,MOD(INT((P11-parametres!$D$1)/7),42)+1,WEEKDAY(calendrier!P11,2)),"") -> 0 | R11: =DATE($A$1,COLUMN()-9,ROW()-1) -> 42257 | S11: =IFERROR(OFFSET(grille!$A$1,MOD(INT((R11-parametres!$D$1)/7),42)+1,WEEKDAY(calendrier!R11,2)),"") -> T320__ | T11: =DATE($A$1,COLUMN()-10,ROW()-1) -> 42287 | U11: =IFERROR(OFFSET(grille!$A$1,MOD(INT((T11-parametres!$D$1)/7),42)+1,WEEKDAY(calendrier!T11,2)),"") -> RP | V11: =DATE($A$1,COLUMN()-11,ROW()-1) -> 42318 | W11: =IFERROR(OFFSET(grille!$A$1,MOD(INT((V11-parametres!$D$1)/7),42)+1,WEEKDAY(calendrier!V11,2)),"") -> RP | X11: =DATE($A$1,COLUMN()-12,ROW()-1) -> 42348 | Y11: =IFERROR(OFFSET(grille!$A$1,MOD(INT((X11-parametres!$D$1)/7),42)+1,WEEKDAY(calendrier!X11,2)),"") -> RP
B12: =DATE($A$1,COLUMN()-1,ROW()-1) -> 42015 | C12: =IFERROR(OFFSET(grille!$A$1,MOD(INT((B12-parametres!$D$1)/7),42)+1,WEEKDAY(calendrier!B12,2)),"") -> T227__ | D12: =DATE($A$1,COLUMN()-2,ROW()-1) -> 42046 | E12: =IFERROR(OFFSET(grille!$A$1,MOD(INT((D12-parametres!$D$1)/7),42)+1,WEEKDAY(calendrier!D12,2)),"") -> T240__ | F12: =DATE($A$1,COLUMN()-3,ROW()-1) -> 42074 | G12: =IFERROR(OFFSET(grille!$A$1,MOD(INT((F12-parametres!$D$1)/7),42)+1,WEEKDAY(calendrier!F12,2)),"") -> __T740 | H12: =DATE($A$1,COLUMN()-4,ROW()-1) -> 42105 | I12: =IFERROR(OFFSET(grille!$A$1,MOD(INT((H12-parametres!$D$1)/7),42)+1,WEEKDAY(calendrier!H12,2)),"") -> 0 | J12: =DATE($A$1,COLUMN()-5,ROW()-1) -> 42135 | K12: =IFERROR(OFFSET(grille!$A$1,MOD(INT((J12-parametres!$D$1)/7),42)+1,WEEKDAY(calendrier!J12,2)),"") -> 0 | L12: =DATE($A$1,COLUMN()-6,ROW()-1) -> 42166 | M12: =IFERROR(OFFSET(grille!$A$1,MOD(INT((L12-parametres!$D$1)/7),42)+1,WEEKDAY(calendrier!L12,2)),"") -> 0 | N12: =DATE($A$1,COLUMN()-7,ROW()-1) -> 42196 | O12: =IFERROR(OFFSET(grille!$A$1,MOD(INT((N12-parametres!$D$1)/7),42)+1,WEEKDAY(calendrier!N12,2)),"") -> 0 | P12: =DATE($A$1,COLUMN()-8,ROW()-1) -> 42227 | Q12: =IFERROR(OFFSET(grille!$A$1,MOD(INT((P12-parametres!$D$1)/7),42)+1,WEEKDAY(calendrier!P12,2)),"") -> 0 | R12: =DATE($A$1,COLUMN()-9,ROW()-1) -> 42258 | S12: =IFERROR(OFFSET(grille!$A$1,MOD(INT((R12-parametres!$D$1)/7),42)+1,WEEKDAY(calendrier!R12,2)),"") -> __T335 | T12: =DATE($A$1,COLUMN()-10,ROW()-1) -> 42288 | U12: =IFERROR(OFFSET(grille!$A$1,MOD(INT((T12-parametres!$D$1)/7),42)+1,WEEKDAY(calendrier!T12,2)),"") -> RP | V12: =DATE($A$1,COLUMN()-11,ROW()-1) -> 42319 | W12: =IFERROR(OFFSET(grille!$A$1,MOD(INT((V12-parametres!$D$1)/7),42)+1,WEEKDAY(calendrier!V12,2)),"") -> RP | X12: =DATE($A$1,COLUMN()-12,ROW()-1) -> 42349 | Y12: =IFERROR(OFFSET(grille!$A$1,MOD(INT((X12-parametres!$D$1)/7),42)+1,WEEKDAY(calendrier!X12,2)),"") -> RP
B13: =DATE($A$1,COLUMN()-1,ROW()-1) -> 42016 | C13: =IFERROR(OFFSET(grille!$A$1,MOD(INT((B13-parametres!$D$1)/7),42)+1,WEEKDAY(calendrier!B13,2)),"") -> __T230 | D13: =DATE($A$1,COLUMN()-2,ROW()-1) -> 42047 | E13: =IFERROR(OFFSET(grille!$A$1,MOD(INT((D13-parametres!$D$1)/7),42)+1,WEEKDAY(calendrier!D13,2)),"") -> __T250 | F13: =DATE($A$1,COLUMN()-3,ROW()-1) -> 42075 | G13: =IFERROR(OFFSET(grille!$A$1,MOD(INT((F13-parametres!$D$1)/7),42)+1,WEEKDAY(calendrier!F13,2)),"") -> T610 | H13: =DATE($A$1,COLUMN()-4,ROW()-1) -> 42106 | I13: =IFERROR(OFFSET(grille!$A$1,MOD(INT((H13-parametres!$D$1)/7),42)+1,WEEKDAY(calendrier!H13,2)),"") -> 0 | J13: =DATE($A$1,COLUMN()-5,ROW()-1) -> 42136 | K13: =IFERROR(OFFSET(grille!$A$1,MOD(INT((J13-parametres!$D$1)/7),42)+1,WEEKDAY(calendrier!J13,2)),"") -> 0 | L13: =DATE($A$1,COLUMN()-6,ROW()-1) -> 42167 | M13: =IFERROR(OFFSET(grille!$A$1,MOD(INT((L13-parametres!$D$1)/7),42)+1,WEEKDAY(calendrier!L13,2)),"") -> 0 | N13: =DATE($A$1,COLUMN()-7,ROW()-1) -> 42197 | O13: =IFERROR(OFFSET(grille!$A$1,MOD(INT((N13-parametres!$D$1)/7),42)+1,WEEKDAY(calendrier!N13,2)),"") -> 0 | P13: =DATE($A$1,COLUMN()-8,ROW()-1) -> 42228 | Q13: =IFERROR(OFFSET(grille!$A$1,MOD(INT((P13-parametres!$D$1)/7),42)+1,WEEKDAY(calendrier!P13,2)),"") -> 0 | R13: =DATE($A$1,COLUMN()-9,ROW()-1) -> 42259 | S13: =IFERROR(OFFSET(grille!$A$1,MOD(INT((R13-parametres!$D$1)/7),42)+1,WEEKDAY(calendrier!R13,2)),"") -> RP | T13: =DATE($A$1,COLUMN()-10,ROW()-1) -> 42289 | U13: =IFERROR(OFFSET(grille!$A$1,MOD(INT((T13-parametres!$D$1)/7),42)+1,WEEKDAY(calendrier!T13,2)),"") -> T120 | V13: =DATE($A$1,COLUMN()-11,ROW()-1) -> 42320 | W13: =IFERROR(OFFSET(grille!$A$1,MOD(INT((V13-parametres!$D$1)/7),42)+1,WEEKDAY(calendrier!V13,2)),"") -> T210 | X13: =DATE($A$1,COLUMN()-12,ROW()-1) -> 42350 | Y13: =IFERROR(OFFSET(grille!$A$1,MOD(INT((X13-parametres!$D$1)/7),42)+1,WEEKDAY(calendrier!X13,2)),"") -> T656__
... B29: =DATE($A$1,COLUMN()-1,ROW()-1) -> 42032 | C29: =IFERROR(OFFSET(grille!$A$1,MOD(INT((B29-parametres!$D$1)/7),42)+1,WEEKDAY(calendrier!B29,2)),"") -> __T830 | D29: =DATE($A$1,COLUMN()-2,ROW()-1) -> 42063 | E29: =IFERROR(OFFSET(grille!$A$1,MOD(INT((D29-parametres!$D$1)/7),42)+1,WEEKDAY(calendrier!D29,2)),"") -> RP | F29: =DATE($A$1,COLUMN()-3,ROW()-1) -> 42091 | G29: =IFERROR(OFFSET(grille!$A$1,MOD(INT((F29-parametres!$D$1)/7),42)+1,WEEKDAY(calendrier!F29,2)),"") -> 0 | H29: =DATE($A$1,COLUMN()-4,ROW()-1) -> 42122 | I29: =IFERROR(OFFSET(grille!$A$1,MOD(INT((H29-parametres!$D$1)/7),42)+1,WEEKDAY(calendrier!H29,2)),"") -> 0 | J29: =DATE($A$1,COLUMN()-5,ROW()-1) -> 42152 | K29: =IFERROR(OFFSET(grille!$A$1,MOD(INT((J29-parametres!$D$1)/7),42)+1,WEEKDAY(calendrier!J29,2)),"") -> 0 | L29: =DATE($A$1,COLUMN()-6,ROW()-1) -> 42183 | M29: =IFERROR(OFFSET(grille!$A$1,MOD(INT((L29-parametres!$D$1)/7),42)+1,WEEKDAY(calendrier!L29,2)),"") -> 0 | N29: =DATE($A$1,COLUMN()-7,ROW()-1) -> 42213 | O29: =IFERROR(OFFSET(grille!$A$1,MOD(INT((N29-parametres!$D$1)/7),42)+1,WEEKDAY(calendrier!N29,2)),"") -> 0 | P29: =DATE($A$1,COLUMN()-8,ROW()-1) -> 42244 | Q29: =IFERROR(OFFSET(grille!$A$1,MOD(INT((P29-parametres!$D$1)/7),42)+1,WEEKDAY(calendrier!P29,2)),"") -> 0 | R29: =DATE($A$1,COLUMN()-9,ROW()-1) -> 42275 | S29: =IFERROR(OFFSET(grille!$A$1,MOD(INT((R29-parametres!$D$1)/7),42)+1,WEEKDAY(calendrier!R29,2)),"") -> __T250 | T29: =DATE($A$1,COLUMN()-10,ROW()-1) -> 42305 | U29: =IFERROR(OFFSET(grille!$A$1,MOD(INT((T29-parametres!$D$1)/7),42)+1,WEEKDAY(calendrier!T29,2)),"") -> RP | V29: =DATE($A$1,COLUMN()-11,ROW()-1) -> 42336 | W29: =IFERROR(OFFSET(grille!$A$1,MOD(INT((V29-parametres!$D$1)/7),42)+1,WEEKDAY(calendrier!V29,2)),"") -> RP | X29: =DATE($A$1,COLUMN()-12,ROW()-1) -> 42366 | Y29: =IFERROR(OFFSET(grille!$A$1,MOD(INT((X29-parametres!$D$1)/7),42)+1,WEEKDAY(calendrier!X29,2)),"") -> RP
B30: =DATE($A$1,COLUMN()-1,ROW()-1) -> 42033 | C30: =IFERROR(OFFSET(grille!$A$1,MOD(INT((B30-parametres!$D$1)/7),42)+1,WEEKDAY(calendrier!B30,2)),"") -> T650__ | D30: =IF(MONTH(DATE($A$1,COLUMN()-1,ROW()-1))=2,DATE($A$1,COLUMN()-1,i)) -> FALSE | E30: =IFERROR(OFFSET(grille!$A$1,MOD(INT((D30-parametres!$D$1)/7),42)+1,WEEKDAY(calendrier!D30,2)),"") -> RP | F30: =DATE($A$1,COLUMN()-3,ROW()-1) -> 42092 | G30: =IFERROR(OFFSET(grille!$A$1,MOD(INT((F30-parametres!$D$1)/7),42)+1,WEEKDAY(calendrier!F30,2)),"") -> 0 | H30: =DATE($A$1,COLUMN()-4,ROW()-1) -> 42123 | I30: =IFERROR(OFFSET(grille!$A$1,MOD(INT((H30-parametres!$D$1)/7),42)+1,WEEKDAY(calendrier!H30,2)),"") -> 0 | J30: =DATE($A$1,COLUMN()-5,ROW()-1) -> 42153 | K30: =IFERROR(OFFSET(grille!$A$1,MOD(INT((J30-parametres!$D$1)/7),42)+1,WEEKDAY(calendrier!J30,2)),"") -> 0 | L30: =DATE($A$1,COLUMN()-6,ROW()-1) -> 42184 | M30: =IFERROR(OFFSET(grille!$A$1,MOD(INT((L30-parametres!$D$1)/7),42)+1,WEEKDAY(calendrier!L30,2)),"") -> 0 | N30: =DATE($A$1,COLUMN()-7,ROW()-1) -> 42214 | O30: =IFERROR(OFFSET(grille!$A$1,MOD(INT((N30-parametres!$D$1)/7),42)+1,WEEKDAY(calendrier!N30,2)),"") -> 0 | P30: =DATE($A$1,COLUMN()-8,ROW()-1) -> 42245 | Q30: =IFERROR(OFFSET(grille!$A$1,MOD(INT((P30-parametres!$D$1)/7),42)+1,WEEKDAY(calendrier!P30,2)),"") -> 0 | R30: =DATE($A$1,COLUMN()-9,ROW()-1) -> 42276 | S30: =IFERROR(OFFSET(grille!$A$1,MOD(INT((R30-parametres!$D$1)/7),42)+1,WEEKDAY(calendrier!R30,2)),"") -> RP | T30: =DATE($A$1,COLUMN()-10,ROW()-1) -> 42306 | U30: =IFERROR(OFFSET(grille!$A$1,MOD(INT((T30-parametres!$D$1)/7),42)+1,WEEKDAY(calendrier!T30,2)),"") -> RP | V30: =DATE($A$1,COLUMN()-11,ROW()-1) -> 42337 | W30: =IFERROR(OFFSET(grille!$A$1,MOD(INT((V30-parametres!$D$1)/7),42)+1,WEEKDAY(calendrier!V30,2)),"") -> RP | X30: =DATE($A$1,COLUMN()-12,ROW()-1) -> 42367 | Y30: =IFERROR(OFFSET(grille!$A$1,MOD(INT((X30-parametres!$D$1)/7),42)+1,WEEKDAY(calendrier!X30,2)),"") -> T730__
B31: =DATE($A$1,COLUMN()-1,ROW()-1) -> 42034 | C31: =IFERROR(OFFSET(grille!$A$1,MOD(INT((B31-parametres!$D$1)/7),42)+1,WEEKDAY(calendrier!B31,2)),"") -> __T660 | F31: =DATE($A$1,COLUMN()-3,ROW()-1) -> 42093 | G31: =IFERROR(OFFSET(grille!$A$1,MOD(INT((F31-parametres!$D$1)/7),42)+1,WEEKDAY(calendrier!F31,2)),"") -> 0 | H31: =DATE($A$1,COLUMN()-4,ROW()-1) -> 42124 | I31: =IFERROR(OFFSET(grille!$A$1,MOD(INT((H31-parametres!$D$1)/7),42)+1,WEEKDAY(calendrier!H31,2)),"") -> 0 | J31: =DATE($A$1,COLUMN()-5,ROW()-1) -> 42154 | K31: =IFERROR(OFFSET(grille!$A$1,MOD(INT((J31-parametres!$D$1)/7),42)+1,WEEKDAY(calendrier!J31,2)),"") -> 0 | L31: =DATE($A$1,COLUMN()-6,ROW()-1) -> 42185 | M31: =IFERROR(OFFSET(grille!$A$1,MOD(INT((L31-parametres!$D$1)/7),42)+1,WEEKDAY(calendrier!L31,2)),"") -> 0 | N31: =DATE($A$1,COLUMN()-7,ROW()-1) -> 42215 | O31: =IFERROR(OFFSET(grille!$A$1,MOD(INT((N31-parametres!$D$1)/7),42)+1,WEEKDAY(calendrier!N31,2)),"") -> 0 | P31: =DATE($A$1,COLUMN()-8,ROW()-1) -> 42246 | Q31: =IFERROR(OFFSET(grille!$A$1,MOD(INT((P31-parametres!$D$1)/7),42)+1,WEEKDAY(calendrier!P31,2)),"") -> 0 | R31: =DATE($A$1,COLUMN()-9,ROW()-1) -> 42277 | S31: =IFERROR(OFFSET(grille!$A$1,MOD(INT((R31-parametres!$D$1)/7),42)+1,WEEKDAY(calendrier!R31,2)),"") -> RP | T31: =DATE($A$1,COLUMN()-10,ROW()-1) -> 42307 | U31: =IFERROR(OFFSET(grille!$A$1,MOD(INT((T31-parametres!$D$1)/7),42)+1,WEEKDAY(calendrier!T31,2)),"") -> T320__ | V31: =DATE($A$1,COLUMN()-11,ROW()-1) -> 42338 | W31: =IFERROR(OFFSET(grille!$A$1,MOD(INT((V31-parametres!$D$1)/7),42)+1,WEEKDAY(calendrier!V31,2)),"") -> T440__ | X31: =DATE($A$1,COLUMN()-12,ROW()-1) -> 42368 | Y31: =IFERROR(OFFSET(grille!$A$1,MOD(INT((X31-parametres!$D$1)/7),42)+1,WEEKDAY(calendrier!X31,2)),"") -> __T740
B32: =DATE($A$1,COLUMN()-1,ROW()-1) -> 42035 | C32: =IFERROR(OFFSET(grille!$A$1,MOD(INT((B32-parametres!$D$1)/7),42)+1,WEEKDAY(calendrier!B32,2)),"") -> RP | F32: =DATE($A$1,COLUMN()-3,ROW()-1) -> 42094 | G32: =IFERROR(OFFSET(grille!$A$1,MOD(INT((F32-parametres!$D$1)/7),42)+1,WEEKDAY(calendrier!F32,2)),"") -> 0 | I32: =IFERROR(OFFSET(grille!$A$1,MOD(INT((H32-parametres!$D$1)/7),42)+1,WEEKDAY(calendrier!H32,2)),"") -> RP | J32: =DATE($A$1,COLUMN()-5,ROW()-1) -> 42155 | K32: =IFERROR(OFFSET(grille!$A$1,MOD(INT((J32-parametres!$D$1)/7),42)+1,WEEKDAY(calendrier!J32,2)),"") -> 0 | M32: =IFERROR(OFFSET(grille!$A$1,MOD(INT((L32-parametres!$D$1)/7),42)+1,WEEKDAY(calendrier!L32,2)),"") -> RP | N32: =DATE($A$1,COLUMN()-7,ROW()-1) -> 42216 | O32: =IFERROR(OFFSET(grille!$A$1,MOD(INT((N32-parametres!$D$1)/7),42)+1,WEEKDAY(calendrier!N32,2)),"") -> 0 | P32: =DATE($A$1,COLUMN()-8,ROW()-1) -> 42247 | Q32: =IFERROR(OFFSET(grille!$A$1,MOD(INT((P32-parametres!$D$1)/7),42)+1,WEEKDAY(calendrier!P32,2)),"") -> __T740 | S32: =IFERROR(OFFSET(grille!$A$1,MOD(INT((R32-parametres!$D$1)/7),42)+1,WEEKDAY(calendrier!R32,2)),"") -> RP | T32: =DATE($A$1,COLUMN()-10,ROW()-1) -> 42308 | U32: =IFERROR(OFFSET(grille!$A$1,MOD(INT((T32-parametres!$D$1)/7),42)+1,WEEKDAY(calendrier!T32,2)),"") -> __T336 | W32: =IFERROR(OFFSET(grille!$A$1,MOD(INT((V32-parametres!$D$1)/7),42)+1,WEEKDAY(calendrier!V32,2)),"") -> RP | X32: =DATE($A$1,COLUMN()-12,ROW()-1) -> 42369 | Y32: =IFERROR(OFFSET(grille!$A$1,MOD(INT((X32-parametres!$D$1)/7),42)+1,WEEKDAY(calendrier!X32,2)),"") -> T610

Sheet parametres
A1: choisir début : | B1: 42249 | C1: lundi pris en compte : | D1: =IF(WEEKDAY(B1,2)=1,B1,B1-WEEKDAY(B1,2)+1) -> 42247

Sheet grille
B1: lundi | C1: mardi | D1: mercredi | E1: jeudi | F1: vendredi | G1: samedi | H1: dimanche
A2: 1 | B2: __T740 | C2: T650__ | D2: __T660 | E2: T260 | F2: D | G2: RP | H2: RP
A3: 2 | B3: T210 | C3: T410 | D3: T810 | E3: T320__ | F3: __T335 | G3: RP | H3: RP
A4: 3 | B4: T340__ | C4: __T350 | D4: RP | E4: RP | F4: T515 | G4: T446__ | H4: __T457
A5: 4 | B5: T240__ | C5: __T250 | D5: RP | E5: RP | F5: T345__ | G5: __T356 | H5: T247__
A6: 5 | B6: __T250 | C6: RP | D6: RP | E6: T120 | F6: T720 | G6: T346__ | H6: __T357
A7: 6 | B7: RP | C7: RP | D7: T840__ | E7: __T850 | F7: Fac | G7: RP | H7: RP
A8: 7 | B8: T120 | C8: T110 | D8: T720 | E8: T630__ | F8: __T640 | G8: RP | H8: RP
A9: 8 | B9: T840__ | C9: __T850 | D9: T410 | E9: T220__ | F9: __T230 | G9: RP | H9: RP
A10: 9 | B10: T220__ | C10: __T230 | D10: RP | E10: RP | F10: T320__ | G10: __T336 | H10: T227__
A11: 10 | B11: __T230 | C11: T260 | D11: RP | E11: RP | F11: T410 | G11: T146__ | H11: __T157
A12: 11 | B12: T260 | C12: RP | D12: RP | E12: T210 | F12: T140__ | G12: __T156 | H12: RP
A13: 12 | B13: RP | C13: T820__ | D13: __T830 | E13: T650__ | F13: __T660 | G13: RP | H13: RP
... A20: 19 | B20: RP | C20: T840__ | D20: __T850 | E20: T110 | F20: T630__ | G20: __T646 | H20: RP
A21: 20
A22: 21
A23: 22
A24: 23
A25: 24
A26: 25
A27: 26
A28: 27
A29: 28
A30: 29
A31: 30
A32: 31
... A43: 42
