Workbook
Name Apr_Bgt_BVCH: [1]SALES1.XLS!#REF!
Name Apr_Bgt_BVD: [1]SALES1.XLS!#REF!
Name Apr_Bgt_Canteen: [1]SALES1.XLS!#REF!
Name Apr_Bgt_Safaa: [1]SALES1.XLS!#REF!
Name Apr_Bgt_Tot_BV: [1]SALES1.XLS!#REF!
Name Apr_Ist_BVCH: [1]SALES1.XLS!#REF!
Name Apr_Ist_BVD: [1]SALES1.XLS!#REF!
Name Apr_Ist_Canteen: [1]SALES1.XLS!#REF!
Name Apr_Ist_Safaa: [1]SALES1.XLS!#REF!
Name Apr_Ist_Tot_BV: [1]SALES1.XLS!#REF!
Name Aug_Bgt_BVCH: [1]SALES1.XLS!#REF!
Name Aug_Bgt_BVD: [1]SALES1.XLS!#REF!
Name Aug_Bgt_Canteen: [1]SALES1.XLS!#REF!
Name Aug_Bgt_Safaa: [1]SALES1.XLS!#REF!
Name Aug_Bgt_Tot_BV: [1]SALES1.XLS!#REF!
Name Aug_Ist_BVCH: [1]SALES1.XLS!#REF!
Name Aug_Ist_BVD: [1]SALES1.XLS!#REF!
Name Aug_Ist_Canteen: [1]SALES1.XLS!#REF!
Name Aug_Ist_Safaa: [1]SALES1.XLS!#REF!
Name Aug_Ist_Tot_BV: [1]SALES1.XLS!#REF!
Name client: [2]INVESTISSEMENT!$AI$1:$AI$12
Name crit1: #REF!
Name CRIT10: #REF!
Name CRIT11: #REF!
Name CRIT12: #REF!
Name CRIT13: #REF!
Name CRIT14: #REF!
Name CRIT15: #REF!
Name CRIT16: #REF!
Name crit2: #REF!
Name CRIT3: #REF!
Name CRIT4: #REF!
Name CRIT5: #REF!
Name CRIT6: #REF!
Name CRIT7: #REF!
Name CRIT8: #REF!
Name CRIT9: #REF!
Name DA: '[3]INDEX 2'!$A$1:$A$65536
Name DCE: '[3]INDEX 2'!$E$1:$E$4
Name Dez_Bgt_BVCH: [1]SALES1.XLS!#REF!
Name Dez_Bgt_BVD: [1]SALES1.XLS!#REF!
Name Dez_Bgt_Canteen: [1]SALES1.XLS!#REF!
Name Dez_Bgt_Safaa: [1]SALES1.XLS!#REF!
Name Dez_Bgt_Tot_BV: [1]SALES1.XLS!#REF!
Name Dez_Ist_BVCH: [1]SALES1.XLS!#REF!
Name Dez_Ist_BVD: [1]SALES1.XLS!#REF!
Name Dez_Ist_Canteen: [1]SALES1.XLS!#REF!
Name Dez_Ist_Safaa: [1]SALES1.XLS!#REF!
Name Dez_Ist_Tot_BV: [1]SALES1.XLS!#REF!
Name Feb_Bgt_BVCH: [1]SALES1.XLS!#REF!
Name Feb_Bgt_BVD: [1]SALES1.XLS!#REF!
Name Feb_Bgt_Canteen: [1]SALES1.XLS!#REF!
Name Feb_Bgt_Safaa: [1]SALES1.XLS!#REF!
Name Feb_Bgt_Tot_BV: [1]SALES1.XLS!#REF!
Name Feb_Ist_BVCH: [1]SALES1.XLS!#REF!
Name Feb_Ist_BVD: [1]SALES1.XLS!#REF!
Name Feb_Ist_Canteen: [1]SALES1.XLS!#REF!
Name Feb_Ist_Safaa: [1]SALES1.XLS!#REF!
Name Feb_Ist_Tot_BV: [1]SALES1.XLS!#REF!
Name Jan_Bgt_BVCH: [1]SALES1.XLS!#REF!

Sheet BASE
A1: Mois | B1: Code site | C1: Nom du site | D1: Activité | E1: Groupe contrat | F1: Nom du groupe contrat | G1: Code national | H1: Nom du code national | I1: Région | J1: Agence (site) | K1: nom de l'agence (site) | L1: Commercial | M1: Account owner région | N1: Code payeur | O1: Nom du payeur | P1: Département (payeur) | Q1: Ville (payeur) | R1: Machine | S1: site_machine | T1: Site actuel | U1: Modèle | V1: Groupe produit | W1: nom du groupe produit | X1: Catégorie | Y1: Acquisition | Z1: Installation | AA1: Fin période | AB1: En gestion | AC1: Roque | AD1: Fontaines | AE1: Produits frais | AF1: Klix | AG1: N° contrat | AH1: Fin de contrat | AI1: Emplacement | AJ1: Age | AK1: Reconditionnement | AL1: Age reconditmt | AM1: Agence (tournées) | AN1: Nom de l'agence (tournées) | AO1: Tournee | AP1: Opérateur actuel | AQ1: Nb tournées | AR1: Recette ht | AS1: Dotations ht | AT1: CB ht | AU1: Izly ht | AV1: Factures ht | AW1: Locations ht | AX1: Négoce ingredients ht | AY1: Négoce autre ht | AZ1: Cafétéria ht | BA1: Autre CA ht | BB1: CA Brut ht

Sheet 1. Reporting Consolidé 2020
D9: Evolution du CA HT par site | I9: Evolution du CA HT par site | N9: Evolution du CA HT par site | S9: Evolution du CA HT par site | X9: CA HT par site
D11: Trimestre 1 | I11: Trimestre 2 | N11: Trimestre 3 | S11: Trimestre 4 | X11: YTD
D12: 202001 | E12: 202002 | F12: 202003 | I12: 202004 | J12: 202005 | K12: 202006 | N12: 202007 | O12: 202008 | P12: 202009 | S12: 202010 | T12: 2020111 | U12: 202012
B13: code site | D13: Janvier | E13: Février | F13: Mars | G13: Total T1 | I13: Avril | J13: Mai | K13: Juin | L13: Total T2 | N13: Juillet | O13: Août | P13: Septembre | Q13: Total T3 | S13: Octobre | T13: Novembre | U13: Décembre | V13: Total T4 | X13: TOTAL 2020
B14: =BASE!B2 -> 0 | D14: =SUMIFS(BASE!$BB:$BB,BASE!$A:$A,D12,BASE!$B:$B,$B$14) -> 0 | E14: =SUMIFS(BASE!$BB:$BB,BASE!$A:$A,E12,BASE!$B:$B,$B$14) -> 0 | F14: =SUMIFS(BASE!$BB:$BB,BASE!$A:$A,F12,BASE!$B:$B,$B$14) -> 0 | G14: =SUM(D14:F14) -> 0 | I14: =SUMIFS(BASE!$BB:$BB,BASE!$A:$A,I12,BASE!$B:$B,$B$14) -> 0 | J14: =SUMIFS(BASE!$BB:$BB,BASE!$A:$A,J12,BASE!$B:$B,$B$14) -> 0 | K14: =SUMIFS(BASE!$BB:$BB,BASE!$A:$A,K12,BASE!$B:$B,$B$14) -> 0 | L14: =SUM(I14:K14) -> 0 | N14: =SUMIFS(BASE!$BB:$BB,BASE!$A:$A,N12,BASE!$B:$B,$B$14) -> 0 | O14: =SUMIFS(BASE!$BB:$BB,BASE!$A:$A,O12,BASE!$B:$B,$B$14) -> 0 | P14: =SUMIFS(BASE!$BB:$BB,BASE!$A:$A,P12,BASE!$B:$B,$B$14) -> 0 | Q14: =SUM(N14:P14) -> 0 | S14: =SUMIFS(BASE!$BB:$BB,BASE!$A:$A,S12,BASE!$B:$B,$B$14) -> 0 | T14: =SUMIFS(BASE!$BB:$BB,BASE!$A:$A,T12,BASE!$B:$B,$B$14) -> 0 | U14: =SUMIFS(BASE!$BB:$BB,BASE!$A:$A,U12,BASE!$B:$B,$B$14) -> 0 | V14: =SUM(S14:U14) -> 0 | X14: =SUM(G14,L14,Q14,V14) -> 0
B15: Total | D15: =SUM(D14:D14) -> 0 | E15: =SUM(E14:E14) -> 0 | F15: =SUM(F14:F14) -> 0 | G15: =SUM(D15:F15) -> 0 | I15: =SUM(I14:I14) -> 0 | J15: =SUM(J14:J14) -> 0 | K15: =SUM(K14:K14) -> 0 | L15: =SUM(I15:K15) -> 0 | N15: =SUM(N14:N14) -> 0 | O15: =SUM(O14:O14) -> 0 | P15: =SUM(P14:P14) -> 0 | Q15: =SUM(N15:P15) -> 0 | S15: =SUM(S14:S14) -> 0 | T15: =SUM(T14:T14) -> 0 | U15: =SUM(U14:U14) -> 0 | V15: =SUM(S15:U15) -> 0 | X15: =SUM(D15:F15)+SUM(I15:K15)+SUM(N15:P15)+SUM(S15:U15) -> 0
