Workbook

Sheet Clients
A1: Date | B1: Clients Name | C1: Massage | D1: Thérapeutique | E1: Profond | F1: Femme Enceinte | G1: Galet Chauds | H1: Drainage Lymphatique | I1: Reflexologie | J1: Demande Spécifique | K1: Prime de Soirée
B11: client 1 | C11: Massage 30 Min
B12: client 2 | C12: Massage 60 Min
B13: client 3 | C13: Massage 60 Min
B14: Cleint 4 | C14: Massage 90 Min
B15: Client 5 | C15: Massage 90 Min
B16: Client 6 | C16: Massage 90 Min
B17: Client 7 | C17: Massage 120 Min
A51: Total | C51: =SUM(C2:C49) -> 0 | D51: =SUM(D2:D49) -> 0 | E51: =SUM(E2:E49) -> 0 | F51: =SUM(F2:F49) -> 0 | G51: =SUM(G2:G49) -> 0 | H51: =SUM(H2:H49) -> 0 | I51: =SUM(I2:I49) -> 0 | J51: =SUM(J2:J49) -> 0 | K51: =SUM(K2:K49) -> 0 | R51: =SUM(R2:R49) -> 0

Sheet Facture de service
B1: Nom du massothérapeute
F2: FACTURE
B4: Adresse
B5: Ville, Code postal | E5: DATE :
B6: Téléphone : | E6: N° FACTURE
B9: CLIENT : | D9: PÉRIODE:
B17: QUANTITÉ | C17: DESCRIPTION | D17: HONORAIRE | F17: MONTANT
B18: =COUNTIF(Clients!C:C,C18) -> 1 | C18: MASSAGE 30 MIN | D18: =D20/2 -> 15 | F18: =B18*D18 -> 15
B19: =COUNTIF(Clients!C:C,C19) -> 1
B20: =COUNTIF(Clients!C:C,C20) -> 2 | C20: MASSAGE 60 MIN | D20: 30 | F20: =B20*D20 -> 60
B21: =COUNTIF(Clients!C:C,C21) -> 1
B22: =COUNTIF(Clients!C:C,C22) -> 3 | C22: MASSAGE 90 MIN | D22: =D20*1.5 -> 45 | F22: =B22*D22 -> 135
B23: =COUNTIF(Clients!C:C,C23) -> 1
B24: =COUNTIF(Clients!C:C,C24) -> 0 | C24: MASSAGE 2 HRS | D24: =D20*2 -> 60 | F24: =B24*D24 -> 0
B25: =COUNTIF(Clients!C:C,C25) -> 1
B26: =COUNTIF(Clients!C:C,C26) -> 0 | C26: Thérapeutique 60 Min | D26: 0 | F26: =B26*D26 -> 0
B27: =COUNTIF(Clients!C:C,C27) -> 1
B28: =COUNTIF(Clients!C:C,C28) -> 0 | C28: Thérapeutique 90 Min | D28: 0 | F28: =B28*D28 -> 0
B29: =COUNTIF(Clients!C:C,C29) -> 1
B30: =COUNTIF(Clients!C:C,C30) -> 0 | C30: Profond 60 Min | D30: 0 | F30: =B30*D30 -> 0
B31: =COUNTIF(Clients!C:C,C31) -> 1
B32: =COUNTIF(Clients!C:C,C32) -> 0 | C32: Profond 90 Min | D32: 0 | F32: =B32*D32 -> 0
B33: =COUNTIF(Clients!C:C,C33) -> 1
B34: =COUNTIF(Clients!C:C,C34) -> 0 | C34: Femme Enceinte 60/90 | D34: 0 | F34: =B34*D34 -> 0
B35: =COUNTIF(Clients!C:C,C35) -> 1
B36: =COUNTIF(Clients!C:C,C36) -> 0 | C36: Pierre Chaudes 90 Min | D36: 0 | F36: =B36*D36 -> 0
B37: =COUNTIF(Clients!C:C,C37) -> 1
B38: =COUNTIF(Clients!C:C,C38) -> 0 | C38: Drainage Lymphatique | D38: 0 | F38: =B38*D38 -> 0
B39: =COUNTIF(Clients!C:C,C39) -> 1
B40: =COUNTIF(Clients!C:C,C40) -> 0 | C40: Reflexologie 30 Min | D40: 0 | F40: =B40*D40 -> 0
B41: =COUNTIF(Clients!C:C,C41) -> 1
B42: =COUNTIF(Clients!C:C,C42) -> 0 | C42: Reflexologie 60 Min | D42: 0 | F42: =B42*D42 -> 0
B43: =COUNTIF(Clients!C:C,C43) -> 1
B44: =COUNTIF(Clients!C:C,C44) -> 0 | C44: Demande Specifique | D44: 0 | F44: =B44*D44 -> 0
B45: =COUNTIF(Clients!C:C,C45) -> 1
B46: =COUNTIF(Clients!C:C,C46) -> 0 | C46: Prime Soirée Semiane | D46: 0 | F46: =B46*D46 -> 0
B47: =COUNTIF(Clients!C:C,C47) -> 1
B48: =COUNTIF(Clients!C:C,C48) -> 0 | C48: Prime Soirée Fin de Semiane | D48: 0 | F48: =B48*D48 -> 0
E50: SOUS-TOTAL | F50: =SUM(F18:F49) -> 210
B51: DEDUCTION FRAIS DE LOCATION DE SALLE
...

Sheet Facture de service imprimable
B2: ='Facture de service'!B2:D2 -> 0 | G2: FACTURE
B4: Adresse | C4: ='Facture de service'!C4:D4 -> 0
B5: Code postal, Ville | C5: ='Facture de service'!C5 -> 0 | F5: DATE : | G5: ='Facture de service'!F5 -> 0
B6: Téléphone : | C6: ='Facture de service'!C6 -> 0 | F6: N° FACTURE | G6: ='Facture de service'!F6 -> 0
B9: CLIENT : | C9: ='Facture de service'!C9 -> 0 | D9: PÉRIODE: | F9: ='Facture de service'!E9 -> 0
B11: Relais de santé de l'Ours polaire inc.
B12: 153 rue Principale
B13: St-Sauveur, Québec
B14: J0R 1R6
B15: Tél: 450-227-4616
B17: QUANTITÉ | C17: DESCRIPTION | D17: HONORAIRE | G17: MONTANT
B19: ='Facture de service'!B20 -> 2 | C19: ='Facture de service'!C20 -> MASSAGE 60 MIN | D19: ='Facture de service'!D20 -> 30 | G19: =B19*D19 -> 60
B21: ='Facture de service'!B22 -> 3 | C21: ='Facture de service'!C22 -> MASSAGE 90 MIN | D21: ='Facture de service'!D22 -> 45 | G21: =B21*D21 -> 135
B23: ='Facture de service'!B24 -> 0 | C23: ='Facture de service'!C24 -> MASSAGE 2 HRS | D23: ='Facture de service'!D24 -> 60 | G23: =B23*D23 -> 0
B25: ='Facture de service'!B26 -> 0 | C25: ='Facture de service'!C26 -> Thérapeutique 60 Min | D25: ='Facture de service'!D26 -> 0 | G25: =B25*D25 -> 0
B27: ='Facture de service'!B30 -> 0 | C27: ='Facture de service'!C30 -> Profond 60 Min | D27: ='Facture de service'!D30 -> 0 | G27: =B27*D27 -> 0
B29: ='Facture de service'!B34 -> 0 | C29: ='Facture de service'!C34 -> Femme Enceinte 60/90 | D29: ='Facture de service'!D34 -> 0 | G29: =B29*D29 -> 0
B31: ='Facture de service'!B36 -> 0 | C31: ='Facture de service'!C36 -> Pierre Chaudes 90 Min | D31: ='Facture de service'!D36 -> 0 | G31: =B31*D31 -> 0
B33: ='Facture de service'!B40 -> 0 | C33: ='Facture de service'!C40 -> Reflexologie 30 Min | D33: ='Facture de service'!D40 -> 0 | G33: =B33*D33 -> 0
F35: SOUS-TOTAL | G35: ='Facture de service'!F50 -> 210
B36: ='Facture de service'!B51:D51 -> DEDUCTION FRAIS DE LOCATION DE SALLE
B37: =SUM(B19:B25) -> 5 | C37: ='Facture de service'!C52 -> LOCATION DE SALLE | D37: ='Facture de service'!D52 -> 0 | G37: =B37*D37 -> 0
C38: Honoraires nets | F38: GRAND TOTAL | G38: =G35+G37 -> 210

Sheet Calendrier
M2: Mois
L3: 1 | M3: Janvier
B4: TODAY | D4: ALL DATES | E4: ACTIVE PERIOD | G4: Période de paie du | L4: 2 | M4: Février
B5: =TODAY() -> 43429 | D5: 43113 | E5: =IF(AND(D4<$B$5,$B$5<D5),1,0) -> 0 | G5: =INDEX($D$5:$E$980,MATCH(1,$E$5:$E$980,0)-1,1)+1 -> 43422 | H5: au | I5: =INDEX($D$5:$E$980,MATCH(1,$E$5:$E$980,0),1) -> 43435 | L5: 3 | M5: Mars
B6: YEAR | D6: =D5+14 -> 43127 | E6: =IF(AND(D5<$B$5,$B$5<D6),1,0) -> 0 | G6: =G5 -> 43422 | I6: =I5 -> 43435 | L6: 4 | M6: Avril
B7: =YEAR(B5) -> 2018 | D7: =D6+14 -> 43141 | E7: =IF(AND(D6<$B$5,$B$5<D7),1,0) -> 0 | G7: =DAY(G5) -> 18 | I7: =DAY(I5) -> 1 | L7: 5 | M7: Mai
B8: MONTH | D8: =D7+14 -> 43155 | E8: =IF(AND(D7<$B$5,$B$5<D8),1,0) -> 0 | G8: =VLOOKUP(MONTH(G5),$L$3:$M$14,2,FALSE) -> Novembre | I8: =VLOOKUP(MONTH(I5),$L$3:$M$14,2,FALSE) -> Décembre | L8: 6 | M8: Juin
B9: =MONTH(B5) -> 11 | D9: =D8+14 -> 43169 | E9: =IF(AND(D8<$B$5,$B$5<D9),1,0) -> 0 | I9: =YEAR(I5) -> 2018 | L9: 7 | M9: Juillet
B10: =VLOOKUP(B9,L3:M14,2,FALSE) -> Novembre | D10: =D9+14 -> 43183 | E10: =IF(AND(D9<$B$5,$B$5<D10),1,0) -> 0 | L10: 8 | M10: Août
D11: =D10+14 -> 43197 | E11: =IF(AND(D10<$B$5,$B$5<D11),1,0) -> 0 | L11: 9 | M11: Septembre
D12: =D11+14 -> 43211 | E12: =IF(AND(D11<$B$5,$B$5<D12),1,0) -> 0 | L12: 10 | M12: Octobre
D13: =D12+14 -> 43225 | E13: =IF(AND(D12<$B$5,$B$5<D13),1,0) -> 0 | L13: 11 | M13: Novembre
D14: =D13+14 -> 43239 | E14: =IF(AND(D13<$B$5,$B$5<D14),1,0) -> 0 | L14: 12 | M14: Décembre
D15: =D14+14 -> 43253 | E15: =IF(AND(D14<$B$5,$B$5<D15),1,0) -> 0
D16: =D15+14 -> 43267 | E16: =IF(AND(D15<$B$5,$B$5<D16),1,0) -> 0
D17: =D16+14 -> 43281 | E17: =IF(AND(D16<$B$5,$B$5<D17),1,0) -> 0
D18: =D17+14 -> 43295 | E18: =IF(AND(D17<$B$5,$B$5<D18),1,0) -> 0
D19: =D18+14 -> 43309 | E19: =IF(AND(D18<$B$5,$B$5<D19),1,0) -> 0
D20: =D19+14 -> 43323 | E20: =IF(AND(D19<$B$5,$B$5<D20),1,0) -> 0
D21: =D20+14 -> 43337 | E21: =IF(AND(D20<$B$5,$B$5<D21),1,0) -> 0
D22: =D21+14 -> 43351 | E22: =IF(AND(D21<$B$5,$B$5<D22),1,0) -> 0
D23: =D22+14 -> 43365 | E23: =IF(AND(D22<$B$5,$B$5<D23),1,0) -> 0
D24: =D23+14 -> 43379 | E24: =IF(AND(D23<$B$5,$B$5<D24),1,0) -> 0
D25: =D24+14 -> 43393 | E25: =IF(AND(D24<$B$5,$B$5<D25),1,0) -> 0
D26: =D25+14 -> 43407 | E26: =IF(AND(D25<$B$5,$B$5<D26),1,0) -> 0
... D980: =D979+14 -> 56763 | E980: =IF(AND(D979<$B$5,$B$5<D980),1,0) -> 0

Sheet Source
A1: Massage 30 Min | B1: Massage 60 Min | C1: Massage 90 Min | D1: Massage 120 Min | F1: Therapeutique 60 Min | G1: Therapeutique 90 Min
A6: Profond 60 Min | B6: Profond 90 Min | D6: Femme Enceinte 60 Min | E6: Femme Enceinte 90 Min | G6: Galets Chaud 90 Min
A9: Drainage Lymphatique 90 Min | C9: Reflexologie 30 Min | D9: Reflexologie 60 Min | F9: Demande Spécifique | H9: Prime de Soirée Fin de Semaine | I9: Prime de Soirée Semaine
