Workbook
Name liste_ingredients: 'base donnée sap'!$A$3:$A$39
Name liste_produit: information!#REF!
Name liste_produits: 'base donnée sap'!$B$2:$AM$2
Name listedesrecettes: information!#REF!
Name produits: [1]Recette!$B$1:$Z$1
Name tableau: 'base donnée sap'!$A$2:$AM$39

Sheet information
B2: planning de prod | E2: modification
B3: produit | C3: nbre de pate | E3: produit | F3: ingredient | G3: ing /1 | H3: ing/run | I3: ing réel | J3: ecart
B4: pain 1 | C4: 10 | E4: =B4 -> pain 1 | F4: a | G4: =OFFSET('base donnée sap'!$A$1,MATCH(F4,'base donnée sap'!$A:$A,0)-1,MATCH(E4,'base donnée sap'!$2:$2,0)-1) -> 78 | H4: =G4*$C$4 -> 780 | J4: =I4-H4 -> -780 | L4: =MATCH(E4,'base donnée sap'!2:2,0) -> 2 | M4: =MATCH(F4,'base donnée sap'!A:A,0) -> 3
B5: pain 2 | C5: 14 | F5: b | G5: =OFFSET('base donnée sap'!$A$1,MATCH(F5,'base donnée sap'!$A:$A,0)-1,MATCH(E4,'base donnée sap'!$2:$2,0)-1) -> 1.62 | H5: =G5*$C$4 -> 16.2 | J5: =I5-H5 -> -16.2
B6: pain 3 | C6: 10 | F6: c | G6: =OFFSET('base donnée sap'!$A$1,MATCH(F6,'base donnée sap'!$A:$A,0)-1,MATCH(E4,'base donnée sap'!$2:$2,0)-1) -> 9.8 | H6: =G6*$C$4 -> 98 | J6: =I6-H6 -> -98
B7: pain 4 | C7: 2 | F7: d | G7: =OFFSET('base donnée sap'!$A$1,MATCH(F7,'base donnée sap'!$A:$A,0)-1,MATCH(E4,'base donnée sap'!$2:$2,0)-1) -> 0 | H7: =G7*$C$4 -> 0 | J7: =I7-H7 -> 0
B8: pain 7 | C8: 5 | E8: =B5 -> pain 2 | F8: a | G8: =OFFSET('base donnée sap'!$A$1,MATCH(F8,'base donnée sap'!$A:$A,0)-1,MATCH(E8,'base donnée sap'!$2:$2,0)-1) -> 120 | H8: =G8*$C$5 -> 1680 | J8: =I8-H8 -> -1680
B9: pain 10 | C9: 6 | F9: b | G9: =OFFSET('base donnée sap'!$A$1,MATCH(F9,'base donnée sap'!$A:$A,0)-1,MATCH(E8,'base donnée sap'!$2:$2,0)-1) -> 10 | H9: =G9*$C$5 -> 140 | J9: =I9-H9 -> -140
B10: pain 13 | C10: 7 | F10: e | G10: =OFFSET('base donnée sap'!$A$1,MATCH(F10,'base donnée sap'!$A:$A,0)-1,MATCH(E8,'base donnée sap'!$2:$2,0)-1) -> 10 | H10: =G10*$C$5 -> 140 | J10: =I10-H10 -> -140
B11: pain 14 | C11: 8 | F11: j | G11: =OFFSET('base donnée sap'!$A$1,MATCH(F11,'base donnée sap'!$A:$A,0)-1,MATCH(E8,'base donnée sap'!$2:$2,0)-1) -> 0 | H11: =G11*$C$5 -> 0 | J11: =I11-H11 -> 0
B12: pain 7 | C12: 9 | E12: =B6 -> pain 3 | F12: a | G12: =OFFSET('base donnée sap'!$A$1,MATCH(F12,'base donnée sap'!$A:$A,0)-1,MATCH(E12,'base donnée sap'!$2:$2,0)-1) -> 121 | H12: =G12*$C$6 -> 1210 | J12: =I12-H12 -> -1210
B13: pain 29 | C13: 10 | F13: b | G13: =OFFSET('base donnée sap'!$A$1,MATCH(F13,'base donnée sap'!$A:$A,0)-1,MATCH(E12,'base donnée sap'!$2:$2,0)-1) -> 11 | H13: =G13*$C$6 -> 110 | J13: =I13-H13 -> -110
B14: pain 30 | C14: 11 | F14: e | G14: =OFFSET('base donnée sap'!$A$1,MATCH(F14,'base donnée sap'!$A:$A,0)-1,MATCH(E12,'base donnée sap'!$2:$2,0)-1) -> 11 | H14: =G14*$C$6 -> 110 | J14: =I14-H14 -> -110
B15: pain 35 | C15: 12 | F15: d | G15: =OFFSET('base donnée sap'!$A$1,MATCH(F15,'base donnée sap'!$A:$A,0)-1,MATCH(E12,'base donnée sap'!$2:$2,0)-1) -> 31 | H15: =G15*$C$6 -> 310 | J15: =I15-H15 -> -310
B16: pain 38 | C16: 13 | E16: =B7 -> pain 4 | F16: a | G16: =OFFSET('base donnée sap'!$A$1,MATCH(F16,'base donnée sap'!$A:$A,0)-1,MATCH(E16,'base donnée sap'!$2:$2,0)-1) -> 122 | H16: =G16*$C$7 -> 244 | J16: =I16-H16 -> -244
F17: b | G17: =OFFSET('base donnée sap'!$A$1,MATCH(F17,'base donnée sap'!$A:$A,0)-1,MATCH(E16,'base donnée sap'!$2:$2,0)-1) -> 12 | H17: =G17*$C$7 -> 24 | J17: =I17-H17 -> -24
F18: t | G18: =OFFSET('base donnée sap'!$A$1,MATCH(F18,'base donnée sap'!$A:$A,0)-1,MATCH(E16,'base donnée sap'!$2:$2,0)-1) -> 0.02 | H18: =G18*$C$7 -> 0.04 | J18: =I18-H18 -> -0.04
F19: d | G19: =OFFSET('base donnée sap'!$A$1,MATCH(F19,'base donnée sap'!$A:$A,0)-1,MATCH(E16,'base donnée sap'!$2:$2,0)-1) -> 32 | H19: =G19*$C$7 -> 64 | J19: =I19-H19 -> -64
E20: =B8 -> pain 7 | F20: a | G20: =OFFSET('base donnée sap'!$A$1,MATCH(F20,'base donnée sap'!$A:$A,0)-1,MATCH(E20,'base donnée sap'!$2:$2,0)-1) -> 125 | H20: =G20*$C$8 -> 625 | J20: =I20-H20 -> -625
F21: b | G21: =OFFSET('base donnée sap'!$A$1,MATCH(F21,'base donnée sap'!$A:$A,0)-1,MATCH(E20,'base donnée sap'!$2:$2,0)-1) -> 15 | H21: =G21*$C$8 -> 75 | J21: =I21-H21 -> -75
F22: c | G22: =OFFSET('base donnée sap'!$A$1,MATCH(F22,'base donnée sap'!$A:$A,0)-1,MATCH(E20,'base donnée sap'!$2:$2,0)-1) -> 25 | H22: =G22*$C$8 -> 125 | J22: =I22-H22 -> -125
F23: d | G23: =OFFSET('base donnée sap'!$A$1,MATCH(F23,'base donnée sap'!$A:$A,0)-1,MATCH(E20,'base donnée sap'!$2:$2,0)-1) -> 35 | H23: =G23*$C$8 -> 175 | J23: =I23-H23 -> -175
E24: =B9 -> pain 10 | F24: a | G24: =OFFSET('base donnée sap'!$A$1,MATCH(F24,'base donnée sap'!$A:$A,0)-1,MATCH(E24,'base donnée sap'!$2:$2,0)-1) -> 128 | H24: =G24*$C$9 -> 768 | J24: =I24-H24 -> -768
F25: b | G25: =OFFSET('base donnée sap'!$A$1,MATCH(F25,'base donnée sap'!$A:$A,0)-1,MATCH(E24,'base donnée sap'!$2:$2,0)-1) -> 18 | H25: =G25*$C$9 -> 108 | J25: =I25-H25 -> -108
F26: c | G26: =OFFSET('base donnée sap'!$A$1,MATCH(F26,'base donnée sap'!$A:$A,0)-1,MATCH(E24,'base donnée sap'!$2:$2,0)-1) -> 28 | H26: =G26*$C$9 -> 168 | J26: =I26-H26 -> -168
F27: d | G27: =OFFSET('base donnée sap'!$A$1,MATCH(F27,'base donnée sap'!$A:$A,0)-1,MATCH(E24,'base donnée sap'!$2:$2,0)-1) -> 38 | H27: =G27*$C$9 -> 228 | J27: =I27-H27 -> -228
E28: =B10 -> pain 13 | F28: a | G28: =OFFSET('base donnée sap'!$A$1,MATCH(F28,'base donnée sap'!$A:$A,0)-1,MATCH(E28,'base donnée sap'!$2:$2,0)-1) -> 131 | H28: =G28*$C$10 -> 917 | J28: =I28-H28 -> -917
F29: b | G29: =OFFSET('base donnée sap'!$A$1,MATCH(F29,'base donnée sap'!$A:$A,0)-1,MATCH(E28,'base donnée sap'!$2:$2,0)-1) -> 21 | H29: =G29*$C$10 -> 147 | J29: =I29-H29 -> -147
F30: c | G30: =OFFSET('base donnée sap'!$A$1,MATCH(F30,'base donnée sap'!$A:$A,0)-1,MATCH(E28,'base donnée sap'!$2:$2,0)-1) -> 31 | H30: =G30*$C$10 -> 217 | J30: =I30-H30 -> -217
F31: d | G31: =OFFSET('base donnée sap'!$A$1,MATCH(F31,'base donnée sap'!$A:$A,0)-1,MATCH(E28,'base donnée sap'!$2:$2,0)-1) -> 41 | H31: =G31*$C$10 -> 287 | J31: =I31-H31 -> -287
E32: =B11 -> pain 14 | F32: a | G32: =OFFSET('base donnée sap'!$A$1,MATCH(F32,'base donnée sap'!$A:$A,0)-1,MATCH(E32,'base donnée sap'!$2:$2,0)-1) -> 132 | H32: =G32*$C$11 -> 1056 | J32: =I32-H32 -> -1056
F33: b | G33: =OFFSET('base donnée sap'!$A$1,MATCH(F33,'base donnée sap'!$A:$A,0)-1,MATCH(E32,'base donnée sap'!$2:$2,0)-1) -> 22 | H33: =G33*$C$11 -> 176 | J33: =I33-H33 -> -176
F34: c | G34: =OFFSET('base donnée sap'!$A$1,MATCH(F34,'base donnée sap'!$A:$A,0)-1,MATCH(E32,'base donnée sap'!$2:$2,0)-1) -> 32 | H34: =G34*$C$11 -> 256 | J34: =I34-H34 -> -256
F35: d | G35: =OFFSET('base donnée sap'!$A$1,MATCH(F35,'base donnée sap'!$A:$A,0)-1,MATCH(E32,'base donnée sap'!$2:$2,0)-1) -> 42 | H35: =G35*$C$11 -> 336 | J35: =I35-H35 -> -336
E36: =B12 -> pain 7 | F36: a | G36: =OFFSET('base donnée sap'!$A$1,MATCH(F36,'base donnée sap'!$A:$A,0)-1,MATCH(E36,'base donnée sap'!$2:$2,0)-1) -> 125 | H36: =G36*$C$12 -> 1125 | J36: =I36-H36 -> -1125
F37: b | G37: =OFFSET('base donnée sap'!$A$1,MATCH(F37,'base donnée sap'!$A:$A,0)-1,MATCH(E36,'base donnée sap'!$2:$2,0)-1) -> 15 | H37: =G37*$C$12 -> 135 | J37: =I37-H37 -> -135
F38: c | G38: =OFFSET('base donnée sap'!$A$1,MATCH(F38,'base donnée sap'!$A:$A,0)-1,MATCH(E36,'base donnée sap'!$2:$2,0)-1) -> 25 | H38: =G38*$C$12 -> 225 | J38: =I38-H38 -> -225
F39: d | G39: =OFFSET('base donnée sap'!$A$1,MATCH(F39,'base donnée sap'!$A:$A,0)-1,MATCH(E36,'base donnée sap'!$2:$2,0)-1) -> 35 | H39: =G39*$C$12 -> 315 | J39: =I39-H39 -> -315
E40: =B13 -> pain 29 | F40: a | G40: =OFFSET('base donnée sap'!$A$1,MATCH(F40,'base donnée sap'!$A:$A,0)-1,MATCH(E40,'base donnée sap'!$2:$2,0)-1) -> 147 | H40: =G40*$C$13 -> 1470 | J40: =I40-H40 -> -1470
F41: b | G41: =OFFSET('base donnée sap'!$A$1,MATCH(F41,'base donnée sap'!$A:$A,0)-1,MATCH(E40,'base donnée sap'!$2:$2,0)-1) -> 37 | H41: =G41*$C$13 -> 370 | J41: =I41-H41 -> -370
...

Sheet base donnée sap
B2: pain 1 | C2: pain 2 | D2: pain 3 | E2: pain 4 | F2: pain 5 | G2: pain 6 | H2: pain 7 | I2: pain 8 | J2: pain 9 | K2: pain 10 | L2: pain 11 | M2: pain 12 | N2: pain 13 | O2: pain 14 | P2: pain 15 | Q2: pain 16 | R2: pain 17 | S2: pain 18 | T2: pain 19 | U2: pain 20 | V2: pain 21 | W2: pain 22 | X2: pain 23 | Y2: pain 24 | Z2: pain 25 | AA2: pain 26 | AB2: pain 27 | AC2: pain 28 | AD2: pain 29 | AE2: pain 30 | AF2: pain 31 | AG2: pain 32 | AH2: pain 33 | AI2: pain 34 | AJ2: pain 35 | AK2: pain 36 | AL2: pain 37 | AM2: pain 38
A3: a | B3: 78 | C3: 120 | D3: =C3+1 -> 121 | E3: =D3+1 -> 122 | F3: =E3+1 -> 123 | G3: =F3+1 -> 124 | H3: =G3+1 -> 125 | I3: =H3+1 -> 126 | J3: =I3+1 -> 127 | K3: =J3+1 -> 128 | ... AM3: =AL3+1 -> 156
A4: b | B4: 1.62 | C4: 10 | D4: =C4+1 -> 11 | E4: =D4+1 -> 12 | F4: =E4+1 -> 13 | G4: =F4+1 -> 14 | H4: =G4+1 -> 15 | I4: =H4+1 -> 16 | J4: =I4+1 -> 17 | K4: =J4+1 -> 18 | ... AM4: =AL4+1 -> 46
A5: c | B5: 9.8 | C5: 20 | D5: =C5+1 -> 21 | E5: =D5+1 -> 22 | F5: =E5+1 -> 23 | G5: =F5+1 -> 24 | H5: =G5+1 -> 25 | I5: =H5+1 -> 26 | J5: =I5+1 -> 27 | K5: =J5+1 -> 28 | ... AM5: =AL5+1 -> 56
A6: d | B6: 0 | C6: 30 | D6: =C6+1 -> 31 | E6: =D6+1 -> 32 | F6: =E6+1 -> 33 | G6: =F6+1 -> 34 | H6: =G6+1 -> 35 | I6: =H6+1 -> 36 | J6: =I6+1 -> 37 | K6: =J6+1 -> 38 | ... AM6: =AL6+1 -> 66
A7: e | B7: 0.04 | C7: 10 | D7: =C7+1 -> 11 | E7: =D7+1 -> 12 | F7: =E7+1 -> 13 | G7: =F7+1 -> 14 | H7: =G7+1 -> 15 | I7: =H7+1 -> 16 | J7: =I7+1 -> 17 | K7: =J7+1 -> 18 | ... AM7: =AL7+1 -> 46
A8: f | B8: 1407 | C8: 10 | D8: =C8+1 -> 11 | E8: =D8+1 -> 12 | F8: =E8+1 -> 13 | G8: =F8+1 -> 14 | H8: =G8+1 -> 15 | I8: =H8+1 -> 16 | J8: =I8+1 -> 17 | K8: =J8+1 -> 18 | ... AM8: =AL8+1 -> 46
A9: g | B9: 6.5 | C9: 10.5 | D9: =C9+1 -> 11.5 | E9: =D9+1 -> 12.5 | F9: =E9+1 -> 13.5 | G9: =F9+1 -> 14.5 | H9: =G9+1 -> 15.5 | I9: =H9+1 -> 16.5 | J9: =I9+1 -> 17.5 | K9: =J9+1 -> 18.5 | ... AM9: =AL9+1 -> 46.5
A10: h | B10: 49 | C10: 75 | D10: =C10+1 -> 76 | E10: =D10+1 -> 77 | F10: =E10+1 -> 78 | G10: =F10+1 -> 79 | H10: =G10+1 -> 80 | I10: =H10+1 -> 81 | J10: =I10+1 -> 82 | K10: =J10+1 -> 83 | ... AM10: =AL10+1 -> 111
A11: i | B11: 0 | C11: 0.2 | D11: =C11+1 -> 1.2 | E11: =D11+1 -> 2.2 | F11: =E11+1 -> 3.2 | G11: =F11+1 -> 4.2 | H11: =G11+1 -> 5.2 | I11: =H11+1 -> 6.2 | J11: =I11+1 -> 7.2 | K11: =J11+1 -> 8.2 | ... AM11: =AL11+1 -> 36.2
A12: j | B12: 209 | C12: 0 | D12: =C12+1 -> 1 | E12: =D12+1 -> 2 | F12: =E12+1 -> 3 | G12: =F12+1 -> 4 | H12: =G12+1 -> 5 | I12: =H12+1 -> 6 | J12: =I12+1 -> 7 | K12: =J12+1 -> 8 | ... AM12: =AL12+1 -> 36
A13: k | B13: 1.4 | D13: =C13+1 -> 1 | E13: =D13+1 -> 2 | F13: =E13+1 -> 3 | G13: =F13+1 -> 4 | H13: =G13+1 -> 5 | I13: =H13+1 -> 6 | J13: =I13+1 -> 7 | K13: =J13+1 -> 8 | ... AM13: =AL13+1 -> 36
A14: l | C14: 0.32 | D14: =C14+1 -> 1.32 | E14: =D14+1 -> 2.32 | F14: =E14+1 -> 3.32 | G14: =F14+1 -> 4.32 | H14: =G14+1 -> 5.32 | I14: =H14+1 -> 6.32 | J14: =I14+1 -> 7.32 | K14: =J14+1 -> 8.32 | ... AM14: =AL14+1 -> 36.32
A15: m | D15: =C15+1 -> 1 | E15: =D15+1 -> 2 | F15: =E15+1 -> 3 | G15: =F15+1 -> 4 | H15: =G15+1 -> 5 | I15: =H15+1 -> 6 | J15: =I15+1 -> 7 | K15: =J15+1 -> 8 | ... AM15: =AL15+1 -> 36
A16: n | D16: =C16+1 -> 1 | E16: =D16+1 -> 2 | F16: =E16+1 -> 3 | G16: =F16+1 -> 4 | H16: =G16+1 -> 5 | I16: =H16+1 -> 6 | J16: =I16+1 -> 7 | K16: =J16+1 -> 8 | ... AM16: =AL16+1 -> 36
A17: o | D17: =C17+1 -> 1 | E17: =D17+1 -> 2 | F17: =E17+1 -> 3 | G17: =F17+1 -> 4 | H17: =G17+1 -> 5 | I17: =H17+1 -> 6 | J17: =I17+1 -> 7 | K17: =J17+1 -> 8 | ... AM17: =AL17+1 -> 36
A18: p | D18: =C18+1 -> 1 | E18: =D18+1 -> 2 | F18: =E18+1 -> 3 | G18: =F18+1 -> 4 | H18: =G18+1 -> 5 | I18: =H18+1 -> 6 | J18: =I18+1 -> 7 | K18: =J18+1 -> 8 | ... AM18: =AL18+1 -> 36
A19: q | D19: =C19+1 -> 1 | E19: =D19+1 -> 2 | F19: =E19+1 -> 3 | G19: =F19+1 -> 4 | H19: =G19+1 -> 5 | I19: =H19+1 -> 6 | J19: =I19+1 -> 7 | K19: =J19+1 -> 8 | ... AM19: =AL19+1 -> 36
A20: r | D20: 1 | E20: =D20*0.02 -> 0.02 | F20: =E20*0.22 -> 0.0044 | G20: =F20*25.02 -> 0.110088 | H20: =G20*1402 -> 154.34338 | I20: =H20+2 -> 156.34338 | J20: =I20+2 -> 158.34338 | K20: =J20+2 -> 160.34338 | L20: =K20+2 -> 162.34338 | M20: =L20+2 -> 164.34338 | N20: =M20+2 -> 166.34338 | O20: =N20+2 -> 168.34338 | P20: =O20+2 -> 170.34338 | ... AM20: =AL20+2 -> 216.34338
A21: s | D21: 1 | E21: =D21*0.02 -> 0.02 | F21: =E21*0.22 -> 0.0044 | G21: =F21*25.02 -> 0.110088 | H21: =G21*1402 -> 154.34338 | I21: =H21+2 -> 156.34338 | J21: =I21+2 -> 158.34338 | K21: =J21+2 -> 160.34338 | L21: =K21+2 -> 162.34338 | M21: =L21+2 -> 164.34338 | N21: =M21+2 -> 166.34338 | O21: =N21+2 -> 168.34338 | P21: =O21+2 -> 170.34338 | ... AM21: =AL21+2 -> 216.34338
A22: t | D22: 1 | E22: =D22*0.02 -> 0.02 | F22: =E22*0.22 -> 0.0044 | G22: =F22*25.02 -> 0.110088 | H22: =G22*1402 -> 154.34338 | I22: =H22+2 -> 156.34338 | J22: =I22+2 -> 158.34338 | K22: =J22+2 -> 160.34338 | L22: =K22+2 -> 162.34338 | M22: =L22+2 -> 164.34338 | N22: =M22+2 -> 166.34338 | O22: =N22+2 -> 168.34338 | P22: =O22+2 -> 170.34338 | ... AM22: =AL22+2 -> 216.34338
A23: u | D23: 1 | E23: =D23*0.02 -> 0.02 | F23: =E23*0.22 -> 0.0044 | G23: =F23*25.02 -> 0.110088 | H23: =G23*1402 -> 154.34338 | I23: =H23+2 -> 156.34338 | J23: =I23+2 -> 158.34338 | K23: =J23+2 -> 160.34338 | L23: =K23+2 -> 162.34338 | M23: =L23+2 -> 164.34338 | N23: =M23+2 -> 166.34338 | O23: =N23+2 -> 168.34338 | P23: =O23+2 -> 170.34338 | ... AM23: =AL23+2 -> 216.34338
A24: v | D24: 1 | E24: =D24*0.02 -> 0.02 | F24: =E24*0.22 -> 0.0044 | G24: =F24*25.02 -> 0.110088 | H24: =G24*1402 -> 154.34338 | I24: =H24+2 -> 156.34338 | J24: =I24+2 -> 158.34338 | K24: =J24+2 -> 160.34338 | L24: =K24+2 -> 162.34338 | M24: =L24+2 -> 164.34338 | N24: =M24+2 -> 166.34338 | O24: =N24+2 -> 168.34338 | P24: =O24+2 -> 170.34338 | ... AM24: =AL24+2 -> 216.34338
A25: x | D25: 1 | E25: =D25*0.02 -> 0.02 | F25: =E25*0.22 -> 0.0044 | G25: =F25*25.02 -> 0.110088 | H25: =G25*1402 -> 154.34338 | I25: =H25+2 -> 156.34338 | J25: =I25+2 -> 158.34338 | K25: =J25+2 -> 160.34338 | L25: =K25+2 -> 162.34338 | M25: =L25+2 -> 164.34338 | N25: =M25+2 -> 166.34338 | O25: =N25+2 -> 168.34338 | P25: =O25+2 -> 170.34338 | ... AM25: =AL25+2 -> 216.34338
A26: y | D26: 1 | E26: =D26*0.02 -> 0.02 | F26: =E26*0.22 -> 0.0044 | G26: =F26*25.02 -> 0.110088 | H26: =G26*1402 -> 154.34338 | I26: =H26+2 -> 156.34338 | J26: =I26+2 -> 158.34338 | K26: =J26+2 -> 160.34338 | L26: =K26+2 -> 162.34338 | M26: =L26+2 -> 164.34338 | N26: =M26+2 -> 166.34338 | O26: =N26+2 -> 168.34338 | P26: =O26+2 -> 170.34338 | ... AM26: =AL26+2 -> 216.34338
A27: z | D27: 1 | E27: =D27*0.02 -> 0.02 | F27: =E27*0.22 -> 0.0044 | G27: =F27*25.02 -> 0.110088 | H27: =G27*1402 -> 154.34338 | I27: =H27+2 -> 156.34338 | J27: =I27+2 -> 158.34338 | K27: =J27+2 -> 160.34338 | L27: =K27+2 -> 162.34338 | M27: =L27+2 -> 164.34338 | N27: =M27+2 -> 166.34338 | O27: =N27+2 -> 168.34338 | P27: =O27+2 -> 170.34338 | ... AM27: =AL27+2 -> 216.34338
A28: aa | D28: 1 | E28: =D28*0.02 -> 0.02 | F28: =E28*0.22 -> 0.0044 | G28: =F28*25.02 -> 0.110088 | H28: =G28*1402 -> 154.34338 | I28: =H28+2 -> 156.34338 | J28: =I28+2 -> 158.34338 | K28: =J28+2 -> 160.34338 | L28: =K28+2 -> 162.34338 | M28: =L28+2 -> 164.34338 | N28: =M28+2 -> 166.34338 | O28: =N28+2 -> 168.34338 | P28: =O28+2 -> 170.34338 | ... AM28: =AL28+2 -> 216.34338
A29: ab | D29: 1 | E29: =D29*0.02 -> 0.02 | F29: =E29*0.22 -> 0.0044 | G29: =F29*25.02 -> 0.110088 | H29: =G29*1402 -> 154.34338 | I29: =H29+2 -> 156.34338 | J29: =I29+2 -> 158.34338 | K29: =J29+2 -> 160.34338 | L29: =K29+2 -> 162.34338 | M29: =L29+2 -> 164.34338 | N29: =M29+2 -> 166.34338 | O29: =N29+2 -> 168.34338 | P29: =O29+2 -> 170.34338 | ... AM29: =AL29+2 -> 216.34338
A30: ac | D30: 1 | E30: =D30*0.02 -> 0.02 | F30: =E30*0.22 -> 0.0044 | G30: =F30*25.02 -> 0.110088 | H30: =G30*1402 -> 154.34338 | I30: =H30+2 -> 156.34338 | J30: =I30+2 -> 158.34338 | K30: =J30+2 -> 160.34338 | L30: =K30+2 -> 162.34338 | M30: =L30+2 -> 164.34338 | N30: =M30+2 -> 166.34338 | O30: =N30+2 -> 168.34338 | P30: =O30+2 -> 170.34338 | ... AM30: =AL30+2 -> 216.34338
A31: ad | D31: 1 | E31: =D31*0.02 -> 0.02 | F31: =E31*0.22 -> 0.0044 | G31: =F31*25.02 -> 0.110088 | H31: =G31*1402 -> 154.34338 | I31: =H31+2 -> 156.34338 | J31: =I31+2 -> 158.34338 | K31: =J31+2 -> 160.34338 | L31: =K31+2 -> 162.34338 | M31: =L31+2 -> 164.34338 | N31: =M31+2 -> 166.34338 | O31: =N31+2 -> 168.34338 | P31: =O31+2 -> 170.34338 | ... AM31: =AL31+2 -> 216.34338
... A39: al | D39: 1 | E39: =D39*0.02 -> 0.02 | F39: =E39*0.22 -> 0.0044 | G39: =F39*25.02 -> 0.110088 | H39: =G39*1402 -> 154.34338 | I39: =H39+2 -> 156.34338 | J39: =I39+2 -> 158.34338 | K39: =J39+2 -> 160.34338 | L39: =K39+2 -> 162.34338 | M39: =L39+2 -> 164.34338 | N39: =M39+2 -> 166.34338 | O39: =N39+2 -> 168.34338 | P39: =O39+2 -> 170.34338 | ... AM39: =AL39+2 -> 216.34338
