Workbook

Sheet Liste1
A1: code_produit | B1: num_lot | C1: Quantite | D1: Recherche avec 2 critères
A2: 1 | B2: 00002 | C2: 2 | D2: {=IFERROR(INDEX(Liste2!C:C,MATCH(A2&B2,Liste2!A:A&Liste2!B:B,0)),"pas trouvé !")} -> pas trouvé !
A3: 2 | B3: 00005 | C3: 5 | D3: {=IFERROR(INDEX(Liste2!C:C,MATCH(A3&B3,Liste2!A:A&Liste2!B:B,0)),"pas trouvé !")} -> pas trouvé !
A4: 3 | B4: 00006 | C4: 6 | D4: {=IFERROR(INDEX(Liste2!C:C,MATCH(A4&B4,Liste2!A:A&Liste2!B:B,0)),"pas trouvé !")} -> pas trouvé !
A5: 3 | B5: 1514251 | C5: 10 | D5: {=IFERROR(INDEX(Liste2!C:C,MATCH(A5&B5,Liste2!A:A&Liste2!B:B,0)),"pas trouvé !")} -> pas trouvé !
A6: 4 | B6: 00007 | C6: 8 | D6: {=IFERROR(INDEX(Liste2!C:C,MATCH(A6&B6,Liste2!A:A&Liste2!B:B,0)),"pas trouvé !")} -> pas trouvé !
A7: 5 | B7: 00007 | C7: 10 | D7: {=IFERROR(INDEX(Liste2!C:C,MATCH(A7&B7,Liste2!A:A&Liste2!B:B,0)),"pas trouvé !")} -> pas trouvé !
A8: 6 | B8: 0007 | C8: 236 | D8: {=IFERROR(INDEX(Liste2!C:C,MATCH(A8&B8,Liste2!A:A&Liste2!B:B,0)),"pas trouvé !")} -> pas trouvé !
A9: 7 | B9: 0008 | C9: 54 | D9: {=IFERROR(INDEX(Liste2!C:C,MATCH(A9&B9,Liste2!A:A&Liste2!B:B,0)),"pas trouvé !")} -> pas trouvé !
A10: 8 | B10: 0009 | C10: 20 | D10: {=IFERROR(INDEX(Liste2!C:C,MATCH(A10&B10,Liste2!A:A&Liste2!B:B,0)),"pas trouvé !")} -> pas trouvé !
A11: 9 | B11: 4j170 | C11: 40 | D11: {=IFERROR(INDEX(Liste2!C:C,MATCH(A11&B11,Liste2!A:A&Liste2!B:B,0)),"pas trouvé !")} -> 40
A12: 9 | B12: 0015 | C12: 8 | D12: {=IFERROR(INDEX(Liste2!C:C,MATCH(A12&B12,Liste2!A:A&Liste2!B:B,0)),"pas trouvé !")} -> pas trouvé !
A13: 10 | B13: 002 | C13: 0 | D13: {=IFERROR(INDEX(Liste2!C:C,MATCH(A13&B13,Liste2!A:A&Liste2!B:B,0)),"pas trouvé !")} -> pas trouvé !
A14: 11 | B14: 002 | C14: 6 | D14: {=IFERROR(INDEX(Liste2!C:C,MATCH(A14&B14,Liste2!A:A&Liste2!B:B,0)),"pas trouvé !")} -> pas trouvé !
A15: 12 | B15: 002 | C15: 9 | D15: {=IFERROR(INDEX(Liste2!C:C,MATCH(A15&B15,Liste2!A:A&Liste2!B:B,0)),"pas trouvé !")} -> pas trouvé !
A16: 13 | B16: 15DP20 | C16: 54 | D16: {=IFERROR(INDEX(Liste2!C:C,MATCH(A16&B16,Liste2!A:A&Liste2!B:B,0)),"pas trouvé !")} -> 54
A17: 13 | B17: 002 | C17: 7 | D17: {=IFERROR(INDEX(Liste2!C:C,MATCH(A17&B17,Liste2!A:A&Liste2!B:B,0)),"pas trouvé !")} -> pas trouvé !
... A22: 18 | B22: 0049 | C22: 150 | D22: {=IFERROR(INDEX(Liste2!C:C,MATCH(A22&B22,Liste2!A:A&Liste2!B:B,0)),"pas trouvé !")} -> pas trouvé !

Sheet Liste2
A1: code_produit | B1: num_lot | C1: Quantite
A2: 3 | B2: 6 | C2: 6
A3: 7 | B3: 8 | C3: 54
A4: 9 | B4: 15 | C4: 8
A5: 15 | B5: 28 | C5: 23
A6: 16 | B6: 39 | C6: 80
A7: 17 | B7: 42 | C7: 700
A8: 13 | B8: 15DP20 | C8: 54
A9: 9 | B9: 4j170 | C9: 40
