Workbook
Name An: Calcul_jours_fériés!$B$2
Name Journalier_AE: #REF!
Name Journalier_Auto_Logi: #REF!
Name Journalier_Cockpit: Cockpit!$E$4:$ND$38
Name Journalier_Disjoint_import: #REF!
Name Journalier_Distri_Ecom: Cockpit!$E$4:$ND$38
Name Journalier_Distri_Ecom: HLV_Inter!$E$4:$ND$38
Name Journalier_Distri_Ecom: Proactif!$E$4:$ND$38
Name Journalier_Distri_Ecom: Sherlock!$E$4:$ND$38
Name Journalier_Distri_Ecom: #REF!
Name Journalier_EMS: #REF!
Name Journalier_eParcel: #REF!
Name Journalier_Escalade_Export: #REF!
Name Journalier_Escalade_Import: #REF!
Name Journalier_ESDI: #REF!
Name Journalier_HLV_Inter: HLV_Inter!$E$4:$ND$38
Name Journalier_Injection: #REF!
Name Journalier_KPG: #REF!
Name Journalier_Proactif: Proactif!$E$4:$ND$38
Name Journalier_Sherlock: Sherlock!$E$4:$ND$38
Name Journalier_Taux_AE: #REF!
Name Journalier_Taux_Auto_Logi: #REF!
Name Journalier_Taux_Banque: #REF!
Name Journalier_Taux_Cockpit: Cockpit!$E$4:$ND$49
Name Journalier_Taux_Disjoint_Import: #REF!
Name Journalier_Taux_DistriEcom: #REF!
Name Journalier_Taux_DOM: #REF!
Name Journalier_Taux_Electro: #REF!
Name Journalier_Taux_EMS: #REF!
Name Journalier_Taux_eParcel: #REF!
Name Journalier_Taux_Escalade_Export: #REF!
Name Journalier_Taux_Escalade_Import: #REF!
Name Journalier_Taux_ESDI: #REF!
Name Journalier_Taux_Fret_DOM: #REF!
Name Journalier_Taux_Grands_Comptes: #REF!
Name Journalier_Taux_HLV_Inter: HLV_Inter!$E$4:$ND$49
Name Journalier_Taux_IDF: #REF!
Name Journalier_Taux_Industrie: #REF!
Name Journalier_Taux_Injection: #REF!
Name Journalier_Taux_KPG: #REF!
Name Journalier_Taux_Major: #REF!
Name Journalier_Taux_NE: #REF!
Name Journalier_Taux_O: #REF!
Name Journalier_Taux_Proactif: Proactif!$E$4:$ND$49
Name Journalier_Taux_Sante: #REF!
Name Journalier_Taux_SE: #REF!
Name Journalier_Taux_Sherlock: Sherlock!$E$4:$ND$49
Name Journalier_Taux_SO: #REF!
Name Jours_fériés: Paramètres!$B$1:$B$11
Name Jours_ouvrés_AE: #REF!
Name Jours_ouvrés_Auto_Logi: #REF!
Name Jours_Ouvrés_Cockpit: Cockpit!$E$6:$ND$6
Name Jours_Ouvrés_Disjoint_Import: #REF!
Name Jours_ouvrés_Distri_Ecom: Cockpit!$E$6:$ND$6
Name Jours_ouvrés_Distri_Ecom: HLV_Inter!$E$6:$ND$6
Name Jours_ouvrés_Distri_Ecom: Proactif!$E$6:$ND$6
Name Jours_ouvrés_Distri_Ecom: Sherlock!$E$6:$ND$6
Name Jours_Ouvrés_EMS: #REF!
Name Jours_Ouvrés_eParcel: #REF!
Name Jours_Ouvrés_Escalade_Export: #REF!

Sheet Paramètres
A1: Jours fériés | B1: =Calcul_jours_fériés!B11 -> #REF! | H1: WEEK END | I1: Samedi | J1: Dimanche
B2: =Calcul_jours_fériés!B12 -> #REF! | J2: =DATE(#REF!,1,1)-MOD(DATE(#REF!,1,1)+6,7)+7-(WEEKDAY(DATE(#REF!,1,1))=1)*7 -> #REF!
B3: =Calcul_jours_fériés!B13 -> #REF! | I3: =DATE(#REF!,1,1)-MOD(DATE(#REF!,1,1)+7,7)+7-(WEEKDAY(DATE(#REF!,1,1))=7)*7 -> #REF! | J3: =J2+7 -> #REF!
B4: =Calcul_jours_fériés!B14 -> #REF! | I4: =I3+7 -> #REF! | J4: =J3+7 -> #REF!
B5: =Calcul_jours_fériés!B15 -> #REF! | I5: =I4+7 -> #REF! | J5: =J4+7 -> #REF!
B6: =Calcul_jours_fériés!B16 -> #REF! | I6: =I5+7 -> #REF! | J6: =J5+7 -> #REF!
B7: =Calcul_jours_fériés!B17 -> #REF! | I7: =I6+7 -> #REF! | J7: =J6+7 -> #REF!
B8: =Calcul_jours_fériés!B18 -> #REF! | I8: =I7+7 -> #REF! | J8: =J7+7 -> #REF!
B9: =Calcul_jours_fériés!B19 -> #REF! | I9: =I8+7 -> #REF! | J9: =J8+7 -> #REF!
B10: =Calcul_jours_fériés!B20 -> #REF! | I10: =I9+7 -> #REF! | J10: =J9+7 -> #REF!
B11: =Calcul_jours_fériés!B21 -> #REF! | I11: =I10+7 -> #REF! | J11: =J10+7 -> #REF!
I12: =I11+7 -> #REF! | J12: =J11+7 -> #REF!
A13: MOIS | B13: Janvier | I13: =I12+7 -> #REF! | J13: =J12+7 -> #REF!
B14: Février | I14: =I13+7 -> #REF! | J14: =J13+7 -> #REF!
B15: Mars | I15: =I14+7 -> #REF! | J15: =J14+7 -> #REF!
B16: Avril | I16: =I15+7 -> #REF! | J16: =J15+7 -> #REF!
B17: Mai | I17: =I16+7 -> #REF! | J17: =J16+7 -> #REF!
B18: Juin | I18: =I17+7 -> #REF! | J18: =J17+7 -> #REF!
B19: Juillet | I19: =I18+7 -> #REF! | J19: =J18+7 -> #REF!
B20: Août | I20: =I19+7 -> #REF! | J20: =J19+7 -> #REF!
B21: Septembre | I21: =I20+7 -> #REF! | J21: =J20+7 -> #REF!
B22: Octobre | I22: =I21+7 -> #REF! | J22: =J21+7 -> #REF!
B23: Novembre | I23: =I22+7 -> #REF! | J23: =J22+7 -> #REF!
B24: Décembre | I24: =I23+7 -> #REF! | J24: =J23+7 -> #REF!
I25: =I24+7 -> #REF! | J25: =J24+7 -> #REF!
A26: SEMAINE | B26: 1 | I26: =I25+7 -> #REF! | J26: =J25+7 -> #REF!
B27: 2 | I27: =I26+7 -> #REF! | J27: =J26+7 -> #REF!
B28: 3 | I28: =I27+7 -> #REF! | J28: =J27+7 -> #REF!
B29: 4 | I29: =I28+7 -> #REF! | J29: =J28+7 -> #REF!
B30: 5 | I30: =I29+7 -> #REF! | J30: =J29+7 -> #REF!
B31: 6 | I31: =I30+7 -> #REF! | J31: =J30+7 -> #REF!
B32: 7 | I32: =I31+7 -> #REF! | J32: =J31+7 -> #REF!
B33: 8 | I33: =I32+7 -> #REF! | J33: =J32+7 -> #REF!
B34: 9 | I34: =I33+7 -> #REF! | J34: =J33+7 -> #REF!
B35: 10 | I35: =I34+7 -> #REF! | J35: =J34+7 -> #REF!
B36: 11 | I36: =I35+7 -> #REF! | J36: =J35+7 -> #REF!
B37: 12 | I37: =I36+7 -> #REF! | J37: =J36+7 -> #REF!
B38: 13 | I38: =I37+7 -> #REF! | J38: =J37+7 -> #REF!
... B54: 29 | I54: =I53+7 -> #REF! | J54: =J53+7 -> #REF!
B55: 30
...

Sheet Calcul_jours_fériés
A3: Date de début | B3: Date de fin | E3: Nb de jours ouvrés
A4: =DATE(#REF!,1,1) -> #REF! | B4: =DATE(#REF!,12,31) -> #REF! | E4: =NETWORKDAYS(A4,B4) -> #REF! | F4: * doit servir de référence pour le calcul car cela correspond à 30 ans de jours ouvrés sans aucun temps partie
F5: et sans jours fériés
B10: =YEAR(A4) -> #REF! | C10: =B10+1 -> #REF! | D10: =C10+1 -> #REF! | E10: =D10+1 -> #REF! | F10: =E10+1 -> #REF! | G10: =F10+1 -> #REF! | H10: =G10+1 -> #REF! | I10: =H10+1 -> #REF! | J10: =I10+1 -> #REF! | ... AF10: =AE10+1 -> #REF!
A11: Premier de l'an | B11: =DATE(B10,1,1) -> #REF! | C11: =DATE(C10,1,1) -> #REF! | D11: =DATE(D10,1,1) -> #REF! | E11: =DATE(E10,1,1) -> #REF! | F11: =DATE(F10,1,1) -> #REF! | G11: =DATE(G10,1,1) -> #REF! | H11: =DATE(H10,1,1) -> #REF! | I11: =DATE(I10,1,1) -> #REF! | ... AF11: =DATE(AF10,1,1) -> #REF!
A12: Lundi de Pâques | B12: =B22+1 -> #REF! | C12: =C22+1 -> #REF! | D12: =D22+1 -> #REF! | E12: =E22+1 -> #REF! | F12: =F22+1 -> #REF! | G12: =G22+1 -> #REF! | H12: =H22+1 -> #REF! | I12: =I22+1 -> #REF! | ... AF12: =AF22+1 -> #REF!
A13: Fête du travail | B13: =DATE(B10,5,1) -> #REF! | C13: =DATE(C10,5,1) -> #REF! | D13: =DATE(D10,5,1) -> #REF! | E13: =DATE(E10,5,1) -> #REF! | F13: =DATE(F10,5,1) -> #REF! | G13: =DATE(G10,5,1) -> #REF! | H13: =DATE(H10,5,1) -> #REF! | I13: =DATE(I10,5,1) -> #REF! | ... AF13: =DATE(AF10,5,1) -> #REF!
A14: Victoire de 1945 | B14: =DATE(B10,5,8) -> #REF! | C14: =DATE(C10,5,8) -> #REF! | D14: =DATE(D10,5,8) -> #REF! | E14: =DATE(E10,5,8) -> #REF! | F14: =DATE(F10,5,8) -> #REF! | G14: =DATE(G10,5,8) -> #REF! | H14: =DATE(H10,5,8) -> #REF! | I14: =DATE(I10,5,8) -> #REF! | ... AF14: =DATE(AF10,5,8) -> #REF!
A15: Ascension | B15: =B22+39 -> #REF! | C15: =C22+39 -> #REF! | D15: =D22+39 -> #REF! | E15: =E22+39 -> #REF! | F15: =F22+39 -> #REF! | G15: =G22+39 -> #REF! | H15: =H22+39 -> #REF! | I15: =I22+39 -> #REF! | ... AF15: =AF22+39 -> #REF!
A16: Pentecôte | B16: =B22+50 -> #REF! | C16: =C22+50 -> #REF! | D16: =D22+50 -> #REF! | E16: =E22+50 -> #REF! | F16: =F22+50 -> #REF! | G16: =G22+50 -> #REF! | H16: =H22+50 -> #REF! | I16: =I22+50 -> #REF! | ... AF16: =AF22+50 -> #REF!
A17: Fête nationale | B17: =DATE(B10,7,14) -> #REF! | C17: =DATE(C10,7,14) -> #REF! | D17: =DATE(D10,7,14) -> #REF! | E17: =DATE(E10,7,14) -> #REF! | F17: =DATE(F10,7,14) -> #REF! | G17: =DATE(G10,7,14) -> #REF! | H17: =DATE(H10,7,14) -> #REF! | I17: =DATE(I10,7,14) -> #REF! | ... AF17: =DATE(AF10,7,14) -> #REF!
A18: Assomption | B18: =DATE(B10,8,15) -> #REF! | C18: =DATE(C10,8,15) -> #REF! | D18: =DATE(D10,8,15) -> #REF! | E18: =DATE(E10,8,15) -> #REF! | F18: =DATE(F10,8,15) -> #REF! | G18: =DATE(G10,8,15) -> #REF! | H18: =DATE(H10,8,15) -> #REF! | I18: =DATE(I10,8,15) -> #REF! | ... AF18: =DATE(AF10,8,15) -> #REF!
A19: Toussaint | B19: =DATE(B10,11,1) -> #REF! | C19: =DATE(C10,11,1) -> #REF! | D19: =DATE(D10,11,1) -> #REF! | E19: =DATE(E10,11,1) -> #REF! | F19: =DATE(F10,11,1) -> #REF! | G19: =DATE(G10,11,1) -> #REF! | H19: =DATE(H10,11,1) -> #REF! | I19: =DATE(I10,11,1) -> #REF! | ... AF19: =DATE(AF10,11,1) -> #REF!
A20: Armistice | B20: =DATE(B10,11,11) -> #REF! | C20: =DATE(C10,11,11) -> #REF! | D20: =DATE(D10,11,11) -> #REF! | E20: =DATE(E10,11,11) -> #REF! | F20: =DATE(F10,11,11) -> #REF! | G20: =DATE(G10,11,11) -> #REF! | H20: =DATE(H10,11,11) -> #REF! | I20: =DATE(I10,11,11) -> #REF! | ... AF20: =DATE(AF10,11,11) -> #REF!
A21: Noël | B21: =DATE(B10,12,25) -> #REF! | C21: =DATE(C10,12,25) -> #REF! | D21: =DATE(D10,12,25) -> #REF! | E21: =DATE(E10,12,25) -> #REF! | F21: =DATE(F10,12,25) -> #REF! | G21: =DATE(G10,12,25) -> #REF! | H21: =DATE(H10,12,25) -> #REF! | I21: =DATE(I10,12,25) -> #REF! | ... AF21: =DATE(AF10,12,25) -> #REF!
A22: Pâques | B22: =DATE(B10,IF((25-MOD((11*MOD(B10-1900,19)+4-INT((7*MOD(B10-1900,19)+1)/19)),29)-MOD(B10-1900+INT((B10-1900)/4)+31-MOD((11*MOD(B10-1900,19)+4-INT((7*MOD(B10-1900,19)+1)/19)),29),7))>0,4,3),IF((25-MOD((11*MOD(B10-1900,19)+4-INT((7*MOD(B10-1900,19)+1)/19)),29)-MOD(B10-1900+INT((B10-1900)/4)+31-MOD((11*MOD(B10-1900,19)+4-INT((7*MOD(B10-1900,19)+1)/19)),29),7))>0,(25-MOD((11*MOD(B10-1900,19)+4-INT((7*MOD(B10-1900,19)+1)/19)),29)-MOD(B10-1900+INT((B10-1900)/4)+31-MOD((11*MOD(B10-1900,19)+4-INT((7*MOD(B10-1900,19)+1)/19)),29),7)),31+(25-MOD((11*MOD(B10-1900,19)+4-INT((7*MOD(B10-1900,19)+1)/19)),29)-MOD(B10-1900+INT((B10-1900)/4)+31-MOD((11*MOD(B10-1900,19)+4-INT((7*MOD(B10-1900,19)+1)/19)),29),7)))) -> #REF! | C22: =DATE(C10,IF((25-MOD((11*MOD(C10-1900,19)+4-INT((7*MOD(C10-1900,19)+1)/19)),29)-MOD(C10-1900+INT((C10-1900)/4)+31-MOD((11*MOD(C10-1900,19)+4-INT((7*MOD(C10-1900,19)+1)/19)),29),7))>0,4,3),IF((25-MOD((11*MOD(C10-1900,19)+4-INT((7*MOD(C10-1900,19)+1)/19)),29)-MOD(C10-1900+INT((C10-1900)/4)+31-MOD((11*MOD(C10-1900,19)+4-INT((7*MOD(C10-1900,19)+1)/19)),29),7))>0,(25-MOD((11*MOD(C10-1900,19)+4-INT((7*MOD(C10-1900,19)+1)/19)),29)-MOD(C10-1900+INT((C10-1900)/4)+31-MOD((11*MOD(C10-1900,19)+4-INT((7*MOD(C10-1900,19)+1)/19)),29),7)),31+(25-MOD((11*MOD(C10-1900,19)+4-INT((7*MOD(C10-1900,19)+1)/19)),29)-MOD(C10-1900+INT((C10-1900)/4)+31-MOD((11*MOD(C10-1900,19)+4-INT((7*MOD(C10-1900,19)+1)/19)),29),7)))) -> #REF! | D22: =DATE(D10,IF((25-MOD((11*MOD(D10-1900,19)+4-INT((7*MOD(D10-1900,19)+1)/19)),29)-MOD(D10-1900+INT((D10-1900)/4)+31-MOD((11*MOD(D10-1900,19)+4-INT((7*MOD(D10-1900,19)+1)/19)),29),7))>0,4,3),IF((25-MOD((11*MOD(D10-1900,19)+4-INT((7*MOD(D10-1900,19)+1)/19)),29)-MOD(D10-1900+INT((D10-1900)/4)+31-MOD((11*MOD(D10-1900,19)+4-INT((7*MOD(D10-1900,19)+1)/19)),29),7))>0,(25-MOD((11*MOD(D10-1900,19)+4-INT((7*MOD(D10-1900,19)+1)/19)),29)-MOD(D10-1900+INT((D10-1900)/4)+31-MOD((11*MOD(D10-1900,19)+4-INT((7*MOD(D10-1900,19)+1)/19)),29),7)),31+(25-MOD((11*MOD(D10-1900,19)+4-INT((7*MOD(D10-1900,19)+1)/19)),29)-MOD(D10-1900+INT((D10-1900)/4)+31-MOD((11*MOD(D10-1900,19)+4-INT((7*MOD(D10-1900,19)+1)/19)),29),7)))) -> #REF! | E22: =DATE(E10,IF((25-MOD((11*MOD(E10-1900,19)+4-INT((7*MOD(E10-1900,19)+1)/19)),29)-MOD(E10-1900+INT((E10-1900)/4)+31-MOD((11*MOD(E10-1900,19)+4-INT((7*MOD(E10-1900,19)+1)/19)),29),7))>0,4,3),IF((25-MOD((11*MOD(E10-1900,19)+4-INT((7*MOD(E10-1900,19)+1)/19)),29)-MOD(E10-1900+INT((E10-1900)/4)+31-MOD((11*MOD(E10-1900,19)+4-INT((7*MOD(E10-1900,19)+1)/19)),29),7))>0,(25-MOD((11*MOD(E10-1900,19)+4-INT((7*MOD(E10-1900,19)+1)/19)),29)-MOD(E10-1900+INT((E10-1900)/4)+31-MOD((11*MOD(E10-1900,19)+4-INT((7*MOD(E10-1900,19)+1)/19)),29),7)),31+(25-MOD((11*MOD(E10-1900,19)+4-INT((7*MOD(E10-1900,19)+1)/19)),29)-MOD(E10-1900+INT((E10-1900)/4)+31-MOD((11*MOD(E10-1900,19)+4-INT((7*MOD(E10-1900,19)+1)/19)),29),7)))) -> #REF! | F22: =DATE(F10,IF((25-MOD((11*MOD(F10-1900,19)+4-INT((7*MOD(F10-1900,19)+1)/19)),29)-MOD(F10-1900+INT((F10-1900)/4)+31-MOD((11*MOD(F10-1900,19)+4-INT((7*MOD(F10-1900,19)+1)/19)),29),7))>0,4,3),IF((25-MOD((11*MOD(F10-1900,19)+4-INT((7*MOD(F10-1900,19)+1)/19)),29)-MOD(F10-1900+INT((F10-1900)/4)+31-MOD((11*MOD(F10-1900,19)+4-INT((7*MOD(F10-1900,19)+1)/19)),29),7))>0,(25-MOD((11*MOD(F10-1900,19)+4-INT((7*MOD(F10-1900,19)+1)/19)),29)-MOD(F10-1900+INT((F10-1900)/4)+31-MOD((11*MOD(F10-1900,19)+4-INT((7*MOD(F10-1900,19)+1)/19)),29),7)),31+(25-MOD((11*MOD(F10-1900,19)+4-INT((7*MOD(F10-1900,19)+1)/19)),29)-MOD(F10-1900+INT((F10-1900)/4)+31-MOD((11*MOD(F10-1900,19)+4-INT((7*MOD(F10-1900,19)+1)/19)),29),7)))) -> #REF! | G22: =DATE(G10,IF((25-MOD((11*MOD(G10-1900,19)+4-INT((7*MOD(G10-1900,19)+1)/19)),29)-MOD(G10-1900+INT((G10-1900)/4)+31-MOD((11*MOD(G10-1900,19)+4-INT((7*MOD(G10-1900,19)+1)/19)),29),7))>0,4,3),IF((25-MOD((11*MOD(G10-1900,19)+4-INT((7*MOD(G10-1900,19)+1)/19)),29)-MOD(G10-1900+INT((G10-1900)/4)+31-MOD((11*MOD(G10-1900,19)+4-INT((7*MOD(G10-1900,19)+1)/19)),29),7))>0,(25-MOD((11*MOD(G10-1900,19)+4-INT((7*MOD(G10-1900,19)+1)/19)),29)-MOD(G10-1900+INT((G10-1900)/4)+31-MOD((11*MOD(G10-1900,19)+4-INT((7*MOD(G10-1900,19)+1)/19)),29),7)),31+(25-MOD((11*MOD(G10-1900,19)+4-INT((7*MOD(G10-1900,19)+1)/19)),29)-MOD(G10-1900+INT((G10-1900)/4)+31-MOD((11*MOD(G10-1900,19)+4-INT((7*MOD(G10-1900,19)+1)/19)),29),7)))) -> #REF! | H22: =DATE(H10,IF((25-MOD((11*MOD(H10-1900,19)+4-INT((7*MOD(H10-1900,19)+1)/19)),29)-MOD(H10-1900+INT((H10-1900)/4)+31-MOD((11*MOD(H10-1900,19)+4-INT((7*MOD(H10-1900,19)+1)/19)),29),7))>0,4,3),IF((25-MOD((11*MOD(H10-1900,19)+4-INT((7*MOD(H10-1900,19)+1)/19)),29)-MOD(H10-1900+INT((H10-1900)/4)+31-MOD((11*MOD(H10-1900,19)+4-INT((7*MOD(H10-1900,19)+1)/19)),29),7))>0,(25-MOD((11*MOD(H10-1900,19)+4-INT((7*MOD(H10-1900,19)+1)/19)),29)-MOD(H10-1900+INT((H10-1900)/4)+31-MOD((11*MOD(H10-1900,19)+4-INT((7*MOD(H10-1900,19)+1)/19)),29),7)),31+(25-MOD((11*MOD(H10-1900,19)+4-INT((7*MOD(H10-1900,19)+1)/19)),29)-MOD(H10-1900+INT((H10-1900)/4)+31-MOD((11*MOD(H10-1900,19)+4-INT((7*MOD(H10-1900,19)+1)/19)),29),7)))) -> #REF! | I22: =DATE(I10,IF((25-MOD((11*MOD(I10-1900,19)+4-INT((7*MOD(I10-1900,19)+1)/19)),29)-MOD(I10-1900+INT((I10-1900)/4)+31-MOD((11*MOD(I10-1900,19)+4-INT((7*MOD(I10-1900,19)+1)/19)),29),7))>0,4,3),IF((25-MOD((11*MOD(I10-1900,19)+4-INT((7*MOD(I10-1900,19)+1)/19)),29)-MOD(I10-1900+INT((I10-1900)/4)+31-MOD((11*MOD(I10-1900,19)+4-INT((7*MOD(I10-1900,19)+1)/19)),29),7))>0,(25-MOD((11*MOD(I10-1900,19)+4-INT((7*MOD(I10-1900,19)+1)/19)),29)-MOD(I10-1900+INT((I10-1900)/4)+31-MOD((11*MOD(I10-1900,19)+4-INT((7*MOD(I10-1900,19)+1)/19)),29),7)),31+(25-MOD((11*MOD(I10-1900,19)+4-INT((7*MOD(I10-1900,19)+1)/19)),29)-MOD(I10-1900+INT((I10-1900)/4)+31-MOD((11*MOD(I10-1900,19)+4-INT((7*MOD(I10-1900,19)+1)/19)),29),7)))) -> #REF! | ... AF22: =DATE(AF10,IF((25-MOD((11*MOD(AF10-1900,19)+4-INT((7*MOD(AF10-1900,19)+1)/19)),29)-MOD(AF10-1900+INT((AF10-1900)/4)+31-MOD((11*MOD(AF10-1900,19)+4-INT((7*MOD(AF10-1900,19)+1)/19)),29),7))>0,4,3),IF((25-MOD((11*MOD(AF10-1900,19)+4-INT((7*MOD(AF10-1900,19)+1)/19)),29)-MOD(AF10-1900+INT((AF10-1900)/4)+31-MOD((11*MOD(AF10-1900,19)+4-INT((7*MOD(AF10-1900,19)+1)/19)),29),7))>0,(25-MOD((11*MOD(AF10-1900,19)+4-INT((7*MOD(AF10-1900,19)+1)/19)),29)-MOD(AF10-1900+INT((AF10-1900)/4)+31-MOD((11*MOD(AF10-1900,19)+4-INT((7*MOD(AF10-1900,19)+1)/19)),29),7)),31+(25-MOD((11*MOD(AF10-1900,19)+4-INT((7*MOD(AF10-1900,19)+1)/19)),29)-MOD(AF10-1900+INT((AF10-1900)/4)+31-MOD((11*MOD(AF10-1900,19)+4-INT((7*MOD(AF10-1900,19)+1)/19)),29),7)))) -> #REF!
A24: Attention, la ligne de Pâques sert juste de référence pour situer ce jour dans l'année

Sheet SOMMAIRE
A2: SOMMAIRE | K2: Année de Traitement | L2: 2017
A4: EQUIPE SUPPORT | C4: HLV Inter | F4: STATISTIQUES EQUIPE SUPPORT | H4: HLV Inter
C6: Proactif | H6: Proactif
C8: Sherlock | H8: Sherlock
C10: Cockpit | H10: Cockpit
C12: ESDI | H12: ESDI
C14: Escalade Import | H14: Escalade Import
C16: Escalade Export | H16: Escalade Export
A18: DISJOINT IMPORT | C18: Disjoint Import | F18: STATISTIQUES DISJOINT IMPORT | H18: Disjoint Import
A20: IMPORT | C20: Injection | F20: STATISTIQUES IMPORT | H20: Injection
C22: eParcel | H22: eParcel
C24: A&E | H24: A&E
C26: EMS | H26: EMS
C28: KPG | H28: KPG
A30: GRANDS COMPTES | C30: Distribution et eCommerce | F30: STATISTIQUES GRANDS COMPTES | H30: Distribution et eCommerce
C32: Automotive & Logistique | H32: Automotive & Logistique
C34: Banque | H34: Banque
C36: Electronique | H36: Electronique
C38: Grands Comptes | H38: Grands Comptes
C40: Industrie | H40: Industrie
C42: Santé | H42: Santé
C44: Major | H44: Major
C46: DOM | H46: DOM
C48: Fret DOM | H48: Fret DOM
A50: REGIONS | C50: IDF | F50: STATISTIQUES REGIONS | H50: IDF
C52: Nord Est | H52: Nord Est
C54: Ouest | H54: Ouest
C56: Sud Est | H56: Sud Est
C58: Sud ouest | H58: Sud ouest
C62: STATISTIQUES GLOABALES EQUIPE SUPPORT
C64: STATISTIQUES GLOBALES REGIONS
C66: STATISTIQUES GLOBALES GRANDS COMPTES
C68: STATISTIQUES GLOBALES IMPORT

Sheet HLV_Inter
A1: =SOMMAIRE!$L$2 -> 2017
A2: Mois | D2: =TEXT(D4,"mmmm") -> janvier | E2: =TEXT(E4,"mmmm") -> janvier | F2: =TEXT(F4,"mmmm") -> janvier | G2: =TEXT(G4,"mmmm") -> janvier | H2: =TEXT(H4,"mmmm") -> janvier | I2: =TEXT(I4,"mmmm") -> janvier | J2: =TEXT(J4,"mmmm") -> janvier | K2: =TEXT(K4,"mmmm") -> janvier | ... ND2: =TEXT(ND4,"mmmm") -> décembre
A3: Semaine | D3: =_xlfn.ISOWEEKNUM(D4) -> 52 | E3: =_xlfn.ISOWEEKNUM(E4) -> 1 | F3: =_xlfn.ISOWEEKNUM(F4) -> 1 | G3: =_xlfn.ISOWEEKNUM(G4) -> 1 | H3: =_xlfn.ISOWEEKNUM(H4) -> 1 | I3: =_xlfn.ISOWEEKNUM(I4) -> 1 | J3: =_xlfn.ISOWEEKNUM(J4) -> 1 | K3: =_xlfn.ISOWEEKNUM(K4) -> 1 | ... ND3: =_xlfn.ISOWEEKNUM(ND4) -> 52
A4: Date | D4: =DATE($A$1,1,1) -> 42736 | E4: =D4+1 -> 42737 | F4: =E4+1 -> 42738 | G4: =F4+1 -> 42739 | H4: =G4+1 -> 42740 | I4: =H4+1 -> 42741 | J4: =I4+1 -> 42742 | K4: =J4+1 -> 42743 | L4: =K4+1 -> 42744 | ... ND4: =NC4+1 -> 43100
A5: Trimestre | D5: =ROUNDUP(MONTH(D4)/3,0) -> 1 | E5: =ROUNDUP(MONTH(E4)/3,0) -> 1 | F5: =ROUNDUP(MONTH(F4)/3,0) -> 1 | G5: =ROUNDUP(MONTH(G4)/3,0) -> 1 | H5: =ROUNDUP(MONTH(H4)/3,0) -> 1 | I5: =ROUNDUP(MONTH(I4)/3,0) -> 1 | J5: =ROUNDUP(MONTH(J4)/3,0) -> 1 | K5: =ROUNDUP(MONTH(K4)/3,0) -> 1 | ... ND5: =ROUNDUP(MONTH(ND4)/3,0) -> 4
A6: Jour ouvré/non ouvré | D6: =IF(COUNTIF(Week_end,D4)>0,0,IF(COUNTIF(Jours_fériés,D4)>0,0,1)) -> 1 | E6: =IF(COUNTIF(Week_end,E4)>0,0,IF(COUNTIF(Jours_fériés,E4)>0,0,1)) -> 1 | F6: =IF(COUNTIF(Week_end,F4)>0,0,IF(COUNTIF(Jours_fériés,F4)>0,0,1)) -> 1 | G6: =IF(COUNTIF(Week_end,G4)>0,0,IF(COUNTIF(Jours_fériés,G4)>0,0,1)) -> 1 | H6: =IF(COUNTIF(Week_end,H4)>0,0,IF(COUNTIF(Jours_fériés,H4)>0,0,1)) -> 1 | I6: =IF(COUNTIF(Week_end,I4)>0,0,IF(COUNTIF(Jours_fériés,I4)>0,0,1)) -> 1 | J6: =IF(COUNTIF(Week_end,J4)>0,0,IF(COUNTIF(Jours_fériés,J4)>0,0,1)) -> 1 | K6: =IF(COUNTIF(Week_end,K4)>0,0,IF(COUNTIF(Jours_fériés,K4)>0,0,1)) -> 1 | ... ND6: =IF(COUNTIF(Week_end,ND4)>0,0,IF(COUNTIF(Jours_fériés,ND4)>0,0,1)) -> 1
A7: DATE SAISIE
A9: SCL
A10: J | E10: 100 | F10: 80 | G10: 70 | H10: 70
A11: J-1 | F11: 50 | G11: 40 | H11: 30
A12: J-2 | G12: 40 | H12: 25 | I12: 15
A13: >J-2
A14: >J-3
A15: Stock Global | D15: =SUM(D10:D13) -> 0 | E15: =SUM(E10:E14) -> 100 | F15: =SUM(F10:F14) -> 130 | G15: =SUM(G10:G13) -> 150 | H15: =SUM(H10:H13) -> 125 | I15: =SUM(I10:I13) -> 15 | J15: =SUM(J10:J13) -> 0 | K15: =SUM(K10:K14) -> 0 | L15: =SUM(L10:L13) -> 0 | M15: =SUM(M10:M13) -> 0 | N15: =SUM(N10:N13) -> 0 | O15: =SUM(O10:O13) -> 0 | P15: =SUM(P10:P13) -> 0 | Q15: =SUM(Q10:Q14) -> 0 | R15: =SUM(R10:R13) -> 0 | S15: =SUM(S10:S13) -> 0 | T15: =SUM(T10:T14) -> 0 | U15: =SUM(U10:U13) -> 0 | V15: =SUM(V10:V13) -> 0 | W15: =SUM(W10:W13) -> 0 | X15: =SUM(X10:X13) -> 0 | Y15: =SUM(Y10:Y13) -> 0 | Z15: =SUM(Z10:Z14) -> 0 | AA15: =SUM(AA10:AA13) -> 0 | AB15: =SUM(AB10:AB13) -> 0 | AC15: =SUM(AC10:AC13) -> 0 | AD15: =SUM(AD10:AD13) -> 0 | AE15: =SUM(AE10:AE13) -> 0 | AF15: =SUM(AF10:AF14) -> 0 | AG15: =SUM(AG10:AG13) -> 0 | AH15: =SUM(AH10:AH13) -> 0 | AI15: =SUM(AI10:AI14) -> 0 | AJ15: =SUM(AJ10:AJ13) -> 0 | AK15: =SUM(AK10:AK13) -> 0 | AL15: =SUM(AL10:AL13) -> 0 | AM15: =SUM(AM10:AM13) -> 0 | AN15: =SUM(AN10:AN13) -> 0 | AO15: =SUM(AO10:AO14) -> 0 | AP15: =SUM(AP10:AP13) -> 0 | AQ15: =SUM(AQ10:AQ13) -> 0 | AR15: =SUM(AR10:AR13) -> 0 | AS15: =SUM(AS10:AS13) -> 0 | AT15: =SUM(AT10:AT13) -> 0 | AU15: =SUM(AU10:AU14) -> 0 | AV15: =SUM(AV10:AV13) -> 0 | AW15: =SUM(AW10:AW13) -> 0 | AX15: =SUM(AX10:AX14) -> 0 | AY15: =SUM(AY10:AY13) -> 0 | AZ15: =SUM(AZ10:AZ13) -> 0 | BA15: =SUM(BA10:BA13) -> 0 | BB15: =SUM(BB10:BB13) -> 0 | BC15: =SUM(BC10:BC13) -> 0 | BD15: =SUM(BD10:BD14) -> 0 | BE15: =SUM(BE10:BE13) -> 0 | BF15: =SUM(BF10:BF13) -> 0 | BG15: =SUM(BG10:BG13) -> 0 | BH15: =SUM(BH10:BH13) -> 0 | BI15: =SUM(BI10:BI13) -> 0 | BJ15: =SUM(BJ10:BJ14) -> 0 | BK15: =SUM(BK10:BK13) -> 0 | BL15: =SUM(BL10:BL13) -> 0 | BM15: =SUM(BM10:BM14) -> 0 | BN15: =SUM(BN10:BN13) -> 0 | BO15: =SUM(BO10:BO13) -> 0 | BP15: =SUM(BP10:BP13) -> 0 | BQ15: =SUM(BQ10:BQ13) -> 0 | BR15: =SUM(BR10:BR13) -> 0 | BS15: =SUM(BS10:BS14) -> 0 | BT15: =SUM(BT10:BT13) -> 0 | BU15: =SUM(BU10:BU13) -> 0 | BV15: =SUM(BV10:BV13) -> 0 | BW15: =SUM(BW10:BW13) -> 0 | BX15: =SUM(BX10:BX13) -> 0 | BY15: =SUM(BY10:BY14) -> 0 | BZ15: =SUM(BZ10:BZ13) -> 0 | CA15: =SUM(CA10:CA13) -> 0 | CB15: =SUM(CB10:CB14) -> 0 | CC15: =SUM(CC10:CC13) -> 0 | CD15: =SUM(CD10:CD13) -> 0 | CE15: =SUM(CE10:CE13) -> 0 | CF15: =SUM(CF10:CF13) -> 0 | CG15: =SUM(CG10:CG13) -> 0 | CH15: =SUM(CH10:CH14) -> 0 | CI15: =SUM(CI10:CI13) -> 0 | CJ15: =SUM(CJ10:CJ13) -> 0 | CK15: =SUM(CK10:CK13) -> 0 | CL15: =SUM(CL10:CL13) -> 0 | CM15: =SUM(CM10:CM13) -> 0 | CN15: =SUM(CN10:CN14) -> 0 | CO15: =SUM(CO10:CO13) -> 0 | CP15: =SUM(CP10:CP13) -> 0 | CQ15: =SUM(CQ10:CQ14) -> 0 | CR15: =SUM(CR10:CR13) -> 0 | CS15: =SUM(CS10:CS13) -> 0 | CT15: =SUM(CT10:CT13) -> 0 | CU15: =SUM(CU10:CU13) -> 0 | CV15: =SUM(CV10:CV13) -> 0 | CW15: =SUM(CW10:CW14) -> 0 | CX15: =SUM(CX10:CX13) -> 0 | CY15: =SUM(CY10:CY13) -> 0 | CZ15: =SUM(CZ10:CZ13) -> 0 | DA15: =SUM(DA10:DA13) -> 0 | DB15: =SUM(DB10:DB13) -> 0 | DC15: =SUM(DC10:DC14) -> 0 | DD15: =SUM(DD10:DD13) -> 0 | DE15: =SUM(DE10:DE13) -> 0 | DF15: =SUM(DF10:DF14) -> 0 | DG15: =SUM(DG10:DG13) -> 0 | DH15: =SUM(DH10:DH13) -> 0 | DI15: =SUM(DI10:DI13) -> 0 | DJ15: =SUM(DJ10:DJ13) -> 0 | DK15: =SUM(DK10:DK13) -> 0 | DL15: =SUM(DL10:DL14) -> 0 | DM15: =SUM(DM10:DM13) -> 0 | DN15: =SUM(DN10:DN13) -> 0 | DO15: =SUM(DO10:DO13) -> 0 | DP15: =SUM(DP10:DP13) -> 0 | DQ15: =SUM(DQ10:DQ13) -> 0 | DR15: =SUM(DR10:DR14) -> 0 | DS15: =SUM(DS10:DS13) -> 0 | DT15: =SUM(DT10:DT13) -> 0 | DU15: =SUM(DU10:DU14) -> 0 | DV15: =SUM(DV10:DV13) -> 0 | DW15: =SUM(DW10:DW13) -> 0 | DX15: =SUM(DX10:DX13) -> 0 | DY15: =SUM(DY10:DY13) -> 0 | DZ15: =SUM(DZ10:DZ13) -> 0 | EA15: =SUM(EA10:EA14) -> 0 | EB15: =SUM(EB10:EB13) -> 0 | EC15: =SUM(EC10:EC13) -> 0 | ED15: =SUM(ED10:ED13) -> 0 | EE15: =SUM(EE10:EE13) -> 0 | EF15: =SUM(EF10:EF13) -> 0 | EG15: =SUM(EG10:EG14) -> 0 | EH15: =SUM(EH10:EH13) -> 0 | EI15: =SUM(EI10:EI13) -> 0 | EJ15: =SUM(EJ10:EJ14) -> 0 | EK15: =SUM(EK10:EK13) -> 0 | EL15: =SUM(EL10:EL13) -> 0 | EM15: =SUM(EM10:EM13) -> 0 | EN15: =SUM(EN10:EN13) -> 0 | EO15: =SUM(EO10:EO13) -> 0 | EP15: =SUM(EP10:EP14) -> 0 | EQ15: =SUM(EQ10:EQ13) -> 0 | ER15: =SUM(ER10:ER13) -> 0 | ES15: =SUM(ES10:ES13) -> 0 | ET15: =SUM(ET10:ET13) -> 0 | EU15: =SUM(EU10:EU13) -> 0 | EV15: =SUM(EV10:EV14) -> 0 | EW15: =SUM(EW10:EW13) -> 0 | EX15: =SUM(EX10:EX13) -> 0 | EY15: =SUM(EY10:EY14) -> 0 | EZ15: =SUM(EZ10:EZ13) -> 0 | FA15: =SUM(FA10:FA13) -> 0 | FB15: =SUM(FB10:FB13) -> 0 | FC15: =SUM(FC10:FC13) -> 0 | FD15: =SUM(FD10:FD13) -> 0 | FE15: =SUM(FE10:FE14) -> 0 | FF15: =SUM(FF10:FF13) -> 0 | FG15: =SUM(FG10:FG13) -> 0 | FH15: =SUM(FH10:FH13) -> 0 | FI15: =SUM(FI10:FI13) -> 0 | FJ15: =SUM(FJ10:FJ13) -> 0 | FK15: =SUM(FK10:FK14) -> 0 | FL15: =SUM(FL10:FL13) -> 0 | FM15: =SUM(FM10:FM13) -> 0 | FN15: =SUM(FN10:FN14) -> 0 | FO15: =SUM(FO10:FO13) -> 0 | FP15: =SUM(FP10:FP13) -> 0 | FQ15: =SUM(FQ10:FQ13) -> 0 | FR15: =SUM(FR10:FR13) -> 0 | FS15: =SUM(FS10:FS13) -> 0 | FT15: =SUM(FT10:FT14) -> 0 | FU15: =SUM(FU10:FU13) -> 0 | FV15: =SUM(FV10:FV13) -> 0 | FW15: =SUM(FW10:FW13) -> 0 | FX15: =SUM(FX10:FX13) -> 0 | FY15: =SUM(FY10:FY13) -> 0 | FZ15: =SUM(FZ10:FZ14) -> 0 | GA15: =SUM(GA10:GA13) -> 0 | GB15: =SUM(GB10:GB13) -> 0 | GC15: =SUM(GC10:GC14) -> 0 | GD15: =SUM(GD10:GD13) -> 0 | GE15: =SUM(GE10:GE13) -> 0 | GF15: =SUM(GF10:GF13) -> 0 | GG15: =SUM(GG10:GG13) -> 0 | GH15: =SUM(GH10:GH13) -> 0 | GI15: =SUM(GI10:GI14) -> 0 | GJ15: =SUM(GJ10:GJ13) -> 0 | GK15: =SUM(GK10:GK13) -> 0 | GL15: =SUM(GL10:GL13) -> 0 | GM15: =SUM(GM10:GM13) -> 0 | GN15: =SUM(GN10:GN13) -> 0 | GO15: =SUM(GO10:GO14) -> 0 | GP15: =SUM(GP10:GP13) -> 0 | GQ15: =SUM(GQ10:GQ13) -> 0 | GR15: =SUM(GR10:GR14) -> 0 | GS15: =SUM(GS10:GS13) -> 0 | GT15: =SUM(GT10:GT13) -> 0 | GU15: =SUM(GU10:GU13) -> 0 | GV15: =SUM(GV10:GV13) -> 0 | GW15: =SUM(GW10:GW13) -> 0 | GX15: =SUM(GX10:GX14) -> 0 | GY15: =SUM(GY10:GY13) -> 0 | GZ15: =SUM(GZ10:GZ13) -> 0 | HA15: =SUM(HA10:HA13) -> 0 | HB15: =SUM(HB10:HB13) -> 0 | HC15: =SUM(HC10:HC13) -> 0 | HD15: =SUM(HD10:HD14) -> 0 | HE15: =SUM(HE10:HE13) -> 0 | HF15: =SUM(HF10:HF13) -> 0 | HG15: =SUM(HG10:HG14) -> 0 | HH15: =SUM(HH10:HH13) -> 0 | HI15: =SUM(HI10:HI13) -> 0 | HJ15: =SUM(HJ10:HJ13) -> 0 | HK15: =SUM(HK10:HK13) -> 0 | HL15: =SUM(HL10:HL13) -> 0 | HM15: =SUM(HM10:HM14) -> 0 | HN15: =SUM(HN10:HN13) -> 0 | HO15: =SUM(HO10:HO13) -> 0 | HP15: =SUM(HP10:HP13) -> 0 | HQ15: =SUM(HQ10:HQ13) -> 0 | HR15: =SUM(HR10:HR13) -> 0 | HS15: =SUM(HS10:HS14) -> 0 | HT15: =SUM(HT10:HT13) -> 0 | HU15: =SUM(HU10:HU13) -> 0 | HV15: =SUM(HV10:HV14) -> 0 | HW15: =SUM(HW10:HW13) -> 0 | HX15: =SUM(HX10:HX13) -> 0 | HY15: =SUM(HY10:HY13) -> 0 | HZ15: =SUM(HZ10:HZ13) -> 0 | IA15: =SUM(IA10:IA13) -> 0 | IB15: =SUM(IB10:IB14) -> 0 | IC15: =SUM(IC10:IC13) -> 0 | ID15: =SUM(ID10:ID13) -> 0 | IE15: =SUM(IE10:IE13) -> 0 | IF15: =SUM(IF10:IF13) -> 0 | IG15: =SUM(IG10:IG13) -> 0 | IH15: =SUM(IH10:IH14) -> 0 | II15: =SUM(II10:II13) -> 0 | IJ15: =SUM(IJ10:IJ13) -> 0 | IK15: =SUM(IK10:IK14) -> 0 | IL15: =SUM(IL10:IL13) -> 0 | IM15: =SUM(IM10:IM13) -> 0 | IN15: =SUM(IN10:IN13) -> 0 | IO15: =SUM(IO10:IO13) -> 0 | IP15: =SUM(IP10:IP13) -> 0 | IQ15: =SUM(IQ10:IQ14) -> 0 | IR15: =SUM(IR10:IR13) -> 0 | IS15: =SUM(IS10:IS13) -> 0 | IT15: =SUM(IT10:IT13) -> 0 | IU15: =SUM(IU10:IU13) -> 0 | IV15: =SUM(IV10:IV13) -> 0 | IW15: =SUM(IW10:IW14) -> 0 | IX15: =SUM(IX10:IX13) -> 0 | IY15: =SUM(IY10:IY13) -> 0 | IZ15: =SUM(IZ10:IZ14) -> 0 | JA15: =SUM(JA10:JA13) -> 0 | JB15: =SUM(JB10:JB13) -> 0 | JC15: =SUM(JC10:JC13) -> 0 | JD15: =SUM(JD10:JD13) -> 0 | JE15: =SUM(JE10:JE13) -> 0 | JF15: =SUM(JF10:JF14) -> 0 | JG15: =SUM(JG10:JG13) -> 0 | JH15: =SUM(JH10:JH13) -> 0 | JI15: =SUM(JI10:JI13) -> 0 | JJ15: =SUM(JJ10:JJ13) -> 0 | JK15: =SUM(JK10:JK13) -> 0 | JL15: =SUM(JL10:JL14) -> 0 | JM15: =SUM(JM10:JM13) -> 0 | JN15: =SUM(JN10:JN13) -> 0 | JO15: =SUM(JO10:JO14) -> 0 | JP15: =SUM(JP10:JP13) -> 0 | JQ15: =SUM(JQ10:JQ13) -> 0 | JR15: =SUM(JR10:JR13) -> 0 | JS15: =SUM(JS10:JS13) -> 0 | JT15: =SUM(JT10:JT13) -> 0 | JU15: =SUM(JU10:JU14) -> 0 | JV15: =SUM(JV10:JV13) -> 0 | JW15: =SUM(JW10:JW13) -> 0 | JX15: =SUM(JX10:JX13) -> 0 | JY15: =SUM(JY10:JY13) -> 0 | JZ15: =SUM(JZ10:JZ13) -> 0 | KA15: =SUM(KA10:KA14) -> 0 | KB15: =SUM(KB10:KB13) -> 0 | KC15: =SUM(KC10:KC13) -> 0 | KD15: =SUM(KD10:KD14) -> 0 | KE15: =SUM(KE10:KE13) -> 0 | KF15: =SUM(KF10:KF13) -> 0 | KG15: =SUM(KG10:KG13) -> 0 | KH15: =SUM(KH10:KH13) -> 0 | KI15: =SUM(KI10:KI13) -> 0 | KJ15: =SUM(KJ10:KJ14) -> 0 | KK15: =SUM(KK10:KK13) -> 0 | KL15: =SUM(KL10:KL13) -> 0 | KM15: =SUM(KM10:KM13) -> 0 | KN15: =SUM(KN10:KN13) -> 0 | KO15: =SUM(KO10:KO13) -> 0 | KP15: =SUM(KP10:KP14) -> 0 | KQ15: =SUM(KQ10:KQ13) -> 0 | KR15: =SUM(KR10:KR13) -> 0 | KS15: =SUM(KS10:KS14) -> 0 | KT15: =SUM(KT10:KT13) -> 0 | KU15: =SUM(KU10:KU13) -> 0 | KV15: =SUM(KV10:KV13) -> 0 | KW15: =SUM(KW10:KW13) -> 0 | KX15: =SUM(KX10:KX13) -> 0 | KY15: =SUM(KY10:KY14) -> 0 | KZ15: =SUM(KZ10:KZ13) -> 0 | LA15: =SUM(LA10:LA13) -> 0 | LB15: =SUM(LB10:LB13) -> 0 | LC15: =SUM(LC10:LC13) -> 0 | LD15: =SUM(LD10:LD13) -> 0 | LE15: =SUM(LE10:LE14) -> 0 | LF15: =SUM(LF10:LF13) -> 0 | LG15: =SUM(LG10:LG13) -> 0 | LH15: =SUM(LH10:LH14) -> 0 | LI15: =SUM(LI10:LI13) -> 0 | LJ15: =SUM(LJ10:LJ13) -> 0 | LK15: =SUM(LK10:LK13) -> 0 | LL15: =SUM(LL10:LL13) -> 0 | LM15: =SUM(LM10:LM13) -> 0 | LN15: =SUM(LN10:LN14) -> 0 | LO15: =SUM(LO10:LO13) -> 0 | LP15: =SUM(LP10:LP13) -> 0 | LQ15: =SUM(LQ10:LQ13) -> 0 | LR15: =SUM(LR10:LR13) -> 0 | LS15: =SUM(LS10:LS13) -> 0 | LT15: =SUM(LT10:LT14) -> 0 | LU15: =SUM(LU10:LU13) -> 0 | LV15: =SUM(LV10:LV13) -> 0 | LW15: =SUM(LW10:LW14) -> 0 | LX15: =SUM(LX10:LX13) -> 0 | LY15: =SUM(LY10:LY13) -> 0 | LZ15: =SUM(LZ10:LZ13) -> 0 | MA15: =SUM(MA10:MA13) -> 0 | MB15: =SUM(MB10:MB13) -> 0 | MC15: =SUM(MC10:MC14) -> 0 | MD15: =SUM(MD10:MD13) -> 0 | ME15: =SUM(ME10:ME13) -> 0 | MF15: =SUM(MF10:MF13) -> 0 | MG15: =SUM(MG10:MG13) -> 0 | MH15: =SUM(MH10:MH13) -> 0 | MI15: =SUM(MI10:MI14) -> 0 | MJ15: =SUM(MJ10:MJ13) -> 0 | MK15: =SUM(MK10:MK13) -> 0 | ML15: =SUM(ML10:ML14) -> 0 | MM15: =SUM(MM10:MM13) -> 0 | MN15: =SUM(MN10:MN13) -> 0 | MO15: =SUM(MO10:MO13) -> 0 | MP15: =SUM(MP10:MP13) -> 0 | MQ15: =SUM(MQ10:MQ13) -> 0 | MR15: =SUM(MR10:MR14) -> 0 | MS15: =SUM(MS10:MS13) -> 0 | MT15: =SUM(MT10:MT13) -> 0 | MU15: =SUM(MU10:MU13) -> 0 | MV15: =SUM(MV10:MV13) -> 0 | MW15: =SUM(MW10:MW13) -> 0 | MX15: =SUM(MX10:MX14) -> 0 | MY15: =SUM(MY10:MY13) -> 0 | MZ15: =SUM(MZ10:MZ13) -> 0 | NA15: =SUM(NA10:NA14) -> 0 | NB15: =SUM(NB10:NB13) -> 0 | NC15: =SUM(NC10:NC13) -> 0 | ND15: =SUM(ND10:ND13) -> 0
A16: Total Traités | D16: =SUM(D17:D19) -> 0 | E16: =E17+E23 -> 50 | F16: =F17+F23 -> 50 | G16: =G17+G23 -> 95 | H16: =H17+H23 -> 110 | I16: =I17+I23 -> 15 | J16: =J17+J23 -> 0 | K16: =K17+K23 -> 0 | L16: =L17+L23 -> 0 | ... ND16: =ND17+ND23 -> #N/A
A17: J | E17: =IF(WEEKDAY(E4,2)=5,(E10-HLOOKUP(E4+3,Journalier_HLV_Inter,8,FALSE)),IF(AND(WEEKDAY(E4,2)=1,COUNTIF(Jours_fériés,AND(E4+1,IE+2))),E10-HLOOKUP(E4+3,Journalier_HLV_Inter,8,FALSE),IF(AND(WEEKDAY(E4,2)=1,COUNTIF(Jours_fériés,E4+1)),E10-HLOOKUP(E4+2,Journalier_HLV_Inter,8,FALSE),IF(AND(WEEKDAY(E4,2)=2,COUNTIF(Jours_fériés,AND(E4+1,E4+2))),E10-HLOOKUP(E4+3,Journalier_HLV_Inter,8,FALSE),IF(AND(WEEKDAY(E4,2)=2,COUNTIF(Jours_fériés,E4+1)),E10-HLOOKUP(E4+2,Journalier_HLV_Inter,8,FALSE),IF(AND(WEEKDAY(E4,2)=3,COUNTIF(Jours_fériés,AND(E4+1,E4+2))),E10-HLOOKUP(E4+5,Journalier_HLV_Inter,8,FALSE),IF(AND(WEEKDAY(E4,2)=3,COUNTIF(Jours_fériés,E4+1)),E10-HLOOKUP(E4+2,Journalier_HLV_Inter,8,FALSE),IF(AND(WEEKDAY(E4,2)=4,COUNTIF(Jours_fériés,E4+1)),E10-HLOOKUP(E4+4,Journalier_HLV_Inter,8,FALSE),IF(AND(WEEKDAY(E4,2)=4,COUNTIF(Jours_fériés,AND(E4+1,E4+4))),E10-HLOOKUP(E4+5,Journalier_HLV_Inter,8,FALSE),IF(AND(WEEKDAY(E4,2)=5,COUNTIF(Jours_fériés,E4+3)),E10-HLOOKUP(E4+4,Journalier_HLV_Inter,8,FALSE),IF(COUNTIF(Week_end,E4),0,IF(COUNTIF(Jours_fériés,E4),0,E10-HLOOKUP(E4+1,Journalier_HLV_Inter,8,FALSE))))))))))))) -> 50 | F17: =IF(WEEKDAY(F4,2)=5,(F10-HLOOKUP(F4+3,Journalier_HLV_Inter,8,FALSE)),IF(AND(WEEKDAY(F4,2)=1,COUNTIF(Jours_fériés,AND(F4+1,IE+2))),F10-HLOOKUP(F4+3,Journalier_HLV_Inter,8,FALSE),IF(AND(WEEKDAY(F4,2)=1,COUNTIF(Jours_fériés,F4+1)),F10-HLOOKUP(F4+2,Journalier_HLV_Inter,8,FALSE),IF(AND(WEEKDAY(F4,2)=2,COUNTIF(Jours_fériés,AND(F4+1,F4+2))),F10-HLOOKUP(F4+3,Journalier_HLV_Inter,8,FALSE),IF(AND(WEEKDAY(F4,2)=2,COUNTIF(Jours_fériés,F4+1)),F10-HLOOKUP(F4+2,Journalier_HLV_Inter,8,FALSE),IF(AND(WEEKDAY(F4,2)=3,COUNTIF(Jours_fériés,AND(F4+1,F4+2))),F10-HLOOKUP(F4+5,Journalier_HLV_Inter,8,FALSE),IF(AND(WEEKDAY(F4,2)=3,COUNTIF(Jours_fériés,F4+1)),F10-HLOOKUP(F4+2,Journalier_HLV_Inter,8,FALSE),IF(AND(WEEKDAY(F4,2)=4,COUNTIF(Jours_fériés,F4+1)),F10-HLOOKUP(F4+4,Journalier_HLV_Inter,8,FALSE),IF(AND(WEEKDAY(F4,2)=4,COUNTIF(Jours_fériés,AND(F4+1,F4+4))),F10-HLOOKUP(F4+5,Journalier_HLV_Inter,8,FALSE),IF(AND(WEEKDAY(F4,2)=5,COUNTIF(Jours_fériés,F4+3)),F10-HLOOKUP(F4+4,Journalier_HLV_Inter,8,FALSE),IF(COUNTIF(Week_end,F4),0,IF(COUNTIF(Jours_fériés,F4),0,F10-HLOOKUP(F4+1,Journalier_HLV_Inter,8,FALSE))))))))))))) -> 40 | G17: =IF(WEEKDAY(G4,2)=5,(G10-HLOOKUP(G4+3,Journalier_HLV_Inter,8,FALSE)),IF(AND(WEEKDAY(G4,2)=1,COUNTIF(Jours_fériés,AND(G4+1,IE+2))),G10-HLOOKUP(G4+3,Journalier_HLV_Inter,8,FALSE),IF(AND(WEEKDAY(G4,2)=1,COUNTIF(Jours_fériés,G4+1)),G10-HLOOKUP(G4+2,Journalier_HLV_Inter,8,FALSE),IF(AND(WEEKDAY(G4,2)=2,COUNTIF(Jours_fériés,AND(G4+1,G4+2))),G10-HLOOKUP(G4+3,Journalier_HLV_Inter,8,FALSE),IF(AND(WEEKDAY(G4,2)=2,COUNTIF(Jours_fériés,G4+1)),G10-HLOOKUP(G4+2,Journalier_HLV_Inter,8,FALSE),IF(AND(WEEKDAY(G4,2)=3,COUNTIF(Jours_fériés,AND(G4+1,G4+2))),G10-HLOOKUP(G4+5,Journalier_HLV_Inter,8,FALSE),IF(AND(WEEKDAY(G4,2)=3,COUNTIF(Jours_fériés,G4+1)),G10-HLOOKUP(G4+2,Journalier_HLV_Inter,8,FALSE),IF(AND(WEEKDAY(G4,2)=4,COUNTIF(Jours_fériés,G4+1)),G10-HLOOKUP(G4+4,Journalier_HLV_Inter,8,FALSE),IF(AND(WEEKDAY(G4,2)=4,COUNTIF(Jours_fériés,AND(G4+1,G4+4))),G10-HLOOKUP(G4+5,Journalier_HLV_Inter,8,FALSE),IF(AND(WEEKDAY(G4,2)=5,COUNTIF(Jours_fériés,G4+3)),G10-HLOOKUP(G4+4,Journalier_HLV_Inter,8,FALSE),IF(COUNTIF(Week_end,G4),0,IF(COUNTIF(Jours_fériés,G4),0,G10-HLOOKUP(G4+1,Journalier_HLV_Inter,8,FALSE))))))))))))) -> 40 | H17: =IF(WEEKDAY(H4,2)=5,(H10-HLOOKUP(H4+3,Journalier_HLV_Inter,8,FALSE)),IF(AND(WEEKDAY(H4,2)=1,COUNTIF(Jours_fériés,AND(H4+1,IE+2))),H10-HLOOKUP(H4+3,Journalier_HLV_Inter,8,FALSE),IF(AND(WEEKDAY(H4,2)=1,COUNTIF(Jours_fériés,H4+1)),H10-HLOOKUP(H4+2,Journalier_HLV_Inter,8,FALSE),IF(AND(WEEKDAY(H4,2)=2,COUNTIF(Jours_fériés,AND(H4+1,H4+2))),H10-HLOOKUP(H4+3,Journalier_HLV_Inter,8,FALSE),IF(AND(WEEKDAY(H4,2)=2,COUNTIF(Jours_fériés,H4+1)),H10-HLOOKUP(H4+2,Journalier_HLV_Inter,8,FALSE),IF(AND(WEEKDAY(H4,2)=3,COUNTIF(Jours_fériés,AND(H4+1,H4+2))),H10-HLOOKUP(H4+5,Journalier_HLV_Inter,8,FALSE),IF(AND(WEEKDAY(H4,2)=3,COUNTIF(Jours_fériés,H4+1)),H10-HLOOKUP(H4+2,Journalier_HLV_Inter,8,FALSE),IF(AND(WEEKDAY(H4,2)=4,COUNTIF(Jours_fériés,H4+1)),H10-HLOOKUP(H4+4,Journalier_HLV_Inter,8,FALSE),IF(AND(WEEKDAY(H4,2)=4,COUNTIF(Jours_fériés,AND(H4+1,H4+4))),H10-HLOOKUP(H4+5,Journalier_HLV_Inter,8,FALSE),IF(AND(WEEKDAY(H4,2)=5,COUNTIF(Jours_fériés,H4+3)),H10-HLOOKUP(H4+4,Journalier_HLV_Inter,8,FALSE),IF(COUNTIF(Week_end,H4),0,IF(COUNTIF(Jours_fériés,H4),0,H10-HLOOKUP(H4+1,Journalier_HLV_Inter,8,FALSE))))))))))))) -> 70 | I17: =IF(WEEKDAY(I4,2)=5,(I10-HLOOKUP(I4+3,Journalier_HLV_Inter,8,FALSE)),IF(AND(WEEKDAY(I4,2)=1,COUNTIF(Jours_fériés,AND(I4+1,IE+2))),I10-HLOOKUP(I4+3,Journalier_HLV_Inter,8,FALSE),IF(AND(WEEKDAY(I4,2)=1,COUNTIF(Jours_fériés,I4+1)),I10-HLOOKUP(I4+2,Journalier_HLV_Inter,8,FALSE),IF(AND(WEEKDAY(I4,2)=2,COUNTIF(Jours_fériés,AND(I4+1,I4+2))),I10-HLOOKUP(I4+3,Journalier_HLV_Inter,8,FALSE),IF(AND(WEEKDAY(I4,2)=2,COUNTIF(Jours_fériés,I4+1)),I10-HLOOKUP(I4+2,Journalier_HLV_Inter,8,FALSE),IF(AND(WEEKDAY(I4,2)=3,COUNTIF(Jours_fériés,AND(I4+1,I4+2))),I10-HLOOKUP(I4+5,Journalier_HLV_Inter,8,FALSE),IF(AND(WEEKDAY(I4,2)=3,COUNTIF(Jours_fériés,I4+1)),I10-HLOOKUP(I4+2,Journalier_HLV_Inter,8,FALSE),IF(AND(WEEKDAY(I4,2)=4,COUNTIF(Jours_fériés,I4+1)),I10-HLOOKUP(I4+4,Journalier_HLV_Inter,8,FALSE),IF(AND(WEEKDAY(I4,2)=4,COUNTIF(Jours_fériés,AND(I4+1,I4+4))),I10-HLOOKUP(I4+5,Journalier_HLV_Inter,8,FALSE),IF(AND(WEEKDAY(I4,2)=5,COUNTIF(Jours_fériés,I4+3)),I10-HLOOKUP(I4+4,Journalier_HLV_Inter,8,FALSE),IF(COUNTIF(Week_end,I4),0,IF(COUNTIF(Jours_fériés,I4),0,I10-HLOOKUP(I4+1,Journalier_HLV_Inter,8,FALSE))))))))))))) -> 0 | J17: =IF(WEEKDAY(J4,2)=5,(J10-HLOOKUP(J4+3,Journalier_HLV_Inter,8,FALSE)),IF(AND(WEEKDAY(J4,2)=1,COUNTIF(Jours_fériés,AND(J4+1,IE+2))),J10-HLOOKUP(J4+3,Journalier_HLV_Inter,8,FALSE),IF(AND(WEEKDAY(J4,2)=1,COUNTIF(Jours_fériés,J4+1)),J10-HLOOKUP(J4+2,Journalier_HLV_Inter,8,FALSE),IF(AND(WEEKDAY(J4,2)=2,COUNTIF(Jours_fériés,AND(J4+1,J4+2))),J10-HLOOKUP(J4+3,Journalier_HLV_Inter,8,FALSE),IF(AND(WEEKDAY(J4,2)=2,COUNTIF(Jours_fériés,J4+1)),J10-HLOOKUP(J4+2,Journalier_HLV_Inter,8,FALSE),IF(AND(WEEKDAY(J4,2)=3,COUNTIF(Jours_fériés,AND(J4+1,J4+2))),J10-HLOOKUP(J4+5,Journalier_HLV_Inter,8,FALSE),IF(AND(WEEKDAY(J4,2)=3,COUNTIF(Jours_fériés,J4+1)),J10-HLOOKUP(J4+2,Journalier_HLV_Inter,8,FALSE),IF(AND(WEEKDAY(J4,2)=4,COUNTIF(Jours_fériés,J4+1)),J10-HLOOKUP(J4+4,Journalier_HLV_Inter,8,FALSE),IF(AND(WEEKDAY(J4,2)=4,COUNTIF(Jours_fériés,AND(J4+1,J4+4))),J10-HLOOKUP(J4+5,Journalier_HLV_Inter,8,FALSE),IF(AND(WEEKDAY(J4,2)=5,COUNTIF(Jours_fériés,J4+3)),J10-HLOOKUP(J4+4,Journalier_HLV_Inter,8,FALSE),IF(COUNTIF(Week_end,J4),0,IF(COUNTIF(Jours_fériés,J4),0,J10-HLOOKUP(J4+1,Journalier_HLV_Inter,8,FALSE))))))))))))) -> 0 | K17: =IF(WEEKDAY(K4,2)=5,(K10-HLOOKUP(K4+3,Journalier_HLV_Inter,8,FALSE)),IF(AND(WEEKDAY(K4,2)=1,COUNTIF(Jours_fériés,AND(K4+1,IE+2))),K10-HLOOKUP(K4+3,Journalier_HLV_Inter,8,FALSE),IF(AND(WEEKDAY(K4,2)=1,COUNTIF(Jours_fériés,K4+1)),K10-HLOOKUP(K4+2,Journalier_HLV_Inter,8,FALSE),IF(AND(WEEKDAY(K4,2)=2,COUNTIF(Jours_fériés,AND(K4+1,K4+2))),K10-HLOOKUP(K4+3,Journalier_HLV_Inter,8,FALSE),IF(AND(WEEKDAY(K4,2)=2,COUNTIF(Jours_fériés,K4+1)),K10-HLOOKUP(K4+2,Journalier_HLV_Inter,8,FALSE),IF(AND(WEEKDAY(K4,2)=3,COUNTIF(Jours_fériés,AND(K4+1,K4+2))),K10-HLOOKUP(K4+5,Journalier_HLV_Inter,8,FALSE),IF(AND(WEEKDAY(K4,2)=3,COUNTIF(Jours_fériés,K4+1)),K10-HLOOKUP(K4+2,Journalier_HLV_Inter,8,FALSE),IF(AND(WEEKDAY(K4,2)=4,COUNTIF(Jours_fériés,K4+1)),K10-HLOOKUP(K4+4,Journalier_HLV_Inter,8,FALSE),IF(AND(WEEKDAY(K4,2)=4,COUNTIF(Jours_fériés,AND(K4+1,K4+4))),K10-HLOOKUP(K4+5,Journalier_HLV_Inter,8,FALSE),IF(AND(WEEKDAY(K4,2)=5,COUNTIF(Jours_fériés,K4+3)),K10-HLOOKUP(K4+4,Journalier_HLV_Inter,8,FALSE),IF(COUNTIF(Week_end,K4),0,IF(COUNTIF(Jours_fériés,K4),0,K10-HLOOKUP(K4+1,Journalier_HLV_Inter,8,FALSE))))))))))))) -> 0 | L17: =IF(WEEKDAY(L4,2)=5,(L10-HLOOKUP(L4+3,Journalier_HLV_Inter,8,FALSE)),IF(AND(WEEKDAY(L4,2)=1,COUNTIF(Jours_fériés,AND(L4+1,IE+2))),L10-HLOOKUP(L4+3,Journalier_HLV_Inter,8,FALSE),IF(AND(WEEKDAY(L4,2)=1,COUNTIF(Jours_fériés,L4+1)),L10-HLOOKUP(L4+2,Journalier_HLV_Inter,8,FALSE),IF(AND(WEEKDAY(L4,2)=2,COUNTIF(Jours_fériés,AND(L4+1,L4+2))),L10-HLOOKUP(L4+3,Journalier_HLV_Inter,8,FALSE),IF(AND(WEEKDAY(L4,2)=2,COUNTIF(Jours_fériés,L4+1)),L10-HLOOKUP(L4+2,Journalier_HLV_Inter,8,FALSE),IF(AND(WEEKDAY(L4,2)=3,COUNTIF(Jours_fériés,AND(L4+1,L4+2))),L10-HLOOKUP(L4+5,Journalier_HLV_Inter,8,FALSE),IF(AND(WEEKDAY(L4,2)=3,COUNTIF(Jours_fériés,L4+1)),L10-HLOOKUP(L4+2,Journalier_HLV_Inter,8,FALSE),IF(AND(WEEKDAY(L4,2)=4,COUNTIF(Jours_fériés,L4+1)),L10-HLOOKUP(L4+4,Journalier_HLV_Inter,8,FALSE),IF(AND(WEEKDAY(L4,2)=4,COUNTIF(Jours_fériés,AND(L4+1,L4+4))),L10-HLOOKUP(L4+5,Journalier_HLV_Inter,8,FALSE),IF(AND(WEEKDAY(L4,2)=5,COUNTIF(Jours_fériés,L4+3)),L10-HLOOKUP(L4+4,Journalier_HLV_Inter,8,FALSE),IF(COUNTIF(Week_end,L4),0,IF(COUNTIF(Jours_fériés,L4),0,L10-HLOOKUP(L4+1,Journalier_HLV_Inter,8,FALSE))))))))))))) -> 0 | ... ND17: =IF(WEEKDAY(ND4,2)=5,(ND10-HLOOKUP(ND4+3,Journalier_HLV_Inter,8,FALSE)),IF(AND(WEEKDAY(ND4,2)=1,COUNTIF(Jours_fériés,AND(ND4+1,IE+2))),ND10-HLOOKUP(ND4+3,Journalier_HLV_Inter,8,FALSE),IF(AND(WEEKDAY(ND4,2)=1,COUNTIF(Jours_fériés,ND4+1)),ND10-HLOOKUP(ND4+2,Journalier_HLV_Inter,8,FALSE),IF(AND(WEEKDAY(ND4,2)=2,COUNTIF(Jours_fériés,AND(ND4+1,ND4+2))),ND10-HLOOKUP(ND4+3,Journalier_HLV_Inter,8,FALSE),IF(AND(WEEKDAY(ND4,2)=2,COUNTIF(Jours_fériés,ND4+1)),ND10-HLOOKUP(ND4+2,Journalier_HLV_Inter,8,FALSE),IF(AND(WEEKDAY(ND4,2)=3,COUNTIF(Jours_fériés,AND(ND4+1,ND4+2))),ND10-HLOOKUP(ND4+5,Journalier_HLV_Inter,8,FALSE),IF(AND(WEEKDAY(ND4,2)=3,COUNTIF(Jours_fériés,ND4+1)),ND10-HLOOKUP(ND4+2,Journalier_HLV_Inter,8,FALSE),IF(AND(WEEKDAY(ND4,2)=4,COUNTIF(Jours_fériés,ND4+1)),ND10-HLOOKUP(ND4+4,Journalier_HLV_Inter,8,FALSE),IF(AND(WEEKDAY(ND4,2)=4,COUNTIF(Jours_fériés,AND(ND4+1,ND4+4))),ND10-HLOOKUP(ND4+5,Journalier_HLV_Inter,8,FALSE),IF(AND(WEEKDAY(ND4,2)=5,COUNTIF(Jours_fériés,ND4+3)),ND10-HLOOKUP(ND4+4,Journalier_HLV_Inter,8,FALSE),IF(COUNTIF(Week_end,ND4),0,IF(COUNTIF(Jours_fériés,ND4),0,ND10-HLOOKUP(ND4+1,Journalier_HLV_Inter,8,FALSE))))))))))))) -> #N/A
