Workbook
Name An: Calcul_jours_fériés!$B$2
Name Journalier_AE: #REF!
Name Journalier_Auto_Logi: #REF!
Name Journalier_Cockpit: Cockpit!$E$4:$ND$38
Name Journalier_Disjoint_import: #REF!
Name Journalier_Distri_Ecom: Cockpit!$E$4:$ND$38
Name Journalier_Distri_Ecom: HLV_Inter!$E$4:$ND$38
Name Journalier_Distri_Ecom: Proactif!$E$4:$ND$38
Name Journalier_Distri_Ecom: Sherlock!$E$4:$ND$38
Name Journalier_Distri_Ecom: #REF!
Name Journalier_EMS: #REF!
Name Journalier_eParcel: #REF!
Name Journalier_Escalade_Export: #REF!
Name Journalier_Escalade_Import: #REF!
Name Journalier_ESDI: #REF!
Name Journalier_HLV_Inter: HLV_Inter!$E$4:$ND$38
Name Journalier_Injection: #REF!
Name Journalier_KPG: #REF!
Name Journalier_Proactif: Proactif!$E$4:$ND$38
Name Journalier_Sherlock: Sherlock!$E$4:$ND$38
Name Journalier_Taux_AE: #REF!
Name Journalier_Taux_Auto_Logi: #REF!
Name Journalier_Taux_Banque: #REF!
Name Journalier_Taux_Cockpit: Cockpit!$E$4:$ND$49
Name Journalier_Taux_Disjoint_Import: #REF!
Name Journalier_Taux_DistriEcom: #REF!
Name Journalier_Taux_DOM: #REF!
Name Journalier_Taux_Electro: #REF!
Name Journalier_Taux_EMS: #REF!
Name Journalier_Taux_eParcel: #REF!
Name Journalier_Taux_Escalade_Export: #REF!
Name Journalier_Taux_Escalade_Import: #REF!
Name Journalier_Taux_ESDI: #REF!
Name Journalier_Taux_Fret_DOM: #REF!
Name Journalier_Taux_Grands_Comptes: #REF!
Name Journalier_Taux_HLV_Inter: HLV_Inter!$E$4:$ND$49
Name Journalier_Taux_IDF: #REF!
Name Journalier_Taux_Industrie: #REF!
Name Journalier_Taux_Injection: #REF!
Name Journalier_Taux_KPG: #REF!
Name Journalier_Taux_Major: #REF!
Name Journalier_Taux_NE: #REF!
Name Journalier_Taux_O: #REF!
Name Journalier_Taux_Proactif: Proactif!$E$4:$ND$49
Name Journalier_Taux_Sante: #REF!
Name Journalier_Taux_SE: #REF!
Name Journalier_Taux_Sherlock: Sherlock!$E$4:$ND$49
Name Journalier_Taux_SO: #REF!
Name Jours_fériés: Paramètres!$B$1:$B$11
Name Jours_ouvrés_AE: #REF!
Name Jours_ouvrés_Auto_Logi: #REF!
Name Jours_Ouvrés_Cockpit: Cockpit!$E$6:$ND$6
Name Jours_Ouvrés_Disjoint_Import: #REF!
Name Jours_ouvrés_Distri_Ecom: Cockpit!$E$6:$ND$6
Name Jours_ouvrés_Distri_Ecom: HLV_Inter!$E$6:$ND$6
Name Jours_ouvrés_Distri_Ecom: Proactif!$E$6:$ND$6
Name Jours_ouvrés_Distri_Ecom: Sherlock!$E$6:$ND$6
Name Jours_Ouvrés_EMS: #REF!
Name Jours_Ouvrés_eParcel: #REF!
Name Jours_Ouvrés_Escalade_Export: #REF!

Sheet Paramètres
A1: Jours fériés | B1: =Calcul_jours_fériés!B11 -> #REF! | H1: WEEK END | I1: Samedi | J1: Dimanche
B2: =Calcul_jours_fériés!B12 -> #REF! | J2: =DATE(#REF!,1,1)-MOD(DATE(#REF!,1,1)+6,7)+7-(WEEKDAY(DATE(#REF!,1,1))=1)*7 -> #REF!
B3: =Calcul_jours_fériés!B13 -> #REF! | I3: =DATE(#REF!,1,1)-MOD(DATE(#REF!,1,1)+7,7)+7-(WEEKDAY(DATE(#REF!,1,1))=7)*7 -> #REF! | J3: =J2+7 -> #REF!
B4: =Calcul_jours_fériés!B14 -> #REF! | I4: =I3+7 -> #REF! | J4: =J3+7 -> #REF!
B5: =Calcul_jours_fériés!B15 -> #REF! | I5: =I4+7 -> #REF! | J5: =J4+7 -> #REF!
B6: =Calcul_jours_fériés!B16 -> #REF! | I6: =I5+7 -> #REF! | J6: =J5+7 -> #REF!
B7: =Calcul_jours_fériés!B17 -> #REF! | I7: =I6+7 -> #REF! | J7: =J6+7 -> #REF!
B8: =Calcul_jours_fériés!B18 -> #REF! | I8: =I7+7 -> #REF! | J8: =J7+7 -> #REF!
B9: =Calcul_jours_fériés!B19 -> #REF! | I9: =I8+7 -> #REF! | J9: =J8+7 -> #REF!
B10: =Calcul_jours_fériés!B20 -> #REF! | I10: =I9+7 -> #REF! | J10: =J9+7 -> #REF!
B11: =Calcul_jours_fériés!B21 -> #REF! | I11: =I10+7 -> #REF! | J11: =J10+7 -> #REF!
I12: =I11+7 -> #REF! | J12: =J11+7 -> #REF!
A13: MOIS | B13: Janvier | I13: =I12+7 -> #REF! | J13: =J12+7 -> #REF!
B14: Février | I14: =I13+7 -> #REF! | J14: =J13+7 -> #REF!
B15: Mars | I15: =I14+7 -> #REF! | J15: =J14+7 -> #REF!
B16: Avril | I16: =I15+7 -> #REF! | J16: =J15+7 -> #REF!
B17: Mai | I17: =I16+7 -> #REF! | J17: =J16+7 -> #REF!
B18: Juin | I18: =I17+7 -> #REF! | J18: =J17+7 -> #REF!
B19: Juillet | I19: =I18+7 -> #REF! | J19: =J18+7 -> #REF!
B20: Août | I20: =I19+7 -> #REF! | J20: =J19+7 -> #REF!
B21: Septembre | I21: =I20+7 -> #REF! | J21: =J20+7 -> #REF!
B22: Octobre | I22: =I21+7 -> #REF! | J22: =J21+7 -> #REF!
B23: Novembre | I23: =I22+7 -> #REF! | J23: =J22+7 -> #REF!
B24: Décembre | I24: =I23+7 -> #REF! | J24: =J23+7 -> #REF!
I25: =I24+7 -> #REF! | J25: =J24+7 -> #REF!
A26: SEMAINE | B26: 1 | I26: =I25+7 -> #REF! | J26: =J25+7 -> #REF!
B27: 2 | I27: =I26+7 -> #REF! | J27: =J26+7 -> #REF!
B28: 3 | I28: =I27+7 -> #REF! | J28: =J27+7 -> #REF!
B29: 4 | I29: =I28+7 -> #REF! | J29: =J28+7 -> #REF!
B30: 5 | I30: =I29+7 -> #REF! | J30: =J29+7 -> #REF!
B31: 6 | I31: =I30+7 -> #REF! | J31: =J30+7 -> #REF!
B32: 7 | I32: =I31+7 -> #REF! | J32: =J31+7 -> #REF!
B33: 8 | I33: =I32+7 -> #REF! | J33: =J32+7 -> #REF!
B34: 9 | I34: =I33+7 -> #REF! | J34: =J33+7 -> #REF!
B35: 10 | I35: =I34+7 -> #REF! | J35: =J34+7 -> #REF!
B36: 11 | I36: =I35+7 -> #REF! | J36: =J35+7 -> #REF!
B37: 12 | I37: =I36+7 -> #REF! | J37: =J36+7 -> #REF!
B38: 13 | I38: =I37+7 -> #REF! | J38: =J37+7 -> #REF!
... B54: 29 | I54: =I53+7 -> #REF! | J54: =J53+7 -> #REF!
B55: 30
B56: 31
B57: 32
B58: 33
B59: 34
B60: 35
B61: 36
B62: 37
B63: 38
B64: 39
B65: 40
B66: 41
... B77: 52
A79: TRIMESTRE | B79: 1
B80: 2
B81: 3
B82: 4

Sheet Calcul_jours_fériés
A3: Date de début | B3: Date de fin | E3: Nb de jours ouvrés
A4: =DATE(#REF!,1,1) -> #REF! | B4: =DATE(#REF!,12,31) -> #REF! | E4: =NETWORKDAYS(A4,B4) -> #REF! | F4: * doit servir de référence pour le calcul car cela correspond à 30 ans de jours ouvrés sans aucun temps partie
F5: et sans jours fériés
B10: =YEAR(A4) -> #REF! | C10: =B10+1 -> #REF! | D10: =C10+1 -> #REF! | E10: =D10+1 -> #REF! | F10: =E10+1 -> #REF! | G10: =F10+1 -> #REF! | H10: =G10+1 -> #REF! | I10: =H10+1 -> #REF! | J10: =I10+1 -> #REF! | ... AF10: =AE10+1 -> #REF!
A11: Premier de l'an | B11: =DATE(B10,1,1) -> #REF! | C11: =DATE(C10,1,1) -> #REF! | D11: =DATE(D10,1,1) -> #REF! | E11: =DATE(E10,1,1) -> #REF! | F11: =DATE(F10,1,1) -> #REF! | G11: =DATE(G10,1,1) -> #REF! | H11: =DATE(H10,1,1) -> #REF! | I11: =DATE(I10,1,1) -> #REF! | ... AF11: =DATE(AF10,1,1) -> #REF!
A12: Lundi de Pâques | B12: =B22+1 -> #REF! | C12: =C22+1 -> #REF! | D12: =D22+1 -> #REF! | E12: =E22+1 -> #REF! | F12: =F22+1 -> #REF! | G12: =G22+1 -> #REF! | H12: =H22+1 -> #REF! | I12: =I22+1 -> #REF! | ... AF12: =AF22+1 -> #REF!
A13: Fête du travail | B13: =DATE(B10,5,1) -> #REF! | C13: =DATE(C10,5,1) -> #REF! | D13: =DATE(D10,5,1) -> #REF! | E13: =DATE(E10,5,1) -> #REF! | F13: =DATE(F10,5,1) -> #REF! | G13: =DATE(G10,5,1) -> #REF! | H13: =DATE(H10,5,1) -> #REF! | I13: =DATE(I10,5,1) -> #REF! | ... AF13: =DATE(AF10,5,1) -> #REF!
A14: Victoire de 1945 | B14: =DATE(B10,5,8) -> #REF! | C14: =DATE(C10,5,8) -> #REF! | D14: =DATE(D10,5,8) -> #REF! | E14: =DATE(E10,5,8) -> #REF! | F14: =DATE(F10,5,8) -> #REF! | G14: =DATE(G10,5,8) -> #REF! | H14: =DATE(H10,5,8) -> #REF! | I14: =DATE(I10,5,8) -> #REF! | ... AF14: =DATE(AF10,5,8) -> #REF!
A15: Ascension | B15: =B22+39 -> #REF! | C15: =C22+39 -> #REF! | D15: =D22+39 -> #REF! | E15: =E22+39 -> #REF! | F15: =F22+39 -> #REF! | G15: =G22+39 -> #REF! | H15: =H22+39 -> #REF! | I15: =I22+39 -> #REF! | ... AF15: =AF22+39 -> #REF!
A16: Pentecôte | B16: =B22+50 -> #REF! | C16: =C22+50 -> #REF! | D16: =D22+50 -> #REF! | E16: =E22+50 -> #REF! | F16: =F22+50 -> #REF! | G16: =G22+50 -> #REF! | H16: =H22+50 -> #REF! | I16: =I22+50 -> #REF! | ... AF16: =AF22+50 -> #REF!
A17: Fête nationale | B17: =DATE(B10,7,14) -> #REF! | C17: =DATE(C10,7,14) -> #REF! | D17: =DATE(D10,7,14) -> #REF! | E17: =DATE(E10,7,14) -> #REF! | F17: =DATE(F10,7,14) -> #REF! | G17: =DATE(G10,7,14) -> #REF! | H17: =DATE(H10,7,14) -> #REF! | I17: =DATE(I10,7,14) -> #REF! | ... AF17: =DATE(AF10,7,14) -> #REF!
A18: Assomption | B18: =DATE(B10,8,15) -> #REF! | C18: =DATE(C10,8,15) -> #REF! | D18: =DATE(D10,8,15) -> #REF! | E18: =DATE(E10,8,15) -> #REF! | F18: =DATE(F10,8,15) -> #REF! | G18: =DATE(G10,8,15) -> #REF! | H18: =DATE(H10,8,15) -> #REF! | I18: =DATE(I10,8,15) -> #REF! | ... AF18: =DATE(AF10,8,15) -> #REF!
A19: Toussaint | B19: =DATE(B10,11,1) -> #REF! | C19: =DATE(C10,11,1) -> #REF! | D19: =DATE(D10,11,1) -> #REF! | E19: =DATE(E10,11,1) -> #REF! | F19: =DATE(F10,11,1) -> #REF! | G19: =DATE(G10,11,1) -> #REF! | H19: =DATE(H10,11,1) -> #REF! | I19: =DATE(I10,11,1) -> #REF! | ... AF19: =DATE(AF10,11,1) -> #REF!
A20: Armistice | B20: =DATE(B10,11,11) -> #REF! | C20: =DATE(C10,11,11) -> #REF! | D20: =DATE(D10,11,11) -> #REF! | E20: =DATE(E10,11,11) -> #REF! | F20: =DATE(F10,11,11) -> #REF! | G20: =DATE(G10,11,11) -> #REF! | H20: =DATE(H10,11,11) -> #REF! | I20: =DATE(I10,11,11) -> #REF! | ... AF20: =DATE(AF10,11,11) -> #REF!
A21: Noël | B21: =DATE(B10,12,25) -> #REF! | C21: =DATE(C10,12,25) -> #REF! | D21: =DATE(D10,12,25) -> #REF! | E21: =DATE(E10,12,25) -> #REF! | F21: =DATE(F10,12,25) -> #REF! | G21: =DATE(G10,12,25) -> #REF! | H21: =DATE(H10,12,25) -> #REF! | I21: =DATE(I10,12,25) -> #REF! | ... AF21: =DATE(AF10,12,25) -> #REF!
A22: Pâques | B22: =DATE(B10,IF((25-MOD((11*MOD(B10-1900,19)+4-INT((7*MOD(B10-1900,19)+1)/19)),29)-MOD(B10-1900+INT((B10-1900)/4)+31-MOD((11*MOD(B10-1900,19)+4-INT((7*MOD(B10-1900,19)+1)/19)),29),7))>0,4,3),IF((25-MOD((11*MOD(B10-1900,19)+4-INT((7*MOD(B10-1900,19)+1)/19)),29)-MOD(B10-1900+INT((B10-1900)/4)+31-MOD((11*MOD(B10-1900,19)+4-INT((7*MOD(B10-1900,19)+1)/19)),29),7))>0,(25-MOD((11*MOD(B10-1900,19)+4-INT((7*MOD(B10-1900,19)+1)/19)),29)-MOD(B10-1900+INT((B10-1900)/4)+31-MOD((11*MOD(B10-1900,19)+4-INT((7*MOD(B10-1900,19)+1)/19)),29),7)),31+(25-MOD((11*MOD(B10-1900,19)+4-INT((7*MOD(B10-1900,19)+1)/19)),29)-MOD(B10-1900+INT((B10-1900)/4)+31-MOD((11*MOD(B10-1900,19)+4-INT((7*MOD(B10-1900,19)+1)/19)),29),7)))) -> #REF! | C22: =DATE(C10,IF((25-MOD((11*MOD(C10-1900,19)+4-INT((7*MOD(C10-1900,19)+1)/19)),29)-MOD(C10-1900+INT((C10-1900)/4)+31-MOD((11*MOD(C10-1900,19)+4-INT((7*MOD(C10-1900,19)+1)/19)),29),7))>0,4,3),IF((25-MOD((11*MOD(C10-1900,19)+4-INT((7*MOD(C10-1900,19)+1)/19)),29)-MOD(C10-1900+INT((C10-1900)/4)+31-MOD((11*MOD(C10-1900,19)+4-INT((7*MOD(C10-1900,19)+1)/19)),29),7))>0,(25-MOD((11*MOD(C10-1900,19)+4-INT((7*MOD(C10-1900,19)+1)/19)),29)-MOD(C10-1900+INT((C10-1900)/4)+31-MOD((11*MOD(C10-1900,19)+4-INT((7*MOD(C10-1900,19)+1)/19)),29),7)),31+(25-MOD((11*MOD(C10-1900,19)+4-INT((7*MOD(C10-1900,19)+1)/19)),29)-MOD(C10-1900+INT((C10-1900)/4)+31-MOD((11*MOD(C10-1900,19)+4-INT((7*MOD(C10-1900,19)+1)/19)),29),7)))) -> #REF! | D22: =DATE(D10,IF((25-MOD((11*MOD(D10-1900,19)+4-INT((7*MOD(D10-1900,19)+1)/19)),29)-MOD(D10-1900+INT((D10-1900)/4)+31-MOD((11*MOD(D10-1900,19)+4-INT((7*MOD(D10-1900,19)+1)/19)),29),7))>0,4,3),IF((25-MOD((11*MOD(D10-1900,19)+4-INT((7*MOD(D10-1900,19)+1)/19)),29)-MOD(D10-1900+INT((D10-1900)/4)+31-MOD((11*MOD(D10-1900,19)+4-INT((7*MOD(D10-1900,19)+1)/19)),29),7))>0,(25-MOD((11*MOD(D10-1900,19)+4-INT((7*MOD(D10-1900,19)+1)/19)),29)-MOD(D10-1900+INT((D10-1900)/4)+31-MOD((11*MOD(D10-1900,19)+4-INT((7*MOD(D10-1900,19)+1)/19)),29),7)),31+(25-MOD((11*MOD(D10-1900,19)+4-INT((7*MOD(D10-1900,19)+1)/19)),29)-MOD(D10-1900+INT((D10-1900)/4)+31-MOD((11*MOD(D10-1900,19)+4-INT((7*MOD(D10-1900,19)+1)/19)),29),7)))) -> #REF! | E22: =DATE(E10,IF((25-MOD((11*MOD(E10-1900,19)+4-INT((7*MOD(E10-1900,19)+1)/19)),29)-MOD(E10-1900+INT((E10-1900)/4)+31-MOD((11*MOD(E10-1900,19)+4-INT((7*MOD(E10-1900,19)+1)/19)),29),7))>0,4,3),IF((25-MOD((11*MOD(E10-1900,19)+4-INT((7*MOD(E10-1900,19)+1)/19)),29)-MOD(E10-1900+INT((E10-1900)/4)+31-MOD((11*MOD(E10-1900,19)+4-INT((7*MOD(E10-1900,19)+1)/19)),29),7))>0,(25-MOD((11*MOD(E10-1900,19)+4-INT((7*MOD(E10-1900,19)+1)/19)),29)-MOD(E10-1900+INT((E10-1900)/4)+31-MOD((11*MOD(E10-1900,19)+4-INT((7*MOD(E10-1900,19)+1)/19)),29),7)),31+(25-MOD((11*MOD(E10-1900,19)+4-INT((7*MOD(E10-1900,19)+1)/19)),29)-MOD(E10-1900+INT((E10-1900)/4)+31-MOD((11*MOD(E10-1900,19)+4-INT((7*MOD(E10-1900,19)+1)/19)),29),7)))) -> #REF! | F22: =DATE(F10,IF((25-MOD((11*MOD(F10-1900,19)+4-INT((7*MOD(F10-1900,19)+1)/19)),29)-MOD(F10-1900+INT((F10-1900)/4)+31-MOD((11*MOD(F10-1900,19)+4-INT((7*MOD(F10-1900,19)+1)/19)),29),7))>0,4,3),IF((25-MOD((11*MOD(F10-1900,19)+4-INT((7*MOD(F10-1900,19)+1)/19)),29)-MOD(F10-1900+INT((F10-1900)/4)+31-MOD((11*MOD(F10-1900,19)+4-INT((7*MOD(F10-1900,19)+1)/19)),29),7))>0,(25-MOD((11*MOD(F10-1900,19)+4-INT((7*MOD(F10-1900,19)+1)/19)),29)-MOD(F10-1900+INT((F10-1900)/4)+31-MOD((11*MOD(F10-1900,19)+4-INT((7*MOD(F10-1900,19)+1)/19)),29),7)),31+(25-MOD((11*MOD(F10-1900,19)+4-INT((7*MOD(F10-1900,19)+1)/19)),29)-MOD(F10-1900+INT((F10-1900)/4)+31-MOD((11*MOD(F10-1900,19)+4-INT((7*MOD(F10-1900,19)+1)/19)),29),7)))) -> #REF! | G22: =DATE(G10,IF((25-MOD((11*MOD(G10-1900,19)+4-INT((7*MOD(G10-1900,19)+1)/19)),29)-MOD(G10-1900+INT((G10-1900)/4)+31-MOD((11*MOD(G10-1900,19)+4-INT((7*MOD(G10-1900,19)+1)/19)),29),7))>0,4,3),IF((25-MOD((11*MOD(G10-1900,19)+4-INT((7*MOD(G10-1900,19)+1)/19)),29)-MOD(G10-1900+INT((G10-1900)/4)+31-MOD((11*MOD(G10-1900,19)+4-INT((7*MOD(G10-1900,19)+1)/19)),29),7))>0,(25-MOD((11*MOD(G10-1900,19)+4-INT((7*MOD(G10-1900,19)+1)/19)),29)-MOD(G10-1900+INT((G10-1900)/4)+31-MOD((11*MOD(G10-1900,19)+4-INT((7*MOD(G10-1900,19)+1)/19)),29),7)),31+(25-MOD((11*MOD(G10-1900,19)+4-INT((7*MOD(G10-1900,19)+1)/19)),29)-MOD(G10-1900+INT((G10-1900)/4)+31-MOD((11*MOD(G10-1900,19)+4-INT((7*MOD(G10-1900,19)+1)/19)),29),7)))) -> #REF! | H22: =DATE(H10,IF((25-MOD((11*MOD(H10-1900,19)+4-INT((7*MOD(H10-1900,19)+1)/19)),29)-MOD(H10-1900+INT((H10-1900)/4)+31-MOD((11*MOD(H10-1900,19)+4-INT((7*MOD(H10-1900,19)+1)/19)),29),7))>0,4,3),IF((25-MOD((11*MOD(H10-1900,19)+4-INT((7*MOD(H10-1900,19)+1)/19)),29)-MOD(H10-1900+INT((H10-1900)/4)+31-MOD((11*MOD(H10-1900,19)+4-INT((7*MOD(H10-1900,19)+1)/19)),29),7))>0,(25-MOD((11*MOD(H10-1900,19)+4-INT((7*MOD(H10-1900,19)+1)/19)),29)-MOD(H10-1900+INT((H10-1900)/4)+31-MOD((11*MOD(H10-1900,19)+4-INT((7*MOD(H10-1900,19)+1)/19)),29),7)),31+(25-MOD((11*MOD(H10-1900,19)+4-INT((7*MOD(H10-1900,19)+1)/19)),29)-MOD(H10-1900+INT((H10-1900)/4)+31-MOD((11*MOD(H10-1900,19)+4-INT((7*MOD(H10-1900,19)+1)/19)),29),7)))) -> #REF! | I22: =DATE(I10,IF((25-MOD((11*MOD(I10-1900,19)+4-INT((7*MOD(I10-1900,19)+1)/19)),29)-MOD(I10-1900+INT((I10-1900)/4)+31-MOD((11*MOD(I10-1900,19)+4-INT((7*MOD(I10-1900,19)+1)/19)),29),7))>0,4,3),IF((25-MOD((11*MOD(I10-1900,19)+4-INT((7*MOD(I10-1900,19)+1)/19)),29)-MOD(I10-1900+INT((I10-1900)/4)+31-MOD((11*MOD(I10-1900,19)+4-INT((7*MOD(I10-1900,19)+1)/19)),29),7))>0,(25-MOD((11*MOD(I10-1900,19)+4-INT((7*MOD(I10-1900,19)+1)/19)),29)-MOD(I10-1900+INT((I10-1900)/4)+31-MOD((11*MOD(I10-1900,19)+4-INT((7*MOD(I10-1900,19)+1)/19)),29),7)),31+(25-MOD((11*MOD(I10-1900,19)+4-INT((7*MOD(I10-1900,19)+1)/19)),29)-MOD(I10-1900+INT((I10-1900)/4)+31-MOD((11*MOD(I10-1900,19)+4-INT((7*MOD(I10-1900,19)+1)/19)),29),7)))) -> #REF! | ... AF22: =DATE(AF10,IF((25-MOD((11*MOD(AF10-1900,19)+4-INT((7*MOD(AF10-1900,19)+1)/19)),29)-MOD(AF10-1900+INT((AF10-1900)/4)+31-MOD((11*MOD(AF10-1900,19)+4-INT((7*MOD(AF10-1900,19)+1)/19)),29),7))>0,4,3),IF((25-MOD((11*MOD(AF10-1900,19)+4-INT((7*MOD(AF10-1900,19)+1)/19)),29)-MOD(AF10-1900+INT((AF10-1900)/4)+31-MOD((11*MOD(AF10-1900,19)+4-INT((7*MOD(AF10-1900,19)+1)/19)),29),7))>0,(25-MOD((11*MOD(AF10-1900,19)+4-INT((7*MOD(AF10-1900,19)+1)/19)),29)-MOD(AF10-1900+INT((AF10-1900)/4)+31-MOD((11*MOD(AF10-1900,19)+4-INT((7*MOD(AF10-1900,19)+1)/19)),29),7)),31+(25-MOD((11*MOD(AF10-1900,19)+4-INT((7*MOD(AF10-1900,19)+1)/19)),29)-MOD(AF10-1900+INT((AF10-1900)/4)+31-MOD((11*MOD(AF10-1900,19)+4-INT((7*MOD(AF10-1900,19)+1)/19)),29),7)))) -> #REF!
A24: Attention, la ligne de Pâques sert juste de référence pour situer ce jour dans l'année

Sheet SOMMAIRE
A2: SOMMAIRE | K2: Année de Traitement | L2: 2017
A4: EQUIPE SUPPORT | C4: HLV Inter | F4: STATISTIQUES EQUIPE SUPPORT | H4: HLV Inter
C6: Proactif | H6: Proactif
C8: Sherlock | H8: Sherlock
C10: Cockpit | H10: Cockpit
C12: ESDI | H12: ESDI
C14: Escalade Import | H14: Escalade Import
C16: Escalade Export | H16: Escalade Export
A18: DISJOINT IMPORT | C18: Disjoint Import | F18: STATISTIQUES DISJOINT IMPORT | H18: Disjoint Import
A20: IMPORT | C20: Injection | F20: STATISTIQUES IMPORT | H20: Injection
C22: eParcel | H22: eParcel
C24: A&E | H24: A&E
C26: EMS | H26: EMS
C28: KPG | H28: KPG
A30: GRANDS COMPTES | C30: Distribution et eCommerce | F30: STATISTIQUES GRANDS COMPTES | H30: Distribution et eCommerce
C32: Automotive & Logistique | H32: Automotive & Logistique
C34: Banque | H34: Banque
C36: Electronique | H36: Electronique
C38: Grands Comptes | H38: Grands Comptes
C40: Industrie | H40: Industrie
C42: Santé | H42: Santé
C44: Major | H44: Major
C46: DOM | H46: DOM
C48: Fret DOM | H48: Fret DOM
A50: REGIONS | C50: IDF | F50: STATISTIQUES REGIONS | H50: IDF
C52: Nord Est | H52: Nord Est
C54: Ouest | H54: Ouest
C56: Sud Est | H56: Sud Est
C58: Sud ouest | H58: Sud ouest
C62: STATISTIQUES GLOABALES EQUIPE SUPPORT
C64: STATISTIQUES GLOBALES REGIONS
C66: STATISTIQUES GLOBALES GRANDS COMPTES
C68: STATISTIQUES GLOBALES IMPORT

Sheet HLV_Inter
A1: =SOMMAIRE!$L$2 -> 2017
A2: Mois | D2: =TEXT(D4,"mmmm") -> janvier | E2: =TEXT(E4,"mmmm") -> janvier | F2: =TEXT(F4,"mmmm") -> janvier | G2: =TEXT(G4,"mmmm") -> janvier | H2: =TEXT(H4,"mmmm") -> janvier | I2: =TEXT(I4,"mmmm") -> janvier | J2: =TEXT(J4,"mmmm") -> janvier | K2: =TEXT(K4,"mmmm") -> janvier | ... ND2: =TEXT(ND4,"mmmm") -> décembre
A3: Semaine | D3: =_xlfn.ISOWEEKNUM(D4) -> 52 | E3: =_xlfn.ISOWEEKNUM(E4) -> 1 | F3: =_xlfn.ISOWEEKNUM(F4) -> 1 | G3: =_xlfn.ISOWEEKNUM(G4) -> 1 | H3: =_xlfn.ISOWEEKNUM(H4) -> 1 | I3: =_xlfn.ISOWEEKNUM(I4) -> 1 | J3: =_xlfn.ISOWEEKNUM(J4) -> 1 | K3: =_xlfn.ISOWEEKNUM(K4) -> 1 | ... ND3: =_xlfn.ISOWEEKNUM(ND4) -> 52
A4: Date | D4: =DATE($A$1,1,1) -> 42736 | E4: =D4+1 -> 42737 | F4: =E4+1 -> 42738 | G4: =F4+1 -> 42739 | H4: =G4+1 -> 42740 | I4: =H4+1 -> 42741 | J4: =I4+1 -> 42742 | K4: =J4+1 -> 42743 | L4: =K4+1 -> 42744 | ... ND4: =NC4+1 -> 43100
A5: Trimestre | D5: =ROUNDUP(MONTH(D4)/3,0) -> 1 | E5: =ROUNDUP(MONTH(E4)/3,0) -> 1 | F5: =ROUNDUP(MONTH(F4)/3,0) -> 1 | G5: =ROUNDUP(MONTH(G4)/3,0) -> 1 | H5: =ROUNDUP(MONTH(H4)/3,0) -> 1 | I5: =ROUNDUP(MONTH(I4)/3,0) -> 1 | J5: =ROUNDUP(MONTH(J4)/3,0) -> 1 | K5: =ROUNDUP(MONTH(K4)/3,0) -> 1 | ... ND5: =ROUNDUP(MONTH(ND4)/3,0) -> 4
A6: Jour ouvré/non ouvré | D6: =IF(COUNTIF(Week_end,D4)>0,0,IF(COUNTIF(Jours_fériés,D4)>0,0,1)) -> 1 | E6: =IF(COUNTIF(Week_end,E4)>0,0,IF(COUNTIF(Jours_fériés,E4)>0,0,1)) -> 1 | F6: =IF(COUNTIF(Week_end,F4)>0,0,IF(COUNTIF(Jours_fériés,F4)>0,0,1)) -> 1 | G6: =IF(COUNTIF(Week_end,G4)>0,0,IF(COUNTIF(Jours_fériés,G4)>0,0,1)) -> 1 | H6: =IF(COUNTIF(Week_end,H4)>0,0,IF(COUNTIF(Jours_fériés,H4)>0,0,1)) -> 1 | I6: =IF(COUNTIF(Week_end,I4)>0,0,IF(COUNTIF(Jours_fériés,I4)>0,0,1)) -> 1 | J6: =IF(COUNTIF(Week_end,J4)>0,0,IF(COUNTIF(Jours_fériés,J4)>0,0,1)) -> 1 | K6: =IF(COUNTIF(Week_end,K4)>0,0,IF(COUNTIF(Jours_fériés,K4)>0,0,1)) -> 1 | ... ND6: =IF(COUNTIF(Week_end,ND4)>0,0,IF(COUNTIF(Jours_fériés,ND4)>0,0,1)) -> 1
A7: DATE SAISIE
A9: SCL
A10: J | E10: 100 | F10: 80 | G10: 70 | H10: 70
A11: J-1 | F11: 50 | G11: 40 | H11: 30
A12: J-2 | G12: 40 | H12: 25 | I12: 15
A13: >J-2
A14: >J-3
A15: Stock Global | D15: =SUM(D10:D13) -> 0 | E15: =SUM(E10:E14) -> 100 | F15: =SUM(F10:F14) -> 130 | G15: =SUM(G10:G13) -> 150 | H15: =SUM(H10:H13) -> 125 | I15: =SUM(I10:I13) -> 15 | J15: =SUM(J10:J13) -> 0 | K15: =SUM(K10:K14) -> 0 | L15: =SUM(L10:L13) -> 0 | M15: =SUM(M10:M13) -> 0 | N15: =SUM(N10:N13) -> 0 | O15: =SUM(O10:O13) -> 0 | P15: =SUM(P10:P13) -> 0 | Q15: =SUM(Q10:Q14) -> 0 | R15: =SUM(R10:R13) -> 0 | S15: =SUM(S10:S13) -> 0 | T15: =SUM(T10:T14) -> 0 | U15: =SUM(U10:U13) -> 0 | V15: =SUM(V10:V13) -> 0 | W15: =SUM(W10:W13) -> 0 | X15: =SUM(X10:X13) -> 0 | Y15: =SUM(Y10:Y13) -> 0 | Z15: =SUM(Z10:Z14) -> 0 | AA15: =SUM(AA10:AA13) -> 0 | AB15: =SUM(AB10:AB13) -> 0 | AC15: =SUM(AC10:AC13) -> 0 | AD15: =SUM(AD10:AD13) -> 0 | AE15: =SUM(AE10:AE13) -> 0 | AF15: =SUM(AF10:AF14) -> 0 | AG15: =SUM(AG10:AG13) -> 0 | AH15: =SUM(AH10:AH13) -> 0 | AI15: =SUM(AI10:AI14) -> 0 | AJ15: =SUM(AJ10:AJ13) -> 0 | AK15: =SUM(AK10:AK13) -> 0 | AL15: =SUM(AL10:AL13) -> 0 | AM15: =SUM(AM10:AM13) -> 0 | AN15: =SUM(AN10:AN13) -> 0 | AO15: =SUM(AO10:AO14) -> 0 | AP15: =SUM(AP10:AP13) -> 0 | AQ15: =SUM(AQ10:AQ13) -> 0 | AR15: =SUM(AR10:AR13) -> 0 | AS15: =SUM(AS10:AS13) -> 0 | AT15: =SUM(AT10:AT13) -> 0 | AU15: =SUM(AU10:AU14) -> 0 | AV15: =SUM(AV10:AV13) -> 0 | AW15: =SUM(AW10:AW13) -> 0 | AX15: =SUM(AX10:AX14) -> 0 | AY15: =SUM(AY10:AY13) -> 0 | AZ15: =SUM(AZ10:AZ13) -> 0 | BA15: =SUM(BA10:BA13) -> 0 | BB15: =SUM(BB10:BB13) -> 0 | BC15: =SUM(BC10:BC13) -> 0 | BD15: =SUM(BD10:BD14) -> 0 | BE15: =SUM(BE10:BE13) -> 0 | BF15: =SUM(BF10:BF13) -> 0 | BG15: =SUM(BG10:BG13) -> 0 | BH15: =SUM(BH10:BH13) -> 0 | BI15: =SUM(BI10:BI13) -> 0 | BJ15: =SUM(BJ10:BJ14) -> 0 | BK15: =SUM(BK10:BK13) -> 0 | BL15: =SUM(BL10:BL13) -> 0 | BM15: =SUM(BM10:BM14) -> 0 | BN15: =SUM(BN10:BN13) -> 0 | BO15: =SUM(BO10:BO13) -> 0 | BP15: =SUM(BP10:BP13) -> 0 | BQ15: =SUM(BQ10:BQ13) -> 0 | BR15: =SUM(BR10:BR13) -> 0 | BS15: =SUM(BS10:BS14) -> 0 | BT15: =SUM(BT10:BT13) -> 0 | BU15: =SUM(BU10:BU13) -> 0 | BV15: =SUM(BV10:BV13) -> 0 | BW15: =SUM(BW10:BW13) -> 0 | BX15: =SUM(BX10:BX13) -> 0 | BY15: =SUM(BY10:BY14) -> 0 | BZ15: =SUM(BZ10:BZ13) -> 0 | CA15: =SUM(CA10:CA13) -> 0 | CB15: =SUM(CB10:CB14) -> 0 | CC15: =SUM(CC10:CC13) -> 0 | CD15: =SUM(CD10:CD13) -> 0 | CE15: =SUM(CE10:CE13) -> 0 | CF15: =SUM(CF10:CF13) -> 0 | CG15: =SUM(CG10:CG13) -> 0 | CH15: =SUM(CH10:CH14) -> 0 | CI15: =SUM(CI10:CI13) -> 0 | CJ15: =SUM(CJ10:CJ13) -> 0 | CK15: =SUM(CK10:CK13) -> 0 | CL15: =SUM(CL10:CL13) -> 0 | CM15: =SUM(CM10:CM13) -> 0 | CN15: =SUM(CN10:CN14) -> 0 | CO15: =SUM(CO10:CO13) -> 0 | CP15: =SUM(CP10:CP13) -> 0 | CQ15: =SUM(CQ10:CQ14) -> 0 | CR15: =SUM(CR10:CR13) -> 0 | CS15: =SUM(CS10:CS13) -> 0 | CT15: =SUM(CT10:CT13) -> 0 | CU15: =SUM(CU10:CU13) -> 0 | CV15: =SUM(CV10:CV13) -> 0 | CW15: =SUM(CW10:CW14) -> 0 | CX15: =SUM(CX10:CX13) -> 0 | CY15: =SUM(CY10:CY13) -> 0 | CZ15: =SUM(CZ10:CZ13) -> 0 | DA15: =SUM(DA10:DA13) -> 0 | DB15: =SUM(DB10:DB13) -> 0 | DC15: =SUM(DC10:DC14) -> 0 | DD15: =SUM(DD10:DD13) -> 0 | DE15: =SUM(DE10:DE13) -> 0 | DF15: =SUM(DF10:DF14) -> 0 | DG15: =SUM(DG10:DG13) -> 0 | DH15: =SUM(DH10:DH13) -> 0 | DI15: =SUM(DI10:DI13) -> 0 | DJ15: =SUM(DJ10:DJ13) -> 0 | DK15: =SUM(DK10:DK13) -> 0 | DL15: =SUM(DL10:DL14) -> 0 | DM15: =SUM(DM10:DM13) -> 0 | DN15: =SUM(DN10:DN13) -> 0 | DO15: =SUM(DO10:DO13) -> 0 | DP15: =SUM(DP10:DP13) -> 0 | DQ15: =SUM(DQ10:DQ13) -> 0 | DR15: =SUM(DR10:DR14) -> 0 | DS15: =SUM(DS10:DS13) -> 0 | DT15: =SUM(DT10:DT13) -> 0 | DU15: =SUM(DU10:DU14) -> 0 | DV15: =SUM(DV10:DV13) -> 0 | DW15: =SUM(DW10:DW13) -> 0 | DX15: =SUM(DX10:DX13) -> 0 | DY15: =SUM(DY10:DY13) -> 0 | DZ15: =SUM(DZ10:DZ13) -> 0 | EA15: =SUM(EA10:EA14) -> 0 | EB15: =SUM(EB10:EB13) -> 0 | EC15: =SUM(EC10:EC13) -> 0 | ED15: =SUM(ED10:ED13) -> 0 | EE15: =SUM(EE10:EE13) -> 0 | EF15: =SUM(EF10:EF13) -> 0 | EG15: =SUM(EG10:EG14) -> 0 | EH15: =SUM(EH10:EH13) -> 0 | EI15: =SUM(EI10:EI13) -> 0 | EJ15: =SUM(EJ10:EJ14) -> 0 | EK15: =SUM(EK10:EK13) -> 0 | EL15: =SUM(EL10:EL13) -> 0 | EM15: =SUM(EM10:EM13) -> 0 | EN15: =SUM(EN10:EN13) -> 0 | EO15: =SUM(EO10:EO13) -> 0 | EP15: =SUM(EP10:EP14) -> 0 | EQ15: =SUM(EQ10:EQ13) -> 0 | ER15: =SUM(ER10:ER13) -> 0 | ES15: =SUM(ES10:ES13) -> 0 | ET15: =SUM(ET10:ET13) -> 0 | EU15: =SUM(EU10:EU13) -> 0 | EV15: =SUM(EV10:EV14) -> 0 | EW15: =SUM(EW10:EW13) -> 0 | EX15: =SUM(EX10:EX13) -> 0 | EY15: =SUM(EY10:EY14) -> 0 | EZ15: =SUM(EZ10:EZ13) -> 0 | FA15: =SUM(FA10:FA13) -> 0 | FB15: =SUM(FB10:FB13) -> 0 | FC15: =SUM(FC10:FC13) -> 0 | FD15: =SUM(FD10:FD13) -> 0 | FE15: =SUM(FE10:FE14) -> 0 | FF15: =SUM(FF10:FF13) -> 0 | FG15: =SUM(FG10:FG13) -> 0 | FH15: =SUM(FH10:FH13) -> 0 | FI15: =SUM(FI10:FI13) -> 0 | FJ15: =SUM(FJ10:FJ13) -> 0 | FK15: =SUM(FK10:FK14) -> 0 | FL15: =SUM(FL10:FL13) -> 0 | FM15: =SUM(FM10:FM13) -> 0 | FN15: =SUM(FN10:FN14) -> 0 | FO15: =SUM(FO10:FO13) -> 0 | FP15: =SUM(FP10:FP13) -> 0 | FQ15: =SUM(FQ10:FQ13) -> 0 | FR15: =SUM(FR10:FR13) -> 0 | FS15: =SUM(FS10:FS13) -> 0 | FT15: =SUM(FT10:FT14) -> 0 | FU15: =SUM(FU10:FU13) -> 0 | FV15: =SUM(FV10:FV13) -> 0 | FW15: =SUM(FW10:FW13) -> 0 | FX15: =SUM(FX10:FX13) -> 0 | FY15: =SUM(FY10:FY13) -> 0 | FZ15: =SUM(FZ10:FZ14) -> 0 | GA15: =SUM(GA10:GA13) -> 0 | GB15: =SUM(GB10:GB13) -> 0 | GC15: =SUM(GC10:GC14) -> 0 | GD15: =SUM(GD10:GD13) -> 0 | GE15: =SUM(GE10:GE13) -> 0 | GF15: =SUM(GF10:GF13) -> 0 | GG15: =SUM(GG10:GG13) -> 0 | GH15: =SUM(GH10:GH13) -> 0 | GI15: =SUM(GI10:GI14) -> 0 | GJ15: =SUM(GJ10:GJ13) -> 0 | GK15: =SUM(GK10:GK13) -> 0 | GL15: =SUM(GL10:GL13) -> 0 | GM15: =SUM(GM10:GM13) -> 0 | GN15: =SUM(GN10:GN13) -> 0 | GO15: =SUM(GO10:GO14) -> 0 | GP15: =SUM(GP10:GP13) -> 0 | GQ15: =SUM(GQ10:GQ13) -> 0 | GR15: =SUM(GR10:GR14) -> 0 | GS15: =SUM(GS10:GS13) -> 0 | GT15: =SUM(GT10:GT13) -> 0 | GU15: =SUM(GU10:GU13) -> 0 | GV15: =SUM(GV10:GV13) -> 0 | GW15: =SUM(GW10:GW13) -> 0 | GX15: =SUM(GX10:GX14) -> 0 | GY15: =SUM(GY10:GY13) -> 0 | GZ15: =SUM(GZ10:GZ13) -> 0 | HA15: =SUM(HA10:HA13) -> 0 | HB15: =SUM(HB10:HB13) -> 0 | HC15: =SUM(HC10:HC13) -> 0 | HD15: =SUM(HD10:HD14) -> 0 | HE15: =SUM(HE10:HE13) -> 0 | HF15: =SUM(HF10:HF13) -> 0 | HG15: =SUM(HG10:HG14) -> 0 | HH15: =SUM(HH10:HH13) -> 0 | HI15: =SUM(HI10:HI13) -> 0 | HJ15: =SUM(HJ10:HJ13) -> 0 | HK15: =SUM(HK10:HK13) -> 0 | HL15: =SUM(HL10:HL13) -> 0 | HM15: =SUM(HM10:HM14) -> 0 | HN15: =SUM(HN10:HN13) -> 0 | HO15: =SUM(HO10:HO13) -> 0 | HP15: =SUM(HP10:HP13) -> 0 | HQ15: =SUM(HQ10:HQ13) -> 0 | HR15: =SUM(HR10:HR13) -> 0 | HS15: =SUM(HS10:HS14) -> 0 | HT15: =SUM(HT10:HT13) -> 0 | HU15: =SUM(HU10:HU13) -> 0 | HV15: =SUM(HV10:HV14) -> 0 | HW15: =SUM(HW10:HW13) -> 0 | HX15: =SUM(HX10:HX13) -> 0 | HY15: =SUM(HY10:HY13) -> 0 | HZ15: =SUM(HZ10:HZ13) -> 0 | IA15: =SUM(IA10:IA13) -> 0 | IB15: =SUM(IB10:IB14) -> 0 | IC15: =SUM(IC10:IC13) -> 0 | ID15: =SUM(ID10:ID13) -> 0 | IE15: =SUM(IE10:IE13) -> 0 | IF15: =SUM(IF10:IF13) -> 0 | IG15: =SUM(IG10:IG13) -> 0 | IH15: =SUM(IH10:IH14) -> 0 | II15: =SUM(II10:II13) -> 0 | IJ15: =SUM(IJ10:IJ13) -> 0 | IK15: =SUM(IK10:IK14) -> 0 | IL15: =SUM(IL10:IL13) -> 0 | IM15: =SUM(IM10:IM13) -> 0 | IN15: =SUM(IN10:IN13) -> 0 | IO15: =SUM(IO10:IO13) -> 0 | IP15: =SUM(IP10:IP13) -> 0 | IQ15: =SUM(IQ10:IQ14) -> 0 | IR15: =SUM(IR10:IR13) -> 0 | IS15: =SUM(IS10:IS13) -> 0 | IT15: =SUM(IT10:IT13) -> 0 | IU15: =SUM(IU10:IU13) -> 0 | IV15: =SUM(IV10:IV13) -> 0 | IW15: =SUM(IW10:IW14) -> 0 | IX15: =SUM(IX10:IX13) -> 0 | IY15: =SUM(IY10:IY13) -> 0 | IZ15: =SUM(IZ10:IZ14) -> 0 | JA15: =SUM(JA10:JA13) -> 0 | JB15: =SUM(JB10:JB13) -> 0 | JC15: =SUM(JC10:JC13) -> 0 | JD15: =SUM(JD10:JD13) -> 0 | JE15: =SUM(JE10:JE13) -> 0 | JF15: =SUM(JF10:JF14) -> 0 | JG15: =SUM(JG10:JG13) -> 0 | JH15: =SUM(JH10:JH13) -> 0 | JI15: =SUM(JI10:JI13) -> 0 | JJ15: =SUM(JJ10:JJ13) -> 0 | JK15: =SUM(JK10:JK13) -> 0 | JL15: =SUM(JL10:JL14) -> 0 | JM15: =SUM(JM10:JM13) -> 0 | JN15: =SUM(JN10:JN13) -> 0 | JO15: =SUM(JO10:JO14) -> 0 | JP15: =SUM(JP10:JP13) -> 0 | JQ15: =SUM(JQ10:JQ13) -> 0 | JR15: =SUM(JR10:JR13) -> 0 | JS15: =SUM(JS10:JS13) -> 0 | JT15: =SUM(JT10:JT13) -> 0 | JU15: =SUM(JU10:JU14) -> 0 | JV15: =SUM(JV10:JV13) -> 0 | JW15: =SUM(JW10:JW13) -> 0 | JX15: =SUM(JX10:JX13) -> 0 | JY15: =SUM(JY10:JY13) -> 0 | JZ15: =SUM(JZ10:JZ13) -> 0 | KA15: =SUM(KA10:KA14) -> 0 | KB15: =SUM(KB10:KB13) -> 0 | KC15: =SUM(KC10:KC13) -> 0 | KD15: =SUM(KD10:KD14) -> 0 | KE15: =SUM(KE10:KE13) -> 0 | KF15: =SUM(KF10:KF13) -> 0 | KG15: =SUM(KG10:KG13) -> 0 | KH15: =SUM(KH10:KH13) -> 0 | KI15: =SUM(KI10:KI13) -> 0 | KJ15: =SUM(KJ10:KJ14) -> 0 | KK15: =SUM(KK10:KK13) -> 0 | KL15: =SUM(KL10:KL13) -> 0 | KM15: =SUM(KM10:KM13) -> 0 | KN15: =SUM(KN10:KN13) -> 0 | KO15: =SUM(KO10:KO13) -> 0 | KP15: =SUM(KP10:KP14) -> 0 | KQ15: =SUM(KQ10:KQ13) -> 0 | KR15: =SUM(KR10:KR13) -> 0 | KS15: =SUM(KS10:KS14) -> 0 | KT15: =SUM(KT10:KT13) -> 0 | KU15: =SUM(KU10:KU13) -> 0 | KV15: =SUM(KV10:KV13) -> 0 | KW15: =SUM(KW10:KW13) -> 0 | KX15: =SUM(KX10:KX13) -> 0 | KY15: =SUM(KY10:KY14) -> 0 | KZ15: =SUM(KZ10:KZ13) -> 0 | LA15: =SUM(LA10:LA13) -> 0 | LB15: =SUM(LB10:LB13) -> 0 | LC15: =SUM(LC10:LC13) -> 0 | LD15: =SUM(LD10:LD13) -> 0 | LE15: =SUM(LE10:LE14) -> 0 | LF15: =SUM(LF10:LF13) -> 0 | LG15: =SUM(LG10:LG13) -> 0 | LH15: =SUM(LH10:LH14) -> 0 | LI15: =SUM(LI10:LI13) -> 0 | LJ15: =SUM(LJ10:LJ13) -> 0 | LK15: =SUM(LK10:LK13) -> 0 | LL15: =SUM(LL10:LL13) -> 0 | LM15: =SUM(LM10:LM13) -> 0 | LN15: =SUM(LN10:LN14) -> 0 | LO15: =SUM(LO10:LO13) -> 0 | LP15: =SUM(LP10:LP13) -> 0 | LQ15: =SUM(LQ10:LQ13) -> 0 | LR15: =SUM(LR10:LR13) -> 0 | LS15: =SUM(LS10:LS13) -> 0 | LT15: =SUM(LT10:LT14) -> 0 | LU15: =SUM(LU10:LU13) -> 0 | LV15: =SUM(LV10:LV13) -> 0 | LW15: =SUM(LW10:LW14) -> 0 | LX15: =SUM(LX10:LX13) -> 0 | LY15: =SUM(LY10:LY13) -> 0 | LZ15: =SUM(LZ10:LZ13) -> 0 | MA15: =SUM(MA10:MA13) -> 0 | MB15: =SUM(MB10:MB13) -> 0 | MC15: =SUM(MC10:MC14) -> 0 | MD15: =SUM(MD10:MD13) -> 0 | ME15: =SUM(ME10:ME13) -> 0 | MF15: =SUM(MF10:MF13) -> 0 | MG15: =SUM(MG10:MG13) -> 0 | MH15: =SUM(MH10:MH13) -> 0 | MI15: =SUM(MI10:MI14) -> 0 | MJ15: =SUM(MJ10:MJ13) -> 0 | MK15: =SUM(MK10:MK13) -> 0 | ML15: =SUM(ML10:ML14) -> 0 | MM15: =SUM(MM10:MM13) -> 0 | MN15: =SUM(MN10:MN13) -> 0 | MO15: =SUM(MO10:MO13) -> 0 | MP15: =SUM(MP10:MP13) -> 0 | MQ15: =SUM(MQ10:MQ13) -> 0 | MR15: =SUM(MR10:MR14) -> 0 | MS15: =SUM(MS10:MS13) -> 0 | MT15: =SUM(MT10:MT13) -> 0 | MU15: =SUM(MU10:MU13) -> 0 | MV15: =SUM(MV10:MV13) -> 0 | MW15: =SUM(MW10:MW13) -> 0 | MX15: =SUM(MX10:MX14) -> 0 | MY15: =SUM(MY10:MY13) -> 0 | MZ15: =SUM(MZ10:MZ13) -> 0 | NA15: =SUM(NA10:NA14) -> 0 | NB15: =SUM(NB10:NB13) -> 0 | NC15: =SUM(NC10:NC13) -> 0 | ND15: =SUM(ND10:ND13) -> 0
A16: Total Traités | D16: =SUM(D17:D19) -> 0 | E16: =E17+E23 -> 50 | F16: =F17+F23 -> 50 | G16: =G17+G23 -> 95 | H16: =H17+H23 -> 110 | I16: =I17+I23 -> 15 | J16: =J17+J23 -> 0 | K16: =K17+K23 -> 0 | L16: =L17+L23 -> 0 | ... ND16: =ND17+ND23 -> #N/A
A17: J | E17: =IF(WEEKDAY(E4,2)=5,(E10-HLOOKUP(E4+3,Journalier_HLV_Inter,8,FALSE)),IF(AND(WEEKDAY(E4,2)=1,COUNTIF(Jours_fériés,AND(E4+1,IE+2))),E10-HLOOKUP(E4+3,Journalier_HLV_Inter,8,FALSE),IF(AND(WEEKDAY(E4,2)=1,COUNTIF(Jours_fériés,E4+1)),E10-HLOOKUP(E4+2,Journalier_HLV_Inter,8,FALSE),IF(AND(WEEKDAY(E4,2)=2,COUNTIF(Jours_fériés,AND(E4+1,E4+2))),E10-HLOOKUP(E4+3,Journalier_HLV_Inter,8,FALSE),IF(AND(WEEKDAY(E4,2)=2,COUNTIF(Jours_fériés,E4+1)),E10-HLOOKUP(E4+2,Journalier_HLV_Inter,8,FALSE),IF(AND(WEEKDAY(E4,2)=3,COUNTIF(Jours_fériés,AND(E4+1,E4+2))),E10-HLOOKUP(E4+5,Journalier_HLV_Inter,8,FALSE),IF(AND(WEEKDAY(E4,2)=3,COUNTIF(Jours_fériés,E4+1)),E10-HLOOKUP(E4+2,Journalier_HLV_Inter,8,FALSE),IF(AND(WEEKDAY(E4,2)=4,COUNTIF(Jours_fériés,E4+1)),E10-HLOOKUP(E4+4,Journalier_HLV_Inter,8,FALSE),IF(AND(WEEKDAY(E4,2)=4,COUNTIF(Jours_fériés,AND(E4+1,E4+4))),E10-HLOOKUP(E4+5,Journalier_HLV_Inter,8,FALSE),IF(AND(WEEKDAY(E4,2)=5,COUNTIF(Jours_fériés,E4+3)),E10-HLOOKUP(E4+4,Journalier_HLV_Inter,8,FALSE),IF(COUNTIF(Week_end,E4),0,IF(COUNTIF(Jours_fériés,E4),0,E10-HLOOKUP(E4+1,Journalier_HLV_Inter,8,FALSE))))))))))))) -> 50 | F17: =IF(WEEKDAY(F4,2)=5,(F10-HLOOKUP(F4+3,Journalier_HLV_Inter,8,FALSE)),IF(AND(WEEKDAY(F4,2)=1,COUNTIF(Jours_fériés,AND(F4+1,IE+2))),F10-HLOOKUP(F4+3,Journalier_HLV_Inter,8,FALSE),IF(AND(WEEKDAY(F4,2)=1,COUNTIF(Jours_fériés,F4+1)),F10-HLOOKUP(F4+2,Journalier_HLV_Inter,8,FALSE),IF(AND(WEEKDAY(F4,2)=2,COUNTIF(Jours_fériés,AND(F4+1,F4+2))),F10-HLOOKUP(F4+3,Journalier_HLV_Inter,8,FALSE),IF(AND(WEEKDAY(F4,2)=2,COUNTIF(Jours_fériés,F4+1)),F10-HLOOKUP(F4+2,Journalier_HLV_Inter,8,FALSE),IF(AND(WEEKDAY(F4,2)=3,COUNTIF(Jours_fériés,AND(F4+1,F4+2))),F10-HLOOKUP(F4+5,Journalier_HLV_Inter,8,FALSE),IF(AND(WEEKDAY(F4,2)=3,COUNTIF(Jours_fériés,F4+1)),F10-HLOOKUP(F4+2,Journalier_HLV_Inter,8,FALSE),IF(AND(WEEKDAY(F4,2)=4,COUNTIF(Jours_fériés,F4+1)),F10-HLOOKUP(F4+4,Journalier_HLV_Inter,8,FALSE),IF(AND(WEEKDAY(F4,2)=4,COUNTIF(Jours_fériés,AND(F4+1,F4+4))),F10-HLOOKUP(F4+5,Journalier_HLV_Inter,8,FALSE),IF(AND(WEEKDAY(F4,2)=5,COUNTIF(Jours_fériés,F4+3)),F10-HLOOKUP(F4+4,Journalier_HLV_Inter,8,FALSE),IF(COUNTIF(Week_end,F4),0,IF(COUNTIF(Jours_fériés,F4),0,F10-HLOOKUP(F4+1,Journalier_HLV_Inter,8,FALSE))))))))))))) -> 40 | G17: =IF(WEEKDAY(G4,2)=5,(G10-HLOOKUP(G4+3,Journalier_HLV_Inter,8,FALSE)),IF(AND(WEEKDAY(G4,2)=1,COUNTIF(Jours_fériés,AND(G4+1,IE+2))),G10-HLOOKUP(G4+3,Journalier_HLV_Inter,8,FALSE),IF(AND(WEEKDAY(G4,2)=1,COUNTIF(Jours_fériés,G4+1)),G10-HLOOKUP(G4+2,Journalier_HLV_Inter,8,FALSE),IF(AND(WEEKDAY(G4,2)=2,COUNTIF(Jours_fériés,AND(G4+1,G4+2))),G10-HLOOKUP(G4+3,Journalier_HLV_Inter,8,FALSE),IF(AND(WEEKDAY(G4,2)=2,COUNTIF(Jours_fériés,G4+1)),G10-HLOOKUP(G4+2,Journalier_HLV_Inter,8,FALSE),IF(AND(WEEKDAY(G4,2)=3,COUNTIF(Jours_fériés,AND(G4+1,G4+2))),G10-HLOOKUP(G4+5,Journalier_HLV_Inter,8,FALSE),IF(AND(WEEKDAY(G4,2)=3,COUNTIF(Jours_fériés,G4+1)),G10-HLOOKUP(G4+2,Journalier_HLV_Inter,8,FALSE),IF(AND(WEEKDAY(G4,2)=4,COUNTIF(Jours_fériés,G4+1)),G10-HLOOKUP(G4+4,Journalier_HLV_Inter,8,FALSE),IF(AND(WEEKDAY(G4,2)=4,COUNTIF(Jours_fériés,AND(G4+1,G4+4))),G10-HLOOKUP(G4+5,Journalier_HLV_Inter,8,FALSE),IF(AND(WEEKDAY(G4,2)=5,COUNTIF(Jours_fériés,G4+3)),G10-HLOOKUP(G4+4,Journalier_HLV_Inter,8,FALSE),IF(COUNTIF(Week_end,G4),0,IF(COUNTIF(Jours_fériés,G4),0,G10-HLOOKUP(G4+1,Journalier_HLV_Inter,8,FALSE))))))))))))) -> 40 | H17: =IF(WEEKDAY(H4,2)=5,(H10-HLOOKUP(H4+3,Journalier_HLV_Inter,8,FALSE)),IF(AND(WEEKDAY(H4,2)=1,COUNTIF(Jours_fériés,AND(H4+1,IE+2))),H10-HLOOKUP(H4+3,Journalier_HLV_Inter,8,FALSE),IF(AND(WEEKDAY(H4,2)=1,COUNTIF(Jours_fériés,H4+1)),H10-HLOOKUP(H4+2,Journalier_HLV_Inter,8,FALSE),IF(AND(WEEKDAY(H4,2)=2,COUNTIF(Jours_fériés,AND(H4+1,H4+2))),H10-HLOOKUP(H4+3,Journalier_HLV_Inter,8,FALSE),IF(AND(WEEKDAY(H4,2)=2,COUNTIF(Jours_fériés,H4+1)),H10-HLOOKUP(H4+2,Journalier_HLV_Inter,8,FALSE),IF(AND(WEEKDAY(H4,2)=3,COUNTIF(Jours_fériés,AND(H4+1,H4+2))),H10-HLOOKUP(H4+5,Journalier_HLV_Inter,8,FALSE),IF(AND(WEEKDAY(H4,2)=3,COUNTIF(Jours_fériés,H4+1)),H10-HLOOKUP(H4+2,Journalier_HLV_Inter,8,FALSE),IF(AND(WEEKDAY(H4,2)=4,COUNTIF(Jours_fériés,H4+1)),H10-HLOOKUP(H4+4,Journalier_HLV_Inter,8,FALSE),IF(AND(WEEKDAY(H4,2)=4,COUNTIF(Jours_fériés,AND(H4+1,H4+4))),H10-HLOOKUP(H4+5,Journalier_HLV_Inter,8,FALSE),IF(AND(WEEKDAY(H4,2)=5,COUNTIF(Jours_fériés,H4+3)),H10-HLOOKUP(H4+4,Journalier_HLV_Inter,8,FALSE),IF(COUNTIF(Week_end,H4),0,IF(COUNTIF(Jours_fériés,H4),0,H10-HLOOKUP(H4+1,Journalier_HLV_Inter,8,FALSE))))))))))))) -> 70 | I17: =IF(WEEKDAY(I4,2)=5,(I10-HLOOKUP(I4+3,Journalier_HLV_Inter,8,FALSE)),IF(AND(WEEKDAY(I4,2)=1,COUNTIF(Jours_fériés,AND(I4+1,IE+2))),I10-HLOOKUP(I4+3,Journalier_HLV_Inter,8,FALSE),IF(AND(WEEKDAY(I4,2)=1,COUNTIF(Jours_fériés,I4+1)),I10-HLOOKUP(I4+2,Journalier_HLV_Inter,8,FALSE),IF(AND(WEEKDAY(I4,2)=2,COUNTIF(Jours_fériés,AND(I4+1,I4+2))),I10-HLOOKUP(I4+3,Journalier_HLV_Inter,8,FALSE),IF(AND(WEEKDAY(I4,2)=2,COUNTIF(Jours_fériés,I4+1)),I10-HLOOKUP(I4+2,Journalier_HLV_Inter,8,FALSE),IF(AND(WEEKDAY(I4,2)=3,COUNTIF(Jours_fériés,AND(I4+1,I4+2))),I10-HLOOKUP(I4+5,Journalier_HLV_Inter,8,FALSE),IF(AND(WEEKDAY(I4,2)=3,COUNTIF(Jours_fériés,I4+1)),I10-HLOOKUP(I4+2,Journalier_HLV_Inter,8,FALSE),IF(AND(WEEKDAY(I4,2)=4,COUNTIF(Jours_fériés,I4+1)),I10-HLOOKUP(I4+4,Journalier_HLV_Inter,8,FALSE),IF(AND(WEEKDAY(I4,2)=4,COUNTIF(Jours_fériés,AND(I4+1,I4+4))),I10-HLOOKUP(I4+5,Journalier_HLV_Inter,8,FALSE),IF(AND(WEEKDAY(I4,2)=5,COUNTIF(Jours_fériés,I4+3)),I10-HLOOKUP(I4+4,Journalier_HLV_Inter,8,FALSE),IF(COUNTIF(Week_end,I4),0,IF(COUNTIF(Jours_fériés,I4),0,I10-HLOOKUP(I4+1,Journalier_HLV_Inter,8,FALSE))))))))))))) -> 0 | J17: =IF(WEEKDAY(J4,2)=5,(J10-HLOOKUP(J4+3,Journalier_HLV_Inter,8,FALSE)),IF(AND(WEEKDAY(J4,2)=1,COUNTIF(Jours_fériés,AND(J4+1,IE+2))),J10-HLOOKUP(J4+3,Journalier_HLV_Inter,8,FALSE),IF(AND(WEEKDAY(J4,2)=1,COUNTIF(Jours_fériés,J4+1)),J10-HLOOKUP(J4+2,Journalier_HLV_Inter,8,FALSE),IF(AND(WEEKDAY(J4,2)=2,COUNTIF(Jours_fériés,AND(J4+1,J4+2))),J10-HLOOKUP(J4+3,Journalier_HLV_Inter,8,FALSE),IF(AND(WEEKDAY(J4,2)=2,COUNTIF(Jours_fériés,J4+1)),J10-HLOOKUP(J4+2,Journalier_HLV_Inter,8,FALSE),IF(AND(WEEKDAY(J4,2)=3,COUNTIF(Jours_fériés,AND(J4+1,J4+2))),J10-HLOOKUP(J4+5,Journalier_HLV_Inter,8,FALSE),IF(AND(WEEKDAY(J4,2)=3,COUNTIF(Jours_fériés,J4+1)),J10-HLOOKUP(J4+2,Journalier_HLV_Inter,8,FALSE),IF(AND(WEEKDAY(J4,2)=4,COUNTIF(Jours_fériés,J4+1)),J10-HLOOKUP(J4+4,Journalier_HLV_Inter,8,FALSE),IF(AND(WEEKDAY(J4,2)=4,COUNTIF(Jours_fériés,AND(J4+1,J4+4))),J10-HLOOKUP(J4+5,Journalier_HLV_Inter,8,FALSE),IF(AND(WEEKDAY(J4,2)=5,COUNTIF(Jours_fériés,J4+3)),J10-HLOOKUP(J4+4,Journalier_HLV_Inter,8,FALSE),IF(COUNTIF(Week_end,J4),0,IF(COUNTIF(Jours_fériés,J4),0,J10-HLOOKUP(J4+1,Journalier_HLV_Inter,8,FALSE))))))))))))) -> 0 | K17: =IF(WEEKDAY(K4,2)=5,(K10-HLOOKUP(K4+3,Journalier_HLV_Inter,8,FALSE)),IF(AND(WEEKDAY(K4,2)=1,COUNTIF(Jours_fériés,AND(K4+1,IE+2))),K10-HLOOKUP(K4+3,Journalier_HLV_Inter,8,FALSE),IF(AND(WEEKDAY(K4,2)=1,COUNTIF(Jours_fériés,K4+1)),K10-HLOOKUP(K4+2,Journalier_HLV_Inter,8,FALSE),IF(AND(WEEKDAY(K4,2)=2,COUNTIF(Jours_fériés,AND(K4+1,K4+2))),K10-HLOOKUP(K4+3,Journalier_HLV_Inter,8,FALSE),IF(AND(WEEKDAY(K4,2)=2,COUNTIF(Jours_fériés,K4+1)),K10-HLOOKUP(K4+2,Journalier_HLV_Inter,8,FALSE),IF(AND(WEEKDAY(K4,2)=3,COUNTIF(Jours_fériés,AND(K4+1,K4+2))),K10-HLOOKUP(K4+5,Journalier_HLV_Inter,8,FALSE),IF(AND(WEEKDAY(K4,2)=3,COUNTIF(Jours_fériés,K4+1)),K10-HLOOKUP(K4+2,Journalier_HLV_Inter,8,FALSE),IF(AND(WEEKDAY(K4,2)=4,COUNTIF(Jours_fériés,K4+1)),K10-HLOOKUP(K4+4,Journalier_HLV_Inter,8,FALSE),IF(AND(WEEKDAY(K4,2)=4,COUNTIF(Jours_fériés,AND(K4+1,K4+4))),K10-HLOOKUP(K4+5,Journalier_HLV_Inter,8,FALSE),IF(AND(WEEKDAY(K4,2)=5,COUNTIF(Jours_fériés,K4+3)),K10-HLOOKUP(K4+4,Journalier_HLV_Inter,8,FALSE),IF(COUNTIF(Week_end,K4),0,IF(COUNTIF(Jours_fériés,K4),0,K10-HLOOKUP(K4+1,Journalier_HLV_Inter,8,FALSE))))))))))))) -> 0 | L17: =IF(WEEKDAY(L4,2)=5,(L10-HLOOKUP(L4+3,Journalier_HLV_Inter,8,FALSE)),IF(AND(WEEKDAY(L4,2)=1,COUNTIF(Jours_fériés,AND(L4+1,IE+2))),L10-HLOOKUP(L4+3,Journalier_HLV_Inter,8,FALSE),IF(AND(WEEKDAY(L4,2)=1,COUNTIF(Jours_fériés,L4+1)),L10-HLOOKUP(L4+2,Journalier_HLV_Inter,8,FALSE),IF(AND(WEEKDAY(L4,2)=2,COUNTIF(Jours_fériés,AND(L4+1,L4+2))),L10-HLOOKUP(L4+3,Journalier_HLV_Inter,8,FALSE),IF(AND(WEEKDAY(L4,2)=2,COUNTIF(Jours_fériés,L4+1)),L10-HLOOKUP(L4+2,Journalier_HLV_Inter,8,FALSE),IF(AND(WEEKDAY(L4,2)=3,COUNTIF(Jours_fériés,AND(L4+1,L4+2))),L10-HLOOKUP(L4+5,Journalier_HLV_Inter,8,FALSE),IF(AND(WEEKDAY(L4,2)=3,COUNTIF(Jours_fériés,L4+1)),L10-HLOOKUP(L4+2,Journalier_HLV_Inter,8,FALSE),IF(AND(WEEKDAY(L4,2)=4,COUNTIF(Jours_fériés,L4+1)),L10-HLOOKUP(L4+4,Journalier_HLV_Inter,8,FALSE),IF(AND(WEEKDAY(L4,2)=4,COUNTIF(Jours_fériés,AND(L4+1,L4+4))),L10-HLOOKUP(L4+5,Journalier_HLV_Inter,8,FALSE),IF(AND(WEEKDAY(L4,2)=5,COUNTIF(Jours_fériés,L4+3)),L10-HLOOKUP(L4+4,Journalier_HLV_Inter,8,FALSE),IF(COUNTIF(Week_end,L4),0,IF(COUNTIF(Jours_fériés,L4),0,L10-HLOOKUP(L4+1,Journalier_HLV_Inter,8,FALSE))))))))))))) -> 0 | ... ND17: =IF(WEEKDAY(ND4,2)=5,(ND10-HLOOKUP(ND4+3,Journalier_HLV_Inter,8,FALSE)),IF(AND(WEEKDAY(ND4,2)=1,COUNTIF(Jours_fériés,AND(ND4+1,IE+2))),ND10-HLOOKUP(ND4+3,Journalier_HLV_Inter,8,FALSE),IF(AND(WEEKDAY(ND4,2)=1,COUNTIF(Jours_fériés,ND4+1)),ND10-HLOOKUP(ND4+2,Journalier_HLV_Inter,8,FALSE),IF(AND(WEEKDAY(ND4,2)=2,COUNTIF(Jours_fériés,AND(ND4+1,ND4+2))),ND10-HLOOKUP(ND4+3,Journalier_HLV_Inter,8,FALSE),IF(AND(WEEKDAY(ND4,2)=2,COUNTIF(Jours_fériés,ND4+1)),ND10-HLOOKUP(ND4+2,Journalier_HLV_Inter,8,FALSE),IF(AND(WEEKDAY(ND4,2)=3,COUNTIF(Jours_fériés,AND(ND4+1,ND4+2))),ND10-HLOOKUP(ND4+5,Journalier_HLV_Inter,8,FALSE),IF(AND(WEEKDAY(ND4,2)=3,COUNTIF(Jours_fériés,ND4+1)),ND10-HLOOKUP(ND4+2,Journalier_HLV_Inter,8,FALSE),IF(AND(WEEKDAY(ND4,2)=4,COUNTIF(Jours_fériés,ND4+1)),ND10-HLOOKUP(ND4+4,Journalier_HLV_Inter,8,FALSE),IF(AND(WEEKDAY(ND4,2)=4,COUNTIF(Jours_fériés,AND(ND4+1,ND4+4))),ND10-HLOOKUP(ND4+5,Journalier_HLV_Inter,8,FALSE),IF(AND(WEEKDAY(ND4,2)=5,COUNTIF(Jours_fériés,ND4+3)),ND10-HLOOKUP(ND4+4,Journalier_HLV_Inter,8,FALSE),IF(COUNTIF(Week_end,ND4),0,IF(COUNTIF(Jours_fériés,ND4),0,ND10-HLOOKUP(ND4+1,Journalier_HLV_Inter,8,FALSE))))))))))))) -> #N/A
A18: J+1 | E18: =IF(WEEKDAY(E4,2)=5,(HLOOKUP(E4+3,Journalier_HLV_Inter,8,FALSE)-HLOOKUP(E4+4,Journalier_HLV_Inter,9,FALSE)),IF(AND(WEEKDAY(E4,2)=1,COUNTIF(Jours_fériés,AND(E4+1,IE+2))),HLOOKUP(E4+3,Journalier_HLV_Inter,8,FALSE)-HLOOKUP(E4+4,Journalier_HLV_Inter,9,FALSE),IF(AND(WEEKDAY(E4,2)=1,COUNTIF(Jours_fériés,E4+1)),HLOOKUP(E4+2,Journalier_HLV_Inter,8,FALSE)-HLOOKUP(E4+3,Journalier_HLV_Inter,9,FALSE),IF(AND(WEEKDAY(E4,2)=1,COUNTIF(Jours_fériés,E4+2)),HLOOKUP(E4+1,Journalier_HLV_Inter,8,FALSE)-HLOOKUP(E4+3,Journalier_HLV_Inter,9,FALSE),IF(AND(WEEKDAY(E4,2)=2,COUNTIF(Jours_fériés,AND(E4+1,E4+2))),HLOOKUP(E4+3,Journalier_HLV_Inter,8,FALSE)-HLOOKUP(E4+4,Journalier_HLV_Inter,9,FALSE),IF(AND(WEEKDAY(E4,2)=2,COUNTIF(Jours_fériés,E4+1)),HLOOKUP(E4+2,Journalier_HLV_Inter,8,FALSE)-HLOOKUP(E4+3,Journalier_HLV_Inter,9,FALSE),IF(AND(WEEKDAY(E4,2)=2,COUNTIF(Jours_fériés,E4+2)),HLOOKUP(E4+1,Journalier_HLV_Inter,8,FALSE)-HLOOKUP(E4+3,Journalier_HLV_Inter,9,FALSE),IF(AND(WEEKDAY(E4,2)=3,COUNTIF(Jours_fériés,AND(E4+1,E4+2))),HLOOKUP(E4+3,Journalier_HLV_Inter,8,FALSE)-HLOOKUP(E4+4,Journalier_HLV_Inter,9,FALSE),IF(AND(WEEKDAY(E4,2)=3,COUNTIF(Jours_fériés,E4+1)),HLOOKUP(E4+2,Journalier_HLV_Inter,8,FALSE)-HLOOKUP(E4+3,Journalier_HLV_Inter,9,FALSE),IF(AND(WEEKDAY(E4,2)=3,COUNTIF(Jours_fériés,E4+2)),HLOOKUP(E4+1,Journalier_HLV_Inter,8,FALSE)-HLOOKUP(E4+5,Journalier_HLV_Inter,9,FALSE),IF(WEEKDAY(E4,2)=4,(HLOOKUP(E4+1,Journalier_HLV_Inter,8,FALSE)-HLOOKUP(E4+4,Journalier_HLV_Inter,9,FALSE)),IF(AND(WEEKDAY(E4,2)=4,COUNTIF(Jours_fériés,E4+1)),HLOOKUP(E4+4,Journalier_HLV_Inter,8,FALSE)-HLOOKUP(E4+5,Journalier_HLV_Inter,9,FALSE),IF(AND(WEEKDAY(E4,2)=4,COUNTIF(Jours_fériés,AND(E4+1,E4+4))),HLOOKUP(E4+5,Journalier_HLV_Inter,8,FALSE)-HLOOKUP(E4+6,Journalier_HLV_Inter,9,FALSE),IF(AND(WEEKDAY(E4,2)=4,COUNTIF(Jours_fériés,E4+4)),HLOOKUP(E4+1,Journalier_HLV_Inter,8,FALSE)-HLOOKUP(E4+5,Journalier_HLV_Inter,9,FALSE),IF(AND(WEEKDAY(E4,2)=5,COUNTIF(Jours_fériés,E4+3)),HLOOKUP(E4+4,Journalier_HLV_Inter,8,FALSE)-HLOOKUP(E4+5,Journalier_HLV_Inter,9,FALSE),IF(AND(WEEKDAY(E4,2)=5,COUNTIF(Jours_fériés,E4+4)),HLOOKUP(E4+3,Journalier_HLV_Inter,8,FALSE)-HLOOKUP(E4+5,Journalier_HLV_Inter,9,FALSE),IF(COUNTIF(Week_end,E4),0,IF(COUNTIF(Jours_fériés,E4),0,HLOOKUP(E4+1,Journalier_HLV_Inter,8,FALSE)-HLOOKUP(E4+2,Journalier_HLV_Inter,9,FALSE))))))))))))))))))) -> 10 | F18: =IF(WEEKDAY(F4,2)=5,(HLOOKUP(F4+3,Journalier_HLV_Inter,8,FALSE)-HLOOKUP(F4+4,Journalier_HLV_Inter,9,FALSE)),IF(AND(WEEKDAY(F4,2)=1,COUNTIF(Jours_fériés,AND(F4+1,IE+2))),HLOOKUP(F4+3,Journalier_HLV_Inter,8,FALSE)-HLOOKUP(F4+4,Journalier_HLV_Inter,9,FALSE),IF(AND(WEEKDAY(F4,2)=1,COUNTIF(Jours_fériés,F4+1)),HLOOKUP(F4+2,Journalier_HLV_Inter,8,FALSE)-HLOOKUP(F4+3,Journalier_HLV_Inter,9,FALSE),IF(AND(WEEKDAY(F4,2)=1,COUNTIF(Jours_fériés,F4+2)),HLOOKUP(F4+1,Journalier_HLV_Inter,8,FALSE)-HLOOKUP(F4+3,Journalier_HLV_Inter,9,FALSE),IF(AND(WEEKDAY(F4,2)=2,COUNTIF(Jours_fériés,AND(F4+1,F4+2))),HLOOKUP(F4+3,Journalier_HLV_Inter,8,FALSE)-HLOOKUP(F4+4,Journalier_HLV_Inter,9,FALSE),IF(AND(WEEKDAY(F4,2)=2,COUNTIF(Jours_fériés,F4+1)),HLOOKUP(F4+2,Journalier_HLV_Inter,8,FALSE)-HLOOKUP(F4+3,Journalier_HLV_Inter,9,FALSE),IF(AND(WEEKDAY(F4,2)=2,COUNTIF(Jours_fériés,F4+2)),HLOOKUP(F4+1,Journalier_HLV_Inter,8,FALSE)-HLOOKUP(F4+3,Journalier_HLV_Inter,9,FALSE),IF(AND(WEEKDAY(F4,2)=3,COUNTIF(Jours_fériés,AND(F4+1,F4+2))),HLOOKUP(F4+3,Journalier_HLV_Inter,8,FALSE)-HLOOKUP(F4+4,Journalier_HLV_Inter,9,FALSE),IF(AND(WEEKDAY(F4,2)=3,COUNTIF(Jours_fériés,F4+1)),HLOOKUP(F4+2,Journalier_HLV_Inter,8,FALSE)-HLOOKUP(F4+3,Journalier_HLV_Inter,9,FALSE),IF(AND(WEEKDAY(F4,2)=3,COUNTIF(Jours_fériés,F4+2)),HLOOKUP(F4+1,Journalier_HLV_Inter,8,FALSE)-HLOOKUP(F4+5,Journalier_HLV_Inter,9,FALSE),IF(WEEKDAY(F4,2)=4,(HLOOKUP(F4+1,Journalier_HLV_Inter,8,FALSE)-HLOOKUP(F4+4,Journalier_HLV_Inter,9,FALSE)),IF(AND(WEEKDAY(F4,2)=4,COUNTIF(Jours_fériés,F4+1)),HLOOKUP(F4+4,Journalier_HLV_Inter,8,FALSE)-HLOOKUP(F4+5,Journalier_HLV_Inter,9,FALSE),IF(AND(WEEKDAY(F4,2)=4,COUNTIF(Jours_fériés,AND(F4+1,F4+4))),HLOOKUP(F4+5,Journalier_HLV_Inter,8,FALSE)-HLOOKUP(F4+6,Journalier_HLV_Inter,9,FALSE),IF(AND(WEEKDAY(F4,2)=4,COUNTIF(Jours_fériés,F4+4)),HLOOKUP(F4+1,Journalier_HLV_Inter,8,FALSE)-HLOOKUP(F4+5,Journalier_HLV_Inter,9,FALSE),IF(AND(WEEKDAY(F4,2)=5,COUNTIF(Jours_fériés,F4+3)),HLOOKUP(F4+4,Journalier_HLV_Inter,8,FALSE)-HLOOKUP(F4+5,Journalier_HLV_Inter,9,FALSE),IF(AND(WEEKDAY(F4,2)=5,COUNTIF(Jours_fériés,F4+4)),HLOOKUP(F4+3,Journalier_HLV_Inter,8,FALSE)-HLOOKUP(F4+5,Journalier_HLV_Inter,9,FALSE),IF(COUNTIF(Week_end,F4),0,IF(COUNTIF(Jours_fériés,F4),0,HLOOKUP(F4+1,Journalier_HLV_Inter,8,FALSE)-HLOOKUP(F4+2,Journalier_HLV_Inter,9,FALSE))))))))))))))))))) -> 15 | G18: =IF(WEEKDAY(G4,2)=5,(HLOOKUP(G4+3,Journalier_HLV_Inter,8,FALSE)-HLOOKUP(G4+4,Journalier_HLV_Inter,9,FALSE)),IF(AND(WEEKDAY(G4,2)=1,COUNTIF(Jours_fériés,AND(G4+1,IE+2))),HLOOKUP(G4+3,Journalier_HLV_Inter,8,FALSE)-HLOOKUP(G4+4,Journalier_HLV_Inter,9,FALSE),IF(AND(WEEKDAY(G4,2)=1,COUNTIF(Jours_fériés,G4+1)),HLOOKUP(G4+2,Journalier_HLV_Inter,8,FALSE)-HLOOKUP(G4+3,Journalier_HLV_Inter,9,FALSE),IF(AND(WEEKDAY(G4,2)=1,COUNTIF(Jours_fériés,G4+2)),HLOOKUP(G4+1,Journalier_HLV_Inter,8,FALSE)-HLOOKUP(G4+3,Journalier_HLV_Inter,9,FALSE),IF(AND(WEEKDAY(G4,2)=2,COUNTIF(Jours_fériés,AND(G4+1,G4+2))),HLOOKUP(G4+3,Journalier_HLV_Inter,8,FALSE)-HLOOKUP(G4+4,Journalier_HLV_Inter,9,FALSE),IF(AND(WEEKDAY(G4,2)=2,COUNTIF(Jours_fériés,G4+1)),HLOOKUP(G4+2,Journalier_HLV_Inter,8,FALSE)-HLOOKUP(G4+3,Journalier_HLV_Inter,9,FALSE),IF(AND(WEEKDAY(G4,2)=2,COUNTIF(Jours_fériés,G4+2)),HLOOKUP(G4+1,Journalier_HLV_Inter,8,FALSE)-HLOOKUP(G4+3,Journalier_HLV_Inter,9,FALSE),IF(AND(WEEKDAY(G4,2)=3,COUNTIF(Jours_fériés,AND(G4+1,G4+2))),HLOOKUP(G4+3,Journalier_HLV_Inter,8,FALSE)-HLOOKUP(G4+4,Journalier_HLV_Inter,9,FALSE),IF(AND(WEEKDAY(G4,2)=3,COUNTIF(Jours_fériés,G4+1)),HLOOKUP(G4+2,Journalier_HLV_Inter,8,FALSE)-HLOOKUP(G4+3,Journalier_HLV_Inter,9,FALSE),IF(AND(WEEKDAY(G4,2)=3,COUNTIF(Jours_fériés,G4+2)),HLOOKUP(G4+1,Journalier_HLV_Inter,8,FALSE)-HLOOKUP(G4+5,Journalier_HLV_Inter,9,FALSE),IF(WEEKDAY(G4,2)=4,(HLOOKUP(G4+1,Journalier_HLV_Inter,8,FALSE)-HLOOKUP(G4+4,Journalier_HLV_Inter,9,FALSE)),IF(AND(WEEKDAY(G4,2)=4,COUNTIF(Jours_fériés,G4+1)),HLOOKUP(G4+4,Journalier_HLV_Inter,8,FALSE)-HLOOKUP(G4+5,Journalier_HLV_Inter,9,FALSE),IF(AND(WEEKDAY(G4,2)=4,COUNTIF(Jours_fériés,AND(G4+1,G4+4))),HLOOKUP(G4+5,Journalier_HLV_Inter,8,FALSE)-HLOOKUP(G4+6,Journalier_HLV_Inter,9,FALSE),IF(AND(WEEKDAY(G4,2)=4,COUNTIF(Jours_fériés,G4+4)),HLOOKUP(G4+1,Journalier_HLV_Inter,8,FALSE)-HLOOKUP(G4+5,Journalier_HLV_Inter,9,FALSE),IF(AND(WEEKDAY(G4,2)=5,COUNTIF(Jours_fériés,G4+3)),HLOOKUP(G4+4,Journalier_HLV_Inter,8,FALSE)-HLOOKUP(G4+5,Journalier_HLV_Inter,9,FALSE),IF(AND(WEEKDAY(G4,2)=5,COUNTIF(Jours_fériés,G4+4)),HLOOKUP(G4+3,Journalier_HLV_Inter,8,FALSE)-HLOOKUP(G4+5,Journalier_HLV_Inter,9,FALSE),IF(COUNTIF(Week_end,G4),0,IF(COUNTIF(Jours_fériés,G4),0,HLOOKUP(G4+1,Journalier_HLV_Inter,8,FALSE)-HLOOKUP(G4+2,Journalier_HLV_Inter,9,FALSE))))))))))))))))))) -> 15 | H18: =IF(WEEKDAY(H4,2)=5,(HLOOKUP(H4+3,Journalier_HLV_Inter,8,FALSE)-HLOOKUP(H4+4,Journalier_HLV_Inter,9,FALSE)),IF(AND(WEEKDAY(H4,2)=1,COUNTIF(Jours_fériés,AND(H4+1,IE+2))),HLOOKUP(H4+3,Journalier_HLV_Inter,8,FALSE)-HLOOKUP(H4+4,Journalier_HLV_Inter,9,FALSE),IF(AND(WEEKDAY(H4,2)=1,COUNTIF(Jours_fériés,H4+1)),HLOOKUP(H4+2,Journalier_HLV_Inter,8,FALSE)-HLOOKUP(H4+3,Journalier_HLV_Inter,9,FALSE),IF(AND(WEEKDAY(H4,2)=1,COUNTIF(Jours_fériés,H4+2)),HLOOKUP(H4+1,Journalier_HLV_Inter,8,FALSE)-HLOOKUP(H4+3,Journalier_HLV_Inter,9,FALSE),IF(AND(WEEKDAY(H4,2)=2,COUNTIF(Jours_fériés,AND(H4+1,H4+2))),HLOOKUP(H4+3,Journalier_HLV_Inter,8,FALSE)-HLOOKUP(H4+4,Journalier_HLV_Inter,9,FALSE),IF(AND(WEEKDAY(H4,2)=2,COUNTIF(Jours_fériés,H4+1)),HLOOKUP(H4+2,Journalier_HLV_Inter,8,FALSE)-HLOOKUP(H4+3,Journalier_HLV_Inter,9,FALSE),IF(AND(WEEKDAY(H4,2)=2,COUNTIF(Jours_fériés,H4+2)),HLOOKUP(H4+1,Journalier_HLV_Inter,8,FALSE)-HLOOKUP(H4+3,Journalier_HLV_Inter,9,FALSE),IF(AND(WEEKDAY(H4,2)=3,COUNTIF(Jours_fériés,AND(H4+1,H4+2))),HLOOKUP(H4+3,Journalier_HLV_Inter,8,FALSE)-HLOOKUP(H4+4,Journalier_HLV_Inter,9,FALSE),IF(AND(WEEKDAY(H4,2)=3,COUNTIF(Jours_fériés,H4+1)),HLOOKUP(H4+2,Journalier_HLV_Inter,8,FALSE)-HLOOKUP(H4+3,Journalier_HLV_Inter,9,FALSE),IF(AND(WEEKDAY(H4,2)=3,COUNTIF(Jours_fériés,H4+2)),HLOOKUP(H4+1,Journalier_HLV_Inter,8,FALSE)-HLOOKUP(H4+5,Journalier_HLV_Inter,9,FALSE),IF(WEEKDAY(H4,2)=4,(HLOOKUP(H4+1,Journalier_HLV_Inter,8,FALSE)-HLOOKUP(H4+4,Journalier_HLV_Inter,9,FALSE)),IF(AND(WEEKDAY(H4,2)=4,COUNTIF(Jours_fériés,H4+1)),HLOOKUP(H4+4,Journalier_HLV_Inter,8,FALSE)-HLOOKUP(H4+5,Journalier_HLV_Inter,9,FALSE),IF(AND(WEEKDAY(H4,2)=4,COUNTIF(Jours_fériés,AND(H4+1,H4+4))),HLOOKUP(H4+5,Journalier_HLV_Inter,8,FALSE)-HLOOKUP(H4+6,Journalier_HLV_Inter,9,FALSE),IF(AND(WEEKDAY(H4,2)=4,COUNTIF(Jours_fériés,H4+4)),HLOOKUP(H4+1,Journalier_HLV_Inter,8,FALSE)-HLOOKUP(H4+5,Journalier_HLV_Inter,9,FALSE),IF(AND(WEEKDAY(H4,2)=5,COUNTIF(Jours_fériés,H4+3)),HLOOKUP(H4+4,Journalier_HLV_Inter,8,FALSE)-HLOOKUP(H4+5,Journalier_HLV_Inter,9,FALSE),IF(AND(WEEKDAY(H4,2)=5,COUNTIF(Jours_fériés,H4+4)),HLOOKUP(H4+3,Journalier_HLV_Inter,8,FALSE)-HLOOKUP(H4+5,Journalier_HLV_Inter,9,FALSE),IF(COUNTIF(Week_end,H4),0,IF(COUNTIF(Jours_fériés,H4),0,HLOOKUP(H4+1,Journalier_HLV_Inter,8,FALSE)-HLOOKUP(H4+2,Journalier_HLV_Inter,9,FALSE))))))))))))))))))) -> 0 | I18: =IF(WEEKDAY(I4,2)=5,(HLOOKUP(I4+3,Journalier_HLV_Inter,8,FALSE)-HLOOKUP(I4+4,Journalier_HLV_Inter,9,FALSE)),IF(AND(WEEKDAY(I4,2)=1,COUNTIF(Jours_fériés,AND(I4+1,IE+2))),HLOOKUP(I4+3,Journalier_HLV_Inter,8,FALSE)-HLOOKUP(I4+4,Journalier_HLV_Inter,9,FALSE),IF(AND(WEEKDAY(I4,2)=1,COUNTIF(Jours_fériés,I4+1)),HLOOKUP(I4+2,Journalier_HLV_Inter,8,FALSE)-HLOOKUP(I4+3,Journalier_HLV_Inter,9,FALSE),IF(AND(WEEKDAY(I4,2)=1,COUNTIF(Jours_fériés,I4+2)),HLOOKUP(I4+1,Journalier_HLV_Inter,8,FALSE)-HLOOKUP(I4+3,Journalier_HLV_Inter,9,FALSE),IF(AND(WEEKDAY(I4,2)=2,COUNTIF(Jours_fériés,AND(I4+1,I4+2))),HLOOKUP(I4+3,Journalier_HLV_Inter,8,FALSE)-HLOOKUP(I4+4,Journalier_HLV_Inter,9,FALSE),IF(AND(WEEKDAY(I4,2)=2,COUNTIF(Jours_fériés,I4+1)),HLOOKUP(I4+2,Journalier_HLV_Inter,8,FALSE)-HLOOKUP(I4+3,Journalier_HLV_Inter,9,FALSE),IF(AND(WEEKDAY(I4,2)=2,COUNTIF(Jours_fériés,I4+2)),HLOOKUP(I4+1,Journalier_HLV_Inter,8,FALSE)-HLOOKUP(I4+3,Journalier_HLV_Inter,9,FALSE),IF(AND(WEEKDAY(I4,2)=3,COUNTIF(Jours_fériés,AND(I4+1,I4+2))),HLOOKUP(I4+3,Journalier_HLV_Inter,8,FALSE)-HLOOKUP(I4+4,Journalier_HLV_Inter,9,FALSE),IF(AND(WEEKDAY(I4,2)=3,COUNTIF(Jours_fériés,I4+1)),HLOOKUP(I4+2,Journalier_HLV_Inter,8,FALSE)-HLOOKUP(I4+3,Journalier_HLV_Inter,9,FALSE),IF(AND(WEEKDAY(I4,2)=3,COUNTIF(Jours_fériés,I4+2)),HLOOKUP(I4+1,Journalier_HLV_Inter,8,FALSE)-HLOOKUP(I4+5,Journalier_HLV_Inter,9,FALSE),IF(WEEKDAY(I4,2)=4,(HLOOKUP(I4+1,Journalier_HLV_Inter,8,FALSE)-HLOOKUP(I4+4,Journalier_HLV_Inter,9,FALSE)),IF(AND(WEEKDAY(I4,2)=4,COUNTIF(Jours_fériés,I4+1)),HLOOKUP(I4+4,Journalier_HLV_Inter,8,FALSE)-HLOOKUP(I4+5,Journalier_HLV_Inter,9,FALSE),IF(AND(WEEKDAY(I4,2)=4,COUNTIF(Jours_fériés,AND(I4+1,I4+4))),HLOOKUP(I4+5,Journalier_HLV_Inter,8,FALSE)-HLOOKUP(I4+6,Journalier_HLV_Inter,9,FALSE),IF(AND(WEEKDAY(I4,2)=4,COUNTIF(Jours_fériés,I4+4)),HLOOKUP(I4+1,Journalier_HLV_Inter,8,FALSE)-HLOOKUP(I4+5,Journalier_HLV_Inter,9,FALSE),IF(AND(WEEKDAY(I4,2)=5,COUNTIF(Jours_fériés,I4+3)),HLOOKUP(I4+4,Journalier_HLV_Inter,8,FALSE)-HLOOKUP(I4+5,Journalier_HLV_Inter,9,FALSE),IF(AND(WEEKDAY(I4,2)=5,COUNTIF(Jours_fériés,I4+4)),HLOOKUP(I4+3,Journalier_HLV_Inter,8,FALSE)-HLOOKUP(I4+5,Journalier_HLV_Inter,9,FALSE),IF(COUNTIF(Week_end,I4),0,IF(COUNTIF(Jours_fériés,I4),0,HLOOKUP(I4+1,Journalier_HLV_Inter,8,FALSE)-HLOOKUP(I4+2,Journalier_HLV_Inter,9,FALSE))))))))))))))))))) -> 0 | J18: =IF(WEEKDAY(J4,2)=5,(HLOOKUP(J4+3,Journalier_HLV_Inter,8,FALSE)-HLOOKUP(J4+4,Journalier_HLV_Inter,9,FALSE)),IF(AND(WEEKDAY(J4,2)=1,COUNTIF(Jours_fériés,AND(J4+1,IE+2))),HLOOKUP(J4+3,Journalier_HLV_Inter,8,FALSE)-HLOOKUP(J4+4,Journalier_HLV_Inter,9,FALSE),IF(AND(WEEKDAY(J4,2)=1,COUNTIF(Jours_fériés,J4+1)),HLOOKUP(J4+2,Journalier_HLV_Inter,8,FALSE)-HLOOKUP(J4+3,Journalier_HLV_Inter,9,FALSE),IF(AND(WEEKDAY(J4,2)=1,COUNTIF(Jours_fériés,J4+2)),HLOOKUP(J4+1,Journalier_HLV_Inter,8,FALSE)-HLOOKUP(J4+3,Journalier_HLV_Inter,9,FALSE),IF(AND(WEEKDAY(J4,2)=2,COUNTIF(Jours_fériés,AND(J4+1,J4+2))),HLOOKUP(J4+3,Journalier_HLV_Inter,8,FALSE)-HLOOKUP(J4+4,Journalier_HLV_Inter,9,FALSE),IF(AND(WEEKDAY(J4,2)=2,COUNTIF(Jours_fériés,J4+1)),HLOOKUP(J4+2,Journalier_HLV_Inter,8,FALSE)-HLOOKUP(J4+3,Journalier_HLV_Inter,9,FALSE),IF(AND(WEEKDAY(J4,2)=2,COUNTIF(Jours_fériés,J4+2)),HLOOKUP(J4+1,Journalier_HLV_Inter,8,FALSE)-HLOOKUP(J4+3,Journalier_HLV_Inter,9,FALSE),IF(AND(WEEKDAY(J4,2)=3,COUNTIF(Jours_fériés,AND(J4+1,J4+2))),HLOOKUP(J4+3,Journalier_HLV_Inter,8,FALSE)-HLOOKUP(J4+4,Journalier_HLV_Inter,9,FALSE),IF(AND(WEEKDAY(J4,2)=3,COUNTIF(Jours_fériés,J4+1)),HLOOKUP(J4+2,Journalier_HLV_Inter,8,FALSE)-HLOOKUP(J4+3,Journalier_HLV_Inter,9,FALSE),IF(AND(WEEKDAY(J4,2)=3,COUNTIF(Jours_fériés,J4+2)),HLOOKUP(J4+1,Journalier_HLV_Inter,8,FALSE)-HLOOKUP(J4+5,Journalier_HLV_Inter,9,FALSE),IF(WEEKDAY(J4,2)=4,(HLOOKUP(J4+1,Journalier_HLV_Inter,8,FALSE)-HLOOKUP(J4+4,Journalier_HLV_Inter,9,FALSE)),IF(AND(WEEKDAY(J4,2)=4,COUNTIF(Jours_fériés,J4+1)),HLOOKUP(J4+4,Journalier_HLV_Inter,8,FALSE)-HLOOKUP(J4+5,Journalier_HLV_Inter,9,FALSE),IF(AND(WEEKDAY(J4,2)=4,COUNTIF(Jours_fériés,AND(J4+1,J4+4))),HLOOKUP(J4+5,Journalier_HLV_Inter,8,FALSE)-HLOOKUP(J4+6,Journalier_HLV_Inter,9,FALSE),IF(AND(WEEKDAY(J4,2)=4,COUNTIF(Jours_fériés,J4+4)),HLOOKUP(J4+1,Journalier_HLV_Inter,8,FALSE)-HLOOKUP(J4+5,Journalier_HLV_Inter,9,FALSE),IF(AND(WEEKDAY(J4,2)=5,COUNTIF(Jours_fériés,J4+3)),HLOOKUP(J4+4,Journalier_HLV_Inter,8,FALSE)-HLOOKUP(J4+5,Journalier_HLV_Inter,9,FALSE),IF(AND(WEEKDAY(J4,2)=5,COUNTIF(Jours_fériés,J4+4)),HLOOKUP(J4+3,Journalier_HLV_Inter,8,FALSE)-HLOOKUP(J4+5,Journalier_HLV_Inter,9,FALSE),IF(COUNTIF(Week_end,J4),0,IF(COUNTIF(Jours_fériés,J4),0,HLOOKUP(J4+1,Journalier_HLV_Inter,8,FALSE)-HLOOKUP(J4+2,Journalier_HLV_Inter,9,FALSE))))))))))))))))))) -> 0 | K18: =IF(WEEKDAY(K4,2)=5,(HLOOKUP(K4+3,Journalier_HLV_Inter,8,FALSE)-HLOOKUP(K4+4,Journalier_HLV_Inter,9,FALSE)),IF(AND(WEEKDAY(K4,2)=1,COUNTIF(Jours_fériés,AND(K4+1,IE+2))),HLOOKUP(K4+3,Journalier_HLV_Inter,8,FALSE)-HLOOKUP(K4+4,Journalier_HLV_Inter,9,FALSE),IF(AND(WEEKDAY(K4,2)=1,COUNTIF(Jours_fériés,K4+1)),HLOOKUP(K4+2,Journalier_HLV_Inter,8,FALSE)-HLOOKUP(K4+3,Journalier_HLV_Inter,9,FALSE),IF(AND(WEEKDAY(K4,2)=1,COUNTIF(Jours_fériés,K4+2)),HLOOKUP(K4+1,Journalier_HLV_Inter,8,FALSE)-HLOOKUP(K4+3,Journalier_HLV_Inter,9,FALSE),IF(AND(WEEKDAY(K4,2)=2,COUNTIF(Jours_fériés,AND(K4+1,K4+2))),HLOOKUP(K4+3,Journalier_HLV_Inter,8,FALSE)-HLOOKUP(K4+4,Journalier_HLV_Inter,9,FALSE),IF(AND(WEEKDAY(K4,2)=2,COUNTIF(Jours_fériés,K4+1)),HLOOKUP(K4+2,Journalier_HLV_Inter,8,FALSE)-HLOOKUP(K4+3,Journalier_HLV_Inter,9,FALSE),IF(AND(WEEKDAY(K4,2)=2,COUNTIF(Jours_fériés,K4+2)),HLOOKUP(K4+1,Journalier_HLV_Inter,8,FALSE)-HLOOKUP(K4+3,Journalier_HLV_Inter,9,FALSE),IF(AND(WEEKDAY(K4,2)=3,COUNTIF(Jours_fériés,AND(K4+1,K4+2))),HLOOKUP(K4+3,Journalier_HLV_Inter,8,FALSE)-HLOOKUP(K4+4,Journalier_HLV_Inter,9,FALSE),IF(AND(WEEKDAY(K4,2)=3,COUNTIF(Jours_fériés,K4+1)),HLOOKUP(K4+2,Journalier_HLV_Inter,8,FALSE)-HLOOKUP(K4+3,Journalier_HLV_Inter,9,FALSE),IF(AND(WEEKDAY(K4,2)=3,COUNTIF(Jours_fériés,K4+2)),HLOOKUP(K4+1,Journalier_HLV_Inter,8,FALSE)-HLOOKUP(K4+5,Journalier_HLV_Inter,9,FALSE),IF(WEEKDAY(K4,2)=4,(HLOOKUP(K4+1,Journalier_HLV_Inter,8,FALSE)-HLOOKUP(K4+4,Journalier_HLV_Inter,9,FALSE)),IF(AND(WEEKDAY(K4,2)=4,COUNTIF(Jours_fériés,K4+1)),HLOOKUP(K4+4,Journalier_HLV_Inter,8,FALSE)-HLOOKUP(K4+5,Journalier_HLV_Inter,9,FALSE),IF(AND(WEEKDAY(K4,2)=4,COUNTIF(Jours_fériés,AND(K4+1,K4+4))),HLOOKUP(K4+5,Journalier_HLV_Inter,8,FALSE)-HLOOKUP(K4+6,Journalier_HLV_Inter,9,FALSE),IF(AND(WEEKDAY(K4,2)=4,COUNTIF(Jours_fériés,K4+4)),HLOOKUP(K4+1,Journalier_HLV_Inter,8,FALSE)-HLOOKUP(K4+5,Journalier_HLV_Inter,9,FALSE),IF(AND(WEEKDAY(K4,2)=5,COUNTIF(Jours_fériés,K4+3)),HLOOKUP(K4+4,Journalier_HLV_Inter,8,FALSE)-HLOOKUP(K4+5,Journalier_HLV_Inter,9,FALSE),IF(AND(WEEKDAY(K4,2)=5,COUNTIF(Jours_fériés,K4+4)),HLOOKUP(K4+3,Journalier_HLV_Inter,8,FALSE)-HLOOKUP(K4+5,Journalier_HLV_Inter,9,FALSE),IF(COUNTIF(Week_end,K4),0,IF(COUNTIF(Jours_fériés,K4),0,HLOOKUP(K4+1,Journalier_HLV_Inter,8,FALSE)-HLOOKUP(K4+2,Journalier_HLV_Inter,9,FALSE))))))))))))))))))) -> 0 | L18: =IF(WEEKDAY(L4,2)=5,(HLOOKUP(L4+3,Journalier_HLV_Inter,8,FALSE)-HLOOKUP(L4+4,Journalier_HLV_Inter,9,FALSE)),IF(AND(WEEKDAY(L4,2)=1,COUNTIF(Jours_fériés,AND(L4+1,IE+2))),HLOOKUP(L4+3,Journalier_HLV_Inter,8,FALSE)-HLOOKUP(L4+4,Journalier_HLV_Inter,9,FALSE),IF(AND(WEEKDAY(L4,2)=1,COUNTIF(Jours_fériés,L4+1)),HLOOKUP(L4+2,Journalier_HLV_Inter,8,FALSE)-HLOOKUP(L4+3,Journalier_HLV_Inter,9,FALSE),IF(AND(WEEKDAY(L4,2)=1,COUNTIF(Jours_fériés,L4+2)),HLOOKUP(L4+1,Journalier_HLV_Inter,8,FALSE)-HLOOKUP(L4+3,Journalier_HLV_Inter,9,FALSE),IF(AND(WEEKDAY(L4,2)=2,COUNTIF(Jours_fériés,AND(L4+1,L4+2))),HLOOKUP(L4+3,Journalier_HLV_Inter,8,FALSE)-HLOOKUP(L4+4,Journalier_HLV_Inter,9,FALSE),IF(AND(WEEKDAY(L4,2)=2,COUNTIF(Jours_fériés,L4+1)),HLOOKUP(L4+2,Journalier_HLV_Inter,8,FALSE)-HLOOKUP(L4+3,Journalier_HLV_Inter,9,FALSE),IF(AND(WEEKDAY(L4,2)=2,COUNTIF(Jours_fériés,L4+2)),HLOOKUP(L4+1,Journalier_HLV_Inter,8,FALSE)-HLOOKUP(L4+3,Journalier_HLV_Inter,9,FALSE),IF(AND(WEEKDAY(L4,2)=3,COUNTIF(Jours_fériés,AND(L4+1,L4+2))),HLOOKUP(L4+3,Journalier_HLV_Inter,8,FALSE)-HLOOKUP(L4+4,Journalier_HLV_Inter,9,FALSE),IF(AND(WEEKDAY(L4,2)=3,COUNTIF(Jours_fériés,L4+1)),HLOOKUP(L4+2,Journalier_HLV_Inter,8,FALSE)-HLOOKUP(L4+3,Journalier_HLV_Inter,9,FALSE),IF(AND(WEEKDAY(L4,2)=3,COUNTIF(Jours_fériés,L4+2)),HLOOKUP(L4+1,Journalier_HLV_Inter,8,FALSE)-HLOOKUP(L4+5,Journalier_HLV_Inter,9,FALSE),IF(WEEKDAY(L4,2)=4,(HLOOKUP(L4+1,Journalier_HLV_Inter,8,FALSE)-HLOOKUP(L4+4,Journalier_HLV_Inter,9,FALSE)),IF(AND(WEEKDAY(L4,2)=4,COUNTIF(Jours_fériés,L4+1)),HLOOKUP(L4+4,Journalier_HLV_Inter,8,FALSE)-HLOOKUP(L4+5,Journalier_HLV_Inter,9,FALSE),IF(AND(WEEKDAY(L4,2)=4,COUNTIF(Jours_fériés,AND(L4+1,L4+4))),HLOOKUP(L4+5,Journalier_HLV_Inter,8,FALSE)-HLOOKUP(L4+6,Journalier_HLV_Inter,9,FALSE),IF(AND(WEEKDAY(L4,2)=4,COUNTIF(Jours_fériés,L4+4)),HLOOKUP(L4+1,Journalier_HLV_Inter,8,FALSE)-HLOOKUP(L4+5,Journalier_HLV_Inter,9,FALSE),IF(AND(WEEKDAY(L4,2)=5,COUNTIF(Jours_fériés,L4+3)),HLOOKUP(L4+4,Journalier_HLV_Inter,8,FALSE)-HLOOKUP(L4+5,Journalier_HLV_Inter,9,FALSE),IF(AND(WEEKDAY(L4,2)=5,COUNTIF(Jours_fériés,L4+4)),HLOOKUP(L4+3,Journalier_HLV_Inter,8,FALSE)-HLOOKUP(L4+5,Journalier_HLV_Inter,9,FALSE),IF(COUNTIF(Week_end,L4),0,IF(COUNTIF(Jours_fériés,L4),0,HLOOKUP(L4+1,Journalier_HLV_Inter,8,FALSE)-HLOOKUP(L4+2,Journalier_HLV_Inter,9,FALSE))))))))))))))))))) -> 0 | ... ND18: =IF(WEEKDAY(ND4,2)=5,(HLOOKUP(ND4+3,Journalier_HLV_Inter,8,FALSE)-HLOOKUP(ND4+4,Journalier_HLV_Inter,9,FALSE)),IF(AND(WEEKDAY(ND4,2)=1,COUNTIF(Jours_fériés,AND(ND4+1,IE+2))),HLOOKUP(ND4+3,Journalier_HLV_Inter,8,FALSE)-HLOOKUP(ND4+4,Journalier_HLV_Inter,9,FALSE),IF(AND(WEEKDAY(ND4,2)=1,COUNTIF(Jours_fériés,ND4+1)),HLOOKUP(ND4+2,Journalier_HLV_Inter,8,FALSE)-HLOOKUP(ND4+3,Journalier_HLV_Inter,9,FALSE),IF(AND(WEEKDAY(ND4,2)=1,COUNTIF(Jours_fériés,ND4+2)),HLOOKUP(ND4+1,Journalier_HLV_Inter,8,FALSE)-HLOOKUP(ND4+3,Journalier_HLV_Inter,9,FALSE),IF(AND(WEEKDAY(ND4,2)=2,COUNTIF(Jours_fériés,AND(ND4+1,ND4+2))),HLOOKUP(ND4+3,Journalier_HLV_Inter,8,FALSE)-HLOOKUP(ND4+4,Journalier_HLV_Inter,9,FALSE),IF(AND(WEEKDAY(ND4,2)=2,COUNTIF(Jours_fériés,ND4+1)),HLOOKUP(ND4+2,Journalier_HLV_Inter,8,FALSE)-HLOOKUP(ND4+3,Journalier_HLV_Inter,9,FALSE),IF(AND(WEEKDAY(ND4,2)=2,COUNTIF(Jours_fériés,ND4+2)),HLOOKUP(ND4+1,Journalier_HLV_Inter,8,FALSE)-HLOOKUP(ND4+3,Journalier_HLV_Inter,9,FALSE),IF(AND(WEEKDAY(ND4,2)=3,COUNTIF(Jours_fériés,AND(ND4+1,ND4+2))),HLOOKUP(ND4+3,Journalier_HLV_Inter,8,FALSE)-HLOOKUP(ND4+4,Journalier_HLV_Inter,9,FALSE),IF(AND(WEEKDAY(ND4,2)=3,COUNTIF(Jours_fériés,ND4+1)),HLOOKUP(ND4+2,Journalier_HLV_Inter,8,FALSE)-HLOOKUP(ND4+3,Journalier_HLV_Inter,9,FALSE),IF(AND(WEEKDAY(ND4,2)=3,COUNTIF(Jours_fériés,ND4+2)),HLOOKUP(ND4+1,Journalier_HLV_Inter,8,FALSE)-HLOOKUP(ND4+5,Journalier_HLV_Inter,9,FALSE),IF(WEEKDAY(ND4,2)=4,(HLOOKUP(ND4+1,Journalier_HLV_Inter,8,FALSE)-HLOOKUP(ND4+4,Journalier_HLV_Inter,9,FALSE)),IF(AND(WEEKDAY(ND4,2)=4,COUNTIF(Jours_fériés,ND4+1)),HLOOKUP(ND4+4,Journalier_HLV_Inter,8,FALSE)-HLOOKUP(ND4+5,Journalier_HLV_Inter,9,FALSE),IF(AND(WEEKDAY(ND4,2)=4,COUNTIF(Jours_fériés,AND(ND4+1,ND4+4))),HLOOKUP(ND4+5,Journalier_HLV_Inter,8,FALSE)-HLOOKUP(ND4+6,Journalier_HLV_Inter,9,FALSE),IF(AND(WEEKDAY(ND4,2)=4,COUNTIF(Jours_fériés,ND4+4)),HLOOKUP(ND4+1,Journalier_HLV_Inter,8,FALSE)-HLOOKUP(ND4+5,Journalier_HLV_Inter,9,FALSE),IF(AND(WEEKDAY(ND4,2)=5,COUNTIF(Jours_fériés,ND4+3)),HLOOKUP(ND4+4,Journalier_HLV_Inter,8,FALSE)-HLOOKUP(ND4+5,Journalier_HLV_Inter,9,FALSE),IF(AND(WEEKDAY(ND4,2)=5,COUNTIF(Jours_fériés,ND4+4)),HLOOKUP(ND4+3,Journalier_HLV_Inter,8,FALSE)-HLOOKUP(ND4+5,Journalier_HLV_Inter,9,FALSE),IF(COUNTIF(Week_end,ND4),0,IF(COUNTIF(Jours_fériés,ND4),0,HLOOKUP(ND4+1,Journalier_HLV_Inter,8,FALSE)-HLOOKUP(ND4+2,Journalier_HLV_Inter,9,FALSE))))))))))))))))))) -> #N/A
A19: J+2 | E19: =IF(WEEKDAY(E4,2)=5,(HLOOKUP(E4+4,Journalier_HLV_Inter,9,FALSE)-HLOOKUP(E4+5,Journalier_HLV_Inter,10,FALSE)),IF(AND(WEEKDAY(E4,2)=1,COUNTIF(Jours_fériés,E4+2)),HLOOKUP(E4+3,Journalier_HLV_Inter,9,FALSE)-HLOOKUP(E4+4,Journalier_HLV_Inter,10,FALSE),IF(AND(WEEKDAY(E4,2)=1,COUNTIF(Jours_fériés,E4+3)),HLOOKUP(E4+2,Journalier_HLV_Inter,9,FALSE)-HLOOKUP(E4+4,Journalier_HLV_Inter,10,FALSE),IF(AND(WEEKDAY(E4,2)=2,COUNTIF(Jours_fériés,E4+2)),HLOOKUP(E4+3,Journalier_HLV_Inter,9,FALSE)-HLOOKUP(E4+6,Journalier_HLV_Inter,10,FALSE),IF(AND(WEEKDAY(E4,2)=2,COUNTIF(Jours_fériés,E4+3)),HLOOKUP(E4+2,Journalier_HLV_Inter,9,FALSE)-HLOOKUP(E4+6,Journalier_HLV_Inter,10,FALSE),IF(AND(WEEKDAY(E4,2)=3,COUNTIF(Jours_fériés,E4+2)),HLOOKUP(E4+5,Journalier_HLV_Inter,9,FALSE)-HLOOKUP(E4+6,Journalier_HLV_Inter,10,FALSE),IF(AND(WEEKDAY(E4,2)=3,COUNTIF(Jours_fériés,E4+5)),HLOOKUP(E4+2,Journalier_HLV_Inter,9,FALSE)-HLOOKUP(E4+6,Journalier_HLV_Inter,10,FALSE),IF(AND(WEEKDAY(E4,2)=3,COUNTIF(Jours_fériés,AND(E4+2,E4+5))),HLOOKUP(E4+6,Journalier_HLV_Inter,9,FALSE)-HLOOKUP(E4+7,Journalier_HLV_Inter,10,FALSE),IF(WEEKDAY(E4,2)=4,(HLOOKUP(E4+4,Journalier_HLV_Inter,9,FALSE)-HLOOKUP(E4+5,Journalier_HLV_Inter,10,FALSE)),IF(AND(WEEKDAY(E4,2)=4,COUNTIF(Jours_fériés,E4+4)),HLOOKUP(E4+6,Journalier_HLV_Inter,9,FALSE)-HLOOKUP(E4+7,Journalier_HLV_Inter,10,FALSE),IF(AND(WEEKDAY(E4,2)=4,COUNTIF(Jours_fériés,E4+5)),HLOOKUP(E4+7,Journalier_HLV_Inter,9,FALSE)-HLOOKUP(E4+8,Journalier_HLV_Inter,10,FALSE),IF(AND(WEEKDAY(E4,2)=5,COUNTIF(Jours_fériés,E4+4)),HLOOKUP(E4+5,Journalier_HLV_Inter,9,FALSE)-HLOOKUP(E4+6,Journalier_HLV_Inter,10,FALSE),IF(AND(WEEKDAY(E4,2)=5,COUNTIF(Jours_fériés,E4+5)),HLOOKUP(E4+4,Journalier_HLV_Inter,9,FALSE)-HLOOKUP(E4+6,Journalier_HLV_Inter,10,FALSE),IF(COUNTIF(Week_end,E4),0,IF(COUNTIF(Jours_fériés,E4),0,HLOOKUP(E4+2,Journalier_HLV_Inter,9,FALSE)-HLOOKUP(E4+3,Journalier_HLV_Inter,10,FALSE)))))))))))))))) -> 40 | F19: =IF(WEEKDAY(F4,2)=5,(HLOOKUP(F4+4,Journalier_HLV_Inter,9,FALSE)-HLOOKUP(F4+5,Journalier_HLV_Inter,10,FALSE)),IF(AND(WEEKDAY(F4,2)=1,COUNTIF(Jours_fériés,F4+2)),HLOOKUP(F4+3,Journalier_HLV_Inter,9,FALSE)-HLOOKUP(F4+4,Journalier_HLV_Inter,10,FALSE),IF(AND(WEEKDAY(F4,2)=1,COUNTIF(Jours_fériés,F4+3)),HLOOKUP(F4+2,Journalier_HLV_Inter,9,FALSE)-HLOOKUP(F4+4,Journalier_HLV_Inter,10,FALSE),IF(AND(WEEKDAY(F4,2)=2,COUNTIF(Jours_fériés,F4+2)),HLOOKUP(F4+3,Journalier_HLV_Inter,9,FALSE)-HLOOKUP(F4+6,Journalier_HLV_Inter,10,FALSE),IF(AND(WEEKDAY(F4,2)=2,COUNTIF(Jours_fériés,F4+3)),HLOOKUP(F4+2,Journalier_HLV_Inter,9,FALSE)-HLOOKUP(F4+6,Journalier_HLV_Inter,10,FALSE),IF(AND(WEEKDAY(F4,2)=3,COUNTIF(Jours_fériés,F4+2)),HLOOKUP(F4+5,Journalier_HLV_Inter,9,FALSE)-HLOOKUP(F4+6,Journalier_HLV_Inter,10,FALSE),IF(AND(WEEKDAY(F4,2)=3,COUNTIF(Jours_fériés,F4+5)),HLOOKUP(F4+2,Journalier_HLV_Inter,9,FALSE)-HLOOKUP(F4+6,Journalier_HLV_Inter,10,FALSE),IF(AND(WEEKDAY(F4,2)=3,COUNTIF(Jours_fériés,AND(F4+2,F4+5))),HLOOKUP(F4+6,Journalier_HLV_Inter,9,FALSE)-HLOOKUP(F4+7,Journalier_HLV_Inter,10,FALSE),IF(WEEKDAY(F4,2)=4,(HLOOKUP(F4+4,Journalier_HLV_Inter,9,FALSE)-HLOOKUP(F4+5,Journalier_HLV_Inter,10,FALSE)),IF(AND(WEEKDAY(F4,2)=4,COUNTIF(Jours_fériés,F4+4)),HLOOKUP(F4+6,Journalier_HLV_Inter,9,FALSE)-HLOOKUP(F4+7,Journalier_HLV_Inter,10,FALSE),IF(AND(WEEKDAY(F4,2)=4,COUNTIF(Jours_fériés,F4+5)),HLOOKUP(F4+7,Journalier_HLV_Inter,9,FALSE)-HLOOKUP(F4+8,Journalier_HLV_Inter,10,FALSE),IF(AND(WEEKDAY(F4,2)=5,COUNTIF(Jours_fériés,F4+4)),HLOOKUP(F4+5,Journalier_HLV_Inter,9,FALSE)-HLOOKUP(F4+6,Journalier_HLV_Inter,10,FALSE),IF(AND(WEEKDAY(F4,2)=5,COUNTIF(Jours_fériés,F4+5)),HLOOKUP(F4+4,Journalier_HLV_Inter,9,FALSE)-HLOOKUP(F4+6,Journalier_HLV_Inter,10,FALSE),IF(COUNTIF(Week_end,F4),0,IF(COUNTIF(Jours_fériés,F4),0,HLOOKUP(F4+2,Journalier_HLV_Inter,9,FALSE)-HLOOKUP(F4+3,Journalier_HLV_Inter,10,FALSE)))))))))))))))) -> 25 | G19: =IF(WEEKDAY(G4,2)=5,(HLOOKUP(G4+4,Journalier_HLV_Inter,9,FALSE)-HLOOKUP(G4+5,Journalier_HLV_Inter,10,FALSE)),IF(AND(WEEKDAY(G4,2)=1,COUNTIF(Jours_fériés,G4+2)),HLOOKUP(G4+3,Journalier_HLV_Inter,9,FALSE)-HLOOKUP(G4+4,Journalier_HLV_Inter,10,FALSE),IF(AND(WEEKDAY(G4,2)=1,COUNTIF(Jours_fériés,G4+3)),HLOOKUP(G4+2,Journalier_HLV_Inter,9,FALSE)-HLOOKUP(G4+4,Journalier_HLV_Inter,10,FALSE),IF(AND(WEEKDAY(G4,2)=2,COUNTIF(Jours_fériés,G4+2)),HLOOKUP(G4+3,Journalier_HLV_Inter,9,FALSE)-HLOOKUP(G4+6,Journalier_HLV_Inter,10,FALSE),IF(AND(WEEKDAY(G4,2)=2,COUNTIF(Jours_fériés,G4+3)),HLOOKUP(G4+2,Journalier_HLV_Inter,9,FALSE)-HLOOKUP(G4+6,Journalier_HLV_Inter,10,FALSE),IF(AND(WEEKDAY(G4,2)=3,COUNTIF(Jours_fériés,G4+2)),HLOOKUP(G4+5,Journalier_HLV_Inter,9,FALSE)-HLOOKUP(G4+6,Journalier_HLV_Inter,10,FALSE),IF(AND(WEEKDAY(G4,2)=3,COUNTIF(Jours_fériés,G4+5)),HLOOKUP(G4+2,Journalier_HLV_Inter,9,FALSE)-HLOOKUP(G4+6,Journalier_HLV_Inter,10,FALSE),IF(AND(WEEKDAY(G4,2)=3,COUNTIF(Jours_fériés,AND(G4+2,G4+5))),HLOOKUP(G4+6,Journalier_HLV_Inter,9,FALSE)-HLOOKUP(G4+7,Journalier_HLV_Inter,10,FALSE),IF(WEEKDAY(G4,2)=4,(HLOOKUP(G4+4,Journalier_HLV_Inter,9,FALSE)-HLOOKUP(G4+5,Journalier_HLV_Inter,10,FALSE)),IF(AND(WEEKDAY(G4,2)=4,COUNTIF(Jours_fériés,G4+4)),HLOOKUP(G4+6,Journalier_HLV_Inter,9,FALSE)-HLOOKUP(G4+7,Journalier_HLV_Inter,10,FALSE),IF(AND(WEEKDAY(G4,2)=4,COUNTIF(Jours_fériés,G4+5)),HLOOKUP(G4+7,Journalier_HLV_Inter,9,FALSE)-HLOOKUP(G4+8,Journalier_HLV_Inter,10,FALSE),IF(AND(WEEKDAY(G4,2)=5,COUNTIF(Jours_fériés,G4+4)),HLOOKUP(G4+5,Journalier_HLV_Inter,9,FALSE)-HLOOKUP(G4+6,Journalier_HLV_Inter,10,FALSE),IF(AND(WEEKDAY(G4,2)=5,COUNTIF(Jours_fériés,G4+5)),HLOOKUP(G4+4,Journalier_HLV_Inter,9,FALSE)-HLOOKUP(G4+6,Journalier_HLV_Inter,10,FALSE),IF(COUNTIF(Week_end,G4),0,IF(COUNTIF(Jours_fériés,G4),0,HLOOKUP(G4+2,Journalier_HLV_Inter,9,FALSE)-HLOOKUP(G4+3,Journalier_HLV_Inter,10,FALSE)))))))))))))))) -> 15 | H19: =IF(WEEKDAY(H4,2)=5,(HLOOKUP(H4+4,Journalier_HLV_Inter,9,FALSE)-HLOOKUP(H4+5,Journalier_HLV_Inter,10,FALSE)),IF(AND(WEEKDAY(H4,2)=1,COUNTIF(Jours_fériés,H4+2)),HLOOKUP(H4+3,Journalier_HLV_Inter,9,FALSE)-HLOOKUP(H4+4,Journalier_HLV_Inter,10,FALSE),IF(AND(WEEKDAY(H4,2)=1,COUNTIF(Jours_fériés,H4+3)),HLOOKUP(H4+2,Journalier_HLV_Inter,9,FALSE)-HLOOKUP(H4+4,Journalier_HLV_Inter,10,FALSE),IF(AND(WEEKDAY(H4,2)=2,COUNTIF(Jours_fériés,H4+2)),HLOOKUP(H4+3,Journalier_HLV_Inter,9,FALSE)-HLOOKUP(H4+6,Journalier_HLV_Inter,10,FALSE),IF(AND(WEEKDAY(H4,2)=2,COUNTIF(Jours_fériés,H4+3)),HLOOKUP(H4+2,Journalier_HLV_Inter,9,FALSE)-HLOOKUP(H4+6,Journalier_HLV_Inter,10,FALSE),IF(AND(WEEKDAY(H4,2)=3,COUNTIF(Jours_fériés,H4+2)),HLOOKUP(H4+5,Journalier_HLV_Inter,9,FALSE)-HLOOKUP(H4+6,Journalier_HLV_Inter,10,FALSE),IF(AND(WEEKDAY(H4,2)=3,COUNTIF(Jours_fériés,H4+5)),HLOOKUP(H4+2,Journalier_HLV_Inter,9,FALSE)-HLOOKUP(H4+6,Journalier_HLV_Inter,10,FALSE),IF(AND(WEEKDAY(H4,2)=3,COUNTIF(Jours_fériés,AND(H4+2,H4+5))),HLOOKUP(H4+6,Journalier_HLV_Inter,9,FALSE)-HLOOKUP(H4+7,Journalier_HLV_Inter,10,FALSE),IF(WEEKDAY(H4,2)=4,(HLOOKUP(H4+4,Journalier_HLV_Inter,9,FALSE)-HLOOKUP(H4+5,Journalier_HLV_Inter,10,FALSE)),IF(AND(WEEKDAY(H4,2)=4,COUNTIF(Jours_fériés,H4+4)),HLOOKUP(H4+6,Journalier_HLV_Inter,9,FALSE)-HLOOKUP(H4+7,Journalier_HLV_Inter,10,FALSE),IF(AND(WEEKDAY(H4,2)=4,COUNTIF(Jours_fériés,H4+5)),HLOOKUP(H4+7,Journalier_HLV_Inter,9,FALSE)-HLOOKUP(H4+8,Journalier_HLV_Inter,10,FALSE),IF(AND(WEEKDAY(H4,2)=5,COUNTIF(Jours_fériés,H4+4)),HLOOKUP(H4+5,Journalier_HLV_Inter,9,FALSE)-HLOOKUP(H4+6,Journalier_HLV_Inter,10,FALSE),IF(AND(WEEKDAY(H4,2)=5,COUNTIF(Jours_fériés,H4+5)),HLOOKUP(H4+4,Journalier_HLV_Inter,9,FALSE)-HLOOKUP(H4+6,Journalier_HLV_Inter,10,FALSE),IF(COUNTIF(Week_end,H4),0,IF(COUNTIF(Jours_fériés,H4),0,HLOOKUP(H4+2,Journalier_HLV_Inter,9,FALSE)-HLOOKUP(H4+3,Journalier_HLV_Inter,10,FALSE)))))))))))))))) -> 0 | I19: =IF(WEEKDAY(I4,2)=5,(HLOOKUP(I4+4,Journalier_HLV_Inter,9,FALSE)-HLOOKUP(I4+5,Journalier_HLV_Inter,10,FALSE)),IF(AND(WEEKDAY(I4,2)=1,COUNTIF(Jours_fériés,I4+2)),HLOOKUP(I4+3,Journalier_HLV_Inter,9,FALSE)-HLOOKUP(I4+4,Journalier_HLV_Inter,10,FALSE),IF(AND(WEEKDAY(I4,2)=1,COUNTIF(Jours_fériés,I4+3)),HLOOKUP(I4+2,Journalier_HLV_Inter,9,FALSE)-HLOOKUP(I4+4,Journalier_HLV_Inter,10,FALSE),IF(AND(WEEKDAY(I4,2)=2,COUNTIF(Jours_fériés,I4+2)),HLOOKUP(I4+3,Journalier_HLV_Inter,9,FALSE)-HLOOKUP(I4+6,Journalier_HLV_Inter,10,FALSE),IF(AND(WEEKDAY(I4,2)=2,COUNTIF(Jours_fériés,I4+3)),HLOOKUP(I4+2,Journalier_HLV_Inter,9,FALSE)-HLOOKUP(I4+6,Journalier_HLV_Inter,10,FALSE),IF(AND(WEEKDAY(I4,2)=3,COUNTIF(Jours_fériés,I4+2)),HLOOKUP(I4+5,Journalier_HLV_Inter,9,FALSE)-HLOOKUP(I4+6,Journalier_HLV_Inter,10,FALSE),IF(AND(WEEKDAY(I4,2)=3,COUNTIF(Jours_fériés,I4+5)),HLOOKUP(I4+2,Journalier_HLV_Inter,9,FALSE)-HLOOKUP(I4+6,Journalier_HLV_Inter,10,FALSE),IF(AND(WEEKDAY(I4,2)=3,COUNTIF(Jours_fériés,AND(I4+2,I4+5))),HLOOKUP(I4+6,Journalier_HLV_Inter,9,FALSE)-HLOOKUP(I4+7,Journalier_HLV_Inter,10,FALSE),IF(WEEKDAY(I4,2)=4,(HLOOKUP(I4+4,Journalier_HLV_Inter,9,FALSE)-HLOOKUP(I4+5,Journalier_HLV_Inter,10,FALSE)),IF(AND(WEEKDAY(I4,2)=4,COUNTIF(Jours_fériés,I4+4)),HLOOKUP(I4+6,Journalier_HLV_Inter,9,FALSE)-HLOOKUP(I4+7,Journalier_HLV_Inter,10,FALSE),IF(AND(WEEKDAY(I4,2)=4,COUNTIF(Jours_fériés,I4+5)),HLOOKUP(I4+7,Journalier_HLV_Inter,9,FALSE)-HLOOKUP(I4+8,Journalier_HLV_Inter,10,FALSE),IF(AND(WEEKDAY(I4,2)=5,COUNTIF(Jours_fériés,I4+4)),HLOOKUP(I4+5,Journalier_HLV_Inter,9,FALSE)-HLOOKUP(I4+6,Journalier_HLV_Inter,10,FALSE),IF(AND(WEEKDAY(I4,2)=5,COUNTIF(Jours_fériés,I4+5)),HLOOKUP(I4+4,Journalier_HLV_Inter,9,FALSE)-HLOOKUP(I4+6,Journalier_HLV_Inter,10,FALSE),IF(COUNTIF(Week_end,I4),0,IF(COUNTIF(Jours_fériés,I4),0,HLOOKUP(I4+2,Journalier_HLV_Inter,9,FALSE)-HLOOKUP(I4+3,Journalier_HLV_Inter,10,FALSE)))))))))))))))) -> 0 | J19: =IF(WEEKDAY(J4,2)=5,(HLOOKUP(J4+4,Journalier_HLV_Inter,9,FALSE)-HLOOKUP(J4+5,Journalier_HLV_Inter,10,FALSE)),IF(AND(WEEKDAY(J4,2)=1,COUNTIF(Jours_fériés,J4+2)),HLOOKUP(J4+3,Journalier_HLV_Inter,9,FALSE)-HLOOKUP(J4+4,Journalier_HLV_Inter,10,FALSE),IF(AND(WEEKDAY(J4,2)=1,COUNTIF(Jours_fériés,J4+3)),HLOOKUP(J4+2,Journalier_HLV_Inter,9,FALSE)-HLOOKUP(J4+4,Journalier_HLV_Inter,10,FALSE),IF(AND(WEEKDAY(J4,2)=2,COUNTIF(Jours_fériés,J4+2)),HLOOKUP(J4+3,Journalier_HLV_Inter,9,FALSE)-HLOOKUP(J4+6,Journalier_HLV_Inter,10,FALSE),IF(AND(WEEKDAY(J4,2)=2,COUNTIF(Jours_fériés,J4+3)),HLOOKUP(J4+2,Journalier_HLV_Inter,9,FALSE)-HLOOKUP(J4+6,Journalier_HLV_Inter,10,FALSE),IF(AND(WEEKDAY(J4,2)=3,COUNTIF(Jours_fériés,J4+2)),HLOOKUP(J4+5,Journalier_HLV_Inter,9,FALSE)-HLOOKUP(J4+6,Journalier_HLV_Inter,10,FALSE),IF(AND(WEEKDAY(J4,2)=3,COUNTIF(Jours_fériés,J4+5)),HLOOKUP(J4+2,Journalier_HLV_Inter,9,FALSE)-HLOOKUP(J4+6,Journalier_HLV_Inter,10,FALSE),IF(AND(WEEKDAY(J4,2)=3,COUNTIF(Jours_fériés,AND(J4+2,J4+5))),HLOOKUP(J4+6,Journalier_HLV_Inter,9,FALSE)-HLOOKUP(J4+7,Journalier_HLV_Inter,10,FALSE),IF(WEEKDAY(J4,2)=4,(HLOOKUP(J4+4,Journalier_HLV_Inter,9,FALSE)-HLOOKUP(J4+5,Journalier_HLV_Inter,10,FALSE)),IF(AND(WEEKDAY(J4,2)=4,COUNTIF(Jours_fériés,J4+4)),HLOOKUP(J4+6,Journalier_HLV_Inter,9,FALSE)-HLOOKUP(J4+7,Journalier_HLV_Inter,10,FALSE),IF(AND(WEEKDAY(J4,2)=4,COUNTIF(Jours_fériés,J4+5)),HLOOKUP(J4+7,Journalier_HLV_Inter,9,FALSE)-HLOOKUP(J4+8,Journalier_HLV_Inter,10,FALSE),IF(AND(WEEKDAY(J4,2)=5,COUNTIF(Jours_fériés,J4+4)),HLOOKUP(J4+5,Journalier_HLV_Inter,9,FALSE)-HLOOKUP(J4+6,Journalier_HLV_Inter,10,FALSE),IF(AND(WEEKDAY(J4,2)=5,COUNTIF(Jours_fériés,J4+5)),HLOOKUP(J4+4,Journalier_HLV_Inter,9,FALSE)-HLOOKUP(J4+6,Journalier_HLV_Inter,10,FALSE),IF(COUNTIF(Week_end,J4),0,IF(COUNTIF(Jours_fériés,J4),0,HLOOKUP(J4+2,Journalier_HLV_Inter,9,FALSE)-HLOOKUP(J4+3,Journalier_HLV_Inter,10,FALSE)))))))))))))))) -> 0 | K19: =IF(WEEKDAY(K4,2)=5,(HLOOKUP(K4+4,Journalier_HLV_Inter,9,FALSE)-HLOOKUP(K4+5,Journalier_HLV_Inter,10,FALSE)),IF(AND(WEEKDAY(K4,2)=1,COUNTIF(Jours_fériés,K4+2)),HLOOKUP(K4+3,Journalier_HLV_Inter,9,FALSE)-HLOOKUP(K4+4,Journalier_HLV_Inter,10,FALSE),IF(AND(WEEKDAY(K4,2)=1,COUNTIF(Jours_fériés,K4+3)),HLOOKUP(K4+2,Journalier_HLV_Inter,9,FALSE)-HLOOKUP(K4+4,Journalier_HLV_Inter,10,FALSE),IF(AND(WEEKDAY(K4,2)=2,COUNTIF(Jours_fériés,K4+2)),HLOOKUP(K4+3,Journalier_HLV_Inter,9,FALSE)-HLOOKUP(K4+6,Journalier_HLV_Inter,10,FALSE),IF(AND(WEEKDAY(K4,2)=2,COUNTIF(Jours_fériés,K4+3)),HLOOKUP(K4+2,Journalier_HLV_Inter,9,FALSE)-HLOOKUP(K4+6,Journalier_HLV_Inter,10,FALSE),IF(AND(WEEKDAY(K4,2)=3,COUNTIF(Jours_fériés,K4+2)),HLOOKUP(K4+5,Journalier_HLV_Inter,9,FALSE)-HLOOKUP(K4+6,Journalier_HLV_Inter,10,FALSE),IF(AND(WEEKDAY(K4,2)=3,COUNTIF(Jours_fériés,K4+5)),HLOOKUP(K4+2,Journalier_HLV_Inter,9,FALSE)-HLOOKUP(K4+6,Journalier_HLV_Inter,10,FALSE),IF(AND(WEEKDAY(K4,2)=3,COUNTIF(Jours_fériés,AND(K4+2,K4+5))),HLOOKUP(K4+6,Journalier_HLV_Inter,9,FALSE)-HLOOKUP(K4+7,Journalier_HLV_Inter,10,FALSE),IF(WEEKDAY(K4,2)=4,(HLOOKUP(K4+4,Journalier_HLV_Inter,9,FALSE)-HLOOKUP(K4+5,Journalier_HLV_Inter,10,FALSE)),IF(AND(WEEKDAY(K4,2)=4,COUNTIF(Jours_fériés,K4+4)),HLOOKUP(K4+6,Journalier_HLV_Inter,9,FALSE)-HLOOKUP(K4+7,Journalier_HLV_Inter,10,FALSE),IF(AND(WEEKDAY(K4,2)=4,COUNTIF(Jours_fériés,K4+5)),HLOOKUP(K4+7,Journalier_HLV_Inter,9,FALSE)-HLOOKUP(K4+8,Journalier_HLV_Inter,10,FALSE),IF(AND(WEEKDAY(K4,2)=5,COUNTIF(Jours_fériés,K4+4)),HLOOKUP(K4+5,Journalier_HLV_Inter,9,FALSE)-HLOOKUP(K4+6,Journalier_HLV_Inter,10,FALSE),IF(AND(WEEKDAY(K4,2)=5,COUNTIF(Jours_fériés,K4+5)),HLOOKUP(K4+4,Journalier_HLV_Inter,9,FALSE)-HLOOKUP(K4+6,Journalier_HLV_Inter,10,FALSE),IF(COUNTIF(Week_end,K4),0,IF(COUNTIF(Jours_fériés,K4),0,HLOOKUP(K4+2,Journalier_HLV_Inter,9,FALSE)-HLOOKUP(K4+3,Journalier_HLV_Inter,10,FALSE)))))))))))))))) -> 0 | L19: =IF(WEEKDAY(L4,2)=5,(HLOOKUP(L4+4,Journalier_HLV_Inter,9,FALSE)-HLOOKUP(L4+5,Journalier_HLV_Inter,10,FALSE)),IF(AND(WEEKDAY(L4,2)=1,COUNTIF(Jours_fériés,L4+2)),HLOOKUP(L4+3,Journalier_HLV_Inter,9,FALSE)-HLOOKUP(L4+4,Journalier_HLV_Inter,10,FALSE),IF(AND(WEEKDAY(L4,2)=1,COUNTIF(Jours_fériés,L4+3)),HLOOKUP(L4+2,Journalier_HLV_Inter,9,FALSE)-HLOOKUP(L4+4,Journalier_HLV_Inter,10,FALSE),IF(AND(WEEKDAY(L4,2)=2,COUNTIF(Jours_fériés,L4+2)),HLOOKUP(L4+3,Journalier_HLV_Inter,9,FALSE)-HLOOKUP(L4+6,Journalier_HLV_Inter,10,FALSE),IF(AND(WEEKDAY(L4,2)=2,COUNTIF(Jours_fériés,L4+3)),HLOOKUP(L4+2,Journalier_HLV_Inter,9,FALSE)-HLOOKUP(L4+6,Journalier_HLV_Inter,10,FALSE),IF(AND(WEEKDAY(L4,2)=3,COUNTIF(Jours_fériés,L4+2)),HLOOKUP(L4+5,Journalier_HLV_Inter,9,FALSE)-HLOOKUP(L4+6,Journalier_HLV_Inter,10,FALSE),IF(AND(WEEKDAY(L4,2)=3,COUNTIF(Jours_fériés,L4+5)),HLOOKUP(L4+2,Journalier_HLV_Inter,9,FALSE)-HLOOKUP(L4+6,Journalier_HLV_Inter,10,FALSE),IF(AND(WEEKDAY(L4,2)=3,COUNTIF(Jours_fériés,AND(L4+2,L4+5))),HLOOKUP(L4+6,Journalier_HLV_Inter,9,FALSE)-HLOOKUP(L4+7,Journalier_HLV_Inter,10,FALSE),IF(WEEKDAY(L4,2)=4,(HLOOKUP(L4+4,Journalier_HLV_Inter,9,FALSE)-HLOOKUP(L4+5,Journalier_HLV_Inter,10,FALSE)),IF(AND(WEEKDAY(L4,2)=4,COUNTIF(Jours_fériés,L4+4)),HLOOKUP(L4+6,Journalier_HLV_Inter,9,FALSE)-HLOOKUP(L4+7,Journalier_HLV_Inter,10,FALSE),IF(AND(WEEKDAY(L4,2)=4,COUNTIF(Jours_fériés,L4+5)),HLOOKUP(L4+7,Journalier_HLV_Inter,9,FALSE)-HLOOKUP(L4+8,Journalier_HLV_Inter,10,FALSE),IF(AND(WEEKDAY(L4,2)=5,COUNTIF(Jours_fériés,L4+4)),HLOOKUP(L4+5,Journalier_HLV_Inter,9,FALSE)-HLOOKUP(L4+6,Journalier_HLV_Inter,10,FALSE),IF(AND(WEEKDAY(L4,2)=5,COUNTIF(Jours_fériés,L4+5)),HLOOKUP(L4+4,Journalier_HLV_Inter,9,FALSE)-HLOOKUP(L4+6,Journalier_HLV_Inter,10,FALSE),IF(COUNTIF(Week_end,L4),0,IF(COUNTIF(Jours_fériés,L4),0,HLOOKUP(L4+2,Journalier_HLV_Inter,9,FALSE)-HLOOKUP(L4+3,Journalier_HLV_Inter,10,FALSE)))))))))))))))) -> 0 | ... ND19: =IF(WEEKDAY(ND4,2)=5,(HLOOKUP(ND4+4,Journalier_HLV_Inter,9,FALSE)-HLOOKUP(ND4+5,Journalier_HLV_Inter,10,FALSE)),IF(AND(WEEKDAY(ND4,2)=1,COUNTIF(Jours_fériés,ND4+2)),HLOOKUP(ND4+3,Journalier_HLV_Inter,9,FALSE)-HLOOKUP(ND4+4,Journalier_HLV_Inter,10,FALSE),IF(AND(WEEKDAY(ND4,2)=1,COUNTIF(Jours_fériés,ND4+3)),HLOOKUP(ND4+2,Journalier_HLV_Inter,9,FALSE)-HLOOKUP(ND4+4,Journalier_HLV_Inter,10,FALSE),IF(AND(WEEKDAY(ND4,2)=2,COUNTIF(Jours_fériés,ND4+2)),HLOOKUP(ND4+3,Journalier_HLV_Inter,9,FALSE)-HLOOKUP(ND4+6,Journalier_HLV_Inter,10,FALSE),IF(AND(WEEKDAY(ND4,2)=2,COUNTIF(Jours_fériés,ND4+3)),HLOOKUP(ND4+2,Journalier_HLV_Inter,9,FALSE)-HLOOKUP(ND4+6,Journalier_HLV_Inter,10,FALSE),IF(AND(WEEKDAY(ND4,2)=3,COUNTIF(Jours_fériés,ND4+2)),HLOOKUP(ND4+5,Journalier_HLV_Inter,9,FALSE)-HLOOKUP(ND4+6,Journalier_HLV_Inter,10,FALSE),IF(AND(WEEKDAY(ND4,2)=3,COUNTIF(Jours_fériés,ND4+5)),HLOOKUP(ND4+2,Journalier_HLV_Inter,9,FALSE)-HLOOKUP(ND4+6,Journalier_HLV_Inter,10,FALSE),IF(AND(WEEKDAY(ND4,2)=3,COUNTIF(Jours_fériés,AND(ND4+2,ND4+5))),HLOOKUP(ND4+6,Journalier_HLV_Inter,9,FALSE)-HLOOKUP(ND4+7,Journalier_HLV_Inter,10,FALSE),IF(WEEKDAY(ND4,2)=4,(HLOOKUP(ND4+4,Journalier_HLV_Inter,9,FALSE)-HLOOKUP(ND4+5,Journalier_HLV_Inter,10,FALSE)),IF(AND(WEEKDAY(ND4,2)=4,COUNTIF(Jours_fériés,ND4+4)),HLOOKUP(ND4+6,Journalier_HLV_Inter,9,FALSE)-HLOOKUP(ND4+7,Journalier_HLV_Inter,10,FALSE),IF(AND(WEEKDAY(ND4,2)=4,COUNTIF(Jours_fériés,ND4+5)),HLOOKUP(ND4+7,Journalier_HLV_Inter,9,FALSE)-HLOOKUP(ND4+8,Journalier_HLV_Inter,10,FALSE),IF(AND(WEEKDAY(ND4,2)=5,COUNTIF(Jours_fériés,ND4+4)),HLOOKUP(ND4+5,Journalier_HLV_Inter,9,FALSE)-HLOOKUP(ND4+6,Journalier_HLV_Inter,10,FALSE),IF(AND(WEEKDAY(ND4,2)=5,COUNTIF(Jours_fériés,ND4+5)),HLOOKUP(ND4+4,Journalier_HLV_Inter,9,FALSE)-HLOOKUP(ND4+6,Journalier_HLV_Inter,10,FALSE),IF(COUNTIF(Week_end,ND4),0,IF(COUNTIF(Jours_fériés,ND4),0,HLOOKUP(ND4+2,Journalier_HLV_Inter,9,FALSE)-HLOOKUP(ND4+3,Journalier_HLV_Inter,10,FALSE)))))))))))))))) -> #N/A
A20: J-1 | E20: =IF(WEEKDAY(E4,2)=5,(E11-HLOOKUP(E4+3,Journalier_HLV_Inter,9,FALSE)),IF(AND(WEEKDAY(E4,2)=1,COUNTIF(Jours_fériés,AND(E4+1,IE+2))),E11-HLOOKUP(E4+3,Journalier_HLV_Inter,9,FALSE),IF(AND(WEEKDAY(E4,2)=1,COUNTIF(Jours_fériés,E4+1)),E11-HLOOKUP(E4+2,Journalier_HLV_Inter,9,FALSE),IF(AND(WEEKDAY(E4,2)=2,COUNTIF(Jours_fériés,AND(E4+1,E4+2))),E11-HLOOKUP(E4+3,Journalier_HLV_Inter,9,FALSE),IF(AND(WEEKDAY(E4,2)=2,COUNTIF(Jours_fériés,E4+1)),E11-HLOOKUP(E4+2,Journalier_HLV_Inter,9,FALSE),IF(AND(WEEKDAY(E4,2)=3,COUNTIF(Jours_fériés,AND(E4+1,E4+2))),E11-HLOOKUP(E4+5,Journalier_HLV_Inter,9,FALSE),IF(AND(WEEKDAY(E4,2)=3,COUNTIF(Jours_fériés,E4+1)),E11-HLOOKUP(E4+2,Journalier_HLV_Inter,9,FALSE),IF(AND(WEEKDAY(E4,2)=4,COUNTIF(Jours_fériés,E4+1)),E11-HLOOKUP(E4+4,Journalier_HLV_Inter,9,FALSE),IF(AND(WEEKDAY(E4,2)=4,COUNTIF(Jours_fériés,AND(E4+1,E4+4))),E11-HLOOKUP(E4+5,Journalier_HLV_Inter,9,FALSE),IF(AND(WEEKDAY(E4,2)=5,COUNTIF(Jours_fériés,E4+3)),E11-HLOOKUP(E4+4,Journalier_HLV_Inter,9,FALSE),IF(COUNTIF(Week_end,E4),0,IF(COUNTIF(Jours_fériés,E4),0,E11-HLOOKUP(E4+1,Journalier_HLV_Inter,9,FALSE))))))))))))) -> 0 | F20: =IF(WEEKDAY(F4,2)=5,(F11-HLOOKUP(F4+3,Journalier_HLV_Inter,9,FALSE)),IF(AND(WEEKDAY(F4,2)=1,COUNTIF(Jours_fériés,AND(F4+1,IE+2))),F11-HLOOKUP(F4+3,Journalier_HLV_Inter,9,FALSE),IF(AND(WEEKDAY(F4,2)=1,COUNTIF(Jours_fériés,F4+1)),F11-HLOOKUP(F4+2,Journalier_HLV_Inter,9,FALSE),IF(AND(WEEKDAY(F4,2)=2,COUNTIF(Jours_fériés,AND(F4+1,F4+2))),F11-HLOOKUP(F4+3,Journalier_HLV_Inter,9,FALSE),IF(AND(WEEKDAY(F4,2)=2,COUNTIF(Jours_fériés,F4+1)),F11-HLOOKUP(F4+2,Journalier_HLV_Inter,9,FALSE),IF(AND(WEEKDAY(F4,2)=3,COUNTIF(Jours_fériés,AND(F4+1,F4+2))),F11-HLOOKUP(F4+5,Journalier_HLV_Inter,9,FALSE),IF(AND(WEEKDAY(F4,2)=3,COUNTIF(Jours_fériés,F4+1)),F11-HLOOKUP(F4+2,Journalier_HLV_Inter,9,FALSE),IF(AND(WEEKDAY(F4,2)=4,COUNTIF(Jours_fériés,F4+1)),F11-HLOOKUP(F4+4,Journalier_HLV_Inter,9,FALSE),IF(AND(WEEKDAY(F4,2)=4,COUNTIF(Jours_fériés,AND(F4+1,F4+4))),F11-HLOOKUP(F4+5,Journalier_HLV_Inter,9,FALSE),IF(AND(WEEKDAY(F4,2)=5,COUNTIF(Jours_fériés,F4+3)),F11-HLOOKUP(F4+4,Journalier_HLV_Inter,9,FALSE),IF(COUNTIF(Week_end,F4),0,IF(COUNTIF(Jours_fériés,F4),0,F11-HLOOKUP(F4+1,Journalier_HLV_Inter,9,FALSE))))))))))))) -> 10 | G20: =IF(WEEKDAY(G4,2)=5,(G11-HLOOKUP(G4+3,Journalier_HLV_Inter,9,FALSE)),IF(AND(WEEKDAY(G4,2)=1,COUNTIF(Jours_fériés,AND(G4+1,IE+2))),G11-HLOOKUP(G4+3,Journalier_HLV_Inter,9,FALSE),IF(AND(WEEKDAY(G4,2)=1,COUNTIF(Jours_fériés,G4+1)),G11-HLOOKUP(G4+2,Journalier_HLV_Inter,9,FALSE),IF(AND(WEEKDAY(G4,2)=2,COUNTIF(Jours_fériés,AND(G4+1,G4+2))),G11-HLOOKUP(G4+3,Journalier_HLV_Inter,9,FALSE),IF(AND(WEEKDAY(G4,2)=2,COUNTIF(Jours_fériés,G4+1)),G11-HLOOKUP(G4+2,Journalier_HLV_Inter,9,FALSE),IF(AND(WEEKDAY(G4,2)=3,COUNTIF(Jours_fériés,AND(G4+1,G4+2))),G11-HLOOKUP(G4+5,Journalier_HLV_Inter,9,FALSE),IF(AND(WEEKDAY(G4,2)=3,COUNTIF(Jours_fériés,G4+1)),G11-HLOOKUP(G4+2,Journalier_HLV_Inter,9,FALSE),IF(AND(WEEKDAY(G4,2)=4,COUNTIF(Jours_fériés,G4+1)),G11-HLOOKUP(G4+4,Journalier_HLV_Inter,9,FALSE),IF(AND(WEEKDAY(G4,2)=4,COUNTIF(Jours_fériés,AND(G4+1,G4+4))),G11-HLOOKUP(G4+5,Journalier_HLV_Inter,9,FALSE),IF(AND(WEEKDAY(G4,2)=5,COUNTIF(Jours_fériés,G4+3)),G11-HLOOKUP(G4+4,Journalier_HLV_Inter,9,FALSE),IF(COUNTIF(Week_end,G4),0,IF(COUNTIF(Jours_fériés,G4),0,G11-HLOOKUP(G4+1,Journalier_HLV_Inter,9,FALSE))))))))))))) -> 15 | H20: =IF(WEEKDAY(H4,2)=5,(H11-HLOOKUP(H4+3,Journalier_HLV_Inter,9,FALSE)),IF(AND(WEEKDAY(H4,2)=1,COUNTIF(Jours_fériés,AND(H4+1,IE+2))),H11-HLOOKUP(H4+3,Journalier_HLV_Inter,9,FALSE),IF(AND(WEEKDAY(H4,2)=1,COUNTIF(Jours_fériés,H4+1)),H11-HLOOKUP(H4+2,Journalier_HLV_Inter,9,FALSE),IF(AND(WEEKDAY(H4,2)=2,COUNTIF(Jours_fériés,AND(H4+1,H4+2))),H11-HLOOKUP(H4+3,Journalier_HLV_Inter,9,FALSE),IF(AND(WEEKDAY(H4,2)=2,COUNTIF(Jours_fériés,H4+1)),H11-HLOOKUP(H4+2,Journalier_HLV_Inter,9,FALSE),IF(AND(WEEKDAY(H4,2)=3,COUNTIF(Jours_fériés,AND(H4+1,H4+2))),H11-HLOOKUP(H4+5,Journalier_HLV_Inter,9,FALSE),IF(AND(WEEKDAY(H4,2)=3,COUNTIF(Jours_fériés,H4+1)),H11-HLOOKUP(H4+2,Journalier_HLV_Inter,9,FALSE),IF(AND(WEEKDAY(H4,2)=4,COUNTIF(Jours_fériés,H4+1)),H11-HLOOKUP(H4+4,Journalier_HLV_Inter,9,FALSE),IF(AND(WEEKDAY(H4,2)=4,COUNTIF(Jours_fériés,AND(H4+1,H4+4))),H11-HLOOKUP(H4+5,Journalier_HLV_Inter,9,FALSE),IF(AND(WEEKDAY(H4,2)=5,COUNTIF(Jours_fériés,H4+3)),H11-HLOOKUP(H4+4,Journalier_HLV_Inter,9,FALSE),IF(COUNTIF(Week_end,H4),0,IF(COUNTIF(Jours_fériés,H4),0,H11-HLOOKUP(H4+1,Journalier_HLV_Inter,9,FALSE))))))))))))) -> 15 | I20: =IF(WEEKDAY(I4,2)=5,(I11-HLOOKUP(I4+3,Journalier_HLV_Inter,9,FALSE)),IF(AND(WEEKDAY(I4,2)=1,COUNTIF(Jours_fériés,AND(I4+1,IE+2))),I11-HLOOKUP(I4+3,Journalier_HLV_Inter,9,FALSE),IF(AND(WEEKDAY(I4,2)=1,COUNTIF(Jours_fériés,I4+1)),I11-HLOOKUP(I4+2,Journalier_HLV_Inter,9,FALSE),IF(AND(WEEKDAY(I4,2)=2,COUNTIF(Jours_fériés,AND(I4+1,I4+2))),I11-HLOOKUP(I4+3,Journalier_HLV_Inter,9,FALSE),IF(AND(WEEKDAY(I4,2)=2,COUNTIF(Jours_fériés,I4+1)),I11-HLOOKUP(I4+2,Journalier_HLV_Inter,9,FALSE),IF(AND(WEEKDAY(I4,2)=3,COUNTIF(Jours_fériés,AND(I4+1,I4+2))),I11-HLOOKUP(I4+5,Journalier_HLV_Inter,9,FALSE),IF(AND(WEEKDAY(I4,2)=3,COUNTIF(Jours_fériés,I4+1)),I11-HLOOKUP(I4+2,Journalier_HLV_Inter,9,FALSE),IF(AND(WEEKDAY(I4,2)=4,COUNTIF(Jours_fériés,I4+1)),I11-HLOOKUP(I4+4,Journalier_HLV_Inter,9,FALSE),IF(AND(WEEKDAY(I4,2)=4,COUNTIF(Jours_fériés,AND(I4+1,I4+4))),I11-HLOOKUP(I4+5,Journalier_HLV_Inter,9,FALSE),IF(AND(WEEKDAY(I4,2)=5,COUNTIF(Jours_fériés,I4+3)),I11-HLOOKUP(I4+4,Journalier_HLV_Inter,9,FALSE),IF(COUNTIF(Week_end,I4),0,IF(COUNTIF(Jours_fériés,I4),0,I11-HLOOKUP(I4+1,Journalier_HLV_Inter,9,FALSE))))))))))))) -> 0 | J20: =IF(WEEKDAY(J4,2)=5,(J11-HLOOKUP(J4+3,Journalier_HLV_Inter,9,FALSE)),IF(AND(WEEKDAY(J4,2)=1,COUNTIF(Jours_fériés,AND(J4+1,IE+2))),J11-HLOOKUP(J4+3,Journalier_HLV_Inter,9,FALSE),IF(AND(WEEKDAY(J4,2)=1,COUNTIF(Jours_fériés,J4+1)),J11-HLOOKUP(J4+2,Journalier_HLV_Inter,9,FALSE),IF(AND(WEEKDAY(J4,2)=2,COUNTIF(Jours_fériés,AND(J4+1,J4+2))),J11-HLOOKUP(J4+3,Journalier_HLV_Inter,9,FALSE),IF(AND(WEEKDAY(J4,2)=2,COUNTIF(Jours_fériés,J4+1)),J11-HLOOKUP(J4+2,Journalier_HLV_Inter,9,FALSE),IF(AND(WEEKDAY(J4,2)=3,COUNTIF(Jours_fériés,AND(J4+1,J4+2))),J11-HLOOKUP(J4+5,Journalier_HLV_Inter,9,FALSE),IF(AND(WEEKDAY(J4,2)=3,COUNTIF(Jours_fériés,J4+1)),J11-HLOOKUP(J4+2,Journalier_HLV_Inter,9,FALSE),IF(AND(WEEKDAY(J4,2)=4,COUNTIF(Jours_fériés,J4+1)),J11-HLOOKUP(J4+4,Journalier_HLV_Inter,9,FALSE),IF(AND(WEEKDAY(J4,2)=4,COUNTIF(Jours_fériés,AND(J4+1,J4+4))),J11-HLOOKUP(J4+5,Journalier_HLV_Inter,9,FALSE),IF(AND(WEEKDAY(J4,2)=5,COUNTIF(Jours_fériés,J4+3)),J11-HLOOKUP(J4+4,Journalier_HLV_Inter,9,FALSE),IF(COUNTIF(Week_end,J4),0,IF(COUNTIF(Jours_fériés,J4),0,J11-HLOOKUP(J4+1,Journalier_HLV_Inter,9,FALSE))))))))))))) -> 0 | K20: =IF(WEEKDAY(K4,2)=5,(K11-HLOOKUP(K4+3,Journalier_HLV_Inter,9,FALSE)),IF(AND(WEEKDAY(K4,2)=1,COUNTIF(Jours_fériés,AND(K4+1,IE+2))),K11-HLOOKUP(K4+3,Journalier_HLV_Inter,9,FALSE),IF(AND(WEEKDAY(K4,2)=1,COUNTIF(Jours_fériés,K4+1)),K11-HLOOKUP(K4+2,Journalier_HLV_Inter,9,FALSE),IF(AND(WEEKDAY(K4,2)=2,COUNTIF(Jours_fériés,AND(K4+1,K4+2))),K11-HLOOKUP(K4+3,Journalier_HLV_Inter,9,FALSE),IF(AND(WEEKDAY(K4,2)=2,COUNTIF(Jours_fériés,K4+1)),K11-HLOOKUP(K4+2,Journalier_HLV_Inter,9,FALSE),IF(AND(WEEKDAY(K4,2)=3,COUNTIF(Jours_fériés,AND(K4+1,K4+2))),K11-HLOOKUP(K4+5,Journalier_HLV_Inter,9,FALSE),IF(AND(WEEKDAY(K4,2)=3,COUNTIF(Jours_fériés,K4+1)),K11-HLOOKUP(K4+2,Journalier_HLV_Inter,9,FALSE),IF(AND(WEEKDAY(K4,2)=4,COUNTIF(Jours_fériés,K4+1)),K11-HLOOKUP(K4+4,Journalier_HLV_Inter,9,FALSE),IF(AND(WEEKDAY(K4,2)=4,COUNTIF(Jours_fériés,AND(K4+1,K4+4))),K11-HLOOKUP(K4+5,Journalier_HLV_Inter,9,FALSE),IF(AND(WEEKDAY(K4,2)=5,COUNTIF(Jours_fériés,K4+3)),K11-HLOOKUP(K4+4,Journalier_HLV_Inter,9,FALSE),IF(COUNTIF(Week_end,K4),0,IF(COUNTIF(Jours_fériés,K4),0,K11-HLOOKUP(K4+1,Journalier_HLV_Inter,9,FALSE))))))))))))) -> 0 | L20: =IF(WEEKDAY(L4,2)=5,(L11-HLOOKUP(L4+3,Journalier_HLV_Inter,9,FALSE)),IF(AND(WEEKDAY(L4,2)=1,COUNTIF(Jours_fériés,AND(L4+1,IE+2))),L11-HLOOKUP(L4+3,Journalier_HLV_Inter,9,FALSE),IF(AND(WEEKDAY(L4,2)=1,COUNTIF(Jours_fériés,L4+1)),L11-HLOOKUP(L4+2,Journalier_HLV_Inter,9,FALSE),IF(AND(WEEKDAY(L4,2)=2,COUNTIF(Jours_fériés,AND(L4+1,L4+2))),L11-HLOOKUP(L4+3,Journalier_HLV_Inter,9,FALSE),IF(AND(WEEKDAY(L4,2)=2,COUNTIF(Jours_fériés,L4+1)),L11-HLOOKUP(L4+2,Journalier_HLV_Inter,9,FALSE),IF(AND(WEEKDAY(L4,2)=3,COUNTIF(Jours_fériés,AND(L4+1,L4+2))),L11-HLOOKUP(L4+5,Journalier_HLV_Inter,9,FALSE),IF(AND(WEEKDAY(L4,2)=3,COUNTIF(Jours_fériés,L4+1)),L11-HLOOKUP(L4+2,Journalier_HLV_Inter,9,FALSE),IF(AND(WEEKDAY(L4,2)=4,COUNTIF(Jours_fériés,L4+1)),L11-HLOOKUP(L4+4,Journalier_HLV_Inter,9,FALSE),IF(AND(WEEKDAY(L4,2)=4,COUNTIF(Jours_fériés,AND(L4+1,L4+4))),L11-HLOOKUP(L4+5,Journalier_HLV_Inter,9,FALSE),IF(AND(WEEKDAY(L4,2)=5,COUNTIF(Jours_fériés,L4+3)),L11-HLOOKUP(L4+4,Journalier_HLV_Inter,9,FALSE),IF(COUNTIF(Week_end,L4),0,IF(COUNTIF(Jours_fériés,L4),0,L11-HLOOKUP(L4+1,Journalier_HLV_Inter,9,FALSE))))))))))))) -> 0 | ... ND20: =IF(WEEKDAY(ND4,2)=5,(ND11-HLOOKUP(ND4+3,Journalier_HLV_Inter,9,FALSE)),IF(AND(WEEKDAY(ND4,2)=1,COUNTIF(Jours_fériés,AND(ND4+1,IE+2))),ND11-HLOOKUP(ND4+3,Journalier_HLV_Inter,9,FALSE),IF(AND(WEEKDAY(ND4,2)=1,COUNTIF(Jours_fériés,ND4+1)),ND11-HLOOKUP(ND4+2,Journalier_HLV_Inter,9,FALSE),IF(AND(WEEKDAY(ND4,2)=2,COUNTIF(Jours_fériés,AND(ND4+1,ND4+2))),ND11-HLOOKUP(ND4+3,Journalier_HLV_Inter,9,FALSE),IF(AND(WEEKDAY(ND4,2)=2,COUNTIF(Jours_fériés,ND4+1)),ND11-HLOOKUP(ND4+2,Journalier_HLV_Inter,9,FALSE),IF(AND(WEEKDAY(ND4,2)=3,COUNTIF(Jours_fériés,AND(ND4+1,ND4+2))),ND11-HLOOKUP(ND4+5,Journalier_HLV_Inter,9,FALSE),IF(AND(WEEKDAY(ND4,2)=3,COUNTIF(Jours_fériés,ND4+1)),ND11-HLOOKUP(ND4+2,Journalier_HLV_Inter,9,FALSE),IF(AND(WEEKDAY(ND4,2)=4,COUNTIF(Jours_fériés,ND4+1)),ND11-HLOOKUP(ND4+4,Journalier_HLV_Inter,9,FALSE),IF(AND(WEEKDAY(ND4,2)=4,COUNTIF(Jours_fériés,AND(ND4+1,ND4+4))),ND11-HLOOKUP(ND4+5,Journalier_HLV_Inter,9,FALSE),IF(AND(WEEKDAY(ND4,2)=5,COUNTIF(Jours_fériés,ND4+3)),ND11-HLOOKUP(ND4+4,Journalier_HLV_Inter,9,FALSE),IF(COUNTIF(Week_end,ND4),0,IF(COUNTIF(Jours_fériés,ND4),0,ND11-HLOOKUP(ND4+1,Journalier_HLV_Inter,9,FALSE))))))))))))) -> #N/A
A21: J-2 | E21: =IF(WEEKDAY(E4,2)=5,(E12-HLOOKUP(E4+3,Journalier_HLV_Inter,10,FALSE)),IF(AND(WEEKDAY(E4,2)=1,COUNTIF(Jours_fériés,AND(E4+1,IE+2))),E12-HLOOKUP(E4+3,Journalier_HLV_Inter,10,FALSE),IF(AND(WEEKDAY(E4,2)=1,COUNTIF(Jours_fériés,E4+1)),E12-HLOOKUP(E4+2,Journalier_HLV_Inter,10,FALSE),IF(AND(WEEKDAY(E4,2)=2,COUNTIF(Jours_fériés,AND(E4+1,E4+2))),E12-HLOOKUP(E4+3,Journalier_HLV_Inter,10,FALSE),IF(AND(WEEKDAY(E4,2)=2,COUNTIF(Jours_fériés,E4+1)),E12-HLOOKUP(E4+2,Journalier_HLV_Inter,10,FALSE),IF(AND(WEEKDAY(E4,2)=3,COUNTIF(Jours_fériés,AND(E4+1,E4+2))),E12-HLOOKUP(E4+5,Journalier_HLV_Inter,10,FALSE),IF(AND(WEEKDAY(E4,2)=3,COUNTIF(Jours_fériés,E4+1)),E12-HLOOKUP(E4+2,Journalier_HLV_Inter,10,FALSE),IF(AND(WEEKDAY(E4,2)=4,COUNTIF(Jours_fériés,E4+1)),E12-HLOOKUP(E4+4,Journalier_HLV_Inter,10,FALSE),IF(AND(WEEKDAY(E4,2)=4,COUNTIF(Jours_fériés,AND(E4+1,E4+4))),E12-HLOOKUP(E4+5,Journalier_HLV_Inter,10,FALSE),IF(AND(WEEKDAY(E4,2)=5,COUNTIF(Jours_fériés,E4+3)),E12-HLOOKUP(E4+4,Journalier_HLV_Inter,10,FALSE),IF(COUNTIF(Week_end,E4),0,IF(COUNTIF(Jours_fériés,E4),0,E12-HLOOKUP(E4+1,Journalier_HLV_Inter,10,FALSE))))))))))))) -> 0 | F21: =IF(WEEKDAY(F4,2)=5,(F12-HLOOKUP(F4+3,Journalier_HLV_Inter,10,FALSE)),IF(AND(WEEKDAY(F4,2)=1,COUNTIF(Jours_fériés,AND(F4+1,IE+2))),F12-HLOOKUP(F4+3,Journalier_HLV_Inter,10,FALSE),IF(AND(WEEKDAY(F4,2)=1,COUNTIF(Jours_fériés,F4+1)),F12-HLOOKUP(F4+2,Journalier_HLV_Inter,10,FALSE),IF(AND(WEEKDAY(F4,2)=2,COUNTIF(Jours_fériés,AND(F4+1,F4+2))),F12-HLOOKUP(F4+3,Journalier_HLV_Inter,10,FALSE),IF(AND(WEEKDAY(F4,2)=2,COUNTIF(Jours_fériés,F4+1)),F12-HLOOKUP(F4+2,Journalier_HLV_Inter,10,FALSE),IF(AND(WEEKDAY(F4,2)=3,COUNTIF(Jours_fériés,AND(F4+1,F4+2))),F12-HLOOKUP(F4+5,Journalier_HLV_Inter,10,FALSE),IF(AND(WEEKDAY(F4,2)=3,COUNTIF(Jours_fériés,F4+1)),F12-HLOOKUP(F4+2,Journalier_HLV_Inter,10,FALSE),IF(AND(WEEKDAY(F4,2)=4,COUNTIF(Jours_fériés,F4+1)),F12-HLOOKUP(F4+4,Journalier_HLV_Inter,10,FALSE),IF(AND(WEEKDAY(F4,2)=4,COUNTIF(Jours_fériés,AND(F4+1,F4+4))),F12-HLOOKUP(F4+5,Journalier_HLV_Inter,10,FALSE),IF(AND(WEEKDAY(F4,2)=5,COUNTIF(Jours_fériés,F4+3)),F12-HLOOKUP(F4+4,Journalier_HLV_Inter,10,FALSE),IF(COUNTIF(Week_end,F4),0,IF(COUNTIF(Jours_fériés,F4),0,F12-HLOOKUP(F4+1,Journalier_HLV_Inter,10,FALSE))))))))))))) -> 0 | G21: =IF(WEEKDAY(G4,2)=5,(G12-HLOOKUP(G4+3,Journalier_HLV_Inter,10,FALSE)),IF(AND(WEEKDAY(G4,2)=1,COUNTIF(Jours_fériés,AND(G4+1,IE+2))),G12-HLOOKUP(G4+3,Journalier_HLV_Inter,10,FALSE),IF(AND(WEEKDAY(G4,2)=1,COUNTIF(Jours_fériés,G4+1)),G12-HLOOKUP(G4+2,Journalier_HLV_Inter,10,FALSE),IF(AND(WEEKDAY(G4,2)=2,COUNTIF(Jours_fériés,AND(G4+1,G4+2))),G12-HLOOKUP(G4+3,Journalier_HLV_Inter,10,FALSE),IF(AND(WEEKDAY(G4,2)=2,COUNTIF(Jours_fériés,G4+1)),G12-HLOOKUP(G4+2,Journalier_HLV_Inter,10,FALSE),IF(AND(WEEKDAY(G4,2)=3,COUNTIF(Jours_fériés,AND(G4+1,G4+2))),G12-HLOOKUP(G4+5,Journalier_HLV_Inter,10,FALSE),IF(AND(WEEKDAY(G4,2)=3,COUNTIF(Jours_fériés,G4+1)),G12-HLOOKUP(G4+2,Journalier_HLV_Inter,10,FALSE),IF(AND(WEEKDAY(G4,2)=4,COUNTIF(Jours_fériés,G4+1)),G12-HLOOKUP(G4+4,Journalier_HLV_Inter,10,FALSE),IF(AND(WEEKDAY(G4,2)=4,COUNTIF(Jours_fériés,AND(G4+1,G4+4))),G12-HLOOKUP(G4+5,Journalier_HLV_Inter,10,FALSE),IF(AND(WEEKDAY(G4,2)=5,COUNTIF(Jours_fériés,G4+3)),G12-HLOOKUP(G4+4,Journalier_HLV_Inter,10,FALSE),IF(COUNTIF(Week_end,G4),0,IF(COUNTIF(Jours_fériés,G4),0,G12-HLOOKUP(G4+1,Journalier_HLV_Inter,10,FALSE))))))))))))) -> 40 | H21: =IF(WEEKDAY(H4,2)=5,(H12-HLOOKUP(H4+3,Journalier_HLV_Inter,10,FALSE)),IF(AND(WEEKDAY(H4,2)=1,COUNTIF(Jours_fériés,AND(H4+1,IE+2))),H12-HLOOKUP(H4+3,Journalier_HLV_Inter,10,FALSE),IF(AND(WEEKDAY(H4,2)=1,COUNTIF(Jours_fériés,H4+1)),H12-HLOOKUP(H4+2,Journalier_HLV_Inter,10,FALSE),IF(AND(WEEKDAY(H4,2)=2,COUNTIF(Jours_fériés,AND(H4+1,H4+2))),H12-HLOOKUP(H4+3,Journalier_HLV_Inter,10,FALSE),IF(AND(WEEKDAY(H4,2)=2,COUNTIF(Jours_fériés,H4+1)),H12-HLOOKUP(H4+2,Journalier_HLV_Inter,10,FALSE),IF(AND(WEEKDAY(H4,2)=3,COUNTIF(Jours_fériés,AND(H4+1,H4+2))),H12-HLOOKUP(H4+5,Journalier_HLV_Inter,10,FALSE),IF(AND(WEEKDAY(H4,2)=3,COUNTIF(Jours_fériés,H4+1)),H12-HLOOKUP(H4+2,Journalier_HLV_Inter,10,FALSE),IF(AND(WEEKDAY(H4,2)=4,COUNTIF(Jours_fériés,H4+1)),H12-HLOOKUP(H4+4,Journalier_HLV_Inter,10,FALSE),IF(AND(WEEKDAY(H4,2)=4,COUNTIF(Jours_fériés,AND(H4+1,H4+4))),H12-HLOOKUP(H4+5,Journalier_HLV_Inter,10,FALSE),IF(AND(WEEKDAY(H4,2)=5,COUNTIF(Jours_fériés,H4+3)),H12-HLOOKUP(H4+4,Journalier_HLV_Inter,10,FALSE),IF(COUNTIF(Week_end,H4),0,IF(COUNTIF(Jours_fériés,H4),0,H12-HLOOKUP(H4+1,Journalier_HLV_Inter,10,FALSE))))))))))))) -> 25 | I21: =IF(WEEKDAY(I4,2)=5,(I12-HLOOKUP(I4+3,Journalier_HLV_Inter,10,FALSE)),IF(AND(WEEKDAY(I4,2)=1,COUNTIF(Jours_fériés,AND(I4+1,IE+2))),I12-HLOOKUP(I4+3,Journalier_HLV_Inter,10,FALSE),IF(AND(WEEKDAY(I4,2)=1,COUNTIF(Jours_fériés,I4+1)),I12-HLOOKUP(I4+2,Journalier_HLV_Inter,10,FALSE),IF(AND(WEEKDAY(I4,2)=2,COUNTIF(Jours_fériés,AND(I4+1,I4+2))),I12-HLOOKUP(I4+3,Journalier_HLV_Inter,10,FALSE),IF(AND(WEEKDAY(I4,2)=2,COUNTIF(Jours_fériés,I4+1)),I12-HLOOKUP(I4+2,Journalier_HLV_Inter,10,FALSE),IF(AND(WEEKDAY(I4,2)=3,COUNTIF(Jours_fériés,AND(I4+1,I4+2))),I12-HLOOKUP(I4+5,Journalier_HLV_Inter,10,FALSE),IF(AND(WEEKDAY(I4,2)=3,COUNTIF(Jours_fériés,I4+1)),I12-HLOOKUP(I4+2,Journalier_HLV_Inter,10,FALSE),IF(AND(WEEKDAY(I4,2)=4,COUNTIF(Jours_fériés,I4+1)),I12-HLOOKUP(I4+4,Journalier_HLV_Inter,10,FALSE),IF(AND(WEEKDAY(I4,2)=4,COUNTIF(Jours_fériés,AND(I4+1,I4+4))),I12-HLOOKUP(I4+5,Journalier_HLV_Inter,10,FALSE),IF(AND(WEEKDAY(I4,2)=5,COUNTIF(Jours_fériés,I4+3)),I12-HLOOKUP(I4+4,Journalier_HLV_Inter,10,FALSE),IF(COUNTIF(Week_end,I4),0,IF(COUNTIF(Jours_fériés,I4),0,I12-HLOOKUP(I4+1,Journalier_HLV_Inter,10,FALSE))))))))))))) -> 15 | J21: =IF(WEEKDAY(J4,2)=5,(J12-HLOOKUP(J4+3,Journalier_HLV_Inter,10,FALSE)),IF(AND(WEEKDAY(J4,2)=1,COUNTIF(Jours_fériés,AND(J4+1,IE+2))),J12-HLOOKUP(J4+3,Journalier_HLV_Inter,10,FALSE),IF(AND(WEEKDAY(J4,2)=1,COUNTIF(Jours_fériés,J4+1)),J12-HLOOKUP(J4+2,Journalier_HLV_Inter,10,FALSE),IF(AND(WEEKDAY(J4,2)=2,COUNTIF(Jours_fériés,AND(J4+1,J4+2))),J12-HLOOKUP(J4+3,Journalier_HLV_Inter,10,FALSE),IF(AND(WEEKDAY(J4,2)=2,COUNTIF(Jours_fériés,J4+1)),J12-HLOOKUP(J4+2,Journalier_HLV_Inter,10,FALSE),IF(AND(WEEKDAY(J4,2)=3,COUNTIF(Jours_fériés,AND(J4+1,J4+2))),J12-HLOOKUP(J4+5,Journalier_HLV_Inter,10,FALSE),IF(AND(WEEKDAY(J4,2)=3,COUNTIF(Jours_fériés,J4+1)),J12-HLOOKUP(J4+2,Journalier_HLV_Inter,10,FALSE),IF(AND(WEEKDAY(J4,2)=4,COUNTIF(Jours_fériés,J4+1)),J12-HLOOKUP(J4+4,Journalier_HLV_Inter,10,FALSE),IF(AND(WEEKDAY(J4,2)=4,COUNTIF(Jours_fériés,AND(J4+1,J4+4))),J12-HLOOKUP(J4+5,Journalier_HLV_Inter,10,FALSE),IF(AND(WEEKDAY(J4,2)=5,COUNTIF(Jours_fériés,J4+3)),J12-HLOOKUP(J4+4,Journalier_HLV_Inter,10,FALSE),IF(COUNTIF(Week_end,J4),0,IF(COUNTIF(Jours_fériés,J4),0,J12-HLOOKUP(J4+1,Journalier_HLV_Inter,10,FALSE))))))))))))) -> 0 | K21: =IF(WEEKDAY(K4,2)=5,(K12-HLOOKUP(K4+3,Journalier_HLV_Inter,10,FALSE)),IF(AND(WEEKDAY(K4,2)=1,COUNTIF(Jours_fériés,AND(K4+1,IE+2))),K12-HLOOKUP(K4+3,Journalier_HLV_Inter,10,FALSE),IF(AND(WEEKDAY(K4,2)=1,COUNTIF(Jours_fériés,K4+1)),K12-HLOOKUP(K4+2,Journalier_HLV_Inter,10,FALSE),IF(AND(WEEKDAY(K4,2)=2,COUNTIF(Jours_fériés,AND(K4+1,K4+2))),K12-HLOOKUP(K4+3,Journalier_HLV_Inter,10,FALSE),IF(AND(WEEKDAY(K4,2)=2,COUNTIF(Jours_fériés,K4+1)),K12-HLOOKUP(K4+2,Journalier_HLV_Inter,10,FALSE),IF(AND(WEEKDAY(K4,2)=3,COUNTIF(Jours_fériés,AND(K4+1,K4+2))),K12-HLOOKUP(K4+5,Journalier_HLV_Inter,10,FALSE),IF(AND(WEEKDAY(K4,2)=3,COUNTIF(Jours_fériés,K4+1)),K12-HLOOKUP(K4+2,Journalier_HLV_Inter,10,FALSE),IF(AND(WEEKDAY(K4,2)=4,COUNTIF(Jours_fériés,K4+1)),K12-HLOOKUP(K4+4,Journalier_HLV_Inter,10,FALSE),IF(AND(WEEKDAY(K4,2)=4,COUNTIF(Jours_fériés,AND(K4+1,K4+4))),K12-HLOOKUP(K4+5,Journalier_HLV_Inter,10,FALSE),IF(AND(WEEKDAY(K4,2)=5,COUNTIF(Jours_fériés,K4+3)),K12-HLOOKUP(K4+4,Journalier_HLV_Inter,10,FALSE),IF(COUNTIF(Week_end,K4),0,IF(COUNTIF(Jours_fériés,K4),0,K12-HLOOKUP(K4+1,Journalier_HLV_Inter,10,FALSE))))))))))))) -> 0 | L21: =IF(WEEKDAY(L4,2)=5,(L12-HLOOKUP(L4+3,Journalier_HLV_Inter,10,FALSE)),IF(AND(WEEKDAY(L4,2)=1,COUNTIF(Jours_fériés,AND(L4+1,IE+2))),L12-HLOOKUP(L4+3,Journalier_HLV_Inter,10,FALSE),IF(AND(WEEKDAY(L4,2)=1,COUNTIF(Jours_fériés,L4+1)),L12-HLOOKUP(L4+2,Journalier_HLV_Inter,10,FALSE),IF(AND(WEEKDAY(L4,2)=2,COUNTIF(Jours_fériés,AND(L4+1,L4+2))),L12-HLOOKUP(L4+3,Journalier_HLV_Inter,10,FALSE),IF(AND(WEEKDAY(L4,2)=2,COUNTIF(Jours_fériés,L4+1)),L12-HLOOKUP(L4+2,Journalier_HLV_Inter,10,FALSE),IF(AND(WEEKDAY(L4,2)=3,COUNTIF(Jours_fériés,AND(L4+1,L4+2))),L12-HLOOKUP(L4+5,Journalier_HLV_Inter,10,FALSE),IF(AND(WEEKDAY(L4,2)=3,COUNTIF(Jours_fériés,L4+1)),L12-HLOOKUP(L4+2,Journalier_HLV_Inter,10,FALSE),IF(AND(WEEKDAY(L4,2)=4,COUNTIF(Jours_fériés,L4+1)),L12-HLOOKUP(L4+4,Journalier_HLV_Inter,10,FALSE),IF(AND(WEEKDAY(L4,2)=4,COUNTIF(Jours_fériés,AND(L4+1,L4+4))),L12-HLOOKUP(L4+5,Journalier_HLV_Inter,10,FALSE),IF(AND(WEEKDAY(L4,2)=5,COUNTIF(Jours_fériés,L4+3)),L12-HLOOKUP(L4+4,Journalier_HLV_Inter,10,FALSE),IF(COUNTIF(Week_end,L4),0,IF(COUNTIF(Jours_fériés,L4),0,L12-HLOOKUP(L4+1,Journalier_HLV_Inter,10,FALSE))))))))))))) -> 0 | ... ND21: =IF(WEEKDAY(ND4,2)=5,(ND12-HLOOKUP(ND4+3,Journalier_HLV_Inter,10,FALSE)),IF(AND(WEEKDAY(ND4,2)=1,COUNTIF(Jours_fériés,AND(ND4+1,IE+2))),ND12-HLOOKUP(ND4+3,Journalier_HLV_Inter,10,FALSE),IF(AND(WEEKDAY(ND4,2)=1,COUNTIF(Jours_fériés,ND4+1)),ND12-HLOOKUP(ND4+2,Journalier_HLV_Inter,10,FALSE),IF(AND(WEEKDAY(ND4,2)=2,COUNTIF(Jours_fériés,AND(ND4+1,ND4+2))),ND12-HLOOKUP(ND4+3,Journalier_HLV_Inter,10,FALSE),IF(AND(WEEKDAY(ND4,2)=2,COUNTIF(Jours_fériés,ND4+1)),ND12-HLOOKUP(ND4+2,Journalier_HLV_Inter,10,FALSE),IF(AND(WEEKDAY(ND4,2)=3,COUNTIF(Jours_fériés,AND(ND4+1,ND4+2))),ND12-HLOOKUP(ND4+5,Journalier_HLV_Inter,10,FALSE),IF(AND(WEEKDAY(ND4,2)=3,COUNTIF(Jours_fériés,ND4+1)),ND12-HLOOKUP(ND4+2,Journalier_HLV_Inter,10,FALSE),IF(AND(WEEKDAY(ND4,2)=4,COUNTIF(Jours_fériés,ND4+1)),ND12-HLOOKUP(ND4+4,Journalier_HLV_Inter,10,FALSE),IF(AND(WEEKDAY(ND4,2)=4,COUNTIF(Jours_fériés,AND(ND4+1,ND4+4))),ND12-HLOOKUP(ND4+5,Journalier_HLV_Inter,10,FALSE),IF(AND(WEEKDAY(ND4,2)=5,COUNTIF(Jours_fériés,ND4+3)),ND12-HLOOKUP(ND4+4,Journalier_HLV_Inter,10,FALSE),IF(COUNTIF(Week_end,ND4),0,IF(COUNTIF(Jours_fériés,ND4),0,ND12-HLOOKUP(ND4+1,Journalier_HLV_Inter,10,FALSE))))))))))))) -> #N/A
A22: >J-2 | E22: =IF(WEEKDAY(E4,2)=5,(E13-HLOOKUP(E4+3,Journalier_HLV_Inter,11,FALSE)),IF(AND(WEEKDAY(E4,2)=1,COUNTIF(Jours_fériés,AND(E4+1,IE+2))),E13-HLOOKUP(E4+3,Journalier_HLV_Inter,11,FALSE),IF(AND(WEEKDAY(E4,2)=1,COUNTIF(Jours_fériés,E4+1)),E13-HLOOKUP(E4+2,Journalier_HLV_Inter,11,FALSE),IF(AND(WEEKDAY(E4,2)=2,COUNTIF(Jours_fériés,AND(E4+1,E4+2))),E13-HLOOKUP(E4+3,Journalier_HLV_Inter,11,FALSE),IF(AND(WEEKDAY(E4,2)=2,COUNTIF(Jours_fériés,E4+1)),E13-HLOOKUP(E4+2,Journalier_HLV_Inter,11,FALSE),IF(AND(WEEKDAY(E4,2)=3,COUNTIF(Jours_fériés,AND(E4+1,E4+2))),E13-HLOOKUP(E4+5,Journalier_HLV_Inter,11,FALSE),IF(AND(WEEKDAY(E4,2)=3,COUNTIF(Jours_fériés,E4+1)),E13-HLOOKUP(E4+2,Journalier_HLV_Inter,11,FALSE),IF(AND(WEEKDAY(E4,2)=4,COUNTIF(Jours_fériés,E4+1)),E13-HLOOKUP(E4+4,Journalier_HLV_Inter,11,FALSE),IF(AND(WEEKDAY(E4,2)=4,COUNTIF(Jours_fériés,AND(E4+1,E4+4))),E13-HLOOKUP(E4+5,Journalier_HLV_Inter,11,FALSE),IF(AND(WEEKDAY(E4,2)=5,COUNTIF(Jours_fériés,E4+3)),E13-HLOOKUP(E4+4,Journalier_HLV_Inter,11,FALSE),IF(COUNTIF(Week_end,E4),0,IF(COUNTIF(Jours_fériés,E4),0,E13-HLOOKUP(E4+1,Journalier_HLV_Inter,11,FALSE))))))))))))) -> 0 | F22: =IF(WEEKDAY(F4,2)=5,(F13-HLOOKUP(F4+3,Journalier_HLV_Inter,11,FALSE)),IF(AND(WEEKDAY(F4,2)=1,COUNTIF(Jours_fériés,AND(F4+1,IE+2))),F13-HLOOKUP(F4+3,Journalier_HLV_Inter,11,FALSE),IF(AND(WEEKDAY(F4,2)=1,COUNTIF(Jours_fériés,F4+1)),F13-HLOOKUP(F4+2,Journalier_HLV_Inter,11,FALSE),IF(AND(WEEKDAY(F4,2)=2,COUNTIF(Jours_fériés,AND(F4+1,F4+2))),F13-HLOOKUP(F4+3,Journalier_HLV_Inter,11,FALSE),IF(AND(WEEKDAY(F4,2)=2,COUNTIF(Jours_fériés,F4+1)),F13-HLOOKUP(F4+2,Journalier_HLV_Inter,11,FALSE),IF(AND(WEEKDAY(F4,2)=3,COUNTIF(Jours_fériés,AND(F4+1,F4+2))),F13-HLOOKUP(F4+5,Journalier_HLV_Inter,11,FALSE),IF(AND(WEEKDAY(F4,2)=3,COUNTIF(Jours_fériés,F4+1)),F13-HLOOKUP(F4+2,Journalier_HLV_Inter,11,FALSE),IF(AND(WEEKDAY(F4,2)=4,COUNTIF(Jours_fériés,F4+1)),F13-HLOOKUP(F4+4,Journalier_HLV_Inter,11,FALSE),IF(AND(WEEKDAY(F4,2)=4,COUNTIF(Jours_fériés,AND(F4+1,F4+4))),F13-HLOOKUP(F4+5,Journalier_HLV_Inter,11,FALSE),IF(AND(WEEKDAY(F4,2)=5,COUNTIF(Jours_fériés,F4+3)),F13-HLOOKUP(F4+4,Journalier_HLV_Inter,11,FALSE),IF(COUNTIF(Week_end,F4),0,IF(COUNTIF(Jours_fériés,F4),0,F13-HLOOKUP(F4+1,Journalier_HLV_Inter,11,FALSE))))))))))))) -> 0 | G22: =IF(WEEKDAY(G4,2)=5,(G13-HLOOKUP(G4+3,Journalier_HLV_Inter,11,FALSE)),IF(AND(WEEKDAY(G4,2)=1,COUNTIF(Jours_fériés,AND(G4+1,IE+2))),G13-HLOOKUP(G4+3,Journalier_HLV_Inter,11,FALSE),IF(AND(WEEKDAY(G4,2)=1,COUNTIF(Jours_fériés,G4+1)),G13-HLOOKUP(G4+2,Journalier_HLV_Inter,11,FALSE),IF(AND(WEEKDAY(G4,2)=2,COUNTIF(Jours_fériés,AND(G4+1,G4+2))),G13-HLOOKUP(G4+3,Journalier_HLV_Inter,11,FALSE),IF(AND(WEEKDAY(G4,2)=2,COUNTIF(Jours_fériés,G4+1)),G13-HLOOKUP(G4+2,Journalier_HLV_Inter,11,FALSE),IF(AND(WEEKDAY(G4,2)=3,COUNTIF(Jours_fériés,AND(G4+1,G4+2))),G13-HLOOKUP(G4+5,Journalier_HLV_Inter,11,FALSE),IF(AND(WEEKDAY(G4,2)=3,COUNTIF(Jours_fériés,G4+1)),G13-HLOOKUP(G4+2,Journalier_HLV_Inter,11,FALSE),IF(AND(WEEKDAY(G4,2)=4,COUNTIF(Jours_fériés,G4+1)),G13-HLOOKUP(G4+4,Journalier_HLV_Inter,11,FALSE),IF(AND(WEEKDAY(G4,2)=4,COUNTIF(Jours_fériés,AND(G4+1,G4+4))),G13-HLOOKUP(G4+5,Journalier_HLV_Inter,11,FALSE),IF(AND(WEEKDAY(G4,2)=5,COUNTIF(Jours_fériés,G4+3)),G13-HLOOKUP(G4+4,Journalier_HLV_Inter,11,FALSE),IF(COUNTIF(Week_end,G4),0,IF(COUNTIF(Jours_fériés,G4),0,G13-HLOOKUP(G4+1,Journalier_HLV_Inter,11,FALSE))))))))))))) -> 0 | H22: =IF(WEEKDAY(H4,2)=5,(H13-HLOOKUP(H4+3,Journalier_HLV_Inter,11,FALSE)),IF(AND(WEEKDAY(H4,2)=1,COUNTIF(Jours_fériés,AND(H4+1,IE+2))),H13-HLOOKUP(H4+3,Journalier_HLV_Inter,11,FALSE),IF(AND(WEEKDAY(H4,2)=1,COUNTIF(Jours_fériés,H4+1)),H13-HLOOKUP(H4+2,Journalier_HLV_Inter,11,FALSE),IF(AND(WEEKDAY(H4,2)=2,COUNTIF(Jours_fériés,AND(H4+1,H4+2))),H13-HLOOKUP(H4+3,Journalier_HLV_Inter,11,FALSE),IF(AND(WEEKDAY(H4,2)=2,COUNTIF(Jours_fériés,H4+1)),H13-HLOOKUP(H4+2,Journalier_HLV_Inter,11,FALSE),IF(AND(WEEKDAY(H4,2)=3,COUNTIF(Jours_fériés,AND(H4+1,H4+2))),H13-HLOOKUP(H4+5,Journalier_HLV_Inter,11,FALSE),IF(AND(WEEKDAY(H4,2)=3,COUNTIF(Jours_fériés,H4+1)),H13-HLOOKUP(H4+2,Journalier_HLV_Inter,11,FALSE),IF(AND(WEEKDAY(H4,2)=4,COUNTIF(Jours_fériés,H4+1)),H13-HLOOKUP(H4+4,Journalier_HLV_Inter,11,FALSE),IF(AND(WEEKDAY(H4,2)=4,COUNTIF(Jours_fériés,AND(H4+1,H4+4))),H13-HLOOKUP(H4+5,Journalier_HLV_Inter,11,FALSE),IF(AND(WEEKDAY(H4,2)=5,COUNTIF(Jours_fériés,H4+3)),H13-HLOOKUP(H4+4,Journalier_HLV_Inter,11,FALSE),IF(COUNTIF(Week_end,H4),0,IF(COUNTIF(Jours_fériés,H4),0,H13-HLOOKUP(H4+1,Journalier_HLV_Inter,11,FALSE))))))))))))) -> 0 | I22: =IF(WEEKDAY(I4,2)=5,(I13-HLOOKUP(I4+3,Journalier_HLV_Inter,11,FALSE)),IF(AND(WEEKDAY(I4,2)=1,COUNTIF(Jours_fériés,AND(I4+1,IE+2))),I13-HLOOKUP(I4+3,Journalier_HLV_Inter,11,FALSE),IF(AND(WEEKDAY(I4,2)=1,COUNTIF(Jours_fériés,I4+1)),I13-HLOOKUP(I4+2,Journalier_HLV_Inter,11,FALSE),IF(AND(WEEKDAY(I4,2)=2,COUNTIF(Jours_fériés,AND(I4+1,I4+2))),I13-HLOOKUP(I4+3,Journalier_HLV_Inter,11,FALSE),IF(AND(WEEKDAY(I4,2)=2,COUNTIF(Jours_fériés,I4+1)),I13-HLOOKUP(I4+2,Journalier_HLV_Inter,11,FALSE),IF(AND(WEEKDAY(I4,2)=3,COUNTIF(Jours_fériés,AND(I4+1,I4+2))),I13-HLOOKUP(I4+5,Journalier_HLV_Inter,11,FALSE),IF(AND(WEEKDAY(I4,2)=3,COUNTIF(Jours_fériés,I4+1)),I13-HLOOKUP(I4+2,Journalier_HLV_Inter,11,FALSE),IF(AND(WEEKDAY(I4,2)=4,COUNTIF(Jours_fériés,I4+1)),I13-HLOOKUP(I4+4,Journalier_HLV_Inter,11,FALSE),IF(AND(WEEKDAY(I4,2)=4,COUNTIF(Jours_fériés,AND(I4+1,I4+4))),I13-HLOOKUP(I4+5,Journalier_HLV_Inter,11,FALSE),IF(AND(WEEKDAY(I4,2)=5,COUNTIF(Jours_fériés,I4+3)),I13-HLOOKUP(I4+4,Journalier_HLV_Inter,11,FALSE),IF(COUNTIF(Week_end,I4),0,IF(COUNTIF(Jours_fériés,I4),0,I13-HLOOKUP(I4+1,Journalier_HLV_Inter,11,FALSE))))))))))))) -> 0 | J22: =IF(WEEKDAY(J4,2)=5,(J13-HLOOKUP(J4+3,Journalier_HLV_Inter,11,FALSE)),IF(AND(WEEKDAY(J4,2)=1,COUNTIF(Jours_fériés,AND(J4+1,IE+2))),J13-HLOOKUP(J4+3,Journalier_HLV_Inter,11,FALSE),IF(AND(WEEKDAY(J4,2)=1,COUNTIF(Jours_fériés,J4+1)),J13-HLOOKUP(J4+2,Journalier_HLV_Inter,11,FALSE),IF(AND(WEEKDAY(J4,2)=2,COUNTIF(Jours_fériés,AND(J4+1,J4+2))),J13-HLOOKUP(J4+3,Journalier_HLV_Inter,11,FALSE),IF(AND(WEEKDAY(J4,2)=2,COUNTIF(Jours_fériés,J4+1)),J13-HLOOKUP(J4+2,Journalier_HLV_Inter,11,FALSE),IF(AND(WEEKDAY(J4,2)=3,COUNTIF(Jours_fériés,AND(J4+1,J4+2))),J13-HLOOKUP(J4+5,Journalier_HLV_Inter,11,FALSE),IF(AND(WEEKDAY(J4,2)=3,COUNTIF(Jours_fériés,J4+1)),J13-HLOOKUP(J4+2,Journalier_HLV_Inter,11,FALSE),IF(AND(WEEKDAY(J4,2)=4,COUNTIF(Jours_fériés,J4+1)),J13-HLOOKUP(J4+4,Journalier_HLV_Inter,11,FALSE),IF(AND(WEEKDAY(J4,2)=4,COUNTIF(Jours_fériés,AND(J4+1,J4+4))),J13-HLOOKUP(J4+5,Journalier_HLV_Inter,11,FALSE),IF(AND(WEEKDAY(J4,2)=5,COUNTIF(Jours_fériés,J4+3)),J13-HLOOKUP(J4+4,Journalier_HLV_Inter,11,FALSE),IF(COUNTIF(Week_end,J4),0,IF(COUNTIF(Jours_fériés,J4),0,J13-HLOOKUP(J4+1,Journalier_HLV_Inter,11,FALSE))))))))))))) -> 0 | K22: =IF(WEEKDAY(K4,2)=5,(K13-HLOOKUP(K4+3,Journalier_HLV_Inter,11,FALSE)),IF(AND(WEEKDAY(K4,2)=1,COUNTIF(Jours_fériés,AND(K4+1,IE+2))),K13-HLOOKUP(K4+3,Journalier_HLV_Inter,11,FALSE),IF(AND(WEEKDAY(K4,2)=1,COUNTIF(Jours_fériés,K4+1)),K13-HLOOKUP(K4+2,Journalier_HLV_Inter,11,FALSE),IF(AND(WEEKDAY(K4,2)=2,COUNTIF(Jours_fériés,AND(K4+1,K4+2))),K13-HLOOKUP(K4+3,Journalier_HLV_Inter,11,FALSE),IF(AND(WEEKDAY(K4,2)=2,COUNTIF(Jours_fériés,K4+1)),K13-HLOOKUP(K4+2,Journalier_HLV_Inter,11,FALSE),IF(AND(WEEKDAY(K4,2)=3,COUNTIF(Jours_fériés,AND(K4+1,K4+2))),K13-HLOOKUP(K4+5,Journalier_HLV_Inter,11,FALSE),IF(AND(WEEKDAY(K4,2)=3,COUNTIF(Jours_fériés,K4+1)),K13-HLOOKUP(K4+2,Journalier_HLV_Inter,11,FALSE),IF(AND(WEEKDAY(K4,2)=4,COUNTIF(Jours_fériés,K4+1)),K13-HLOOKUP(K4+4,Journalier_HLV_Inter,11,FALSE),IF(AND(WEEKDAY(K4,2)=4,COUNTIF(Jours_fériés,AND(K4+1,K4+4))),K13-HLOOKUP(K4+5,Journalier_HLV_Inter,11,FALSE),IF(AND(WEEKDAY(K4,2)=5,COUNTIF(Jours_fériés,K4+3)),K13-HLOOKUP(K4+4,Journalier_HLV_Inter,11,FALSE),IF(COUNTIF(Week_end,K4),0,IF(COUNTIF(Jours_fériés,K4),0,K13-HLOOKUP(K4+1,Journalier_HLV_Inter,11,FALSE))))))))))))) -> 0 | L22: =IF(WEEKDAY(L4,2)=5,(L13-HLOOKUP(L4+3,Journalier_HLV_Inter,11,FALSE)),IF(AND(WEEKDAY(L4,2)=1,COUNTIF(Jours_fériés,AND(L4+1,IE+2))),L13-HLOOKUP(L4+3,Journalier_HLV_Inter,11,FALSE),IF(AND(WEEKDAY(L4,2)=1,COUNTIF(Jours_fériés,L4+1)),L13-HLOOKUP(L4+2,Journalier_HLV_Inter,11,FALSE),IF(AND(WEEKDAY(L4,2)=2,COUNTIF(Jours_fériés,AND(L4+1,L4+2))),L13-HLOOKUP(L4+3,Journalier_HLV_Inter,11,FALSE),IF(AND(WEEKDAY(L4,2)=2,COUNTIF(Jours_fériés,L4+1)),L13-HLOOKUP(L4+2,Journalier_HLV_Inter,11,FALSE),IF(AND(WEEKDAY(L4,2)=3,COUNTIF(Jours_fériés,AND(L4+1,L4+2))),L13-HLOOKUP(L4+5,Journalier_HLV_Inter,11,FALSE),IF(AND(WEEKDAY(L4,2)=3,COUNTIF(Jours_fériés,L4+1)),L13-HLOOKUP(L4+2,Journalier_HLV_Inter,11,FALSE),IF(AND(WEEKDAY(L4,2)=4,COUNTIF(Jours_fériés,L4+1)),L13-HLOOKUP(L4+4,Journalier_HLV_Inter,11,FALSE),IF(AND(WEEKDAY(L4,2)=4,COUNTIF(Jours_fériés,AND(L4+1,L4+4))),L13-HLOOKUP(L4+5,Journalier_HLV_Inter,11,FALSE),IF(AND(WEEKDAY(L4,2)=5,COUNTIF(Jours_fériés,L4+3)),L13-HLOOKUP(L4+4,Journalier_HLV_Inter,11,FALSE),IF(COUNTIF(Week_end,L4),0,IF(COUNTIF(Jours_fériés,L4),0,L13-HLOOKUP(L4+1,Journalier_HLV_Inter,11,FALSE))))))))))))) -> 0 | ... ND22: =IF(WEEKDAY(ND4,2)=5,(ND13-HLOOKUP(ND4+3,Journalier_HLV_Inter,11,FALSE)),IF(AND(WEEKDAY(ND4,2)=1,COUNTIF(Jours_fériés,AND(ND4+1,IE+2))),ND13-HLOOKUP(ND4+3,Journalier_HLV_Inter,11,FALSE),IF(AND(WEEKDAY(ND4,2)=1,COUNTIF(Jours_fériés,ND4+1)),ND13-HLOOKUP(ND4+2,Journalier_HLV_Inter,11,FALSE),IF(AND(WEEKDAY(ND4,2)=2,COUNTIF(Jours_fériés,AND(ND4+1,ND4+2))),ND13-HLOOKUP(ND4+3,Journalier_HLV_Inter,11,FALSE),IF(AND(WEEKDAY(ND4,2)=2,COUNTIF(Jours_fériés,ND4+1)),ND13-HLOOKUP(ND4+2,Journalier_HLV_Inter,11,FALSE),IF(AND(WEEKDAY(ND4,2)=3,COUNTIF(Jours_fériés,AND(ND4+1,ND4+2))),ND13-HLOOKUP(ND4+5,Journalier_HLV_Inter,11,FALSE),IF(AND(WEEKDAY(ND4,2)=3,COUNTIF(Jours_fériés,ND4+1)),ND13-HLOOKUP(ND4+2,Journalier_HLV_Inter,11,FALSE),IF(AND(WEEKDAY(ND4,2)=4,COUNTIF(Jours_fériés,ND4+1)),ND13-HLOOKUP(ND4+4,Journalier_HLV_Inter,11,FALSE),IF(AND(WEEKDAY(ND4,2)=4,COUNTIF(Jours_fériés,AND(ND4+1,ND4+4))),ND13-HLOOKUP(ND4+5,Journalier_HLV_Inter,11,FALSE),IF(AND(WEEKDAY(ND4,2)=5,COUNTIF(Jours_fériés,ND4+3)),ND13-HLOOKUP(ND4+4,Journalier_HLV_Inter,11,FALSE),IF(COUNTIF(Week_end,ND4),0,IF(COUNTIF(Jours_fériés,ND4),0,ND13-HLOOKUP(ND4+1,Journalier_HLV_Inter,11,FALSE))))))))))))) -> #N/A
E23: =SUM(E20:E22) -> 0 | F23: =SUM(F20:F22) -> 10 | G23: =SUM(G20:G22) -> 55 | H23: =SUM(H20:H22) -> 40 | I23: =SUM(I20:I22) -> 15 | J23: =SUM(J20:J22) -> 0 | K23: =SUM(K20:K22) -> 0 | L23: =SUM(L20:L22) -> 0 | ... ND23: =SUM(ND20:ND22) -> #N/A
A24: Mails
A25: J | E25: 100 | F25: 80 | G25: 70 | H25: 70
A26: J-1 | F26: 50 | G26: 40 | H26: 30
A27: J-2 | G27: 40 | H27: 25 | I27: 15
A28: >J-2
A29: >J-3
A30: Stock Global | D30: =SUM(D25:D28) -> 0 | E30: =SUM(E25:E28) -> 100 | F30: =SUM(F25:F28) -> 130 | G30: =SUM(G25:G28) -> 150 | H30: =SUM(H25:H28) -> 125 | I30: =SUM(I25:I28) -> 15 | J30: =SUM(J25:J28) -> 0 | K30: =SUM(K25:K28) -> 0 | ... ND30: =SUM(ND25:ND28) -> 0
A31: Total Traités | D31: =SUM(D32:D34) -> 0 | E31: =E32+E38 -> 50 | F31: =F32+F38 -> 50 | G31: =G32+G38 -> 95 | H31: =H32+H38 -> 110 | I31: =I32+I38 -> 15 | J31: =J32+J38 -> 0 | K31: =K32+K38 -> 0 | L31: =L32+L38 -> 0 | ... ND31: =ND32+ND38 -> #N/A
A32: J | E32: =IF(WEEKDAY(E4,2)=5,(E25-HLOOKUP(E4+3,Journalier_HLV_Inter,23,FALSE)),IF(AND(WEEKDAY(E4,2)=1,COUNTIF(Jours_fériés,AND(E4+1,IE+2))),E25-HLOOKUP(E4+3,Journalier_HLV_Inter,23,FALSE),IF(AND(WEEKDAY(E4,2)=1,COUNTIF(Jours_fériés,E4+1)),E25-HLOOKUP(E4+2,Journalier_HLV_Inter,23,FALSE),IF(AND(WEEKDAY(E4,2)=2,COUNTIF(Jours_fériés,AND(E4+1,E4+2))),E25-HLOOKUP(E4+3,Journalier_HLV_Inter,23,FALSE),IF(AND(WEEKDAY(E4,2)=2,COUNTIF(Jours_fériés,E4+1)),E25-HLOOKUP(E4+2,Journalier_HLV_Inter,23,FALSE),IF(AND(WEEKDAY(E4,2)=3,COUNTIF(Jours_fériés,AND(E4+1,E4+2))),E25-HLOOKUP(E4+5,Journalier_HLV_Inter,23,FALSE),IF(AND(WEEKDAY(E4,2)=3,COUNTIF(Jours_fériés,E4+1)),E25-HLOOKUP(E4+2,Journalier_HLV_Inter,23,FALSE),IF(AND(WEEKDAY(E4,2)=4,COUNTIF(Jours_fériés,E4+1)),E25-HLOOKUP(E4+4,Journalier_HLV_Inter,23,FALSE),IF(AND(WEEKDAY(E4,2)=4,COUNTIF(Jours_fériés,AND(E4+1,E4+4))),E25-HLOOKUP(E4+5,Journalier_HLV_Inter,23,FALSE),IF(AND(WEEKDAY(E4,2)=5,COUNTIF(Jours_fériés,E4+3)),E25-HLOOKUP(E4+4,Journalier_HLV_Inter,23,FALSE),IF(COUNTIF(Week_end,E4),0,IF(COUNTIF(Jours_fériés,E4),0,E25-HLOOKUP(E4+1,Journalier_HLV_Inter,23,FALSE))))))))))))) -> 50 | F32: =IF(WEEKDAY(F4,2)=5,(F25-HLOOKUP(F4+3,Journalier_HLV_Inter,23,FALSE)),IF(AND(WEEKDAY(F4,2)=1,COUNTIF(Jours_fériés,AND(F4+1,IE+2))),F25-HLOOKUP(F4+3,Journalier_HLV_Inter,23,FALSE),IF(AND(WEEKDAY(F4,2)=1,COUNTIF(Jours_fériés,F4+1)),F25-HLOOKUP(F4+2,Journalier_HLV_Inter,23,FALSE),IF(AND(WEEKDAY(F4,2)=2,COUNTIF(Jours_fériés,AND(F4+1,F4+2))),F25-HLOOKUP(F4+3,Journalier_HLV_Inter,23,FALSE),IF(AND(WEEKDAY(F4,2)=2,COUNTIF(Jours_fériés,F4+1)),F25-HLOOKUP(F4+2,Journalier_HLV_Inter,23,FALSE),IF(AND(WEEKDAY(F4,2)=3,COUNTIF(Jours_fériés,AND(F4+1,F4+2))),F25-HLOOKUP(F4+5,Journalier_HLV_Inter,23,FALSE),IF(AND(WEEKDAY(F4,2)=3,COUNTIF(Jours_fériés,F4+1)),F25-HLOOKUP(F4+2,Journalier_HLV_Inter,23,FALSE),IF(AND(WEEKDAY(F4,2)=4,COUNTIF(Jours_fériés,F4+1)),F25-HLOOKUP(F4+4,Journalier_HLV_Inter,23,FALSE),IF(AND(WEEKDAY(F4,2)=4,COUNTIF(Jours_fériés,AND(F4+1,F4+4))),F25-HLOOKUP(F4+5,Journalier_HLV_Inter,23,FALSE),IF(AND(WEEKDAY(F4,2)=5,COUNTIF(Jours_fériés,F4+3)),F25-HLOOKUP(F4+4,Journalier_HLV_Inter,23,FALSE),IF(COUNTIF(Week_end,F4),0,IF(COUNTIF(Jours_fériés,F4),0,F25-HLOOKUP(F4+1,Journalier_HLV_Inter,23,FALSE))))))))))))) -> 40 | G32: =IF(WEEKDAY(G4,2)=5,(G25-HLOOKUP(G4+3,Journalier_HLV_Inter,23,FALSE)),IF(AND(WEEKDAY(G4,2)=1,COUNTIF(Jours_fériés,AND(G4+1,IE+2))),G25-HLOOKUP(G4+3,Journalier_HLV_Inter,23,FALSE),IF(AND(WEEKDAY(G4,2)=1,COUNTIF(Jours_fériés,G4+1)),G25-HLOOKUP(G4+2,Journalier_HLV_Inter,23,FALSE),IF(AND(WEEKDAY(G4,2)=2,COUNTIF(Jours_fériés,AND(G4+1,G4+2))),G25-HLOOKUP(G4+3,Journalier_HLV_Inter,23,FALSE),IF(AND(WEEKDAY(G4,2)=2,COUNTIF(Jours_fériés,G4+1)),G25-HLOOKUP(G4+2,Journalier_HLV_Inter,23,FALSE),IF(AND(WEEKDAY(G4,2)=3,COUNTIF(Jours_fériés,AND(G4+1,G4+2))),G25-HLOOKUP(G4+5,Journalier_HLV_Inter,23,FALSE),IF(AND(WEEKDAY(G4,2)=3,COUNTIF(Jours_fériés,G4+1)),G25-HLOOKUP(G4+2,Journalier_HLV_Inter,23,FALSE),IF(AND(WEEKDAY(G4,2)=4,COUNTIF(Jours_fériés,G4+1)),G25-HLOOKUP(G4+4,Journalier_HLV_Inter,23,FALSE),IF(AND(WEEKDAY(G4,2)=4,COUNTIF(Jours_fériés,AND(G4+1,G4+4))),G25-HLOOKUP(G4+5,Journalier_HLV_Inter,23,FALSE),IF(AND(WEEKDAY(G4,2)=5,COUNTIF(Jours_fériés,G4+3)),G25-HLOOKUP(G4+4,Journalier_HLV_Inter,23,FALSE),IF(COUNTIF(Week_end,G4),0,IF(COUNTIF(Jours_fériés,G4),0,G25-HLOOKUP(G4+1,Journalier_HLV_Inter,23,FALSE))))))))))))) -> 40 | H32: =IF(WEEKDAY(H4,2)=5,(H25-HLOOKUP(H4+3,Journalier_HLV_Inter,23,FALSE)),IF(AND(WEEKDAY(H4,2)=1,COUNTIF(Jours_fériés,AND(H4+1,IE+2))),H25-HLOOKUP(H4+3,Journalier_HLV_Inter,23,FALSE),IF(AND(WEEKDAY(H4,2)=1,COUNTIF(Jours_fériés,H4+1)),H25-HLOOKUP(H4+2,Journalier_HLV_Inter,23,FALSE),IF(AND(WEEKDAY(H4,2)=2,COUNTIF(Jours_fériés,AND(H4+1,H4+2))),H25-HLOOKUP(H4+3,Journalier_HLV_Inter,23,FALSE),IF(AND(WEEKDAY(H4,2)=2,COUNTIF(Jours_fériés,H4+1)),H25-HLOOKUP(H4+2,Journalier_HLV_Inter,23,FALSE),IF(AND(WEEKDAY(H4,2)=3,COUNTIF(Jours_fériés,AND(H4+1,H4+2))),H25-HLOOKUP(H4+5,Journalier_HLV_Inter,23,FALSE),IF(AND(WEEKDAY(H4,2)=3,COUNTIF(Jours_fériés,H4+1)),H25-HLOOKUP(H4+2,Journalier_HLV_Inter,23,FALSE),IF(AND(WEEKDAY(H4,2)=4,COUNTIF(Jours_fériés,H4+1)),H25-HLOOKUP(H4+4,Journalier_HLV_Inter,23,FALSE),IF(AND(WEEKDAY(H4,2)=4,COUNTIF(Jours_fériés,AND(H4+1,H4+4))),H25-HLOOKUP(H4+5,Journalier_HLV_Inter,23,FALSE),IF(AND(WEEKDAY(H4,2)=5,COUNTIF(Jours_fériés,H4+3)),H25-HLOOKUP(H4+4,Journalier_HLV_Inter,23,FALSE),IF(COUNTIF(Week_end,H4),0,IF(COUNTIF(Jours_fériés,H4),0,H25-HLOOKUP(H4+1,Journalier_HLV_Inter,23,FALSE))))))))))))) -> 70 | I32: =IF(WEEKDAY(I4,2)=5,(I25-HLOOKUP(I4+3,Journalier_HLV_Inter,23,FALSE)),IF(AND(WEEKDAY(I4,2)=1,COUNTIF(Jours_fériés,AND(I4+1,IE+2))),I25-HLOOKUP(I4+3,Journalier_HLV_Inter,23,FALSE),IF(AND(WEEKDAY(I4,2)=1,COUNTIF(Jours_fériés,I4+1)),I25-HLOOKUP(I4+2,Journalier_HLV_Inter,23,FALSE),IF(AND(WEEKDAY(I4,2)=2,COUNTIF(Jours_fériés,AND(I4+1,I4+2))),I25-HLOOKUP(I4+3,Journalier_HLV_Inter,23,FALSE),IF(AND(WEEKDAY(I4,2)=2,COUNTIF(Jours_fériés,I4+1)),I25-HLOOKUP(I4+2,Journalier_HLV_Inter,23,FALSE),IF(AND(WEEKDAY(I4,2)=3,COUNTIF(Jours_fériés,AND(I4+1,I4+2))),I25-HLOOKUP(I4+5,Journalier_HLV_Inter,23,FALSE),IF(AND(WEEKDAY(I4,2)=3,COUNTIF(Jours_fériés,I4+1)),I25-HLOOKUP(I4+2,Journalier_HLV_Inter,23,FALSE),IF(AND(WEEKDAY(I4,2)=4,COUNTIF(Jours_fériés,I4+1)),I25-HLOOKUP(I4+4,Journalier_HLV_Inter,23,FALSE),IF(AND(WEEKDAY(I4,2)=4,COUNTIF(Jours_fériés,AND(I4+1,I4+4))),I25-HLOOKUP(I4+5,Journalier_HLV_Inter,23,FALSE),IF(AND(WEEKDAY(I4,2)=5,COUNTIF(Jours_fériés,I4+3)),I25-HLOOKUP(I4+4,Journalier_HLV_Inter,23,FALSE),IF(COUNTIF(Week_end,I4),0,IF(COUNTIF(Jours_fériés,I4),0,I25-HLOOKUP(I4+1,Journalier_HLV_Inter,23,FALSE))))))))))))) -> 0 | J32: =IF(WEEKDAY(J4,2)=5,(J25-HLOOKUP(J4+3,Journalier_HLV_Inter,23,FALSE)),IF(AND(WEEKDAY(J4,2)=1,COUNTIF(Jours_fériés,AND(J4+1,IE+2))),J25-HLOOKUP(J4+3,Journalier_HLV_Inter,23,FALSE),IF(AND(WEEKDAY(J4,2)=1,COUNTIF(Jours_fériés,J4+1)),J25-HLOOKUP(J4+2,Journalier_HLV_Inter,23,FALSE),IF(AND(WEEKDAY(J4,2)=2,COUNTIF(Jours_fériés,AND(J4+1,J4+2))),J25-HLOOKUP(J4+3,Journalier_HLV_Inter,23,FALSE),IF(AND(WEEKDAY(J4,2)=2,COUNTIF(Jours_fériés,J4+1)),J25-HLOOKUP(J4+2,Journalier_HLV_Inter,23,FALSE),IF(AND(WEEKDAY(J4,2)=3,COUNTIF(Jours_fériés,AND(J4+1,J4+2))),J25-HLOOKUP(J4+5,Journalier_HLV_Inter,23,FALSE),IF(AND(WEEKDAY(J4,2)=3,COUNTIF(Jours_fériés,J4+1)),J25-HLOOKUP(J4+2,Journalier_HLV_Inter,23,FALSE),IF(AND(WEEKDAY(J4,2)=4,COUNTIF(Jours_fériés,J4+1)),J25-HLOOKUP(J4+4,Journalier_HLV_Inter,23,FALSE),IF(AND(WEEKDAY(J4,2)=4,COUNTIF(Jours_fériés,AND(J4+1,J4+4))),J25-HLOOKUP(J4+5,Journalier_HLV_Inter,23,FALSE),IF(AND(WEEKDAY(J4,2)=5,COUNTIF(Jours_fériés,J4+3)),J25-HLOOKUP(J4+4,Journalier_HLV_Inter,23,FALSE),IF(COUNTIF(Week_end,J4),0,IF(COUNTIF(Jours_fériés,J4),0,J25-HLOOKUP(J4+1,Journalier_HLV_Inter,23,FALSE))))))))))))) -> 0 | K32: =IF(WEEKDAY(K4,2)=5,(K25-HLOOKUP(K4+3,Journalier_HLV_Inter,23,FALSE)),IF(AND(WEEKDAY(K4,2)=1,COUNTIF(Jours_fériés,AND(K4+1,IE+2))),K25-HLOOKUP(K4+3,Journalier_HLV_Inter,23,FALSE),IF(AND(WEEKDAY(K4,2)=1,COUNTIF(Jours_fériés,K4+1)),K25-HLOOKUP(K4+2,Journalier_HLV_Inter,23,FALSE),IF(AND(WEEKDAY(K4,2)=2,COUNTIF(Jours_fériés,AND(K4+1,K4+2))),K25-HLOOKUP(K4+3,Journalier_HLV_Inter,23,FALSE),IF(AND(WEEKDAY(K4,2)=2,COUNTIF(Jours_fériés,K4+1)),K25-HLOOKUP(K4+2,Journalier_HLV_Inter,23,FALSE),IF(AND(WEEKDAY(K4,2)=3,COUNTIF(Jours_fériés,AND(K4+1,K4+2))),K25-HLOOKUP(K4+5,Journalier_HLV_Inter,23,FALSE),IF(AND(WEEKDAY(K4,2)=3,COUNTIF(Jours_fériés,K4+1)),K25-HLOOKUP(K4+2,Journalier_HLV_Inter,23,FALSE),IF(AND(WEEKDAY(K4,2)=4,COUNTIF(Jours_fériés,K4+1)),K25-HLOOKUP(K4+4,Journalier_HLV_Inter,23,FALSE),IF(AND(WEEKDAY(K4,2)=4,COUNTIF(Jours_fériés,AND(K4+1,K4+4))),K25-HLOOKUP(K4+5,Journalier_HLV_Inter,23,FALSE),IF(AND(WEEKDAY(K4,2)=5,COUNTIF(Jours_fériés,K4+3)),K25-HLOOKUP(K4+4,Journalier_HLV_Inter,23,FALSE),IF(COUNTIF(Week_end,K4),0,IF(COUNTIF(Jours_fériés,K4),0,K25-HLOOKUP(K4+1,Journalier_HLV_Inter,23,FALSE))))))))))))) -> 0 | L32: =IF(WEEKDAY(L4,2)=5,(L25-HLOOKUP(L4+3,Journalier_HLV_Inter,23,FALSE)),IF(AND(WEEKDAY(L4,2)=1,COUNTIF(Jours_fériés,AND(L4+1,IE+2))),L25-HLOOKUP(L4+3,Journalier_HLV_Inter,23,FALSE),IF(AND(WEEKDAY(L4,2)=1,COUNTIF(Jours_fériés,L4+1)),L25-HLOOKUP(L4+2,Journalier_HLV_Inter,23,FALSE),IF(AND(WEEKDAY(L4,2)=2,COUNTIF(Jours_fériés,AND(L4+1,L4+2))),L25-HLOOKUP(L4+3,Journalier_HLV_Inter,23,FALSE),IF(AND(WEEKDAY(L4,2)=2,COUNTIF(Jours_fériés,L4+1)),L25-HLOOKUP(L4+2,Journalier_HLV_Inter,23,FALSE),IF(AND(WEEKDAY(L4,2)=3,COUNTIF(Jours_fériés,AND(L4+1,L4+2))),L25-HLOOKUP(L4+5,Journalier_HLV_Inter,23,FALSE),IF(AND(WEEKDAY(L4,2)=3,COUNTIF(Jours_fériés,L4+1)),L25-HLOOKUP(L4+2,Journalier_HLV_Inter,23,FALSE),IF(AND(WEEKDAY(L4,2)=4,COUNTIF(Jours_fériés,L4+1)),L25-HLOOKUP(L4+4,Journalier_HLV_Inter,23,FALSE),IF(AND(WEEKDAY(L4,2)=4,COUNTIF(Jours_fériés,AND(L4+1,L4+4))),L25-HLOOKUP(L4+5,Journalier_HLV_Inter,23,FALSE),IF(AND(WEEKDAY(L4,2)=5,COUNTIF(Jours_fériés,L4+3)),L25-HLOOKUP(L4+4,Journalier_HLV_Inter,23,FALSE),IF(COUNTIF(Week_end,L4),0,IF(COUNTIF(Jours_fériés,L4),0,L25-HLOOKUP(L4+1,Journalier_HLV_Inter,23,FALSE))))))))))))) -> 0 | ... ND32: =IF(WEEKDAY(ND4,2)=5,(ND25-HLOOKUP(ND4+3,Journalier_HLV_Inter,23,FALSE)),IF(AND(WEEKDAY(ND4,2)=1,COUNTIF(Jours_fériés,AND(ND4+1,IE+2))),ND25-HLOOKUP(ND4+3,Journalier_HLV_Inter,23,FALSE),IF(AND(WEEKDAY(ND4,2)=1,COUNTIF(Jours_fériés,ND4+1)),ND25-HLOOKUP(ND4+2,Journalier_HLV_Inter,23,FALSE),IF(AND(WEEKDAY(ND4,2)=2,COUNTIF(Jours_fériés,AND(ND4+1,ND4+2))),ND25-HLOOKUP(ND4+3,Journalier_HLV_Inter,23,FALSE),IF(AND(WEEKDAY(ND4,2)=2,COUNTIF(Jours_fériés,ND4+1)),ND25-HLOOKUP(ND4+2,Journalier_HLV_Inter,23,FALSE),IF(AND(WEEKDAY(ND4,2)=3,COUNTIF(Jours_fériés,AND(ND4+1,ND4+2))),ND25-HLOOKUP(ND4+5,Journalier_HLV_Inter,23,FALSE),IF(AND(WEEKDAY(ND4,2)=3,COUNTIF(Jours_fériés,ND4+1)),ND25-HLOOKUP(ND4+2,Journalier_HLV_Inter,23,FALSE),IF(AND(WEEKDAY(ND4,2)=4,COUNTIF(Jours_fériés,ND4+1)),ND25-HLOOKUP(ND4+4,Journalier_HLV_Inter,23,FALSE),IF(AND(WEEKDAY(ND4,2)=4,COUNTIF(Jours_fériés,AND(ND4+1,ND4+4))),ND25-HLOOKUP(ND4+5,Journalier_HLV_Inter,23,FALSE),IF(AND(WEEKDAY(ND4,2)=5,COUNTIF(Jours_fériés,ND4+3)),ND25-HLOOKUP(ND4+4,Journalier_HLV_Inter,23,FALSE),IF(COUNTIF(Week_end,ND4),0,IF(COUNTIF(Jours_fériés,ND4),0,ND25-HLOOKUP(ND4+1,Journalier_HLV_Inter,23,FALSE))))))))))))) -> #N/A
A33: J+1 | E33: =IF(WEEKDAY(E4,2)=5,(HLOOKUP(E4+3,Journalier_HLV_Inter,23,FALSE)-HLOOKUP(E4+4,Journalier_HLV_Inter,24,FALSE)),IF(AND(WEEKDAY(E4,2)=1,COUNTIF(Jours_fériés,AND(E4+1,IE+2))),HLOOKUP(E4+3,Journalier_HLV_Inter,23,FALSE)-HLOOKUP(E4+4,Journalier_HLV_Inter,24,FALSE),IF(AND(WEEKDAY(E4,2)=1,COUNTIF(Jours_fériés,E4+1)),HLOOKUP(E4+2,Journalier_HLV_Inter,23,FALSE)-HLOOKUP(E4+3,Journalier_HLV_Inter,24,FALSE),IF(AND(WEEKDAY(E4,2)=1,COUNTIF(Jours_fériés,E4+2)),HLOOKUP(E4+1,Journalier_HLV_Inter,23,FALSE)-HLOOKUP(E4+3,Journalier_HLV_Inter,24,FALSE),IF(AND(WEEKDAY(E4,2)=2,COUNTIF(Jours_fériés,AND(E4+1,E4+2))),HLOOKUP(E4+3,Journalier_HLV_Inter,23,FALSE)-HLOOKUP(E4+4,Journalier_HLV_Inter,24,FALSE),IF(AND(WEEKDAY(E4,2)=2,COUNTIF(Jours_fériés,E4+1)),HLOOKUP(E4+2,Journalier_HLV_Inter,23,FALSE)-HLOOKUP(E4+3,Journalier_HLV_Inter,24,FALSE),IF(AND(WEEKDAY(E4,2)=2,COUNTIF(Jours_fériés,E4+2)),HLOOKUP(E4+1,Journalier_HLV_Inter,23,FALSE)-HLOOKUP(E4+3,Journalier_HLV_Inter,24,FALSE),IF(AND(WEEKDAY(E4,2)=3,COUNTIF(Jours_fériés,AND(E4+1,E4+2))),HLOOKUP(E4+3,Journalier_HLV_Inter,23,FALSE)-HLOOKUP(E4+4,Journalier_HLV_Inter,24,FALSE),IF(AND(WEEKDAY(E4,2)=3,COUNTIF(Jours_fériés,E4+1)),HLOOKUP(E4+2,Journalier_HLV_Inter,23,FALSE)-HLOOKUP(E4+3,Journalier_HLV_Inter,24,FALSE),IF(AND(WEEKDAY(E4,2)=3,COUNTIF(Jours_fériés,E4+2)),HLOOKUP(E4+1,Journalier_HLV_Inter,23,FALSE)-HLOOKUP(E4+5,Journalier_HLV_Inter,24,FALSE),IF(WEEKDAY(E4,2)=4,(HLOOKUP(E4+1,Journalier_HLV_Inter,23,FALSE)-HLOOKUP(E4+4,Journalier_HLV_Inter,24,FALSE)),IF(AND(WEEKDAY(E4,2)=4,COUNTIF(Jours_fériés,E4+1)),HLOOKUP(E4+4,Journalier_HLV_Inter,23,FALSE)-HLOOKUP(E4+5,Journalier_HLV_Inter,24,FALSE),IF(AND(WEEKDAY(E4,2)=4,COUNTIF(Jours_fériés,AND(E4+1,E4+4))),HLOOKUP(E4+5,Journalier_HLV_Inter,23,FALSE)-HLOOKUP(E4+6,Journalier_HLV_Inter,24,FALSE),IF(AND(WEEKDAY(E4,2)=4,COUNTIF(Jours_fériés,E4+4)),HLOOKUP(E4+1,Journalier_HLV_Inter,23,FALSE)-HLOOKUP(E4+5,Journalier_HLV_Inter,24,FALSE),IF(AND(WEEKDAY(E4,2)=5,COUNTIF(Jours_fériés,E4+3)),HLOOKUP(E4+4,Journalier_HLV_Inter,23,FALSE)-HLOOKUP(E4+5,Journalier_HLV_Inter,24,FALSE),IF(AND(WEEKDAY(E4,2)=5,COUNTIF(Jours_fériés,E4+4)),HLOOKUP(E4+3,Journalier_HLV_Inter,23,FALSE)-HLOOKUP(E4+5,Journalier_HLV_Inter,24,FALSE),IF(COUNTIF(Week_end,E4),0,IF(COUNTIF(Jours_fériés,E4),0,HLOOKUP(E4+1,Journalier_HLV_Inter,23,FALSE)-HLOOKUP(E4+2,Journalier_HLV_Inter,24,FALSE))))))))))))))))))) -> 10 | F33: =IF(WEEKDAY(F4,2)=5,(HLOOKUP(F4+3,Journalier_HLV_Inter,23,FALSE)-HLOOKUP(F4+4,Journalier_HLV_Inter,24,FALSE)),IF(AND(WEEKDAY(F4,2)=1,COUNTIF(Jours_fériés,AND(F4+1,IE+2))),HLOOKUP(F4+3,Journalier_HLV_Inter,23,FALSE)-HLOOKUP(F4+4,Journalier_HLV_Inter,24,FALSE),IF(AND(WEEKDAY(F4,2)=1,COUNTIF(Jours_fériés,F4+1)),HLOOKUP(F4+2,Journalier_HLV_Inter,23,FALSE)-HLOOKUP(F4+3,Journalier_HLV_Inter,24,FALSE),IF(AND(WEEKDAY(F4,2)=1,COUNTIF(Jours_fériés,F4+2)),HLOOKUP(F4+1,Journalier_HLV_Inter,23,FALSE)-HLOOKUP(F4+3,Journalier_HLV_Inter,24,FALSE),IF(AND(WEEKDAY(F4,2)=2,COUNTIF(Jours_fériés,AND(F4+1,F4+2))),HLOOKUP(F4+3,Journalier_HLV_Inter,23,FALSE)-HLOOKUP(F4+4,Journalier_HLV_Inter,24,FALSE),IF(AND(WEEKDAY(F4,2)=2,COUNTIF(Jours_fériés,F4+1)),HLOOKUP(F4+2,Journalier_HLV_Inter,23,FALSE)-HLOOKUP(F4+3,Journalier_HLV_Inter,24,FALSE),IF(AND(WEEKDAY(F4,2)=2,COUNTIF(Jours_fériés,F4+2)),HLOOKUP(F4+1,Journalier_HLV_Inter,23,FALSE)-HLOOKUP(F4+3,Journalier_HLV_Inter,24,FALSE),IF(AND(WEEKDAY(F4,2)=3,COUNTIF(Jours_fériés,AND(F4+1,F4+2))),HLOOKUP(F4+3,Journalier_HLV_Inter,23,FALSE)-HLOOKUP(F4+4,Journalier_HLV_Inter,24,FALSE),IF(AND(WEEKDAY(F4,2)=3,COUNTIF(Jours_fériés,F4+1)),HLOOKUP(F4+2,Journalier_HLV_Inter,23,FALSE)-HLOOKUP(F4+3,Journalier_HLV_Inter,24,FALSE),IF(AND(WEEKDAY(F4,2)=3,COUNTIF(Jours_fériés,F4+2)),HLOOKUP(F4+1,Journalier_HLV_Inter,23,FALSE)-HLOOKUP(F4+5,Journalier_HLV_Inter,24,FALSE),IF(WEEKDAY(F4,2)=4,(HLOOKUP(F4+1,Journalier_HLV_Inter,23,FALSE)-HLOOKUP(F4+4,Journalier_HLV_Inter,24,FALSE)),IF(AND(WEEKDAY(F4,2)=4,COUNTIF(Jours_fériés,F4+1)),HLOOKUP(F4+4,Journalier_HLV_Inter,23,FALSE)-HLOOKUP(F4+5,Journalier_HLV_Inter,24,FALSE),IF(AND(WEEKDAY(F4,2)=4,COUNTIF(Jours_fériés,AND(F4+1,F4+4))),HLOOKUP(F4+5,Journalier_HLV_Inter,23,FALSE)-HLOOKUP(F4+6,Journalier_HLV_Inter,24,FALSE),IF(AND(WEEKDAY(F4,2)=4,COUNTIF(Jours_fériés,F4+4)),HLOOKUP(F4+1,Journalier_HLV_Inter,23,FALSE)-HLOOKUP(F4+5,Journalier_HLV_Inter,24,FALSE),IF(AND(WEEKDAY(F4,2)=5,COUNTIF(Jours_fériés,F4+3)),HLOOKUP(F4+4,Journalier_HLV_Inter,23,FALSE)-HLOOKUP(F4+5,Journalier_HLV_Inter,24,FALSE),IF(AND(WEEKDAY(F4,2)=5,COUNTIF(Jours_fériés,F4+4)),HLOOKUP(F4+3,Journalier_HLV_Inter,23,FALSE)-HLOOKUP(F4+5,Journalier_HLV_Inter,24,FALSE),IF(COUNTIF(Week_end,F4),0,IF(COUNTIF(Jours_fériés,F4),0,HLOOKUP(F4+1,Journalier_HLV_Inter,23,FALSE)-HLOOKUP(F4+2,Journalier_HLV_Inter,24,FALSE))))))))))))))))))) -> 15 | G33: =IF(WEEKDAY(G4,2)=5,(HLOOKUP(G4+3,Journalier_HLV_Inter,23,FALSE)-HLOOKUP(G4+4,Journalier_HLV_Inter,24,FALSE)),IF(AND(WEEKDAY(G4,2)=1,COUNTIF(Jours_fériés,AND(G4+1,IE+2))),HLOOKUP(G4+3,Journalier_HLV_Inter,23,FALSE)-HLOOKUP(G4+4,Journalier_HLV_Inter,24,FALSE),IF(AND(WEEKDAY(G4,2)=1,COUNTIF(Jours_fériés,G4+1)),HLOOKUP(G4+2,Journalier_HLV_Inter,23,FALSE)-HLOOKUP(G4+3,Journalier_HLV_Inter,24,FALSE),IF(AND(WEEKDAY(G4,2)=1,COUNTIF(Jours_fériés,G4+2)),HLOOKUP(G4+1,Journalier_HLV_Inter,23,FALSE)-HLOOKUP(G4+3,Journalier_HLV_Inter,24,FALSE),IF(AND(WEEKDAY(G4,2)=2,COUNTIF(Jours_fériés,AND(G4+1,G4+2))),HLOOKUP(G4+3,Journalier_HLV_Inter,23,FALSE)-HLOOKUP(G4+4,Journalier_HLV_Inter,24,FALSE),IF(AND(WEEKDAY(G4,2)=2,COUNTIF(Jours_fériés,G4+1)),HLOOKUP(G4+2,Journalier_HLV_Inter,23,FALSE)-HLOOKUP(G4+3,Journalier_HLV_Inter,24,FALSE),IF(AND(WEEKDAY(G4,2)=2,COUNTIF(Jours_fériés,G4+2)),HLOOKUP(G4+1,Journalier_HLV_Inter,23,FALSE)-HLOOKUP(G4+3,Journalier_HLV_Inter,24,FALSE),IF(AND(WEEKDAY(G4,2)=3,COUNTIF(Jours_fériés,AND(G4+1,G4+2))),HLOOKUP(G4+3,Journalier_HLV_Inter,23,FALSE)-HLOOKUP(G4+4,Journalier_HLV_Inter,24,FALSE),IF(AND(WEEKDAY(G4,2)=3,COUNTIF(Jours_fériés,G4+1)),HLOOKUP(G4+2,Journalier_HLV_Inter,23,FALSE)-HLOOKUP(G4+3,Journalier_HLV_Inter,24,FALSE),IF(AND(WEEKDAY(G4,2)=3,COUNTIF(Jours_fériés,G4+2)),HLOOKUP(G4+1,Journalier_HLV_Inter,23,FALSE)-HLOOKUP(G4+5,Journalier_HLV_Inter,24,FALSE),IF(WEEKDAY(G4,2)=4,(HLOOKUP(G4+1,Journalier_HLV_Inter,23,FALSE)-HLOOKUP(G4+4,Journalier_HLV_Inter,24,FALSE)),IF(AND(WEEKDAY(G4,2)=4,COUNTIF(Jours_fériés,G4+1)),HLOOKUP(G4+4,Journalier_HLV_Inter,23,FALSE)-HLOOKUP(G4+5,Journalier_HLV_Inter,24,FALSE),IF(AND(WEEKDAY(G4,2)=4,COUNTIF(Jours_fériés,AND(G4+1,G4+4))),HLOOKUP(G4+5,Journalier_HLV_Inter,23,FALSE)-HLOOKUP(G4+6,Journalier_HLV_Inter,24,FALSE),IF(AND(WEEKDAY(G4,2)=4,COUNTIF(Jours_fériés,G4+4)),HLOOKUP(G4+1,Journalier_HLV_Inter,23,FALSE)-HLOOKUP(G4+5,Journalier_HLV_Inter,24,FALSE),IF(AND(WEEKDAY(G4,2)=5,COUNTIF(Jours_fériés,G4+3)),HLOOKUP(G4+4,Journalier_HLV_Inter,23,FALSE)-HLOOKUP(G4+5,Journalier_HLV_Inter,24,FALSE),IF(AND(WEEKDAY(G4,2)=5,COUNTIF(Jours_fériés,G4+4)),HLOOKUP(G4+3,Journalier_HLV_Inter,23,FALSE)-HLOOKUP(G4+5,Journalier_HLV_Inter,24,FALSE),IF(COUNTIF(Week_end,G4),0,IF(COUNTIF(Jours_fériés,G4),0,HLOOKUP(G4+1,Journalier_HLV_Inter,23,FALSE)-HLOOKUP(G4+2,Journalier_HLV_Inter,24,FALSE))))))))))))))))))) -> 15 | H33: =IF(WEEKDAY(H4,2)=5,(HLOOKUP(H4+3,Journalier_HLV_Inter,23,FALSE)-HLOOKUP(H4+4,Journalier_HLV_Inter,24,FALSE)),IF(AND(WEEKDAY(H4,2)=1,COUNTIF(Jours_fériés,AND(H4+1,IE+2))),HLOOKUP(H4+3,Journalier_HLV_Inter,23,FALSE)-HLOOKUP(H4+4,Journalier_HLV_Inter,24,FALSE),IF(AND(WEEKDAY(H4,2)=1,COUNTIF(Jours_fériés,H4+1)),HLOOKUP(H4+2,Journalier_HLV_Inter,23,FALSE)-HLOOKUP(H4+3,Journalier_HLV_Inter,24,FALSE),IF(AND(WEEKDAY(H4,2)=1,COUNTIF(Jours_fériés,H4+2)),HLOOKUP(H4+1,Journalier_HLV_Inter,23,FALSE)-HLOOKUP(H4+3,Journalier_HLV_Inter,24,FALSE),IF(AND(WEEKDAY(H4,2)=2,COUNTIF(Jours_fériés,AND(H4+1,H4+2))),HLOOKUP(H4+3,Journalier_HLV_Inter,23,FALSE)-HLOOKUP(H4+4,Journalier_HLV_Inter,24,FALSE),IF(AND(WEEKDAY(H4,2)=2,COUNTIF(Jours_fériés,H4+1)),HLOOKUP(H4+2,Journalier_HLV_Inter,23,FALSE)-HLOOKUP(H4+3,Journalier_HLV_Inter,24,FALSE),IF(AND(WEEKDAY(H4,2)=2,COUNTIF(Jours_fériés,H4+2)),HLOOKUP(H4+1,Journalier_HLV_Inter,23,FALSE)-HLOOKUP(H4+3,Journalier_HLV_Inter,24,FALSE),IF(AND(WEEKDAY(H4,2)=3,COUNTIF(Jours_fériés,AND(H4+1,H4+2))),HLOOKUP(H4+3,Journalier_HLV_Inter,23,FALSE)-HLOOKUP(H4+4,Journalier_HLV_Inter,24,FALSE),IF(AND(WEEKDAY(H4,2)=3,COUNTIF(Jours_fériés,H4+1)),HLOOKUP(H4+2,Journalier_HLV_Inter,23,FALSE)-HLOOKUP(H4+3,Journalier_HLV_Inter,24,FALSE),IF(AND(WEEKDAY(H4,2)=3,COUNTIF(Jours_fériés,H4+2)),HLOOKUP(H4+1,Journalier_HLV_Inter,23,FALSE)-HLOOKUP(H4+5,Journalier_HLV_Inter,24,FALSE),IF(WEEKDAY(H4,2)=4,(HLOOKUP(H4+1,Journalier_HLV_Inter,23,FALSE)-HLOOKUP(H4+4,Journalier_HLV_Inter,24,FALSE)),IF(AND(WEEKDAY(H4,2)=4,COUNTIF(Jours_fériés,H4+1)),HLOOKUP(H4+4,Journalier_HLV_Inter,23,FALSE)-HLOOKUP(H4+5,Journalier_HLV_Inter,24,FALSE),IF(AND(WEEKDAY(H4,2)=4,COUNTIF(Jours_fériés,AND(H4+1,H4+4))),HLOOKUP(H4+5,Journalier_HLV_Inter,23,FALSE)-HLOOKUP(H4+6,Journalier_HLV_Inter,24,FALSE),IF(AND(WEEKDAY(H4,2)=4,COUNTIF(Jours_fériés,H4+4)),HLOOKUP(H4+1,Journalier_HLV_Inter,23,FALSE)-HLOOKUP(H4+5,Journalier_HLV_Inter,24,FALSE),IF(AND(WEEKDAY(H4,2)=5,COUNTIF(Jours_fériés,H4+3)),HLOOKUP(H4+4,Journalier_HLV_Inter,23,FALSE)-HLOOKUP(H4+5,Journalier_HLV_Inter,24,FALSE),IF(AND(WEEKDAY(H4,2)=5,COUNTIF(Jours_fériés,H4+4)),HLOOKUP(H4+3,Journalier_HLV_Inter,23,FALSE)-HLOOKUP(H4+5,Journalier_HLV_Inter,24,FALSE),IF(COUNTIF(Week_end,H4),0,IF(COUNTIF(Jours_fériés,H4),0,HLOOKUP(H4+1,Journalier_HLV_Inter,23,FALSE)-HLOOKUP(H4+2,Journalier_HLV_Inter,24,FALSE))))))))))))))))))) -> 0 | I33: =IF(WEEKDAY(I4,2)=5,(HLOOKUP(I4+3,Journalier_HLV_Inter,23,FALSE)-HLOOKUP(I4+4,Journalier_HLV_Inter,24,FALSE)),IF(AND(WEEKDAY(I4,2)=1,COUNTIF(Jours_fériés,AND(I4+1,IE+2))),HLOOKUP(I4+3,Journalier_HLV_Inter,23,FALSE)-HLOOKUP(I4+4,Journalier_HLV_Inter,24,FALSE),IF(AND(WEEKDAY(I4,2)=1,COUNTIF(Jours_fériés,I4+1)),HLOOKUP(I4+2,Journalier_HLV_Inter,23,FALSE)-HLOOKUP(I4+3,Journalier_HLV_Inter,24,FALSE),IF(AND(WEEKDAY(I4,2)=1,COUNTIF(Jours_fériés,I4+2)),HLOOKUP(I4+1,Journalier_HLV_Inter,23,FALSE)-HLOOKUP(I4+3,Journalier_HLV_Inter,24,FALSE),IF(AND(WEEKDAY(I4,2)=2,COUNTIF(Jours_fériés,AND(I4+1,I4+2))),HLOOKUP(I4+3,Journalier_HLV_Inter,23,FALSE)-HLOOKUP(I4+4,Journalier_HLV_Inter,24,FALSE),IF(AND(WEEKDAY(I4,2)=2,COUNTIF(Jours_fériés,I4+1)),HLOOKUP(I4+2,Journalier_HLV_Inter,23,FALSE)-HLOOKUP(I4+3,Journalier_HLV_Inter,24,FALSE),IF(AND(WEEKDAY(I4,2)=2,COUNTIF(Jours_fériés,I4+2)),HLOOKUP(I4+1,Journalier_HLV_Inter,23,FALSE)-HLOOKUP(I4+3,Journalier_HLV_Inter,24,FALSE),IF(AND(WEEKDAY(I4,2)=3,COUNTIF(Jours_fériés,AND(I4+1,I4+2))),HLOOKUP(I4+3,Journalier_HLV_Inter,23,FALSE)-HLOOKUP(I4+4,Journalier_HLV_Inter,24,FALSE),IF(AND(WEEKDAY(I4,2)=3,COUNTIF(Jours_fériés,I4+1)),HLOOKUP(I4+2,Journalier_HLV_Inter,23,FALSE)-HLOOKUP(I4+3,Journalier_HLV_Inter,24,FALSE),IF(AND(WEEKDAY(I4,2)=3,COUNTIF(Jours_fériés,I4+2)),HLOOKUP(I4+1,Journalier_HLV_Inter,23,FALSE)-HLOOKUP(I4+5,Journalier_HLV_Inter,24,FALSE),IF(WEEKDAY(I4,2)=4,(HLOOKUP(I4+1,Journalier_HLV_Inter,23,FALSE)-HLOOKUP(I4+4,Journalier_HLV_Inter,24,FALSE)),IF(AND(WEEKDAY(I4,2)=4,COUNTIF(Jours_fériés,I4+1)),HLOOKUP(I4+4,Journalier_HLV_Inter,23,FALSE)-HLOOKUP(I4+5,Journalier_HLV_Inter,24,FALSE),IF(AND(WEEKDAY(I4,2)=4,COUNTIF(Jours_fériés,AND(I4+1,I4+4))),HLOOKUP(I4+5,Journalier_HLV_Inter,23,FALSE)-HLOOKUP(I4+6,Journalier_HLV_Inter,24,FALSE),IF(AND(WEEKDAY(I4,2)=4,COUNTIF(Jours_fériés,I4+4)),HLOOKUP(I4+1,Journalier_HLV_Inter,23,FALSE)-HLOOKUP(I4+5,Journalier_HLV_Inter,24,FALSE),IF(AND(WEEKDAY(I4,2)=5,COUNTIF(Jours_fériés,I4+3)),HLOOKUP(I4+4,Journalier_HLV_Inter,23,FALSE)-HLOOKUP(I4+5,Journalier_HLV_Inter,24,FALSE),IF(AND(WEEKDAY(I4,2)=5,COUNTIF(Jours_fériés,I4+4)),HLOOKUP(I4+3,Journalier_HLV_Inter,23,FALSE)-HLOOKUP(I4+5,Journalier_HLV_Inter,24,FALSE),IF(COUNTIF(Week_end,I4),0,IF(COUNTIF(Jours_fériés,I4),0,HLOOKUP(I4+1,Journalier_HLV_Inter,23,FALSE)-HLOOKUP(I4+2,Journalier_HLV_Inter,24,FALSE))))))))))))))))))) -> 0 | J33: =IF(WEEKDAY(J4,2)=5,(HLOOKUP(J4+3,Journalier_HLV_Inter,23,FALSE)-HLOOKUP(J4+4,Journalier_HLV_Inter,24,FALSE)),IF(AND(WEEKDAY(J4,2)=1,COUNTIF(Jours_fériés,AND(J4+1,IE+2))),HLOOKUP(J4+3,Journalier_HLV_Inter,23,FALSE)-HLOOKUP(J4+4,Journalier_HLV_Inter,24,FALSE),IF(AND(WEEKDAY(J4,2)=1,COUNTIF(Jours_fériés,J4+1)),HLOOKUP(J4+2,Journalier_HLV_Inter,23,FALSE)-HLOOKUP(J4+3,Journalier_HLV_Inter,24,FALSE),IF(AND(WEEKDAY(J4,2)=1,COUNTIF(Jours_fériés,J4+2)),HLOOKUP(J4+1,Journalier_HLV_Inter,23,FALSE)-HLOOKUP(J4+3,Journalier_HLV_Inter,24,FALSE),IF(AND(WEEKDAY(J4,2)=2,COUNTIF(Jours_fériés,AND(J4+1,J4+2))),HLOOKUP(J4+3,Journalier_HLV_Inter,23,FALSE)-HLOOKUP(J4+4,Journalier_HLV_Inter,24,FALSE),IF(AND(WEEKDAY(J4,2)=2,COUNTIF(Jours_fériés,J4+1)),HLOOKUP(J4+2,Journalier_HLV_Inter,23,FALSE)-HLOOKUP(J4+3,Journalier_HLV_Inter,24,FALSE),IF(AND(WEEKDAY(J4,2)=2,COUNTIF(Jours_fériés,J4+2)),HLOOKUP(J4+1,Journalier_HLV_Inter,23,FALSE)-HLOOKUP(J4+3,Journalier_HLV_Inter,24,FALSE),IF(AND(WEEKDAY(J4,2)=3,COUNTIF(Jours_fériés,AND(J4+1,J4+2))),HLOOKUP(J4+3,Journalier_HLV_Inter,23,FALSE)-HLOOKUP(J4+4,Journalier_HLV_Inter,24,FALSE),IF(AND(WEEKDAY(J4,2)=3,COUNTIF(Jours_fériés,J4+1)),HLOOKUP(J4+2,Journalier_HLV_Inter,23,FALSE)-HLOOKUP(J4+3,Journalier_HLV_Inter,24,FALSE),IF(AND(WEEKDAY(J4,2)=3,COUNTIF(Jours_fériés,J4+2)),HLOOKUP(J4+1,Journalier_HLV_Inter,23,FALSE)-HLOOKUP(J4+5,Journalier_HLV_Inter,24,FALSE),IF(WEEKDAY(J4,2)=4,(HLOOKUP(J4+1,Journalier_HLV_Inter,23,FALSE)-HLOOKUP(J4+4,Journalier_HLV_Inter,24,FALSE)),IF(AND(WEEKDAY(J4,2)=4,COUNTIF(Jours_fériés,J4+1)),HLOOKUP(J4+4,Journalier_HLV_Inter,23,FALSE)-HLOOKUP(J4+5,Journalier_HLV_Inter,24,FALSE),IF(AND(WEEKDAY(J4,2)=4,COUNTIF(Jours_fériés,AND(J4+1,J4+4))),HLOOKUP(J4+5,Journalier_HLV_Inter,23,FALSE)-HLOOKUP(J4+6,Journalier_HLV_Inter,24,FALSE),IF(AND(WEEKDAY(J4,2)=4,COUNTIF(Jours_fériés,J4+4)),HLOOKUP(J4+1,Journalier_HLV_Inter,23,FALSE)-HLOOKUP(J4+5,Journalier_HLV_Inter,24,FALSE),IF(AND(WEEKDAY(J4,2)=5,COUNTIF(Jours_fériés,J4+3)),HLOOKUP(J4+4,Journalier_HLV_Inter,23,FALSE)-HLOOKUP(J4+5,Journalier_HLV_Inter,24,FALSE),IF(AND(WEEKDAY(J4,2)=5,COUNTIF(Jours_fériés,J4+4)),HLOOKUP(J4+3,Journalier_HLV_Inter,23,FALSE)-HLOOKUP(J4+5,Journalier_HLV_Inter,24,FALSE),IF(COUNTIF(Week_end,J4),0,IF(COUNTIF(Jours_fériés,J4),0,HLOOKUP(J4+1,Journalier_HLV_Inter,23,FALSE)-HLOOKUP(J4+2,Journalier_HLV_Inter,24,FALSE))))))))))))))))))) -> 0 | K33: =IF(WEEKDAY(K4,2)=5,(HLOOKUP(K4+3,Journalier_HLV_Inter,23,FALSE)-HLOOKUP(K4+4,Journalier_HLV_Inter,24,FALSE)),IF(AND(WEEKDAY(K4,2)=1,COUNTIF(Jours_fériés,AND(K4+1,IE+2))),HLOOKUP(K4+3,Journalier_HLV_Inter,23,FALSE)-HLOOKUP(K4+4,Journalier_HLV_Inter,24,FALSE),IF(AND(WEEKDAY(K4,2)=1,COUNTIF(Jours_fériés,K4+1)),HLOOKUP(K4+2,Journalier_HLV_Inter,23,FALSE)-HLOOKUP(K4+3,Journalier_HLV_Inter,24,FALSE),IF(AND(WEEKDAY(K4,2)=1,COUNTIF(Jours_fériés,K4+2)),HLOOKUP(K4+1,Journalier_HLV_Inter,23,FALSE)-HLOOKUP(K4+3,Journalier_HLV_Inter,24,FALSE),IF(AND(WEEKDAY(K4,2)=2,COUNTIF(Jours_fériés,AND(K4+1,K4+2))),HLOOKUP(K4+3,Journalier_HLV_Inter,23,FALSE)-HLOOKUP(K4+4,Journalier_HLV_Inter,24,FALSE),IF(AND(WEEKDAY(K4,2)=2,COUNTIF(Jours_fériés,K4+1)),HLOOKUP(K4+2,Journalier_HLV_Inter,23,FALSE)-HLOOKUP(K4+3,Journalier_HLV_Inter,24,FALSE),IF(AND(WEEKDAY(K4,2)=2,COUNTIF(Jours_fériés,K4+2)),HLOOKUP(K4+1,Journalier_HLV_Inter,23,FALSE)-HLOOKUP(K4+3,Journalier_HLV_Inter,24,FALSE),IF(AND(WEEKDAY(K4,2)=3,COUNTIF(Jours_fériés,AND(K4+1,K4+2))),HLOOKUP(K4+3,Journalier_HLV_Inter,23,FALSE)-HLOOKUP(K4+4,Journalier_HLV_Inter,24,FALSE),IF(AND(WEEKDAY(K4,2)=3,COUNTIF(Jours_fériés,K4+1)),HLOOKUP(K4+2,Journalier_HLV_Inter,23,FALSE)-HLOOKUP(K4+3,Journalier_HLV_Inter,24,FALSE),IF(AND(WEEKDAY(K4,2)=3,COUNTIF(Jours_fériés,K4+2)),HLOOKUP(K4+1,Journalier_HLV_Inter,23,FALSE)-HLOOKUP(K4+5,Journalier_HLV_Inter,24,FALSE),IF(WEEKDAY(K4,2)=4,(HLOOKUP(K4+1,Journalier_HLV_Inter,23,FALSE)-HLOOKUP(K4+4,Journalier_HLV_Inter,24,FALSE)),IF(AND(WEEKDAY(K4,2)=4,COUNTIF(Jours_fériés,K4+1)),HLOOKUP(K4+4,Journalier_HLV_Inter,23,FALSE)-HLOOKUP(K4+5,Journalier_HLV_Inter,24,FALSE),IF(AND(WEEKDAY(K4,2)=4,COUNTIF(Jours_fériés,AND(K4+1,K4+4))),HLOOKUP(K4+5,Journalier_HLV_Inter,23,FALSE)-HLOOKUP(K4+6,Journalier_HLV_Inter,24,FALSE),IF(AND(WEEKDAY(K4,2)=4,COUNTIF(Jours_fériés,K4+4)),HLOOKUP(K4+1,Journalier_HLV_Inter,23,FALSE)-HLOOKUP(K4+5,Journalier_HLV_Inter,24,FALSE),IF(AND(WEEKDAY(K4,2)=5,COUNTIF(Jours_fériés,K4+3)),HLOOKUP(K4+4,Journalier_HLV_Inter,23,FALSE)-HLOOKUP(K4+5,Journalier_HLV_Inter,24,FALSE),IF(AND(WEEKDAY(K4,2)=5,COUNTIF(Jours_fériés,K4+4)),HLOOKUP(K4+3,Journalier_HLV_Inter,23,FALSE)-HLOOKUP(K4+5,Journalier_HLV_Inter,24,FALSE),IF(COUNTIF(Week_end,K4),0,IF(COUNTIF(Jours_fériés,K4),0,HLOOKUP(K4+1,Journalier_HLV_Inter,23,FALSE)-HLOOKUP(K4+2,Journalier_HLV_Inter,24,FALSE))))))))))))))))))) -> 0 | L33: =IF(WEEKDAY(L4,2)=5,(HLOOKUP(L4+3,Journalier_HLV_Inter,23,FALSE)-HLOOKUP(L4+4,Journalier_HLV_Inter,24,FALSE)),IF(AND(WEEKDAY(L4,2)=1,COUNTIF(Jours_fériés,AND(L4+1,IE+2))),HLOOKUP(L4+3,Journalier_HLV_Inter,23,FALSE)-HLOOKUP(L4+4,Journalier_HLV_Inter,24,FALSE),IF(AND(WEEKDAY(L4,2)=1,COUNTIF(Jours_fériés,L4+1)),HLOOKUP(L4+2,Journalier_HLV_Inter,23,FALSE)-HLOOKUP(L4+3,Journalier_HLV_Inter,24,FALSE),IF(AND(WEEKDAY(L4,2)=1,COUNTIF(Jours_fériés,L4+2)),HLOOKUP(L4+1,Journalier_HLV_Inter,23,FALSE)-HLOOKUP(L4+3,Journalier_HLV_Inter,24,FALSE),IF(AND(WEEKDAY(L4,2)=2,COUNTIF(Jours_fériés,AND(L4+1,L4+2))),HLOOKUP(L4+3,Journalier_HLV_Inter,23,FALSE)-HLOOKUP(L4+4,Journalier_HLV_Inter,24,FALSE),IF(AND(WEEKDAY(L4,2)=2,COUNTIF(Jours_fériés,L4+1)),HLOOKUP(L4+2,Journalier_HLV_Inter,23,FALSE)-HLOOKUP(L4+3,Journalier_HLV_Inter,24,FALSE),IF(AND(WEEKDAY(L4,2)=2,COUNTIF(Jours_fériés,L4+2)),HLOOKUP(L4+1,Journalier_HLV_Inter,23,FALSE)-HLOOKUP(L4+3,Journalier_HLV_Inter,24,FALSE),IF(AND(WEEKDAY(L4,2)=3,COUNTIF(Jours_fériés,AND(L4+1,L4+2))),HLOOKUP(L4+3,Journalier_HLV_Inter,23,FALSE)-HLOOKUP(L4+4,Journalier_HLV_Inter,24,FALSE),IF(AND(WEEKDAY(L4,2)=3,COUNTIF(Jours_fériés,L4+1)),HLOOKUP(L4+2,Journalier_HLV_Inter,23,FALSE)-HLOOKUP(L4+3,Journalier_HLV_Inter,24,FALSE),IF(AND(WEEKDAY(L4,2)=3,COUNTIF(Jours_fériés,L4+2)),HLOOKUP(L4+1,Journalier_HLV_Inter,23,FALSE)-HLOOKUP(L4+5,Journalier_HLV_Inter,24,FALSE),IF(WEEKDAY(L4,2)=4,(HLOOKUP(L4+1,Journalier_HLV_Inter,23,FALSE)-HLOOKUP(L4+4,Journalier_HLV_Inter,24,FALSE)),IF(AND(WEEKDAY(L4,2)=4,COUNTIF(Jours_fériés,L4+1)),HLOOKUP(L4+4,Journalier_HLV_Inter,23,FALSE)-HLOOKUP(L4+5,Journalier_HLV_Inter,24,FALSE),IF(AND(WEEKDAY(L4,2)=4,COUNTIF(Jours_fériés,AND(L4+1,L4+4))),HLOOKUP(L4+5,Journalier_HLV_Inter,23,FALSE)-HLOOKUP(L4+6,Journalier_HLV_Inter,24,FALSE),IF(AND(WEEKDAY(L4,2)=4,COUNTIF(Jours_fériés,L4+4)),HLOOKUP(L4+1,Journalier_HLV_Inter,23,FALSE)-HLOOKUP(L4+5,Journalier_HLV_Inter,24,FALSE),IF(AND(WEEKDAY(L4,2)=5,COUNTIF(Jours_fériés,L4+3)),HLOOKUP(L4+4,Journalier_HLV_Inter,23,FALSE)-HLOOKUP(L4+5,Journalier_HLV_Inter,24,FALSE),IF(AND(WEEKDAY(L4,2)=5,COUNTIF(Jours_fériés,L4+4)),HLOOKUP(L4+3,Journalier_HLV_Inter,23,FALSE)-HLOOKUP(L4+5,Journalier_HLV_Inter,24,FALSE),IF(COUNTIF(Week_end,L4),0,IF(COUNTIF(Jours_fériés,L4),0,HLOOKUP(L4+1,Journalier_HLV_Inter,23,FALSE)-HLOOKUP(L4+2,Journalier_HLV_Inter,24,FALSE))))))))))))))))))) -> 0 | ... ND33: =IF(WEEKDAY(ND4,2)=5,(HLOOKUP(ND4+3,Journalier_HLV_Inter,23,FALSE)-HLOOKUP(ND4+4,Journalier_HLV_Inter,24,FALSE)),IF(AND(WEEKDAY(ND4,2)=1,COUNTIF(Jours_fériés,AND(ND4+1,IE+2))),HLOOKUP(ND4+3,Journalier_HLV_Inter,23,FALSE)-HLOOKUP(ND4+4,Journalier_HLV_Inter,24,FALSE),IF(AND(WEEKDAY(ND4,2)=1,COUNTIF(Jours_fériés,ND4+1)),HLOOKUP(ND4+2,Journalier_HLV_Inter,23,FALSE)-HLOOKUP(ND4+3,Journalier_HLV_Inter,24,FALSE),IF(AND(WEEKDAY(ND4,2)=1,COUNTIF(Jours_fériés,ND4+2)),HLOOKUP(ND4+1,Journalier_HLV_Inter,23,FALSE)-HLOOKUP(ND4+3,Journalier_HLV_Inter,24,FALSE),IF(AND(WEEKDAY(ND4,2)=2,COUNTIF(Jours_fériés,AND(ND4+1,ND4+2))),HLOOKUP(ND4+3,Journalier_HLV_Inter,23,FALSE)-HLOOKUP(ND4+4,Journalier_HLV_Inter,24,FALSE),IF(AND(WEEKDAY(ND4,2)=2,COUNTIF(Jours_fériés,ND4+1)),HLOOKUP(ND4+2,Journalier_HLV_Inter,23,FALSE)-HLOOKUP(ND4+3,Journalier_HLV_Inter,24,FALSE),IF(AND(WEEKDAY(ND4,2)=2,COUNTIF(Jours_fériés,ND4+2)),HLOOKUP(ND4+1,Journalier_HLV_Inter,23,FALSE)-HLOOKUP(ND4+3,Journalier_HLV_Inter,24,FALSE),IF(AND(WEEKDAY(ND4,2)=3,COUNTIF(Jours_fériés,AND(ND4+1,ND4+2))),HLOOKUP(ND4+3,Journalier_HLV_Inter,23,FALSE)-HLOOKUP(ND4+4,Journalier_HLV_Inter,24,FALSE),IF(AND(WEEKDAY(ND4,2)=3,COUNTIF(Jours_fériés,ND4+1)),HLOOKUP(ND4+2,Journalier_HLV_Inter,23,FALSE)-HLOOKUP(ND4+3,Journalier_HLV_Inter,24,FALSE),IF(AND(WEEKDAY(ND4,2)=3,COUNTIF(Jours_fériés,ND4+2)),HLOOKUP(ND4+1,Journalier_HLV_Inter,23,FALSE)-HLOOKUP(ND4+5,Journalier_HLV_Inter,24,FALSE),IF(WEEKDAY(ND4,2)=4,(HLOOKUP(ND4+1,Journalier_HLV_Inter,23,FALSE)-HLOOKUP(ND4+4,Journalier_HLV_Inter,24,FALSE)),IF(AND(WEEKDAY(ND4,2)=4,COUNTIF(Jours_fériés,ND4+1)),HLOOKUP(ND4+4,Journalier_HLV_Inter,23,FALSE)-HLOOKUP(ND4+5,Journalier_HLV_Inter,24,FALSE),IF(AND(WEEKDAY(ND4,2)=4,COUNTIF(Jours_fériés,AND(ND4+1,ND4+4))),HLOOKUP(ND4+5,Journalier_HLV_Inter,23,FALSE)-HLOOKUP(ND4+6,Journalier_HLV_Inter,24,FALSE),IF(AND(WEEKDAY(ND4,2)=4,COUNTIF(Jours_fériés,ND4+4)),HLOOKUP(ND4+1,Journalier_HLV_Inter,23,FALSE)-HLOOKUP(ND4+5,Journalier_HLV_Inter,24,FALSE),IF(AND(WEEKDAY(ND4,2)=5,COUNTIF(Jours_fériés,ND4+3)),HLOOKUP(ND4+4,Journalier_HLV_Inter,23,FALSE)-HLOOKUP(ND4+5,Journalier_HLV_Inter,24,FALSE),IF(AND(WEEKDAY(ND4,2)=5,COUNTIF(Jours_fériés,ND4+4)),HLOOKUP(ND4+3,Journalier_HLV_Inter,23,FALSE)-HLOOKUP(ND4+5,Journalier_HLV_Inter,24,FALSE),IF(COUNTIF(Week_end,ND4),0,IF(COUNTIF(Jours_fériés,ND4),0,HLOOKUP(ND4+1,Journalier_HLV_Inter,23,FALSE)-HLOOKUP(ND4+2,Journalier_HLV_Inter,24,FALSE))))))))))))))))))) -> #N/A
A34: J+2 | E34: =IF(WEEKDAY(E4,2)=5,(HLOOKUP(E4+4,Journalier_HLV_Inter,24,FALSE)-HLOOKUP(E4+5,Journalier_HLV_Inter,25,FALSE)),IF(AND(WEEKDAY(E4,2)=1,COUNTIF(Jours_fériés,E4+2)),HLOOKUP(E4+3,Journalier_HLV_Inter,24,FALSE)-HLOOKUP(E4+4,Journalier_HLV_Inter,25,FALSE),IF(AND(WEEKDAY(E4,2)=1,COUNTIF(Jours_fériés,E4+3)),HLOOKUP(E4+2,Journalier_HLV_Inter,24,FALSE)-HLOOKUP(E4+4,Journalier_HLV_Inter,25,FALSE),IF(AND(WEEKDAY(E4,2)=2,COUNTIF(Jours_fériés,E4+2)),HLOOKUP(E4+3,Journalier_HLV_Inter,24,FALSE)-HLOOKUP(E4+6,Journalier_HLV_Inter,25,FALSE),IF(AND(WEEKDAY(E4,2)=2,COUNTIF(Jours_fériés,E4+3)),HLOOKUP(E4+2,Journalier_HLV_Inter,24,FALSE)-HLOOKUP(E4+6,Journalier_HLV_Inter,25,FALSE),IF(AND(WEEKDAY(E4,2)=3,COUNTIF(Jours_fériés,E4+2)),HLOOKUP(E4+5,Journalier_HLV_Inter,24,FALSE)-HLOOKUP(E4+6,Journalier_HLV_Inter,25,FALSE),IF(AND(WEEKDAY(E4,2)=3,COUNTIF(Jours_fériés,E4+5)),HLOOKUP(E4+2,Journalier_HLV_Inter,24,FALSE)-HLOOKUP(E4+6,Journalier_HLV_Inter,25,FALSE),IF(AND(WEEKDAY(E4,2)=3,COUNTIF(Jours_fériés,AND(E4+2,E4+5))),HLOOKUP(E4+6,Journalier_HLV_Inter,24,FALSE)-HLOOKUP(E4+7,Journalier_HLV_Inter,25,FALSE),IF(WEEKDAY(E4,2)=4,(HLOOKUP(E4+4,Journalier_HLV_Inter,8,FALSE)-HLOOKUP(E4+5,Journalier_HLV_Inter,24,FALSE)),IF(AND(WEEKDAY(E4,2)=4,COUNTIF(Jours_fériés,E4+4)),HLOOKUP(E4+6,Journalier_HLV_Inter,24,FALSE)-HLOOKUP(E4+7,Journalier_HLV_Inter,25,FALSE),IF(AND(WEEKDAY(E4,2)=4,COUNTIF(Jours_fériés,E4+5)),HLOOKUP(E4+7,Journalier_HLV_Inter,24,FALSE)-HLOOKUP(E4+8,Journalier_HLV_Inter,25,FALSE),IF(AND(WEEKDAY(E4,2)=5,COUNTIF(Jours_fériés,E4+4)),HLOOKUP(E4+5,Journalier_HLV_Inter,24,FALSE)-HLOOKUP(E4+6,Journalier_HLV_Inter,25,FALSE),IF(AND(WEEKDAY(E4,2)=5,COUNTIF(Jours_fériés,E4+5)),HLOOKUP(E4+4,Journalier_HLV_Inter,24,FALSE)-HLOOKUP(E4+6,Journalier_HLV_Inter,25,FALSE),IF(COUNTIF(Week_end,E4),0,IF(COUNTIF(Jours_fériés,E4),0,HLOOKUP(E4+2,Journalier_HLV_Inter,24,FALSE)-HLOOKUP(E4+3,Journalier_HLV_Inter,25,FALSE)))))))))))))))) -> 40 | F34: =IF(WEEKDAY(F4,2)=5,(HLOOKUP(F4+4,Journalier_HLV_Inter,24,FALSE)-HLOOKUP(F4+5,Journalier_HLV_Inter,25,FALSE)),IF(AND(WEEKDAY(F4,2)=1,COUNTIF(Jours_fériés,F4+2)),HLOOKUP(F4+3,Journalier_HLV_Inter,24,FALSE)-HLOOKUP(F4+4,Journalier_HLV_Inter,25,FALSE),IF(AND(WEEKDAY(F4,2)=1,COUNTIF(Jours_fériés,F4+3)),HLOOKUP(F4+2,Journalier_HLV_Inter,24,FALSE)-HLOOKUP(F4+4,Journalier_HLV_Inter,25,FALSE),IF(AND(WEEKDAY(F4,2)=2,COUNTIF(Jours_fériés,F4+2)),HLOOKUP(F4+3,Journalier_HLV_Inter,24,FALSE)-HLOOKUP(F4+6,Journalier_HLV_Inter,25,FALSE),IF(AND(WEEKDAY(F4,2)=2,COUNTIF(Jours_fériés,F4+3)),HLOOKUP(F4+2,Journalier_HLV_Inter,24,FALSE)-HLOOKUP(F4+6,Journalier_HLV_Inter,25,FALSE),IF(AND(WEEKDAY(F4,2)=3,COUNTIF(Jours_fériés,F4+2)),HLOOKUP(F4+5,Journalier_HLV_Inter,24,FALSE)-HLOOKUP(F4+6,Journalier_HLV_Inter,25,FALSE),IF(AND(WEEKDAY(F4,2)=3,COUNTIF(Jours_fériés,F4+5)),HLOOKUP(F4+2,Journalier_HLV_Inter,24,FALSE)-HLOOKUP(F4+6,Journalier_HLV_Inter,25,FALSE),IF(AND(WEEKDAY(F4,2)=3,COUNTIF(Jours_fériés,AND(F4+2,F4+5))),HLOOKUP(F4+6,Journalier_HLV_Inter,24,FALSE)-HLOOKUP(F4+7,Journalier_HLV_Inter,25,FALSE),IF(WEEKDAY(F4,2)=4,(HLOOKUP(F4+4,Journalier_HLV_Inter,8,FALSE)-HLOOKUP(F4+5,Journalier_HLV_Inter,24,FALSE)),IF(AND(WEEKDAY(F4,2)=4,COUNTIF(Jours_fériés,F4+4)),HLOOKUP(F4+6,Journalier_HLV_Inter,24,FALSE)-HLOOKUP(F4+7,Journalier_HLV_Inter,25,FALSE),IF(AND(WEEKDAY(F4,2)=4,COUNTIF(Jours_fériés,F4+5)),HLOOKUP(F4+7,Journalier_HLV_Inter,24,FALSE)-HLOOKUP(F4+8,Journalier_HLV_Inter,25,FALSE),IF(AND(WEEKDAY(F4,2)=5,COUNTIF(Jours_fériés,F4+4)),HLOOKUP(F4+5,Journalier_HLV_Inter,24,FALSE)-HLOOKUP(F4+6,Journalier_HLV_Inter,25,FALSE),IF(AND(WEEKDAY(F4,2)=5,COUNTIF(Jours_fériés,F4+5)),HLOOKUP(F4+4,Journalier_HLV_Inter,24,FALSE)-HLOOKUP(F4+6,Journalier_HLV_Inter,25,FALSE),IF(COUNTIF(Week_end,F4),0,IF(COUNTIF(Jours_fériés,F4),0,HLOOKUP(F4+2,Journalier_HLV_Inter,24,FALSE)-HLOOKUP(F4+3,Journalier_HLV_Inter,25,FALSE)))))))))))))))) -> 25 | G34: =IF(WEEKDAY(G4,2)=5,(HLOOKUP(G4+4,Journalier_HLV_Inter,24,FALSE)-HLOOKUP(G4+5,Journalier_HLV_Inter,25,FALSE)),IF(AND(WEEKDAY(G4,2)=1,COUNTIF(Jours_fériés,G4+2)),HLOOKUP(G4+3,Journalier_HLV_Inter,24,FALSE)-HLOOKUP(G4+4,Journalier_HLV_Inter,25,FALSE),IF(AND(WEEKDAY(G4,2)=1,COUNTIF(Jours_fériés,G4+3)),HLOOKUP(G4+2,Journalier_HLV_Inter,24,FALSE)-HLOOKUP(G4+4,Journalier_HLV_Inter,25,FALSE),IF(AND(WEEKDAY(G4,2)=2,COUNTIF(Jours_fériés,G4+2)),HLOOKUP(G4+3,Journalier_HLV_Inter,24,FALSE)-HLOOKUP(G4+6,Journalier_HLV_Inter,25,FALSE),IF(AND(WEEKDAY(G4,2)=2,COUNTIF(Jours_fériés,G4+3)),HLOOKUP(G4+2,Journalier_HLV_Inter,24,FALSE)-HLOOKUP(G4+6,Journalier_HLV_Inter,25,FALSE),IF(AND(WEEKDAY(G4,2)=3,COUNTIF(Jours_fériés,G4+2)),HLOOKUP(G4+5,Journalier_HLV_Inter,24,FALSE)-HLOOKUP(G4+6,Journalier_HLV_Inter,25,FALSE),IF(AND(WEEKDAY(G4,2)=3,COUNTIF(Jours_fériés,G4+5)),HLOOKUP(G4+2,Journalier_HLV_Inter,24,FALSE)-HLOOKUP(G4+6,Journalier_HLV_Inter,25,FALSE),IF(AND(WEEKDAY(G4,2)=3,COUNTIF(Jours_fériés,AND(G4+2,G4+5))),HLOOKUP(G4+6,Journalier_HLV_Inter,24,FALSE)-HLOOKUP(G4+7,Journalier_HLV_Inter,25,FALSE),IF(WEEKDAY(G4,2)=4,(HLOOKUP(G4+4,Journalier_HLV_Inter,8,FALSE)-HLOOKUP(G4+5,Journalier_HLV_Inter,24,FALSE)),IF(AND(WEEKDAY(G4,2)=4,COUNTIF(Jours_fériés,G4+4)),HLOOKUP(G4+6,Journalier_HLV_Inter,24,FALSE)-HLOOKUP(G4+7,Journalier_HLV_Inter,25,FALSE),IF(AND(WEEKDAY(G4,2)=4,COUNTIF(Jours_fériés,G4+5)),HLOOKUP(G4+7,Journalier_HLV_Inter,24,FALSE)-HLOOKUP(G4+8,Journalier_HLV_Inter,25,FALSE),IF(AND(WEEKDAY(G4,2)=5,COUNTIF(Jours_fériés,G4+4)),HLOOKUP(G4+5,Journalier_HLV_Inter,24,FALSE)-HLOOKUP(G4+6,Journalier_HLV_Inter,25,FALSE),IF(AND(WEEKDAY(G4,2)=5,COUNTIF(Jours_fériés,G4+5)),HLOOKUP(G4+4,Journalier_HLV_Inter,24,FALSE)-HLOOKUP(G4+6,Journalier_HLV_Inter,25,FALSE),IF(COUNTIF(Week_end,G4),0,IF(COUNTIF(Jours_fériés,G4),0,HLOOKUP(G4+2,Journalier_HLV_Inter,24,FALSE)-HLOOKUP(G4+3,Journalier_HLV_Inter,25,FALSE)))))))))))))))) -> 15 | H34: =IF(WEEKDAY(H4,2)=5,(HLOOKUP(H4+4,Journalier_HLV_Inter,24,FALSE)-HLOOKUP(H4+5,Journalier_HLV_Inter,25,FALSE)),IF(AND(WEEKDAY(H4,2)=1,COUNTIF(Jours_fériés,H4+2)),HLOOKUP(H4+3,Journalier_HLV_Inter,24,FALSE)-HLOOKUP(H4+4,Journalier_HLV_Inter,25,FALSE),IF(AND(WEEKDAY(H4,2)=1,COUNTIF(Jours_fériés,H4+3)),HLOOKUP(H4+2,Journalier_HLV_Inter,24,FALSE)-HLOOKUP(H4+4,Journalier_HLV_Inter,25,FALSE),IF(AND(WEEKDAY(H4,2)=2,COUNTIF(Jours_fériés,H4+2)),HLOOKUP(H4+3,Journalier_HLV_Inter,24,FALSE)-HLOOKUP(H4+6,Journalier_HLV_Inter,25,FALSE),IF(AND(WEEKDAY(H4,2)=2,COUNTIF(Jours_fériés,H4+3)),HLOOKUP(H4+2,Journalier_HLV_Inter,24,FALSE)-HLOOKUP(H4+6,Journalier_HLV_Inter,25,FALSE),IF(AND(WEEKDAY(H4,2)=3,COUNTIF(Jours_fériés,H4+2)),HLOOKUP(H4+5,Journalier_HLV_Inter,24,FALSE)-HLOOKUP(H4+6,Journalier_HLV_Inter,25,FALSE),IF(AND(WEEKDAY(H4,2)=3,COUNTIF(Jours_fériés,H4+5)),HLOOKUP(H4+2,Journalier_HLV_Inter,24,FALSE)-HLOOKUP(H4+6,Journalier_HLV_Inter,25,FALSE),IF(AND(WEEKDAY(H4,2)=3,COUNTIF(Jours_fériés,AND(H4+2,H4+5))),HLOOKUP(H4+6,Journalier_HLV_Inter,24,FALSE)-HLOOKUP(H4+7,Journalier_HLV_Inter,25,FALSE),IF(WEEKDAY(H4,2)=4,(HLOOKUP(H4+4,Journalier_HLV_Inter,8,FALSE)-HLOOKUP(H4+5,Journalier_HLV_Inter,24,FALSE)),IF(AND(WEEKDAY(H4,2)=4,COUNTIF(Jours_fériés,H4+4)),HLOOKUP(H4+6,Journalier_HLV_Inter,24,FALSE)-HLOOKUP(H4+7,Journalier_HLV_Inter,25,FALSE),IF(AND(WEEKDAY(H4,2)=4,COUNTIF(Jours_fériés,H4+5)),HLOOKUP(H4+7,Journalier_HLV_Inter,24,FALSE)-HLOOKUP(H4+8,Journalier_HLV_Inter,25,FALSE),IF(AND(WEEKDAY(H4,2)=5,COUNTIF(Jours_fériés,H4+4)),HLOOKUP(H4+5,Journalier_HLV_Inter,24,FALSE)-HLOOKUP(H4+6,Journalier_HLV_Inter,25,FALSE),IF(AND(WEEKDAY(H4,2)=5,COUNTIF(Jours_fériés,H4+5)),HLOOKUP(H4+4,Journalier_HLV_Inter,24,FALSE)-HLOOKUP(H4+6,Journalier_HLV_Inter,25,FALSE),IF(COUNTIF(Week_end,H4),0,IF(COUNTIF(Jours_fériés,H4),0,HLOOKUP(H4+2,Journalier_HLV_Inter,24,FALSE)-HLOOKUP(H4+3,Journalier_HLV_Inter,25,FALSE)))))))))))))))) -> 0 | I34: =IF(WEEKDAY(I4,2)=5,(HLOOKUP(I4+4,Journalier_HLV_Inter,24,FALSE)-HLOOKUP(I4+5,Journalier_HLV_Inter,25,FALSE)),IF(AND(WEEKDAY(I4,2)=1,COUNTIF(Jours_fériés,I4+2)),HLOOKUP(I4+3,Journalier_HLV_Inter,24,FALSE)-HLOOKUP(I4+4,Journalier_HLV_Inter,25,FALSE),IF(AND(WEEKDAY(I4,2)=1,COUNTIF(Jours_fériés,I4+3)),HLOOKUP(I4+2,Journalier_HLV_Inter,24,FALSE)-HLOOKUP(I4+4,Journalier_HLV_Inter,25,FALSE),IF(AND(WEEKDAY(I4,2)=2,COUNTIF(Jours_fériés,I4+2)),HLOOKUP(I4+3,Journalier_HLV_Inter,24,FALSE)-HLOOKUP(I4+6,Journalier_HLV_Inter,25,FALSE),IF(AND(WEEKDAY(I4,2)=2,COUNTIF(Jours_fériés,I4+3)),HLOOKUP(I4+2,Journalier_HLV_Inter,24,FALSE)-HLOOKUP(I4+6,Journalier_HLV_Inter,25,FALSE),IF(AND(WEEKDAY(I4,2)=3,COUNTIF(Jours_fériés,I4+2)),HLOOKUP(I4+5,Journalier_HLV_Inter,24,FALSE)-HLOOKUP(I4+6,Journalier_HLV_Inter,25,FALSE),IF(AND(WEEKDAY(I4,2)=3,COUNTIF(Jours_fériés,I4+5)),HLOOKUP(I4+2,Journalier_HLV_Inter,24,FALSE)-HLOOKUP(I4+6,Journalier_HLV_Inter,25,FALSE),IF(AND(WEEKDAY(I4,2)=3,COUNTIF(Jours_fériés,AND(I4+2,I4+5))),HLOOKUP(I4+6,Journalier_HLV_Inter,24,FALSE)-HLOOKUP(I4+7,Journalier_HLV_Inter,25,FALSE),IF(WEEKDAY(I4,2)=4,(HLOOKUP(I4+4,Journalier_HLV_Inter,8,FALSE)-HLOOKUP(I4+5,Journalier_HLV_Inter,24,FALSE)),IF(AND(WEEKDAY(I4,2)=4,COUNTIF(Jours_fériés,I4+4)),HLOOKUP(I4+6,Journalier_HLV_Inter,24,FALSE)-HLOOKUP(I4+7,Journalier_HLV_Inter,25,FALSE),IF(AND(WEEKDAY(I4,2)=4,COUNTIF(Jours_fériés,I4+5)),HLOOKUP(I4+7,Journalier_HLV_Inter,24,FALSE)-HLOOKUP(I4+8,Journalier_HLV_Inter,25,FALSE),IF(AND(WEEKDAY(I4,2)=5,COUNTIF(Jours_fériés,I4+4)),HLOOKUP(I4+5,Journalier_HLV_Inter,24,FALSE)-HLOOKUP(I4+6,Journalier_HLV_Inter,25,FALSE),IF(AND(WEEKDAY(I4,2)=5,COUNTIF(Jours_fériés,I4+5)),HLOOKUP(I4+4,Journalier_HLV_Inter,24,FALSE)-HLOOKUP(I4+6,Journalier_HLV_Inter,25,FALSE),IF(COUNTIF(Week_end,I4),0,IF(COUNTIF(Jours_fériés,I4),0,HLOOKUP(I4+2,Journalier_HLV_Inter,24,FALSE)-HLOOKUP(I4+3,Journalier_HLV_Inter,25,FALSE)))))))))))))))) -> 0 | J34: =IF(WEEKDAY(J4,2)=5,(HLOOKUP(J4+4,Journalier_HLV_Inter,24,FALSE)-HLOOKUP(J4+5,Journalier_HLV_Inter,25,FALSE)),IF(AND(WEEKDAY(J4,2)=1,COUNTIF(Jours_fériés,J4+2)),HLOOKUP(J4+3,Journalier_HLV_Inter,24,FALSE)-HLOOKUP(J4+4,Journalier_HLV_Inter,25,FALSE),IF(AND(WEEKDAY(J4,2)=1,COUNTIF(Jours_fériés,J4+3)),HLOOKUP(J4+2,Journalier_HLV_Inter,24,FALSE)-HLOOKUP(J4+4,Journalier_HLV_Inter,25,FALSE),IF(AND(WEEKDAY(J4,2)=2,COUNTIF(Jours_fériés,J4+2)),HLOOKUP(J4+3,Journalier_HLV_Inter,24,FALSE)-HLOOKUP(J4+6,Journalier_HLV_Inter,25,FALSE),IF(AND(WEEKDAY(J4,2)=2,COUNTIF(Jours_fériés,J4+3)),HLOOKUP(J4+2,Journalier_HLV_Inter,24,FALSE)-HLOOKUP(J4+6,Journalier_HLV_Inter,25,FALSE),IF(AND(WEEKDAY(J4,2)=3,COUNTIF(Jours_fériés,J4+2)),HLOOKUP(J4+5,Journalier_HLV_Inter,24,FALSE)-HLOOKUP(J4+6,Journalier_HLV_Inter,25,FALSE),IF(AND(WEEKDAY(J4,2)=3,COUNTIF(Jours_fériés,J4+5)),HLOOKUP(J4+2,Journalier_HLV_Inter,24,FALSE)-HLOOKUP(J4+6,Journalier_HLV_Inter,25,FALSE),IF(AND(WEEKDAY(J4,2)=3,COUNTIF(Jours_fériés,AND(J4+2,J4+5))),HLOOKUP(J4+6,Journalier_HLV_Inter,24,FALSE)-HLOOKUP(J4+7,Journalier_HLV_Inter,25,FALSE),IF(WEEKDAY(J4,2)=4,(HLOOKUP(J4+4,Journalier_HLV_Inter,8,FALSE)-HLOOKUP(J4+5,Journalier_HLV_Inter,24,FALSE)),IF(AND(WEEKDAY(J4,2)=4,COUNTIF(Jours_fériés,J4+4)),HLOOKUP(J4+6,Journalier_HLV_Inter,24,FALSE)-HLOOKUP(J4+7,Journalier_HLV_Inter,25,FALSE),IF(AND(WEEKDAY(J4,2)=4,COUNTIF(Jours_fériés,J4+5)),HLOOKUP(J4+7,Journalier_HLV_Inter,24,FALSE)-HLOOKUP(J4+8,Journalier_HLV_Inter,25,FALSE),IF(AND(WEEKDAY(J4,2)=5,COUNTIF(Jours_fériés,J4+4)),HLOOKUP(J4+5,Journalier_HLV_Inter,24,FALSE)-HLOOKUP(J4+6,Journalier_HLV_Inter,25,FALSE),IF(AND(WEEKDAY(J4,2)=5,COUNTIF(Jours_fériés,J4+5)),HLOOKUP(J4+4,Journalier_HLV_Inter,24,FALSE)-HLOOKUP(J4+6,Journalier_HLV_Inter,25,FALSE),IF(COUNTIF(Week_end,J4),0,IF(COUNTIF(Jours_fériés,J4),0,HLOOKUP(J4+2,Journalier_HLV_Inter,24,FALSE)-HLOOKUP(J4+3,Journalier_HLV_Inter,25,FALSE)))))))))))))))) -> 0 | K34: =IF(WEEKDAY(K4,2)=5,(HLOOKUP(K4+4,Journalier_HLV_Inter,24,FALSE)-HLOOKUP(K4+5,Journalier_HLV_Inter,25,FALSE)),IF(AND(WEEKDAY(K4,2)=1,COUNTIF(Jours_fériés,K4+2)),HLOOKUP(K4+3,Journalier_HLV_Inter,24,FALSE)-HLOOKUP(K4+4,Journalier_HLV_Inter,25,FALSE),IF(AND(WEEKDAY(K4,2)=1,COUNTIF(Jours_fériés,K4+3)),HLOOKUP(K4+2,Journalier_HLV_Inter,24,FALSE)-HLOOKUP(K4+4,Journalier_HLV_Inter,25,FALSE),IF(AND(WEEKDAY(K4,2)=2,COUNTIF(Jours_fériés,K4+2)),HLOOKUP(K4+3,Journalier_HLV_Inter,24,FALSE)-HLOOKUP(K4+6,Journalier_HLV_Inter,25,FALSE),IF(AND(WEEKDAY(K4,2)=2,COUNTIF(Jours_fériés,K4+3)),HLOOKUP(K4+2,Journalier_HLV_Inter,24,FALSE)-HLOOKUP(K4+6,Journalier_HLV_Inter,25,FALSE),IF(AND(WEEKDAY(K4,2)=3,COUNTIF(Jours_fériés,K4+2)),HLOOKUP(K4+5,Journalier_HLV_Inter,24,FALSE)-HLOOKUP(K4+6,Journalier_HLV_Inter,25,FALSE),IF(AND(WEEKDAY(K4,2)=3,COUNTIF(Jours_fériés,K4+5)),HLOOKUP(K4+2,Journalier_HLV_Inter,24,FALSE)-HLOOKUP(K4+6,Journalier_HLV_Inter,25,FALSE),IF(AND(WEEKDAY(K4,2)=3,COUNTIF(Jours_fériés,AND(K4+2,K4+5))),HLOOKUP(K4+6,Journalier_HLV_Inter,24,FALSE)-HLOOKUP(K4+7,Journalier_HLV_Inter,25,FALSE),IF(WEEKDAY(K4,2)=4,(HLOOKUP(K4+4,Journalier_HLV_Inter,8,FALSE)-HLOOKUP(K4+5,Journalier_HLV_Inter,24,FALSE)),IF(AND(WEEKDAY(K4,2)=4,COUNTIF(Jours_fériés,K4+4)),HLOOKUP(K4+6,Journalier_HLV_Inter,24,FALSE)-HLOOKUP(K4+7,Journalier_HLV_Inter,25,FALSE),IF(AND(WEEKDAY(K4,2)=4,COUNTIF(Jours_fériés,K4+5)),HLOOKUP(K4+7,Journalier_HLV_Inter,24,FALSE)-HLOOKUP(K4+8,Journalier_HLV_Inter,25,FALSE),IF(AND(WEEKDAY(K4,2)=5,COUNTIF(Jours_fériés,K4+4)),HLOOKUP(K4+5,Journalier_HLV_Inter,24,FALSE)-HLOOKUP(K4+6,Journalier_HLV_Inter,25,FALSE),IF(AND(WEEKDAY(K4,2)=5,COUNTIF(Jours_fériés,K4+5)),HLOOKUP(K4+4,Journalier_HLV_Inter,24,FALSE)-HLOOKUP(K4+6,Journalier_HLV_Inter,25,FALSE),IF(COUNTIF(Week_end,K4),0,IF(COUNTIF(Jours_fériés,K4),0,HLOOKUP(K4+2,Journalier_HLV_Inter,24,FALSE)-HLOOKUP(K4+3,Journalier_HLV_Inter,25,FALSE)))))))))))))))) -> 0 | L34: =IF(WEEKDAY(L4,2)=5,(HLOOKUP(L4+4,Journalier_HLV_Inter,24,FALSE)-HLOOKUP(L4+5,Journalier_HLV_Inter,25,FALSE)),IF(AND(WEEKDAY(L4,2)=1,COUNTIF(Jours_fériés,L4+2)),HLOOKUP(L4+3,Journalier_HLV_Inter,24,FALSE)-HLOOKUP(L4+4,Journalier_HLV_Inter,25,FALSE),IF(AND(WEEKDAY(L4,2)=1,COUNTIF(Jours_fériés,L4+3)),HLOOKUP(L4+2,Journalier_HLV_Inter,24,FALSE)-HLOOKUP(L4+4,Journalier_HLV_Inter,25,FALSE),IF(AND(WEEKDAY(L4,2)=2,COUNTIF(Jours_fériés,L4+2)),HLOOKUP(L4+3,Journalier_HLV_Inter,24,FALSE)-HLOOKUP(L4+6,Journalier_HLV_Inter,25,FALSE),IF(AND(WEEKDAY(L4,2)=2,COUNTIF(Jours_fériés,L4+3)),HLOOKUP(L4+2,Journalier_HLV_Inter,24,FALSE)-HLOOKUP(L4+6,Journalier_HLV_Inter,25,FALSE),IF(AND(WEEKDAY(L4,2)=3,COUNTIF(Jours_fériés,L4+2)),HLOOKUP(L4+5,Journalier_HLV_Inter,24,FALSE)-HLOOKUP(L4+6,Journalier_HLV_Inter,25,FALSE),IF(AND(WEEKDAY(L4,2)=3,COUNTIF(Jours_fériés,L4+5)),HLOOKUP(L4+2,Journalier_HLV_Inter,24,FALSE)-HLOOKUP(L4+6,Journalier_HLV_Inter,25,FALSE),IF(AND(WEEKDAY(L4,2)=3,COUNTIF(Jours_fériés,AND(L4+2,L4+5))),HLOOKUP(L4+6,Journalier_HLV_Inter,24,FALSE)-HLOOKUP(L4+7,Journalier_HLV_Inter,25,FALSE),IF(WEEKDAY(L4,2)=4,(HLOOKUP(L4+4,Journalier_HLV_Inter,8,FALSE)-HLOOKUP(L4+5,Journalier_HLV_Inter,24,FALSE)),IF(AND(WEEKDAY(L4,2)=4,COUNTIF(Jours_fériés,L4+4)),HLOOKUP(L4+6,Journalier_HLV_Inter,24,FALSE)-HLOOKUP(L4+7,Journalier_HLV_Inter,25,FALSE),IF(AND(WEEKDAY(L4,2)=4,COUNTIF(Jours_fériés,L4+5)),HLOOKUP(L4+7,Journalier_HLV_Inter,24,FALSE)-HLOOKUP(L4+8,Journalier_HLV_Inter,25,FALSE),IF(AND(WEEKDAY(L4,2)=5,COUNTIF(Jours_fériés,L4+4)),HLOOKUP(L4+5,Journalier_HLV_Inter,24,FALSE)-HLOOKUP(L4+6,Journalier_HLV_Inter,25,FALSE),IF(AND(WEEKDAY(L4,2)=5,COUNTIF(Jours_fériés,L4+5)),HLOOKUP(L4+4,Journalier_HLV_Inter,24,FALSE)-HLOOKUP(L4+6,Journalier_HLV_Inter,25,FALSE),IF(COUNTIF(Week_end,L4),0,IF(COUNTIF(Jours_fériés,L4),0,HLOOKUP(L4+2,Journalier_HLV_Inter,24,FALSE)-HLOOKUP(L4+3,Journalier_HLV_Inter,25,FALSE)))))))))))))))) -> 0 | ... ND34: =IF(WEEKDAY(ND4,2)=5,(HLOOKUP(ND4+4,Journalier_HLV_Inter,24,FALSE)-HLOOKUP(ND4+5,Journalier_HLV_Inter,25,FALSE)),IF(AND(WEEKDAY(ND4,2)=1,COUNTIF(Jours_fériés,ND4+2)),HLOOKUP(ND4+3,Journalier_HLV_Inter,24,FALSE)-HLOOKUP(ND4+4,Journalier_HLV_Inter,25,FALSE),IF(AND(WEEKDAY(ND4,2)=1,COUNTIF(Jours_fériés,ND4+3)),HLOOKUP(ND4+2,Journalier_HLV_Inter,24,FALSE)-HLOOKUP(ND4+4,Journalier_HLV_Inter,25,FALSE),IF(AND(WEEKDAY(ND4,2)=2,COUNTIF(Jours_fériés,ND4+2)),HLOOKUP(ND4+3,Journalier_HLV_Inter,24,FALSE)-HLOOKUP(ND4+6,Journalier_HLV_Inter,25,FALSE),IF(AND(WEEKDAY(ND4,2)=2,COUNTIF(Jours_fériés,ND4+3)),HLOOKUP(ND4+2,Journalier_HLV_Inter,24,FALSE)-HLOOKUP(ND4+6,Journalier_HLV_Inter,25,FALSE),IF(AND(WEEKDAY(ND4,2)=3,COUNTIF(Jours_fériés,ND4+2)),HLOOKUP(ND4+5,Journalier_HLV_Inter,24,FALSE)-HLOOKUP(ND4+6,Journalier_HLV_Inter,25,FALSE),IF(AND(WEEKDAY(ND4,2)=3,COUNTIF(Jours_fériés,ND4+5)),HLOOKUP(ND4+2,Journalier_HLV_Inter,24,FALSE)-HLOOKUP(ND4+6,Journalier_HLV_Inter,25,FALSE),IF(AND(WEEKDAY(ND4,2)=3,COUNTIF(Jours_fériés,AND(ND4+2,ND4+5))),HLOOKUP(ND4+6,Journalier_HLV_Inter,24,FALSE)-HLOOKUP(ND4+7,Journalier_HLV_Inter,25,FALSE),IF(WEEKDAY(ND4,2)=4,(HLOOKUP(ND4+4,Journalier_HLV_Inter,8,FALSE)-HLOOKUP(ND4+5,Journalier_HLV_Inter,24,FALSE)),IF(AND(WEEKDAY(ND4,2)=4,COUNTIF(Jours_fériés,ND4+4)),HLOOKUP(ND4+6,Journalier_HLV_Inter,24,FALSE)-HLOOKUP(ND4+7,Journalier_HLV_Inter,25,FALSE),IF(AND(WEEKDAY(ND4,2)=4,COUNTIF(Jours_fériés,ND4+5)),HLOOKUP(ND4+7,Journalier_HLV_Inter,24,FALSE)-HLOOKUP(ND4+8,Journalier_HLV_Inter,25,FALSE),IF(AND(WEEKDAY(ND4,2)=5,COUNTIF(Jours_fériés,ND4+4)),HLOOKUP(ND4+5,Journalier_HLV_Inter,24,FALSE)-HLOOKUP(ND4+6,Journalier_HLV_Inter,25,FALSE),IF(AND(WEEKDAY(ND4,2)=5,COUNTIF(Jours_fériés,ND4+5)),HLOOKUP(ND4+4,Journalier_HLV_Inter,24,FALSE)-HLOOKUP(ND4+6,Journalier_HLV_Inter,25,FALSE),IF(COUNTIF(Week_end,ND4),0,IF(COUNTIF(Jours_fériés,ND4),0,HLOOKUP(ND4+2,Journalier_HLV_Inter,24,FALSE)-HLOOKUP(ND4+3,Journalier_HLV_Inter,25,FALSE)))))))))))))))) -> #N/A
A35: J-1 | E35: =IF(WEEKDAY(E4,2)=5,(E26-HLOOKUP(E4+3,Journalier_HLV_Inter,24,FALSE)),IF(AND(WEEKDAY(E4,2)=1,COUNTIF(Jours_fériés,AND(E4+1,IE+2))),E26-HLOOKUP(E4+3,Journalier_HLV_Inter,24,FALSE),IF(AND(WEEKDAY(E4,2)=1,COUNTIF(Jours_fériés,E4+1)),E26-HLOOKUP(E4+2,Journalier_HLV_Inter,24,FALSE),IF(AND(WEEKDAY(E4,2)=2,COUNTIF(Jours_fériés,AND(E4+1,E4+2))),E26-HLOOKUP(E4+3,Journalier_HLV_Inter,24,FALSE),IF(AND(WEEKDAY(E4,2)=2,COUNTIF(Jours_fériés,E4+1)),E26-HLOOKUP(E4+2,Journalier_HLV_Inter,24,FALSE),IF(AND(WEEKDAY(E4,2)=3,COUNTIF(Jours_fériés,AND(E4+1,E4+2))),E26-HLOOKUP(E4+5,Journalier_HLV_Inter,24,FALSE),IF(AND(WEEKDAY(E4,2)=3,COUNTIF(Jours_fériés,E4+1)),E26-HLOOKUP(E4+2,Journalier_HLV_Inter,24,FALSE),IF(AND(WEEKDAY(E4,2)=4,COUNTIF(Jours_fériés,E4+1)),E26-HLOOKUP(E4+4,Journalier_HLV_Inter,24,FALSE),IF(AND(WEEKDAY(E4,2)=4,COUNTIF(Jours_fériés,AND(E4+1,E4+4))),E26-HLOOKUP(E4+5,Journalier_HLV_Inter,24,FALSE),IF(AND(WEEKDAY(E4,2)=5,COUNTIF(Jours_fériés,E4+3)),E26-HLOOKUP(E4+4,Journalier_HLV_Inter,24,FALSE),IF(COUNTIF(Week_end,E4),0,IF(COUNTIF(Jours_fériés,E4),0,E26-HLOOKUP(E4+1,Journalier_HLV_Inter,24,FALSE))))))))))))) -> 0 | F35: =IF(WEEKDAY(F4,2)=5,(F26-HLOOKUP(F4+3,Journalier_HLV_Inter,24,FALSE)),IF(AND(WEEKDAY(F4,2)=1,COUNTIF(Jours_fériés,AND(F4+1,IE+2))),F26-HLOOKUP(F4+3,Journalier_HLV_Inter,24,FALSE),IF(AND(WEEKDAY(F4,2)=1,COUNTIF(Jours_fériés,F4+1)),F26-HLOOKUP(F4+2,Journalier_HLV_Inter,24,FALSE),IF(AND(WEEKDAY(F4,2)=2,COUNTIF(Jours_fériés,AND(F4+1,F4+2))),F26-HLOOKUP(F4+3,Journalier_HLV_Inter,24,FALSE),IF(AND(WEEKDAY(F4,2)=2,COUNTIF(Jours_fériés,F4+1)),F26-HLOOKUP(F4+2,Journalier_HLV_Inter,24,FALSE),IF(AND(WEEKDAY(F4,2)=3,COUNTIF(Jours_fériés,AND(F4+1,F4+2))),F26-HLOOKUP(F4+5,Journalier_HLV_Inter,24,FALSE),IF(AND(WEEKDAY(F4,2)=3,COUNTIF(Jours_fériés,F4+1)),F26-HLOOKUP(F4+2,Journalier_HLV_Inter,24,FALSE),IF(AND(WEEKDAY(F4,2)=4,COUNTIF(Jours_fériés,F4+1)),F26-HLOOKUP(F4+4,Journalier_HLV_Inter,24,FALSE),IF(AND(WEEKDAY(F4,2)=4,COUNTIF(Jours_fériés,AND(F4+1,F4+4))),F26-HLOOKUP(F4+5,Journalier_HLV_Inter,24,FALSE),IF(AND(WEEKDAY(F4,2)=5,COUNTIF(Jours_fériés,F4+3)),F26-HLOOKUP(F4+4,Journalier_HLV_Inter,24,FALSE),IF(COUNTIF(Week_end,F4),0,IF(COUNTIF(Jours_fériés,F4),0,F26-HLOOKUP(F4+1,Journalier_HLV_Inter,24,FALSE))))))))))))) -> 10 | G35: =IF(WEEKDAY(G4,2)=5,(G26-HLOOKUP(G4+3,Journalier_HLV_Inter,24,FALSE)),IF(AND(WEEKDAY(G4,2)=1,COUNTIF(Jours_fériés,AND(G4+1,IE+2))),G26-HLOOKUP(G4+3,Journalier_HLV_Inter,24,FALSE),IF(AND(WEEKDAY(G4,2)=1,COUNTIF(Jours_fériés,G4+1)),G26-HLOOKUP(G4+2,Journalier_HLV_Inter,24,FALSE),IF(AND(WEEKDAY(G4,2)=2,COUNTIF(Jours_fériés,AND(G4+1,G4+2))),G26-HLOOKUP(G4+3,Journalier_HLV_Inter,24,FALSE),IF(AND(WEEKDAY(G4,2)=2,COUNTIF(Jours_fériés,G4+1)),G26-HLOOKUP(G4+2,Journalier_HLV_Inter,24,FALSE),IF(AND(WEEKDAY(G4,2)=3,COUNTIF(Jours_fériés,AND(G4+1,G4+2))),G26-HLOOKUP(G4+5,Journalier_HLV_Inter,24,FALSE),IF(AND(WEEKDAY(G4,2)=3,COUNTIF(Jours_fériés,G4+1)),G26-HLOOKUP(G4+2,Journalier_HLV_Inter,24,FALSE),IF(AND(WEEKDAY(G4,2)=4,COUNTIF(Jours_fériés,G4+1)),G26-HLOOKUP(G4+4,Journalier_HLV_Inter,24,FALSE),IF(AND(WEEKDAY(G4,2)=4,COUNTIF(Jours_fériés,AND(G4+1,G4+4))),G26-HLOOKUP(G4+5,Journalier_HLV_Inter,24,FALSE),IF(AND(WEEKDAY(G4,2)=5,COUNTIF(Jours_fériés,G4+3)),G26-HLOOKUP(G4+4,Journalier_HLV_Inter,24,FALSE),IF(COUNTIF(Week_end,G4),0,IF(COUNTIF(Jours_fériés,G4),0,G26-HLOOKUP(G4+1,Journalier_HLV_Inter,24,FALSE))))))))))))) -> 15 | H35: =IF(WEEKDAY(H4,2)=5,(H26-HLOOKUP(H4+3,Journalier_HLV_Inter,24,FALSE)),IF(AND(WEEKDAY(H4,2)=1,COUNTIF(Jours_fériés,AND(H4+1,IE+2))),H26-HLOOKUP(H4+3,Journalier_HLV_Inter,24,FALSE),IF(AND(WEEKDAY(H4,2)=1,COUNTIF(Jours_fériés,H4+1)),H26-HLOOKUP(H4+2,Journalier_HLV_Inter,24,FALSE),IF(AND(WEEKDAY(H4,2)=2,COUNTIF(Jours_fériés,AND(H4+1,H4+2))),H26-HLOOKUP(H4+3,Journalier_HLV_Inter,24,FALSE),IF(AND(WEEKDAY(H4,2)=2,COUNTIF(Jours_fériés,H4+1)),H26-HLOOKUP(H4+2,Journalier_HLV_Inter,24,FALSE),IF(AND(WEEKDAY(H4,2)=3,COUNTIF(Jours_fériés,AND(H4+1,H4+2))),H26-HLOOKUP(H4+5,Journalier_HLV_Inter,24,FALSE),IF(AND(WEEKDAY(H4,2)=3,COUNTIF(Jours_fériés,H4+1)),H26-HLOOKUP(H4+2,Journalier_HLV_Inter,24,FALSE),IF(AND(WEEKDAY(H4,2)=4,COUNTIF(Jours_fériés,H4+1)),H26-HLOOKUP(H4+4,Journalier_HLV_Inter,24,FALSE),IF(AND(WEEKDAY(H4,2)=4,COUNTIF(Jours_fériés,AND(H4+1,H4+4))),H26-HLOOKUP(H4+5,Journalier_HLV_Inter,24,FALSE),IF(AND(WEEKDAY(H4,2)=5,COUNTIF(Jours_fériés,H4+3)),H26-HLOOKUP(H4+4,Journalier_HLV_Inter,24,FALSE),IF(COUNTIF(Week_end,H4),0,IF(COUNTIF(Jours_fériés,H4),0,H26-HLOOKUP(H4+1,Journalier_HLV_Inter,24,FALSE))))))))))))) -> 15 | I35: =IF(WEEKDAY(I4,2)=5,(I26-HLOOKUP(I4+3,Journalier_HLV_Inter,24,FALSE)),IF(AND(WEEKDAY(I4,2)=1,COUNTIF(Jours_fériés,AND(I4+1,IE+2))),I26-HLOOKUP(I4+3,Journalier_HLV_Inter,24,FALSE),IF(AND(WEEKDAY(I4,2)=1,COUNTIF(Jours_fériés,I4+1)),I26-HLOOKUP(I4+2,Journalier_HLV_Inter,24,FALSE),IF(AND(WEEKDAY(I4,2)=2,COUNTIF(Jours_fériés,AND(I4+1,I4+2))),I26-HLOOKUP(I4+3,Journalier_HLV_Inter,24,FALSE),IF(AND(WEEKDAY(I4,2)=2,COUNTIF(Jours_fériés,I4+1)),I26-HLOOKUP(I4+2,Journalier_HLV_Inter,24,FALSE),IF(AND(WEEKDAY(I4,2)=3,COUNTIF(Jours_fériés,AND(I4+1,I4+2))),I26-HLOOKUP(I4+5,Journalier_HLV_Inter,24,FALSE),IF(AND(WEEKDAY(I4,2)=3,COUNTIF(Jours_fériés,I4+1)),I26-HLOOKUP(I4+2,Journalier_HLV_Inter,24,FALSE),IF(AND(WEEKDAY(I4,2)=4,COUNTIF(Jours_fériés,I4+1)),I26-HLOOKUP(I4+4,Journalier_HLV_Inter,24,FALSE),IF(AND(WEEKDAY(I4,2)=4,COUNTIF(Jours_fériés,AND(I4+1,I4+4))),I26-HLOOKUP(I4+5,Journalier_HLV_Inter,24,FALSE),IF(AND(WEEKDAY(I4,2)=5,COUNTIF(Jours_fériés,I4+3)),I26-HLOOKUP(I4+4,Journalier_HLV_Inter,24,FALSE),IF(COUNTIF(Week_end,I4),0,IF(COUNTIF(Jours_fériés,I4),0,I26-HLOOKUP(I4+1,Journalier_HLV_Inter,24,FALSE))))))))))))) -> 0 | J35: =IF(WEEKDAY(J4,2)=5,(J26-HLOOKUP(J4+3,Journalier_HLV_Inter,24,FALSE)),IF(AND(WEEKDAY(J4,2)=1,COUNTIF(Jours_fériés,AND(J4+1,IE+2))),J26-HLOOKUP(J4+3,Journalier_HLV_Inter,24,FALSE),IF(AND(WEEKDAY(J4,2)=1,COUNTIF(Jours_fériés,J4+1)),J26-HLOOKUP(J4+2,Journalier_HLV_Inter,24,FALSE),IF(AND(WEEKDAY(J4,2)=2,COUNTIF(Jours_fériés,AND(J4+1,J4+2))),J26-HLOOKUP(J4+3,Journalier_HLV_Inter,24,FALSE),IF(AND(WEEKDAY(J4,2)=2,COUNTIF(Jours_fériés,J4+1)),J26-HLOOKUP(J4+2,Journalier_HLV_Inter,24,FALSE),IF(AND(WEEKDAY(J4,2)=3,COUNTIF(Jours_fériés,AND(J4+1,J4+2))),J26-HLOOKUP(J4+5,Journalier_HLV_Inter,24,FALSE),IF(AND(WEEKDAY(J4,2)=3,COUNTIF(Jours_fériés,J4+1)),J26-HLOOKUP(J4+2,Journalier_HLV_Inter,24,FALSE),IF(AND(WEEKDAY(J4,2)=4,COUNTIF(Jours_fériés,J4+1)),J26-HLOOKUP(J4+4,Journalier_HLV_Inter,24,FALSE),IF(AND(WEEKDAY(J4,2)=4,COUNTIF(Jours_fériés,AND(J4+1,J4+4))),J26-HLOOKUP(J4+5,Journalier_HLV_Inter,24,FALSE),IF(AND(WEEKDAY(J4,2)=5,COUNTIF(Jours_fériés,J4+3)),J26-HLOOKUP(J4+4,Journalier_HLV_Inter,24,FALSE),IF(COUNTIF(Week_end,J4),0,IF(COUNTIF(Jours_fériés,J4),0,J26-HLOOKUP(J4+1,Journalier_HLV_Inter,24,FALSE))))))))))))) -> 0 | K35: =IF(WEEKDAY(K4,2)=5,(K26-HLOOKUP(K4+3,Journalier_HLV_Inter,24,FALSE)),IF(AND(WEEKDAY(K4,2)=1,COUNTIF(Jours_fériés,AND(K4+1,IE+2))),K26-HLOOKUP(K4+3,Journalier_HLV_Inter,24,FALSE),IF(AND(WEEKDAY(K4,2)=1,COUNTIF(Jours_fériés,K4+1)),K26-HLOOKUP(K4+2,Journalier_HLV_Inter,24,FALSE),IF(AND(WEEKDAY(K4,2)=2,COUNTIF(Jours_fériés,AND(K4+1,K4+2))),K26-HLOOKUP(K4+3,Journalier_HLV_Inter,24,FALSE),IF(AND(WEEKDAY(K4,2)=2,COUNTIF(Jours_fériés,K4+1)),K26-HLOOKUP(K4+2,Journalier_HLV_Inter,24,FALSE),IF(AND(WEEKDAY(K4,2)=3,COUNTIF(Jours_fériés,AND(K4+1,K4+2))),K26-HLOOKUP(K4+5,Journalier_HLV_Inter,24,FALSE),IF(AND(WEEKDAY(K4,2)=3,COUNTIF(Jours_fériés,K4+1)),K26-HLOOKUP(K4+2,Journalier_HLV_Inter,24,FALSE),IF(AND(WEEKDAY(K4,2)=4,COUNTIF(Jours_fériés,K4+1)),K26-HLOOKUP(K4+4,Journalier_HLV_Inter,24,FALSE),IF(AND(WEEKDAY(K4,2)=4,COUNTIF(Jours_fériés,AND(K4+1,K4+4))),K26-HLOOKUP(K4+5,Journalier_HLV_Inter,24,FALSE),IF(AND(WEEKDAY(K4,2)=5,COUNTIF(Jours_fériés,K4+3)),K26-HLOOKUP(K4+4,Journalier_HLV_Inter,24,FALSE),IF(COUNTIF(Week_end,K4),0,IF(COUNTIF(Jours_fériés,K4),0,K26-HLOOKUP(K4+1,Journalier_HLV_Inter,24,FALSE))))))))))))) -> 0 | L35: =IF(WEEKDAY(L4,2)=5,(L26-HLOOKUP(L4+3,Journalier_HLV_Inter,24,FALSE)),IF(AND(WEEKDAY(L4,2)=1,COUNTIF(Jours_fériés,AND(L4+1,IE+2))),L26-HLOOKUP(L4+3,Journalier_HLV_Inter,24,FALSE),IF(AND(WEEKDAY(L4,2)=1,COUNTIF(Jours_fériés,L4+1)),L26-HLOOKUP(L4+2,Journalier_HLV_Inter,24,FALSE),IF(AND(WEEKDAY(L4,2)=2,COUNTIF(Jours_fériés,AND(L4+1,L4+2))),L26-HLOOKUP(L4+3,Journalier_HLV_Inter,24,FALSE),IF(AND(WEEKDAY(L4,2)=2,COUNTIF(Jours_fériés,L4+1)),L26-HLOOKUP(L4+2,Journalier_HLV_Inter,24,FALSE),IF(AND(WEEKDAY(L4,2)=3,COUNTIF(Jours_fériés,AND(L4+1,L4+2))),L26-HLOOKUP(L4+5,Journalier_HLV_Inter,24,FALSE),IF(AND(WEEKDAY(L4,2)=3,COUNTIF(Jours_fériés,L4+1)),L26-HLOOKUP(L4+2,Journalier_HLV_Inter,24,FALSE),IF(AND(WEEKDAY(L4,2)=4,COUNTIF(Jours_fériés,L4+1)),L26-HLOOKUP(L4+4,Journalier_HLV_Inter,24,FALSE),IF(AND(WEEKDAY(L4,2)=4,COUNTIF(Jours_fériés,AND(L4+1,L4+4))),L26-HLOOKUP(L4+5,Journalier_HLV_Inter,24,FALSE),IF(AND(WEEKDAY(L4,2)=5,COUNTIF(Jours_fériés,L4+3)),L26-HLOOKUP(L4+4,Journalier_HLV_Inter,24,FALSE),IF(COUNTIF(Week_end,L4),0,IF(COUNTIF(Jours_fériés,L4),0,L26-HLOOKUP(L4+1,Journalier_HLV_Inter,24,FALSE))))))))))))) -> 0 | ... ND35: =IF(WEEKDAY(ND4,2)=5,(ND26-HLOOKUP(ND4+3,Journalier_HLV_Inter,24,FALSE)),IF(AND(WEEKDAY(ND4,2)=1,COUNTIF(Jours_fériés,AND(ND4+1,IE+2))),ND26-HLOOKUP(ND4+3,Journalier_HLV_Inter,24,FALSE),IF(AND(WEEKDAY(ND4,2)=1,COUNTIF(Jours_fériés,ND4+1)),ND26-HLOOKUP(ND4+2,Journalier_HLV_Inter,24,FALSE),IF(AND(WEEKDAY(ND4,2)=2,COUNTIF(Jours_fériés,AND(ND4+1,ND4+2))),ND26-HLOOKUP(ND4+3,Journalier_HLV_Inter,24,FALSE),IF(AND(WEEKDAY(ND4,2)=2,COUNTIF(Jours_fériés,ND4+1)),ND26-HLOOKUP(ND4+2,Journalier_HLV_Inter,24,FALSE),IF(AND(WEEKDAY(ND4,2)=3,COUNTIF(Jours_fériés,AND(ND4+1,ND4+2))),ND26-HLOOKUP(ND4+5,Journalier_HLV_Inter,24,FALSE),IF(AND(WEEKDAY(ND4,2)=3,COUNTIF(Jours_fériés,ND4+1)),ND26-HLOOKUP(ND4+2,Journalier_HLV_Inter,24,FALSE),IF(AND(WEEKDAY(ND4,2)=4,COUNTIF(Jours_fériés,ND4+1)),ND26-HLOOKUP(ND4+4,Journalier_HLV_Inter,24,FALSE),IF(AND(WEEKDAY(ND4,2)=4,COUNTIF(Jours_fériés,AND(ND4+1,ND4+4))),ND26-HLOOKUP(ND4+5,Journalier_HLV_Inter,24,FALSE),IF(AND(WEEKDAY(ND4,2)=5,COUNTIF(Jours_fériés,ND4+3)),ND26-HLOOKUP(ND4+4,Journalier_HLV_Inter,24,FALSE),IF(COUNTIF(Week_end,ND4),0,IF(COUNTIF(Jours_fériés,ND4),0,ND26-HLOOKUP(ND4+1,Journalier_HLV_Inter,24,FALSE))))))))))))) -> #N/A
A36: J-2 | E36: =IF(WEEKDAY(E4,2)=5,(E27-HLOOKUP(E4+3,Journalier_HLV_Inter,25,FALSE)),IF(AND(WEEKDAY(E4,2)=1,COUNTIF(Jours_fériés,AND(E4+1,IE+2))),E27-HLOOKUP(E4+3,Journalier_HLV_Inter,25,FALSE),IF(AND(WEEKDAY(E4,2)=1,COUNTIF(Jours_fériés,E4+1)),E27-HLOOKUP(E4+2,Journalier_HLV_Inter,25,FALSE),IF(AND(WEEKDAY(E4,2)=2,COUNTIF(Jours_fériés,AND(E4+1,E4+2))),E27-HLOOKUP(E4+3,Journalier_HLV_Inter,25,FALSE),IF(AND(WEEKDAY(E4,2)=2,COUNTIF(Jours_fériés,E4+1)),E27-HLOOKUP(E4+2,Journalier_HLV_Inter,25,FALSE),IF(AND(WEEKDAY(E4,2)=3,COUNTIF(Jours_fériés,AND(E4+1,E4+2))),E27-HLOOKUP(E4+5,Journalier_HLV_Inter,25,FALSE),IF(AND(WEEKDAY(E4,2)=3,COUNTIF(Jours_fériés,E4+1)),E27-HLOOKUP(E4+2,Journalier_HLV_Inter,25,FALSE),IF(AND(WEEKDAY(E4,2)=4,COUNTIF(Jours_fériés,E4+1)),E27-HLOOKUP(E4+4,Journalier_HLV_Inter,25,FALSE),IF(AND(WEEKDAY(E4,2)=4,COUNTIF(Jours_fériés,AND(E4+1,E4+4))),E27-HLOOKUP(E4+5,Journalier_HLV_Inter,25,FALSE),IF(AND(WEEKDAY(E4,2)=5,COUNTIF(Jours_fériés,E4+3)),E27-HLOOKUP(E4+4,Journalier_HLV_Inter,25,FALSE),IF(COUNTIF(Week_end,E4),0,IF(COUNTIF(Jours_fériés,E4),0,E27-HLOOKUP(E4+1,Journalier_HLV_Inter,25,FALSE))))))))))))) -> 0 | F36: =IF(WEEKDAY(F4,2)=5,(F27-HLOOKUP(F4+3,Journalier_HLV_Inter,25,FALSE)),IF(AND(WEEKDAY(F4,2)=1,COUNTIF(Jours_fériés,AND(F4+1,IE+2))),F27-HLOOKUP(F4+3,Journalier_HLV_Inter,25,FALSE),IF(AND(WEEKDAY(F4,2)=1,COUNTIF(Jours_fériés,F4+1)),F27-HLOOKUP(F4+2,Journalier_HLV_Inter,25,FALSE),IF(AND(WEEKDAY(F4,2)=2,COUNTIF(Jours_fériés,AND(F4+1,F4+2))),F27-HLOOKUP(F4+3,Journalier_HLV_Inter,25,FALSE),IF(AND(WEEKDAY(F4,2)=2,COUNTIF(Jours_fériés,F4+1)),F27-HLOOKUP(F4+2,Journalier_HLV_Inter,25,FALSE),IF(AND(WEEKDAY(F4,2)=3,COUNTIF(Jours_fériés,AND(F4+1,F4+2))),F27-HLOOKUP(F4+5,Journalier_HLV_Inter,25,FALSE),IF(AND(WEEKDAY(F4,2)=3,COUNTIF(Jours_fériés,F4+1)),F27-HLOOKUP(F4+2,Journalier_HLV_Inter,25,FALSE),IF(AND(WEEKDAY(F4,2)=4,COUNTIF(Jours_fériés,F4+1)),F27-HLOOKUP(F4+4,Journalier_HLV_Inter,25,FALSE),IF(AND(WEEKDAY(F4,2)=4,COUNTIF(Jours_fériés,AND(F4+1,F4+4))),F27-HLOOKUP(F4+5,Journalier_HLV_Inter,25,FALSE),IF(AND(WEEKDAY(F4,2)=5,COUNTIF(Jours_fériés,F4+3)),F27-HLOOKUP(F4+4,Journalier_HLV_Inter,25,FALSE),IF(COUNTIF(Week_end,F4),0,IF(COUNTIF(Jours_fériés,F4),0,F27-HLOOKUP(F4+1,Journalier_HLV_Inter,25,FALSE))))))))))))) -> 0 | G36: =IF(WEEKDAY(G4,2)=5,(G27-HLOOKUP(G4+3,Journalier_HLV_Inter,25,FALSE)),IF(AND(WEEKDAY(G4,2)=1,COUNTIF(Jours_fériés,AND(G4+1,IE+2))),G27-HLOOKUP(G4+3,Journalier_HLV_Inter,25,FALSE),IF(AND(WEEKDAY(G4,2)=1,COUNTIF(Jours_fériés,G4+1)),G27-HLOOKUP(G4+2,Journalier_HLV_Inter,25,FALSE),IF(AND(WEEKDAY(G4,2)=2,COUNTIF(Jours_fériés,AND(G4+1,G4+2))),G27-HLOOKUP(G4+3,Journalier_HLV_Inter,25,FALSE),IF(AND(WEEKDAY(G4,2)=2,COUNTIF(Jours_fériés,G4+1)),G27-HLOOKUP(G4+2,Journalier_HLV_Inter,25,FALSE),IF(AND(WEEKDAY(G4,2)=3,COUNTIF(Jours_fériés,AND(G4+1,G4+2))),G27-HLOOKUP(G4+5,Journalier_HLV_Inter,25,FALSE),IF(AND(WEEKDAY(G4,2)=3,COUNTIF(Jours_fériés,G4+1)),G27-HLOOKUP(G4+2,Journalier_HLV_Inter,25,FALSE),IF(AND(WEEKDAY(G4,2)=4,COUNTIF(Jours_fériés,G4+1)),G27-HLOOKUP(G4+4,Journalier_HLV_Inter,25,FALSE),IF(AND(WEEKDAY(G4,2)=4,COUNTIF(Jours_fériés,AND(G4+1,G4+4))),G27-HLOOKUP(G4+5,Journalier_HLV_Inter,25,FALSE),IF(AND(WEEKDAY(G4,2)=5,COUNTIF(Jours_fériés,G4+3)),G27-HLOOKUP(G4+4,Journalier_HLV_Inter,25,FALSE),IF(COUNTIF(Week_end,G4),0,IF(COUNTIF(Jours_fériés,G4),0,G27-HLOOKUP(G4+1,Journalier_HLV_Inter,25,FALSE))))))))))))) -> 40 | H36: =IF(WEEKDAY(H4,2)=5,(H27-HLOOKUP(H4+3,Journalier_HLV_Inter,25,FALSE)),IF(AND(WEEKDAY(H4,2)=1,COUNTIF(Jours_fériés,AND(H4+1,IE+2))),H27-HLOOKUP(H4+3,Journalier_HLV_Inter,25,FALSE),IF(AND(WEEKDAY(H4,2)=1,COUNTIF(Jours_fériés,H4+1)),H27-HLOOKUP(H4+2,Journalier_HLV_Inter,25,FALSE),IF(AND(WEEKDAY(H4,2)=2,COUNTIF(Jours_fériés,AND(H4+1,H4+2))),H27-HLOOKUP(H4+3,Journalier_HLV_Inter,25,FALSE),IF(AND(WEEKDAY(H4,2)=2,COUNTIF(Jours_fériés,H4+1)),H27-HLOOKUP(H4+2,Journalier_HLV_Inter,25,FALSE),IF(AND(WEEKDAY(H4,2)=3,COUNTIF(Jours_fériés,AND(H4+1,H4+2))),H27-HLOOKUP(H4+5,Journalier_HLV_Inter,25,FALSE),IF(AND(WEEKDAY(H4,2)=3,COUNTIF(Jours_fériés,H4+1)),H27-HLOOKUP(H4+2,Journalier_HLV_Inter,25,FALSE),IF(AND(WEEKDAY(H4,2)=4,COUNTIF(Jours_fériés,H4+1)),H27-HLOOKUP(H4+4,Journalier_HLV_Inter,25,FALSE),IF(AND(WEEKDAY(H4,2)=4,COUNTIF(Jours_fériés,AND(H4+1,H4+4))),H27-HLOOKUP(H4+5,Journalier_HLV_Inter,25,FALSE),IF(AND(WEEKDAY(H4,2)=5,COUNTIF(Jours_fériés,H4+3)),H27-HLOOKUP(H4+4,Journalier_HLV_Inter,25,FALSE),IF(COUNTIF(Week_end,H4),0,IF(COUNTIF(Jours_fériés,H4),0,H27-HLOOKUP(H4+1,Journalier_HLV_Inter,25,FALSE))))))))))))) -> 25 | I36: =IF(WEEKDAY(I4,2)=5,(I27-HLOOKUP(I4+3,Journalier_HLV_Inter,25,FALSE)),IF(AND(WEEKDAY(I4,2)=1,COUNTIF(Jours_fériés,AND(I4+1,IE+2))),I27-HLOOKUP(I4+3,Journalier_HLV_Inter,25,FALSE),IF(AND(WEEKDAY(I4,2)=1,COUNTIF(Jours_fériés,I4+1)),I27-HLOOKUP(I4+2,Journalier_HLV_Inter,25,FALSE),IF(AND(WEEKDAY(I4,2)=2,COUNTIF(Jours_fériés,AND(I4+1,I4+2))),I27-HLOOKUP(I4+3,Journalier_HLV_Inter,25,FALSE),IF(AND(WEEKDAY(I4,2)=2,COUNTIF(Jours_fériés,I4+1)),I27-HLOOKUP(I4+2,Journalier_HLV_Inter,25,FALSE),IF(AND(WEEKDAY(I4,2)=3,COUNTIF(Jours_fériés,AND(I4+1,I4+2))),I27-HLOOKUP(I4+5,Journalier_HLV_Inter,25,FALSE),IF(AND(WEEKDAY(I4,2)=3,COUNTIF(Jours_fériés,I4+1)),I27-HLOOKUP(I4+2,Journalier_HLV_Inter,25,FALSE),IF(AND(WEEKDAY(I4,2)=4,COUNTIF(Jours_fériés,I4+1)),I27-HLOOKUP(I4+4,Journalier_HLV_Inter,25,FALSE),IF(AND(WEEKDAY(I4,2)=4,COUNTIF(Jours_fériés,AND(I4+1,I4+4))),I27-HLOOKUP(I4+5,Journalier_HLV_Inter,25,FALSE),IF(AND(WEEKDAY(I4,2)=5,COUNTIF(Jours_fériés,I4+3)),I27-HLOOKUP(I4+4,Journalier_HLV_Inter,25,FALSE),IF(COUNTIF(Week_end,I4),0,IF(COUNTIF(Jours_fériés,I4),0,I27-HLOOKUP(I4+1,Journalier_HLV_Inter,25,FALSE))))))))))))) -> 15 | J36: =IF(WEEKDAY(J4,2)=5,(J27-HLOOKUP(J4+3,Journalier_HLV_Inter,25,FALSE)),IF(AND(WEEKDAY(J4,2)=1,COUNTIF(Jours_fériés,AND(J4+1,IE+2))),J27-HLOOKUP(J4+3,Journalier_HLV_Inter,25,FALSE),IF(AND(WEEKDAY(J4,2)=1,COUNTIF(Jours_fériés,J4+1)),J27-HLOOKUP(J4+2,Journalier_HLV_Inter,25,FALSE),IF(AND(WEEKDAY(J4,2)=2,COUNTIF(Jours_fériés,AND(J4+1,J4+2))),J27-HLOOKUP(J4+3,Journalier_HLV_Inter,25,FALSE),IF(AND(WEEKDAY(J4,2)=2,COUNTIF(Jours_fériés,J4+1)),J27-HLOOKUP(J4+2,Journalier_HLV_Inter,25,FALSE),IF(AND(WEEKDAY(J4,2)=3,COUNTIF(Jours_fériés,AND(J4+1,J4+2))),J27-HLOOKUP(J4+5,Journalier_HLV_Inter,25,FALSE),IF(AND(WEEKDAY(J4,2)=3,COUNTIF(Jours_fériés,J4+1)),J27-HLOOKUP(J4+2,Journalier_HLV_Inter,25,FALSE),IF(AND(WEEKDAY(J4,2)=4,COUNTIF(Jours_fériés,J4+1)),J27-HLOOKUP(J4+4,Journalier_HLV_Inter,25,FALSE),IF(AND(WEEKDAY(J4,2)=4,COUNTIF(Jours_fériés,AND(J4+1,J4+4))),J27-HLOOKUP(J4+5,Journalier_HLV_Inter,25,FALSE),IF(AND(WEEKDAY(J4,2)=5,COUNTIF(Jours_fériés,J4+3)),J27-HLOOKUP(J4+4,Journalier_HLV_Inter,25,FALSE),IF(COUNTIF(Week_end,J4),0,IF(COUNTIF(Jours_fériés,J4),0,J27-HLOOKUP(J4+1,Journalier_HLV_Inter,25,FALSE))))))))))))) -> 0 | K36: =IF(WEEKDAY(K4,2)=5,(K27-HLOOKUP(K4+3,Journalier_HLV_Inter,25,FALSE)),IF(AND(WEEKDAY(K4,2)=1,COUNTIF(Jours_fériés,AND(K4+1,IE+2))),K27-HLOOKUP(K4+3,Journalier_HLV_Inter,25,FALSE),IF(AND(WEEKDAY(K4,2)=1,COUNTIF(Jours_fériés,K4+1)),K27-HLOOKUP(K4+2,Journalier_HLV_Inter,25,FALSE),IF(AND(WEEKDAY(K4,2)=2,COUNTIF(Jours_fériés,AND(K4+1,K4+2))),K27-HLOOKUP(K4+3,Journalier_HLV_Inter,25,FALSE),IF(AND(WEEKDAY(K4,2)=2,COUNTIF(Jours_fériés,K4+1)),K27-HLOOKUP(K4+2,Journalier_HLV_Inter,25,FALSE),IF(AND(WEEKDAY(K4,2)=3,COUNTIF(Jours_fériés,AND(K4+1,K4+2))),K27-HLOOKUP(K4+5,Journalier_HLV_Inter,25,FALSE),IF(AND(WEEKDAY(K4,2)=3,COUNTIF(Jours_fériés,K4+1)),K27-HLOOKUP(K4+2,Journalier_HLV_Inter,25,FALSE),IF(AND(WEEKDAY(K4,2)=4,COUNTIF(Jours_fériés,K4+1)),K27-HLOOKUP(K4+4,Journalier_HLV_Inter,25,FALSE),IF(AND(WEEKDAY(K4,2)=4,COUNTIF(Jours_fériés,AND(K4+1,K4+4))),K27-HLOOKUP(K4+5,Journalier_HLV_Inter,25,FALSE),IF(AND(WEEKDAY(K4,2)=5,COUNTIF(Jours_fériés,K4+3)),K27-HLOOKUP(K4+4,Journalier_HLV_Inter,25,FALSE),IF(COUNTIF(Week_end,K4),0,IF(COUNTIF(Jours_fériés,K4),0,K27-HLOOKUP(K4+1,Journalier_HLV_Inter,25,FALSE))))))))))))) -> 0 | L36: =IF(WEEKDAY(L4,2)=5,(L27-HLOOKUP(L4+3,Journalier_HLV_Inter,25,FALSE)),IF(AND(WEEKDAY(L4,2)=1,COUNTIF(Jours_fériés,AND(L4+1,IE+2))),L27-HLOOKUP(L4+3,Journalier_HLV_Inter,25,FALSE),IF(AND(WEEKDAY(L4,2)=1,COUNTIF(Jours_fériés,L4+1)),L27-HLOOKUP(L4+2,Journalier_HLV_Inter,25,FALSE),IF(AND(WEEKDAY(L4,2)=2,COUNTIF(Jours_fériés,AND(L4+1,L4+2))),L27-HLOOKUP(L4+3,Journalier_HLV_Inter,25,FALSE),IF(AND(WEEKDAY(L4,2)=2,COUNTIF(Jours_fériés,L4+1)),L27-HLOOKUP(L4+2,Journalier_HLV_Inter,25,FALSE),IF(AND(WEEKDAY(L4,2)=3,COUNTIF(Jours_fériés,AND(L4+1,L4+2))),L27-HLOOKUP(L4+5,Journalier_HLV_Inter,25,FALSE),IF(AND(WEEKDAY(L4,2)=3,COUNTIF(Jours_fériés,L4+1)),L27-HLOOKUP(L4+2,Journalier_HLV_Inter,25,FALSE),IF(AND(WEEKDAY(L4,2)=4,COUNTIF(Jours_fériés,L4+1)),L27-HLOOKUP(L4+4,Journalier_HLV_Inter,25,FALSE),IF(AND(WEEKDAY(L4,2)=4,COUNTIF(Jours_fériés,AND(L4+1,L4+4))),L27-HLOOKUP(L4+5,Journalier_HLV_Inter,25,FALSE),IF(AND(WEEKDAY(L4,2)=5,COUNTIF(Jours_fériés,L4+3)),L27-HLOOKUP(L4+4,Journalier_HLV_Inter,25,FALSE),IF(COUNTIF(Week_end,L4),0,IF(COUNTIF(Jours_fériés,L4),0,L27-HLOOKUP(L4+1,Journalier_HLV_Inter,25,FALSE))))))))))))) -> 0 | ... ND36: =IF(WEEKDAY(ND4,2)=5,(ND27-HLOOKUP(ND4+3,Journalier_HLV_Inter,25,FALSE)),IF(AND(WEEKDAY(ND4,2)=1,COUNTIF(Jours_fériés,AND(ND4+1,IE+2))),ND27-HLOOKUP(ND4+3,Journalier_HLV_Inter,25,FALSE),IF(AND(WEEKDAY(ND4,2)=1,COUNTIF(Jours_fériés,ND4+1)),ND27-HLOOKUP(ND4+2,Journalier_HLV_Inter,25,FALSE),IF(AND(WEEKDAY(ND4,2)=2,COUNTIF(Jours_fériés,AND(ND4+1,ND4+2))),ND27-HLOOKUP(ND4+3,Journalier_HLV_Inter,25,FALSE),IF(AND(WEEKDAY(ND4,2)=2,COUNTIF(Jours_fériés,ND4+1)),ND27-HLOOKUP(ND4+2,Journalier_HLV_Inter,25,FALSE),IF(AND(WEEKDAY(ND4,2)=3,COUNTIF(Jours_fériés,AND(ND4+1,ND4+2))),ND27-HLOOKUP(ND4+5,Journalier_HLV_Inter,25,FALSE),IF(AND(WEEKDAY(ND4,2)=3,COUNTIF(Jours_fériés,ND4+1)),ND27-HLOOKUP(ND4+2,Journalier_HLV_Inter,25,FALSE),IF(AND(WEEKDAY(ND4,2)=4,COUNTIF(Jours_fériés,ND4+1)),ND27-HLOOKUP(ND4+4,Journalier_HLV_Inter,25,FALSE),IF(AND(WEEKDAY(ND4,2)=4,COUNTIF(Jours_fériés,AND(ND4+1,ND4+4))),ND27-HLOOKUP(ND4+5,Journalier_HLV_Inter,25,FALSE),IF(AND(WEEKDAY(ND4,2)=5,COUNTIF(Jours_fériés,ND4+3)),ND27-HLOOKUP(ND4+4,Journalier_HLV_Inter,25,FALSE),IF(COUNTIF(Week_end,ND4),0,IF(COUNTIF(Jours_fériés,ND4),0,ND27-HLOOKUP(ND4+1,Journalier_HLV_Inter,25,FALSE))))))))))))) -> #N/A
A37: >J-2 | E37: =IF(WEEKDAY(E4,2)=5,(E28-HLOOKUP(E4+3,Journalier_HLV_Inter,26,FALSE)),IF(AND(WEEKDAY(E4,2)=1,COUNTIF(Jours_fériés,AND(E4+1,IE+2))),E28-HLOOKUP(E4+3,Journalier_HLV_Inter,26,FALSE),IF(AND(WEEKDAY(E4,2)=1,COUNTIF(Jours_fériés,E4+1)),E28-HLOOKUP(E4+2,Journalier_HLV_Inter,26,FALSE),IF(AND(WEEKDAY(E4,2)=2,COUNTIF(Jours_fériés,AND(E4+1,E4+2))),E28-HLOOKUP(E4+3,Journalier_HLV_Inter,26,FALSE),IF(AND(WEEKDAY(E4,2)=2,COUNTIF(Jours_fériés,E4+1)),E28-HLOOKUP(E4+2,Journalier_HLV_Inter,26,FALSE),IF(AND(WEEKDAY(E4,2)=3,COUNTIF(Jours_fériés,AND(E4+1,E4+2))),E28-HLOOKUP(E4+5,Journalier_HLV_Inter,26,FALSE),IF(AND(WEEKDAY(E4,2)=3,COUNTIF(Jours_fériés,E4+1)),E28-HLOOKUP(E4+2,Journalier_HLV_Inter,26,FALSE),IF(AND(WEEKDAY(E4,2)=4,COUNTIF(Jours_fériés,E4+1)),E28-HLOOKUP(E4+4,Journalier_HLV_Inter,26,FALSE),IF(AND(WEEKDAY(E4,2)=4,COUNTIF(Jours_fériés,AND(E4+1,E4+4))),E28-HLOOKUP(E4+5,Journalier_HLV_Inter,26,FALSE),IF(AND(WEEKDAY(E4,2)=5,COUNTIF(Jours_fériés,E4+3)),E28-HLOOKUP(E4+4,Journalier_HLV_Inter,26,FALSE),IF(COUNTIF(Week_end,E4),0,IF(COUNTIF(Jours_fériés,E4),0,E28-HLOOKUP(E4+1,Journalier_HLV_Inter,26,FALSE))))))))))))) -> 0 | F37: =IF(WEEKDAY(F4,2)=5,(F28-HLOOKUP(F4+3,Journalier_HLV_Inter,26,FALSE)),IF(AND(WEEKDAY(F4,2)=1,COUNTIF(Jours_fériés,AND(F4+1,IE+2))),F28-HLOOKUP(F4+3,Journalier_HLV_Inter,26,FALSE),IF(AND(WEEKDAY(F4,2)=1,COUNTIF(Jours_fériés,F4+1)),F28-HLOOKUP(F4+2,Journalier_HLV_Inter,26,FALSE),IF(AND(WEEKDAY(F4,2)=2,COUNTIF(Jours_fériés,AND(F4+1,F4+2))),F28-HLOOKUP(F4+3,Journalier_HLV_Inter,26,FALSE),IF(AND(WEEKDAY(F4,2)=2,COUNTIF(Jours_fériés,F4+1)),F28-HLOOKUP(F4+2,Journalier_HLV_Inter,26,FALSE),IF(AND(WEEKDAY(F4,2)=3,COUNTIF(Jours_fériés,AND(F4+1,F4+2))),F28-HLOOKUP(F4+5,Journalier_HLV_Inter,26,FALSE),IF(AND(WEEKDAY(F4,2)=3,COUNTIF(Jours_fériés,F4+1)),F28-HLOOKUP(F4+2,Journalier_HLV_Inter,26,FALSE),IF(AND(WEEKDAY(F4,2)=4,COUNTIF(Jours_fériés,F4+1)),F28-HLOOKUP(F4+4,Journalier_HLV_Inter,26,FALSE),IF(AND(WEEKDAY(F4,2)=4,COUNTIF(Jours_fériés,AND(F4+1,F4+4))),F28-HLOOKUP(F4+5,Journalier_HLV_Inter,26,FALSE),IF(AND(WEEKDAY(F4,2)=5,COUNTIF(Jours_fériés,F4+3)),F28-HLOOKUP(F4+4,Journalier_HLV_Inter,26,FALSE),IF(COUNTIF(Week_end,F4),0,IF(COUNTIF(Jours_fériés,F4),0,F28-HLOOKUP(F4+1,Journalier_HLV_Inter,26,FALSE))))))))))))) -> 0 | G37: =IF(WEEKDAY(G4,2)=5,(G28-HLOOKUP(G4+3,Journalier_HLV_Inter,26,FALSE)),IF(AND(WEEKDAY(G4,2)=1,COUNTIF(Jours_fériés,AND(G4+1,IE+2))),G28-HLOOKUP(G4+3,Journalier_HLV_Inter,26,FALSE),IF(AND(WEEKDAY(G4,2)=1,COUNTIF(Jours_fériés,G4+1)),G28-HLOOKUP(G4+2,Journalier_HLV_Inter,26,FALSE),IF(AND(WEEKDAY(G4,2)=2,COUNTIF(Jours_fériés,AND(G4+1,G4+2))),G28-HLOOKUP(G4+3,Journalier_HLV_Inter,26,FALSE),IF(AND(WEEKDAY(G4,2)=2,COUNTIF(Jours_fériés,G4+1)),G28-HLOOKUP(G4+2,Journalier_HLV_Inter,26,FALSE),IF(AND(WEEKDAY(G4,2)=3,COUNTIF(Jours_fériés,AND(G4+1,G4+2))),G28-HLOOKUP(G4+5,Journalier_HLV_Inter,26,FALSE),IF(AND(WEEKDAY(G4,2)=3,COUNTIF(Jours_fériés,G4+1)),G28-HLOOKUP(G4+2,Journalier_HLV_Inter,26,FALSE),IF(AND(WEEKDAY(G4,2)=4,COUNTIF(Jours_fériés,G4+1)),G28-HLOOKUP(G4+4,Journalier_HLV_Inter,26,FALSE),IF(AND(WEEKDAY(G4,2)=4,COUNTIF(Jours_fériés,AND(G4+1,G4+4))),G28-HLOOKUP(G4+5,Journalier_HLV_Inter,26,FALSE),IF(AND(WEEKDAY(G4,2)=5,COUNTIF(Jours_fériés,G4+3)),G28-HLOOKUP(G4+4,Journalier_HLV_Inter,26,FALSE),IF(COUNTIF(Week_end,G4),0,IF(COUNTIF(Jours_fériés,G4),0,G28-HLOOKUP(G4+1,Journalier_HLV_Inter,26,FALSE))))))))))))) -> 0 | H37: =IF(WEEKDAY(H4,2)=5,(H28-HLOOKUP(H4+3,Journalier_HLV_Inter,26,FALSE)),IF(AND(WEEKDAY(H4,2)=1,COUNTIF(Jours_fériés,AND(H4+1,IE+2))),H28-HLOOKUP(H4+3,Journalier_HLV_Inter,26,FALSE),IF(AND(WEEKDAY(H4,2)=1,COUNTIF(Jours_fériés,H4+1)),H28-HLOOKUP(H4+2,Journalier_HLV_Inter,26,FALSE),IF(AND(WEEKDAY(H4,2)=2,COUNTIF(Jours_fériés,AND(H4+1,H4+2))),H28-HLOOKUP(H4+3,Journalier_HLV_Inter,26,FALSE),IF(AND(WEEKDAY(H4,2)=2,COUNTIF(Jours_fériés,H4+1)),H28-HLOOKUP(H4+2,Journalier_HLV_Inter,26,FALSE),IF(AND(WEEKDAY(H4,2)=3,COUNTIF(Jours_fériés,AND(H4+1,H4+2))),H28-HLOOKUP(H4+5,Journalier_HLV_Inter,26,FALSE),IF(AND(WEEKDAY(H4,2)=3,COUNTIF(Jours_fériés,H4+1)),H28-HLOOKUP(H4+2,Journalier_HLV_Inter,26,FALSE),IF(AND(WEEKDAY(H4,2)=4,COUNTIF(Jours_fériés,H4+1)),H28-HLOOKUP(H4+4,Journalier_HLV_Inter,26,FALSE),IF(AND(WEEKDAY(H4,2)=4,COUNTIF(Jours_fériés,AND(H4+1,H4+4))),H28-HLOOKUP(H4+5,Journalier_HLV_Inter,26,FALSE),IF(AND(WEEKDAY(H4,2)=5,COUNTIF(Jours_fériés,H4+3)),H28-HLOOKUP(H4+4,Journalier_HLV_Inter,26,FALSE),IF(COUNTIF(Week_end,H4),0,IF(COUNTIF(Jours_fériés,H4),0,H28-HLOOKUP(H4+1,Journalier_HLV_Inter,26,FALSE))))))))))))) -> 0 | I37: =IF(WEEKDAY(I4,2)=5,(I28-HLOOKUP(I4+3,Journalier_HLV_Inter,26,FALSE)),IF(AND(WEEKDAY(I4,2)=1,COUNTIF(Jours_fériés,AND(I4+1,IE+2))),I28-HLOOKUP(I4+3,Journalier_HLV_Inter,26,FALSE),IF(AND(WEEKDAY(I4,2)=1,COUNTIF(Jours_fériés,I4+1)),I28-HLOOKUP(I4+2,Journalier_HLV_Inter,26,FALSE),IF(AND(WEEKDAY(I4,2)=2,COUNTIF(Jours_fériés,AND(I4+1,I4+2))),I28-HLOOKUP(I4+3,Journalier_HLV_Inter,26,FALSE),IF(AND(WEEKDAY(I4,2)=2,COUNTIF(Jours_fériés,I4+1)),I28-HLOOKUP(I4+2,Journalier_HLV_Inter,26,FALSE),IF(AND(WEEKDAY(I4,2)=3,COUNTIF(Jours_fériés,AND(I4+1,I4+2))),I28-HLOOKUP(I4+5,Journalier_HLV_Inter,26,FALSE),IF(AND(WEEKDAY(I4,2)=3,COUNTIF(Jours_fériés,I4+1)),I28-HLOOKUP(I4+2,Journalier_HLV_Inter,26,FALSE),IF(AND(WEEKDAY(I4,2)=4,COUNTIF(Jours_fériés,I4+1)),I28-HLOOKUP(I4+4,Journalier_HLV_Inter,26,FALSE),IF(AND(WEEKDAY(I4,2)=4,COUNTIF(Jours_fériés,AND(I4+1,I4+4))),I28-HLOOKUP(I4+5,Journalier_HLV_Inter,26,FALSE),IF(AND(WEEKDAY(I4,2)=5,COUNTIF(Jours_fériés,I4+3)),I28-HLOOKUP(I4+4,Journalier_HLV_Inter,26,FALSE),IF(COUNTIF(Week_end,I4),0,IF(COUNTIF(Jours_fériés,I4),0,I28-HLOOKUP(I4+1,Journalier_HLV_Inter,26,FALSE))))))))))))) -> 0 | J37: =IF(WEEKDAY(J4,2)=5,(J28-HLOOKUP(J4+3,Journalier_HLV_Inter,26,FALSE)),IF(AND(WEEKDAY(J4,2)=1,COUNTIF(Jours_fériés,AND(J4+1,IE+2))),J28-HLOOKUP(J4+3,Journalier_HLV_Inter,26,FALSE),IF(AND(WEEKDAY(J4,2)=1,COUNTIF(Jours_fériés,J4+1)),J28-HLOOKUP(J4+2,Journalier_HLV_Inter,26,FALSE),IF(AND(WEEKDAY(J4,2)=2,COUNTIF(Jours_fériés,AND(J4+1,J4+2))),J28-HLOOKUP(J4+3,Journalier_HLV_Inter,26,FALSE),IF(AND(WEEKDAY(J4,2)=2,COUNTIF(Jours_fériés,J4+1)),J28-HLOOKUP(J4+2,Journalier_HLV_Inter,26,FALSE),IF(AND(WEEKDAY(J4,2)=3,COUNTIF(Jours_fériés,AND(J4+1,J4+2))),J28-HLOOKUP(J4+5,Journalier_HLV_Inter,26,FALSE),IF(AND(WEEKDAY(J4,2)=3,COUNTIF(Jours_fériés,J4+1)),J28-HLOOKUP(J4+2,Journalier_HLV_Inter,26,FALSE),IF(AND(WEEKDAY(J4,2)=4,COUNTIF(Jours_fériés,J4+1)),J28-HLOOKUP(J4+4,Journalier_HLV_Inter,26,FALSE),IF(AND(WEEKDAY(J4,2)=4,COUNTIF(Jours_fériés,AND(J4+1,J4+4))),J28-HLOOKUP(J4+5,Journalier_HLV_Inter,26,FALSE),IF(AND(WEEKDAY(J4,2)=5,COUNTIF(Jours_fériés,J4+3)),J28-HLOOKUP(J4+4,Journalier_HLV_Inter,26,FALSE),IF(COUNTIF(Week_end,J4),0,IF(COUNTIF(Jours_fériés,J4),0,J28-HLOOKUP(J4+1,Journalier_HLV_Inter,26,FALSE))))))))))))) -> 0 | K37: =IF(WEEKDAY(K4,2)=5,(K28-HLOOKUP(K4+3,Journalier_HLV_Inter,26,FALSE)),IF(AND(WEEKDAY(K4,2)=1,COUNTIF(Jours_fériés,AND(K4+1,IE+2))),K28-HLOOKUP(K4+3,Journalier_HLV_Inter,26,FALSE),IF(AND(WEEKDAY(K4,2)=1,COUNTIF(Jours_fériés,K4+1)),K28-HLOOKUP(K4+2,Journalier_HLV_Inter,26,FALSE),IF(AND(WEEKDAY(K4,2)=2,COUNTIF(Jours_fériés,AND(K4+1,K4+2))),K28-HLOOKUP(K4+3,Journalier_HLV_Inter,26,FALSE),IF(AND(WEEKDAY(K4,2)=2,COUNTIF(Jours_fériés,K4+1)),K28-HLOOKUP(K4+2,Journalier_HLV_Inter,26,FALSE),IF(AND(WEEKDAY(K4,2)=3,COUNTIF(Jours_fériés,AND(K4+1,K4+2))),K28-HLOOKUP(K4+5,Journalier_HLV_Inter,26,FALSE),IF(AND(WEEKDAY(K4,2)=3,COUNTIF(Jours_fériés,K4+1)),K28-HLOOKUP(K4+2,Journalier_HLV_Inter,26,FALSE),IF(AND(WEEKDAY(K4,2)=4,COUNTIF(Jours_fériés,K4+1)),K28-HLOOKUP(K4+4,Journalier_HLV_Inter,26,FALSE),IF(AND(WEEKDAY(K4,2)=4,COUNTIF(Jours_fériés,AND(K4+1,K4+4))),K28-HLOOKUP(K4+5,Journalier_HLV_Inter,26,FALSE),IF(AND(WEEKDAY(K4,2)=5,COUNTIF(Jours_fériés,K4+3)),K28-HLOOKUP(K4+4,Journalier_HLV_Inter,26,FALSE),IF(COUNTIF(Week_end,K4),0,IF(COUNTIF(Jours_fériés,K4),0,K28-HLOOKUP(K4+1,Journalier_HLV_Inter,26,FALSE))))))))))))) -> 0 | L37: =IF(WEEKDAY(L4,2)=5,(L28-HLOOKUP(L4+3,Journalier_HLV_Inter,26,FALSE)),IF(AND(WEEKDAY(L4,2)=1,COUNTIF(Jours_fériés,AND(L4+1,IE+2))),L28-HLOOKUP(L4+3,Journalier_HLV_Inter,26,FALSE),IF(AND(WEEKDAY(L4,2)=1,COUNTIF(Jours_fériés,L4+1)),L28-HLOOKUP(L4+2,Journalier_HLV_Inter,26,FALSE),IF(AND(WEEKDAY(L4,2)=2,COUNTIF(Jours_fériés,AND(L4+1,L4+2))),L28-HLOOKUP(L4+3,Journalier_HLV_Inter,26,FALSE),IF(AND(WEEKDAY(L4,2)=2,COUNTIF(Jours_fériés,L4+1)),L28-HLOOKUP(L4+2,Journalier_HLV_Inter,26,FALSE),IF(AND(WEEKDAY(L4,2)=3,COUNTIF(Jours_fériés,AND(L4+1,L4+2))),L28-HLOOKUP(L4+5,Journalier_HLV_Inter,26,FALSE),IF(AND(WEEKDAY(L4,2)=3,COUNTIF(Jours_fériés,L4+1)),L28-HLOOKUP(L4+2,Journalier_HLV_Inter,26,FALSE),IF(AND(WEEKDAY(L4,2)=4,COUNTIF(Jours_fériés,L4+1)),L28-HLOOKUP(L4+4,Journalier_HLV_Inter,26,FALSE),IF(AND(WEEKDAY(L4,2)=4,COUNTIF(Jours_fériés,AND(L4+1,L4+4))),L28-HLOOKUP(L4+5,Journalier_HLV_Inter,26,FALSE),IF(AND(WEEKDAY(L4,2)=5,COUNTIF(Jours_fériés,L4+3)),L28-HLOOKUP(L4+4,Journalier_HLV_Inter,26,FALSE),IF(COUNTIF(Week_end,L4),0,IF(COUNTIF(Jours_fériés,L4),0,L28-HLOOKUP(L4+1,Journalier_HLV_Inter,26,FALSE))))))))))))) -> 0 | ... ND37: =IF(WEEKDAY(ND4,2)=5,(ND28-HLOOKUP(ND4+3,Journalier_HLV_Inter,26,FALSE)),IF(AND(WEEKDAY(ND4,2)=1,COUNTIF(Jours_fériés,AND(ND4+1,IE+2))),ND28-HLOOKUP(ND4+3,Journalier_HLV_Inter,26,FALSE),IF(AND(WEEKDAY(ND4,2)=1,COUNTIF(Jours_fériés,ND4+1)),ND28-HLOOKUP(ND4+2,Journalier_HLV_Inter,26,FALSE),IF(AND(WEEKDAY(ND4,2)=2,COUNTIF(Jours_fériés,AND(ND4+1,ND4+2))),ND28-HLOOKUP(ND4+3,Journalier_HLV_Inter,26,FALSE),IF(AND(WEEKDAY(ND4,2)=2,COUNTIF(Jours_fériés,ND4+1)),ND28-HLOOKUP(ND4+2,Journalier_HLV_Inter,26,FALSE),IF(AND(WEEKDAY(ND4,2)=3,COUNTIF(Jours_fériés,AND(ND4+1,ND4+2))),ND28-HLOOKUP(ND4+5,Journalier_HLV_Inter,26,FALSE),IF(AND(WEEKDAY(ND4,2)=3,COUNTIF(Jours_fériés,ND4+1)),ND28-HLOOKUP(ND4+2,Journalier_HLV_Inter,26,FALSE),IF(AND(WEEKDAY(ND4,2)=4,COUNTIF(Jours_fériés,ND4+1)),ND28-HLOOKUP(ND4+4,Journalier_HLV_Inter,26,FALSE),IF(AND(WEEKDAY(ND4,2)=4,COUNTIF(Jours_fériés,AND(ND4+1,ND4+4))),ND28-HLOOKUP(ND4+5,Journalier_HLV_Inter,26,FALSE),IF(AND(WEEKDAY(ND4,2)=5,COUNTIF(Jours_fériés,ND4+3)),ND28-HLOOKUP(ND4+4,Journalier_HLV_Inter,26,FALSE),IF(COUNTIF(Week_end,ND4),0,IF(COUNTIF(Jours_fériés,ND4),0,ND28-HLOOKUP(ND4+1,Journalier_HLV_Inter,26,FALSE))))))))))))) -> #N/A
D38: =SUM(D35:D37) -> 0 | E38: =SUM(E35:E37) -> 0 | F38: =SUM(F35:F37) -> 10 | G38: =SUM(G35:G37) -> 55 | H38: =SUM(H35:H37) -> 40 | I38: =SUM(I35:I37) -> 15 | J38: =SUM(J35:J37) -> 0 | K38: =SUM(K35:K37) -> 0 | ... ND38: =SUM(ND35:ND37) -> #N/A
A39: SCL
A40: TxT_J | E40: =IFERROR((E23+E17)/E15,"") -> 0.5 | F40: =IFERROR((F23+F17)/F15,"") -> 0.38461538 | G40: =IFERROR((G23+G17)/G15,"") -> 0.63333333 | H40: =IFERROR((H23+H17)/H15,"") -> 0.88 | I40: =IFERROR((I23+I17)/I15,"") -> 1 | J40: =IFERROR((J23+J17)/J15,"") | K40: =IFERROR((K23+K17)/K15,"") | L40: 0.5 | M40: 0.38461538 | N40: 0.63333333 | O40: 0.88 | P40: 1 | Q40: =IFERROR((Q23+Q17)/Q15,"") | R40: =IFERROR((R23+R17)/R15,"") | S40: 0.5 | T40: 0.38461538 | U40: 0.63333333 | V40: 0.88 | W40: 1 | X40: =IFERROR((X23+X17)/X15,"") | Y40: =IFERROR((Y23+Y17)/Y15,"") | Z40: 0.5 | AA40: 0.38461538 | AB40: 0.63333333 | AC40: 0.88 | AD40: 1 | AE40: =IFERROR((AE23+AE17)/AE15,"") | AF40: =IFERROR((AF23+AF17)/AF15,"") | AG40: 0.5 | AH40: 0.38461538 | AI40: 0.63333333 | AJ40: 0.88 | AK40: 1 | AL40: =IFERROR((AL23+AL17)/AL15,"") | AM40: =IFERROR((AM23+AM17)/AM15,"") | AN40: =IFERROR((AN23+AN17)/AN15,"") | AO40: =IFERROR((AO23+AO17)/AO15,"") | AP40: =IFERROR((AP23+AP17)/AP15,"") | AQ40: =IFERROR((AQ23+AQ17)/AQ15,"") | AR40: =IFERROR((AR23+AR17)/AR15,"") | AS40: =IFERROR((AS23+AS17)/AS15,"") | ... ND40: =IFERROR((ND23+ND17)/ND15,"")
A41: TxPC_J | E41: =IFERROR(E17/E10,"") -> 0.5 | F41: =IFERROR(F17/F10,"") -> 0.5 | G41: =IFERROR(G17/G10,"") -> 0.57142857 | H41: =IFERROR(H17/H10,"") -> 1 | I41: =IFERROR(I17/I10,"") | J41: =IFERROR(J17/J10,"") | K41: =IFERROR(K17/K10,"") | L41: 0.5 | M41: 0.5 | N41: 0.57142857 | O41: 1 | Q41: =IFERROR(Q17/Q10,"") | R41: =IFERROR(R17/R10,"") | S41: 0.5 | T41: 0.5 | U41: 0.57142857 | V41: 1 | X41: =IFERROR(X17/X10,"") | Y41: =IFERROR(Y17/Y10,"") | Z41: 0.5 | AA41: 0.5 | AB41: 0.57142857 | AC41: 1 | AE41: =IFERROR(AE17/AE10,"") | AF41: =IFERROR(AF17/AF10,"") | AG41: 0.5 | AH41: 0.5 | AI41: 0.57142857 | AJ41: 1 | AL41: =IFERROR(AL17/AL10,"") | AM41: =IFERROR(AM17/AM10,"") | AN41: =IFERROR(AN17/AN10,"") | AO41: =IFERROR(AO17/AO10,"") | AP41: =IFERROR(AP17/AP10,"") | AQ41: =IFERROR(AQ17/AQ10,"") | AR41: =IFERROR(AR17/AR10,"") | AS41: =IFERROR(AS17/AS10,"") | ... ND41: =IFERROR(ND17/ND10,"")
A42: TxPC_J+1 | E42: =IFERROR((E17+E18)/E10,"") -> 0.6 | F42: =IFERROR((F17+F18)/F10,"") -> 0.6875 | G42: =IFERROR((G17+G18)/G10,"") -> 0.78571429 | H42: =IFERROR((H17+H18)/H10,"") -> 1 | I42: =IFERROR((I17+I18)/I10,"") | J42: =IFERROR((J17+J18)/J10,"") | K42: =IFERROR((K17+K18)/K10,"") | L42: 0.6 | M42: 0.6875 | N42: 0.78571429 | O42: 1 | Q42: =IFERROR((Q17+Q18)/Q10,"") | R42: =IFERROR((R17+R18)/R10,"") | S42: 0.6 | T42: 0.6875 | U42: 0.78571429 | V42: 1 | X42: =IFERROR((X17+X18)/X10,"") | Y42: =IFERROR((Y17+Y18)/Y10,"") | Z42: 0.6 | AA42: 0.6875 | AB42: 0.78571429 | AC42: 1 | AE42: =IFERROR((AE17+AE18)/AE10,"") | AF42: =IFERROR((AF17+AF18)/AF10,"") | AG42: 0.6 | AH42: 0.6875 | AI42: 0.78571429 | AJ42: 1 | AL42: =IFERROR((AL17+AL18)/AL10,"") | AM42: =IFERROR((AM17+AM18)/AM10,"") | AN42: =IFERROR((AN17+AN18)/AN10,"") | AO42: =IFERROR((AO17+AO18)/AO10,"") | AP42: =IFERROR((AP17+AP18)/AP10,"") | AQ42: =IFERROR((AQ17+AQ18)/AQ10,"") | AR42: =IFERROR((AR17+AR18)/AR10,"") | AS42: =IFERROR((AS17+AS18)/AS10,"") | ... ND42: =IFERROR((ND17+ND18)/ND10,"")
A43: TxPC_J+2 | E43: =IFERROR((SUM(E17:E19)/E10),"") -> 1 | F43: =IFERROR((SUM(F17:F19)/F10),"") -> 1 | G43: =IFERROR((SUM(G17:G19)/G10),"") -> 1 | H43: =IFERROR((SUM(H17:H19)/H10),"") -> 1 | I43: =IFERROR((SUM(I17:I19)/I10),"") | J43: =IFERROR((SUM(J17:J19)/J10),"") | K43: =IFERROR((SUM(K17:K19)/K10),"") | L43: 1 | M43: 1 | N43: 1 | O43: 1 | Q43: =IFERROR((SUM(Q17:Q19)/Q10),"") | R43: =IFERROR((SUM(R17:R19)/R10),"") | S43: 1 | T43: 1 | U43: 1 | V43: 1 | X43: =IFERROR((SUM(X17:X19)/X10),"") | Y43: =IFERROR((SUM(Y17:Y19)/Y10),"") | Z43: 1 | AA43: 1 | AB43: 1 | AC43: 1 | AE43: =IFERROR((SUM(AE17:AE19)/AE10),"") | AF43: =IFERROR((SUM(AF17:AF19)/AF10),"") | AG43: 1 | AH43: 1 | AI43: 1 | AJ43: 1 | AL43: =IFERROR((SUM(AL17:AL19)/AL10),"") | AM43: =IFERROR((SUM(AM17:AM19)/AM10),"") | AN43: =IFERROR((SUM(AN17:AN19)/AN10),"") | AO43: =IFERROR((SUM(AO17:AO19)/AO10),"") | AP43: =IFERROR((SUM(AP17:AP19)/AP10),"") | AQ43: =IFERROR((SUM(AQ17:AQ19)/AQ10),"") | AR43: =IFERROR((SUM(AR17:AR19)/AR10),"") | AS43: =IFERROR((SUM(AS17:AS19)/AS10),"") | ... ND43: =IFERROR((SUM(ND17:ND19)/ND10),"")
A45: Mails
A46: TxT_J | E46: =IFERROR((E32+E38)/E30,"") -> 0.5 | F46: =IFERROR((F32+F38)/F30,"") -> 0.38461538 | G46: =IFERROR((G32+G38)/G30,"") -> 0.63333333 | H46: =IFERROR((H32+H38)/H30,"") -> 0.88 | I46: =IFERROR((I32+I38)/I30,"") -> 1 | J46: =IFERROR((J32+J38)/J30,"") | K46: =IFERROR((K32+K38)/K30,"") | L46: 0.5 | M46: 0.38461538 | N46: 0.63333333 | O46: 0.88 | P46: 1 | Q46: =IFERROR((Q32+Q38)/Q30,"") | R46: =IFERROR((R32+R38)/R30,"") | S46: 0.5 | T46: 0.38461538 | U46: 0.63333333 | V46: 0.88 | W46: 1 | X46: =IFERROR((X32+X38)/X30,"") | Y46: =IFERROR((Y32+Y38)/Y30,"") | Z46: 0.5 | AA46: 0.38461538 | AB46: 0.63333333 | AC46: 0.88 | AD46: 1 | AE46: =IFERROR((AE32+AE38)/AE30,"") | AF46: =IFERROR((AF32+AF38)/AF30,"") | AG46: 0.5 | AH46: 0.38461538 | AI46: 0.63333333 | AJ46: 0.88 | AK46: 1 | AL46: =IFERROR((AL32+AL38)/AL30,"") | AM46: =IFERROR((AM32+AM38)/AM30,"") | AN46: =IFERROR((AN32+AN38)/AN30,"") | AO46: =IFERROR((AO32+AO38)/AO30,"") | AP46: =IFERROR((AP32+AP38)/AP30,"") | AQ46: =IFERROR((AQ32+AQ38)/AQ30,"") | AR46: =IFERROR((AR32+AR38)/AR30,"") | AS46: =IFERROR((AS32+AS38)/AS30,"") | ... ND46: =IFERROR((ND32+ND38)/ND30,"")
A47: TxPC_J | E47: =IFERROR(E32/E25,"") -> 0.5 | F47: =IFERROR(F32/F25,"") -> 0.5 | G47: =IFERROR(G32/G25,"") -> 0.57142857 | H47: =IFERROR(H32/H25,"") -> 1 | I47: =IFERROR(I32/I25,"") | J47: =IFERROR(J32/J25,"") | K47: =IFERROR(K32/K25,"") | L47: 0.5 | M47: 0.5 | N47: 0.57142857 | O47: 1 | Q47: =IFERROR(Q32/Q25,"") | R47: =IFERROR(R32/R25,"") | S47: 0.5 | T47: 0.5 | U47: 0.57142857 | V47: 1 | X47: =IFERROR(X32/X25,"") | Y47: =IFERROR(Y32/Y25,"") | Z47: 0.5 | AA47: 0.5 | AB47: 0.57142857 | AC47: 1 | AE47: =IFERROR(AE32/AE25,"") | AF47: =IFERROR(AF32/AF25,"") | AG47: 0.5 | AH47: 0.5 | AI47: 0.57142857 | AJ47: 1 | AL47: =IFERROR(AL32/AL25,"") | AM47: =IFERROR(AM32/AM25,"") | AN47: =IFERROR(AN32/AN25,"") | AO47: =IFERROR(AO32/AO25,"") | AP47: =IFERROR(AP32/AP25,"") | AQ47: =IFERROR(AQ32/AQ25,"") | AR47: =IFERROR(AR32/AR25,"") | AS47: =IFERROR(AS32/AS25,"") | ... ND47: =IFERROR(ND32/ND25,"")
A48: TxPC_J+1 | E48: =IFERROR((E32+E33)/E25,"") -> 0.6 | F48: =IFERROR((F32+F33)/F25,"") -> 0.6875 | G48: =IFERROR((G32+G33)/G25,"") -> 0.78571429 | H48: =IFERROR((H32+H33)/H25,"") -> 1 | I48: =IFERROR((I32+I33)/I25,"") | J48: =IFERROR((J32+J33)/J25,"") | K48: =IFERROR((K32+K33)/K25,"") | L48: 0.6 | M48: 0.6875 | N48: 0.78571429 | O48: 1 | Q48: =IFERROR((Q32+Q33)/Q25,"") | R48: =IFERROR((R32+R33)/R25,"") | S48: 0.6 | T48: 0.6875 | U48: 0.78571429 | V48: 1 | X48: =IFERROR((X32+X33)/X25,"") | Y48: =IFERROR((Y32+Y33)/Y25,"") | Z48: 0.6 | AA48: 0.6875 | AB48: 0.78571429 | AC48: 1 | AE48: =IFERROR((AE32+AE33)/AE25,"") | AF48: =IFERROR((AF32+AF33)/AF25,"") | AG48: 0.6 | AH48: 0.6875 | AI48: 0.78571429 | AJ48: 1 | AL48: =IFERROR((AL32+AL33)/AL25,"") | AM48: =IFERROR((AM32+AM33)/AM25,"") | AN48: =IFERROR((AN32+AN33)/AN25,"") | AO48: =IFERROR((AO32+AO33)/AO25,"") | AP48: =IFERROR((AP32+AP33)/AP25,"") | AQ48: =IFERROR((AQ32+AQ33)/AQ25,"") | AR48: =IFERROR((AR32+AR33)/AR25,"") | AS48: =IFERROR((AS32+AS33)/AS25,"") | ... ND48: =IFERROR((ND32+ND33)/ND25,"")
A49: TxPC_J+2 | E49: =IFERROR((E32+E33+E34)/E25,"") -> 1 | F49: =IFERROR((F32+F33+F34)/F25,"") -> 1 | G49: =IFERROR((G32+G33+G34)/G25,"") -> 1 | H49: =IFERROR((H32+H33+H34)/H25,"") -> 1 | I49: =IFERROR((I32+I33+I34)/I25,"") | J49: =IFERROR((J32+J33+J34)/J25,"") | K49: =IFERROR((K32+K33+K34)/K25,"") | L49: 1 | M49: 1 | N49: 1 | O49: 1 | Q49: =IFERROR((Q32+Q33+Q34)/Q25,"") | R49: =IFERROR((R32+R33+R34)/R25,"") | S49: 1 | T49: 1 | U49: 1 | V49: 1 | X49: =IFERROR((X32+X33+X34)/X25,"") | Y49: =IFERROR((Y32+Y33+Y34)/Y25,"") | Z49: 1 | AA49: 1 | AB49: 1 | AC49: 1 | AE49: =IFERROR((AE32+AE33+AE34)/AE25,"") | AF49: =IFERROR((AF32+AF33+AF34)/AF25,"") | AG49: 1 | AH49: 1 | AI49: 1 | AJ49: 1 | AL49: =IFERROR((AL32+AL33+AL34)/AL25,"") | AM49: =IFERROR((AM32+AM33+AM34)/AM25,"") | AN49: =IFERROR((AN32+AN33+AN34)/AN25,"") | AO49: =IFERROR((AO32+AO33+AO34)/AO25,"") | AP49: =IFERROR((AP32+AP33+AP34)/AP25,"") | AQ49: =IFERROR((AQ32+AQ33+AQ34)/AQ25,"") | AR49: =IFERROR((AR32+AR33+AR34)/AR25,"") | AS49: =IFERROR((AS32+AS33+AS34)/AS25,"") | ... ND49: =IFERROR((ND32+ND33+ND34)/ND25,"")
A56: RETOUR AU SOMMAIRE

Sheet Proactif
A1: =SOMMAIRE!$L$2 -> 2017
A2: Mois | D2: =TEXT(D4,"mmmm") -> janvier | E2: =TEXT(E4,"mmmm") -> janvier | F2: =TEXT(F4,"mmmm") -> janvier | G2: =TEXT(G4,"mmmm") -> janvier | H2: =TEXT(H4,"mmmm") -> janvier | I2: =TEXT(I4,"mmmm") -> janvier | J2: =TEXT(J4,"mmmm") -> janvier | K2: =TEXT(K4,"mmmm") -> janvier | ... ND2: =TEXT(ND4,"mmmm") -> décembre
A3: Semaine | D3: =WEEKNUM(D4,21) -> 52 | E3: =WEEKNUM(E4,21) -> 1 | F3: =WEEKNUM(F4,21) -> 1 | G3: =WEEKNUM(G4,21) -> 1 | H3: =WEEKNUM(H4,21) -> 1 | I3: =WEEKNUM(I4,21) -> 1 | J3: =WEEKNUM(J4,21) -> 1 | K3: =WEEKNUM(K4,21) -> 1 | ... ND3: =WEEKNUM(ND4,21) -> 52
A4: Date | D4: =DATE($A$1,1,1) -> 42736 | E4: =D4+1 -> 42737 | F4: =E4+1 -> 42738 | G4: =F4+1 -> 42739 | H4: =G4+1 -> 42740 | I4: =H4+1 -> 42741 | J4: =I4+1 -> 42742 | K4: =J4+1 -> 42743 | L4: =K4+1 -> 42744 | ... ND4: =NC4+1 -> 43100
A5: Trimestre | D5: =ROUNDUP(MONTH(D4)/3,0) -> 1 | E5: =ROUNDUP(MONTH(E4)/3,0) -> 1 | F5: =ROUNDUP(MONTH(F4)/3,0) -> 1 | G5: =ROUNDUP(MONTH(G4)/3,0) -> 1 | H5: =ROUNDUP(MONTH(H4)/3,0) -> 1 | I5: =ROUNDUP(MONTH(I4)/3,0) -> 1 | J5: =ROUNDUP(MONTH(J4)/3,0) -> 1 | K5: =ROUNDUP(MONTH(K4)/3,0) -> 1 | ... ND5: =ROUNDUP(MONTH(ND4)/3,0) -> 4
