Workbook
Name Choix: OFFSET(Database!$AQ$1, MATCH(Correspondances!$A1,Database!$AP:$AP,0), , MATCH(Correspondances!$A1,Database!$AP:$AP,1) - MATCH(Correspondances!$A1,Database!$AP:$AP,0) +1)

Sheet Database
A1: Row Id | B1: LB_AUTEUR | C1: NOM_VERN | D1: NOM_VERN_ENG | E1: NOM_VALIDE | F1: NOM_VALIDE_MAJUSCULE | G1: NOM_COMPLET | H1: NOM_VALIDE_SIMPLE | I1: SYNONYMES | J1: HABITAT (beta) | K1: FR | L1: GF | M1: MAR | N1: GUA | O1: SM | P1: SB | Q1: SPM | R1: MAY | S1: EPA | T1: REU | U1: SA | V1: TA | W1: TAAF | X1: PF | Y1: NC | Z1: WF | AA1: CLI | AB1: REGNE | AC1: PHYLUM | AD1: CLASSE | AE1: ORDRE | AF1: FAMILLE | AG1: SOUS_FAMILLE | AH1: TRIBU | AI1: GROUP1_INPN | AJ1: GROUP2_INPN | AK1: CD_NOM | AL1: CD_TAXSUP | AM1: CD_SUP | AN1: CD_REF | AO1: RANG | AP1: Code | AQ1: NOM VALIDE
A2: 12677 | B2: (Desf.) K.Bremer & Humphries, 1993 | E2: Aaronsohnia pubescens (Desf.) K.Bremer & Humphries, 1993 | F2: AARONSOHNIA PUBESCENS (DESF.) K.BREMER & HUMPHRIES, 1993 | G2: Aaronsohnia pubescens (Desf.) K.Bremer & Humphries, 1993 | H2: Aaronsohnia pubescens | I2: Aaronsohnia pubescens (Desf.) K.Bremer & Humphries, 1993 _ Cotula pubescens Desf., 1799 | J2: 7 | K2: I | AB2: Plantae | AD2: Equisetopsida | AE2: Asterales | AF2: Asteraceae | AI2: Plantes vasculaires | AJ2: Angiospermes | AK2: 610592 | AL2: 606842 | AM2: 606842 | AN2: 610592 | AO2: ES | AP2: Aaro pube | AQ2: =CONCATENATE(E2," - ",F2) -> Aaronsohnia pubescens (Desf.) K.Bremer & Humphries, 1993 - AARONSOHNIA PUBESCENS (DESF.) K.BREMER & HUMPHRIES, 1993
A3: 41882 | B3: Warb. & Eig, 1927 | E3: Aaronsohnia Warb. & Eig, 1927 | F3: AARONSOHNIA WARB. & EIG, 1927 | G3: Aaronsohnia Warb. & Eig, 1927 | H3: Aaronsohnia | I3: Aaronsohnia Warb. & Eig, 1927 | K3: I | AB3: Plantae | AD3: Equisetopsida | AE3: Asterales | AF3: Asteraceae | AI3: Plantes vasculaires | AJ3: Angiospermes | AK3: 606842 | AL3: 187227 | AM3: 187227 | AN3: 606842 | AO3: GN | AP3: Aaro sp. | AQ3: =CONCATENATE(E3," - ",F3) -> Aaronsohnia Warb. & Eig, 1927 - AARONSOHNIA WARB. & EIG, 1927
A4: 4275 | B4: Barneby & J.W.Grimes, 1996 | E4: Abarema gallorum Barneby & J.W.Grimes, 1996 | F4: ABAREMA GALLORUM BARNEBY & J.W.GRIMES, 1996 | G4: Abarema gallorum Barneby & J.W.Grimes, 1996 | H4: Abarema gallorum | I4: Abarema gallorum Barneby & J.W.Grimes, 1996 | J4: 3 | K4: A | L4: E | M4: A | N4: A | O4: A | P4: A | Q4: A | R4: A | S4: A | T4: A | U4: A | V4: A | W4: A | X4: A | Y4: A | Z4: A | AA4: A | AB4: Plantae | AD4: Equisetopsida | AE4: Fabales | AF4: Fabaceae | AG4: Caesalpinioideae | AH4: Mimoseae | AI4: Plantes vasculaires | AJ4: Angiospermes | AK4: 733813 | AL4: 628277 | AM4: 628277 | AN4: 733813 | AO4: ES | AP4: Abar gall | AQ4: =CONCATENATE(E4," - ",F4) -> Abarema gallorum Barneby & J.W.Grimes, 1996 - ABAREMA GALLORUM BARNEBY & J.W.GRIMES, 1996
A5: 35146 | B5: R.Br., 1818 | E5: Abelia R.Br., 1818 | F5: ABELIA R.BR., 1818 | G5: Abelia R.Br., 1818 | H5: Abelia | I5: Abelia R.Br., 1818 | K5: P | AB5: Plantae | AD5: Equisetopsida | AE5: Dipsacales | AF5: Caprifoliaceae | AI5: Plantes vasculaires | AJ5: Angiospermes | AK5: 788758 | AL5: 187420 | AM5: 187420 | AN5: 788758 | AO5: GN | AP5: Abel sp. | AQ5: =CONCATENATE(E5," - ",F5) -> Abelia R.Br., 1818 - ABELIA R.BR., 1818
A6: 21095 | B6: (Hedw.) M.Fleisch., 1922 | D6: Fir Tamarisk-moss | E6: Abietinella abietina (Hedw.) M.Fleisch., 1922 | F6: ABIETINELLA ABIETINA (HEDW.) M.FLEISCH., 1922 | G6: Abietinella abietina (Hedw.) M.Fleisch., 1922 | H6: Abietinella abietina | I6: Abietinella abietina (Hedw.) M.Fleisch., 1922 _ Hypnum abietinum L. _ Thuidium abietinum (Hedw.) Schimp., 1852 | J6: 3 | K6: P | AB6: Plantae | AD6: Equisetopsida | AE6: Hypnales | AF6: Thuidiaceae | AI6: Bryophytes | AJ6: Mousses | AK6: 5422 | AL6: 433851 | AM6: 433851 | AN6: 5422 | AO6: ES | AP6: Abie abie | AQ6: =CONCATENATE(E6," - ",F6) -> Abietinella abietina (Hedw.) M.Fleisch., 1922 - ABIETINELLA ABIETINA (HEDW.) M.FLEISCH., 1922
A7: 35357 | B7: Mill., 1768 | C7: Sapin pectinÃ©, Sapin Ã feuilles d'If | D7: European Silver-fir | E7: Abies alba Mill., 1768 | F7: ABIES ALBA MILL., 1768 | G7: Abies alba Mill., 1768 | H7: Abies alba | I7: Abies alba Mill., 1768 _ Abies alba subsp. alba Mill., 1768 _ Abies pectinata (Lam.) DC., 1805 _ Picea pectinata (Lam.) J.W.Loudon, 1838 | J7: 3 | K7: P | AB7: Plantae | AD7: Equisetopsida | AE7: Pinales | AF7: Pinaceae | AI7: Plantes vasculaires | AJ7: Gymnospermes | AK7: 79319 | AL7: 188665 | AM7: 188665 | AN7: 79319 | AO7: ES | AP7: Abie alba | AQ7: =CONCATENATE(E7," - ",F7) -> Abies alba Mill., 1768 - ABIES ALBA MILL., 1768
A8: 13494 | B8: J.Forbes | E8: Abies amabilis J.Forbes | F8: ABIES AMABILIS J.FORBES | G8: Abies amabilis J.Forbes | H8: Abies amabilis | I8: Abies amabilis J.Forbes | J8: 7 | K8: M | AB8: Plantae | AD8: Equisetopsida | AE8: Pinales | AF8: Pinaceae | AI8: Plantes vasculaires | AJ8: Gymnospermes | AK8: 717018 | AL8: 188665 | AM8: 188665 | AN8: 717018 | AO8: ES | AP8: Abie amab | AQ8: =CONCATENATE(E8," - ",F8) -> Abies amabilis J.Forbes - ABIES AMABILIS J.FORBES
A9: 21210 | B9: (L.) Mill., 1768 | C9: Sapin baumier | E9: Abies balsamea (L.) Mill., 1768 | F9: ABIES BALSAMEA (L.) MILL., 1768 | G9: Abies balsamea (L.) Mill., 1768 | H9: Abies balsamea | I9: Abies balsamea (L.) Mill., 1768 _ Abies balsamea subsp. phanerolepis (Fernald) A.E.Murray, 1982 _ Abies balsamea var. phanerolepis Fernald, 1909 _ Abies fraseri (Pursh) Poir., 1817 _ Abies hudsonia Bosc ex Jacques, 1829 _ Abies x phanerolepis (Fernald) T.S.Liu _ Pinus balsamea L., 1753 | J9: 3 | K9: M | Q9: P | AB9: Plantae | AD9: Equisetopsida | AE9: Pinales | AF9: Pinaceae | AI9: Plantes vasculaires | AJ9: Gymnospermes | AK9: 717022 | AL9: 188665 | AM9: 188665 | AN9: 717022 | AO9: ES | AP9: Abie bals | AQ9: =CONCATENATE(E9," - ",F9) -> Abies balsamea (L.) Mill., 1768 - ABIES BALSAMEA (L.) MILL., 1768
A10: 45501 | B10: Mattf., 1925 | C10: Sapin de Turquie | E10: Abies bornmuelleriana Mattf., 1925 | F10: ABIES BORNMUELLERIANA MATTF., 1925 | G10: Abies bornmuelleriana Mattf., 1925 | H10: Abies bornmuelleriana | I10: Abies bornmuelleriana Mattf., 1925 _ Abies equi-trojani (Asch. & Sint. ex Boiss.) Mattf., 1925 _ Abies nordmanniana subsp. bornmuelleriana (Mattf.) Coode & Cullen, 1965 _ Abies nordmanniana subsp. equi-trojani (Asch. & Sint. ex Boiss.) Coode & Cullen, 1965 _ Abies pectinata var. equi-trojani Asch. & Sint. ex Boiss., 1864 | J10: 3 | K10: M | AB10: Plantae | AD10: Equisetopsida | AE10: Pinales | AF10: Pinaceae | AI10: Plantes vasculaires | AJ10: Gymnospermes | AK10: 79323 | AL10: 188665 | AM10: 188665 | AN10: 79323 | AO10: ES | AP10: Abie born | AQ10: =CONCATENATE(E10," - ",F10) -> Abies bornmuelleriana Mattf., 1925 - ABIES BORNMUELLERIANA MATTF., 1925
A11: 43069 | B11: (D.Don) Poit., 1845 | E11: Abies bracteata (D.Don) Poit., 1845 | F11: ABIES BRACTEATA (D.DON) POIT., 1845 | G11: Abies bracteata (D.Don) Poit., 1845 | H11: Abies bracteata | I11: Abies bracteata (D.Don) Poit., 1845 _ Pinus bracteata D.Don, 1836 | J11: 7 | K11: M | AB11: Plantae | AD11: Equisetopsida | AE11: Pinales | AF11: Pinaceae | AI11: Plantes vasculaires | AJ11: Gymnospermes | AK11: 717023 | AL11: 188665 | AM11: 188665 | AN11: 717023 | AO11: ES | AP11: Abie brac | AQ11: =CONCATENATE(E11," - ",F11) -> Abies bracteata (D.Don) Poit., 1845 - ABIES BRACTEATA (D.DON) POIT., 1845
A12: 2628 | B12: Loudon, 1838 | C12: Sapin de CÃ©phalonie | D12: Greek Fir | E12: Abies cephalonica Loudon, 1838 | F12: ABIES CEPHALONICA LOUDON, 1838 | G12: Abies cephalonica Loudon, 1838 | H12: Abies cephalonica | I12: Abies cephalonica Loudon, 1838 _ Abies alba subsp. cephalonica (J.W.Loudon) K.Richt., 1890 _ Abies apollinis Link, 1841 _ Abies kukunaria Wender., 1831 | J12: 3 | K12: I | AB12: Plantae | AD12: Equisetopsida | AE12: Pinales | AF12: Pinaceae | AI12: Plantes vasculaires | AJ12: Gymnospermes | AK12: 79325 | AL12: 188665 | AM12: 188665 | AN12: 79325 | AO12: ES | AP12: Abie ceph | AQ12: =CONCATENATE(E12," - ",F12) -> Abies cephalonica Loudon, 1838 - ABIES CEPHALONICA LOUDON, 1838
A13: 3936 | B13: Tiegh., 1892 | E13: Abies chensiensis Tiegh., 1892 | F13: ABIES CHENSIENSIS TIEGH., 1892 | G13: Abies chensiensis Tiegh., 1892 | H13: Abies chensiensis | I13: Abies chensiensis Tiegh., 1892 | J13: 7 | K13: M | AB13: Plantae | AD13: Equisetopsida | AE13: Pinales | AF13: Pinaceae | AI13: Plantes vasculaires | AJ13: Gymnospermes | AK13: 717024 | AL13: 188665 | AM13: 188665 | AN13: 717024 | AO13: ES | AP13: Abie chen | AQ13: =CONCATENATE(E13," - ",F13) -> Abies chensiensis Tiegh., 1892 - ABIES CHENSIENSIS TIEGH., 1892
A14: 18097 | B14: (Antoine & Kotschy) CarriÃ¨re, 1855 | E14: Abies cilicica (Antoine & Kotschy) CarriÃ¨re, 1855 | F14: ABIES CILICICA (ANTOINE & KOTSCHY) CARRIÃ¨RE, 1855 | G14: Abies cilicica (Antoine & Kotschy) CarriÃ¨re, 1855 | H14: Abies cilicica | I14: Abies cilicica (Antoine & Kotschy) CarriÃ¨re, 1855 _ Pinus cilicica Antoine & Kotschy, 1853 | J14: 3 | K14: M | AB14: Plantae | AD14: Equisetopsida | AE14: Pinales | AF14: Pinaceae | AI14: Plantes vasculaires | AJ14: Gymnospermes | AK14: 717025 | AL14: 188665 | AM14: 188665 | AN14: 717025 | AO14: ES | AP14: Abie cili | AQ14: =CONCATENATE(E14," - ",F14) -> Abies cilicica (Antoine & Kotschy) CarriÃ¨re, 1855 - ABIES CILICICA (ANTOINE & KOTSCHY) CARRIÃ¨RE, 1855
A15: 7338 | B15: (Gordon & Glend.) Lindl. ex Hildebr., 1861 | C15: Sapin du Colorado | D15: Colorado White-fir | E15: Abies concolor (Gordon & Glend.) Lindl. ex Hildebr., 1861 | F15: ABIES CONCOLOR (GORDON & GLEND.) LINDL. EX HILDEBR., 1861 | G15: Abies concolor (Gordon & Glend.) Lindl. ex Hildebr., 1861 | H15: Abies concolor | I15: Abies concolor (Gordon & Glend.) Lindl. ex Hildebr., 1861 _ Abies concolor var. concolor (Gordon & Glend.) Lindl. ex Hildebrandt, 1861 _ Picea concolor Gordon & Glend., 1858 | J15: 3 | K15: M | AB15: Plantae | AD15: Equisetopsida | AE15: Pinales | AF15: Pinaceae | AI15: Plantes vasculaires | AJ15: Gymnospermes | AK15: 79327 | AL15: 188665 | AM15: 188665 | AN15: 79327 | AO15: ES | AP15: Abie conc | AQ15: =CONCATENATE(E15," - ",F15) -> Abies concolor (Gordon & Glend.) Lindl. ex Hildebr., 1861 - ABIES CONCOLOR (GORDON & GLEND.) LINDL. EX HILDEBR., 1861
A16: 7581 | B16: Franch., 1899 | E16: Abies delavayi Franch., 1899 | F16: ABIES DELAVAYI FRANCH., 1899 | G16: Abies delavayi Franch., 1899 | H16: Abies delavayi | I16: Abies delavayi Franch., 1899 | J16: 7 | K16: M | AB16: Plantae | AD16: Equisetopsida | AE16: Pinales | AF16: Pinaceae | AI16: Plantes vasculaires | AJ16: Gymnospermes | AK16: 717026 | AL16: 188665 | AM16: 188665 | AN16: 717026 | AO16: ES | AP16: Abie dela | AQ16: =CONCATENATE(E16," - ",F16) -> Abies delavayi Franch., 1899 - ABIES DELAVAYI FRANCH., 1899
A17: 36089 | B17: Rehder, 1939 | E17: Abies ernestii Rehder, 1939 | F17: ABIES ERNESTII REHDER, 1939 | G17: Abies ernestii Rehder, 1939 | H17: Abies ernestii | I17: Abies ernestii Rehder, 1939 | J17: 7 | K17: M | AB17: Plantae | AD17: Equisetopsida | AE17: Pinales | AF17: Pinaceae | AI17: Plantes vasculaires | AJ17: Gymnospermes | AK17: 717027 | AL17: 188665 | AM17: 188665 | AN17: 717027 | AO17: ES | AP17: Abie erne | AQ17: =CONCATENATE(E17," - ",F17) -> Abies ernestii Rehder, 1939 - ABIES ERNESTII REHDER, 1939
A18: 31617 | B18: (Mast.) Craib, 1920 | E18: Abies fabri (Mast.) Craib, 1920 | F18: ABIES FABRI (MAST.) CRAIB, 1920 | G18: Abies fabri (Mast.) Craib, 1920 | H18: Abies fabri | I18: Abies fabri (Mast.) Craib, 1920 | J18: 7 | K18: M | AB18: Plantae | AD18: Equisetopsida | AE18: Pinales | AF18: Pinaceae | AI18: Plantes vasculaires | AJ18: Gymnospermes | AK18: 717028 | AL18: 188665 | AM18: 188665 | AN18: 717028 | AO18: ES | AP18: Abie fabr | AQ18: =CONCATENATE(E18," - ",F18) -> Abies fabri (Mast.) Craib, 1920 - ABIES FABRI (MAST.) CRAIB, 1920
A19: 37534 | B19: Siebold & Zucc., 1842 | E19: Abies firma Siebold & Zucc., 1842 | F19: ABIES FIRMA SIEBOLD & ZUCC., 1842 | G19: Abies firma Siebold & Zucc., 1842 | H19: Abies firma | I19: Abies firma Siebold & Zucc., 1842 | J19: 7 | K19: M | AB19: Plantae | AD19: Equisetopsida | AE19: Pinales | AF19: Pinaceae | AI19: Plantes vasculaires | AJ19: Gymnospermes | AK19: 717029 | AL19: 188665 | AM19: 188665 | AN19: 717029 | AO19: ES | AP19: Abie firm | AQ19: =CONCATENATE(E19," - ",F19) -> Abies firma Siebold & Zucc., 1842 - ABIES FIRMA SIEBOLD & ZUCC., 1842
A20: 15447 | B20: Coltm.-Rog., 1919 | E20: Abies forrestii Coltm.-Rog., 1919 | F20: ABIES FORRESTII COLTM.-ROG., 1919 | G20: Abies forrestii Coltm.-Rog., 1919 | H20: Abies forrestii | I20: Abies forrestii Coltm.-Rog., 1919 | J20: 7 | K20: M | AB20: Plantae | AD20: Equisetopsida | AE20: Pinales | AF20: Pinaceae | AI20: Plantes vasculaires | AJ20: Gymnospermes | AK20: 717030 | AL20: 188665 | AM20: 188665 | AN20: 717030 | AO20: ES | AP20: Abie forr | AQ20: =CONCATENATE(E20," - ",F20) -> Abies forrestii Coltm.-Rog., 1919 - ABIES FORRESTII COLTM.-ROG., 1919
A21: 42129 | B21: Orr, 1933 | E21: Abies georgei Orr, 1933 | F21: ABIES GEORGEI ORR, 1933 | G21: Abies georgei Orr, 1933 | H21: Abies georgei | I21: Abies georgei Orr, 1933 | J21: 7 | K21: M | AB21: Plantae | AD21: Equisetopsida | AE21: Pinales | AF21: Pinaceae | AI21: Plantes vasculaires | AJ21: Gymnospermes | AK21: 717031 | AL21: 188665 | AM21: 188665 | AN21: 717031 | AO21: ES | AP21: Abie geor | AQ21: =CONCATENATE(E21," - ",F21) -> Abies georgei Orr, 1933 - ABIES GEORGEI ORR, 1933
A22: 7749 | B22: (Douglas ex D.Don) Lindl., 1833 | C22: Sapin de Vancouver, Sapin de l'OrÃ©gon | D22: Giant Fir | E22: Abies grandis (Douglas ex D.Don) Lindl., 1833 | F22: ABIES GRANDIS (DOUGLAS EX D.DON) LINDL., 1833 | G22: Abies grandis (Douglas ex D.Don) Lindl., 1833 | H22: Abies grandis | I22: Abies grandis (Douglas ex D.Don) Lindl., 1833 _ Abies gordoniana CarriÃ¨re, 1867 _ Picea grandis (Douglas ex D.Don) J.W.Loudon, 1838 _ Pinus grandis Douglas ex D.Don, 1832 | J22: 3 | K22: I | AB22: Plantae | AD22: Equisetopsida | AE22: Pinales | AF22: Pinaceae | AI22: Plantes vasculaires | AJ22: Gymnospermes | AK22: 79333 | AL22: 188665 | AM22: 188665 | AN22: 79333 | AO22: ES | AP22: Abie gran | AQ22: =CONCATENATE(E22," - ",F22) -> Abies grandis (Douglas ex D.Don) Lindl., 1833 - ABIES GRANDIS (DOUGLAS EX D.DON) LINDL., 1833
A23: 45543 | B23: Maxim., 1866 | E23: Abies holophylla Maxim., 1866 | F23: ABIES HOLOPHYLLA MAXIM., 1866 | G23: Abies holophylla Maxim., 1866 | H23: Abies holophylla | I23: Abies holophylla Maxim., 1866 | J23: 7 | K23: M | AB23: Plantae | AD23: Equisetopsida | AE23: Pinales | AF23: Pinaceae | AI23: Plantes vasculaires | AJ23: Gymnospermes | AK23: 717033 | AL23: 188665 | AM23: 188665 | AN23: 717033 | AO23: ES | AP23: Abie holo | AQ23: =CONCATENATE(E23," - ",F23) -> Abies holophylla Maxim., 1866 - ABIES HOLOPHYLLA MAXIM., 1866
A24: 32701 | B24: (Hayata) T.ItÃ´ | E24: Abies kawakamii (Hayata) T.ItÃ´ | F24: ABIES KAWAKAMII (HAYATA) T.ITÃ´ | G24: Abies kawakamii (Hayata) T.ItÃ´ | H24: Abies kawakamii | I24: Abies kawakamii (Hayata) T.ItÃ´ _ Abies mariesii var. kawakamii Hayata, 1908 | J24: 7 | K24: M | AB24: Plantae | AD24: Equisetopsida | AE24: Pinales | AF24: Pinaceae | AI24: Plantes vasculaires | AJ24: Gymnospermes | AK24: 717034 | AL24: 188665 | AM24: 188665 | AN24: 717034 | AO24: ES | AP24: Abie kawa | AQ24: =CONCATENATE(E24," - ",F24) -> Abies kawakamii (Hayata) T.ItÃ´ - ABIES KAWAKAMII (HAYATA) T.ITÃ´
A25: 18690 | B25: E.H.Wilson, 1920 | E25: Abies koreana E.H.Wilson, 1920 | F25: ABIES KOREANA E.H.WILSON, 1920 | G25: Abies koreana E.H.Wilson, 1920 | H25: Abies koreana | I25: Abies koreana E.H.Wilson, 1920 | J25: 7 | K25: M | AB25: Plantae | AD25: Equisetopsida | AE25: Pinales | AF25: Pinaceae | AI25: Plantes vasculaires | AJ25: Gymnospermes | AK25: 717035 | AL25: 188665 | AM25: 188665 | AN25: 717035 | AO25: ES | AP25: Abie kore | AQ25: =CONCATENATE(E25," - ",F25) -> Abies koreana E.H.Wilson, 1920 - ABIES KOREANA E.H.WILSON, 1920
A26: 21801 | B26: (Hook.) Nutt., 1849 | E26: Abies lasiocarpa (Hook.) Nutt., 1849 | F26: ABIES LASIOCARPA (HOOK.) NUTT., 1849 | G26: Abies lasiocarpa (Hook.) Nutt., 1849 | H26: Abies lasiocarpa | I26: Abies lasiocarpa (Hook.) Nutt., 1849 _ Pinus lasiocarpa Hook., 1838 | J26: 7 | K26: M | AB26: Plantae | AD26: Equisetopsida | AE26: Pinales | AF26: Pinaceae | AI26: Plantes vasculaires | AJ26: Gymnospermes | AK26: 717036 | AL26: 188665 | AM26: 188665 | AN26: 717036 | AO26: ES | AP26: Abie lasi | AQ26: =CONCATENATE(E26," - ",F26) -> Abies lasiocarpa (Hook.) Nutt., 1849 - ABIES LASIOCARPA (HOOK.) NUTT., 1849
A27: 23831 | B27: (Gordon) A.Murray, 1863 | E27: Abies lowiana (Gordon) A.Murray, 1863 | F27: ABIES LOWIANA (GORDON) A.MURRAY, 1863 | G27: Abies lowiana (Gordon) A.Murray, 1863 | H27: Abies lowiana | I27: Abies lowiana (Gordon) A.Murray, 1863 _ Abies concolor var. lowiana (Gordon) Lemmon, 1895 _ Picea lowiana Gordon, 1862 | J27: 7 | K27: M | AB27: Plantae | AD27: Equisetopsida | AE27: Pinales | AF27: Pinaceae | AI27: Plantes vasculaires | AJ27: Gymnospermes | AK27: 159901 | AL27: 188665 | AM27: 188665 | AN27: 159901 | AO27: ES | AP27: Abie lowi | AQ27: =CONCATENATE(E27," - ",F27) -> Abies lowiana (Gordon) A.Murray, 1863 - ABIES LOWIANA (GORDON) A.MURRAY, 1863 | AS27: =SI(NB.SI(Database!$E$2:$E$144304
A28: 35565 | B28: A.Murray, 1863 | E28: Abies magnifica A.Murray, 1863 | F28: ABIES MAGNIFICA A.MURRAY, 1863 | G28: Abies magnifica A.Murray, 1863 | H28: Abies magnifica | I28: Abies magnifica A.Murray, 1863 | J28: 7 | K28: M | AB28: Plantae | AD28: Equisetopsida | AE28: Pinales | AF28: Pinaceae | AI28: Plantes vasculaires | AJ28: Gymnospermes | AK28: 717037 | AL28: 188665 | AM28: 188665 | AN28: 717037 | AO28: ES | AP28: Abie magn | AQ28: =CONCATENATE(E28," - ",F28) -> Abies magnifica A.Murray, 1863 - ABIES MAGNIFICA A.MURRAY, 1863
A29: 40262 | B29: (Lojac.) Mattei, 1908 | E29: Abies nebrodensis (Lojac.) Mattei, 1908 | F29: ABIES NEBRODENSIS (LOJAC.) MATTEI, 1908 | G29: Abies nebrodensis (Lojac.) Mattei, 1908 | H29: Abies nebrodensis | I29: Abies nebrodensis (Lojac.) Mattei, 1908 _ Abies pectinata var. nebrodensis Lojac., 1907 | J29: 7 | K29: M | AB29: Plantae | AD29: Equisetopsida | AE29: Pinales | AF29: Pinaceae | AI29: Plantes vasculaires | AJ29: Gymnospermes | AK29: 717038 | AL29: 188665 | AM29: 188665 | AN29: 717038 | AO29: ES | AP29: Abie nebr | AQ29: =CONCATENATE(E29," - ",F29) -> Abies nebrodensis (Lojac.) Mattei, 1908 - ABIES NEBRODENSIS (LOJAC.) MATTEI, 1908
A30: 8772 | B30: (Steven) Spach, 1841 | C30: Sapin de Nordmann, Sapin du Caucase, Sapin de CrimÃ©e | D30: Caucasian Fir | E30: Abies nordmanniana (Steven) Spach, 1841 | F30: ABIES NORDMANNIANA (STEVEN) SPACH, 1841 | G30: Abies nordmanniana (Steven) Spach, 1841 | H30: Abies nordmanniana | I30: Abies nordmanniana (Steven) Spach, 1841 _ Abies nordmanniana subsp. nordmanniana (Steven) Spach, 1841 _ Picea nordmanniana (Steven) J.W.Loudon, 1838 _ Pinus nordmanniana Steven, 1838 | J30: 3 | K30: I | AB30: Plantae | AD30: Equisetopsida | AE30: Pinales | AF30: Pinaceae | AI30: Plantes vasculaires | AJ30: Gymnospermes | AK30: 79345 | AL30: 188665 | AM30: 188665 | AN30: 79345 | AO30: ES | AP30: Abie nord | AQ30: =CONCATENATE(E30," - ",F30) -> Abies nordmanniana (Steven) Spach, 1841 - ABIES NORDMANNIANA (STEVEN) SPACH, 1841
A31: 37343 | B31: Lannoy ex CarriÃ¨re, 1866 | E31: Abies numidica Lannoy ex CarriÃ¨re, 1866 | F31: ABIES NUMIDICA LANNOY EX CARRIÃ¨RE, 1866 | G31: Abies numidica Lannoy ex CarriÃ¨re, 1866 | H31: Abies numidica | I31: Abies numidica Lannoy ex CarriÃ¨re, 1866 | J31: 3 | K31: I | AB31: Plantae | AD31: Equisetopsida | AE31: Pinales | AF31: Pinaceae | AI31: Plantes vasculaires | AJ31: Gymnospermes | AK31: 717039 | AL31: 188665 | AM31: 188665 | AN31: 717039 | AO31: ES | AP31: Abie numi | AQ31: =CONCATENATE(E31," - ",F31) -> Abies numidica Lannoy ex CarriÃ¨re, 1866 - ABIES NUMIDICA LANNOY EX CARRIÃ¨RE, 1866
A32: 14491 | B32: Gaussen, 1929 | C32: Sapin de PardÃ© | E32: Abies pardei Gaussen, 1929 | F32: ABIES PARDEI GAUSSEN, 1929 | G32: Abies pardei Gaussen, 1929 | H32: Abies pardei | I32: Abies pardei Gaussen, 1929 | J32: 7 | K32: M | AB32: Plantae | AD32: Equisetopsida | AE32: Pinales | AF32: Pinaceae | AI32: Plantes vasculaires | AJ32: Gymnospermes | AK32: 79346 | AL32: 188665 | AM32: 188665 | AN32: 79346 | AO32: ES | AP32: Abie pard | AQ32: =CONCATENATE(E32," - ",F32) -> Abies pardei Gaussen, 1929 - ABIES PARDEI GAUSSEN, 1929
A33: 40379 | B33: (Royle ex D.Don) Royle, 1836 | E33: Abies pindrow (Royle ex D.Don) Royle, 1836 | F33: ABIES PINDROW (ROYLE EX D.DON) ROYLE, 1836 | G33: Abies pindrow (Royle ex D.Don) Royle, 1836 | H33: Abies pindrow | I33: Abies pindrow (Royle ex D.Don) Royle, 1836 _ Pinus pindrow Royle ex D.Don, 1836 | J33: 7 | K33: M | AB33: Plantae | AD33: Equisetopsida | AE33: Pinales | AF33: Pinaceae | AI33: Plantes vasculaires | AJ33: Gymnospermes | AK33: 717040 | AL33: 188665 | AM33: 188665 | AN33: 717040 | AO33: ES | AP33: Abie pind | AQ33: =CONCATENATE(E33," - ",F33) -> Abies pindrow (Royle ex D.Don) Royle, 1836 - ABIES PINDROW (ROYLE EX D.DON) ROYLE, 1836
A34: 37576 | B34: Boiss., 1838 | C34: Sapin d'Espagne | D34: Spanish Fir | E34: Abies pinsapo Boiss., 1838 | F34: ABIES PINSAPO BOISS., 1838 | G34: Abies pinsapo Boiss., 1838 | H34: Abies pinsapo | I34: Abies pinsapo Boiss., 1838 _ Abies hispanica Chambray, 1845 | J34: 3 | K34: M | AB34: Plantae | AD34: Equisetopsida | AE34: Pinales | AF34: Pinaceae | AI34: Plantes vasculaires | AJ34: Gymnospermes | AK34: 79349 | AL34: 188665 | AM34: 188665 | AN34: 79349 | AO34: ES | AP34: Abie pins | AQ34: =CONCATENATE(E34," - ",F34) -> Abies pinsapo Boiss., 1838 - ABIES PINSAPO BOISS., 1838
A35: 26895 | B35: Rehder, 1949 | D35: Noble Fir | E35: Abies procera Rehder, 1949 | F35: ABIES PROCERA REHDER, 1949 | G35: Abies procera Rehder, 1949 | H35: Abies procera | I35: Abies procera Rehder, 1949 _ Abies nobilis (Douglas ex Lamb.) Lindl., 1833 _ Pinus nobilis Douglas ex Lamb., 1832 | J35: 3 | K35: M | AB35: Plantae | AD35: Equisetopsida | AE35: Pinales | AF35: Pinaceae | AI35: Plantes vasculaires | AJ35: Gymnospermes | AK35: 79350 | AL35: 188665 | AM35: 188665 | AN35: 79350 | AO35: ES | AP35: Abie proc | AQ35: =CONCATENATE(E35," - ",F35) -> Abies procera Rehder, 1949 - ABIES PROCERA REHDER, 1949
A36: 2308 | B36: L., 1753 | C36: RÃ©sÃ©da jaune, RÃ©sÃ©da bÃ¢tard | D36: Wild Mignonette | E36: Reseda lutea L., 1753 | F36: RESEDA LUTEA L., 1753 | G36: Reseda lutea L., 1753 | H36: Reseda lutea | I36: Reseda lutea L., 1753 _ Reseda benitoi Sennen, 1916 _ Reseda crispa Mill., 1768 _ Reseda crispa Ten. _ Reseda dutoitii Sennen & Mauricio, 1936 _ Reseda fluminensis Simonk., 1888 _ Reseda gallica Raf., 1837 _ Reseda ibicensis Pau _ Reseda lecoqii MÃ¼ll.Arg. ex DC., 1864 _ Reseda macedonica FormÃ¡nek, 1895 _ Reseda mediterranea L., 1762 _ Reseda mucronata Tineo, 1827 _ Reseda mucronulata Guss., 1832 _ Reseda orthostyla K.Koch, 1841 _ Reseda othryana FormÃ¡nek, 1895 _ Reseda phyteuma Neck., 1768 _ Reseda podolica Rehman, 1872 _ Reseda ramosissima Pourr. ex Willd., 1809 _ Reseda reyeri Porta & Rigo _ Reseda tenuifolia Wallr., 1840 _ Reseda truncata Fisch. & C.A.Mey., 1838 _ Reseda vinyalsii Sennen, 1936 _ Reseda yannezii Cutanda, 1861 | J36: 7 | K36: P | AB36: Plantae | AD36: Equisetopsida | AE36: Brassicales | AF36: Resedaceae | AI36: Plantes vasculaires | AJ36: Angiospermes | AK36: 117458 | AL36: 197080 | AM36: 197080 | AN36: 117458 | AO36: ES | AP36: Rese lute | AQ36: =CONCATENATE(E36," - ",F36) -> Reseda lutea L., 1753 - RESEDA LUTEA L., 1753
A37: 38404 | B37: L., 1753 | C37: RÃ©sÃ©da jaunÃ¢tre, RÃ©sÃ©da des teinturiers, Mignonette jaunÃ¢tre | D37: Weld | E37: Reseda luteola L., 1753 | F37: RESEDA LUTEOLA L., 1753 | G37: Reseda luteola L., 1753 | H37: Reseda luteola | I37: Reseda luteola L., 1753 _ Arkopoda luteola (L.) Raf., 1837 | J37: 7 | K37: P | AB37: Plantae | AD37: Equisetopsida | AE37: Brassicales | AF37: Resedaceae | AI37: Plantes vasculaires | AJ37: Angiospermes | AK37: 117459 | AL37: 197080 | AM37: 197080 | AN37: 117459 | AO37: ES | AP37: Rese lute | AQ37: =CONCATENATE(E37," - ",F37) -> Reseda luteola L., 1753 - RESEDA LUTEOLA L., 1753
A38: 39052 | B38: (Link) Arcang., 1882 | E38: Reseda luteola subsp. crispata (Link) Arcang., 1882 | F38: RESEDA LUTEOLA SUBSP. CRISPATA (LINK) ARCANG., 1882 | G38: Reseda luteola subsp. crispata (Link) Arcang., 1882 | H38: Reseda luteola subsp. crispata | I38: Reseda luteola subsp. crispata (Link) Arcang., 1882 _ Reseda crispata Link, 1822 | J38: 7 | K38: D | AB38: Plantae | AD38: Equisetopsida | AE38: Brassicales | AF38: Resedaceae | AI38: Plantes vasculaires | AJ38: Angiospermes | AK38: 139860 | AL38: 117459 | AM38: 117459 | AN38: 139860 | AO38: SSES | AP38: Rese lute ssp. cris | AQ38: =CONCATENATE(E38," - ",F38) -> Reseda luteola subsp. crispata (Link) Arcang., 1882 - RESEDA LUTEOLA SUBSP. CRISPATA (LINK) ARCANG., 1882
A39: 23655 | B39: (Boiss. & Reut.) Nyman, 1878 | E39: Reseda luteola subsp. gussonei (Boiss. & Reut.) Nyman, 1878 | F39: RESEDA LUTEOLA SUBSP. GUSSONEI (BOISS. & REUT.) NYMAN, 1878 | G39: Reseda luteola subsp. gussonei (Boiss. & Reut.) Nyman, 1878 | H39: Reseda luteola subsp. gussonei | I39: Reseda luteola subsp. gussonei (Boiss. & Reut.) Nyman, 1878 _ Reseda gussonei Boiss. & Reut., 1854 | J39: 7 | K39: D | AB39: Plantae | AD39: Equisetopsida | AE39: Brassicales | AF39: Resedaceae | AI39: Plantes vasculaires | AJ39: Angiospermes | AK39: 139862 | AL39: 117459 | AM39: 117459 | AN39: 139862 | AO39: SSES | AP39: Rese lute ssp. guss | AQ39: =CONCATENATE(E39," - ",F39) -> Reseda luteola subsp. gussonei (Boiss. & Reut.) Nyman, 1878 - RESEDA LUTEOLA SUBSP. GUSSONEI (BOISS. & REUT.) NYMAN, 1878
A40: 23188 | B40: L., 1753 | E40: Reseda lutea subsp. lutea L., 1753 | F40: RESEDA LUTEA SUBSP. LUTEA L., 1753 | G40: Reseda lutea subsp. lutea L., 1753 | H40: Reseda lutea subsp. lutea | I40: Reseda lutea subsp. lutea L., 1753 | J40: 7 | K40: P | AB40: Plantae | AD40: Equisetopsida | AE40: Brassicales | AF40: Resedaceae | AI40: Plantes vasculaires | AJ40: Angiospermes | AK40: 139857 | AL40: 117458 | AM40: 117458 | AN40: 139857 | AO40: SSES | AP40: Rese lute ssp. lute | AQ40: =CONCATENATE(E40," - ",F40) -> Reseda lutea subsp. lutea L., 1753 - RESEDA LUTEA SUBSP. LUTEA L., 1753
...

Sheet Correspondances
A1: Codes espèces
A2: Abie gran | K2: =MATCH(Correspondances!A2,Database!$AP:$AP,0) -> 22 | L2: =MATCH(Correspondances!A2,Database!$AP:$AP,1) -> 22 | M2: =MATCH(Correspondances!A2,Database!$AP:$AP,0) -> 22
A3: Abie holo | K3: =MATCH(Correspondances!A3,Database!$AP:$AP,0) -> 23 | L3: =MATCH(Correspondances!A3,Database!$AP:$AP,1) -> 23 | M3: =MATCH(Correspondances!A3,Database!$AP:$AP,0) -> 23
A4: Abie kawa | K4: =MATCH(Correspondances!A4,Database!$AP:$AP,0) -> 24 | L4: =MATCH(Correspondances!A4,Database!$AP:$AP,1) -> 24 | M4: =MATCH(Correspondances!A4,Database!$AP:$AP,0) -> 24
A5: Abie kore | K5: =MATCH(Correspondances!A5,Database!$AP:$AP,0) -> 25 | L5: =MATCH(Correspondances!A5,Database!$AP:$AP,1) -> 25 | M5: =MATCH(Correspondances!A5,Database!$AP:$AP,0) -> 25
A6: Abie lasi | K6: =MATCH(Correspondances!A6,Database!$AP:$AP,0) -> 26 | L6: =MATCH(Correspondances!A6,Database!$AP:$AP,1) -> 26 | M6: =MATCH(Correspondances!A6,Database!$AP:$AP,0) -> 26
A7: Abie lowi | K7: =MATCH(Correspondances!A7,Database!$AP:$AP,0) -> 27 | L7: =MATCH(Correspondances!A7,Database!$AP:$AP,1) -> 27 | M7: =MATCH(Correspondances!A7,Database!$AP:$AP,0) -> 27
A8: Abie magn | K8: =MATCH(Correspondances!A8,Database!$AP:$AP,0) -> 28 | L8: =MATCH(Correspondances!A8,Database!$AP:$AP,1) -> 28 | M8: =MATCH(Correspondances!A8,Database!$AP:$AP,0) -> 28
A9: Abie nebr | K9: =MATCH(Correspondances!A9,Database!$AP:$AP,0) -> 29 | L9: =MATCH(Correspondances!A9,Database!$AP:$AP,1) -> 29 | M9: =MATCH(Correspondances!A9,Database!$AP:$AP,0) -> 29
A10: Abie nord | K10: =MATCH(Correspondances!A10,Database!$AP:$AP,0) -> 30 | L10: =MATCH(Correspondances!A10,Database!$AP:$AP,1) -> 30 | M10: =MATCH(Correspondances!A10,Database!$AP:$AP,0) -> 30
A11: Abie numi | K11: =MATCH(Correspondances!A11,Database!$AP:$AP,0) -> 31 | L11: =MATCH(Correspondances!A11,Database!$AP:$AP,1) -> 31 | M11: =MATCH(Correspondances!A11,Database!$AP:$AP,0) -> 31
A12: Abie pard | K12: =MATCH(Correspondances!A12,Database!$AP:$AP,0) -> 32 | L12: =MATCH(Correspondances!A12,Database!$AP:$AP,1) -> 32 | M12: =MATCH(Correspondances!A12,Database!$AP:$AP,0) -> 32
A13: Abie pind | K13: =MATCH(Correspondances!A13,Database!$AP:$AP,0) -> 33 | L13: =MATCH(Correspondances!A13,Database!$AP:$AP,1) -> 33 | M13: =MATCH(Correspondances!A13,Database!$AP:$AP,0) -> 33
A14: Abie pins | K14: =MATCH(Correspondances!A14,Database!$AP:$AP,0) -> 34 | L14: =MATCH(Correspondances!A14,Database!$AP:$AP,1) -> 34 | M14: =MATCH(Correspondances!A14,Database!$AP:$AP,0) -> 34
A15: Rese lute | B15: Reseda luteola L., 1753 - RESEDA LUTEOLA L., 1753 | K15: =MATCH(Correspondances!A15,Database!$AP:$AP,0) -> 36 | L15: =MATCH(Correspondances!A15,Database!$AP:$AP,1) -> 37 | M15: =MATCH(Correspondances!A15,Database!$AP:$AP,0) -> 36
A16: Rese lute | K16: =MATCH(Correspondances!A16,Database!$AP:$AP,0) -> 36 | L16: =MATCH(Correspondances!A16,Database!$AP:$AP,1) -> 37 | M16: =MATCH(Correspondances!A16,Database!$AP:$AP,0) -> 36
