Workbook

Sheet Fra
A1: Date | B1: Libellé | C1: Solde | E1: Comparaison
A2: 41640 | B2: A | C2: 1500 | E2: =A2&B2&C2 -> 41640A1500 | F2: =COUNTIF(Liban!E:E,Fra!E2)=0 -> FALSE
A3: 41654 | B3: B | C3: 450 | E3: =A3&B3&C3 -> 41654B450 | F3: =COUNTIF(Liban!E:E,Fra!E3)=0 -> FALSE
A4: 41669 | B4: C | C4: 680 | E4: =A4&B4&C4 -> 41669C680 | F4: =COUNTIF(Liban!E:E,Fra!E4)=0 -> TRUE
A5: 41685 | B5: D | C5: 1500 | E5: =A5&B5&C5 -> 41685D1500 | F5: =COUNTIF(Liban!E:E,Fra!E5)=0 -> FALSE
A6: 41698 | B6: E | C6: 64 | E6: =A6&B6&C6 -> 41698E64 | F6: =COUNTIF(Liban!E:E,Fra!E6)=0 -> FALSE
A7: 41729 | B7: G | C7: 158 | E7: =A7&B7&C7 -> 41729G158 | F7: =COUNTIF(Liban!E:E,Fra!E7)=0 -> FALSE
A8: 41744 | B8: H | C8: 6543 | E8: =A8&B8&C8 -> 41744H6543 | F8: =COUNTIF(Liban!E:E,Fra!E8)=0 -> FALSE
A9: 41759 | B9: I | C9: 680 | E9: =A9&B9&C9 -> 41759I680 | F9: =COUNTIF(Liban!E:E,Fra!E9)=0 -> FALSE
A10: 41774 | B10: J | C10: 15900 | E10: =A10&B10&C10 -> 41774J15900 | F10: =COUNTIF(Liban!E:E,Fra!E10)=0 -> FALSE
A11: 41790 | B11: K | C11: 4500 | E11: =A11&B11&C11 -> 41790K4500 | F11: =COUNTIF(Liban!E:E,Fra!E11)=0 -> FALSE
A12: 41805 | B12: L | C12: 7536 | E12: =A12&B12&C12 -> 41805L7536 | F12: =COUNTIF(Liban!E:E,Fra!E12)=0 -> TRUE
A13: 41820 | B13: M | C13: 951 | E13: =A13&B13&C13 -> 41820M951 | F13: =COUNTIF(Liban!E:E,Fra!E13)=0 -> FALSE
A14: 41835 | B14: N | C14: 4500 | E14: =A14&B14&C14 -> 41835N4500 | F14: =COUNTIF(Liban!E:E,Fra!E14)=0 -> FALSE

Sheet Liban
A1: Date | B1: Libellé | C1: Solde | E1: Comparaison
A2: 41640 | B2: A | C2: 1500 | E2: =A2&B2&C2 -> 41640A1500 | F2: =COUNTIF(Fra!E:E,Liban!E2)=0 -> FALSE
A3: 41654 | B3: B | C3: 450 | E3: =A3&B3&C3 -> 41654B450 | F3: =COUNTIF(Fra!E:E,Liban!E3)=0 -> FALSE
A4: 41685 | B4: D | C4: 1500 | E4: =A4&B4&C4 -> 41685D1500 | F4: =COUNTIF(Fra!E:E,Liban!E4)=0 -> FALSE
A5: 41698 | B5: E | C5: 64 | E5: =A5&B5&C5 -> 41698E64 | F5: =COUNTIF(Fra!E:E,Liban!E5)=0 -> FALSE
A6: 41713 | B6: F | C6: 925 | E6: =A6&B6&C6 -> 41713F925 | F6: =COUNTIF(Fra!E:E,Liban!E6)=0 -> TRUE
A7: 41729 | B7: G | C7: 158 | E7: =A7&B7&C7 -> 41729G158 | F7: =COUNTIF(Fra!E:E,Liban!E7)=0 -> FALSE
A8: 41744 | B8: H | C8: 6543 | E8: =A8&B8&C8 -> 41744H6543 | F8: =COUNTIF(Fra!E:E,Liban!E8)=0 -> FALSE
A9: 41759 | B9: I | C9: 680 | E9: =A9&B9&C9 -> 41759I680 | F9: =COUNTIF(Fra!E:E,Liban!E9)=0 -> FALSE
A10: 41774 | B10: J | C10: 15900 | E10: =A10&B10&C10 -> 41774J15900 | F10: =COUNTIF(Fra!E:E,Liban!E10)=0 -> FALSE
A11: 41790 | B11: K | C11: 4500 | E11: =A11&B11&C11 -> 41790K4500 | F11: =COUNTIF(Fra!E:E,Liban!E11)=0 -> FALSE
A12: 41820 | B12: M | C12: 951 | E12: =A12&B12&C12 -> 41820M951 | F12: =COUNTIF(Fra!E:E,Liban!E12)=0 -> FALSE
A13: 41835 | B13: N | C13: 4500 | E13: =A13&B13&C13 -> 41835N4500 | F13: =COUNTIF(Fra!E:E,Liban!E13)=0 -> FALSE
A14: 41850 | B14: O | C14: 1500 | E14: =A14&B14&C14 -> 41850O1500 | F14: =COUNTIF(Fra!E:E,Liban!E14)=0 -> TRUE
