Workbook
Name Segment_Années: #N/A
Name Segment_DATE: #N/A

Sheet Feuil3
A1: Année | B1: 2019
A2: Semaine | B2: 1
B4: Statistiques Visites
C5: COMMER EST | D5: COMMER OUEST | E5: COMMER SUD | F5: COMMER CENTRE | G5: COMMERCIAL
B6: PROSPECT
B7: REVENDEUR | C7: =IFERROR(GETPIVOTDATA("NUM DEVIS",Feuil2!$A$3,"DATE",$B$2,"Code Cat",$B7,"COMMERCIAL",C$5,"Années",$B$1),"") -> 12 | D7: =IFERROR(GETPIVOTDATA("NUM DEVIS",Feuil2!$A$3,"DATE",$B$2,"Code Cat",$B7,"COMMERCIAL",D$5,"Années",$B$1),"") -> 1 | E7: =IFERROR(GETPIVOTDATA("NUM DEVIS",Feuil2!$A$3,"DATE",$B$2,"Code Cat",$B7,"COMMERCIAL",E$5,"Années",$B$1),"") | F7: =IFERROR(GETPIVOTDATA("NUM DEVIS",Feuil2!$A$3,"DATE",$B$2,"Code Cat",$B7,"COMMERCIAL",F$5,"Années",$B$1),"") -> 9 | G7: =IFERROR(GETPIVOTDATA("NUM DEVIS",Feuil2!$A$3,"DATE",$B$2,"Code Cat",$B7,"COMMERCIAL",G$5,"Années",$B$1),"") -> 28
B8: INSTALLATEUR | C8: =IFERROR(GETPIVOTDATA("NUM DEVIS",Feuil2!$A$3,"DATE",$B$2,"Code Cat",$B8,"COMMERCIAL",C$5,"Années",$B$1),"") -> 0 | D8: =IFERROR(GETPIVOTDATA("NUM DEVIS",Feuil2!$A$3,"DATE",$B$2,"Code Cat",$B8,"COMMERCIAL",D$5,"Années",$B$1),"") -> 3 | E8: =IFERROR(GETPIVOTDATA("NUM DEVIS",Feuil2!$A$3,"DATE",$B$2,"Code Cat",$B8,"COMMERCIAL",E$5,"Années",$B$1),"") | F8: =IFERROR(GETPIVOTDATA("NUM DEVIS",Feuil2!$A$3,"DATE",$B$2,"Code Cat",$B8,"COMMERCIAL",F$5,"Années",$B$1),"") -> 5 | G8: =IFERROR(GETPIVOTDATA("NUM DEVIS",Feuil2!$A$3,"DATE",$B$2,"Code Cat",$B8,"COMMERCIAL",G$5,"Années",$B$1),"") -> 13
B9: PUBLIC | C9: =IFERROR(GETPIVOTDATA("NUM DEVIS",Feuil2!$A$3,"DATE",$B$2,"Code Cat",$B9,"COMMERCIAL",C$5,"Années",$B$1),"") -> 0 | D9: =IFERROR(GETPIVOTDATA("NUM DEVIS",Feuil2!$A$3,"DATE",$B$2,"Code Cat",$B9,"COMMERCIAL",D$5,"Années",$B$1),"") -> 0 | E9: =IFERROR(GETPIVOTDATA("NUM DEVIS",Feuil2!$A$3,"DATE",$B$2,"Code Cat",$B9,"COMMERCIAL",E$5,"Années",$B$1),"") | F9: =IFERROR(GETPIVOTDATA("NUM DEVIS",Feuil2!$A$3,"DATE",$B$2,"Code Cat",$B9,"COMMERCIAL",F$5,"Années",$B$1),"") -> 1 | G9: =IFERROR(GETPIVOTDATA("NUM DEVIS",Feuil2!$A$3,"DATE",$B$2,"Code Cat",$B9,"COMMERCIAL",G$5,"Années",$B$1),"") -> 10
B10: PERSONNEL | C10: =IFERROR(GETPIVOTDATA("NUM DEVIS",Feuil2!$A$3,"DATE",$B$2,"Code Cat",$B10,"COMMERCIAL",C$5,"Années",$B$1),"") -> 0 | D10: =IFERROR(GETPIVOTDATA("NUM DEVIS",Feuil2!$A$3,"DATE",$B$2,"Code Cat",$B10,"COMMERCIAL",D$5,"Années",$B$1),"") -> 0 | E10: =IFERROR(GETPIVOTDATA("NUM DEVIS",Feuil2!$A$3,"DATE",$B$2,"Code Cat",$B10,"COMMERCIAL",E$5,"Années",$B$1),"") | F10: =IFERROR(GETPIVOTDATA("NUM DEVIS",Feuil2!$A$3,"DATE",$B$2,"Code Cat",$B10,"COMMERCIAL",F$5,"Années",$B$1),"") -> 19 | G10: =IFERROR(GETPIVOTDATA("NUM DEVIS",Feuil2!$A$3,"DATE",$B$2,"Code Cat",$B10,"COMMERCIAL",G$5,"Années",$B$1),"") -> 0
B11: INDUSTRIEL | C11: =IFERROR(GETPIVOTDATA("NUM DEVIS",Feuil2!$A$3,"DATE",$B$2,"Code Cat",$B11,"COMMERCIAL",C$5,"Années",$B$1),"") -> 0 | D11: =IFERROR(GETPIVOTDATA("NUM DEVIS",Feuil2!$A$3,"DATE",$B$2,"Code Cat",$B11,"COMMERCIAL",D$5,"Années",$B$1),"") -> 6 | E11: =IFERROR(GETPIVOTDATA("NUM DEVIS",Feuil2!$A$3,"DATE",$B$2,"Code Cat",$B11,"COMMERCIAL",E$5,"Années",$B$1),"") | F11: =IFERROR(GETPIVOTDATA("NUM DEVIS",Feuil2!$A$3,"DATE",$B$2,"Code Cat",$B11,"COMMERCIAL",F$5,"Années",$B$1),"") -> 1 | G11: =IFERROR(GETPIVOTDATA("NUM DEVIS",Feuil2!$A$3,"DATE",$B$2,"Code Cat",$B11,"COMMERCIAL",G$5,"Années",$B$1),"") -> 0
B12: Total
C14: COMMER EST | D14: COMMER OUEST | E14: COMMER SUD | F14: COMMER CENTRE | G14: COMMERCIAL
B15: CLIENT
B16: REVENDEUR | C16: =IFERROR(GETPIVOTDATA("NUM DEVIS",Feuil2!$A$3,"DATE",$B$2,"Code Cat",$B16,"COMMERCIAL",C$5,"Années",$B$1),"") -> 12 | D16: =IFERROR(GETPIVOTDATA("NUM DEVIS",Feuil2!$A$3,"DATE",$B$2,"Code Cat",$B16,"COMMERCIAL",D$5,"Années",$B$1),"") -> 1 | E16: =IFERROR(GETPIVOTDATA("NUM DEVIS",Feuil2!$A$3,"DATE",$B$2,"Code Cat",$B16,"COMMERCIAL",E$5,"Années",$B$1),"") | F16: =IFERROR(GETPIVOTDATA("NUM DEVIS",Feuil2!$A$3,"DATE",$B$2,"Code Cat",$B16,"COMMERCIAL",F$5,"Années",$B$1),"") -> 9 | G16: =IFERROR(GETPIVOTDATA("NUM DEVIS",Feuil2!$A$3,"DATE",$B$2,"Code Cat",$B16,"COMMERCIAL",G$5,"Années",$B$1),"") -> 28
B17: INSTALLATEUR | C17: =IFERROR(GETPIVOTDATA("NUM DEVIS",Feuil2!$A$3,"DATE",$B$2,"Code Cat",$B17,"COMMERCIAL",C$5,"Années",$B$1),"") -> 0 | D17: =IFERROR(GETPIVOTDATA("NUM DEVIS",Feuil2!$A$3,"DATE",$B$2,"Code Cat",$B17,"COMMERCIAL",D$5,"Années",$B$1),"") -> 3 | E17: =IFERROR(GETPIVOTDATA("NUM DEVIS",Feuil2!$A$3,"DATE",$B$2,"Code Cat",$B17,"COMMERCIAL",E$5,"Années",$B$1),"") | F17: =IFERROR(GETPIVOTDATA("NUM DEVIS",Feuil2!$A$3,"DATE",$B$2,"Code Cat",$B17,"COMMERCIAL",F$5,"Années",$B$1),"") -> 5 | G17: =IFERROR(GETPIVOTDATA("NUM DEVIS",Feuil2!$A$3,"DATE",$B$2,"Code Cat",$B17,"COMMERCIAL",G$5,"Années",$B$1),"") -> 13
B18: PUBLIC | C18: =IFERROR(GETPIVOTDATA("NUM DEVIS",Feuil2!$A$3,"DATE",$B$2,"Code Cat",$B18,"COMMERCIAL",C$5,"Années",$B$1),"") -> 0 | D18: =IFERROR(GETPIVOTDATA("NUM DEVIS",Feuil2!$A$3,"DATE",$B$2,"Code Cat",$B18,"COMMERCIAL",D$5,"Années",$B$1),"") -> 0 | E18: =IFERROR(GETPIVOTDATA("NUM DEVIS",Feuil2!$A$3,"DATE",$B$2,"Code Cat",$B18,"COMMERCIAL",E$5,"Années",$B$1),"") | F18: =IFERROR(GETPIVOTDATA("NUM DEVIS",Feuil2!$A$3,"DATE",$B$2,"Code Cat",$B18,"COMMERCIAL",F$5,"Années",$B$1),"") -> 1 | G18: =IFERROR(GETPIVOTDATA("NUM DEVIS",Feuil2!$A$3,"DATE",$B$2,"Code Cat",$B18,"COMMERCIAL",G$5,"Années",$B$1),"") -> 10
B19: PERSONNEL | C19: =IFERROR(GETPIVOTDATA("NUM DEVIS",Feuil2!$A$3,"DATE",$B$2,"Code Cat",$B19,"COMMERCIAL",C$5,"Années",$B$1),"") -> 0 | D19: =IFERROR(GETPIVOTDATA("NUM DEVIS",Feuil2!$A$3,"DATE",$B$2,"Code Cat",$B19,"COMMERCIAL",D$5,"Années",$B$1),"") -> 0 | E19: =IFERROR(GETPIVOTDATA("NUM DEVIS",Feuil2!$A$3,"DATE",$B$2,"Code Cat",$B19,"COMMERCIAL",E$5,"Années",$B$1),"") | F19: =IFERROR(GETPIVOTDATA("NUM DEVIS",Feuil2!$A$3,"DATE",$B$2,"Code Cat",$B19,"COMMERCIAL",F$5,"Années",$B$1),"") -> 19 | G19: =IFERROR(GETPIVOTDATA("NUM DEVIS",Feuil2!$A$3,"DATE",$B$2,"Code Cat",$B19,"COMMERCIAL",G$5,"Années",$B$1),"") -> 0
B20: INDUSTRIEL | C20: =IFERROR(GETPIVOTDATA("NUM DEVIS",Feuil2!$A$3,"DATE",$B$2,"Code Cat",$B20,"COMMERCIAL",C$5,"Années",$B$1),"") -> 0 | D20: =IFERROR(GETPIVOTDATA("NUM DEVIS",Feuil2!$A$3,"DATE",$B$2,"Code Cat",$B20,"COMMERCIAL",D$5,"Années",$B$1),"") -> 6 | E20: =IFERROR(GETPIVOTDATA("NUM DEVIS",Feuil2!$A$3,"DATE",$B$2,"Code Cat",$B20,"COMMERCIAL",E$5,"Années",$B$1),"") | F20: =IFERROR(GETPIVOTDATA("NUM DEVIS",Feuil2!$A$3,"DATE",$B$2,"Code Cat",$B20,"COMMERCIAL",F$5,"Années",$B$1),"") -> 1 | G20: =IFERROR(GETPIVOTDATA("NUM DEVIS",Feuil2!$A$3,"DATE",$B$2,"Code Cat",$B20,"COMMERCIAL",G$5,"Années",$B$1),"") -> 0
B21: Total
B25: Montants totaux
C26: COMMER EST | D26: COMMER OUEST | E26: COMMER SUD | F26: COMMER CENTRE | G26: COMMERCIAL
B27: PROSPECT
B28: REVENDEUR | C28: 9916000 | F28: 1106700
B29: INSTALLATEUR
B30: PUBLIC
B31: PERSONNEL
B32: INDUSTRIEL
B33: Total
C35: COMMER EST | D35: COMMER OUEST | E35: COMMER SUD | F35: COMMER CENTRE | G35: COMMERCIAL
B36: CLIENT
B37: REVENDEUR | C37: 5019500 | F37: 2200650
B38: INSTALLATEUR | F38: 6084000
B39: PUBLIC | F39: 3690000
B40: PERSONNEL | F40: 64613466
B41: INDUSTRIEL | F41: 225210.4
B42: Total

Sheet Feuil2
A3: Nombre de NUM DEVIS | B3: Étiquettes de colonnes
A4: Étiquettes de lignes | B4: COMMER CENTRE | C4: COMMER EST | D4: COMMER OUEST | E4: COMMERCIAL | F4: Total général
A5: 2019
A6: janv | B6: 35 | C6: 12 | D6: 10 | E6: 51 | F6: 108
A7: INDUSTRIEL | B7: 1 | D7: 6 | F7: 7
A8: INSTALLATEUR | B8: 5 | D8: 3 | E8: 13 | F8: 21
A9: PERSONNEL | B9: 19 | F9: 19
A10: PUBLIC | B10: 1 | E10: 10 | F10: 11
A11: REVENDEUR | B11: 9 | C11: 12 | D11: 1 | E11: 28 | F11: 50
A12: Total général | B12: 35 | C12: 12 | D12: 10 | E12: 51 | F12: 108

Sheet Feuil1
A1: DATE | B1: NUM DEVIS | C1: Date Validation | D1: CODE CLT | E1: Code Cat | F1: TYPE | G1: PU HT | H1: QUANTITE (ML) | I1: MONT HT | J1: COMMERCIAL
A2: 43471 | B2: 00426 | C2: 43471 | D2: CL000262 | E2: INDUSTRIEL | F2: CLIENT | G2: 526 | H2: 38000 | I2: 19988000 | J2: COMMER OUEST
A3: 43471 | B3: 00001 | C3: 43471 | D3: CL000051 | E3: PUBLIC | F3: CLIENT | G3: 450 | H3: 1000 | I3: 450000 | J3: COMMERCIAL
A4: 43471 | B4: 00001 | C4: 43471 | D4: CL000051 | E4: PUBLIC | F4: CLIENT | G4: 620 | H4: 1000 | I4: 620000 | J4: COMMERCIAL
A5: 43471 | B5: 00001 | C5: 43471 | D5: CL000051 | E5: PUBLIC | F5: CLIENT | G5: 360 | H5: 1000 | I5: 360000 | J5: COMMERCIAL
A6: 43471 | B6: 00001 | C6: 43471 | D6: CL000051 | E6: PUBLIC | F6: CLIENT | G6: 2800 | H6: 500 | I6: 1400000 | J6: COMMERCIAL
A7: 43471 | B7: 00001 | C7: 43471 | D7: CL000051 | E7: PUBLIC | F7: CLIENT | G7: 1970 | H7: 500 | I7: 985000 | J7: COMMERCIAL
A8: 43471 | B8: 00001 | C8: 43471 | D8: CL000051 | E8: PUBLIC | F8: CLIENT | G8: 550 | H8: 1000 | I8: 550000 | J8: COMMERCIAL
A9: 43471 | B9: 00001 | C9: 43471 | D9: CL000051 | E9: PUBLIC | F9: CLIENT | G9: 375 | H9: 100 | I9: 37500 | J9: COMMERCIAL
A10: 43471 | B10: 00001 | C10: 43471 | D10: CL000051 | E10: PUBLIC | F10: CLIENT | G10: 375 | H10: 100 | I10: 37500 | J10: COMMERCIAL
A11: 43471 | B11: 00001 | C11: 43471 | D11: CL000051 | E11: REVENDEUR | F11: CLIENT | G11: 86 | H11: 1000 | I11: 86000 | J11: COMMERCIAL
A12: 43471 | B12: 00001 | C12: 43471 | D12: CL000051 | E12: REVENDEUR | F12: CLIENT | G12: 900 | H12: 100 | I12: 90000 | J12: COMMERCIAL
A13: 43471 | B13: 00001 | C13: 43471 | D13: CL000051 | E13: REVENDEUR | F13: CLIENT | G13: 1230 | H13: 100 | I13: 123000 | J13: COMMERCIAL
... A109: 43496 | B109: 00066 | C109: 43496 | D109: CL000132 | E109: REVENDEUR | F109: PROSPECT | G109: 350 | H109: 3162 | I109: 1106700 | J109: COMMER CENTRE
