Workbook

Sheet Cours
A1: Nom du cours | B1: J0 | C1: J0+2 | D1: J0+6 | E1: J0+10 | F1: J0+15 | G1: J0+30
A2: Cours 1 | B2: 42009 | C2: =B2+2 -> 42011 | D2: =B2+6 -> 42015 | E2: =B2+10 -> 42019 | F2: =B2+15 -> 42024 | G2: =B2+30 -> 42039
A3: Cours 2 | B3: 42012 | C3: =B3+2 -> 42014 | D3: =B3+6 -> 42018 | E3: =B3+10 -> 42022 | F3: =B3+15 -> 42027 | G3: =B3+30 -> 42042
A4: Cours 3 | B4: 42013 | C4: =B4+2 -> 42015 | D4: =B4+6 -> 42019 | E4: =B4+10 -> 42023 | F4: =B4+15 -> 42028 | G4: =B4+30 -> 42043
A5: Cours 4 | B5: 42015 | C5: =B5+2 -> 42017 | D5: =B5+6 -> 42021 | E5: =B5+10 -> 42025 | F5: =B5+15 -> 42030 | G5: =B5+30 -> 42045
A6: Cours 5 | B6: 41376 | C6: =B6+2 -> 41378 | D6: =B6+6 -> 41382 | E6: =B6+10 -> 41386 | F6: =B6+15 -> 41391 | G6: =B6+30 -> 41406
A7: Cours 6 | B7: 41379 | C7: =B7+2 -> 41381 | D7: =B7+6 -> 41385 | E7: =B7+10 -> 41389 | F7: =B7+15 -> 41394 | G7: =B7+30 -> 41409
A8: Cours 7 | B8: 41381 | C8: =B8+2 -> 41383 | D8: =B8+6 -> 41387 | E8: =B8+10 -> 41391 | F8: =B8+15 -> 41396 | G8: =B8+30 -> 41411
A9: Cours 8 | B9: 0 | C9: =B9+2 -> 2 | D9: =B9+6 -> 6 | E9: =B9+10 -> 10 | F9: =B9+15 -> 15 | G9: =B9+30 -> 30
A10: Cours 9 | B10: 41388 | C10: =B10+2 -> 41390 | D10: =B10+6 -> 41394 | E10: =B10+10 -> 41398 | F10: =B10+15 -> 41403 | G10: =B10+30 -> 41418
A11: Cours 10 | B11: 41389 | C11: =B11+2 -> 41391 | D11: =B11+6 -> 41395 | E11: =B11+10 -> 41399 | F11: =B11+15 -> 41404 | G11: =B11+30 -> 41419
A12: Cours 11 | B12: 41393 | C12: =B12+2 -> 41395 | D12: =B12+6 -> 41399 | E12: =B12+10 -> 41403 | F12: =B12+15 -> 41408 | G12: =B12+30 -> 41423
A13: Cours 12 | B13: 41394 | C13: =B13+2 -> 41396 | D13: =B13+6 -> 41400 | E13: =B13+10 -> 41404 | F13: =B13+15 -> 41409 | G13: =B13+30 -> 41424
... A23: Cours 22 | B23: 42024 | C23: =B23+2 -> 42026 | D23: =B23+6 -> 42030 | E23: =B23+10 -> 42034 | F23: =B23+15 -> 42039 | G23: =B23+30 -> 42054

Sheet Hebdomadaire
B2: 2013 | C2: 20
B4: VUE HEBDOMADAIRE
B5: LUNDI | C5: MARDI | D5: MERCREDI | E5: JEUDI | F5: VENDREDI | G5: SAMEDI | H5: DIMANCHE
B6: =B7 -> 41407 | H6: =H7 -> 41413
B7: =(C2-1)*7+IF(WEEKDAY(DATE(B2,1,1),2)>4,7,0)+DATE(B2,1,1)-WEEKDAY(DATE(B2,1,1),2)+1 -> 41407 | C7: =B7+1 -> 41408 | D7: =C7+1 -> 41409 | E7: =D7+1 -> 41410 | F7: =E7+1 -> 41411 | G7: =F7+1 -> 41412 | H7: =G7+1 -> 41413
B8: LUNDI | C8: MARDI | D8: MERCREDI | E8: JEUDI | F8: VENDREDI | G8: SAMEDI | H8: DIMANCHE | I8: ACTIVITE ?
B9: =IF(COUNTIF(Cours!$B2:$G2,B$7),Cours!$A2,"") | C9: =IF(COUNTIF(Cours!$B2:$G2,C$7),Cours!$A2,"") | D9: =IF(COUNTIF(Cours!$B2:$G2,D$7),Cours!$A2,"") | E9: =IF(COUNTIF(Cours!$B2:$G2,E$7),Cours!$A2,"") | F9: =IF(COUNTIF(Cours!$B2:$G2,F$7),Cours!$A2,"") | G9: =IF(COUNTIF(Cours!$B2:$G2,G$7),Cours!$A2,"") | H9: =IF(COUNTIF(Cours!$B2:$G2,H$7),Cours!$A2,"") | I9: =7-COUNTIF(Tableau2[[#This Row],[LUNDI]:[DIMANCHE]],"") -> 0
B10: =IF(COUNTIF(Cours!$B3:$G3,B$7),Cours!$A3,"") | C10: =IF(COUNTIF(Cours!$B3:$G3,C$7),Cours!$A3,"") | D10: =IF(COUNTIF(Cours!$B3:$G3,D$7),Cours!$A3,"") | E10: =IF(COUNTIF(Cours!$B3:$G3,E$7),Cours!$A3,"") | F10: =IF(COUNTIF(Cours!$B3:$G3,F$7),Cours!$A3,"") | G10: =IF(COUNTIF(Cours!$B3:$G3,G$7),Cours!$A3,"") | H10: =IF(COUNTIF(Cours!$B3:$G3,H$7),Cours!$A3,"") | I10: =7-COUNTIF(Tableau2[[#This Row],[LUNDI]:[DIMANCHE]],"") -> 0
B11: =IF(COUNTIF(Cours!$B4:$G4,B$7),Cours!$A4,"") | C11: =IF(COUNTIF(Cours!$B4:$G4,C$7),Cours!$A4,"") | D11: =IF(COUNTIF(Cours!$B4:$G4,D$7),Cours!$A4,"") | E11: =IF(COUNTIF(Cours!$B4:$G4,E$7),Cours!$A4,"") | F11: =IF(COUNTIF(Cours!$B4:$G4,F$7),Cours!$A4,"") | G11: =IF(COUNTIF(Cours!$B4:$G4,G$7),Cours!$A4,"") | H11: =IF(COUNTIF(Cours!$B4:$G4,H$7),Cours!$A4,"") | I11: =7-COUNTIF(Tableau2[[#This Row],[LUNDI]:[DIMANCHE]],"") -> 0
B12: =IF(COUNTIF(Cours!$B5:$G5,B$7),Cours!$A5,"") | C12: =IF(COUNTIF(Cours!$B5:$G5,C$7),Cours!$A5,"") | D12: =IF(COUNTIF(Cours!$B5:$G5,D$7),Cours!$A5,"") | E12: =IF(COUNTIF(Cours!$B5:$G5,E$7),Cours!$A5,"") | F12: =IF(COUNTIF(Cours!$B5:$G5,F$7),Cours!$A5,"") | G12: =IF(COUNTIF(Cours!$B5:$G5,G$7),Cours!$A5,"") | H12: =IF(COUNTIF(Cours!$B5:$G5,H$7),Cours!$A5,"") | I12: =7-COUNTIF(Tableau2[[#This Row],[LUNDI]:[DIMANCHE]],"") -> 0
B13: =IF(COUNTIF(Cours!$B6:$G6,B$7),Cours!$A6,"") | C13: =IF(COUNTIF(Cours!$B6:$G6,C$7),Cours!$A6,"") | D13: =IF(COUNTIF(Cours!$B6:$G6,D$7),Cours!$A6,"") | E13: =IF(COUNTIF(Cours!$B6:$G6,E$7),Cours!$A6,"") | F13: =IF(COUNTIF(Cours!$B6:$G6,F$7),Cours!$A6,"") | G13: =IF(COUNTIF(Cours!$B6:$G6,G$7),Cours!$A6,"") | H13: =IF(COUNTIF(Cours!$B6:$G6,H$7),Cours!$A6,"") | I13: =7-COUNTIF(Tableau2[[#This Row],[LUNDI]:[DIMANCHE]],"") -> 0
B14: =IF(COUNTIF(Cours!$B7:$G7,B$7),Cours!$A7,"") | C14: =IF(COUNTIF(Cours!$B7:$G7,C$7),Cours!$A7,"") | D14: =IF(COUNTIF(Cours!$B7:$G7,D$7),Cours!$A7,"") -> Cours 6 | E14: =IF(COUNTIF(Cours!$B7:$G7,E$7),Cours!$A7,"") | F14: =IF(COUNTIF(Cours!$B7:$G7,F$7),Cours!$A7,"") | G14: =IF(COUNTIF(Cours!$B7:$G7,G$7),Cours!$A7,"") | H14: =IF(COUNTIF(Cours!$B7:$G7,H$7),Cours!$A7,"") | I14: =7-COUNTIF(Tableau2[[#This Row],[LUNDI]:[DIMANCHE]],"") -> 1
B15: =IF(COUNTIF(Cours!$B8:$G8,B$7),Cours!$A8,"") | C15: =IF(COUNTIF(Cours!$B8:$G8,C$7),Cours!$A8,"") | D15: =IF(COUNTIF(Cours!$B8:$G8,D$7),Cours!$A8,"") | E15: =IF(COUNTIF(Cours!$B8:$G8,E$7),Cours!$A8,"") | F15: =IF(COUNTIF(Cours!$B8:$G8,F$7),Cours!$A8,"") -> Cours 7 | G15: =IF(COUNTIF(Cours!$B8:$G8,G$7),Cours!$A8,"") | H15: =IF(COUNTIF(Cours!$B8:$G8,H$7),Cours!$A8,"") | I15: =7-COUNTIF(Tableau2[[#This Row],[LUNDI]:[DIMANCHE]],"") -> 1
B16: =IF(COUNTIF(Cours!$B9:$G9,B$7),Cours!$A9,"") | C16: =IF(COUNTIF(Cours!$B9:$G9,C$7),Cours!$A9,"") | D16: =IF(COUNTIF(Cours!$B9:$G9,D$7),Cours!$A9,"") | E16: =IF(COUNTIF(Cours!$B9:$G9,E$7),Cours!$A9,"") | F16: =IF(COUNTIF(Cours!$B9:$G9,F$7),Cours!$A9,"") | G16: =IF(COUNTIF(Cours!$B9:$G9,G$7),Cours!$A9,"") | H16: =IF(COUNTIF(Cours!$B9:$G9,H$7),Cours!$A9,"") | I16: =7-COUNTIF(Tableau2[[#This Row],[LUNDI]:[DIMANCHE]],"") -> 0
B17: =IF(COUNTIF(Cours!$B10:$G10,B$7),Cours!$A10,"") | C17: =IF(COUNTIF(Cours!$B10:$G10,C$7),Cours!$A10,"") | D17: =IF(COUNTIF(Cours!$B10:$G10,D$7),Cours!$A10,"") | E17: =IF(COUNTIF(Cours!$B10:$G10,E$7),Cours!$A10,"") | F17: =IF(COUNTIF(Cours!$B10:$G10,F$7),Cours!$A10,"") | G17: =IF(COUNTIF(Cours!$B10:$G10,G$7),Cours!$A10,"") | H17: =IF(COUNTIF(Cours!$B10:$G10,H$7),Cours!$A10,"") | I17: =7-COUNTIF(Tableau2[[#This Row],[LUNDI]:[DIMANCHE]],"") -> 0
B18: =IF(COUNTIF(Cours!$B11:$G11,B$7),Cours!$A11,"") | C18: =IF(COUNTIF(Cours!$B11:$G11,C$7),Cours!$A11,"") | D18: =IF(COUNTIF(Cours!$B11:$G11,D$7),Cours!$A11,"") | E18: =IF(COUNTIF(Cours!$B11:$G11,E$7),Cours!$A11,"") | F18: =IF(COUNTIF(Cours!$B11:$G11,F$7),Cours!$A11,"") | G18: =IF(COUNTIF(Cours!$B11:$G11,G$7),Cours!$A11,"") | H18: =IF(COUNTIF(Cours!$B11:$G11,H$7),Cours!$A11,"") | I18: =7-COUNTIF(Tableau2[[#This Row],[LUNDI]:[DIMANCHE]],"") -> 0
B19: =IF(COUNTIF(Cours!$B12:$G12,B$7),Cours!$A12,"") | C19: =IF(COUNTIF(Cours!$B12:$G12,C$7),Cours!$A12,"") -> Cours 11 | D19: =IF(COUNTIF(Cours!$B12:$G12,D$7),Cours!$A12,"") | E19: =IF(COUNTIF(Cours!$B12:$G12,E$7),Cours!$A12,"") | F19: =IF(COUNTIF(Cours!$B12:$G12,F$7),Cours!$A12,"") | G19: =IF(COUNTIF(Cours!$B12:$G12,G$7),Cours!$A12,"") | H19: =IF(COUNTIF(Cours!$B12:$G12,H$7),Cours!$A12,"") | I19: =7-COUNTIF(Tableau2[[#This Row],[LUNDI]:[DIMANCHE]],"") -> 1
B20: =IF(COUNTIF(Cours!$B13:$G13,B$7),Cours!$A13,"") | C20: =IF(COUNTIF(Cours!$B13:$G13,C$7),Cours!$A13,"") | D20: =IF(COUNTIF(Cours!$B13:$G13,D$7),Cours!$A13,"") -> Cours 12 | E20: =IF(COUNTIF(Cours!$B13:$G13,E$7),Cours!$A13,"") | F20: =IF(COUNTIF(Cours!$B13:$G13,F$7),Cours!$A13,"") | G20: =IF(COUNTIF(Cours!$B13:$G13,G$7),Cours!$A13,"") | H20: =IF(COUNTIF(Cours!$B13:$G13,H$7),Cours!$A13,"") | I20: =7-COUNTIF(Tableau2[[#This Row],[LUNDI]:[DIMANCHE]],"") -> 1
... B41: =IF(COUNTIF(Cours!$B34:$G34,B$7),Cours!$A34,"") | C41: =IF(COUNTIF(Cours!$B34:$G34,C$7),Cours!$A34,"") | D41: =IF(COUNTIF(Cours!$B34:$G34,D$7),Cours!$A34,"") | E41: =IF(COUNTIF(Cours!$B34:$G34,E$7),Cours!$A34,"") | F41: =IF(COUNTIF(Cours!$B34:$G34,F$7),Cours!$A34,"") | G41: =IF(COUNTIF(Cours!$B34:$G34,G$7),Cours!$A34,"") | H41: =IF(COUNTIF(Cours!$B34:$G34,H$7),Cours!$A34,"") | I41: =7-COUNTIF(Tableau2[[#This Row],[LUNDI]:[DIMANCHE]],"") -> 0
