Workbook

Sheet Feuil1
C3: 44211 | D3: =WORKDAY(C3-IF(WEEKDAY(C3,2)>3,,7)-WEEKDAY(C3,2)+3+1,-1,Feuil2!$C$2:$C$61) -> 44209 | E3: =WORKDAY(C3-IF(WEEKDAY(C3,2)>3,,7)-WEEKDAY(C3,2)+3+7+IF(WEEKDAY(C3,2)=3,7,)+1,-1,Feuil2!$C$2:$C$61) -> 44216
C4: 44242 | D4: =WORKDAY(C4-IF(WEEKDAY(C4,2)>3,,7)-WEEKDAY(C4,2)+3+1,-1,Feuil2!$C$2:$C$61) -> 44237 | E4: =WORKDAY(C4-IF(WEEKDAY(C4,2)>3,,7)-WEEKDAY(C4,2)+3+7+IF(WEEKDAY(C4,2)=3,7,)+1,-1,Feuil2!$C$2:$C$61) -> 44244
C5: 44270 | D5: =WORKDAY(C5-IF(WEEKDAY(C5,2)>3,,7)-WEEKDAY(C5,2)+3+1,-1,Feuil2!$C$2:$C$61) -> 44265 | E5: =WORKDAY(C5-IF(WEEKDAY(C5,2)>3,,7)-WEEKDAY(C5,2)+3+7+IF(WEEKDAY(C5,2)=3,7,)+1,-1,Feuil2!$C$2:$C$61) -> 44272
C6: 44301 | D6: =WORKDAY(C6-IF(WEEKDAY(C6,2)>3,,7)-WEEKDAY(C6,2)+3+1,-1,Feuil2!$C$2:$C$61) -> 44300 | E6: =WORKDAY(C6-IF(WEEKDAY(C6,2)>3,,7)-WEEKDAY(C6,2)+3+7+IF(WEEKDAY(C6,2)=3,7,)+1,-1,Feuil2!$C$2:$C$61) -> 44307
C7: 44331 | D7: =WORKDAY(C7-IF(WEEKDAY(C7,2)>3,,7)-WEEKDAY(C7,2)+3+1,-1,Feuil2!$C$2:$C$61) -> 44328 | E7: =WORKDAY(C7-IF(WEEKDAY(C7,2)>3,,7)-WEEKDAY(C7,2)+3+7+IF(WEEKDAY(C7,2)=3,7,)+1,-1,Feuil2!$C$2:$C$61) -> 44335
C8: 44362 | D8: =WORKDAY(C8-IF(WEEKDAY(C8,2)>3,,7)-WEEKDAY(C8,2)+3+1,-1,Feuil2!$C$2:$C$61) -> 44356 | E8: =WORKDAY(C8-IF(WEEKDAY(C8,2)>3,,7)-WEEKDAY(C8,2)+3+7+IF(WEEKDAY(C8,2)=3,7,)+1,-1,Feuil2!$C$2:$C$61) -> 44363
C9: 44392 | D9: =WORKDAY(C9-IF(WEEKDAY(C9,2)>3,,7)-WEEKDAY(C9,2)+3+1,-1,Feuil2!$C$2:$C$61) -> 44390 | E9: =WORKDAY(C9-IF(WEEKDAY(C9,2)>3,,7)-WEEKDAY(C9,2)+3+7+IF(WEEKDAY(C9,2)=3,7,)+1,-1,Feuil2!$C$2:$C$61) -> 44398
C10: 44423 | D10: =WORKDAY(C10-IF(WEEKDAY(C10,2)>3,,7)-WEEKDAY(C10,2)+3+1,-1,Feuil2!$C$2:$C$61) -> 44419 | E10: =WORKDAY(C10-IF(WEEKDAY(C10,2)>3,,7)-WEEKDAY(C10,2)+3+7+IF(WEEKDAY(C10,2)=3,7,)+1,-1,Feuil2!$C$2:$C$61) -> 44426
C11: 44454 | D11: =WORKDAY(C11-IF(WEEKDAY(C11,2)>3,,7)-WEEKDAY(C11,2)+3+1,-1,Feuil2!$C$2:$C$61) -> 44447 | E11: =WORKDAY(C11-IF(WEEKDAY(C11,2)>3,,7)-WEEKDAY(C11,2)+3+7+IF(WEEKDAY(C11,2)=3,7,)+1,-1,Feuil2!$C$2:$C$61) -> 44461
C12: 44484 | D12: =WORKDAY(C12-IF(WEEKDAY(C12,2)>3,,7)-WEEKDAY(C12,2)+3+1,-1,Feuil2!$C$2:$C$61) -> 44482 | E12: =WORKDAY(C12-IF(WEEKDAY(C12,2)>3,,7)-WEEKDAY(C12,2)+3+7+IF(WEEKDAY(C12,2)=3,7,)+1,-1,Feuil2!$C$2:$C$61) -> 44489
C13: 44515 | D13: =WORKDAY(C13-IF(WEEKDAY(C13,2)>3,,7)-WEEKDAY(C13,2)+3+1,-1,Feuil2!$C$2:$C$61) -> 44510 | E13: =WORKDAY(C13-IF(WEEKDAY(C13,2)>3,,7)-WEEKDAY(C13,2)+3+7+IF(WEEKDAY(C13,2)=3,7,)+1,-1,Feuil2!$C$2:$C$61) -> 44517
C14: 44545 | D14: =WORKDAY(C14-IF(WEEKDAY(C14,2)>3,,7)-WEEKDAY(C14,2)+3+1,-1,Feuil2!$C$2:$C$61) -> 44538 | E14: =WORKDAY(C14-IF(WEEKDAY(C14,2)>3,,7)-WEEKDAY(C14,2)+3+7+IF(WEEKDAY(C14,2)=3,7,)+1,-1,Feuil2!$C$2:$C$61) -> 44552
... C62: 46006 | D62: =WORKDAY(C62-IF(WEEKDAY(C62,2)>3,,7)-WEEKDAY(C62,2)+3+1,-1,Feuil2!$C$2:$C$61) -> 46001 | E62: =WORKDAY(C62-IF(WEEKDAY(C62,2)>3,,7)-WEEKDAY(C62,2)+3+7+IF(WEEKDAY(C62,2)=3,7,)+1,-1,Feuil2!$C$2:$C$61) -> 46008

Sheet Feuil2
B1: JF | C1: DATE_JF
A2: 2021 | B2: Premier de l'AN | C2: =DATE(A2,1,1) -> 44197
B3: Pâques | C3: =DATE(A2,IF((25-MOD((11*MOD(A2-1900,19)+4-INT((7*MOD(A2-1900,19)+1)/19)),29)-MOD(A2-1900+INT((A2-1900)/4)+31-MOD((11*MOD(A2-1900,19)+4-INT((7*MOD(A2-1900,19)+1)/19)),29),7))>0,4,3),IF((25-MOD((11*MOD(A2-1900,19)+4-INT((7*MOD(A2-1900,19)+1)/19)),29)-MOD(A2-1900+INT((A2-1900)/4)+31-MOD((11*MOD(A2-1900,19)+4-INT((7*MOD(A2-1900,19)+1)/19)),29),7))>0,(25-MOD((11*MOD(A2-1900,19)+4-INT((7*MOD(A2-1900,19)+1)/19)),29)-MOD(A2-1900+INT((A2-1900)/4)+31-MOD((11*MOD(A2-1900,19)+4-INT((7*MOD(A2-1900,19)+1)/19)),29),7)),31+(25-MOD((11*MOD(A2-1900,19)+4-INT((7*MOD(A2-1900,19)+1)/19)),29)-MOD(A2-1900+INT((A2-1900)/4)+31-MOD((11*MOD(A2-1900,19)+4-INT((7*MOD(A2-1900,19)+1)/19)),29),7)))) -> 44290
B4: Lundi de Pâques | C4: =C3+1 -> 44291
B5: Fête du travail | C5: =DATE(A2,5,1) -> 44317
B6: Victoire de 1945 | C6: =DATE(A2,5,8) -> 44324
B7: Ascension | C7: =C3+39 -> 44329
B8: Pentecôte | C8: =C3+50 -> 44340
B9: Fête nationale | C9: =DATE(A2,7,14) -> 44391
B10: Assomption | C10: =DATE(A2,8,15) -> 44423
B11: Toussaint | C11: =DATE(A2,11,1) -> 44501
B12: Armistice | C12: =DATE(A2,11,11) -> 44511
B13: Noël | C13: =DATE(A2,12,25) -> 44555
A14: =A2+1 -> 2022 | B14: Premier de l'AN | C14: =DATE(A14,1,1) -> 44562
B15: Pâques | C15: =DATE(A14,IF((25-MOD((11*MOD(A14-1900,19)+4-INT((7*MOD(A14-1900,19)+1)/19)),29)-MOD(A14-1900+INT((A14-1900)/4)+31-MOD((11*MOD(A14-1900,19)+4-INT((7*MOD(A14-1900,19)+1)/19)),29),7))>0,4,3),IF((25-MOD((11*MOD(A14-1900,19)+4-INT((7*MOD(A14-1900,19)+1)/19)),29)-MOD(A14-1900+INT((A14-1900)/4)+31-MOD((11*MOD(A14-1900,19)+4-INT((7*MOD(A14-1900,19)+1)/19)),29),7))>0,(25-MOD((11*MOD(A14-1900,19)+4-INT((7*MOD(A14-1900,19)+1)/19)),29)-MOD(A14-1900+INT((A14-1900)/4)+31-MOD((11*MOD(A14-1900,19)+4-INT((7*MOD(A14-1900,19)+1)/19)),29),7)),31+(25-MOD((11*MOD(A14-1900,19)+4-INT((7*MOD(A14-1900,19)+1)/19)),29)-MOD(A14-1900+INT((A14-1900)/4)+31-MOD((11*MOD(A14-1900,19)+4-INT((7*MOD(A14-1900,19)+1)/19)),29),7)))) -> 44668
B16: Lundi de Pâques | C16: =C15+1 -> 44669
B17: Fête du travail | C17: =DATE(A14,5,1) -> 44682
B18: Victoire de 1945 | C18: =DATE(A14,5,8) -> 44689
B19: Ascension | C19: =C15+39 -> 44707
B20: Pentecôte | C20: =C15+50 -> 44718
B21: Fête nationale | C21: =DATE(A14,7,14) -> 44756
B22: Assomption | C22: =DATE(A14,8,15) -> 44788
B23: Toussaint | C23: =DATE(A14,11,1) -> 44866
B24: Armistice | C24: =DATE(A14,11,11) -> 44876
B25: Noël | C25: =DATE(A14,12,25) -> 44920
A26: =A14+1 -> 2023 | B26: Premier de l'AN | C26: =DATE(A26,1,1) -> 44927
B27: Pâques | C27: =DATE(A26,IF((25-MOD((11*MOD(A26-1900,19)+4-INT((7*MOD(A26-1900,19)+1)/19)),29)-MOD(A26-1900+INT((A26-1900)/4)+31-MOD((11*MOD(A26-1900,19)+4-INT((7*MOD(A26-1900,19)+1)/19)),29),7))>0,4,3),IF((25-MOD((11*MOD(A26-1900,19)+4-INT((7*MOD(A26-1900,19)+1)/19)),29)-MOD(A26-1900+INT((A26-1900)/4)+31-MOD((11*MOD(A26-1900,19)+4-INT((7*MOD(A26-1900,19)+1)/19)),29),7))>0,(25-MOD((11*MOD(A26-1900,19)+4-INT((7*MOD(A26-1900,19)+1)/19)),29)-MOD(A26-1900+INT((A26-1900)/4)+31-MOD((11*MOD(A26-1900,19)+4-INT((7*MOD(A26-1900,19)+1)/19)),29),7)),31+(25-MOD((11*MOD(A26-1900,19)+4-INT((7*MOD(A26-1900,19)+1)/19)),29)-MOD(A26-1900+INT((A26-1900)/4)+31-MOD((11*MOD(A26-1900,19)+4-INT((7*MOD(A26-1900,19)+1)/19)),29),7)))) -> 45025
B28: Lundi de Pâques | C28: =C27+1 -> 45026
B29: Fête du travail | C29: =DATE(A26,5,1) -> 45047
B30: Victoire de 1945 | C30: =DATE(A26,5,8) -> 45054
B31: Ascension | C31: =C27+39 -> 45064
B32: Pentecôte | C32: =C27+50 -> 45075
B33: Fête nationale | C33: =DATE(A26,7,14) -> 45121
B34: Assomption | C34: =DATE(A26,8,15) -> 45153
B35: Toussaint | C35: =DATE(A26,11,1) -> 45231
B36: Armistice | C36: =DATE(A26,11,11) -> 45241
B37: Noël | C37: =DATE(A26,12,25) -> 45285
A38: =A26+1 -> 2024 | B38: Premier de l'AN | C38: =DATE(A38,1,1) -> 45292
B39: Pâques | C39: =DATE(A38,IF((25-MOD((11*MOD(A38-1900,19)+4-INT((7*MOD(A38-1900,19)+1)/19)),29)-MOD(A38-1900+INT((A38-1900)/4)+31-MOD((11*MOD(A38-1900,19)+4-INT((7*MOD(A38-1900,19)+1)/19)),29),7))>0,4,3),IF((25-MOD((11*MOD(A38-1900,19)+4-INT((7*MOD(A38-1900,19)+1)/19)),29)-MOD(A38-1900+INT((A38-1900)/4)+31-MOD((11*MOD(A38-1900,19)+4-INT((7*MOD(A38-1900,19)+1)/19)),29),7))>0,(25-MOD((11*MOD(A38-1900,19)+4-INT((7*MOD(A38-1900,19)+1)/19)),29)-MOD(A38-1900+INT((A38-1900)/4)+31-MOD((11*MOD(A38-1900,19)+4-INT((7*MOD(A38-1900,19)+1)/19)),29),7)),31+(25-MOD((11*MOD(A38-1900,19)+4-INT((7*MOD(A38-1900,19)+1)/19)),29)-MOD(A38-1900+INT((A38-1900)/4)+31-MOD((11*MOD(A38-1900,19)+4-INT((7*MOD(A38-1900,19)+1)/19)),29),7)))) -> 45382
B40: Lundi de Pâques | C40: =C39+1 -> 45383
B41: Fête du travail | C41: =DATE(A38,5,1) -> 45413
B42: Victoire de 1945 | C42: =DATE(A38,5,8) -> 45420
B43: Ascension | C43: =C39+39 -> 45421
B44: Pentecôte | C44: =C39+50 -> 45432
B45: Fête nationale | C45: =DATE(A38,7,14) -> 45487
B46: Assomption | C46: =DATE(A38,8,15) -> 45519
B47: Toussaint | C47: =DATE(A38,11,1) -> 45597
B48: Armistice | C48: =DATE(A38,11,11) -> 45607
B49: Noël | C49: =DATE(A38,12,25) -> 45651
A50: =A38+1 -> 2025 | B50: Premier de l'AN | C50: =DATE(A50,1,1) -> 45658
B51: Pâques | C51: =DATE(A50,IF((25-MOD((11*MOD(A50-1900,19)+4-INT((7*MOD(A50-1900,19)+1)/19)),29)-MOD(A50-1900+INT((A50-1900)/4)+31-MOD((11*MOD(A50-1900,19)+4-INT((7*MOD(A50-1900,19)+1)/19)),29),7))>0,4,3),IF((25-MOD((11*MOD(A50-1900,19)+4-INT((7*MOD(A50-1900,19)+1)/19)),29)-MOD(A50-1900+INT((A50-1900)/4)+31-MOD((11*MOD(A50-1900,19)+4-INT((7*MOD(A50-1900,19)+1)/19)),29),7))>0,(25-MOD((11*MOD(A50-1900,19)+4-INT((7*MOD(A50-1900,19)+1)/19)),29)-MOD(A50-1900+INT((A50-1900)/4)+31-MOD((11*MOD(A50-1900,19)+4-INT((7*MOD(A50-1900,19)+1)/19)),29),7)),31+(25-MOD((11*MOD(A50-1900,19)+4-INT((7*MOD(A50-1900,19)+1)/19)),29)-MOD(A50-1900+INT((A50-1900)/4)+31-MOD((11*MOD(A50-1900,19)+4-INT((7*MOD(A50-1900,19)+1)/19)),29),7)))) -> 45767
B52: Lundi de Pâques | C52: =C51+1 -> 45768
B53: Fête du travail | C53: =DATE(A50,5,1) -> 45778
B54: Victoire de 1945 | C54: =DATE(A50,5,8) -> 45785
B55: Ascension | C55: =C51+39 -> 45806
B56: Pentecôte | C56: =C51+50 -> 45817
B57: Fête nationale | C57: =DATE(A50,7,14) -> 45852
B58: Assomption | C58: =DATE(A50,8,15) -> 45884
B59: Toussaint | C59: =DATE(A50,11,1) -> 45962
B60: Armistice | C60: =DATE(A50,11,11) -> 45972
B61: Noël | C61: =DATE(A50,12,25) -> 46016
