Workbook

Sheet données
A1: À | B1: Objet | C1: Envoyé | D1: Taille | E1: Catégories | F1: Créé le | G1: Date | H1: Heure | I1: Indiquer date de fin
A2: A | B2: Mail 1 | D2: 359 Ko | F2: jeu. 14/01/2021 15:22 | G2: =VALUE(MID(Tableau1[[#This Row],[Créé le]],6,10)) -> 44210 | H2: =VALUE(MID(Tableau1[[#This Row],[Créé le]],17,5)) -> 0.64027778 | I2: Aucune
A3: B | B3: Mail 2 | D3: 359 Ko | F3: jeu. 14/01/2021 08:22 | G3: =VALUE(MID(Tableau1[[#This Row],[Créé le]],6,10)) -> 44210 | H3: =VALUE(MID(Tableau1[[#This Row],[Créé le]],17,5)) -> 0.34861111 | I3: Aucune
A4: C | B4: Mail 3 | D4: 224 Ko | F4: mar. 12/01/2021 19:37 | G4: =VALUE(MID(Tableau1[[#This Row],[Créé le]],6,10)) -> 44208 | H4: =VALUE(MID(Tableau1[[#This Row],[Créé le]],17,5)) -> 0.81736111 | I4: Aucune
A5: D | B5: Mail 4 | D5: 20 Ko | F5: mar. 12/01/2021 18:54 | G5: =VALUE(MID(Tableau1[[#This Row],[Créé le]],6,10)) -> 44208 | H5: =VALUE(MID(Tableau1[[#This Row],[Créé le]],17,5)) -> 0.7875 | I5: Aucune
A6: E | B6: Mail 5 | D6: 25 Ko | F6: mar. 12/01/2021 18:48 | G6: =VALUE(MID(Tableau1[[#This Row],[Créé le]],6,10)) -> 44208 | H6: =VALUE(MID(Tableau1[[#This Row],[Créé le]],17,5)) -> 0.78333333 | I6: Aucune

Sheet TCD
A3: Étiquettes de lignes | B3: Min de Heure | C3: Max de Heure
A4: 44208 | B4: 0.78333333 | C4: 0.81736111
A5: 44210 | B5: 0.34861111 | C5: 0.64027778
A6: Total général | B6: 0.34861111 | C6: 0.81736111

Sheet plage
A1: jour | B1: plage
A2: 44197 | B2: =IFERROR(GETPIVOTDATA("Max de Heure",TCD!$A$3,"Date",Tableau2[[#This Row],[jour]])-GETPIVOTDATA("Min de Heure",TCD!$A$3,"Date",Tableau2[[#This Row],[jour]]),"")
A3: 44198 | B3: =IFERROR(GETPIVOTDATA("Max de Heure",TCD!$A$3,"Date",Tableau2[[#This Row],[jour]])-GETPIVOTDATA("Min de Heure",TCD!$A$3,"Date",Tableau2[[#This Row],[jour]]),"")
A4: 44199 | B4: =IFERROR(GETPIVOTDATA("Max de Heure",TCD!$A$3,"Date",Tableau2[[#This Row],[jour]])-GETPIVOTDATA("Min de Heure",TCD!$A$3,"Date",Tableau2[[#This Row],[jour]]),"")
A5: 44200 | B5: =IFERROR(GETPIVOTDATA("Max de Heure",TCD!$A$3,"Date",Tableau2[[#This Row],[jour]])-GETPIVOTDATA("Min de Heure",TCD!$A$3,"Date",Tableau2[[#This Row],[jour]]),"")
A6: 44201 | B6: =IFERROR(GETPIVOTDATA("Max de Heure",TCD!$A$3,"Date",Tableau2[[#This Row],[jour]])-GETPIVOTDATA("Min de Heure",TCD!$A$3,"Date",Tableau2[[#This Row],[jour]]),"")
A7: 44202 | B7: =IFERROR(GETPIVOTDATA("Max de Heure",TCD!$A$3,"Date",Tableau2[[#This Row],[jour]])-GETPIVOTDATA("Min de Heure",TCD!$A$3,"Date",Tableau2[[#This Row],[jour]]),"")
A8: 44203 | B8: =IFERROR(GETPIVOTDATA("Max de Heure",TCD!$A$3,"Date",Tableau2[[#This Row],[jour]])-GETPIVOTDATA("Min de Heure",TCD!$A$3,"Date",Tableau2[[#This Row],[jour]]),"")
A9: 44204 | B9: =IFERROR(GETPIVOTDATA("Max de Heure",TCD!$A$3,"Date",Tableau2[[#This Row],[jour]])-GETPIVOTDATA("Min de Heure",TCD!$A$3,"Date",Tableau2[[#This Row],[jour]]),"")
A10: 44205 | B10: =IFERROR(GETPIVOTDATA("Max de Heure",TCD!$A$3,"Date",Tableau2[[#This Row],[jour]])-GETPIVOTDATA("Min de Heure",TCD!$A$3,"Date",Tableau2[[#This Row],[jour]]),"")
A11: 44206 | B11: =IFERROR(GETPIVOTDATA("Max de Heure",TCD!$A$3,"Date",Tableau2[[#This Row],[jour]])-GETPIVOTDATA("Min de Heure",TCD!$A$3,"Date",Tableau2[[#This Row],[jour]]),"")
A12: 44207 | B12: =IFERROR(GETPIVOTDATA("Max de Heure",TCD!$A$3,"Date",Tableau2[[#This Row],[jour]])-GETPIVOTDATA("Min de Heure",TCD!$A$3,"Date",Tableau2[[#This Row],[jour]]),"")
A13: 44208 | B13: =IFERROR(GETPIVOTDATA("Max de Heure",TCD!$A$3,"Date",Tableau2[[#This Row],[jour]])-GETPIVOTDATA("Min de Heure",TCD!$A$3,"Date",Tableau2[[#This Row],[jour]]),"") -> 0.034027778
... A19: 44214 | B19: =IFERROR(GETPIVOTDATA("Max de Heure",TCD!$A$3,"Date",Tableau2[[#This Row],[jour]])-GETPIVOTDATA("Min de Heure",TCD!$A$3,"Date",Tableau2[[#This Row],[jour]]),"")
