Workbook

Sheet Feuil1
A2: X
B3: x0 | C3: x1 | D3: x2 | E3: x3 | F3: x4 | G3: x1² | H3: x2² | I3: x3² | J3: x4² | K3: x1x2 | L3: x1x3 | M3: x1x4 | N3: x2x3 | O3: x2x4 | P3: x3x4 | Q3: y | R3: U2 | S3: U3
B4: 1 | C4: -1 | D4: -1 | E4: -1 | F4: -1 | G4: =C4*C4 -> 1 | H4: =D4*D4 -> 1 | I4: =E4*E4 -> 1 | J4: =F4*F4 -> 1 | K4: =C4*D4 -> 1 | L4: =C4*E4 -> 1 | M4: =C4*F4 -> 1 | N4: =D4*E4 -> 1 | O4: =D4*F4 -> 1 | P4: =E4*F4 -> 1 | Q4: 2.26 | R4: =5.75+D4*0.75 -> 5 | S4: =17.5+E4*2.5 -> 15
B5: 1 | C5: 1 | D5: -1 | E5: -1 | F5: -1 | G5: =C5*C5 -> 1 | H5: =D5*D5 -> 1 | I5: =E5*E5 -> 1 | J5: =F5*F5 -> 1 | K5: =C5*D5 -> -1 | L5: =C5*E5 -> -1 | M5: =C5*F5 -> -1 | N5: =D5*E5 -> 1 | O5: =D5*F5 -> 1 | P5: =E5*F5 -> 1 | Q5: 1.65 | R5: =5.75+D5*0.75 -> 5 | S5: =17.5+E5*2.5 -> 15
B6: 1 | C6: -1 | D6: 1 | E6: -1 | F6: -1 | G6: =C6*C6 -> 1 | H6: =D6*D6 -> 1 | I6: =E6*E6 -> 1 | J6: =F6*F6 -> 1 | K6: =C6*D6 -> -1 | L6: =C6*E6 -> 1 | M6: =C6*F6 -> 1 | N6: =D6*E6 -> -1 | O6: =D6*F6 -> -1 | P6: =E6*F6 -> 1 | Q6: 2.42 | R6: =5.75+D6*0.75 -> 6.5 | S6: =17.5+E6*2.5 -> 15
B7: 1 | C7: 1 | D7: 1 | E7: -1 | F7: -1 | G7: =C7*C7 -> 1 | H7: =D7*D7 -> 1 | I7: =E7*E7 -> 1 | J7: =F7*F7 -> 1 | K7: =C7*D7 -> 1 | L7: =C7*E7 -> -1 | M7: =C7*F7 -> -1 | N7: =D7*E7 -> -1 | O7: =D7*F7 -> -1 | P7: =E7*F7 -> 1 | Q7: 1.52 | R7: =5.75+D7*0.75 -> 6.5 | S7: =17.5+E7*2.5 -> 15
B8: 1 | C8: -1 | D8: -1 | E8: 1 | F8: -1 | G8: =C8*C8 -> 1 | H8: =D8*D8 -> 1 | I8: =E8*E8 -> 1 | J8: =F8*F8 -> 1 | K8: =C8*D8 -> 1 | L8: =C8*E8 -> -1 | M8: =C8*F8 -> 1 | N8: =D8*E8 -> -1 | O8: =D8*F8 -> 1 | P8: =E8*F8 -> -1 | Q8: 2.88 | R8: =5.75+D8*0.75 -> 5 | S8: =17.5+E8*2.5 -> 20
B9: 1 | C9: 1 | D9: -1 | E9: 1 | F9: -1 | G9: =C9*C9 -> 1 | H9: =D9*D9 -> 1 | I9: =E9*E9 -> 1 | J9: =F9*F9 -> 1 | K9: =C9*D9 -> -1 | L9: =C9*E9 -> 1 | M9: =C9*F9 -> -1 | N9: =D9*E9 -> -1 | O9: =D9*F9 -> 1 | P9: =E9*F9 -> -1 | Q9: 3.8 | R9: =5.75+D9*0.75 -> 5 | S9: =17.5+E9*2.5 -> 20
B10: 1 | C10: -1 | D10: 1 | E10: 1 | F10: -1 | G10: =C10*C10 -> 1 | H10: =D10*D10 -> 1 | I10: =E10*E10 -> 1 | J10: =F10*F10 -> 1 | K10: =C10*D10 -> -1 | L10: =C10*E10 -> -1 | M10: =C10*F10 -> 1 | N10: =D10*E10 -> 1 | O10: =D10*F10 -> -1 | P10: =E10*F10 -> -1 | Q10: 1.7 | R10: =5.75+D10*0.75 -> 6.5 | S10: =17.5+E10*2.5 -> 20
B11: 1 | C11: 1 | D11: 1 | E11: 1 | F11: -1 | G11: =C11*C11 -> 1 | H11: =D11*D11 -> 1 | I11: =E11*E11 -> 1 | J11: =F11*F11 -> 1 | K11: =C11*D11 -> 1 | L11: =C11*E11 -> 1 | M11: =C11*F11 -> -1 | N11: =D11*E11 -> 1 | O11: =D11*F11 -> -1 | P11: =E11*F11 -> -1 | Q11: 2.8 | R11: =5.75+D11*0.75 -> 6.5 | S11: =17.5+E11*2.5 -> 20
B12: 1 | C12: -1 | D12: -1 | E12: -1 | F12: 1 | G12: =C12*C12 -> 1 | H12: =D12*D12 -> 1 | I12: =E12*E12 -> 1 | J12: =F12*F12 -> 1 | K12: =C12*D12 -> 1 | L12: =C12*E12 -> 1 | M12: =C12*F12 -> -1 | N12: =D12*E12 -> 1 | O12: =D12*F12 -> -1 | P12: =E12*F12 -> -1 | Q12: 2.26 | R12: =5.75+D12*0.75 -> 5 | S12: =17.5+E12*2.5 -> 15
B13: 1 | C13: 1 | D13: -1 | E13: -1 | F13: 1 | G13: =C13*C13 -> 1 | H13: =D13*D13 -> 1 | I13: =E13*E13 -> 1 | J13: =F13*F13 -> 1 | K13: =C13*D13 -> -1 | L13: =C13*E13 -> -1 | M13: =C13*F13 -> 1 | N13: =D13*E13 -> 1 | O13: =D13*F13 -> -1 | P13: =E13*F13 -> -1 | Q13: 1.72 | R13: =5.75+D13*0.75 -> 5 | S13: =17.5+E13*2.5 -> 15
B14: 1 | C14: -1 | D14: 1 | E14: -1 | F14: 1 | G14: =C14*C14 -> 1 | H14: =D14*D14 -> 1 | I14: =E14*E14 -> 1 | J14: =F14*F14 -> 1 | K14: =C14*D14 -> -1 | L14: =C14*E14 -> 1 | M14: =C14*F14 -> -1 | N14: =D14*E14 -> -1 | O14: =D14*F14 -> 1 | P14: =E14*F14 -> -1 | Q14: 1.66 | R14: =5.75+D14*0.75 -> 6.5 | S14: =17.5+E14*2.5 -> 15
B15: 1 | C15: 1 | D15: 1 | E15: -1 | F15: 1 | G15: =C15*C15 -> 1 | H15: =D15*D15 -> 1 | I15: =E15*E15 -> 1 | J15: =F15*F15 -> 1 | K15: =C15*D15 -> 1 | L15: =C15*E15 -> -1 | M15: =C15*F15 -> 1 | N15: =D15*E15 -> -1 | O15: =D15*F15 -> 1 | P15: =E15*F15 -> -1 | Q15: 1.34 | R15: =5.75+D15*0.75 -> 6.5 | S15: =17.5+E15*2.5 -> 15
... B30: 1 | C30: 0 | D30: 0 | E30: 0 | F30: 0 | G30: =C30*C30 -> 0 | H30: =D30*D30 -> 0 | I30: =E30*E30 -> 0 | J30: =F30*F30 -> 0 | K30: =C30*D30 -> 0 | L30: =C30*E30 -> 0 | M30: =C30*F30 -> 0 | N30: =D30*E30 -> 0 | O30: =D30*F30 -> 0 | P30: =E30*F30 -> 0 | Q30: 6.29 | R30: =5.75+D30*0.75 -> 5.75 | S30: =17.5+E30*2.5 -> 17.5
A32: Xt | B32: {=TRANSPOSE(B4:P30)} -> 1 | C32: 1 | D32: 1 | E32: 1 | F32: 1 | G32: 1 | H32: 1 | I32: 1 | J32: 1 | K32: 1 | L32: 1 | M32: 1 | N32: 1 | O32: 1 | P32: 1 | Q32: 1 | R32: 1 | S32: 1 | T32: 1 | U32: 1 | V32: 1 | W32: 1 | X32: 1 | Y32: 1 | Z32: 1 | AA32: 1 | AB32: 1
B33: -1 | C33: 1 | D33: -1 | E33: 1 | F33: -1 | G33: 1 | H33: -1 | I33: 1 | J33: -1 | K33: 1 | L33: -1 | M33: 1 | N33: -1 | O33: 1 | P33: -1 | Q33: 1 | R33: -2 | S33: 2 | T33: 0 | U33: 0 | V33: 0 | W33: 0 | X33: 0 | Y33: 0 | Z33: 0 | AA33: 0 | AB33: 0
B34: -1 | C34: -1 | D34: 1 | E34: 1 | F34: -1 | G34: -1 | H34: 1 | I34: 1 | J34: -1 | K34: -1 | L34: 1 | M34: 1 | N34: -1 | O34: -1 | P34: 1 | Q34: 1 | R34: 0 | S34: 0 | T34: -2 | U34: 2 | V34: 0 | W34: 0 | X34: 0 | Y34: 0 | Z34: 0 | AA34: 0 | AB34: 0
B35: -1 | C35: -1 | D35: -1 | E35: -1 | F35: 1 | G35: 1 | H35: 1 | I35: 1 | J35: -1 | K35: -1 | L35: -1 | M35: -1 | N35: 1 | O35: 1 | P35: 1 | Q35: 1 | R35: 0 | S35: 0 | T35: 0 | U35: 0 | V35: -2 | W35: 2 | X35: 0 | Y35: 0 | Z35: 0 | AA35: 0 | AB35: 0
B36: -1 | C36: -1 | D36: -1 | E36: -1 | F36: -1 | G36: -1 | H36: -1 | I36: -1 | J36: 1 | K36: 1 | L36: 1 | M36: 1 | N36: 1 | O36: 1 | P36: 1 | Q36: 1 | R36: 0 | S36: 0 | T36: 0 | U36: 0 | V36: 0 | W36: 0 | X36: -2 | Y36: 2 | Z36: 0 | AA36: 0 | AB36: 0
B37: 1 | C37: 1 | D37: 1 | E37: 1 | F37: 1 | G37: 1 | H37: 1 | I37: 1 | J37: 1 | K37: 1 | L37: 1 | M37: 1 | N37: 1 | O37: 1 | P37: 1 | Q37: 1 | R37: 4 | S37: 4 | T37: 0 | U37: 0 | V37: 0 | W37: 0 | X37: 0 | Y37: 0 | Z37: 0 | AA37: 0 | AB37: 0
B38: 1 | C38: 1 | D38: 1 | E38: 1 | F38: 1 | G38: 1 | H38: 1 | I38: 1 | J38: 1 | K38: 1 | L38: 1 | M38: 1 | N38: 1 | O38: 1 | P38: 1 | Q38: 1 | R38: 0 | S38: 0 | T38: 4 | U38: 4 | V38: 0 | W38: 0 | X38: 0 | Y38: 0 | Z38: 0 | AA38: 0 | AB38: 0
B39: 1 | C39: 1 | D39: 1 | E39: 1 | F39: 1 | G39: 1 | H39: 1 | I39: 1 | J39: 1 | K39: 1 | L39: 1 | M39: 1 | N39: 1 | O39: 1 | P39: 1 | Q39: 1 | R39: 0 | S39: 0 | T39: 0 | U39: 0 | V39: 4 | W39: 4 | X39: 0 | Y39: 0 | Z39: 0 | AA39: 0 | AB39: 0
B40: 1 | C40: 1 | D40: 1 | E40: 1 | F40: 1 | G40: 1 | H40: 1 | I40: 1 | J40: 1 | K40: 1 | L40: 1 | M40: 1 | N40: 1 | O40: 1 | P40: 1 | Q40: 1 | R40: 0 | S40: 0 | T40: 0 | U40: 0 | V40: 0 | W40: 0 | X40: 4 | Y40: 4 | Z40: 0 | AA40: 0 | AB40: 0
B41: 1 | C41: -1 | D41: -1 | E41: 1 | F41: 1 | G41: -1 | H41: -1 | I41: 1 | J41: 1 | K41: -1 | L41: -1 | M41: 1 | N41: 1 | O41: -1 | P41: -1 | Q41: 1 | R41: 0 | S41: 0 | T41: 0 | U41: 0 | V41: 0 | W41: 0 | X41: 0 | Y41: 0 | Z41: 0 | AA41: 0 | AB41: 0
B42: 1 | C42: -1 | D42: 1 | E42: -1 | F42: -1 | G42: 1 | H42: -1 | I42: 1 | J42: 1 | K42: -1 | L42: 1 | M42: -1 | N42: -1 | O42: 1 | P42: -1 | Q42: 1 | R42: 0 | S42: 0 | T42: 0 | U42: 0 | V42: 0 | W42: 0 | X42: 0 | Y42: 0 | Z42: 0 | AA42: 0 | AB42: 0
B43: 1 | C43: -1 | D43: 1 | E43: -1 | F43: 1 | G43: -1 | H43: 1 | I43: -1 | J43: -1 | K43: 1 | L43: -1 | M43: 1 | N43: -1 | O43: 1 | P43: -1 | Q43: 1 | R43: 0 | S43: 0 | T43: 0 | U43: 0 | V43: 0 | W43: 0 | X43: 0 | Y43: 0 | Z43: 0 | AA43: 0 | AB43: 0
B44: 1 | C44: 1 | D44: -1 | E44: -1 | F44: -1 | G44: -1 | H44: 1 | I44: 1 | J44: 1 | K44: 1 | L44: -1 | M44: -1 | N44: -1 | O44: -1 | P44: 1 | Q44: 1 | R44: 0 | S44: 0 | T44: 0 | U44: 0 | V44: 0 | W44: 0 | X44: 0 | Y44: 0 | Z44: 0 | AA44: 0 | AB44: 0
... B46: 1 | C46: 1 | D46: 1 | E46: 1 | F46: -1 | G46: -1 | H46: -1 | I46: -1 | J46: -1 | K46: -1 | L46: -1 | M46: -1 | N46: 1 | O46: 1 | P46: 1 | Q46: 1 | R46: 0 | S46: 0 | T46: 0 | U46: 0 | V46: 0 | W46: 0 | X46: 0 | Y46: 0 | Z46: 0 | AA46: 0 | AB46: 0
A48: (Xt.X) | B48: {=MMULT(B32:AB46,B4:P30)} -> 27 | C48: 0 | D48: 0 | E48: 0 | F48: 0 | G48: 24 | H48: 24 | I48: 24 | J48: 24 | K48: 0 | L48: 0 | M48: 0 | N48: 0 | O48: 0 | P48: 0
B49: 0 | C49: 24 | D49: 0 | E49: 0 | F49: 0 | G49: 0 | H49: 0 | I49: 0 | J49: 0 | K49: 0 | L49: 0 | M49: 0 | N49: 0 | O49: 0 | P49: 0
B50: 0 | C50: 0 | D50: 24 | E50: 0 | F50: 0 | G50: 0 | H50: 0 | I50: 0 | J50: 0 | K50: 0 | L50: 0 | M50: 0 | N50: 0 | O50: 0 | P50: 0
B51: 0 | C51: 0 | D51: 0 | E51: 24 | F51: 0 | G51: 0 | H51: 0 | I51: 0 | J51: 0 | K51: 0 | L51: 0 | M51: 0 | N51: 0 | O51: 0 | P51: 0
B52: 0 | C52: 0 | D52: 0 | E52: 0 | F52: 24 | G52: 0 | H52: 0 | I52: 0 | J52: 0 | K52: 0 | L52: 0 | M52: 0 | N52: 0 | O52: 0 | P52: 0
B53: 24 | C53: 0 | D53: 0 | E53: 0 | F53: 0 | G53: 48 | H53: 16 | I53: 16 | J53: 16 | K53: 0 | L53: 0 | M53: 0 | N53: 0 | O53: 0 | P53: 0
B54: 24 | C54: 0 | D54: 0 | E54: 0 | F54: 0 | G54: 16 | H54: 48 | I54: 16 | J54: 16 | K54: 0 | L54: 0 | M54: 0 | N54: 0 | O54: 0 | P54: 0
B55: 24 | C55: 0 | D55: 0 | E55: 0 | F55: 0 | G55: 16 | H55: 16 | I55: 48 | J55: 16 | K55: 0 | L55: 0 | M55: 0 | N55: 0 | O55: 0 | P55: 0
B56: 24 | C56: 0 | D56: 0 | E56: 0 | F56: 0 | G56: 16 | H56: 16 | I56: 16 | J56: 48 | K56: 0 | L56: 0 | M56: 0 | N56: 0 | O56: 0 | P56: 0
B57: 0 | C57: 0 | D57: 0 | E57: 0 | F57: 0 | G57: 0 | H57: 0 | I57: 0 | J57: 0 | K57: 16 | L57: 0 | M57: 0 | N57: 0 | O57: 0 | P57: 0
B58: 0 | C58: 0 | D58: 0 | E58: 0 | F58: 0 | G58: 0 | H58: 0 | I58: 0 | J58: 0 | K58: 0 | L58: 16 | M58: 0 | N58: 0 | O58: 0 | P58: 0
B59: 0 | C59: 0 | D59: 0 | E59: 0 | F59: 0 | G59: 0 | H59: 0 | I59: 0 | J59: 0 | K59: 0 | L59: 0 | M59: 16 | N59: 0 | O59: 0 | P59: 0
B60: 0 | C60: 0 | D60: 0 | E60: 0 | F60: 0 | G60: 0 | H60: 0 | I60: 0 | J60: 0 | K60: 0 | L60: 0 | M60: 0 | N60: 16 | O60: 0 | P60: 0
... B62: 0 | C62: 0 | D62: 0 | E62: 0 | F62: 0 | G62: 0 | H62: 0 | I62: 0 | J62: 0 | K62: 0 | L62: 0 | M62: 0 | N62: 0 | O62: 0 | P62: 16
A64: (Xt.X)^-1 | B64: {=MINVERSE(B48:P62)} -> 0.33333333 | C64: 0 | D64: 0 | E64: 0 | F64: 0 | G64: -0.083333333 | H64: -0.083333333 | I64: -0.083333333 | J64: -0.083333333 | K64: 0 | L64: 0 | M64: 0 | N64: 0 | O64: 0 | P64: 0
B65: 0 | C65: 0.041666667 | D65: 0 | E65: 0 | F65: 0 | G65: 0 | H65: 0 | I65: 0 | J65: 0 | K65: 0 | L65: 0 | M65: 0 | N65: 0 | O65: 0 | P65: 0
B66: 0 | C66: 0 | D66: 0.041666667 | E66: 0 | F66: 0 | G66: 0 | H66: 0 | I66: 0 | J66: 0 | K66: 0 | L66: 0 | M66: 0 | N66: 0 | O66: 0 | P66: 0
B67: 0 | C67: 0 | D67: 0 | E67: 0.041666667 | F67: 0 | G67: 0 | H67: 0 | I67: 0 | J67: 0 | K67: 0 | L67: 0 | M67: 0 | N67: 0 | O67: 0 | P67: 0
B68: 0 | C68: 0 | D68: 0 | E68: 0 | F68: 0.041666667 | G68: 0 | H68: 0 | I68: 0 | J68: 0 | K68: 0 | L68: 0 | M68: 0 | N68: 0 | O68: 0 | P68: 0
B69: -0.083333333 | C69: 0 | D69: 0 | E69: 0 | F69: 0 | G69: 0.046875 | H69: 0.015625 | I69: 0.015625 | J69: 0.015625 | K69: 0 | L69: 0 | M69: 0 | N69: 0 | O69: 0 | P69: 0
B70: -0.083333333 | C70: 0 | D70: 0 | E70: 0 | F70: 0 | G70: 0.015625 | H70: 0.046875 | I70: 0.015625 | J70: 0.015625 | K70: 0 | L70: 0 | M70: 0 | N70: 0 | O70: 0 | P70: 0
B71: -0.083333333 | C71: 0 | D71: 0 | E71: 0 | F71: 0 | G71: 0.015625 | H71: 0.015625 | I71: 0.046875 | J71: 0.015625 | K71: 0 | L71: 0 | M71: 0 | N71: 0 | O71: 0 | P71: 0
B72: -0.083333333 | C72: 0 | D72: 0 | E72: 0 | F72: 0 | G72: 0.015625 | H72: 0.015625 | I72: 0.015625 | J72: 0.046875 | K72: 0 | L72: 0 | M72: 0 | N72: 0 | O72: 0 | P72: 0
B73: 0 | C73: 0 | D73: 0 | E73: 0 | F73: 0 | G73: 0 | H73: 0 | I73: 0 | J73: 0 | K73: 0.0625 | L73: 0 | M73: 0 | N73: 0 | O73: 0 | P73: 0
B74: 0 | C74: 0 | D74: 0 | E74: 0 | F74: 0 | G74: 0 | H74: 0 | I74: 0 | J74: 0 | K74: 0 | L74: 0.0625 | M74: 0 | N74: 0 | O74: 0 | P74: 0
B75: 0 | C75: 0 | D75: 0 | E75: 0 | F75: 0 | G75: 0 | H75: 0 | I75: 0 | J75: 0 | K75: 0 | L75: 0 | M75: 0.0625 | N75: 0 | O75: 0 | P75: 0
B76: 0 | C76: 0 | D76: 0 | E76: 0 | F76: 0 | G76: 0 | H76: 0 | I76: 0 | J76: 0 | K76: 0 | L76: 0 | M76: 0 | N76: 0.0625 | O76: 0 | P76: 0
... B78: 0 | C78: 0 | D78: 0 | E78: 0 | F78: 0 | G78: 0 | H78: 0 | I78: 0 | J78: 0 | K78: 0 | L78: 0 | M78: 0 | N78: 0 | O78: 0 | P78: 0.0625
A80: (Xt.X)^-1*Xt | B80: {=MMULT(B64:P78,B32:AB46)} -> -1.3877788e-17 | C80: -1.3877788e-17 | D80: -1.3877788e-17 | E80: -1.3877788e-17 | F80: -1.3877788e-17 | G80: -1.3877788e-17 | H80: -1.3877788e-17 | I80: -1.3877788e-17 | J80: -1.3877788e-17 | K80: -1.3877788e-17 | L80: -1.3877788e-17 | M80: -1.3877788e-17 | N80: -1.3877788e-17 | O80: -1.3877788e-17 | P80: -1.3877788e-17 | Q80: -1.3877788e-17 | R80: 0 | S80: 0 | T80: 0 | U80: 0 | V80: 0 | W80: 0 | X80: 5.5511151e-17 | Y80: 5.5511151e-17 | Z80: 0.33333333 | AA80: 0.33333333 | AB80: 0.33333333
B81: -0.041666667 | C81: 0.041666667 | D81: -0.041666667 | E81: 0.041666667 | F81: -0.041666667 | G81: 0.041666667 | H81: -0.041666667 | I81: 0.041666667 | J81: -0.041666667 | K81: 0.041666667 | L81: -0.041666667 | M81: 0.041666667 | N81: -0.041666667 | O81: 0.041666667 | P81: -0.041666667 | Q81: 0.041666667 | R81: -0.083333333 | S81: 0.083333333 | T81: 0 | U81: 0 | V81: 0 | W81: 0 | X81: 0 | Y81: 0 | Z81: 0 | AA81: 0 | AB81: 0
B82: -0.041666667 | C82: -0.041666667 | D82: 0.041666667 | E82: 0.041666667 | F82: -0.041666667 | G82: -0.041666667 | H82: 0.041666667 | I82: 0.041666667 | J82: -0.041666667 | K82: -0.041666667 | L82: 0.041666667 | M82: 0.041666667 | N82: -0.041666667 | O82: -0.041666667 | P82: 0.041666667 | Q82: 0.041666667 | R82: 0 | S82: 0 | T82: -0.083333333 | U82: 0.083333333 | V82: 0 | W82: 0 | X82: 0 | Y82: 0 | Z82: 0 | AA82: 0 | AB82: 0
B83: -0.041666667 | C83: -0.041666667 | D83: -0.041666667 | E83: -0.041666667 | F83: 0.041666667 | G83: 0.041666667 | H83: 0.041666667 | I83: 0.041666667 | J83: -0.041666667 | K83: -0.041666667 | L83: -0.041666667 | M83: -0.041666667 | N83: 0.041666667 | O83: 0.041666667 | P83: 0.041666667 | Q83: 0.041666667 | R83: 0 | S83: 0 | T83: 0 | U83: 0 | V83: -0.083333333 | W83: 0.083333333 | X83: 0 | Y83: 0 | Z83: 0 | AA83: 0 | AB83: 0
B84: -0.041666667 | C84: -0.041666667 | D84: -0.041666667 | E84: -0.041666667 | F84: -0.041666667 | G84: -0.041666667 | H84: -0.041666667 | I84: -0.041666667 | J84: 0.041666667 | K84: 0.041666667 | L84: 0.041666667 | M84: 0.041666667 | N84: 0.041666667 | O84: 0.041666667 | P84: 0.041666667 | Q84: 0.041666667 | R84: 0 | S84: 0 | T84: 0 | U84: 0 | V84: 0 | W84: 0 | X84: -0.083333333 | Y84: 0.083333333 | Z84: 0 | AA84: 0 | AB84: 0
B85: 0.010416667 | C85: 0.010416667 | D85: 0.010416667 | E85: 0.010416667 | F85: 0.010416667 | G85: 0.010416667 | H85: 0.010416667 | I85: 0.010416667 | J85: 0.010416667 | K85: 0.010416667 | L85: 0.010416667 | M85: 0.010416667 | N85: 0.010416667 | O85: 0.010416667 | P85: 0.010416667 | Q85: 0.010416667 | R85: 0.10416667 | S85: 0.10416667 | T85: -0.020833333 | U85: -0.020833333 | V85: -0.020833333 | W85: -0.020833333 | X85: -0.020833333 | Y85: -0.020833333 | Z85: -0.083333333 | AA85: -0.083333333 | AB85: -0.083333333
B86: 0.010416667 | C86: 0.010416667 | D86: 0.010416667 | E86: 0.010416667 | F86: 0.010416667 | G86: 0.010416667 | H86: 0.010416667 | I86: 0.010416667 | J86: 0.010416667 | K86: 0.010416667 | L86: 0.010416667 | M86: 0.010416667 | N86: 0.010416667 | O86: 0.010416667 | P86: 0.010416667 | Q86: 0.010416667 | R86: -0.020833333 | S86: -0.020833333 | T86: 0.10416667 | U86: 0.10416667 | V86: -0.020833333 | W86: -0.020833333 | X86: -0.020833333 | Y86: -0.020833333 | Z86: -0.083333333 | AA86: -0.083333333 | AB86: -0.083333333
B87: 0.010416667 | C87: 0.010416667 | D87: 0.010416667 | E87: 0.010416667 | F87: 0.010416667 | G87: 0.010416667 | H87: 0.010416667 | I87: 0.010416667 | J87: 0.010416667 | K87: 0.010416667 | L87: 0.010416667 | M87: 0.010416667 | N87: 0.010416667 | O87: 0.010416667 | P87: 0.010416667 | Q87: 0.010416667 | R87: -0.020833333 | S87: -0.020833333 | T87: -0.020833333 | U87: -0.020833333 | V87: 0.10416667 | W87: 0.10416667 | X87: -0.020833333 | Y87: -0.020833333 | Z87: -0.083333333 | AA87: -0.083333333 | AB87: -0.083333333
B88: 0.010416667 | C88: 0.010416667 | D88: 0.010416667 | E88: 0.010416667 | F88: 0.010416667 | G88: 0.010416667 | H88: 0.010416667 | I88: 0.010416667 | J88: 0.010416667 | K88: 0.010416667 | L88: 0.010416667 | M88: 0.010416667 | N88: 0.010416667 | O88: 0.010416667 | P88: 0.010416667 | Q88: 0.010416667 | R88: -0.020833333 | S88: -0.020833333 | T88: -0.020833333 | U88: -0.020833333 | V88: -0.020833333 | W88: -0.020833333 | X88: 0.10416667 | Y88: 0.10416667 | Z88: -0.083333333 | AA88: -0.083333333 | AB88: -0.083333333
B89: 0.0625 | C89: -0.0625 | D89: -0.0625 | E89: 0.0625 | F89: 0.0625 | G89: -0.0625 | H89: -0.0625 | I89: 0.0625 | J89: 0.0625 | K89: -0.0625 | L89: -0.0625 | M89: 0.0625 | N89: 0.0625 | O89: -0.0625 | P89: -0.0625 | Q89: 0.0625 | R89: 0 | S89: 0 | T89: 0 | U89: 0 | V89: 0 | W89: 0 | X89: 0 | Y89: 0 | Z89: 0 | AA89: 0 | AB89: 0
B90: 0.0625 | C90: -0.0625 | D90: 0.0625 | E90: -0.0625 | F90: -0.0625 | G90: 0.0625 | H90: -0.0625 | I90: 0.0625 | J90: 0.0625 | K90: -0.0625 | L90: 0.0625 | M90: -0.0625 | N90: -0.0625 | O90: 0.0625 | P90: -0.0625 | Q90: 0.0625 | R90: 0 | S90: 0 | T90: 0 | U90: 0 | V90: 0 | W90: 0 | X90: 0 | Y90: 0 | Z90: 0 | AA90: 0 | AB90: 0
B91: 0.0625 | C91: -0.0625 | D91: 0.0625 | E91: -0.0625 | F91: 0.0625 | G91: -0.0625 | H91: 0.0625 | I91: -0.0625 | J91: -0.0625 | K91: 0.0625 | L91: -0.0625 | M91: 0.0625 | N91: -0.0625 | O91: 0.0625 | P91: -0.0625 | Q91: 0.0625 | R91: 0 | S91: 0 | T91: 0 | U91: 0 | V91: 0 | W91: 0 | X91: 0 | Y91: 0 | Z91: 0 | AA91: 0 | AB91: 0
B92: 0.0625 | C92: 0.0625 | D92: -0.0625 | E92: -0.0625 | F92: -0.0625 | G92: -0.0625 | H92: 0.0625 | I92: 0.0625 | J92: 0.0625 | K92: 0.0625 | L92: -0.0625 | M92: -0.0625 | N92: -0.0625 | O92: -0.0625 | P92: 0.0625 | Q92: 0.0625 | R92: 0 | S92: 0 | T92: 0 | U92: 0 | V92: 0 | W92: 0 | X92: 0 | Y92: 0 | Z92: 0 | AA92: 0 | AB92: 0
... B94: 0.0625 | C94: 0.0625 | D94: 0.0625 | E94: 0.0625 | F94: -0.0625 | G94: -0.0625 | H94: -0.0625 | I94: -0.0625 | J94: -0.0625 | K94: -0.0625 | L94: -0.0625 | M94: -0.0625 | N94: 0.0625 | O94: 0.0625 | P94: 0.0625 | Q94: 0.0625 | R94: 0 | S94: 0 | T94: 0 | U94: 0 | V94: 0 | W94: 0 | X94: 0 | Y94: 0 | Z94: 0 | AA94: 0 | AB94: 0
A96: b0 | B96: {=MMULT(B80:AB94,Q4:Q30)} -> 6.3666667 | F96: =2*B101 -> -2.4264583 | G96: =B105 -> 0.020625 | H96: =B106 -> 0.398125 | I96: =B107 -> 0.038125 | K96: =-B97 -> -0.087916667 | M96: y | N96: U2 | O96: U3
A97: b1 | B97: 0.087916667 | F97: =B105 -> 0.020625 | G97: =2*B102 -> -1.5439583 | H97: =B108 -> -0.288125 | I97: =B109 -> -0.138125 | K97: =-B98 -> 0.42208333 | M97: 2.26 | N97: 5 | O97: 15
A98: b2 | B98: -0.42208333 | F98: =B106 -> 0.398125 | G98: =B108 -> -0.288125 | H98: =B103*2 -> -1.7764583 | I98: =B110 -> 0.261875 | K98: =-B99 -> -0.67875 | M98: 1.65 | N98: 5 | O98: 15
A99: b3 | B99: 0.67875 | F99: =B107 -> 0.038125 | G99: =B109 -> -0.138125 | H99: =B110 -> 0.261875 | I99: =B104*2 -> -1.7164583 | K99: =-B100 -> -0.15708333 | M99: 2.42 | N99: 6.5 | O99: 15
A100: b4 | B100: 0.15708333 | M100: 1.52 | N100: 6.5 | O100: 15
A101: b1² | B101: -1.2132292 | F101: {=MINVERSE(F96:I99)} -> -0.42924951 | G101: 0.015792121 | H101: -0.10266291 | I101: -0.026468032 | M101: 2.88 | N101: 5 | O101: 20
A102: b2² | B102: -0.77197917 | F102: 0.015792121 | G102: -0.677268 | H102: 0.12426641 | I102: 0.073810113 | M102: 3.8 | N102: 5 | O102: 20
A103: b3² | B103: -0.88822917 | F103: -0.10266291 | G103: 0.12426641 | H103: -0.62187721 | I103: -0.1071581 | M103: 1.7 | N103: 6.5 | O103: 20
A104: b4² | B104: -0.85822917 | F104: -0.026468032 | G104: 0.073810113 | H104: -0.1071581 | I104: -0.60547123 | M104: 2.8 | N104: 6.5 | O104: 20
A105: b12 | B105: 0.020625 | M105: 2.26 | N105: 5 | O105: 15
A106: b13 | B106: 0.398125 | E106: X1 | F106: {=MMULT(F101:I104,K96:K99)} -> 0.11824391 | I106: U1 | J106: =25+F106*5 -> 25.59122 | M106: 1.72 | N106: 5 | O106: 15
A107: b14 | B107: 0.038125 | E107: X2 | F107: -0.38319209 | I107: U2 | J107: =15+F107*3 -> 13.850424 | M107: 1.66 | N107: 6.5 | O107: 15
A108: b23 | B108: -0.288125 | E108: X3 | F108: 0.50040847 | I108: U3 | J108: =6+2*F108 -> 7.0008169 | M108: 1.34 | N108: 6.5 | O108: 15
A109: b24 | B109: -0.138125 | E109: X4 | F109: 0.201324 | I109: U4 | J109: =0.45+F109*0.15 -> 0.4801986 | M109: 4.03 | N109: 5 | O109: 20
A110: b34 | B110: 0.261875 | M110: 4.91 | N110: 5 | O110: 20
M111: 2.23 | N111: 6.5 | O111: 20
E112: Ymax | F112: =B96+B97*F106+B98*F107+B99*F108+B100*F109+B101*F106^2+B102*F107^2+B103*F108^2+B104*F109^2+B105*F106*F107+B106*F106*F108+B107*F106*F109+B108*F107*F108+B109*F107*F109+B110*F108*F109 -> 6.6383724 | M112: 3.33 | N112: 6.5 | O112: 20
M113: 1.6 | N113: 5.75 | O113: 17.5
M114: 1.84 | N114: 5.75 | O114: 17.5
M115: 4.39 | N115: 4.25 | O115: 17.5
M116: 2.58 | N116: 7.25 | O116: 17.5
M117: 1.66 | N117: 5.75 | O117: 12.5
M118: 4.38 | N118: 5.75 | O118: 22.5
M119: 2.81 | N119: 5.75 | O119: 17.5
M120: 3.47 | N120: 5.75 | O120: 17.5
M121: 6.5 | N121: 5.75 | O121: 17.5
M122: 6.31 | N122: 5.75 | O122: 17.5
M123: 6.29 | N123: 5.75 | O123: 17.5

Sheet Feuil2
B3: x0 | C3: x1 | D3: x2 | E3: x3 | F3: x4 | G3: x1² | H3: x2² | I3: x3² | J3: x4² | K3: x1x2 | L3: x1x3 | M3: x1x4 | N3: x2x3 | O3: x2x4 | P3: x3x4 | Q3: y | R3: U2 | S3: U3
B4: 1 | C4: -1 | D4: -1 | E4: -1 | F4: -1 | G4: =C4*C4 -> 1 | H4: =D4*D4 -> 1 | I4: =E4*E4 -> 1 | J4: =F4*F4 -> 1 | K4: =C4*D4 -> 1 | L4: =C4*E4 -> 1 | M4: =C4*F4 -> 1 | N4: =D4*E4 -> 1 | O4: =D4*F4 -> 1 | P4: =E4*F4 -> 1 | Q4: 2.26 | R4: =5.75+D4*0.75 -> 5 | S4: =17.5+E4*2.5 -> 15
B5: 1 | C5: 1 | D5: -1 | E5: -1 | F5: -1 | G5: =C5*C5 -> 1 | H5: =D5*D5 -> 1 | I5: =E5*E5 -> 1 | J5: =F5*F5 -> 1 | K5: =C5*D5 -> -1 | L5: =C5*E5 -> -1 | M5: =C5*F5 -> -1 | N5: =D5*E5 -> 1 | O5: =D5*F5 -> 1 | P5: =E5*F5 -> 1 | Q5: 1.65 | R5: =5.75+D5*0.75 -> 5 | S5: =17.5+E5*2.5 -> 15
B6: 1 | C6: -1 | D6: 1 | E6: -1 | F6: -1 | G6: =C6*C6 -> 1 | H6: =D6*D6 -> 1 | I6: =E6*E6 -> 1 | J6: =F6*F6 -> 1 | K6: =C6*D6 -> -1 | L6: =C6*E6 -> 1 | M6: =C6*F6 -> 1 | N6: =D6*E6 -> -1 | O6: =D6*F6 -> -1 | P6: =E6*F6 -> 1 | Q6: 2.42 | R6: =5.75+D6*0.75 -> 6.5 | S6: =17.5+E6*2.5 -> 15
B7: 1 | C7: 1 | D7: 1 | E7: -1 | F7: -1 | G7: =C7*C7 -> 1 | H7: =D7*D7 -> 1 | I7: =E7*E7 -> 1 | J7: =F7*F7 -> 1 | K7: =C7*D7 -> 1 | L7: =C7*E7 -> -1 | M7: =C7*F7 -> -1 | N7: =D7*E7 -> -1 | O7: =D7*F7 -> -1 | P7: =E7*F7 -> 1 | Q7: 1.52 | R7: =5.75+D7*0.75 -> 6.5 | S7: =17.5+E7*2.5 -> 15
B8: 1 | C8: -1 | D8: -1 | E8: 1 | F8: -1 | G8: =C8*C8 -> 1 | H8: =D8*D8 -> 1 | I8: =E8*E8 -> 1 | J8: =F8*F8 -> 1 | K8: =C8*D8 -> 1 | L8: =C8*E8 -> -1 | M8: =C8*F8 -> 1 | N8: =D8*E8 -> -1 | O8: =D8*F8 -> 1 | P8: =E8*F8 -> -1 | Q8: 2.88 | R8: =5.75+D8*0.75 -> 5 | S8: =17.5+E8*2.5 -> 20
B9: 1 | C9: 1 | D9: -1 | E9: 1 | F9: -1 | G9: =C9*C9 -> 1 | H9: =D9*D9 -> 1 | I9: =E9*E9 -> 1 | J9: =F9*F9 -> 1 | K9: =C9*D9 -> -1 | L9: =C9*E9 -> 1 | M9: =C9*F9 -> -1 | N9: =D9*E9 -> -1 | O9: =D9*F9 -> 1 | P9: =E9*F9 -> -1 | Q9: 3.8 | R9: =5.75+D9*0.75 -> 5 | S9: =17.5+E9*2.5 -> 20
B10: 1 | C10: -1 | D10: 1 | E10: 1 | F10: -1 | G10: =C10*C10 -> 1 | H10: =D10*D10 -> 1 | I10: =E10*E10 -> 1 | J10: =F10*F10 -> 1 | K10: =C10*D10 -> -1 | L10: =C10*E10 -> -1 | M10: =C10*F10 -> 1 | N10: =D10*E10 -> 1 | O10: =D10*F10 -> -1 | P10: =E10*F10 -> -1 | Q10: 1.7 | R10: =5.75+D10*0.75 -> 6.5 | S10: =17.5+E10*2.5 -> 20
B11: 1 | C11: 1 | D11: 1 | E11: 1 | F11: -1 | G11: =C11*C11 -> 1 | H11: =D11*D11 -> 1 | I11: =E11*E11 -> 1 | J11: =F11*F11 -> 1 | K11: =C11*D11 -> 1 | L11: =C11*E11 -> 1 | M11: =C11*F11 -> -1 | N11: =D11*E11 -> 1 | O11: =D11*F11 -> -1 | P11: =E11*F11 -> -1 | Q11: 2.8 | R11: =5.75+D11*0.75 -> 6.5 | S11: =17.5+E11*2.5 -> 20
B12: 1 | C12: -1 | D12: -1 | E12: -1 | F12: 1 | G12: =C12*C12 -> 1 | H12: =D12*D12 -> 1 | I12: =E12*E12 -> 1 | J12: =F12*F12 -> 1 | K12: =C12*D12 -> 1 | L12: =C12*E12 -> 1 | M12: =C12*F12 -> -1 | N12: =D12*E12 -> 1 | O12: =D12*F12 -> -1 | P12: =E12*F12 -> -1 | Q12: 2.26 | R12: =5.75+D12*0.75 -> 5 | S12: =17.5+E12*2.5 -> 15
B13: 1 | C13: 1 | D13: -1 | E13: -1 | F13: 1 | G13: =C13*C13 -> 1 | H13: =D13*D13 -> 1 | I13: =E13*E13 -> 1 | J13: =F13*F13 -> 1 | K13: =C13*D13 -> -1 | L13: =C13*E13 -> -1 | M13: =C13*F13 -> 1 | N13: =D13*E13 -> 1 | O13: =D13*F13 -> -1 | P13: =E13*F13 -> -1 | Q13: 1.72 | R13: =5.75+D13*0.75 -> 5 | S13: =17.5+E13*2.5 -> 15
B14: 1 | C14: -1 | D14: 1 | E14: -1 | F14: 1 | G14: =C14*C14 -> 1 | H14: =D14*D14 -> 1 | I14: =E14*E14 -> 1 | J14: =F14*F14 -> 1 | K14: =C14*D14 -> -1 | L14: =C14*E14 -> 1 | M14: =C14*F14 -> -1 | N14: =D14*E14 -> -1 | O14: =D14*F14 -> 1 | P14: =E14*F14 -> -1 | Q14: 1.66 | R14: =5.75+D14*0.75 -> 6.5 | S14: =17.5+E14*2.5 -> 15
B15: 1 | C15: 1 | D15: 1 | E15: -1 | F15: 1 | G15: =C15*C15 -> 1 | H15: =D15*D15 -> 1 | I15: =E15*E15 -> 1 | J15: =F15*F15 -> 1 | K15: =C15*D15 -> 1 | L15: =C15*E15 -> -1 | M15: =C15*F15 -> 1 | N15: =D15*E15 -> -1 | O15: =D15*F15 -> 1 | P15: =E15*F15 -> -1 | Q15: 1.34 | R15: =5.75+D15*0.75 -> 6.5 | S15: =17.5+E15*2.5 -> 15
... B30: 1 | C30: 0 | D30: 0 | E30: 0 | F30: 0 | G30: =C30*C30 -> 0 | H30: =D30*D30 -> 0 | I30: =E30*E30 -> 0 | J30: =F30*F30 -> 0 | K30: =C30*D30 -> 0 | L30: =C30*E30 -> 0 | M30: =C30*F30 -> 0 | N30: =D30*E30 -> 0 | O30: =D30*F30 -> 0 | P30: =E30*F30 -> 0 | Q30: 6.29 | R30: =5.75+D30*0.75 -> 5.75 | S30: =17.5+E30*2.5 -> 17.5
B32: b0 | C32: 6.3666667
B33: b1 | C33: 0.087916667 | R33: =+MIN(R4:R30) -> 4.25 | S33: =+MAX(S4:S30) -> 22.5
B34: b2 | C34: -0.42208333
B35: b3 | C35: 0.67875
B36: b4 | C36: 0.15708333
B37: b1² | C37: -1.2132292
B38: b2² | C38: -0.77197917
B39: b3² | C39: -0.88822917
B40: b4² | C40: -0.85822917
B41: b12 | C41: 0.020625
B42: b13 | C42: 0.398125
B43: b14 | C43: 0.038125
B44: b23 | C44: -0.288125
B45: b24 | C45: -0.138125
B46: b34 | C46: 0.261875

Sheet Feuil3
A1: =Feuil2!B32 -> b0 | B1: =Feuil2!C32 -> 6.3666667
A2: =Feuil2!B33 -> b1 | B2: =Feuil2!C33 -> 0.087916667
A3: =Feuil2!B34 -> b2 | B3: =Feuil2!C34 -> -0.42208333
A4: =Feuil2!B35 -> b3 | B4: =Feuil2!C35 -> 0.67875
A5: =Feuil2!B36 -> b4 | B5: =Feuil2!C36 -> 0.15708333
A6: =Feuil2!B37 -> b1² | B6: =Feuil2!C37 -> -1.2132292
A7: =Feuil2!B38 -> b2² | B7: =Feuil2!C38 -> -0.77197917
A8: =Feuil2!B39 -> b3² | B8: =Feuil2!C39 -> -0.88822917
A9: =Feuil2!B40 -> b4² | B9: =Feuil2!C40 -> -0.85822917
A10: =Feuil2!B41 -> b12 | B10: =Feuil2!C41 -> 0.020625
A11: =Feuil2!B42 -> b13 | B11: =Feuil2!C42 -> 0.398125
A12: =Feuil2!B43 -> b14 | B12: =Feuil2!C43 -> 0.038125
... A15: =Feuil2!B46 -> b34 | B15: =Feuil2!C46 -> 0.261875
A21: =B1 -> 6.3666667 | C21: -1 | D21: -0.75 | E21: -0.5 | F21: -0.25 | G21: 0 | H21: 0.25 | I21: 0.5 | J21: 0.75 | K21: 1 | L21: -1 | M21: -0.75 | N21: -0.5 | O21: -0.25 | P21: 0 | Q21: 0.25 | R21: 0.5 | S21: 0.75 | T21: 1 | U21: -1 | V21: -0.75 | W21: -0.5 | X21: -0.25 | Y21: 0 | Z21: 0.25 | AA21: 0.5 | AB21: 0.75 | AC21: 1 | AD21: -1 | AE21: -0.75 | AF21: -0.5 | AG21: -0.25 | AH21: 0 | AI21: 0.25 | AJ21: 0.5 | AK21: 0.75 | AL21: 1 | AM21: -1 | AN21: -0.75 | AO21: -0.5 | AP21: -0.25 | AQ21: 0 | AR21: 0.25 | AS21: 0.5 | AT21: 0.75 | AU21: 1 | AV21: -1 | AW21: -0.75 | AX21: -0.5 | AY21: -0.25 | AZ21: 0 | BA21: 0.25 | BB21: 0.5 | BC21: 0.75 | BD21: 1 | BE21: -1 | BF21: -0.75 | BG21: -0.5 | BH21: -0.25 | BI21: 0 | BJ21: 0.25 | BK21: 0.5 | BL21: 0.75 | BM21: 1 | BN21: -1 | BO21: -0.75 | BP21: -0.5 | BQ21: -0.25 | BR21: 0 | BS21: 0.25 | BT21: 0.5 | BU21: 0.75 | BV21: 1 | BW21: -1 | BX21: -0.75 | BY21: -0.5 | BZ21: -0.25 | CA21: 0 | CB21: 0.25 | CC21: 0.5 | CD21: 0.75 | CE21: 1
A22: =B3 -> -0.42208333 | B22: x2 | C22: -1 | D22: -1 | E22: -1 | F22: -1 | G22: -1 | H22: -1 | I22: -1 | J22: -1 | K22: -1 | L22: -0.75 | M22: -0.75 | N22: -0.75 | O22: -0.75 | P22: -0.75 | Q22: -0.75 | R22: -0.75 | S22: -0.75 | T22: -0.75 | U22: -0.5 | V22: -0.5 | W22: -0.5 | X22: -0.5 | Y22: -0.5 | Z22: -0.5 | AA22: -0.5 | AB22: -0.5 | AC22: -0.5 | AD22: -0.25 | AE22: -0.25 | AF22: -0.25 | AG22: -0.25 | AH22: -0.25 | AI22: -0.25 | AJ22: -0.25 | AK22: -0.25 | AL22: -0.25 | AM22: 0 | AN22: 0 | AO22: 0 | AP22: 0 | AQ22: 0 | AR22: 0 | AS22: 0 | AT22: 0 | AU22: 0 | AV22: 0.25 | AW22: 0.25 | AX22: 0.25 | AY22: 0.25 | AZ22: 0.25 | BA22: 0.25 | BB22: 0.25 | BC22: 0.25 | BD22: 0.25 | BE22: 0.5 | BF22: 0.5 | BG22: 0.5 | BH22: 0.5 | BI22: 0.5 | BJ22: 0.5 | BK22: 0.5 | BL22: 0.5 | BM22: 0.5 | BN22: 0.75 | BO22: 0.75 | BP22: 0.75 | BQ22: 0.75 | BR22: 0.75 | BS22: 0.75 | BT22: 0.75 | BU22: 0.75 | BV22: 0.75 | BW22: 1 | BX22: 1 | BY22: 1 | BZ22: 1 | CA22: 1 | CB22: 1 | CC22: 1 | CD22: 1 | CE22: 1
A23: =B4 -> 0.67875 | B23: x3 | C23: 1 | D23: 0.5625 | E23: 0.25 | F23: 0.0625 | G23: 0 | H23: 0.0625 | I23: 0.25 | J23: 0.5625 | K23: 1 | L23: 1 | M23: 0.5625 | N23: 0.25 | O23: 0.0625 | P23: 0 | Q23: 0.0625 | R23: 0.25 | S23: 0.5625 | T23: 1 | U23: 1 | V23: 0.5625 | W23: 0.25 | X23: 0.0625 | Y23: 0 | Z23: 0.0625 | AA23: 0.25 | AB23: 0.5625 | AC23: 1 | AD23: 1 | AE23: 0.5625 | AF23: 0.25 | AG23: 0.0625 | AH23: 0 | AI23: 0.0625 | AJ23: 0.25 | AK23: 0.5625 | AL23: 1 | AM23: 1 | AN23: 0.5625 | AO23: 0.25 | AP23: 0.0625 | AQ23: 0 | AR23: 0.0625 | AS23: 0.25 | AT23: 0.5625 | AU23: 1 | AV23: 1 | AW23: 0.5625 | AX23: 0.25 | AY23: 0.0625 | AZ23: 0 | BA23: 0.0625 | BB23: 0.25 | BC23: 0.5625 | BD23: 1 | BE23: 1 | BF23: 0.5625 | BG23: 0.25 | BH23: 0.0625 | BI23: 0 | BJ23: 0.0625 | BK23: 0.25 | BL23: 0.5625 | BM23: 1 | BN23: 1 | BO23: 0.5625 | BP23: 0.25 | BQ23: 0.0625 | BR23: 0 | BS23: 0.0625 | BT23: 0.25 | BU23: 0.5625 | BV23: 1 | BW23: 1 | BX23: 0.5625 | BY23: 0.25 | BZ23: 0.0625 | CA23: 0 | CB23: 0.0625 | CC23: 0.25 | CD23: 0.5625 | CE23: 1
A24: =B7 -> -0.77197917 | B24: x2² | C24: 1 | D24: 1 | E24: 1 | F24: 1 | G24: 1 | H24: 1 | I24: 1 | J24: 1 | K24: 1 | L24: 0.5625 | M24: 0.5625 | N24: 0.5625 | O24: 0.5625 | P24: 0.5625 | Q24: 0.5625 | R24: 0.5625 | S24: 0.5625 | T24: 0.5625 | U24: 0.25 | V24: 0.25 | W24: 0.25 | X24: 0.25 | Y24: 0.25 | Z24: 0.25 | AA24: 0.25 | AB24: 0.25 | AC24: 0.25 | AD24: 0.0625 | AE24: 0.0625 | AF24: 0.0625 | AG24: 0.0625 | AH24: 0.0625 | AI24: 0.0625 | AJ24: 0.0625 | AK24: 0.0625 | AL24: 0.0625 | AM24: 0 | AN24: 0 | AO24: 0 | AP24: 0 | AQ24: 0 | AR24: 0 | AS24: 0 | AT24: 0 | AU24: 0 | AV24: 0.0625 | AW24: 0.0625 | AX24: 0.0625 | AY24: 0.0625 | AZ24: 0.0625 | BA24: 0.0625 | BB24: 0.0625 | BC24: 0.0625 | BD24: 0.0625 | BE24: 0.25 | BF24: 0.25 | BG24: 0.25 | BH24: 0.25 | BI24: 0.25 | BJ24: 0.25 | BK24: 0.25 | BL24: 0.25 | BM24: 0.25 | BN24: 0.5625 | BO24: 0.5625 | BP24: 0.5625 | BQ24: 0.5625 | BR24: 0.5625 | BS24: 0.5625 | BT24: 0.5625 | BU24: 0.5625 | BV24: 0.5625 | BW24: 1 | BX24: 1 | BY24: 1 | BZ24: 1 | CA24: 1 | CB24: 1 | CC24: 1 | CD24: 1 | CE24: 1
A25: =B8 -> -0.88822917 | B25: x3² | C25: 1 | D25: 0.75 | E25: 0.5 | F25: 0.25 | G25: 0 | H25: -0.25 | I25: -0.5 | J25: -0.75 | K25: -1 | L25: 0.75 | M25: 0.5625 | N25: 0.375 | O25: 0.1875 | P25: 0 | Q25: -0.1875 | R25: -0.375 | S25: -0.5625 | T25: -0.75 | U25: 0.5 | V25: 0.375 | W25: 0.25 | X25: 0.125 | Y25: 0 | Z25: -0.125 | AA25: -0.25 | AB25: -0.375 | AC25: -0.5 | AD25: 0.25 | AE25: 0.1875 | AF25: 0.125 | AG25: 0.0625 | AH25: 0 | AI25: -0.0625 | AJ25: -0.125 | AK25: -0.1875 | AL25: -0.25 | AM25: 0 | AN25: 0 | AO25: 0 | AP25: 0 | AQ25: 0 | AR25: 0 | AS25: 0 | AT25: 0 | AU25: 0 | AV25: -0.25 | AW25: -0.1875 | AX25: -0.125 | AY25: -0.0625 | AZ25: 0 | BA25: 0.0625 | BB25: 0.125 | BC25: 0.1875 | BD25: 0.25 | BE25: -0.5 | BF25: -0.375 | BG25: -0.25 | BH25: -0.125 | BI25: 0 | BJ25: 0.125 | BK25: 0.25 | BL25: 0.375 | BM25: 0.5 | BN25: -0.75 | BO25: -0.5625 | BP25: -0.375 | BQ25: -0.1875 | BR25: 0 | BS25: 0.1875 | BT25: 0.375 | BU25: 0.5625 | BV25: 0.75 | BW25: -1 | BX25: -0.75 | BY25: -0.5 | BZ25: -0.25 | CA25: 0 | CB25: 0.25 | CC25: 0.5 | CD25: 0.75 | CE25: 1
A26: =B13 -> -0.288125 | B26: x2x3 | C26: =SUMPRODUCT($A$22:$A$26,C21:C25)+$A$21 -> 4.1616667 | D26: =SUMPRODUCT($A$22:$A$26,D21:D25)+$A$21 -> 4.465918 | E26: =SUMPRODUCT($A$22:$A$26,E21:E25)+$A$21 -> 4.6736719 | F26: =SUMPRODUCT($A$22:$A$26,F21:F25)+$A$21 -> 4.7849284 | G26: =SUMPRODUCT($A$22:$A$26,G21:G25)+$A$21 -> 4.7996875 | H26: =SUMPRODUCT($A$22:$A$26,H21:H25)+$A$21 -> 4.7179492 | I26: =SUMPRODUCT($A$22:$A$26,I21:I25)+$A$21 -> 4.5397135 | J26: =SUMPRODUCT($A$22:$A$26,J21:J25)+$A$21 -> 4.2649805 | ... CE26: =SUMPRODUCT($A$22:$A$26,CE21:CE25)+$A$21 -> 4.675
C29: 7.25 | D29: 6.875 | E29: 6.5 | F29: 6.125 | G29: 5.75 | H29: 5.375 | I29: 5 | J29: 4.625 | K29: 4.25
B30: 22.5 | C30: =C26 -> 4.1616667 | D30: =D26 -> 4.465918 | E30: =E26 -> 4.6736719 | F30: =F26 -> 4.7849284 | G30: =G26 -> 4.7996875 | H30: =H26 -> 4.7179492 | I30: =I26 -> 4.5397135 | J30: =J26 -> 4.2649805 | K30: =K26 -> 3.89375
B31: 21.25 | C31: =L26 -> 4.7919857 | D31: =M26 -> 5.0782292 | E31: =N26 -> 5.2679753 | F31: =O26 -> 5.361224 | G31: =P26 -> 5.3579753 | H31: =Q26 -> 5.2582292 | I31: =R26 -> 5.0619857 | J31: =S26 -> 4.7692448 | K31: =T26 -> 4.3800065
B32: 20 | C32: =U26 -> 5.311276 | D32: =V26 -> 5.5795117 | E32: =W26 -> 5.75125 | F32: =X26 -> 5.8264909 | G32: =Y26 -> 5.8052344 | H32: =Z26 -> 5.6874805 | I32: =AA26 -> 5.4732292 | J32: =AB26 -> 5.1624805 | K32: =AC26 -> 4.7552344
B33: 18.75 | C33: =AD26 -> 5.7195378 | D33: =AE26 -> 5.9697656 | E33: =AF26 -> 6.1234961 | F33: =AG26 -> 6.1807292 | G33: =AH26 -> 6.1414648 | H33: =AI26 -> 6.0057031 | I33: =AJ26 -> 5.773444 | J33: =AK26 -> 5.4446875 | K33: =AL26 -> 5.0194336
B34: 17.5 | C34: =AM26 -> 6.0167708 | D34: =AN26 -> 6.2489909 | E34: =AO26 -> 6.3847135 | F34: =AP26 -> 6.4239388 | G34: =AQ26 -> 6.3666667 | H34: =AR26 -> 6.2128971 | I34: =AS26 -> 5.9626302 | J34: =AT26 -> 5.6158659 | K34: =AU26 -> 5.1726042
B35: 16.25 | C35: =AV26 -> 6.2029753 | D35: =AW26 -> 6.4171875 | E35: =AX26 -> 6.5349023 | F35: =AY26 -> 6.5561198 | G35: =AZ26 -> 6.4808398 | H35: =BA26 -> 6.3090625 | I35: =BB26 -> 6.0407878 | J35: =BC26 -> 5.6760156 | K35: =BD26 -> 5.2147461
B36: 15 | C36: =BE26 -> 6.278151 | D36: =BF26 -> 6.4743555 | E36: =BG26 -> 6.5740625 | F36: =BH26 -> 6.5772721 | G36: =BI26 -> 6.4839844 | H36: =BJ26 -> 6.2941992 | I36: =BK26 -> 6.0079167 | J36: =BL26 -> 5.6251367 | K36: =BM26 -> 5.1458594
B37: 13.75 | C37: =BN26 -> 6.2422982 | D37: =BO26 -> 6.4204948 | E37: =BP26 -> 6.502194 | F37: =BQ26 -> 6.4873958 | G37: =BR26 -> 6.3761003 | H37: =BS26 -> 6.1683073 | I37: =BT26 -> 5.8640169 | J37: =BU26 -> 5.4632292 | K37: =BV26 -> 4.965944
B38: 12.5 | C38: =BW26 -> 6.0954167 | D38: =BX26 -> 6.2556055 | E38: =BY26 -> 6.3192969 | F38: =BZ26 -> 6.2864909 | G38: =CA26 -> 6.1571875 | H38: =CB26 -> 5.9313867 | I38: =CC26 -> 5.6090885 | J38: =CD26 -> 5.190293 | K38: =CE26 -> 4.675
