Workbook

Sheet Liste2
A1: Serie | B1: Nom | C1: Prénom | D1: Date | E1: Sexe | F1: Cours | G1: Degré | H1: Périodes | I1: Domaine
A2: 14061038766 | B2: AA | C2: AAAA | D2: 41800 | E2: H | F2: Expr. corporelle [M] | G2: 1A | H2: 2 | I2: Domaine de la musique
A3: 12091025471 | B3: AA | C3: EEE | D3: 41162 | E3: F | F3: Formation musicale | G3: F1 | H3: 2 | I3: Domaine de la musique
A4: 08062101381 | B4: AB | C4: JU | D4: 39620 | E4: H | F4: Saxophone | G4: F5 | H4: 1 | I4: Domaine de la musique
A5: 10081715617 | B5: AB | C5: LI | D5: 40407 | E5: F | F5: Formation musicale | G5: F4 | H5: 2 | I5: Domaine de la musique
A6: 10062900000 | B6: AC | C6: FASS | D6: 40358 | E6: F | F6: Formation pluri. [APT] | G6: F1 | H6: 2 | I6: Domaine des arts de la parole et du théâtre
A7: 12062600000 | B7: AC | C7: SOU | D7: 41086 | E7: F | F7: Chant d'ensemble | G7: 1A | H7: 2 | I7: Domaine de la musique
A8: 12051200000 | B8: AD | C8: SA | D8: 41041 | E8: F | F8: Chant d'ensemble | G8: 1A | H8: 2 | I8: Domaine de la musique
A9: 59032112619 | B9: AE | C9: CHAN | D9: 21630 | E9: F | F9: Chant d'ensemble | G9: 1A | H9: 2 | I9: Domaine de la musique
A10: 59032112619 | B10: AE | C10: CHAN | D10: 21630 | E10: F | F10: Tuba | G10: QA3 | H10: 1 | I10: Domaine de la musique
A11: 12072605874 | B11: AF | C11: LOL | D11: 41116 | E11: F | F11: Clarinette | G11: F2 | H11: 1 | I11: Domaine de la musique
A12: 12072605874 | B12: AF | C12: LOL | D12: 41116 | E12: F | F12: Formation musicale | G12: F2 | H12: 2 | I12: Domaine de la musique
A13: 96021359179 | B13: AG | C13: JER | D13: 35108 | E13: H | F13: Formation jazz | G13: 1A | H13: 1 | I13: Domaine de la musique
... A41: 09111937727 | B41: AO | C41: MO | D41: 40136 | E41: H | F41: Instruments patr. | G41: 1A | H41: 1 | I41: Domaine de la musique

Sheet Tableau Souhaité
A1: N°ordre | B1: Matricule | G1: Domaine Musique | L1: Domaine Parole
A2: 0 | C2: Noms | D2: Prénom | E2: Date de Naissance | F2: Sexe | G2: Cours | H2: Filières Prép | I2: Périodes | J2: Autre Filiere | K2: Périodes | L2: Cours | M2: Filières Prép | N2: Périodes | O2: Autre Filiere | P2: Périodes
A3: =A2+IF(B3=B2,0,1) -> 1 | B3: =Liste2!A2 -> 14061038766 | C3: =Liste2!B2 -> AA | D3: =Liste2!C2 -> AAAA | E3: =Liste2!D2 -> 41800 | F3: =Liste2!E2 -> H | G3: =IF(Liste2!$I2="Domaine de la musique",Liste2!F2,"") -> Expr. corporelle [M] | H3: =IF(AND(Liste2!$I2="Domaine de la musique",LEFT(Liste2!$G2,1)="P"),Liste2!G2,"") | I3: =IF(AND(Liste2!$I2="Domaine de la musique",LEFT(Liste2!$G2,1)="P"),Liste2!H2,"") | J3: =IF(AND(Liste2!$I2="Domaine de la musique",LEFT(Liste2!$G2,1)<>"P"),Liste2!G2,"") -> 1A | K3: =IF(AND(Liste2!$I2="Domaine de la musique",LEFT(Liste2!$G2,1)<>"P"),Liste2!H2,"") -> 2 | L3: =IF(Liste2!I2="Domaine de la musique","",Liste2!F2) | M3: =IF(AND(Liste2!$I2<>"Domaine de la musique",LEFT(Liste2!$G2,1)="P"),Liste2!G2,"") | N3: =IF(AND(Liste2!$I2<>"Domaine de la musique",LEFT(Liste2!$G2,1)="P"),Liste2!H2,"") | O3: =IF(AND(Liste2!$I2<>"Domaine de la musique",LEFT(Liste2!$G2,1)<>"P"),Liste2!G2,"") | P3: =IF(AND(Liste2!$I2<>"Domaine de la musique",LEFT(Liste2!$G2,1)<>"P"),Liste2!H2,"")
A4: =A3+IF(B4=B3,0,1) -> 2 | B4: =Liste2!A3 -> 12091025471 | C4: =Liste2!B3 -> AA | D4: =Liste2!C3 -> EEE | E4: =Liste2!D3 -> 41162 | F4: =Liste2!E3 -> F | G4: =IF(Liste2!$I3="Domaine de la musique",Liste2!F3,"") -> Formation musicale | H4: =IF(AND(Liste2!$I3="Domaine de la musique",LEFT(Liste2!$G3,1)="P"),Liste2!G3,"") | I4: =IF(AND(Liste2!$I3="Domaine de la musique",LEFT(Liste2!$G3,1)="P"),Liste2!H3,"") | J4: =IF(AND(Liste2!$I3="Domaine de la musique",LEFT(Liste2!$G3,1)<>"P"),Liste2!G3,"") -> F1 | K4: =IF(AND(Liste2!$I3="Domaine de la musique",LEFT(Liste2!$G3,1)<>"P"),Liste2!H3,"") -> 2 | L4: =IF(Liste2!I3="Domaine de la musique","",Liste2!F3) | M4: =IF(AND(Liste2!$I3<>"Domaine de la musique",LEFT(Liste2!$G3,1)="P"),Liste2!G3,"") | N4: =IF(AND(Liste2!$I3<>"Domaine de la musique",LEFT(Liste2!$G3,1)="P"),Liste2!H3,"") | O4: =IF(AND(Liste2!$I3<>"Domaine de la musique",LEFT(Liste2!$G3,1)<>"P"),Liste2!G3,"") | P4: =IF(AND(Liste2!$I3<>"Domaine de la musique",LEFT(Liste2!$G3,1)<>"P"),Liste2!H3,"")
A5: =A4+IF(B5=B4,0,1) -> 3 | B5: =Liste2!A4 -> 08062101381 | C5: =Liste2!B4 -> AB | D5: =Liste2!C4 -> JU | E5: =Liste2!D4 -> 39620 | F5: =Liste2!E4 -> H | G5: =IF(Liste2!$I4="Domaine de la musique",Liste2!F4,"") -> Saxophone | H5: =IF(AND(Liste2!$I4="Domaine de la musique",LEFT(Liste2!$G4,1)="P"),Liste2!G4,"") | I5: =IF(AND(Liste2!$I4="Domaine de la musique",LEFT(Liste2!$G4,1)="P"),Liste2!H4,"") | J5: =IF(AND(Liste2!$I4="Domaine de la musique",LEFT(Liste2!$G4,1)<>"P"),Liste2!G4,"") -> F5 | K5: =IF(AND(Liste2!$I4="Domaine de la musique",LEFT(Liste2!$G4,1)<>"P"),Liste2!H4,"") -> 1 | L5: =IF(Liste2!I4="Domaine de la musique","",Liste2!F4) | M5: =IF(AND(Liste2!$I4<>"Domaine de la musique",LEFT(Liste2!$G4,1)="P"),Liste2!G4,"") | N5: =IF(AND(Liste2!$I4<>"Domaine de la musique",LEFT(Liste2!$G4,1)="P"),Liste2!H4,"") | O5: =IF(AND(Liste2!$I4<>"Domaine de la musique",LEFT(Liste2!$G4,1)<>"P"),Liste2!G4,"") | P5: =IF(AND(Liste2!$I4<>"Domaine de la musique",LEFT(Liste2!$G4,1)<>"P"),Liste2!H4,"")
A6: =A5+IF(B6=B5,0,1) -> 4 | B6: =Liste2!A5 -> 10081715617 | C6: =Liste2!B5 -> AB | D6: =Liste2!C5 -> LI | E6: =Liste2!D5 -> 40407 | F6: =Liste2!E5 -> F | G6: =IF(Liste2!$I5="Domaine de la musique",Liste2!F5,"") -> Formation musicale | H6: =IF(AND(Liste2!$I5="Domaine de la musique",LEFT(Liste2!$G5,1)="P"),Liste2!G5,"") | I6: =IF(AND(Liste2!$I5="Domaine de la musique",LEFT(Liste2!$G5,1)="P"),Liste2!H5,"") | J6: =IF(AND(Liste2!$I5="Domaine de la musique",LEFT(Liste2!$G5,1)<>"P"),Liste2!G5,"") -> F4 | K6: =IF(AND(Liste2!$I5="Domaine de la musique",LEFT(Liste2!$G5,1)<>"P"),Liste2!H5,"") -> 2 | L6: =IF(Liste2!I5="Domaine de la musique","",Liste2!F5) | M6: =IF(AND(Liste2!$I5<>"Domaine de la musique",LEFT(Liste2!$G5,1)="P"),Liste2!G5,"") | N6: =IF(AND(Liste2!$I5<>"Domaine de la musique",LEFT(Liste2!$G5,1)="P"),Liste2!H5,"") | O6: =IF(AND(Liste2!$I5<>"Domaine de la musique",LEFT(Liste2!$G5,1)<>"P"),Liste2!G5,"") | P6: =IF(AND(Liste2!$I5<>"Domaine de la musique",LEFT(Liste2!$G5,1)<>"P"),Liste2!H5,"")
A7: =A6+IF(B7=B6,0,1) -> 5 | B7: =Liste2!A6 -> 10062900000 | C7: =Liste2!B6 -> AC | D7: =Liste2!C6 -> FASS | E7: =Liste2!D6 -> 40358 | F7: =Liste2!E6 -> F | G7: =IF(Liste2!$I6="Domaine de la musique",Liste2!F6,"") | H7: =IF(AND(Liste2!$I6="Domaine de la musique",LEFT(Liste2!$G6,1)="P"),Liste2!G6,"") | I7: =IF(AND(Liste2!$I6="Domaine de la musique",LEFT(Liste2!$G6,1)="P"),Liste2!H6,"") | J7: =IF(AND(Liste2!$I6="Domaine de la musique",LEFT(Liste2!$G6,1)<>"P"),Liste2!G6,"") | K7: =IF(AND(Liste2!$I6="Domaine de la musique",LEFT(Liste2!$G6,1)<>"P"),Liste2!H6,"") | L7: =IF(Liste2!I6="Domaine de la musique","",Liste2!F6) -> Formation pluri. [APT] | M7: =IF(AND(Liste2!$I6<>"Domaine de la musique",LEFT(Liste2!$G6,1)="P"),Liste2!G6,"") | N7: =IF(AND(Liste2!$I6<>"Domaine de la musique",LEFT(Liste2!$G6,1)="P"),Liste2!H6,"") | O7: =IF(AND(Liste2!$I6<>"Domaine de la musique",LEFT(Liste2!$G6,1)<>"P"),Liste2!G6,"") -> F1 | P7: =IF(AND(Liste2!$I6<>"Domaine de la musique",LEFT(Liste2!$G6,1)<>"P"),Liste2!H6,"") -> 2
A8: =A7+IF(B8=B7,0,1) -> 6 | B8: =Liste2!A7 -> 12062600000 | C8: =Liste2!B7 -> AC | D8: =Liste2!C7 -> SOU | E8: =Liste2!D7 -> 41086 | F8: =Liste2!E7 -> F | G8: =IF(Liste2!$I7="Domaine de la musique",Liste2!F7,"") -> Chant d'ensemble | H8: =IF(AND(Liste2!$I7="Domaine de la musique",LEFT(Liste2!$G7,1)="P"),Liste2!G7,"") | I8: =IF(AND(Liste2!$I7="Domaine de la musique",LEFT(Liste2!$G7,1)="P"),Liste2!H7,"") | J8: =IF(AND(Liste2!$I7="Domaine de la musique",LEFT(Liste2!$G7,1)<>"P"),Liste2!G7,"") -> 1A | K8: =IF(AND(Liste2!$I7="Domaine de la musique",LEFT(Liste2!$G7,1)<>"P"),Liste2!H7,"") -> 2 | L8: =IF(Liste2!I7="Domaine de la musique","",Liste2!F7) | M8: =IF(AND(Liste2!$I7<>"Domaine de la musique",LEFT(Liste2!$G7,1)="P"),Liste2!G7,"") | N8: =IF(AND(Liste2!$I7<>"Domaine de la musique",LEFT(Liste2!$G7,1)="P"),Liste2!H7,"") | O8: =IF(AND(Liste2!$I7<>"Domaine de la musique",LEFT(Liste2!$G7,1)<>"P"),Liste2!G7,"") | P8: =IF(AND(Liste2!$I7<>"Domaine de la musique",LEFT(Liste2!$G7,1)<>"P"),Liste2!H7,"")
A9: =A8+IF(B9=B8,0,1) -> 7 | B9: =Liste2!A8 -> 12051200000 | C9: =Liste2!B8 -> AD | D9: =Liste2!C8 -> SA | E9: =Liste2!D8 -> 41041 | F9: =Liste2!E8 -> F | G9: =IF(Liste2!$I8="Domaine de la musique",Liste2!F8,"") -> Chant d'ensemble | H9: =IF(AND(Liste2!$I8="Domaine de la musique",LEFT(Liste2!$G8,1)="P"),Liste2!G8,"") | I9: =IF(AND(Liste2!$I8="Domaine de la musique",LEFT(Liste2!$G8,1)="P"),Liste2!H8,"") | J9: =IF(AND(Liste2!$I8="Domaine de la musique",LEFT(Liste2!$G8,1)<>"P"),Liste2!G8,"") -> 1A | K9: =IF(AND(Liste2!$I8="Domaine de la musique",LEFT(Liste2!$G8,1)<>"P"),Liste2!H8,"") -> 2 | L9: =IF(Liste2!I8="Domaine de la musique","",Liste2!F8) | M9: =IF(AND(Liste2!$I8<>"Domaine de la musique",LEFT(Liste2!$G8,1)="P"),Liste2!G8,"") | N9: =IF(AND(Liste2!$I8<>"Domaine de la musique",LEFT(Liste2!$G8,1)="P"),Liste2!H8,"") | O9: =IF(AND(Liste2!$I8<>"Domaine de la musique",LEFT(Liste2!$G8,1)<>"P"),Liste2!G8,"") | P9: =IF(AND(Liste2!$I8<>"Domaine de la musique",LEFT(Liste2!$G8,1)<>"P"),Liste2!H8,"")
A10: =A9+IF(B10=B9,0,1) -> 8 | B10: =Liste2!A9 -> 59032112619 | C10: =Liste2!B9 -> AE | D10: =Liste2!C9 -> CHAN | E10: =Liste2!D9 -> 21630 | F10: =Liste2!E9 -> F | G10: =IF(Liste2!$I9="Domaine de la musique",Liste2!F9,"") -> Chant d'ensemble | H10: =IF(AND(Liste2!$I9="Domaine de la musique",LEFT(Liste2!$G9,1)="P"),Liste2!G9,"") | I10: =IF(AND(Liste2!$I9="Domaine de la musique",LEFT(Liste2!$G9,1)="P"),Liste2!H9,"") | J10: =IF(AND(Liste2!$I9="Domaine de la musique",LEFT(Liste2!$G9,1)<>"P"),Liste2!G9,"") -> 1A | K10: =IF(AND(Liste2!$I9="Domaine de la musique",LEFT(Liste2!$G9,1)<>"P"),Liste2!H9,"") -> 2 | L10: =IF(Liste2!I9="Domaine de la musique","",Liste2!F9) | M10: =IF(AND(Liste2!$I9<>"Domaine de la musique",LEFT(Liste2!$G9,1)="P"),Liste2!G9,"") | N10: =IF(AND(Liste2!$I9<>"Domaine de la musique",LEFT(Liste2!$G9,1)="P"),Liste2!H9,"") | O10: =IF(AND(Liste2!$I9<>"Domaine de la musique",LEFT(Liste2!$G9,1)<>"P"),Liste2!G9,"") | P10: =IF(AND(Liste2!$I9<>"Domaine de la musique",LEFT(Liste2!$G9,1)<>"P"),Liste2!H9,"")
A11: =A10+IF(B11=B10,0,1) -> 8 | B11: =Liste2!A10 -> 59032112619 | C11: =Liste2!B10 -> AE | D11: =Liste2!C10 -> CHAN | E11: =Liste2!D10 -> 21630 | F11: =Liste2!E10 -> F | G11: =IF(Liste2!$I10="Domaine de la musique",Liste2!F10,"") -> Tuba | H11: =IF(AND(Liste2!$I10="Domaine de la musique",LEFT(Liste2!$G10,1)="P"),Liste2!G10,"") | I11: =IF(AND(Liste2!$I10="Domaine de la musique",LEFT(Liste2!$G10,1)="P"),Liste2!H10,"") | J11: =IF(AND(Liste2!$I10="Domaine de la musique",LEFT(Liste2!$G10,1)<>"P"),Liste2!G10,"") -> QA3 | K11: =IF(AND(Liste2!$I10="Domaine de la musique",LEFT(Liste2!$G10,1)<>"P"),Liste2!H10,"") -> 1 | L11: =IF(Liste2!I10="Domaine de la musique","",Liste2!F10) | M11: =IF(AND(Liste2!$I10<>"Domaine de la musique",LEFT(Liste2!$G10,1)="P"),Liste2!G10,"") | N11: =IF(AND(Liste2!$I10<>"Domaine de la musique",LEFT(Liste2!$G10,1)="P"),Liste2!H10,"") | O11: =IF(AND(Liste2!$I10<>"Domaine de la musique",LEFT(Liste2!$G10,1)<>"P"),Liste2!G10,"") | P11: =IF(AND(Liste2!$I10<>"Domaine de la musique",LEFT(Liste2!$G10,1)<>"P"),Liste2!H10,"")
A12: =A11+IF(B12=B11,0,1) -> 9 | B12: =Liste2!A11 -> 12072605874 | C12: =Liste2!B11 -> AF | D12: =Liste2!C11 -> LOL | E12: =Liste2!D11 -> 41116 | F12: =Liste2!E11 -> F | G12: =IF(Liste2!$I11="Domaine de la musique",Liste2!F11,"") -> Clarinette | H12: =IF(AND(Liste2!$I11="Domaine de la musique",LEFT(Liste2!$G11,1)="P"),Liste2!G11,"") | I12: =IF(AND(Liste2!$I11="Domaine de la musique",LEFT(Liste2!$G11,1)="P"),Liste2!H11,"") | J12: =IF(AND(Liste2!$I11="Domaine de la musique",LEFT(Liste2!$G11,1)<>"P"),Liste2!G11,"") -> F2 | K12: =IF(AND(Liste2!$I11="Domaine de la musique",LEFT(Liste2!$G11,1)<>"P"),Liste2!H11,"") -> 1 | L12: =IF(Liste2!I11="Domaine de la musique","",Liste2!F11) | M12: =IF(AND(Liste2!$I11<>"Domaine de la musique",LEFT(Liste2!$G11,1)="P"),Liste2!G11,"") | N12: =IF(AND(Liste2!$I11<>"Domaine de la musique",LEFT(Liste2!$G11,1)="P"),Liste2!H11,"") | O12: =IF(AND(Liste2!$I11<>"Domaine de la musique",LEFT(Liste2!$G11,1)<>"P"),Liste2!G11,"") | P12: =IF(AND(Liste2!$I11<>"Domaine de la musique",LEFT(Liste2!$G11,1)<>"P"),Liste2!H11,"")
A13: =A12+IF(B13=B12,0,1) -> 9 | B13: =Liste2!A12 -> 12072605874 | C13: =Liste2!B12 -> AF | D13: =Liste2!C12 -> LOL | E13: =Liste2!D12 -> 41116 | F13: =Liste2!E12 -> F | G13: =IF(Liste2!$I12="Domaine de la musique",Liste2!F12,"") -> Formation musicale | H13: =IF(AND(Liste2!$I12="Domaine de la musique",LEFT(Liste2!$G12,1)="P"),Liste2!G12,"") | I13: =IF(AND(Liste2!$I12="Domaine de la musique",LEFT(Liste2!$G12,1)="P"),Liste2!H12,"") | J13: =IF(AND(Liste2!$I12="Domaine de la musique",LEFT(Liste2!$G12,1)<>"P"),Liste2!G12,"") -> F2 | K13: =IF(AND(Liste2!$I12="Domaine de la musique",LEFT(Liste2!$G12,1)<>"P"),Liste2!H12,"") -> 2 | L13: =IF(Liste2!I12="Domaine de la musique","",Liste2!F12) | M13: =IF(AND(Liste2!$I12<>"Domaine de la musique",LEFT(Liste2!$G12,1)="P"),Liste2!G12,"") | N13: =IF(AND(Liste2!$I12<>"Domaine de la musique",LEFT(Liste2!$G12,1)="P"),Liste2!H12,"") | O13: =IF(AND(Liste2!$I12<>"Domaine de la musique",LEFT(Liste2!$G12,1)<>"P"),Liste2!G12,"") | P13: =IF(AND(Liste2!$I12<>"Domaine de la musique",LEFT(Liste2!$G12,1)<>"P"),Liste2!H12,"")
A14: =A13+IF(B14=B13,0,1) -> 10 | B14: =Liste2!A13 -> 96021359179 | C14: =Liste2!B13 -> AG | D14: =Liste2!C13 -> JER | E14: =Liste2!D13 -> 35108 | F14: =Liste2!E13 -> H | G14: =IF(Liste2!$I13="Domaine de la musique",Liste2!F13,"") -> Formation jazz | H14: =IF(AND(Liste2!$I13="Domaine de la musique",LEFT(Liste2!$G13,1)="P"),Liste2!G13,"") | I14: =IF(AND(Liste2!$I13="Domaine de la musique",LEFT(Liste2!$G13,1)="P"),Liste2!H13,"") | J14: =IF(AND(Liste2!$I13="Domaine de la musique",LEFT(Liste2!$G13,1)<>"P"),Liste2!G13,"") -> 1A | K14: =IF(AND(Liste2!$I13="Domaine de la musique",LEFT(Liste2!$G13,1)<>"P"),Liste2!H13,"") -> 1 | L14: =IF(Liste2!I13="Domaine de la musique","",Liste2!F13) | M14: =IF(AND(Liste2!$I13<>"Domaine de la musique",LEFT(Liste2!$G13,1)="P"),Liste2!G13,"") | N14: =IF(AND(Liste2!$I13<>"Domaine de la musique",LEFT(Liste2!$G13,1)="P"),Liste2!H13,"") | O14: =IF(AND(Liste2!$I13<>"Domaine de la musique",LEFT(Liste2!$G13,1)<>"P"),Liste2!G13,"") | P14: =IF(AND(Liste2!$I13<>"Domaine de la musique",LEFT(Liste2!$G13,1)<>"P"),Liste2!H13,"")
... A54: =A53+IF(B54=B53,0,1) -> 19 | B54: =Liste2!A53 -> 0 | C54: =Liste2!B53 -> 0 | D54: =Liste2!C53 -> 0 | E54: =Liste2!D53 -> 0 | F54: =Liste2!E53 -> 0 | G54: =IF(Liste2!$I53="Domaine de la musique",Liste2!F53,"") | H54: =IF(AND(Liste2!$I53="Domaine de la musique",LEFT(Liste2!$G53,1)="P"),Liste2!G53,"") | I54: =IF(AND(Liste2!$I53="Domaine de la musique",LEFT(Liste2!$G53,1)="P"),Liste2!H53,"") | J54: =IF(AND(Liste2!$I53="Domaine de la musique",LEFT(Liste2!$G53,1)<>"P"),Liste2!G53,"") | K54: =IF(AND(Liste2!$I53="Domaine de la musique",LEFT(Liste2!$G53,1)<>"P"),Liste2!H53,"") | L54: =IF(Liste2!I53="Domaine de la musique","",Liste2!F53) -> 0 | M54: =IF(AND(Liste2!$I53<>"Domaine de la musique",LEFT(Liste2!$G53,1)="P"),Liste2!G53,"") | N54: =IF(AND(Liste2!$I53<>"Domaine de la musique",LEFT(Liste2!$G53,1)="P"),Liste2!H53,"") | O54: =IF(AND(Liste2!$I53<>"Domaine de la musique",LEFT(Liste2!$G53,1)<>"P"),Liste2!G53,"") -> 0 | P54: =IF(AND(Liste2!$I53<>"Domaine de la musique",LEFT(Liste2!$G53,1)<>"P"),Liste2!H53,"") -> 0
