Workbook

Sheet coef x
O1: 1 | X1: 0 | AA1: coef x3 | AB1: coef x2 | AC1: coef x1 | AD1: coef x0
O2: 2 | X2: -1 | AA2: =X1/((O1-O2)*(O1-O3)*(O1-O4))+X2/((O2-O1)*(O2-O3)*(O2-O4))+X3/((O3-O1)*(O3-O2)*(O3-O4))+X4/((O4-O1)*(O4-O2)*(O4-O3)) -> 0 | AB2: =-X1*(O2+O3+O4)/((O1-O2)*(O1-O3)*(O1-O4))-X2*(O1+O3+O4)/((O2-O1)*(O2-O3)*(O2-O4))-X3*(O1+O2+O4)/((O3-O1)*(O3-O2)*(O3-O4))-X4*(O1+O2+O3)/((O4-O1)*(O4-O2)*(O4-O3)) -> 1 | AC2: =X1*(O2*O3+O2*O4+O3*O4)/((O1-O2)*(O1-O3)*(O1-O4))+X2*(O1*O3+O1*O4+O3*O4)/((O2-O1)*(O2-O3)*(O2-O4))+X3*(O1*O2+O1*O4+O2*O4)/((O3-O1)*(O3-O2)*(O3-O4))+X4*(O1*O2+O1*O3+O2*O3)/((O4-O1)*(O4-O2)*(O4-O3)) -> -4 | AD2: =-(X1*O2*O3*O4)/((O1-O2)*(O1-O3)*(O1-O4))-(X2*O1*O3*O4)/((O2-O1)*(O2-O3)*(O2-O4))-(X3*O1*O2*O4)/((O3-O1)*(O3-O2)*(O3-O4))-(X4*O1*O2*O3)/((O4-O1)*(O4-O2)*(O4-O3)) -> 3
O3: 3 | X3: 0
O4: 4 | X4: 3
O7: 1 | X7: =$AA$2*O7^3+$AB$2*O7^2+$AC$2*O7+$AD$2 -> 0
O8: 1.2 | X8: =$AA$2*O8^3+$AB$2*O8^2+$AC$2*O8+$AD$2 -> -0.36
O9: 1.4 | X9: =$AA$2*O9^3+$AB$2*O9^2+$AC$2*O9+$AD$2 -> -0.64
O10: 1.6 | X10: =$AA$2*O10^3+$AB$2*O10^2+$AC$2*O10+$AD$2 -> -0.84
O11: 1.8 | X11: =$AA$2*O11^3+$AB$2*O11^2+$AC$2*O11+$AD$2 -> -0.96
O12: 2 | X12: =$AA$2*O12^3+$AB$2*O12^2+$AC$2*O12+$AD$2 -> -1
O13: 2.2 | X13: =$AA$2*O13^3+$AB$2*O13^2+$AC$2*O13+$AD$2 -> -0.96
O14: 2.4 | X14: =$AA$2*O14^3+$AB$2*O14^2+$AC$2*O14+$AD$2 -> -0.84
O15: 2.6 | X15: =$AA$2*O15^3+$AB$2*O15^2+$AC$2*O15+$AD$2 -> -0.64
O16: 2.8 | X16: =$AA$2*O16^3+$AB$2*O16^2+$AC$2*O16+$AD$2 -> -0.36
O17: 3 | X17: =$AA$2*O17^3+$AB$2*O17^2+$AC$2*O17+$AD$2 -> 0
O18: 3.2 | X18: =$AA$2*O18^3+$AB$2*O18^2+$AC$2*O18+$AD$2 -> 0.44
... O22: 4 | X22: =$AA$2*O22^3+$AB$2*O22^2+$AC$2*O22+$AD$2 -> 3

Sheet coef y
O1: 1 | Y1: 2.5 | AA1: coef x3 | AB1: coef x2 | AC1: coef x1 | AD1: coef x0
O2: 2 | Y2: 1.5 | AA2: =Y1/((O1-O2)*(O1-O3)*(O1-O4))+Y2/((O2-O1)*(O2-O3)*(O2-O4))+Y3/((O3-O1)*(O3-O2)*(O3-O4))+Y4/((O4-O1)*(O4-O2)*(O4-O3)) -> 0.33333333 | AB2: =-Y1*(O2+O3+O4)/((O1-O2)*(O1-O3)*(O1-O4))-Y2*(O1+O3+O4)/((O2-O1)*(O2-O3)*(O2-O4))-Y3*(O1+O2+O4)/((O3-O1)*(O3-O2)*(O3-O4))-Y4*(O1+O2+O3)/((O4-O1)*(O4-O2)*(O4-O3)) -> -2.25 | AC2: =Y1*(O2*O3+O2*O4+O3*O4)/((O1-O2)*(O1-O3)*(O1-O4))+Y2*(O1*O3+O1*O4+O3*O4)/((O2-O1)*(O2-O3)*(O2-O4))+Y3*(O1*O2+O1*O4+O2*O4)/((O3-O1)*(O3-O2)*(O3-O4))+Y4*(O1*O2+O1*O3+O2*O3)/((O4-O1)*(O4-O2)*(O4-O3)) -> 3.4166667 | AD2: =-(Y1*O2*O3*O4)/((O1-O2)*(O1-O3)*(O1-O4))-(Y2*O1*O3*O4)/((O2-O1)*(O2-O3)*(O2-O4))-(Y3*O1*O2*O4)/((O3-O1)*(O3-O2)*(O3-O4))-(Y4*O1*O2*O3)/((O4-O1)*(O4-O2)*(O4-O3)) -> 1
O3: 3 | Y3: 0
O4: 4 | Y4: 0
O7: 1 | Y7: =$AA$2*O7^3+$AB$2*O7^2+$AC$2*O7+$AD$2 -> 2.5
O8: 1.2 | Y8: =$AA$2*O8^3+$AB$2*O8^2+$AC$2*O8+$AD$2 -> 2.436
O9: 1.4 | Y9: =$AA$2*O9^3+$AB$2*O9^2+$AC$2*O9+$AD$2 -> 2.288
O10: 1.6 | Y10: =$AA$2*O10^3+$AB$2*O10^2+$AC$2*O10+$AD$2 -> 2.072
O11: 1.8 | Y11: =$AA$2*O11^3+$AB$2*O11^2+$AC$2*O11+$AD$2 -> 1.804
O12: 2 | Y12: =$AA$2*O12^3+$AB$2*O12^2+$AC$2*O12+$AD$2 -> 1.5
O13: 2.2 | Y13: =$AA$2*O13^3+$AB$2*O13^2+$AC$2*O13+$AD$2 -> 1.176
O14: 2.4 | Y14: =$AA$2*O14^3+$AB$2*O14^2+$AC$2*O14+$AD$2 -> 0.848
O15: 2.6 | Y15: =$AA$2*O15^3+$AB$2*O15^2+$AC$2*O15+$AD$2 -> 0.532
O16: 2.8 | Y16: =$AA$2*O16^3+$AB$2*O16^2+$AC$2*O16+$AD$2 -> 0.244
O17: 3 | Y17: =$AA$2*O17^3+$AB$2*O17^2+$AC$2*O17+$AD$2 -> -1.7763568e-15
O18: 3.2 | Y18: =$AA$2*O18^3+$AB$2*O18^2+$AC$2*O18+$AD$2 -> -0.184
... O22: 4 | Y22: =$AA$2*O22^3+$AB$2*O22^2+$AC$2*O22+$AD$2 -> -3.5527137e-15

Sheet XY
A1: ='coef x'!O1 -> 1 | B1: ='coef x'!X1 -> 0 | C1: ='coef y'!Y1 -> 2.5
A2: ='coef x'!O2 -> 2 | B2: ='coef x'!X2 -> -1 | C2: ='coef y'!Y2 -> 1.5
A3: ='coef x'!O3 -> 3 | B3: ='coef x'!X3 -> 0 | C3: ='coef y'!Y3 -> 0
A4: ='coef x'!O4 -> 4 | B4: ='coef x'!X4 -> 3 | C4: ='coef y'!Y4 -> 0
B6: x | C6: y
A7: ='coef x'!O7 -> 1 | B7: ='coef x'!X7 -> 0 | C7: ='coef y'!Y7 -> 2.5
A8: ='coef x'!O8 -> 1.2 | B8: ='coef x'!X8 -> -0.36 | C8: ='coef y'!Y8 -> 2.436
A9: ='coef x'!O9 -> 1.4 | B9: ='coef x'!X9 -> -0.64 | C9: ='coef y'!Y9 -> 2.288
A10: ='coef x'!O10 -> 1.6 | B10: ='coef x'!X10 -> -0.84 | C10: ='coef y'!Y10 -> 2.072
A11: ='coef x'!O11 -> 1.8 | B11: ='coef x'!X11 -> -0.96 | C11: ='coef y'!Y11 -> 1.804
A12: ='coef x'!O12 -> 2 | B12: ='coef x'!X12 -> -1 | C12: ='coef y'!Y12 -> 1.5
A13: ='coef x'!O13 -> 2.2 | B13: ='coef x'!X13 -> -0.96 | C13: ='coef y'!Y13 -> 1.176
A14: ='coef x'!O14 -> 2.4 | B14: ='coef x'!X14 -> -0.84 | C14: ='coef y'!Y14 -> 0.848
A15: ='coef x'!O15 -> 2.6 | B15: ='coef x'!X15 -> -0.64 | C15: ='coef y'!Y15 -> 0.532
A16: ='coef x'!O16 -> 2.8 | B16: ='coef x'!X16 -> -0.36 | C16: ='coef y'!Y16 -> 0.244
A17: ='coef x'!O17 -> 3 | B17: ='coef x'!X17 -> 0 | C17: ='coef y'!Y17 -> -1.7763568e-15
A18: ='coef x'!O18 -> 3.2 | B18: ='coef x'!X18 -> 0.44 | C18: ='coef y'!Y18 -> -0.184
... A22: ='coef x'!O22 -> 4 | B22: ='coef x'!X22 -> 3 | C22: ='coef y'!Y22 -> -3.5527137e-15
