Workbook

Sheet stocks
A1: REF | B1: EMP | C1: QTE
A2: PIERRE | B2: 2136 | C2: 12
A3: PIERRE | B3: 3212 | C3: 1
A4: PIERRE | B4: 4288 | C4: 0
A5: JEAN | B5: 5364 | C5: 9
A6: JEAN | B6: 6440 | C6: 152
A7: JEAN | B7: 7516 | C7: 13
A8: JEAN | B8: 8592 | C8: 21
A9: JEAN | B9: 9668 | C9: 21
A10: RICHARD | B10: 10744 | C10: 36
A11: ANAIS | B11: 11820 | C11: 153
A12: JEROME | B12: 12896 | C12: 52
A13: JEROME | B13: 13972 | C13: 55
... A21: LILI | B21: 22580 | C21: 25

Sheet synthèse du stock
A3: _QTE | B3: _EMP
A4: _REF | B4: 2136 | C4: 3212 | D4: 4288 | E4: 5364 | F4: 6440 | G4: 7516 | H4: 8592 | I4: 9668 | J4: 10744 | K4: 11820 | L4: 12896 | M4: 13972 | N4: 15048 | O4: 16124 | P4: 17200 | Q4: 18276 | R4: 19352 | S4: 20428 | T4: 21504 | U4: 22580 | V4: Total général
A5: ADAM | P5: 9 | V5: 9
A6: ADRIEN | O6: 2 | V6: 2
A7: ANAIS | K7: 153 | V7: 153
A8: EDDY | S8: 36 | V8: 36
A9: ELEONORE | Q9: 88 | V9: 88
A10: JEAN | E10: 9 | F10: 152 | G10: 13 | H10: 21 | I10: 21 | V10: 216
A11: JEROME | L11: 52 | M11: 55 | N11: 70 | V11: 177
A12: LILI | U12: 25 | V12: 25
A13: MICKAEL | R13: 25 | V13: 25
A14: PIERRE | B14: 12 | C14: 1 | D14: 0 | V14: 13
A15: RHINO | T15: 98 | V15: 98
A16: RICHARD | J16: 36 | V16: 36
A17: Total général | B17: 12 | C17: 1 | D17: 0 | E17: 9 | F17: 152 | G17: 13 | H17: 21 | I17: 21 | J17: 36 | K17: 153 | L17: 52 | M17: 55 | N17: 70 | O17: 2 | P17: 9 | Q17: 88 | R17: 25 | S17: 36 | T17: 98 | U17: 25 | V17: 878

Sheet besoins
A1: REF | B1: QTE | C1: 1 | D1: DISPO | E1: BESOIN | F1: 2 | G1: DISPO | H1: BESOIN | I1: 3 | J1: DISPO | K1: BESOIN | L1: 4 | M1: DISPO | N1: BESOIN | O1: 5 | P1: DISPO | Q1: BESOIN
A2: PIERRE | B2: 5 | C2: {=IFERROR(INDEX(stocks!$B:$B,SMALL(IF(stocks!$A$2:$A$21=$A2,ROW(stocks!$A$2:$A$21),9^9),C$1)),0)} -> 2136 | D2: {=IFERROR(INDEX(stocks!$C:$C,SMALL(IF(stocks!$A$2:$A$21=$A2,ROW(stocks!$A$2:$A$21),9^9),C$1)),0)} -> 12 | E2: =MIN(B2,D2) -> 5 | F2: {=IFERROR(INDEX(stocks!$B:$B,SMALL(IF(stocks!$A$2:$A$21=$A2,ROW(stocks!$A$2:$A$21),9^9),F$1)),0)} -> 3212 | G2: {=IFERROR(INDEX(stocks!$C:$C,SMALL(IF(stocks!$A$2:$A$21=$A2,ROW(stocks!$A$2:$A$21),9^9),F$1)),0)} -> 1 | H2: =MIN(G2,B2-E2) -> 0 | I2: {=IFERROR(INDEX(stocks!$B:$B,SMALL(IF(stocks!$A$2:$A$21=$A2,ROW(stocks!$A$2:$A$21),9^9),I$1)),0)} -> 4288 | J2: {=IFERROR(INDEX(stocks!$C:$C,SMALL(IF(stocks!$A$2:$A$21=$A2,ROW(stocks!$A$2:$A$21),9^9),I$1)),0)} -> 0 | K2: =MIN(J2,B2-E2-H2) -> 0 | L2: {=IFERROR(INDEX(stocks!$B:$B,SMALL(IF(stocks!$A$2:$A$21=$A2,ROW(stocks!$A$2:$A$21),9^9),L$1)),0)} -> 0 | M2: {=IFERROR(INDEX(stocks!$C:$C,SMALL(IF(stocks!$A$2:$A$21=$A2,ROW(stocks!$A$2:$A$21),9^9),L$1)),0)} -> 0 | N2: =MIN(M2,B2-E2-H2-K2) -> 0 | O2: {=IFERROR(INDEX(stocks!$B:$B,SMALL(IF(stocks!$A$2:$A$21=$A2,ROW(stocks!$A$2:$A$21),9^9),O$1)),0)} -> 0 | P2: {=IFERROR(INDEX(stocks!$C:$C,SMALL(IF(stocks!$A$2:$A$21=$A2,ROW(stocks!$A$2:$A$21),9^9),O$1)),0)} -> 0 | Q2: =MIN(P2,B2-E2-H2-K2-N2) -> 0
A3: JEAN | B3: 3 | C3: {=IFERROR(INDEX(stocks!$B:$B,SMALL(IF(stocks!$A$2:$A$21=$A3,ROW(stocks!$A$2:$A$21),9^9),C$1)),0)} -> 5364 | D3: {=IFERROR(INDEX(stocks!$C:$C,SMALL(IF(stocks!$A$2:$A$21=$A3,ROW(stocks!$A$2:$A$21),9^9),C$1)),0)} -> 9 | E3: =MIN(B3,D3) -> 3 | F3: {=IFERROR(INDEX(stocks!$B:$B,SMALL(IF(stocks!$A$2:$A$21=$A3,ROW(stocks!$A$2:$A$21),9^9),F$1)),0)} -> 6440 | G3: {=IFERROR(INDEX(stocks!$C:$C,SMALL(IF(stocks!$A$2:$A$21=$A3,ROW(stocks!$A$2:$A$21),9^9),F$1)),0)} -> 152 | H3: =MIN(G3,B3-E3) -> 0 | I3: {=IFERROR(INDEX(stocks!$B:$B,SMALL(IF(stocks!$A$2:$A$21=$A3,ROW(stocks!$A$2:$A$21),9^9),I$1)),0)} -> 7516 | J3: {=IFERROR(INDEX(stocks!$C:$C,SMALL(IF(stocks!$A$2:$A$21=$A3,ROW(stocks!$A$2:$A$21),9^9),I$1)),0)} -> 13 | K3: =MIN(J3,B3-E3-H3) -> 0 | L3: {=IFERROR(INDEX(stocks!$B:$B,SMALL(IF(stocks!$A$2:$A$21=$A3,ROW(stocks!$A$2:$A$21),9^9),L$1)),0)} -> 8592 | M3: {=IFERROR(INDEX(stocks!$C:$C,SMALL(IF(stocks!$A$2:$A$21=$A3,ROW(stocks!$A$2:$A$21),9^9),L$1)),0)} -> 21 | N3: =MIN(M3,B3-E3-H3-K3) -> 0 | O3: {=IFERROR(INDEX(stocks!$B:$B,SMALL(IF(stocks!$A$2:$A$21=$A3,ROW(stocks!$A$2:$A$21),9^9),O$1)),0)} -> 9668 | P3: {=IFERROR(INDEX(stocks!$C:$C,SMALL(IF(stocks!$A$2:$A$21=$A3,ROW(stocks!$A$2:$A$21),9^9),O$1)),0)} -> 21 | Q3: =MIN(P3,B3-E3-H3-K3-N3) -> 0
A4: RICHARD | B4: 1 | C4: {=IFERROR(INDEX(stocks!$B:$B,SMALL(IF(stocks!$A$2:$A$21=$A4,ROW(stocks!$A$2:$A$21),9^9),C$1)),0)} -> 10744 | D4: {=IFERROR(INDEX(stocks!$C:$C,SMALL(IF(stocks!$A$2:$A$21=$A4,ROW(stocks!$A$2:$A$21),9^9),C$1)),0)} -> 36 | E4: =MIN(B4,D4) -> 1 | F4: {=IFERROR(INDEX(stocks!$B:$B,SMALL(IF(stocks!$A$2:$A$21=$A4,ROW(stocks!$A$2:$A$21),9^9),F$1)),0)} -> 0 | G4: {=IFERROR(INDEX(stocks!$C:$C,SMALL(IF(stocks!$A$2:$A$21=$A4,ROW(stocks!$A$2:$A$21),9^9),F$1)),0)} -> 0 | H4: =MIN(G4,B4-E4) -> 0 | I4: {=IFERROR(INDEX(stocks!$B:$B,SMALL(IF(stocks!$A$2:$A$21=$A4,ROW(stocks!$A$2:$A$21),9^9),I$1)),0)} -> 0 | J4: {=IFERROR(INDEX(stocks!$C:$C,SMALL(IF(stocks!$A$2:$A$21=$A4,ROW(stocks!$A$2:$A$21),9^9),I$1)),0)} -> 0 | K4: =MIN(J4,B4-E4-H4) -> 0 | L4: {=IFERROR(INDEX(stocks!$B:$B,SMALL(IF(stocks!$A$2:$A$21=$A4,ROW(stocks!$A$2:$A$21),9^9),L$1)),0)} -> 0 | M4: {=IFERROR(INDEX(stocks!$C:$C,SMALL(IF(stocks!$A$2:$A$21=$A4,ROW(stocks!$A$2:$A$21),9^9),L$1)),0)} -> 0 | N4: =MIN(M4,B4-E4-H4-K4) -> 0 | O4: {=IFERROR(INDEX(stocks!$B:$B,SMALL(IF(stocks!$A$2:$A$21=$A4,ROW(stocks!$A$2:$A$21),9^9),O$1)),0)} -> 0 | P4: {=IFERROR(INDEX(stocks!$C:$C,SMALL(IF(stocks!$A$2:$A$21=$A4,ROW(stocks!$A$2:$A$21),9^9),O$1)),0)} -> 0 | Q4: =MIN(P4,B4-E4-H4-K4-N4) -> 0
A5: ANAIS | B5: 17 | C5: {=IFERROR(INDEX(stocks!$B:$B,SMALL(IF(stocks!$A$2:$A$21=$A5,ROW(stocks!$A$2:$A$21),9^9),C$1)),0)} -> 11820 | D5: {=IFERROR(INDEX(stocks!$C:$C,SMALL(IF(stocks!$A$2:$A$21=$A5,ROW(stocks!$A$2:$A$21),9^9),C$1)),0)} -> 153 | E5: =MIN(B5,D5) -> 17 | F5: {=IFERROR(INDEX(stocks!$B:$B,SMALL(IF(stocks!$A$2:$A$21=$A5,ROW(stocks!$A$2:$A$21),9^9),F$1)),0)} -> 0 | G5: {=IFERROR(INDEX(stocks!$C:$C,SMALL(IF(stocks!$A$2:$A$21=$A5,ROW(stocks!$A$2:$A$21),9^9),F$1)),0)} -> 0 | H5: =MIN(G5,B5-E5) -> 0 | I5: {=IFERROR(INDEX(stocks!$B:$B,SMALL(IF(stocks!$A$2:$A$21=$A5,ROW(stocks!$A$2:$A$21),9^9),I$1)),0)} -> 0 | J5: {=IFERROR(INDEX(stocks!$C:$C,SMALL(IF(stocks!$A$2:$A$21=$A5,ROW(stocks!$A$2:$A$21),9^9),I$1)),0)} -> 0 | K5: =MIN(J5,B5-E5-H5) -> 0 | L5: {=IFERROR(INDEX(stocks!$B:$B,SMALL(IF(stocks!$A$2:$A$21=$A5,ROW(stocks!$A$2:$A$21),9^9),L$1)),0)} -> 0 | M5: {=IFERROR(INDEX(stocks!$C:$C,SMALL(IF(stocks!$A$2:$A$21=$A5,ROW(stocks!$A$2:$A$21),9^9),L$1)),0)} -> 0 | N5: =MIN(M5,B5-E5-H5-K5) -> 0 | O5: {=IFERROR(INDEX(stocks!$B:$B,SMALL(IF(stocks!$A$2:$A$21=$A5,ROW(stocks!$A$2:$A$21),9^9),O$1)),0)} -> 0 | P5: {=IFERROR(INDEX(stocks!$C:$C,SMALL(IF(stocks!$A$2:$A$21=$A5,ROW(stocks!$A$2:$A$21),9^9),O$1)),0)} -> 0 | Q5: =MIN(P5,B5-E5-H5-K5-N5) -> 0
A6: JEROME | B6: 78 | C6: {=IFERROR(INDEX(stocks!$B:$B,SMALL(IF(stocks!$A$2:$A$21=$A6,ROW(stocks!$A$2:$A$21),9^9),C$1)),0)} -> 12896 | D6: {=IFERROR(INDEX(stocks!$C:$C,SMALL(IF(stocks!$A$2:$A$21=$A6,ROW(stocks!$A$2:$A$21),9^9),C$1)),0)} -> 52 | E6: =MIN(B6,D6) -> 52 | F6: {=IFERROR(INDEX(stocks!$B:$B,SMALL(IF(stocks!$A$2:$A$21=$A6,ROW(stocks!$A$2:$A$21),9^9),F$1)),0)} -> 13972 | G6: {=IFERROR(INDEX(stocks!$C:$C,SMALL(IF(stocks!$A$2:$A$21=$A6,ROW(stocks!$A$2:$A$21),9^9),F$1)),0)} -> 55 | H6: =MIN(G6,B6-E6) -> 26 | I6: {=IFERROR(INDEX(stocks!$B:$B,SMALL(IF(stocks!$A$2:$A$21=$A6,ROW(stocks!$A$2:$A$21),9^9),I$1)),0)} -> 15048 | J6: {=IFERROR(INDEX(stocks!$C:$C,SMALL(IF(stocks!$A$2:$A$21=$A6,ROW(stocks!$A$2:$A$21),9^9),I$1)),0)} -> 70 | K6: =MIN(J6,B6-E6-H6) -> 0 | L6: {=IFERROR(INDEX(stocks!$B:$B,SMALL(IF(stocks!$A$2:$A$21=$A6,ROW(stocks!$A$2:$A$21),9^9),L$1)),0)} -> 0 | M6: {=IFERROR(INDEX(stocks!$C:$C,SMALL(IF(stocks!$A$2:$A$21=$A6,ROW(stocks!$A$2:$A$21),9^9),L$1)),0)} -> 0 | N6: =MIN(M6,B6-E6-H6-K6) -> 0 | O6: {=IFERROR(INDEX(stocks!$B:$B,SMALL(IF(stocks!$A$2:$A$21=$A6,ROW(stocks!$A$2:$A$21),9^9),O$1)),0)} -> 0 | P6: {=IFERROR(INDEX(stocks!$C:$C,SMALL(IF(stocks!$A$2:$A$21=$A6,ROW(stocks!$A$2:$A$21),9^9),O$1)),0)} -> 0 | Q6: =MIN(P6,B6-E6-H6-K6-N6) -> 0
A7: ADRIEN | B7: 1 | C7: {=IFERROR(INDEX(stocks!$B:$B,SMALL(IF(stocks!$A$2:$A$21=$A7,ROW(stocks!$A$2:$A$21),9^9),C$1)),0)} -> 16124 | D7: {=IFERROR(INDEX(stocks!$C:$C,SMALL(IF(stocks!$A$2:$A$21=$A7,ROW(stocks!$A$2:$A$21),9^9),C$1)),0)} -> 2 | E7: =MIN(B7,D7) -> 1 | F7: {=IFERROR(INDEX(stocks!$B:$B,SMALL(IF(stocks!$A$2:$A$21=$A7,ROW(stocks!$A$2:$A$21),9^9),F$1)),0)} -> 0 | G7: {=IFERROR(INDEX(stocks!$C:$C,SMALL(IF(stocks!$A$2:$A$21=$A7,ROW(stocks!$A$2:$A$21),9^9),F$1)),0)} -> 0 | H7: =MIN(G7,B7-E7) -> 0 | I7: {=IFERROR(INDEX(stocks!$B:$B,SMALL(IF(stocks!$A$2:$A$21=$A7,ROW(stocks!$A$2:$A$21),9^9),I$1)),0)} -> 0 | J7: {=IFERROR(INDEX(stocks!$C:$C,SMALL(IF(stocks!$A$2:$A$21=$A7,ROW(stocks!$A$2:$A$21),9^9),I$1)),0)} -> 0 | K7: =MIN(J7,B7-E7-H7) -> 0 | L7: {=IFERROR(INDEX(stocks!$B:$B,SMALL(IF(stocks!$A$2:$A$21=$A7,ROW(stocks!$A$2:$A$21),9^9),L$1)),0)} -> 0 | M7: {=IFERROR(INDEX(stocks!$C:$C,SMALL(IF(stocks!$A$2:$A$21=$A7,ROW(stocks!$A$2:$A$21),9^9),L$1)),0)} -> 0 | N7: =MIN(M7,B7-E7-H7-K7) -> 0 | O7: {=IFERROR(INDEX(stocks!$B:$B,SMALL(IF(stocks!$A$2:$A$21=$A7,ROW(stocks!$A$2:$A$21),9^9),O$1)),0)} -> 0 | P7: {=IFERROR(INDEX(stocks!$C:$C,SMALL(IF(stocks!$A$2:$A$21=$A7,ROW(stocks!$A$2:$A$21),9^9),O$1)),0)} -> 0 | Q7: =MIN(P7,B7-E7-H7-K7-N7) -> 0
A8: ADAM | B8: 4 | C8: {=IFERROR(INDEX(stocks!$B:$B,SMALL(IF(stocks!$A$2:$A$21=$A8,ROW(stocks!$A$2:$A$21),9^9),C$1)),0)} -> 17200 | D8: {=IFERROR(INDEX(stocks!$C:$C,SMALL(IF(stocks!$A$2:$A$21=$A8,ROW(stocks!$A$2:$A$21),9^9),C$1)),0)} -> 9 | E8: =MIN(B8,D8) -> 4 | F8: {=IFERROR(INDEX(stocks!$B:$B,SMALL(IF(stocks!$A$2:$A$21=$A8,ROW(stocks!$A$2:$A$21),9^9),F$1)),0)} -> 0 | G8: {=IFERROR(INDEX(stocks!$C:$C,SMALL(IF(stocks!$A$2:$A$21=$A8,ROW(stocks!$A$2:$A$21),9^9),F$1)),0)} -> 0 | H8: =MIN(G8,B8-E8) -> 0 | I8: {=IFERROR(INDEX(stocks!$B:$B,SMALL(IF(stocks!$A$2:$A$21=$A8,ROW(stocks!$A$2:$A$21),9^9),I$1)),0)} -> 0 | J8: {=IFERROR(INDEX(stocks!$C:$C,SMALL(IF(stocks!$A$2:$A$21=$A8,ROW(stocks!$A$2:$A$21),9^9),I$1)),0)} -> 0 | K8: =MIN(J8,B8-E8-H8) -> 0 | L8: {=IFERROR(INDEX(stocks!$B:$B,SMALL(IF(stocks!$A$2:$A$21=$A8,ROW(stocks!$A$2:$A$21),9^9),L$1)),0)} -> 0 | M8: {=IFERROR(INDEX(stocks!$C:$C,SMALL(IF(stocks!$A$2:$A$21=$A8,ROW(stocks!$A$2:$A$21),9^9),L$1)),0)} -> 0 | N8: =MIN(M8,B8-E8-H8-K8) -> 0 | O8: {=IFERROR(INDEX(stocks!$B:$B,SMALL(IF(stocks!$A$2:$A$21=$A8,ROW(stocks!$A$2:$A$21),9^9),O$1)),0)} -> 0 | P8: {=IFERROR(INDEX(stocks!$C:$C,SMALL(IF(stocks!$A$2:$A$21=$A8,ROW(stocks!$A$2:$A$21),9^9),O$1)),0)} -> 0 | Q8: =MIN(P8,B8-E8-H8-K8-N8) -> 0
A9: ELEONORE | B9: 152 | C9: {=IFERROR(INDEX(stocks!$B:$B,SMALL(IF(stocks!$A$2:$A$21=$A9,ROW(stocks!$A$2:$A$21),9^9),C$1)),0)} -> 18276 | D9: {=IFERROR(INDEX(stocks!$C:$C,SMALL(IF(stocks!$A$2:$A$21=$A9,ROW(stocks!$A$2:$A$21),9^9),C$1)),0)} -> 88 | E9: =MIN(B9,D9) -> 88 | F9: {=IFERROR(INDEX(stocks!$B:$B,SMALL(IF(stocks!$A$2:$A$21=$A9,ROW(stocks!$A$2:$A$21),9^9),F$1)),0)} -> 0 | G9: {=IFERROR(INDEX(stocks!$C:$C,SMALL(IF(stocks!$A$2:$A$21=$A9,ROW(stocks!$A$2:$A$21),9^9),F$1)),0)} -> 0 | H9: =MIN(G9,B9-E9) -> 0 | I9: {=IFERROR(INDEX(stocks!$B:$B,SMALL(IF(stocks!$A$2:$A$21=$A9,ROW(stocks!$A$2:$A$21),9^9),I$1)),0)} -> 0 | J9: {=IFERROR(INDEX(stocks!$C:$C,SMALL(IF(stocks!$A$2:$A$21=$A9,ROW(stocks!$A$2:$A$21),9^9),I$1)),0)} -> 0 | K9: =MIN(J9,B9-E9-H9) -> 0 | L9: {=IFERROR(INDEX(stocks!$B:$B,SMALL(IF(stocks!$A$2:$A$21=$A9,ROW(stocks!$A$2:$A$21),9^9),L$1)),0)} -> 0 | M9: {=IFERROR(INDEX(stocks!$C:$C,SMALL(IF(stocks!$A$2:$A$21=$A9,ROW(stocks!$A$2:$A$21),9^9),L$1)),0)} -> 0 | N9: =MIN(M9,B9-E9-H9-K9) -> 0 | O9: {=IFERROR(INDEX(stocks!$B:$B,SMALL(IF(stocks!$A$2:$A$21=$A9,ROW(stocks!$A$2:$A$21),9^9),O$1)),0)} -> 0 | P9: {=IFERROR(INDEX(stocks!$C:$C,SMALL(IF(stocks!$A$2:$A$21=$A9,ROW(stocks!$A$2:$A$21),9^9),O$1)),0)} -> 0 | Q9: =MIN(P9,B9-E9-H9-K9-N9) -> 0
A10: =+stocks!A18 -> MICKAEL | B10: 12 | C10: {=IFERROR(INDEX(stocks!$B:$B,SMALL(IF(stocks!$A$2:$A$21=$A10,ROW(stocks!$A$2:$A$21),9^9),C$1)),0)} -> 19352 | D10: {=IFERROR(INDEX(stocks!$C:$C,SMALL(IF(stocks!$A$2:$A$21=$A10,ROW(stocks!$A$2:$A$21),9^9),C$1)),0)} -> 25 | E10: =MIN(B10,D10) -> 12 | F10: {=IFERROR(INDEX(stocks!$B:$B,SMALL(IF(stocks!$A$2:$A$21=$A10,ROW(stocks!$A$2:$A$21),9^9),F$1)),0)} -> 0 | G10: {=IFERROR(INDEX(stocks!$C:$C,SMALL(IF(stocks!$A$2:$A$21=$A10,ROW(stocks!$A$2:$A$21),9^9),F$1)),0)} -> 0 | H10: =MIN(G10,B10-E10) -> 0 | I10: {=IFERROR(INDEX(stocks!$B:$B,SMALL(IF(stocks!$A$2:$A$21=$A10,ROW(stocks!$A$2:$A$21),9^9),I$1)),0)} -> 0 | J10: {=IFERROR(INDEX(stocks!$C:$C,SMALL(IF(stocks!$A$2:$A$21=$A10,ROW(stocks!$A$2:$A$21),9^9),I$1)),0)} -> 0 | K10: =MIN(J10,B10-E10-H10) -> 0 | L10: {=IFERROR(INDEX(stocks!$B:$B,SMALL(IF(stocks!$A$2:$A$21=$A10,ROW(stocks!$A$2:$A$21),9^9),L$1)),0)} -> 0 | M10: {=IFERROR(INDEX(stocks!$C:$C,SMALL(IF(stocks!$A$2:$A$21=$A10,ROW(stocks!$A$2:$A$21),9^9),L$1)),0)} -> 0 | N10: =MIN(M10,B10-E10-H10-K10) -> 0 | O10: {=IFERROR(INDEX(stocks!$B:$B,SMALL(IF(stocks!$A$2:$A$21=$A10,ROW(stocks!$A$2:$A$21),9^9),O$1)),0)} -> 0 | P10: {=IFERROR(INDEX(stocks!$C:$C,SMALL(IF(stocks!$A$2:$A$21=$A10,ROW(stocks!$A$2:$A$21),9^9),O$1)),0)} -> 0 | Q10: =MIN(P10,B10-E10-H10-K10-N10) -> 0
A11: =+stocks!A19 -> EDDY | B11: 11 | C11: {=IFERROR(INDEX(stocks!$B:$B,SMALL(IF(stocks!$A$2:$A$21=$A11,ROW(stocks!$A$2:$A$21),9^9),C$1)),0)} -> 20428 | D11: {=IFERROR(INDEX(stocks!$C:$C,SMALL(IF(stocks!$A$2:$A$21=$A11,ROW(stocks!$A$2:$A$21),9^9),C$1)),0)} -> 36 | E11: =MIN(B11,D11) -> 11 | F11: {=IFERROR(INDEX(stocks!$B:$B,SMALL(IF(stocks!$A$2:$A$21=$A11,ROW(stocks!$A$2:$A$21),9^9),F$1)),0)} -> 0 | G11: {=IFERROR(INDEX(stocks!$C:$C,SMALL(IF(stocks!$A$2:$A$21=$A11,ROW(stocks!$A$2:$A$21),9^9),F$1)),0)} -> 0 | H11: =MIN(G11,B11-E11) -> 0 | I11: {=IFERROR(INDEX(stocks!$B:$B,SMALL(IF(stocks!$A$2:$A$21=$A11,ROW(stocks!$A$2:$A$21),9^9),I$1)),0)} -> 0 | J11: {=IFERROR(INDEX(stocks!$C:$C,SMALL(IF(stocks!$A$2:$A$21=$A11,ROW(stocks!$A$2:$A$21),9^9),I$1)),0)} -> 0 | K11: =MIN(J11,B11-E11-H11) -> 0 | L11: {=IFERROR(INDEX(stocks!$B:$B,SMALL(IF(stocks!$A$2:$A$21=$A11,ROW(stocks!$A$2:$A$21),9^9),L$1)),0)} -> 0 | M11: {=IFERROR(INDEX(stocks!$C:$C,SMALL(IF(stocks!$A$2:$A$21=$A11,ROW(stocks!$A$2:$A$21),9^9),L$1)),0)} -> 0 | N11: =MIN(M11,B11-E11-H11-K11) -> 0 | O11: {=IFERROR(INDEX(stocks!$B:$B,SMALL(IF(stocks!$A$2:$A$21=$A11,ROW(stocks!$A$2:$A$21),9^9),O$1)),0)} -> 0 | P11: {=IFERROR(INDEX(stocks!$C:$C,SMALL(IF(stocks!$A$2:$A$21=$A11,ROW(stocks!$A$2:$A$21),9^9),O$1)),0)} -> 0 | Q11: =MIN(P11,B11-E11-H11-K11-N11) -> 0
A12: =+stocks!A20 -> RHINO | B12: 85 | C12: {=IFERROR(INDEX(stocks!$B:$B,SMALL(IF(stocks!$A$2:$A$21=$A12,ROW(stocks!$A$2:$A$21),9^9),C$1)),0)} -> 21504 | D12: {=IFERROR(INDEX(stocks!$C:$C,SMALL(IF(stocks!$A$2:$A$21=$A12,ROW(stocks!$A$2:$A$21),9^9),C$1)),0)} -> 98 | E12: =MIN(B12,D12) -> 85 | F12: {=IFERROR(INDEX(stocks!$B:$B,SMALL(IF(stocks!$A$2:$A$21=$A12,ROW(stocks!$A$2:$A$21),9^9),F$1)),0)} -> 0 | G12: {=IFERROR(INDEX(stocks!$C:$C,SMALL(IF(stocks!$A$2:$A$21=$A12,ROW(stocks!$A$2:$A$21),9^9),F$1)),0)} -> 0 | H12: =MIN(G12,B12-E12) -> 0 | I12: {=IFERROR(INDEX(stocks!$B:$B,SMALL(IF(stocks!$A$2:$A$21=$A12,ROW(stocks!$A$2:$A$21),9^9),I$1)),0)} -> 0 | J12: {=IFERROR(INDEX(stocks!$C:$C,SMALL(IF(stocks!$A$2:$A$21=$A12,ROW(stocks!$A$2:$A$21),9^9),I$1)),0)} -> 0 | K12: =MIN(J12,B12-E12-H12) -> 0 | L12: {=IFERROR(INDEX(stocks!$B:$B,SMALL(IF(stocks!$A$2:$A$21=$A12,ROW(stocks!$A$2:$A$21),9^9),L$1)),0)} -> 0 | M12: {=IFERROR(INDEX(stocks!$C:$C,SMALL(IF(stocks!$A$2:$A$21=$A12,ROW(stocks!$A$2:$A$21),9^9),L$1)),0)} -> 0 | N12: =MIN(M12,B12-E12-H12-K12) -> 0 | O12: {=IFERROR(INDEX(stocks!$B:$B,SMALL(IF(stocks!$A$2:$A$21=$A12,ROW(stocks!$A$2:$A$21),9^9),O$1)),0)} -> 0 | P12: {=IFERROR(INDEX(stocks!$C:$C,SMALL(IF(stocks!$A$2:$A$21=$A12,ROW(stocks!$A$2:$A$21),9^9),O$1)),0)} -> 0 | Q12: =MIN(P12,B12-E12-H12-K12-N12) -> 0
A13: =+stocks!A21 -> LILI | B13: 14 | C13: {=IFERROR(INDEX(stocks!$B:$B,SMALL(IF(stocks!$A$2:$A$21=$A13,ROW(stocks!$A$2:$A$21),9^9),C$1)),0)} -> 22580 | D13: {=IFERROR(INDEX(stocks!$C:$C,SMALL(IF(stocks!$A$2:$A$21=$A13,ROW(stocks!$A$2:$A$21),9^9),C$1)),0)} -> 25 | E13: =MIN(B13,D13) -> 14 | F13: {=IFERROR(INDEX(stocks!$B:$B,SMALL(IF(stocks!$A$2:$A$21=$A13,ROW(stocks!$A$2:$A$21),9^9),F$1)),0)} -> 0 | G13: {=IFERROR(INDEX(stocks!$C:$C,SMALL(IF(stocks!$A$2:$A$21=$A13,ROW(stocks!$A$2:$A$21),9^9),F$1)),0)} -> 0 | H13: =MIN(G13,B13-E13) -> 0 | I13: {=IFERROR(INDEX(stocks!$B:$B,SMALL(IF(stocks!$A$2:$A$21=$A13,ROW(stocks!$A$2:$A$21),9^9),I$1)),0)} -> 0 | J13: {=IFERROR(INDEX(stocks!$C:$C,SMALL(IF(stocks!$A$2:$A$21=$A13,ROW(stocks!$A$2:$A$21),9^9),I$1)),0)} -> 0 | K13: =MIN(J13,B13-E13-H13) -> 0 | L13: {=IFERROR(INDEX(stocks!$B:$B,SMALL(IF(stocks!$A$2:$A$21=$A13,ROW(stocks!$A$2:$A$21),9^9),L$1)),0)} -> 0 | M13: {=IFERROR(INDEX(stocks!$C:$C,SMALL(IF(stocks!$A$2:$A$21=$A13,ROW(stocks!$A$2:$A$21),9^9),L$1)),0)} -> 0 | N13: =MIN(M13,B13-E13-H13-K13) -> 0 | O13: {=IFERROR(INDEX(stocks!$B:$B,SMALL(IF(stocks!$A$2:$A$21=$A13,ROW(stocks!$A$2:$A$21),9^9),O$1)),0)} -> 0 | P13: {=IFERROR(INDEX(stocks!$C:$C,SMALL(IF(stocks!$A$2:$A$21=$A13,ROW(stocks!$A$2:$A$21),9^9),O$1)),0)} -> 0 | Q13: =MIN(P13,B13-E13-H13-K13-N13) -> 0
