Workbook

Sheet COP
A1: Date | B1: Lien d'accès au fichier source | C1: Combien y'a-t-il de feuille(s) pour la date concernée? (MIN 1/MAX 5) | E1: Lien d'accès feuille(s) Excel | L1: Générateur de consigne | M1: Colonne générateur consigne | N1: Nouveau code obtenu | O1: Colonne Qtité froid refroidisemment | P1: Colonne Qtité de chaleur chauffage | Q1: Colonne Importation énergie | R1: Quantité de froid refroidissement [kWh] | U1: Quantité de chaleur chauffage [kWh] | X1: Importation d'énergie active | AD1: COP
E2: VIA | G2: 1 | H2: 2 | I2: 3 | J2: 4 | K2: 5 | R2: Valeur MIN | S2: Valeur MAX | T2: Δ (<>0) | U2: Valeur MIN | V2: Valeur MAX | W2: Δ (<>0) | X2: Valeur MIN | Y2: Valeur MAX | Z2: Δ (<>0) | AA2: Valeur MIN | AB2: Valeur MAX | AC2: Δ (<>0) | AD2: Chaud | AF2: Froid
A3: 44124 | B3: =IF(CELL("format",$A3)="D1",HYPERLINK("C:\Users\Utilisateur\Desktop\Edergen\TTE Tool\MeasureData\"&TEXT($A3,"aaaa.mm.jj")&"\","Dossier"),"Erreur : date attendue") -> Dossier | C3: 4 | E3: Dossier | G3: =IF($C3>=1,IF(CELL("format",$A3)="D1",HYPERLINK("C:\Users\Utilisateur\Desktop\Edergen\TTE Tool\MeasureData\"&TEXT($A3,"aaaa.mm.jj")&"\"&TEXT($A3,"aa.mm.jj")&".csv",TEXT($A3,"aa.mm.jj")),"Erreur : date attendue"),"") -> 20.10.20 | H3: =IF($C3>=2,IF(CELL("format",$A3)="D1",HYPERLINK("C:\Users\Utilisateur\Desktop\Edergen\TTE Tool\MeasureData\"&TEXT($A3,"aaaa.mm.jj")&"\"&TEXT($A3,"aa.mm.jj")&"("&$H$2&")"&".csv",TEXT($A3,"aa.mm.jj")&"("&$H$2&")"),"Erreur : date attendue"),"") -> 20.10.20(2) | I3: =IF($C3>=3,IF(CELL("format",$A3)="D1",HYPERLINK("C:\Users\Utilisateur\Desktop\Edergen\TTE Tool\MeasureData\"&TEXT($A3,"aaaa.mm.jj")&"\"&TEXT($A3,"aa.mm.jj")&"("&$I$2&")"&".csv",TEXT($A3,"aa.mm.jj")&"("&$I$2&")"),"Erreur : date attendue"),"") -> 20.10.20(3) | J3: =IF($C3>=4,IF(CELL("format",$A3)="D1",HYPERLINK("C:\Users\Utilisateur\Desktop\Edergen\TTE Tool\MeasureData\"&TEXT($A3,"aaaa.mm.jj")&"\"&TEXT($A3,"aa.mm.jj")&"("&$J$2&")"&".csv",TEXT($A3,"aa.mm.jj")&"("&$J$2&")"),"Erreur : date attendue"),"") -> 20.10.20(4) | K3: =IF($C3>=5,IF(CELL("format",$A3)="D1",HYPERLINK("C:\Users\Utilisateur\Desktop\Edergen\TTE Tool\MeasureData\"&TEXT($A3,"aaaa.mm.jj")&"\"&TEXT($A3,"aa.mm.jj")&"("&$K$2&")"&".csv",TEXT($A3,"aa.mm.jj")&"("&$K$2&")"),"Erreur : date attendue"),"") | L3: =IF(ISBLANK(INDIRECT("'"&G3&"'!"&CONCATENATE(MID(ADDRESS(9,COLUMN(INDEX(INDIRECT("'"&$G3&"'!$1:$1048576"),9,MATCH("1.10.1.1007 | Générateur de chaleur consigne",INDIRECT("'"&$G3&"'!$9:$9"),0)))),2,1),"10"))),"valeur manquante",IF(AND(INDIRECT("'"&G3&"'!"&CONCATENATE(MID(ADDRESS(9,COLUMN(INDEX(INDIRECT("'"&$G3&"'!$1:$1048576"),9,MATCH("1.10.1.1007 | Générateur de chaleur consigne",INDIRECT("'"&$G3&"'!$9:$9"),0)))),2,1),"10"))<=20,INDIRECT("'"&G3&"'!"&CONCATENATE(MID(ADDRESS(9,COLUMN(INDEX(INDIRECT("'"&$G3&"'!$1:$1048576"),9,MATCH("1.10.1.1007 | Générateur de chaleur consigne",INDIRECT("'"&$G3&"'!$9:$9"),0)))),2,1),"10"))>=10),"Froid",IF(AND(INDIRECT("'"&G3&"'!"&CONCATENATE(MID(ADDRESS(9,COLUMN(INDEX(INDIRECT("'"&$G3&"'!$1:$1048576"),9,MATCH("1.10.1.1007 | Générateur de chaleur consigne",INDIRECT("'"&$G3&"'!$9:$9"),0)))),2,1),"10"))>=45,INDIRECT("'"&G3&"'!"&CONCATENATE(MID(ADDRESS(9,COLUMN(INDEX(INDIRECT("'"&$G3&"'!$1:$1048576"),9,MATCH("1.10.1.1007 | Générateur de chaleur consigne",INDIRECT("'"&$G3&"'!$9:$9"),0)))),2,1),"10"))<70),"Chaud",IF(INDIRECT("'"&G3&"'!"&CONCATENATE(MID(ADDRESS(9,COLUMN(INDEX(INDIRECT("'"&$G3&"'!$1:$1048576"),9,MATCH("1.10.1.1007 | Générateur de chaleur consigne",INDIRECT("'"&$G3&"'!$9:$9"),0)))),2,1),"10"))=0,"pas de consigne",IF(OR(AND(INDIRECT("'"&G3&"'!"&CONCATENATE(MID(ADDRESS(9,COLUMN(INDEX(INDIRECT("'"&$G3&"'!$1:$1048576"),9,MATCH("1.10.1.1007 | Générateur de chaleur consigne",INDIRECT("'"&$G3&"'!$9:$9"),0)))),2,1),"10"))<45,INDIRECT("'"&G3&"'!"&CONCATENATE(MID(ADDRESS(9,COLUMN(INDEX(INDIRECT("'"&$G3&"'!$1:$1048576"),9,MATCH("1.10.1.1007 | Générateur de chaleur consigne",INDIRECT("'"&$G3&"'!$9:$9"),0)))),2,1),"10"))>20),INDIRECT("'"&G3&"'!"&CONCATENATE(MID(ADDRESS(9,COLUMN(INDEX(INDIRECT("'"&$G3&"'!$1:$1048576"),9,MATCH("1.10.1.1007 | Générateur de chaleur consigne",INDIRECT("'"&$G3&"'!$9:$9"),0)))),2,1),"10"))<0,AND(INDIRECT("'"&G3&"'!"&CONCATENATE(MID(ADDRESS(9,COLUMN(INDEX(INDIRECT("'"&$G3&"'!$1:$1048576"),9,MATCH("1.10.1.1007 | Générateur de chaleur consigne",INDIRECT("'"&$G3&"'!$9:$9"),0)))),2,1),"10"))<10,INDIRECT("'"&G3&"'!"&CONCATENATE(MID(ADDRESS(9,COLUMN(INDEX(INDIRECT("'"&$G3&"'!$1:$1048576"),9,MATCH("1.10.1.1007 | Générateur de chaleur consigne",INDIRECT("'"&$G3&"'!$9:$9"),0)))),2,1),"10"))>0),AND(INDIRECT("'"&G3&"'!"&CONCATENATE(MID(ADDRESS(9,COLUMN(INDEX(INDIRECT("'"&$G3&"'!$1:$1048576"),9,MATCH("1.10.1.1007 | Générateur de chaleur consigne",INDIRECT("'"&$G3&"'!$9:$9"),0)))),2,1),"10"))>=70)),"erreur"))))) -> pas de consigne | M3: =MID(ADDRESS(9,COLUMN(INDEX(INDIRECT("'"&$G3&"'!$1:$1048576"),9,MATCH("1.10.1.1007 | Générateur de chaleur consigne",INDIRECT("'"&$G3&"'!$9:$9"),0)))),2,1) -> H | N3: =CONCATENATE(MID(ADDRESS(9,COLUMN(INDEX(INDIRECT("'"&$G3&"'!$1:$1048576"),9,MATCH("1.10.1.1007 | Générateur de chaleur consigne",INDIRECT("'"&$G3&"'!$9:$9"),0)))),2,1),"10") -> H10 | O3: =MID(ADDRESS(9,COLUMN(INDEX(INDIRECT("'"&$G3&"'!$1:$1048576"),9,MATCH("1.1.0.29052 | Quantité de froid refroidissement",INDIRECT("'"&$G3&"'!$9:$9"),0)))),2,1) -> F | P3: =MID(ADDRESS(9,COLUMN(INDEX(INDIRECT("'"&$G3&"'!$1:$1048576"),9,MATCH("1.10.1.29050 | Quantité de chaleur chauffage",INDIRECT("'"&$G3&"'!$9:$9"),0)))),2,1) -> J | Q3: =MID(ADDRESS(9,COLUMN(INDEX(INDIRECT("'"&$G3&"'!$1:$1048576"),9,MATCH("397.20.1.250 | Importation énergie active 1 kWh",INDIRECT("'"&$G3&"'!$9:$9"),0)))),2,1) -> P | R3: =GETPIVOTDATA("Min de 1.1.0.29052 | Quantité de froid refroidissement",TCD!$A$3,"1.10.1.1007 | Générateur de chaleur consigne",18) -> 0.33 | S3: =GETPIVOTDATA("Max de 1.1.0.29052 | Quantité de froid refroidissement",TCD!$A$3,"1.10.1.1007 | Générateur de chaleur consigne",18) -> 0.39 | T3: =IF(OR($S3="/",$R3="/"),"/",$S3-$R3) -> 0.06 | U3: =GETPIVOTDATA("Min de 1.10.1.29050 | Quantité de chaleur chauffage",TCD!$A$3,"1.10.1.1007 | Générateur de chaleur consigne",52) -> 0.91 | V3: =GETPIVOTDATA("Max de 1.10.1.29050 | Quantité de chaleur chauffage",TCD!$A$3,"1.10.1.1007 | Générateur de chaleur consigne",52) -> 0.95 | W3: =IF(OR($V3="/",$U3="/"),"/",$V3-$U3) -> 0.04 | X3: =GETPIVOTDATA("Min de 397.20.1.250 | Importation énergie active 1 kWh",TCD!$A$3,"1.10.1.1007 | Générateur de chaleur consigne",18) -> 269.79 | Y3: =GETPIVOTDATA("Max de 397.20.1.250 | Importation énergie active 1 kWh",TCD!$A$3,"1.10.1.1007 | Générateur de chaleur consigne",18) -> 271.01 | Z3: =IF(OR($Y3="/",$X3="/"),"/",$Y3-$X3) -> 1.22 | AA3: =GETPIVOTDATA("Min de 397.20.1.250 | Importation énergie active 1 kWh",TCD!$A$3,"1.10.1.1007 | Générateur de chaleur consigne",52) -> 269.94 | AB3: =GETPIVOTDATA("Max de 397.20.1.250 | Importation énergie active 1 kWh",TCD!$A$3,"1.10.1.1007 | Générateur de chaleur consigne",52) -> 270.74 | AC3: =IF(OR($AB3="/",$AA3="/"),"/",$AB3-$AA3) -> 0.8 | AD3: =W3/(AC3/1000) -> 50 | AF3: =T3/(Z3/1000) -> 49.180328
L4: =TEXT($A3,"aa.mm.jj") -> 20.10.20
A5: Etapes :
A6: 1) Entrer la date choisie pour visualiser le COP de cette date,
A7: 2) Ouvrir le dossier s'y référant et renommer la feuille par la date en format aa.mm.jj. ATTENTION ! S'il existe plusieurs feuilles pour la même date, renommer les suivantes : aa.mm.jj(2), aa.mm.jj(3), etc.
A8: 3) Ouvrir la/les feuille(s) via le/les lien(s) créé(s) et l'/les insérer dans ce classeur : clic droit sur la nouvelle feuille ouverte -> déplacer ou copier -> liste déroulante -> Classeur COP -> cocher "en dernier" -> ok.
A9: La feuille se trouve désormais dans le Classeur COP.
A10: 4) De là, le COP se calcule tout seul en fonction des données se trouvant dans la nouvelle feuille collée, grâce à des formules qui s'y rapportent.
N12: 10
N13: 0.9

Sheet TCD
A3: Étiquettes de lignes | B3: Min de 397.20.1.250 | Importation énergie active 1 kWh | C3: Max de 397.20.1.250 | Importation énergie active 1 kWh | D3: Min de 1.1.0.29052 | Quantité de froid refroidissement | E3: Max de 1.1.0.29052 | Quantité de froid refroidissement | F3: Min de 1.10.1.29050 | Quantité de chaleur chauffage | G3: Max de 1.10.1.29050 | Quantité de chaleur chauffage
A4: 0 | B4: 0 | C4: 271.01 | D4: 0 | E4: 0.39 | F4: 0 | G4: 0.95
A5: 18 | B5: 269.79 | C5: 271.01 | D5: 0.33 | E5: 0.39 | F5: 0.91 | G5: 0.95
A6: 52 | B6: 269.94 | C6: 270.74 | D6: 0.35 | E6: 0.37 | F6: 0.91 | G6: 0.95

Sheet 20.10.20
A1: Date de démarrage | B1: 20.10.2020
A2: Heure de démarrage | B2: 0.47326389
A3: Type de connexion | B3: TTE HovalDesk
A4: Différence de temps passerelle [s] | B4: -1170
A5: Nom/IP | B5: 835 - BELARIA AR32
A6: N° de série de la passerelle | B6: 206090041190176
A7: Version du logiciel | B7: HOV217002
A8: Commentaire
A9: Date | B9: Heure | C9: x | D9: 1.1.0.29050 | Quantité de chaleur chauffage | E9: 1.1.0.29051 | Puissance actuelle chauffage | F9: 1.1.0.29052 | Quantité de froid refroidissement | G9: 1.1.0.29053 | Puissance actuelle refroid. | H9: 1.10.1.1007 | Générateur de chaleur consigne | I9: 1.10.1.20052 | Modulation | J9: 1.10.1.29050 | Quantité de chaleur chauffage | K9: 1.10.1.29051 | Puissance actuelle chauffage | L9: 1.10.1.7 | Générateur de chaleur réel | M9: 397.20.1.203 | Puissance active actuelle total W | N9: 397.20.1.207 | Puissance réactive actuelle total W | O9: 397.20.1.211 | Puissance apparente actuelle total W | P9: 397.20.1.250 | Importation énergie active 1 kWh | Q9: 397.20.1.310 | cos phi actuel total
A10: 20.10.2020 | B10: 0.47366898 | D10: 0 | E10: 0 | F10: 0 | G10: 0 | H10: 0 | I10: 0 | J10: 0 | K10: 0 | L10: 0 | M10: 0 | N10: 0 | O10: 0 | P10: 0 | Q10: 0
A11: 20.10.2020 | B11: 0.47436343 | D11: 0 | E11: 0 | F11: 0.33 | G11: 0 | H11: 0 | I11: 0 | J11: 0.91 | K11: 0 | L11: 49 | M11: 4 | N11: -99.4 | O11: 0 | P11: 269.78 | Q11: -0.04
A12: 20.10.2020 | B12: 0.47505787 | D12: 0 | E12: 0 | F12: 0.33 | G12: 0 | H12: 0 | I12: 0 | J12: 0.91 | K12: 0 | L12: 49 | M12: 4 | N12: -99.7 | O12: 0 | P12: 269.78 | Q12: -0.04
A13: 20.10.2020 | B13: 0.47575231 | D13: 0 | E13: 0 | F13: 0.33 | G13: 0 | H13: 0 | I13: 0 | J13: 0.91 | K13: 0 | L13: 49 | M13: 4 | N13: -97.4 | O13: 0 | P13: 269.78 | Q13: -0.04
A14: 20.10.2020 | B14: 0.47644676 | D14: 0 | E14: 0 | F14: 0.33 | G14: 0 | H14: 0 | I14: 0 | J14: 0.91 | K14: 0 | L14: 49 | M14: 4 | N14: -97.3 | O14: 0 | P14: 269.78 | Q14: -0.04
A15: 20.10.2020 | B15: 0.4771412 | D15: 0 | E15: 0 | F15: 0.33 | G15: 0 | H15: 0 | I15: 0 | J15: 0.91 | K15: 0 | L15: 48.5 | M15: 4 | N15: -97.4 | O15: 0 | P15: 269.78 | Q15: -0.04
A16: 20.10.2020 | B16: 0.47783565 | D16: 0 | E16: 0 | F16: 0.33 | G16: 0 | H16: 0 | I16: 0 | J16: 0.91 | K16: 0 | L16: 49 | M16: 4 | N16: -97 | O16: 0 | P16: 269.78 | Q16: -0.04
A17: 20.10.2020 | B17: 0.47853009 | D17: 0 | E17: 0 | F17: 0.33 | G17: 0 | H17: 18 | I17: 0 | J17: 0.91 | K17: 0 | L17: 48.5 | M17: 4 | N17: -97.4 | O17: 0 | P17: 269.79 | Q17: -0.04
A18: 20.10.2020 | B18: 0.47922454 | D18: 0 | E18: 0 | F18: 0.33 | G18: 0 | H18: 18 | I18: 0 | J18: 0.91 | K18: 0 | L18: 48.5 | M18: 4 | N18: -97.2 | O18: 0 | P18: 269.8 | Q18: -0.04
A19: 20.10.2020 | B19: 0.47991898 | D19: 0 | E19: 0 | F19: 0.33 | G19: 0 | H19: 18 | I19: 0 | J19: 0.91 | K19: 0 | L19: 48.5 | M19: 3.9 | N19: -97.4 | O19: 0 | P19: 269.82 | Q19: -0.04
A20: 20.10.2020 | B20: 0.48061343 | D20: 0 | E20: 0 | F20: 0.33 | G20: 0 | H20: 18 | I20: 0 | J20: 0.91 | K20: 0 | L20: 48.5 | M20: 3.9 | N20: -97.7 | O20: 0 | P20: 269.84 | Q20: -0.04
A21: 20.10.2020 | B21: 0.48130787 | D21: 0 | E21: 0 | F21: 0.33 | G21: 0 | H21: 18 | I21: 0 | J21: 0.91 | K21: 0 | L21: 48.5 | M21: 4 | N21: -98 | O21: 0 | P21: 269.86 | Q21: -0.04
... A130: 20.10.2020 | B130: 0.55697917 | D130: 0 | E130: 0 | F130: 0.39 | G130: 0 | H130: 0 | I130: 0 | J130: 0.95 | K130: 0 | L130: 46 | M130: 3.9 | N130: -97.1 | O130: 0 | P130: 271.01 | Q130: -0.04
