Workbook

Sheet MOTS CLES
A1: mots clés
A2: NIGHTWAY
A3: 0000003070
A4: 0000003300
A5: 0000003366
A6: 0000003477
A7: 0000003624
A8: 0000003626
A9: 0000003682
A10: 20 / VIN
A11: A FLEUR DE
A12: AE MONSIEU
... A263: WINE & COF

Sheet PHRASES
A1: phrase | B1: mot trouvé
A2: SAS NIGHTWAY | B2: {=IFERROR(INDEX('MOTS CLES'!$A$2:$A$263,SMALL(IF(ISERR(SEARCH('MOTS CLES'!$A$2:$A$263,A2)),9^9,1)*ROW('MOTS CLES'!$A$2:$A$263),1)-1),"")} -> NIGHTWAY
A3: FAUSTO / LE FALSTAFF | B3: {=IFERROR(INDEX('MOTS CLES'!$A$2:$A$263,SMALL(IF(ISERR(SEARCH('MOTS CLES'!$A$2:$A$263,A3)),9^9,1)*ROW('MOTS CLES'!$A$2:$A$263),1)-1),"")} -> FAUSTO
A4: L'ALIBI | B4: {=IFERROR(INDEX('MOTS CLES'!$A$2:$A$263,SMALL(IF(ISERR(SEARCH('MOTS CLES'!$A$2:$A$263,A4)),9^9,1)*ROW('MOTS CLES'!$A$2:$A$263),1)-1),"")} -> L'ALIBI
A5: VALYANIS / ENTREPOT CAFE | B5: {=IFERROR(INDEX('MOTS CLES'!$A$2:$A$263,SMALL(IF(ISERR(SEARCH('MOTS CLES'!$A$2:$A$263,A5)),9^9,1)*ROW('MOTS CLES'!$A$2:$A$263),1)-1),"")} -> VALYANIS
A6: AU FUT ET A MESURE | B6: {=IFERROR(INDEX('MOTS CLES'!$A$2:$A$263,SMALL(IF(ISERR(SEARCH('MOTS CLES'!$A$2:$A$263,A6)),9^9,1)*ROW('MOTS CLES'!$A$2:$A$263),1)-1),"")} -> AU FUT ET
A7: LE XV BAR | B7: {=IFERROR(INDEX('MOTS CLES'!$A$2:$A$263,SMALL(IF(ISERR(SEARCH('MOTS CLES'!$A$2:$A$263,A7)),9^9,1)*ROW('MOTS CLES'!$A$2:$A$263),1)-1),"")} -> LE X
A8: LE COLISEE | B8: {=IFERROR(INDEX('MOTS CLES'!$A$2:$A$263,SMALL(IF(ISERR(SEARCH('MOTS CLES'!$A$2:$A$263,A8)),9^9,1)*ROW('MOTS CLES'!$A$2:$A$263),1)-1),"")}
A9: L'IRLANDAIS PUB | B9: {=IFERROR(INDEX('MOTS CLES'!$A$2:$A$263,SMALL(IF(ISERR(SEARCH('MOTS CLES'!$A$2:$A$263,A9)),9^9,1)*ROW('MOTS CLES'!$A$2:$A$263),1)-1),"")} -> IRLANDAIS
A10: LE SNOOKER | B10: {=IFERROR(INDEX('MOTS CLES'!$A$2:$A$263,SMALL(IF(ISERR(SEARCH('MOTS CLES'!$A$2:$A$263,A10)),9^9,1)*ROW('MOTS CLES'!$A$2:$A$263),1)-1),"")}
A11: LA MI TEMPS | B11: {=IFERROR(INDEX('MOTS CLES'!$A$2:$A$263,SMALL(IF(ISERR(SEARCH('MOTS CLES'!$A$2:$A$263,A11)),9^9,1)*ROW('MOTS CLES'!$A$2:$A$263),1)-1),"")} -> LA MI TEMP
A12: MESPOULET BOISSONS | B12: {=IFERROR(INDEX('MOTS CLES'!$A$2:$A$263,SMALL(IF(ISERR(SEARCH('MOTS CLES'!$A$2:$A$263,A12)),9^9,1)*ROW('MOTS CLES'!$A$2:$A$263),1)-1),"")} -> MESPOULET
A13: SAS B2A 2/LE BADABOOM | B13: {=IFERROR(INDEX('MOTS CLES'!$A$2:$A$263,SMALL(IF(ISERR(SEARCH('MOTS CLES'!$A$2:$A$263,A13)),9^9,1)*ROW('MOTS CLES'!$A$2:$A$263),1)-1),"")}
... A102: L'ENVOL BOWLING | B102: {=IFERROR(INDEX('MOTS CLES'!$A$2:$A$263,SMALL(IF(ISERR(SEARCH('MOTS CLES'!$A$2:$A$263,A102)),9^9,1)*ROW('MOTS CLES'!$A$2:$A$263),1)-1),"")} -> BOWLING
