Workbook
Name WM: 'Week Month'!$A$2:$B$13

Sheet Metrics Hebdo 2018_2019
F7: =VLOOKUP(F8,WM,2,TRUE) -> Nov | G7: =VLOOKUP(G8,WM,2,TRUE) -> Nov | H7: =VLOOKUP(H8,WM,2,TRUE) -> Nov | I7: =VLOOKUP(I8,WM,2,TRUE) -> Dec | J7: =VLOOKUP(J8,WM,2,TRUE) -> Dec | K7: =VLOOKUP(K8,WM,2,TRUE) -> Dec | L7: =VLOOKUP(L8,WM,2,TRUE) -> Dec | M7: =VLOOKUP(M8,WM,2,TRUE) -> Dec | ... Y7: =VLOOKUP(Y8,WM,2,TRUE) -> Mar
A8: ID | B8: Indicator Name | F8: S45 | G8: S46 | H8: S47 | I8: S48 | J8: S49 | K8: S50 | L8: S51 | M8: S52 | N8: S01 | O8: S02 | P8: S03 | Q8: S04 | R8: S05 | S8: S06 | T8: S07 | U8: S08 | V8: S09 | W8: S10 | X8: S11 | Y8: S12
A9: 1 | B9: Visitors | F9: 108 | G9: 76 | H9: 72 | I9: 113 | J9: 2 | K9: 3
F20: =VLOOKUP(F21,WM,2,TRUE) -> Nov | G20: =VLOOKUP(G21,WM,2,TRUE) -> Nov | H20: =VLOOKUP(H21,WM,2,TRUE) -> Nov | I20: =VLOOKUP(I21,WM,2,TRUE) -> Dec | J20: =VLOOKUP(J21,WM,2,TRUE) -> Dec | K20: =VLOOKUP(K21,WM,2,TRUE) -> Dec | L20: =VLOOKUP(L21,WM,2,TRUE) -> Dec | M20: =VLOOKUP(M21,WM,2,TRUE) -> Dec | ... Y20: =VLOOKUP(Y21,WM,2,TRUE) -> Mar
F21: S45 | G21: S46 | H21: S47 | I21: S48 | J21: S49 | K21: S50 | L21: S51 | M21: S52 | N21: S01 | O21: S02 | P21: S03 | Q21: S04 | R21: S05 | S21: S06 | T21: S07 | U21: S08 | V21: S09 | W21: S10 | X21: S11 | Y21: S12
A22: 11 | B22: New customers | F22: 0 | G22: 0 | H22: 0 | I22: 0 | J22: =6+5+5+2+2 -> 20 | K22: 11 | M22: 2

Sheet SaaS Metrrics
C5: ID | D5: Indicator Name | H5: Jan | I5: Feb | J5: Mar | K5: Apr | L5: May | M5: Jun | N5: Jul | O5: Aug | P5: Sep | Q5: Oct | R5: Nov | S5: Dec | T5: Total
C6: 1 | D6: Visitors | H6: =SUMPRODUCT(('Metrics Hebdo 2018_2019'!$F$7:$Y$7=H5)*('Metrics Hebdo 2018_2019'!$F$9:$Y$9)) -> 0 | I6: =SUMPRODUCT(('Metrics Hebdo 2018_2019'!$F$7:$Y$7=I5)*('Metrics Hebdo 2018_2019'!$F$9:$Y$9)) -> 0 | J6: =SUMPRODUCT(('Metrics Hebdo 2018_2019'!$F$7:$Y$7=J5)*('Metrics Hebdo 2018_2019'!$F$9:$Y$9)) -> 0 | K6: =SUMPRODUCT(('Metrics Hebdo 2018_2019'!$F$7:$Y$7=K5)*('Metrics Hebdo 2018_2019'!$F$9:$Y$9)) -> 0 | L6: =SUMPRODUCT(('Metrics Hebdo 2018_2019'!$F$7:$Y$7=L5)*('Metrics Hebdo 2018_2019'!$F$9:$Y$9)) -> 0 | M6: =SUMPRODUCT(('Metrics Hebdo 2018_2019'!$F$7:$Y$7=M5)*('Metrics Hebdo 2018_2019'!$F$9:$Y$9)) -> 0 | N6: =SUMPRODUCT(('Metrics Hebdo 2018_2019'!$F$7:$Y$7=N5)*('Metrics Hebdo 2018_2019'!$F$9:$Y$9)) -> 0 | O6: =SUMPRODUCT(('Metrics Hebdo 2018_2019'!$F$7:$Y$7=O5)*('Metrics Hebdo 2018_2019'!$F$9:$Y$9)) -> 0 | ... S6: =SUMPRODUCT(('Metrics Hebdo 2018_2019'!$F$7:$Y$7=S5)*('Metrics Hebdo 2018_2019'!$F$9:$Y$9)) -> 118
H18: Jan | I18: Feb | J18: Mar | K18: Apr | L18: May | M18: Jun | N18: Jul | O18: Aug | P18: Sep | Q18: Oct | R18: Nov | S18: Dec | T18: Total
C19: 11 | D19: New customers | H19: =SUMPRODUCT(('Metrics Hebdo 2018_2019'!$F$20:$Y$20=H18)*('Metrics Hebdo 2018_2019'!$F$22:$Y$22)) -> 0 | I19: =SUMPRODUCT(('Metrics Hebdo 2018_2019'!$F$20:$Y$20=I18)*('Metrics Hebdo 2018_2019'!$F$22:$Y$22)) -> 0 | J19: =SUMPRODUCT(('Metrics Hebdo 2018_2019'!$F$20:$Y$20=J18)*('Metrics Hebdo 2018_2019'!$F$22:$Y$22)) -> 0 | K19: =SUMPRODUCT(('Metrics Hebdo 2018_2019'!$F$20:$Y$20=K18)*('Metrics Hebdo 2018_2019'!$F$22:$Y$22)) -> 0 | L19: =SUMPRODUCT(('Metrics Hebdo 2018_2019'!$F$20:$Y$20=L18)*('Metrics Hebdo 2018_2019'!$F$22:$Y$22)) -> 0 | M19: =SUMPRODUCT(('Metrics Hebdo 2018_2019'!$F$20:$Y$20=M18)*('Metrics Hebdo 2018_2019'!$F$22:$Y$22)) -> 0 | N19: =SUMPRODUCT(('Metrics Hebdo 2018_2019'!$F$20:$Y$20=N18)*('Metrics Hebdo 2018_2019'!$F$22:$Y$22)) -> 0 | O19: =SUMPRODUCT(('Metrics Hebdo 2018_2019'!$F$20:$Y$20=O18)*('Metrics Hebdo 2018_2019'!$F$22:$Y$22)) -> 0 | ... S19: =SUMPRODUCT(('Metrics Hebdo 2018_2019'!$F$20:$Y$20=S18)*('Metrics Hebdo 2018_2019'!$F$22:$Y$22)) -> 33

Sheet Week Month
A1: à partir de : | B1: affecté à :
A2: S01 | B2: Jan
A3: S05 | B3: Feb
A4: S09 | B4: Mar
A5: S14 | B5: Apr
A6: S18 | B6: May
A7: S22 | B7: Jun
A8: S27 | B8: Jul
A9: S31 | B9: Aug
A10: S35 | B10: Sep
A11: S40 | B11: Oct
A12: S44 | B12: Nov
A13: S48 | B13: Dec
