Workbook

Sheet data
A1: PI | B1: JS | C1: AZ
A2: BI | B2: VD | C2: IV
A3: IU | B3: KD | C3: WB
A4: RQ | B4: AI | C4: WT
A5: FA | B5: YG | C5: ZE
A6: BZ | B6: VB | C6: XX
A7: NC | B7: CQ | C7: @K
A8: JC | B8: FH | C8: H@
A9: LB | B9: XN | C9: KR
A10: VH | B10: EV | C10: PB
A11: TL | B11: OJ | C11: BI
A12: MH | B12: SA | C12: ZU
... A300: RH | B300: M@ | C300: BF

Sheet extrait aléaltoire
A1: =COUNTA(data!A:A) -> 300 | B1: =RANDBETWEEN(1,$A$1) -> 231 | C1: =INDEX(data!A:A,'extrait aléaltoire'!$B1) -> BQ | D1: =INDEX(data!B:B,'extrait aléaltoire'!$B1) -> FH | E1: =INDEX(data!C:C,'extrait aléaltoire'!$B1) -> RK
B2: =RANDBETWEEN(1,$A$1) -> 185 | C2: =INDEX(data!A:A,'extrait aléaltoire'!$B2) -> PA | D2: =INDEX(data!B:B,'extrait aléaltoire'!$B2) -> JP | E2: =INDEX(data!C:C,'extrait aléaltoire'!$B2) -> CU
B3: =RANDBETWEEN(1,$A$1) -> 225 | C3: =INDEX(data!A:A,'extrait aléaltoire'!$B3) -> VB | D3: =INDEX(data!B:B,'extrait aléaltoire'!$B3) -> LS | E3: =INDEX(data!C:C,'extrait aléaltoire'!$B3) -> OQ
B4: =RANDBETWEEN(1,$A$1) -> 36 | C4: =INDEX(data!A:A,'extrait aléaltoire'!$B4) -> RP | D4: =INDEX(data!B:B,'extrait aléaltoire'!$B4) -> YU | E4: =INDEX(data!C:C,'extrait aléaltoire'!$B4) -> NG
B5: =RANDBETWEEN(1,$A$1) -> 205 | C5: =INDEX(data!A:A,'extrait aléaltoire'!$B5) -> ZF | D5: =INDEX(data!B:B,'extrait aléaltoire'!$B5) -> DT | E5: =INDEX(data!C:C,'extrait aléaltoire'!$B5) -> ZA
B6: =RANDBETWEEN(1,$A$1) -> 103 | C6: =INDEX(data!A:A,'extrait aléaltoire'!$B6) -> JP | D6: =INDEX(data!B:B,'extrait aléaltoire'!$B6) -> EM | E6: =INDEX(data!C:C,'extrait aléaltoire'!$B6) -> SY
B7: =RANDBETWEEN(1,$A$1) -> 28 | C7: =INDEX(data!A:A,'extrait aléaltoire'!$B7) -> VT | D7: =INDEX(data!B:B,'extrait aléaltoire'!$B7) -> UZ | E7: =INDEX(data!C:C,'extrait aléaltoire'!$B7) -> DN
B8: =RANDBETWEEN(1,$A$1) -> 59 | C8: =INDEX(data!A:A,'extrait aléaltoire'!$B8) -> FQ | D8: =INDEX(data!B:B,'extrait aléaltoire'!$B8) -> IY | E8: =INDEX(data!C:C,'extrait aléaltoire'!$B8) -> JH
B9: =RANDBETWEEN(1,$A$1) -> 49 | C9: =INDEX(data!A:A,'extrait aléaltoire'!$B9) -> YA | D9: =INDEX(data!B:B,'extrait aléaltoire'!$B9) -> UV | E9: =INDEX(data!C:C,'extrait aléaltoire'!$B9) -> DK
B10: =RANDBETWEEN(1,$A$1) -> 285 | C10: =INDEX(data!A:A,'extrait aléaltoire'!$B10) -> ZN | D10: =INDEX(data!B:B,'extrait aléaltoire'!$B10) -> IZ | E10: =INDEX(data!C:C,'extrait aléaltoire'!$B10) -> LH
B11: =RANDBETWEEN(1,$A$1) -> 107 | C11: =INDEX(data!A:A,'extrait aléaltoire'!$B11) -> EM | D11: =INDEX(data!B:B,'extrait aléaltoire'!$B11) -> QQ | E11: =INDEX(data!C:C,'extrait aléaltoire'!$B11) -> ON
B12: =RANDBETWEEN(1,$A$1) -> 204 | C12: =INDEX(data!A:A,'extrait aléaltoire'!$B12) -> HF | D12: =INDEX(data!B:B,'extrait aléaltoire'!$B12) -> TC | E12: =INDEX(data!C:C,'extrait aléaltoire'!$B12) -> OF
B13: =RANDBETWEEN(1,$A$1) -> 43 | C13: =INDEX(data!A:A,'extrait aléaltoire'!$B13) -> NY | D13: =INDEX(data!B:B,'extrait aléaltoire'!$B13) -> FV | E13: =INDEX(data!C:C,'extrait aléaltoire'!$B13) -> @A
... B300: =RANDBETWEEN(1,$A$1) -> 289 | C300: =INDEX(data!A:A,'extrait aléaltoire'!$B300) -> WC | D300: =INDEX(data!B:B,'extrait aléaltoire'!$B300) -> KY | E300: =INDEX(data!C:C,'extrait aléaltoire'!$B300) -> BJ
