Workbook

Sheet parametres
A1: Plage Horaire | E1: Jours fériés
A2: Heure d'ouverture | B2: 0.35416667 | D2: 2020 | E2: Premier de l'AN | F2: =DATE(D2,1,1) -> 43831
A3: Début pause | B3: 0.5 | E3: Pâques | F3: =ROUND(DATE(D2,4,MOD(234-11*MOD(D2,19),30))/7,0)*7-6 -> 43933
A4: Temps ouverture matin | B4: =B3-B2 -> 0.14583333 | E4: Lundi de Pâques | F4: =F3+1 -> 43934
A5: Fin pausse | B5: 0.58333333 | E5: Fête du travail | F5: =DATE(D2,5,1) -> 43952
A6: Heure de fermeture | B6: 0.72916667 | E6: Victoire de 1945 | F6: =DATE(D2,5,8) -> 43959
A7: Temps ouverture apm | B7: =B6-B5 -> 0.14583333 | E7: Ascension | F7: =F3+39 -> 43972
A8: Temps de fermeture | B8: =MOD(B2-B6,1) -> 0.625 | E8: Pentecôte | F8: =F3+50 -> 43983
A9: Temps d'ouverture | B9: =B6-B2+B3-B5 -> 0.29166667 | E9: Fête nationale | F9: =DATE(D2,7,14) -> 44026
A10: Temps de pause | B10: =B5-B3 -> 0.083333333 | E10: Assomption | F10: =DATE(D2,8,15) -> 44058
E11: Toussaint | F11: =DATE(D2,11,1) -> 44136
E12: Armistice | F12: =DATE(D2,11,11) -> 44146
E13: Noël | F13: =DATE(D2,12,25) -> 44190

Sheet heure de fin
C1: Calcul détaillé
A2: Date_Heure de début | B2: Durée | C2: délai nb de jour | D2: date de fin | E2: fin théorique | F2: - pause | G2: + pause | H2: heure de fin | I2: Date_Heure de fin
A3: 43950.375 | B3: 0.625 | C3: =INT(B3/parametres!$B$9) +IF((MOD(A3,1)+B3-INT(B3/parametres!$B$9)*parametres!$B$9)>(MOD(parametres!$B$6,1)-IF(MOD(A3,1)<=MOD(parametres!$B$3,1),parametres!$B$10,0)),1,0) -> 2 | D3: =WORKDAY(INT(A3)+C3-1,1,parametres!$F$2:$F$13) -> 43955 | E3: =MOD(A3,1)+(B3-C3*parametres!$B$9) -> 0.41666667 | F3: =AND(MOD(A3,1)>=MOD(parametres!$B$3,1),E3<=MOD(parametres!$B$5,1)) -> FALSE | G3: =AND(MOD(A3,1)<=MOD(parametres!$B$3,1),E3>=MOD(parametres!$B$3,1)) -> FALSE | H3: =MOD(A3,1)+B3-C3*parametres!$B$9+IF(G3,parametres!$B$10,0)-IF(F3,parametres!$B$10,0) -> 0.41666667 | I3: =D3+H3 -> 43955.417
