Workbook

Sheet data
A1: Dossier no. | B1: Sujet | C1: Demandé par: | D1: Demandé le: | E1: Agent #1 | F1: Agent #2 | G1: Départ-Ville | H1: Destination-Ville | I1: Date Départ | J1: Date arrivée | K1: Statut
A2: Dossier1 | B2: Prévenu1 | C2: Demandeur1 | D2: 43552 | E2: Agent A | F2: - | G2: Montréal (YUL) | H2: Inukjuak | I2: 43563 | J2: 43566 | K2: Terminé
A3: Dossier2 | B3: Prévenu2 | C3: Demandeur2 | D3: 43554 | E3: Agent B | F3: - | G3: Montréal (YUL) | H3: Kuujjuaq | I3: 43557 | J3: 43557 | K3: Terminé
A4: Dossier3 | B4: Prévenu3 | C4: Demandeur3 | D4: 43556 | E4: Agent A | F4: Agent C | G4: Montréal (YUL) | H4: Kuujjuaq | I4: 43557 | J4: 43561 | K4: Terminé

Sheet planning
A1: début planing
A2: 43556
A4: mois | B4: =IF(LEN((TEXT(B6,"mmmm")))+DAY(B6)-DAY(EOMONTH(B6,0))+1<=0,"",IF(B6=EOMONTH(B6,0),"",UPPER(MID(TEXT(B6,"mmmm"),LEN((TEXT(B6,"mmmm")))+DAY(B6)-DAY(EOMONTH(B6,0))+1,1))))&IF(DAY(B6)=1,"",UPPER(MID(TEXT(B6,"mmmm"),DAY(B6)-1,1))) | C4: =IF(LEN((TEXT(C6,"mmmm")))+DAY(C6)-DAY(EOMONTH(C6,0))+1<=0,"",IF(C6=EOMONTH(C6,0),"",UPPER(MID(TEXT(C6,"mmmm"),LEN((TEXT(C6,"mmmm")))+DAY(C6)-DAY(EOMONTH(C6,0))+1,1))))&IF(DAY(C6)=1,"",UPPER(MID(TEXT(C6,"mmmm"),DAY(C6)-1,1))) -> A | D4: =IF(LEN((TEXT(D6,"mmmm")))+DAY(D6)-DAY(EOMONTH(D6,0))+1<=0,"",IF(D6=EOMONTH(D6,0),"",UPPER(MID(TEXT(D6,"mmmm"),LEN((TEXT(D6,"mmmm")))+DAY(D6)-DAY(EOMONTH(D6,0))+1,1))))&IF(DAY(D6)=1,"",UPPER(MID(TEXT(D6,"mmmm"),DAY(D6)-1,1))) -> V | E4: =IF(LEN((TEXT(E6,"mmmm")))+DAY(E6)-DAY(EOMONTH(E6,0))+1<=0,"",IF(E6=EOMONTH(E6,0),"",UPPER(MID(TEXT(E6,"mmmm"),LEN((TEXT(E6,"mmmm")))+DAY(E6)-DAY(EOMONTH(E6,0))+1,1))))&IF(DAY(E6)=1,"",UPPER(MID(TEXT(E6,"mmmm"),DAY(E6)-1,1))) -> R | F4: =IF(LEN((TEXT(F6,"mmmm")))+DAY(F6)-DAY(EOMONTH(F6,0))+1<=0,"",IF(F6=EOMONTH(F6,0),"",UPPER(MID(TEXT(F6,"mmmm"),LEN((TEXT(F6,"mmmm")))+DAY(F6)-DAY(EOMONTH(F6,0))+1,1))))&IF(DAY(F6)=1,"",UPPER(MID(TEXT(F6,"mmmm"),DAY(F6)-1,1))) -> I | G4: =IF(LEN((TEXT(G6,"mmmm")))+DAY(G6)-DAY(EOMONTH(G6,0))+1<=0,"",IF(G6=EOMONTH(G6,0),"",UPPER(MID(TEXT(G6,"mmmm"),LEN((TEXT(G6,"mmmm")))+DAY(G6)-DAY(EOMONTH(G6,0))+1,1))))&IF(DAY(G6)=1,"",UPPER(MID(TEXT(G6,"mmmm"),DAY(G6)-1,1))) -> L | H4: =IF(LEN((TEXT(H6,"mmmm")))+DAY(H6)-DAY(EOMONTH(H6,0))+1<=0,"",IF(H6=EOMONTH(H6,0),"",UPPER(MID(TEXT(H6,"mmmm"),LEN((TEXT(H6,"mmmm")))+DAY(H6)-DAY(EOMONTH(H6,0))+1,1))))&IF(DAY(H6)=1,"",UPPER(MID(TEXT(H6,"mmmm"),DAY(H6)-1,1))) | I4: =IF(LEN((TEXT(I6,"mmmm")))+DAY(I6)-DAY(EOMONTH(I6,0))+1<=0,"",IF(I6=EOMONTH(I6,0),"",UPPER(MID(TEXT(I6,"mmmm"),LEN((TEXT(I6,"mmmm")))+DAY(I6)-DAY(EOMONTH(I6,0))+1,1))))&IF(DAY(I6)=1,"",UPPER(MID(TEXT(I6,"mmmm"),DAY(I6)-1,1))) | ... CZ4: =IF(LEN((TEXT(CZ6,"mmmm")))+DAY(CZ6)-DAY(EOMONTH(CZ6,0))+1<=0,"",IF(CZ6=EOMONTH(CZ6,0),"",UPPER(MID(TEXT(CZ6,"mmmm"),LEN((TEXT(CZ6,"mmmm")))+DAY(CZ6)-DAY(EOMONTH(CZ6,0))+1,1))))&IF(DAY(CZ6)=1,"",UPPER(MID(TEXT(CZ6,"mmmm"),DAY(CZ6)-1,1)))
A5: semaine | B5: =IF(B7<>"J","",_xlfn.ISOWEEKNUM(B6)) | C5: =IF(C7<>"J","",_xlfn.ISOWEEKNUM(C6)) | D5: =IF(D7<>"J","",_xlfn.ISOWEEKNUM(D6)) | E5: =IF(E7<>"J","",_xlfn.ISOWEEKNUM(E6)) -> 14 | F5: =IF(F7<>"J","",_xlfn.ISOWEEKNUM(F6)) | G5: =IF(G7<>"J","",_xlfn.ISOWEEKNUM(G6)) | H5: =IF(H7<>"J","",_xlfn.ISOWEEKNUM(H6)) | I5: =IF(I7<>"J","",_xlfn.ISOWEEKNUM(I6)) | ... CZ5: =IF(CZ7<>"J","",_xlfn.ISOWEEKNUM(CZ6))
A6: date | B6: =A2 -> 43556 | C6: =B6+1 -> 43557 | D6: =C6+1 -> 43558 | E6: =D6+1 -> 43559 | F6: =E6+1 -> 43560 | G6: =F6+1 -> 43561 | H6: =G6+1 -> 43562 | I6: =H6+1 -> 43563 | J6: =I6+1 -> 43564 | ... CZ6: =CY6+1 -> 43658
A7: jour | B7: =UPPER(LEFT(TEXT(B6,"jjj"),1)) -> L | C7: =UPPER(LEFT(TEXT(C6,"jjj"),1)) -> M | D7: =UPPER(LEFT(TEXT(D6,"jjj"),1)) -> M | E7: =UPPER(LEFT(TEXT(E6,"jjj"),1)) -> J | F7: =UPPER(LEFT(TEXT(F6,"jjj"),1)) -> V | G7: =UPPER(LEFT(TEXT(G6,"jjj"),1)) -> S | H7: =UPPER(LEFT(TEXT(H6,"jjj"),1)) -> D | I7: =UPPER(LEFT(TEXT(I6,"jjj"),1)) -> L | ... CZ7: =UPPER(LEFT(TEXT(CZ6,"jjj"),1)) -> V
A8: Agent A | B8: =SUMPRODUCT((Tableau1[Agent '#1]=planning!$A8)*(Tableau1[Date Départ]<=planning!B$6)*(Tableau1[Date arrivée]>=planning!B$6)) +SUMPRODUCT((Tableau1[Agent '#2]=planning!$A8)*(Tableau1[Date Départ]<=planning!B$6)*(Tableau1[Date arrivée]>=planning!B$6)) -> 0 | C8: =SUMPRODUCT((Tableau1[Agent '#1]=planning!$A8)*(Tableau1[Date Départ]<=planning!C$6)*(Tableau1[Date arrivée]>=planning!C$6)) +SUMPRODUCT((Tableau1[Agent '#2]=planning!$A8)*(Tableau1[Date Départ]<=planning!C$6)*(Tableau1[Date arrivée]>=planning!C$6)) -> 1 | D8: =SUMPRODUCT((Tableau1[Agent '#1]=planning!$A8)*(Tableau1[Date Départ]<=planning!D$6)*(Tableau1[Date arrivée]>=planning!D$6)) +SUMPRODUCT((Tableau1[Agent '#2]=planning!$A8)*(Tableau1[Date Départ]<=planning!D$6)*(Tableau1[Date arrivée]>=planning!D$6)) -> 1 | E8: =SUMPRODUCT((Tableau1[Agent '#1]=planning!$A8)*(Tableau1[Date Départ]<=planning!E$6)*(Tableau1[Date arrivée]>=planning!E$6)) +SUMPRODUCT((Tableau1[Agent '#2]=planning!$A8)*(Tableau1[Date Départ]<=planning!E$6)*(Tableau1[Date arrivée]>=planning!E$6)) -> 1 | F8: =SUMPRODUCT((Tableau1[Agent '#1]=planning!$A8)*(Tableau1[Date Départ]<=planning!F$6)*(Tableau1[Date arrivée]>=planning!F$6)) +SUMPRODUCT((Tableau1[Agent '#2]=planning!$A8)*(Tableau1[Date Départ]<=planning!F$6)*(Tableau1[Date arrivée]>=planning!F$6)) -> 1 | G8: =SUMPRODUCT((Tableau1[Agent '#1]=planning!$A8)*(Tableau1[Date Départ]<=planning!G$6)*(Tableau1[Date arrivée]>=planning!G$6)) +SUMPRODUCT((Tableau1[Agent '#2]=planning!$A8)*(Tableau1[Date Départ]<=planning!G$6)*(Tableau1[Date arrivée]>=planning!G$6)) -> 1 | H8: =SUMPRODUCT((Tableau1[Agent '#1]=planning!$A8)*(Tableau1[Date Départ]<=planning!H$6)*(Tableau1[Date arrivée]>=planning!H$6)) +SUMPRODUCT((Tableau1[Agent '#2]=planning!$A8)*(Tableau1[Date Départ]<=planning!H$6)*(Tableau1[Date arrivée]>=planning!H$6)) -> 0 | I8: =SUMPRODUCT((Tableau1[Agent '#1]=planning!$A8)*(Tableau1[Date Départ]<=planning!I$6)*(Tableau1[Date arrivée]>=planning!I$6)) +SUMPRODUCT((Tableau1[Agent '#2]=planning!$A8)*(Tableau1[Date Départ]<=planning!I$6)*(Tableau1[Date arrivée]>=planning!I$6)) -> 1 | ... CZ8: =SUMPRODUCT((Tableau1[Agent '#1]=planning!$A8)*(Tableau1[Date Départ]<=planning!CZ$6)*(Tableau1[Date arrivée]>=planning!CZ$6)) +SUMPRODUCT((Tableau1[Agent '#2]=planning!$A8)*(Tableau1[Date Départ]<=planning!CZ$6)*(Tableau1[Date arrivée]>=planning!CZ$6)) -> 0
A9: Agent B | B9: =SUMPRODUCT((Tableau1[Agent '#1]=planning!$A9)*(Tableau1[Date Départ]<=planning!B$6)*(Tableau1[Date arrivée]>=planning!B$6)) +SUMPRODUCT((Tableau1[Agent '#2]=planning!$A9)*(Tableau1[Date Départ]<=planning!B$6)*(Tableau1[Date arrivée]>=planning!B$6)) -> 0 | C9: =SUMPRODUCT((Tableau1[Agent '#1]=planning!$A9)*(Tableau1[Date Départ]<=planning!C$6)*(Tableau1[Date arrivée]>=planning!C$6)) +SUMPRODUCT((Tableau1[Agent '#2]=planning!$A9)*(Tableau1[Date Départ]<=planning!C$6)*(Tableau1[Date arrivée]>=planning!C$6)) -> 1 | D9: =SUMPRODUCT((Tableau1[Agent '#1]=planning!$A9)*(Tableau1[Date Départ]<=planning!D$6)*(Tableau1[Date arrivée]>=planning!D$6)) +SUMPRODUCT((Tableau1[Agent '#2]=planning!$A9)*(Tableau1[Date Départ]<=planning!D$6)*(Tableau1[Date arrivée]>=planning!D$6)) -> 0 | E9: =SUMPRODUCT((Tableau1[Agent '#1]=planning!$A9)*(Tableau1[Date Départ]<=planning!E$6)*(Tableau1[Date arrivée]>=planning!E$6)) +SUMPRODUCT((Tableau1[Agent '#2]=planning!$A9)*(Tableau1[Date Départ]<=planning!E$6)*(Tableau1[Date arrivée]>=planning!E$6)) -> 0 | F9: =SUMPRODUCT((Tableau1[Agent '#1]=planning!$A9)*(Tableau1[Date Départ]<=planning!F$6)*(Tableau1[Date arrivée]>=planning!F$6)) +SUMPRODUCT((Tableau1[Agent '#2]=planning!$A9)*(Tableau1[Date Départ]<=planning!F$6)*(Tableau1[Date arrivée]>=planning!F$6)) -> 0 | G9: =SUMPRODUCT((Tableau1[Agent '#1]=planning!$A9)*(Tableau1[Date Départ]<=planning!G$6)*(Tableau1[Date arrivée]>=planning!G$6)) +SUMPRODUCT((Tableau1[Agent '#2]=planning!$A9)*(Tableau1[Date Départ]<=planning!G$6)*(Tableau1[Date arrivée]>=planning!G$6)) -> 0 | H9: =SUMPRODUCT((Tableau1[Agent '#1]=planning!$A9)*(Tableau1[Date Départ]<=planning!H$6)*(Tableau1[Date arrivée]>=planning!H$6)) +SUMPRODUCT((Tableau1[Agent '#2]=planning!$A9)*(Tableau1[Date Départ]<=planning!H$6)*(Tableau1[Date arrivée]>=planning!H$6)) -> 0 | I9: =SUMPRODUCT((Tableau1[Agent '#1]=planning!$A9)*(Tableau1[Date Départ]<=planning!I$6)*(Tableau1[Date arrivée]>=planning!I$6)) +SUMPRODUCT((Tableau1[Agent '#2]=planning!$A9)*(Tableau1[Date Départ]<=planning!I$6)*(Tableau1[Date arrivée]>=planning!I$6)) -> 0 | ... CZ9: =SUMPRODUCT((Tableau1[Agent '#1]=planning!$A9)*(Tableau1[Date Départ]<=planning!CZ$6)*(Tableau1[Date arrivée]>=planning!CZ$6)) +SUMPRODUCT((Tableau1[Agent '#2]=planning!$A9)*(Tableau1[Date Départ]<=planning!CZ$6)*(Tableau1[Date arrivée]>=planning!CZ$6)) -> 0
A10: Agent C | B10: =SUMPRODUCT((Tableau1[Agent '#1]=planning!$A10)*(Tableau1[Date Départ]<=planning!B$6)*(Tableau1[Date arrivée]>=planning!B$6)) +SUMPRODUCT((Tableau1[Agent '#2]=planning!$A10)*(Tableau1[Date Départ]<=planning!B$6)*(Tableau1[Date arrivée]>=planning!B$6)) -> 0 | C10: =SUMPRODUCT((Tableau1[Agent '#1]=planning!$A10)*(Tableau1[Date Départ]<=planning!C$6)*(Tableau1[Date arrivée]>=planning!C$6)) +SUMPRODUCT((Tableau1[Agent '#2]=planning!$A10)*(Tableau1[Date Départ]<=planning!C$6)*(Tableau1[Date arrivée]>=planning!C$6)) -> 1 | D10: =SUMPRODUCT((Tableau1[Agent '#1]=planning!$A10)*(Tableau1[Date Départ]<=planning!D$6)*(Tableau1[Date arrivée]>=planning!D$6)) +SUMPRODUCT((Tableau1[Agent '#2]=planning!$A10)*(Tableau1[Date Départ]<=planning!D$6)*(Tableau1[Date arrivée]>=planning!D$6)) -> 1 | E10: =SUMPRODUCT((Tableau1[Agent '#1]=planning!$A10)*(Tableau1[Date Départ]<=planning!E$6)*(Tableau1[Date arrivée]>=planning!E$6)) +SUMPRODUCT((Tableau1[Agent '#2]=planning!$A10)*(Tableau1[Date Départ]<=planning!E$6)*(Tableau1[Date arrivée]>=planning!E$6)) -> 1 | F10: =SUMPRODUCT((Tableau1[Agent '#1]=planning!$A10)*(Tableau1[Date Départ]<=planning!F$6)*(Tableau1[Date arrivée]>=planning!F$6)) +SUMPRODUCT((Tableau1[Agent '#2]=planning!$A10)*(Tableau1[Date Départ]<=planning!F$6)*(Tableau1[Date arrivée]>=planning!F$6)) -> 1 | G10: =SUMPRODUCT((Tableau1[Agent '#1]=planning!$A10)*(Tableau1[Date Départ]<=planning!G$6)*(Tableau1[Date arrivée]>=planning!G$6)) +SUMPRODUCT((Tableau1[Agent '#2]=planning!$A10)*(Tableau1[Date Départ]<=planning!G$6)*(Tableau1[Date arrivée]>=planning!G$6)) -> 1 | H10: =SUMPRODUCT((Tableau1[Agent '#1]=planning!$A10)*(Tableau1[Date Départ]<=planning!H$6)*(Tableau1[Date arrivée]>=planning!H$6)) +SUMPRODUCT((Tableau1[Agent '#2]=planning!$A10)*(Tableau1[Date Départ]<=planning!H$6)*(Tableau1[Date arrivée]>=planning!H$6)) -> 0 | I10: =SUMPRODUCT((Tableau1[Agent '#1]=planning!$A10)*(Tableau1[Date Départ]<=planning!I$6)*(Tableau1[Date arrivée]>=planning!I$6)) +SUMPRODUCT((Tableau1[Agent '#2]=planning!$A10)*(Tableau1[Date Départ]<=planning!I$6)*(Tableau1[Date arrivée]>=planning!I$6)) -> 0 | ... CZ10: =SUMPRODUCT((Tableau1[Agent '#1]=planning!$A10)*(Tableau1[Date Départ]<=planning!CZ$6)*(Tableau1[Date arrivée]>=planning!CZ$6)) +SUMPRODUCT((Tableau1[Agent '#2]=planning!$A10)*(Tableau1[Date Départ]<=planning!CZ$6)*(Tableau1[Date arrivée]>=planning!CZ$6)) -> 0
