Workbook

Sheet Feuil2
A3: Étiquettes de lignes | B3: Moyenne de 2 | C3: Moyenne de 3 | D3: Moyenne de 4 | E3: Moyenne de 5 | F3: Moyenne de 6 | G3: Moyenne de 7 | H3: Moyenne de 8
A4: Kosipo | B4: 1.75 | C4: #DIV/0! | D4: 2 | E4: 2 | F4: #DIV/0! | G4: #DIV/0! | H4: #DIV/0!
A5: Padouk | B5: #DIV/0! | C5: #DIV/0! | D5: 2 | E5: 1 | F5: #DIV/0! | G5: #DIV/0! | H5: #DIV/0!
A6: Sapelli | B6: 1.25 | C6: #DIV/0! | D6: #DIV/0! | E6: 1 | F6: #DIV/0! | G6: 3 | H6: 2
A7: Total général | B7: 1.5 | C7: #DIV/0! | D7: 2 | E7: 1.3333333 | F7: #DIV/0! | G7: 3 | H7: 2

Sheet Feuil1
A1: Essence | B1: D 2011 | C1: D 2012 | D1: D 2013 | E1: D 2014 | F1: D 2015 | G1: C 2011 | H1: C 2012 | I1: C 2013 | J1: C 2014 | K1: C 2015 | L1: Accroissement annuel total (cm/an) | M1: 2 | N1: 3 | O1: 4 | P1: 5 | Q1: 6 | R1: 7 | S1: 8 | T1: 9
A2: Sapelli | B2: 54 | C2: 55 | D2: 56 | E2: 57 | F2: 58 | G2: =ROUNDDOWN(Feuil1!$B2/10,0) -> 5 | H2: =ROUNDDOWN(Feuil1!$C2/10,0) -> 5 | I2: =ROUNDDOWN(Feuil1!$D2/10,0) -> 5 | J2: =ROUNDDOWN(Feuil1!$E2/10,0) -> 5 | K2: =ROUNDDOWN(Feuil1!$F2/10,0) -> 5 | L2: =(F2-B2)/5 -> 0.8 | M2: =IFERROR((INDEX(Tableau1[[#This Row],[D 2011]:[D 2015]],,MATCH(VALUE(Tableau1[[#Headers],[2]]),Tableau1[[#This Row],[C 2011]:[C 2015]],0))-INDEX(Tableau1[[#This Row],[D 2011]:[D 2015]],,MATCH(VALUE(Tableau1[[#Headers],[2]]),Tableau1[[#This Row],[C 2011]:[C 2015]],1)))/(MATCH(VALUE(Tableau1[[#Headers],[2]]),Tableau1[[#This Row],[C 2011]:[C 2015]],0)-MATCH(VALUE(Tableau1[[#Headers],[2]]),Tableau1[[#This Row],[C 2011]:[C 2015]],1)),"") | N2: =IFERROR((INDEX(Tableau1[[#This Row],[D 2011]:[D 2015]],,MATCH(VALUE(Tableau1[[#Headers],[3]]),Tableau1[[#This Row],[C 2011]:[C 2015]],0))-INDEX(Tableau1[[#This Row],[D 2011]:[D 2015]],,MATCH(VALUE(Tableau1[[#Headers],[3]]),Tableau1[[#This Row],[C 2011]:[C 2015]],1)))/(MATCH(VALUE(Tableau1[[#Headers],[3]]),Tableau1[[#This Row],[C 2011]:[C 2015]],0)-MATCH(VALUE(Tableau1[[#Headers],[3]]),Tableau1[[#This Row],[C 2011]:[C 2015]],1)),"") | O2: =IFERROR((INDEX(Tableau1[[#This Row],[D 2011]:[D 2015]],,MATCH(VALUE(Tableau1[[#Headers],[4]]),Tableau1[[#This Row],[C 2011]:[C 2015]],0))-INDEX(Tableau1[[#This Row],[D 2011]:[D 2015]],,MATCH(VALUE(Tableau1[[#Headers],[4]]),Tableau1[[#This Row],[C 2011]:[C 2015]],1)))/(MATCH(VALUE(Tableau1[[#Headers],[4]]),Tableau1[[#This Row],[C 2011]:[C 2015]],0)-MATCH(VALUE(Tableau1[[#Headers],[4]]),Tableau1[[#This Row],[C 2011]:[C 2015]],1)),"") | P2: =IFERROR((INDEX(Tableau1[[#This Row],[D 2011]:[D 2015]],,MATCH(VALUE(Tableau1[[#Headers],[5]]),Tableau1[[#This Row],[C 2011]:[C 2015]],0))-INDEX(Tableau1[[#This Row],[D 2011]:[D 2015]],,MATCH(VALUE(Tableau1[[#Headers],[5]]),Tableau1[[#This Row],[C 2011]:[C 2015]],1)))/(MATCH(VALUE(Tableau1[[#Headers],[5]]),Tableau1[[#This Row],[C 2011]:[C 2015]],0)-MATCH(VALUE(Tableau1[[#Headers],[5]]),Tableau1[[#This Row],[C 2011]:[C 2015]],1)),"") -> 1 | Q2: =IFERROR((INDEX(Tableau1[[#This Row],[D 2011]:[D 2015]],,MATCH(VALUE(Tableau1[[#Headers],[6]]),Tableau1[[#This Row],[C 2011]:[C 2015]],0))-INDEX(Tableau1[[#This Row],[D 2011]:[D 2015]],,MATCH(VALUE(Tableau1[[#Headers],[6]]),Tableau1[[#This Row],[C 2011]:[C 2015]],1)))/(MATCH(VALUE(Tableau1[[#Headers],[6]]),Tableau1[[#This Row],[C 2011]:[C 2015]],0)-MATCH(VALUE(Tableau1[[#Headers],[6]]),Tableau1[[#This Row],[C 2011]:[C 2015]],1)),"") | R2: =IFERROR((INDEX(Tableau1[[#This Row],[D 2011]:[D 2015]],,MATCH(VALUE(Tableau1[[#Headers],[7]]),Tableau1[[#This Row],[C 2011]:[C 2015]],0))-INDEX(Tableau1[[#This Row],[D 2011]:[D 2015]],,MATCH(VALUE(Tableau1[[#Headers],[7]]),Tableau1[[#This Row],[C 2011]:[C 2015]],1)))/(MATCH(VALUE(Tableau1[[#Headers],[7]]),Tableau1[[#This Row],[C 2011]:[C 2015]],0)-MATCH(VALUE(Tableau1[[#Headers],[7]]),Tableau1[[#This Row],[C 2011]:[C 2015]],1)),"") | S2: =IFERROR((INDEX(Tableau1[[#This Row],[D 2011]:[D 2015]],,MATCH(VALUE(Tableau1[[#Headers],[8]]),Tableau1[[#This Row],[C 2011]:[C 2015]],0))-INDEX(Tableau1[[#This Row],[D 2011]:[D 2015]],,MATCH(VALUE(Tableau1[[#Headers],[8]]),Tableau1[[#This Row],[C 2011]:[C 2015]],1)))/(MATCH(VALUE(Tableau1[[#Headers],[8]]),Tableau1[[#This Row],[C 2011]:[C 2015]],0)-MATCH(VALUE(Tableau1[[#Headers],[8]]),Tableau1[[#This Row],[C 2011]:[C 2015]],1)),"") | T2: =IFERROR((INDEX(Tableau1[[#This Row],[D 2011]:[D 2015]],,MATCH(VALUE(Tableau1[[#Headers],[9]]),Tableau1[[#This Row],[C 2011]:[C 2015]],0))-INDEX(Tableau1[[#This Row],[D 2011]:[D 2015]],,MATCH(VALUE(Tableau1[[#Headers],[9]]),Tableau1[[#This Row],[C 2011]:[C 2015]],1)))/(MATCH(VALUE(Tableau1[[#Headers],[9]]),Tableau1[[#This Row],[C 2011]:[C 2015]],0)-MATCH(VALUE(Tableau1[[#Headers],[9]]),Tableau1[[#This Row],[C 2011]:[C 2015]],1)),"")
A3: Sapelli | B3: 75 | C3: 78 | D3: 82 | E3: 85 | F3: 86 | G3: =ROUNDDOWN(Feuil1!$B3/10,0) -> 7 | H3: =ROUNDDOWN(Feuil1!$C3/10,0) -> 7 | I3: =ROUNDDOWN(Feuil1!$D3/10,0) -> 8 | J3: =ROUNDDOWN(Feuil1!$E3/10,0) -> 8 | K3: =ROUNDDOWN(Feuil1!$F3/10,0) -> 8 | L3: =(F3-B3)/5 -> 2.2 | M3: =IFERROR((INDEX(Tableau1[[#This Row],[D 2011]:[D 2015]],,MATCH(VALUE(Tableau1[[#Headers],[2]]),Tableau1[[#This Row],[C 2011]:[C 2015]],0))-INDEX(Tableau1[[#This Row],[D 2011]:[D 2015]],,MATCH(VALUE(Tableau1[[#Headers],[2]]),Tableau1[[#This Row],[C 2011]:[C 2015]],1)))/(MATCH(VALUE(Tableau1[[#Headers],[2]]),Tableau1[[#This Row],[C 2011]:[C 2015]],0)-MATCH(VALUE(Tableau1[[#Headers],[2]]),Tableau1[[#This Row],[C 2011]:[C 2015]],1)),"") | N3: =IFERROR((INDEX(Tableau1[[#This Row],[D 2011]:[D 2015]],,MATCH(VALUE(Tableau1[[#Headers],[3]]),Tableau1[[#This Row],[C 2011]:[C 2015]],0))-INDEX(Tableau1[[#This Row],[D 2011]:[D 2015]],,MATCH(VALUE(Tableau1[[#Headers],[3]]),Tableau1[[#This Row],[C 2011]:[C 2015]],1)))/(MATCH(VALUE(Tableau1[[#Headers],[3]]),Tableau1[[#This Row],[C 2011]:[C 2015]],0)-MATCH(VALUE(Tableau1[[#Headers],[3]]),Tableau1[[#This Row],[C 2011]:[C 2015]],1)),"") | O3: =IFERROR((INDEX(Tableau1[[#This Row],[D 2011]:[D 2015]],,MATCH(VALUE(Tableau1[[#Headers],[4]]),Tableau1[[#This Row],[C 2011]:[C 2015]],0))-INDEX(Tableau1[[#This Row],[D 2011]:[D 2015]],,MATCH(VALUE(Tableau1[[#Headers],[4]]),Tableau1[[#This Row],[C 2011]:[C 2015]],1)))/(MATCH(VALUE(Tableau1[[#Headers],[4]]),Tableau1[[#This Row],[C 2011]:[C 2015]],0)-MATCH(VALUE(Tableau1[[#Headers],[4]]),Tableau1[[#This Row],[C 2011]:[C 2015]],1)),"") | P3: =IFERROR((INDEX(Tableau1[[#This Row],[D 2011]:[D 2015]],,MATCH(VALUE(Tableau1[[#Headers],[5]]),Tableau1[[#This Row],[C 2011]:[C 2015]],0))-INDEX(Tableau1[[#This Row],[D 2011]:[D 2015]],,MATCH(VALUE(Tableau1[[#Headers],[5]]),Tableau1[[#This Row],[C 2011]:[C 2015]],1)))/(MATCH(VALUE(Tableau1[[#Headers],[5]]),Tableau1[[#This Row],[C 2011]:[C 2015]],0)-MATCH(VALUE(Tableau1[[#Headers],[5]]),Tableau1[[#This Row],[C 2011]:[C 2015]],1)),"") | Q3: =IFERROR((INDEX(Tableau1[[#This Row],[D 2011]:[D 2015]],,MATCH(VALUE(Tableau1[[#Headers],[6]]),Tableau1[[#This Row],[C 2011]:[C 2015]],0))-INDEX(Tableau1[[#This Row],[D 2011]:[D 2015]],,MATCH(VALUE(Tableau1[[#Headers],[6]]),Tableau1[[#This Row],[C 2011]:[C 2015]],1)))/(MATCH(VALUE(Tableau1[[#Headers],[6]]),Tableau1[[#This Row],[C 2011]:[C 2015]],0)-MATCH(VALUE(Tableau1[[#Headers],[6]]),Tableau1[[#This Row],[C 2011]:[C 2015]],1)),"") | R3: =IFERROR((INDEX(Tableau1[[#This Row],[D 2011]:[D 2015]],,MATCH(VALUE(Tableau1[[#Headers],[7]]),Tableau1[[#This Row],[C 2011]:[C 2015]],0))-INDEX(Tableau1[[#This Row],[D 2011]:[D 2015]],,MATCH(VALUE(Tableau1[[#Headers],[7]]),Tableau1[[#This Row],[C 2011]:[C 2015]],1)))/(MATCH(VALUE(Tableau1[[#Headers],[7]]),Tableau1[[#This Row],[C 2011]:[C 2015]],0)-MATCH(VALUE(Tableau1[[#Headers],[7]]),Tableau1[[#This Row],[C 2011]:[C 2015]],1)),"") -> 3 | S3: =IFERROR((INDEX(Tableau1[[#This Row],[D 2011]:[D 2015]],,MATCH(VALUE(Tableau1[[#Headers],[8]]),Tableau1[[#This Row],[C 2011]:[C 2015]],0))-INDEX(Tableau1[[#This Row],[D 2011]:[D 2015]],,MATCH(VALUE(Tableau1[[#Headers],[8]]),Tableau1[[#This Row],[C 2011]:[C 2015]],1)))/(MATCH(VALUE(Tableau1[[#Headers],[8]]),Tableau1[[#This Row],[C 2011]:[C 2015]],0)-MATCH(VALUE(Tableau1[[#Headers],[8]]),Tableau1[[#This Row],[C 2011]:[C 2015]],1)),"") -> 2 | T3: =IFERROR((INDEX(Tableau1[[#This Row],[D 2011]:[D 2015]],,MATCH(VALUE(Tableau1[[#Headers],[9]]),Tableau1[[#This Row],[C 2011]:[C 2015]],0))-INDEX(Tableau1[[#This Row],[D 2011]:[D 2015]],,MATCH(VALUE(Tableau1[[#Headers],[9]]),Tableau1[[#This Row],[C 2011]:[C 2015]],1)))/(MATCH(VALUE(Tableau1[[#Headers],[9]]),Tableau1[[#This Row],[C 2011]:[C 2015]],0)-MATCH(VALUE(Tableau1[[#Headers],[9]]),Tableau1[[#This Row],[C 2011]:[C 2015]],1)),"")
A4: Sapelli | B4: 24 | C4: 25 | D4: 28 | E4: 28 | F4: 29 | G4: =ROUNDDOWN(Feuil1!$B4/10,0) -> 2 | H4: =ROUNDDOWN(Feuil1!$C4/10,0) -> 2 | I4: =ROUNDDOWN(Feuil1!$D4/10,0) -> 2 | J4: =ROUNDDOWN(Feuil1!$E4/10,0) -> 2 | K4: =ROUNDDOWN(Feuil1!$F4/10,0) -> 2 | L4: =(F4-B4)/5 -> 1 | M4: =IFERROR((INDEX(Tableau1[[#This Row],[D 2011]:[D 2015]],,MATCH(VALUE(Tableau1[[#Headers],[2]]),Tableau1[[#This Row],[C 2011]:[C 2015]],0))-INDEX(Tableau1[[#This Row],[D 2011]:[D 2015]],,MATCH(VALUE(Tableau1[[#Headers],[2]]),Tableau1[[#This Row],[C 2011]:[C 2015]],1)))/(MATCH(VALUE(Tableau1[[#Headers],[2]]),Tableau1[[#This Row],[C 2011]:[C 2015]],0)-MATCH(VALUE(Tableau1[[#Headers],[2]]),Tableau1[[#This Row],[C 2011]:[C 2015]],1)),"") -> 1.25 | N4: =IFERROR((INDEX(Tableau1[[#This Row],[D 2011]:[D 2015]],,MATCH(VALUE(Tableau1[[#Headers],[3]]),Tableau1[[#This Row],[C 2011]:[C 2015]],0))-INDEX(Tableau1[[#This Row],[D 2011]:[D 2015]],,MATCH(VALUE(Tableau1[[#Headers],[3]]),Tableau1[[#This Row],[C 2011]:[C 2015]],1)))/(MATCH(VALUE(Tableau1[[#Headers],[3]]),Tableau1[[#This Row],[C 2011]:[C 2015]],0)-MATCH(VALUE(Tableau1[[#Headers],[3]]),Tableau1[[#This Row],[C 2011]:[C 2015]],1)),"") | O4: =IFERROR((INDEX(Tableau1[[#This Row],[D 2011]:[D 2015]],,MATCH(VALUE(Tableau1[[#Headers],[4]]),Tableau1[[#This Row],[C 2011]:[C 2015]],0))-INDEX(Tableau1[[#This Row],[D 2011]:[D 2015]],,MATCH(VALUE(Tableau1[[#Headers],[4]]),Tableau1[[#This Row],[C 2011]:[C 2015]],1)))/(MATCH(VALUE(Tableau1[[#Headers],[4]]),Tableau1[[#This Row],[C 2011]:[C 2015]],0)-MATCH(VALUE(Tableau1[[#Headers],[4]]),Tableau1[[#This Row],[C 2011]:[C 2015]],1)),"") | P4: =IFERROR((INDEX(Tableau1[[#This Row],[D 2011]:[D 2015]],,MATCH(VALUE(Tableau1[[#Headers],[5]]),Tableau1[[#This Row],[C 2011]:[C 2015]],0))-INDEX(Tableau1[[#This Row],[D 2011]:[D 2015]],,MATCH(VALUE(Tableau1[[#Headers],[5]]),Tableau1[[#This Row],[C 2011]:[C 2015]],1)))/(MATCH(VALUE(Tableau1[[#Headers],[5]]),Tableau1[[#This Row],[C 2011]:[C 2015]],0)-MATCH(VALUE(Tableau1[[#Headers],[5]]),Tableau1[[#This Row],[C 2011]:[C 2015]],1)),"") | Q4: =IFERROR((INDEX(Tableau1[[#This Row],[D 2011]:[D 2015]],,MATCH(VALUE(Tableau1[[#Headers],[6]]),Tableau1[[#This Row],[C 2011]:[C 2015]],0))-INDEX(Tableau1[[#This Row],[D 2011]:[D 2015]],,MATCH(VALUE(Tableau1[[#Headers],[6]]),Tableau1[[#This Row],[C 2011]:[C 2015]],1)))/(MATCH(VALUE(Tableau1[[#Headers],[6]]),Tableau1[[#This Row],[C 2011]:[C 2015]],0)-MATCH(VALUE(Tableau1[[#Headers],[6]]),Tableau1[[#This Row],[C 2011]:[C 2015]],1)),"") | R4: =IFERROR((INDEX(Tableau1[[#This Row],[D 2011]:[D 2015]],,MATCH(VALUE(Tableau1[[#Headers],[7]]),Tableau1[[#This Row],[C 2011]:[C 2015]],0))-INDEX(Tableau1[[#This Row],[D 2011]:[D 2015]],,MATCH(VALUE(Tableau1[[#Headers],[7]]),Tableau1[[#This Row],[C 2011]:[C 2015]],1)))/(MATCH(VALUE(Tableau1[[#Headers],[7]]),Tableau1[[#This Row],[C 2011]:[C 2015]],0)-MATCH(VALUE(Tableau1[[#Headers],[7]]),Tableau1[[#This Row],[C 2011]:[C 2015]],1)),"") | S4: =IFERROR((INDEX(Tableau1[[#This Row],[D 2011]:[D 2015]],,MATCH(VALUE(Tableau1[[#Headers],[8]]),Tableau1[[#This Row],[C 2011]:[C 2015]],0))-INDEX(Tableau1[[#This Row],[D 2011]:[D 2015]],,MATCH(VALUE(Tableau1[[#Headers],[8]]),Tableau1[[#This Row],[C 2011]:[C 2015]],1)))/(MATCH(VALUE(Tableau1[[#Headers],[8]]),Tableau1[[#This Row],[C 2011]:[C 2015]],0)-MATCH(VALUE(Tableau1[[#Headers],[8]]),Tableau1[[#This Row],[C 2011]:[C 2015]],1)),"") | T4: =IFERROR((INDEX(Tableau1[[#This Row],[D 2011]:[D 2015]],,MATCH(VALUE(Tableau1[[#Headers],[9]]),Tableau1[[#This Row],[C 2011]:[C 2015]],0))-INDEX(Tableau1[[#This Row],[D 2011]:[D 2015]],,MATCH(VALUE(Tableau1[[#Headers],[9]]),Tableau1[[#This Row],[C 2011]:[C 2015]],1)))/(MATCH(VALUE(Tableau1[[#Headers],[9]]),Tableau1[[#This Row],[C 2011]:[C 2015]],0)-MATCH(VALUE(Tableau1[[#Headers],[9]]),Tableau1[[#This Row],[C 2011]:[C 2015]],1)),"")
A5: Kosipo | B5: 47 | C5: 49 | D5: 54 | E5: 56 | F5: 58 | G5: =ROUNDDOWN(Feuil1!$B5/10,0) -> 4 | H5: =ROUNDDOWN(Feuil1!$C5/10,0) -> 4 | I5: =ROUNDDOWN(Feuil1!$D5/10,0) -> 5 | J5: =ROUNDDOWN(Feuil1!$E5/10,0) -> 5 | K5: =ROUNDDOWN(Feuil1!$F5/10,0) -> 5 | L5: =(F5-B5)/5 -> 2.2 | M5: =IFERROR((INDEX(Tableau1[[#This Row],[D 2011]:[D 2015]],,MATCH(VALUE(Tableau1[[#Headers],[2]]),Tableau1[[#This Row],[C 2011]:[C 2015]],0))-INDEX(Tableau1[[#This Row],[D 2011]:[D 2015]],,MATCH(VALUE(Tableau1[[#Headers],[2]]),Tableau1[[#This Row],[C 2011]:[C 2015]],1)))/(MATCH(VALUE(Tableau1[[#Headers],[2]]),Tableau1[[#This Row],[C 2011]:[C 2015]],0)-MATCH(VALUE(Tableau1[[#Headers],[2]]),Tableau1[[#This Row],[C 2011]:[C 2015]],1)),"") | N5: =IFERROR((INDEX(Tableau1[[#This Row],[D 2011]:[D 2015]],,MATCH(VALUE(Tableau1[[#Headers],[3]]),Tableau1[[#This Row],[C 2011]:[C 2015]],0))-INDEX(Tableau1[[#This Row],[D 2011]:[D 2015]],,MATCH(VALUE(Tableau1[[#Headers],[3]]),Tableau1[[#This Row],[C 2011]:[C 2015]],1)))/(MATCH(VALUE(Tableau1[[#Headers],[3]]),Tableau1[[#This Row],[C 2011]:[C 2015]],0)-MATCH(VALUE(Tableau1[[#Headers],[3]]),Tableau1[[#This Row],[C 2011]:[C 2015]],1)),"") | O5: =IFERROR((INDEX(Tableau1[[#This Row],[D 2011]:[D 2015]],,MATCH(VALUE(Tableau1[[#Headers],[4]]),Tableau1[[#This Row],[C 2011]:[C 2015]],0))-INDEX(Tableau1[[#This Row],[D 2011]:[D 2015]],,MATCH(VALUE(Tableau1[[#Headers],[4]]),Tableau1[[#This Row],[C 2011]:[C 2015]],1)))/(MATCH(VALUE(Tableau1[[#Headers],[4]]),Tableau1[[#This Row],[C 2011]:[C 2015]],0)-MATCH(VALUE(Tableau1[[#Headers],[4]]),Tableau1[[#This Row],[C 2011]:[C 2015]],1)),"") -> 2 | P5: =IFERROR((INDEX(Tableau1[[#This Row],[D 2011]:[D 2015]],,MATCH(VALUE(Tableau1[[#Headers],[5]]),Tableau1[[#This Row],[C 2011]:[C 2015]],0))-INDEX(Tableau1[[#This Row],[D 2011]:[D 2015]],,MATCH(VALUE(Tableau1[[#Headers],[5]]),Tableau1[[#This Row],[C 2011]:[C 2015]],1)))/(MATCH(VALUE(Tableau1[[#Headers],[5]]),Tableau1[[#This Row],[C 2011]:[C 2015]],0)-MATCH(VALUE(Tableau1[[#Headers],[5]]),Tableau1[[#This Row],[C 2011]:[C 2015]],1)),"") -> 2 | Q5: =IFERROR((INDEX(Tableau1[[#This Row],[D 2011]:[D 2015]],,MATCH(VALUE(Tableau1[[#Headers],[6]]),Tableau1[[#This Row],[C 2011]:[C 2015]],0))-INDEX(Tableau1[[#This Row],[D 2011]:[D 2015]],,MATCH(VALUE(Tableau1[[#Headers],[6]]),Tableau1[[#This Row],[C 2011]:[C 2015]],1)))/(MATCH(VALUE(Tableau1[[#Headers],[6]]),Tableau1[[#This Row],[C 2011]:[C 2015]],0)-MATCH(VALUE(Tableau1[[#Headers],[6]]),Tableau1[[#This Row],[C 2011]:[C 2015]],1)),"") | R5: =IFERROR((INDEX(Tableau1[[#This Row],[D 2011]:[D 2015]],,MATCH(VALUE(Tableau1[[#Headers],[7]]),Tableau1[[#This Row],[C 2011]:[C 2015]],0))-INDEX(Tableau1[[#This Row],[D 2011]:[D 2015]],,MATCH(VALUE(Tableau1[[#Headers],[7]]),Tableau1[[#This Row],[C 2011]:[C 2015]],1)))/(MATCH(VALUE(Tableau1[[#Headers],[7]]),Tableau1[[#This Row],[C 2011]:[C 2015]],0)-MATCH(VALUE(Tableau1[[#Headers],[7]]),Tableau1[[#This Row],[C 2011]:[C 2015]],1)),"") | S5: =IFERROR((INDEX(Tableau1[[#This Row],[D 2011]:[D 2015]],,MATCH(VALUE(Tableau1[[#Headers],[8]]),Tableau1[[#This Row],[C 2011]:[C 2015]],0))-INDEX(Tableau1[[#This Row],[D 2011]:[D 2015]],,MATCH(VALUE(Tableau1[[#Headers],[8]]),Tableau1[[#This Row],[C 2011]:[C 2015]],1)))/(MATCH(VALUE(Tableau1[[#Headers],[8]]),Tableau1[[#This Row],[C 2011]:[C 2015]],0)-MATCH(VALUE(Tableau1[[#Headers],[8]]),Tableau1[[#This Row],[C 2011]:[C 2015]],1)),"") | T5: =IFERROR((INDEX(Tableau1[[#This Row],[D 2011]:[D 2015]],,MATCH(VALUE(Tableau1[[#Headers],[9]]),Tableau1[[#This Row],[C 2011]:[C 2015]],0))-INDEX(Tableau1[[#This Row],[D 2011]:[D 2015]],,MATCH(VALUE(Tableau1[[#Headers],[9]]),Tableau1[[#This Row],[C 2011]:[C 2015]],1)))/(MATCH(VALUE(Tableau1[[#Headers],[9]]),Tableau1[[#This Row],[C 2011]:[C 2015]],0)-MATCH(VALUE(Tableau1[[#Headers],[9]]),Tableau1[[#This Row],[C 2011]:[C 2015]],1)),"")
A6: Kosipo | B6: 21 | C6: 25 | D6: 25 | E6: 26 | F6: 28 | G6: =ROUNDDOWN(Feuil1!$B6/10,0) -> 2 | H6: =ROUNDDOWN(Feuil1!$C6/10,0) -> 2 | I6: =ROUNDDOWN(Feuil1!$D6/10,0) -> 2 | J6: =ROUNDDOWN(Feuil1!$E6/10,0) -> 2 | K6: =ROUNDDOWN(Feuil1!$F6/10,0) -> 2 | L6: =(F6-B6)/5 -> 1.4 | M6: =IFERROR((INDEX(Tableau1[[#This Row],[D 2011]:[D 2015]],,MATCH(VALUE(Tableau1[[#Headers],[2]]),Tableau1[[#This Row],[C 2011]:[C 2015]],0))-INDEX(Tableau1[[#This Row],[D 2011]:[D 2015]],,MATCH(VALUE(Tableau1[[#Headers],[2]]),Tableau1[[#This Row],[C 2011]:[C 2015]],1)))/(MATCH(VALUE(Tableau1[[#Headers],[2]]),Tableau1[[#This Row],[C 2011]:[C 2015]],0)-MATCH(VALUE(Tableau1[[#Headers],[2]]),Tableau1[[#This Row],[C 2011]:[C 2015]],1)),"") -> 1.75 | N6: =IFERROR((INDEX(Tableau1[[#This Row],[D 2011]:[D 2015]],,MATCH(VALUE(Tableau1[[#Headers],[3]]),Tableau1[[#This Row],[C 2011]:[C 2015]],0))-INDEX(Tableau1[[#This Row],[D 2011]:[D 2015]],,MATCH(VALUE(Tableau1[[#Headers],[3]]),Tableau1[[#This Row],[C 2011]:[C 2015]],1)))/(MATCH(VALUE(Tableau1[[#Headers],[3]]),Tableau1[[#This Row],[C 2011]:[C 2015]],0)-MATCH(VALUE(Tableau1[[#Headers],[3]]),Tableau1[[#This Row],[C 2011]:[C 2015]],1)),"") | O6: =IFERROR((INDEX(Tableau1[[#This Row],[D 2011]:[D 2015]],,MATCH(VALUE(Tableau1[[#Headers],[4]]),Tableau1[[#This Row],[C 2011]:[C 2015]],0))-INDEX(Tableau1[[#This Row],[D 2011]:[D 2015]],,MATCH(VALUE(Tableau1[[#Headers],[4]]),Tableau1[[#This Row],[C 2011]:[C 2015]],1)))/(MATCH(VALUE(Tableau1[[#Headers],[4]]),Tableau1[[#This Row],[C 2011]:[C 2015]],0)-MATCH(VALUE(Tableau1[[#Headers],[4]]),Tableau1[[#This Row],[C 2011]:[C 2015]],1)),"") | P6: =IFERROR((INDEX(Tableau1[[#This Row],[D 2011]:[D 2015]],,MATCH(VALUE(Tableau1[[#Headers],[5]]),Tableau1[[#This Row],[C 2011]:[C 2015]],0))-INDEX(Tableau1[[#This Row],[D 2011]:[D 2015]],,MATCH(VALUE(Tableau1[[#Headers],[5]]),Tableau1[[#This Row],[C 2011]:[C 2015]],1)))/(MATCH(VALUE(Tableau1[[#Headers],[5]]),Tableau1[[#This Row],[C 2011]:[C 2015]],0)-MATCH(VALUE(Tableau1[[#Headers],[5]]),Tableau1[[#This Row],[C 2011]:[C 2015]],1)),"") | Q6: =IFERROR((INDEX(Tableau1[[#This Row],[D 2011]:[D 2015]],,MATCH(VALUE(Tableau1[[#Headers],[6]]),Tableau1[[#This Row],[C 2011]:[C 2015]],0))-INDEX(Tableau1[[#This Row],[D 2011]:[D 2015]],,MATCH(VALUE(Tableau1[[#Headers],[6]]),Tableau1[[#This Row],[C 2011]:[C 2015]],1)))/(MATCH(VALUE(Tableau1[[#Headers],[6]]),Tableau1[[#This Row],[C 2011]:[C 2015]],0)-MATCH(VALUE(Tableau1[[#Headers],[6]]),Tableau1[[#This Row],[C 2011]:[C 2015]],1)),"") | R6: =IFERROR((INDEX(Tableau1[[#This Row],[D 2011]:[D 2015]],,MATCH(VALUE(Tableau1[[#Headers],[7]]),Tableau1[[#This Row],[C 2011]:[C 2015]],0))-INDEX(Tableau1[[#This Row],[D 2011]:[D 2015]],,MATCH(VALUE(Tableau1[[#Headers],[7]]),Tableau1[[#This Row],[C 2011]:[C 2015]],1)))/(MATCH(VALUE(Tableau1[[#Headers],[7]]),Tableau1[[#This Row],[C 2011]:[C 2015]],0)-MATCH(VALUE(Tableau1[[#Headers],[7]]),Tableau1[[#This Row],[C 2011]:[C 2015]],1)),"") | S6: =IFERROR((INDEX(Tableau1[[#This Row],[D 2011]:[D 2015]],,MATCH(VALUE(Tableau1[[#Headers],[8]]),Tableau1[[#This Row],[C 2011]:[C 2015]],0))-INDEX(Tableau1[[#This Row],[D 2011]:[D 2015]],,MATCH(VALUE(Tableau1[[#Headers],[8]]),Tableau1[[#This Row],[C 2011]:[C 2015]],1)))/(MATCH(VALUE(Tableau1[[#Headers],[8]]),Tableau1[[#This Row],[C 2011]:[C 2015]],0)-MATCH(VALUE(Tableau1[[#Headers],[8]]),Tableau1[[#This Row],[C 2011]:[C 2015]],1)),"") | T6: =IFERROR((INDEX(Tableau1[[#This Row],[D 2011]:[D 2015]],,MATCH(VALUE(Tableau1[[#Headers],[9]]),Tableau1[[#This Row],[C 2011]:[C 2015]],0))-INDEX(Tableau1[[#This Row],[D 2011]:[D 2015]],,MATCH(VALUE(Tableau1[[#Headers],[9]]),Tableau1[[#This Row],[C 2011]:[C 2015]],1)))/(MATCH(VALUE(Tableau1[[#Headers],[9]]),Tableau1[[#This Row],[C 2011]:[C 2015]],0)-MATCH(VALUE(Tableau1[[#Headers],[9]]),Tableau1[[#This Row],[C 2011]:[C 2015]],1)),"")
A7: Padouk | B7: 45 | C7: 48 | D7: 49 | E7: 52 | F7: 53 | G7: =ROUNDDOWN(Feuil1!$B7/10,0) -> 4 | H7: =ROUNDDOWN(Feuil1!$C7/10,0) -> 4 | I7: =ROUNDDOWN(Feuil1!$D7/10,0) -> 4 | J7: =ROUNDDOWN(Feuil1!$E7/10,0) -> 5 | K7: =ROUNDDOWN(Feuil1!$F7/10,0) -> 5 | L7: =(F7-B7)/5 -> 1.6 | M7: =IFERROR((INDEX(Tableau1[[#This Row],[D 2011]:[D 2015]],,MATCH(VALUE(Tableau1[[#Headers],[2]]),Tableau1[[#This Row],[C 2011]:[C 2015]],0))-INDEX(Tableau1[[#This Row],[D 2011]:[D 2015]],,MATCH(VALUE(Tableau1[[#Headers],[2]]),Tableau1[[#This Row],[C 2011]:[C 2015]],1)))/(MATCH(VALUE(Tableau1[[#Headers],[2]]),Tableau1[[#This Row],[C 2011]:[C 2015]],0)-MATCH(VALUE(Tableau1[[#Headers],[2]]),Tableau1[[#This Row],[C 2011]:[C 2015]],1)),"") | N7: =IFERROR((INDEX(Tableau1[[#This Row],[D 2011]:[D 2015]],,MATCH(VALUE(Tableau1[[#Headers],[3]]),Tableau1[[#This Row],[C 2011]:[C 2015]],0))-INDEX(Tableau1[[#This Row],[D 2011]:[D 2015]],,MATCH(VALUE(Tableau1[[#Headers],[3]]),Tableau1[[#This Row],[C 2011]:[C 2015]],1)))/(MATCH(VALUE(Tableau1[[#Headers],[3]]),Tableau1[[#This Row],[C 2011]:[C 2015]],0)-MATCH(VALUE(Tableau1[[#Headers],[3]]),Tableau1[[#This Row],[C 2011]:[C 2015]],1)),"") | O7: =IFERROR((INDEX(Tableau1[[#This Row],[D 2011]:[D 2015]],,MATCH(VALUE(Tableau1[[#Headers],[4]]),Tableau1[[#This Row],[C 2011]:[C 2015]],0))-INDEX(Tableau1[[#This Row],[D 2011]:[D 2015]],,MATCH(VALUE(Tableau1[[#Headers],[4]]),Tableau1[[#This Row],[C 2011]:[C 2015]],1)))/(MATCH(VALUE(Tableau1[[#Headers],[4]]),Tableau1[[#This Row],[C 2011]:[C 2015]],0)-MATCH(VALUE(Tableau1[[#Headers],[4]]),Tableau1[[#This Row],[C 2011]:[C 2015]],1)),"") -> 2 | P7: =IFERROR((INDEX(Tableau1[[#This Row],[D 2011]:[D 2015]],,MATCH(VALUE(Tableau1[[#Headers],[5]]),Tableau1[[#This Row],[C 2011]:[C 2015]],0))-INDEX(Tableau1[[#This Row],[D 2011]:[D 2015]],,MATCH(VALUE(Tableau1[[#Headers],[5]]),Tableau1[[#This Row],[C 2011]:[C 2015]],1)))/(MATCH(VALUE(Tableau1[[#Headers],[5]]),Tableau1[[#This Row],[C 2011]:[C 2015]],0)-MATCH(VALUE(Tableau1[[#Headers],[5]]),Tableau1[[#This Row],[C 2011]:[C 2015]],1)),"") -> 1 | Q7: =IFERROR((INDEX(Tableau1[[#This Row],[D 2011]:[D 2015]],,MATCH(VALUE(Tableau1[[#Headers],[6]]),Tableau1[[#This Row],[C 2011]:[C 2015]],0))-INDEX(Tableau1[[#This Row],[D 2011]:[D 2015]],,MATCH(VALUE(Tableau1[[#Headers],[6]]),Tableau1[[#This Row],[C 2011]:[C 2015]],1)))/(MATCH(VALUE(Tableau1[[#Headers],[6]]),Tableau1[[#This Row],[C 2011]:[C 2015]],0)-MATCH(VALUE(Tableau1[[#Headers],[6]]),Tableau1[[#This Row],[C 2011]:[C 2015]],1)),"") | R7: =IFERROR((INDEX(Tableau1[[#This Row],[D 2011]:[D 2015]],,MATCH(VALUE(Tableau1[[#Headers],[7]]),Tableau1[[#This Row],[C 2011]:[C 2015]],0))-INDEX(Tableau1[[#This Row],[D 2011]:[D 2015]],,MATCH(VALUE(Tableau1[[#Headers],[7]]),Tableau1[[#This Row],[C 2011]:[C 2015]],1)))/(MATCH(VALUE(Tableau1[[#Headers],[7]]),Tableau1[[#This Row],[C 2011]:[C 2015]],0)-MATCH(VALUE(Tableau1[[#Headers],[7]]),Tableau1[[#This Row],[C 2011]:[C 2015]],1)),"") | S7: =IFERROR((INDEX(Tableau1[[#This Row],[D 2011]:[D 2015]],,MATCH(VALUE(Tableau1[[#Headers],[8]]),Tableau1[[#This Row],[C 2011]:[C 2015]],0))-INDEX(Tableau1[[#This Row],[D 2011]:[D 2015]],,MATCH(VALUE(Tableau1[[#Headers],[8]]),Tableau1[[#This Row],[C 2011]:[C 2015]],1)))/(MATCH(VALUE(Tableau1[[#Headers],[8]]),Tableau1[[#This Row],[C 2011]:[C 2015]],0)-MATCH(VALUE(Tableau1[[#Headers],[8]]),Tableau1[[#This Row],[C 2011]:[C 2015]],1)),"") | T7: =IFERROR((INDEX(Tableau1[[#This Row],[D 2011]:[D 2015]],,MATCH(VALUE(Tableau1[[#Headers],[9]]),Tableau1[[#This Row],[C 2011]:[C 2015]],0))-INDEX(Tableau1[[#This Row],[D 2011]:[D 2015]],,MATCH(VALUE(Tableau1[[#Headers],[9]]),Tableau1[[#This Row],[C 2011]:[C 2015]],1)))/(MATCH(VALUE(Tableau1[[#Headers],[9]]),Tableau1[[#This Row],[C 2011]:[C 2015]],0)-MATCH(VALUE(Tableau1[[#Headers],[9]]),Tableau1[[#This Row],[C 2011]:[C 2015]],1)),"")
A9: Remarques:
A10: D = diamètre
A11: C = classe de diamètre
A13: Classe 1 | B13: 10<= <20
A14: Classe 2 | B14: 20<= <30
A15: Classe 3 | B15: 30<= <40
A16: Classe 4 | B16: 40<= <50
A17: Classe 5 | B17: 50<= <60
A18: etc jusque classe 25
