Workbook

Sheet club A
A1: Joueurs | B1: =COUNTA(A:A)-1 -> 6 | D1: Nombre d'équipes | E1: 2 | H1: Pressez la touche F9 pour un nouveau tirage !
A2: Claude Robert | B2: =RANDBETWEEN(1,100)+ROW()/1000 -> 28.002
A3: Gilbert Michel | B3: =RANDBETWEEN(1,100)+ROW()/1000 -> 29.003 | D3: 1 | F3: =D3+1 -> 2 | H3: =F3+1 -> 3 | J3: =H3+1 -> 4 | L3: =J3+1 -> 5 | N3: =L3+1 -> 6 | P3: =N3+1 -> 7 | R3: =P3+1 -> 8
A4: Christian Evelyne | B4: =RANDBETWEEN(1,100)+ROW()/1000 -> 63.004 | C4: 1 | D4: =IF(AND(D$3<=$E$1,C4<=INT($B$1/$E$1)),INDEX(OFFSET($A$2,0,0,$B$1),MATCH(SMALL(OFFSET($A$2,0,1,$B$1),INT($B$1/$E$1)*(D$3-1)+ROW(1:1)),OFFSET($A$2,0,1,$B$1),0)),"") -> Claude Robert | E4: 1 | F4: =IF(AND(F$3<=$E$1,E4<=INT($B$1/$E$1)),INDEX(OFFSET($A$2,0,0,$B$1),MATCH(SMALL(OFFSET($A$2,0,1,$B$1),INT($B$1/$E$1)*(F$3-1)+ROW(1:1)),OFFSET($A$2,0,1,$B$1),0)),"") -> Christian Evelyne | G4: 1 | H4: =IF(AND(H$3<=$E$1,G4<=INT($B$1/$E$1)),INDEX(OFFSET($A$2,0,0,$B$1),MATCH(SMALL(OFFSET($A$2,0,1,$B$1),INT($B$1/$E$1)*(H$3-1)+ROW(1:1)),OFFSET($A$2,0,1,$B$1),0)),"") | I4: 1 | J4: =IF(AND(J$3<=$E$1,I4<=INT($B$1/$E$1)),INDEX(OFFSET($A$2,0,0,$B$1),MATCH(SMALL(OFFSET($A$2,0,1,$B$1),INT($B$1/$E$1)*(J$3-1)+ROW(1:1)),OFFSET($A$2,0,1,$B$1),0)),"") | K4: 1 | L4: =IF(AND(L$3<=$E$1,K4<=INT($B$1/$E$1)),INDEX(OFFSET($A$2,0,0,$B$1),MATCH(SMALL(OFFSET($A$2,0,1,$B$1),INT($B$1/$E$1)*(L$3-1)+ROW(1:1)),OFFSET($A$2,0,1,$B$1),0)),"") | M4: 1 | N4: =IF(AND(N$3<=$E$1,M4<=INT($B$1/$E$1)),INDEX(OFFSET($A$2,0,0,$B$1),MATCH(SMALL(OFFSET($A$2,0,1,$B$1),INT($B$1/$E$1)*(N$3-1)+ROW(1:1)),OFFSET($A$2,0,1,$B$1),0)),"") | O4: 1 | P4: =IF(AND(P$3<=$E$1,O4<=INT($B$1/$E$1)),INDEX(OFFSET($A$2,0,0,$B$1),MATCH(SMALL(OFFSET($A$2,0,1,$B$1),INT($B$1/$E$1)*(P$3-1)+ROW(1:1)),OFFSET($A$2,0,1,$B$1),0)),"") | Q4: 1 | R4: =IF(AND(R$3<=$E$1,Q4<=INT($B$1/$E$1)),INDEX(OFFSET($A$2,0,0,$B$1),MATCH(SMALL(OFFSET($A$2,0,1,$B$1),INT($B$1/$E$1)*(R$3-1)+ROW(1:1)),OFFSET($A$2,0,1,$B$1),0)),"")
A5: Chantal simone | B5: =RANDBETWEEN(1,100)+ROW()/1000 -> 76.005 | C5: 2 | D5: =IF(AND(D$3<=$E$1,C5<=INT($B$1/$E$1)),INDEX(OFFSET($A$2,0,0,$B$1),MATCH(SMALL(OFFSET($A$2,0,1,$B$1),INT($B$1/$E$1)*(D$3-1)+ROW(2:2)),OFFSET($A$2,0,1,$B$1),0)),"") -> Gilbert Michel | E5: 2 | F5: =IF(AND(F$3<=$E$1,E5<=INT($B$1/$E$1)),INDEX(OFFSET($A$2,0,0,$B$1),MATCH(SMALL(OFFSET($A$2,0,1,$B$1),INT($B$1/$E$1)*(F$3-1)+ROW(2:2)),OFFSET($A$2,0,1,$B$1),0)),"") -> Chantal simone | G5: 2 | H5: =IF(AND(H$3<=$E$1,G5<=INT($B$1/$E$1)),INDEX(OFFSET($A$2,0,0,$B$1),MATCH(SMALL(OFFSET($A$2,0,1,$B$1),INT($B$1/$E$1)*(H$3-1)+ROW(2:2)),OFFSET($A$2,0,1,$B$1),0)),"") | I5: 2 | J5: =IF(AND(J$3<=$E$1,I5<=INT($B$1/$E$1)),INDEX(OFFSET($A$2,0,0,$B$1),MATCH(SMALL(OFFSET($A$2,0,1,$B$1),INT($B$1/$E$1)*(J$3-1)+ROW(2:2)),OFFSET($A$2,0,1,$B$1),0)),"") | K5: 2 | L5: =IF(AND(L$3<=$E$1,K5<=INT($B$1/$E$1)),INDEX(OFFSET($A$2,0,0,$B$1),MATCH(SMALL(OFFSET($A$2,0,1,$B$1),INT($B$1/$E$1)*(L$3-1)+ROW(2:2)),OFFSET($A$2,0,1,$B$1),0)),"") | M5: 2 | N5: =IF(AND(N$3<=$E$1,M5<=INT($B$1/$E$1)),INDEX(OFFSET($A$2,0,0,$B$1),MATCH(SMALL(OFFSET($A$2,0,1,$B$1),INT($B$1/$E$1)*(N$3-1)+ROW(2:2)),OFFSET($A$2,0,1,$B$1),0)),"") | O5: 2 | P5: =IF(AND(P$3<=$E$1,O5<=INT($B$1/$E$1)),INDEX(OFFSET($A$2,0,0,$B$1),MATCH(SMALL(OFFSET($A$2,0,1,$B$1),INT($B$1/$E$1)*(P$3-1)+ROW(2:2)),OFFSET($A$2,0,1,$B$1),0)),"") | Q5: 2 | R5: =IF(AND(R$3<=$E$1,Q5<=INT($B$1/$E$1)),INDEX(OFFSET($A$2,0,0,$B$1),MATCH(SMALL(OFFSET($A$2,0,1,$B$1),INT($B$1/$E$1)*(R$3-1)+ROW(2:2)),OFFSET($A$2,0,1,$B$1),0)),"")
A6: Jeanne Claude | B6: =RANDBETWEEN(1,100)+ROW()/1000 -> 91.006 | C6: 3 | D6: =IF(AND(D$3<=$E$1,C6<=INT($B$1/$E$1)),INDEX(OFFSET($A$2,0,0,$B$1),MATCH(SMALL(OFFSET($A$2,0,1,$B$1),INT($B$1/$E$1)*(D$3-1)+ROW(3:3)),OFFSET($A$2,0,1,$B$1),0)),"") -> Robert Guy | E6: 3 | F6: =IF(AND(F$3<=$E$1,E6<=INT($B$1/$E$1)),INDEX(OFFSET($A$2,0,0,$B$1),MATCH(SMALL(OFFSET($A$2,0,1,$B$1),INT($B$1/$E$1)*(F$3-1)+ROW(3:3)),OFFSET($A$2,0,1,$B$1),0)),"") -> Jeanne Claude | G6: 3 | H6: =IF(AND(H$3<=$E$1,G6<=INT($B$1/$E$1)),INDEX(OFFSET($A$2,0,0,$B$1),MATCH(SMALL(OFFSET($A$2,0,1,$B$1),INT($B$1/$E$1)*(H$3-1)+ROW(3:3)),OFFSET($A$2,0,1,$B$1),0)),"") | I6: 3 | J6: =IF(AND(J$3<=$E$1,I6<=INT($B$1/$E$1)),INDEX(OFFSET($A$2,0,0,$B$1),MATCH(SMALL(OFFSET($A$2,0,1,$B$1),INT($B$1/$E$1)*(J$3-1)+ROW(3:3)),OFFSET($A$2,0,1,$B$1),0)),"") | K6: 3 | L6: =IF(AND(L$3<=$E$1,K6<=INT($B$1/$E$1)),INDEX(OFFSET($A$2,0,0,$B$1),MATCH(SMALL(OFFSET($A$2,0,1,$B$1),INT($B$1/$E$1)*(L$3-1)+ROW(3:3)),OFFSET($A$2,0,1,$B$1),0)),"") | M6: 3 | N6: =IF(AND(N$3<=$E$1,M6<=INT($B$1/$E$1)),INDEX(OFFSET($A$2,0,0,$B$1),MATCH(SMALL(OFFSET($A$2,0,1,$B$1),INT($B$1/$E$1)*(N$3-1)+ROW(3:3)),OFFSET($A$2,0,1,$B$1),0)),"") | O6: 3 | P6: =IF(AND(P$3<=$E$1,O6<=INT($B$1/$E$1)),INDEX(OFFSET($A$2,0,0,$B$1),MATCH(SMALL(OFFSET($A$2,0,1,$B$1),INT($B$1/$E$1)*(P$3-1)+ROW(3:3)),OFFSET($A$2,0,1,$B$1),0)),"") | Q6: 3 | R6: =IF(AND(R$3<=$E$1,Q6<=INT($B$1/$E$1)),INDEX(OFFSET($A$2,0,0,$B$1),MATCH(SMALL(OFFSET($A$2,0,1,$B$1),INT($B$1/$E$1)*(R$3-1)+ROW(3:3)),OFFSET($A$2,0,1,$B$1),0)),"")
A7: Robert Guy | B7: =RANDBETWEEN(1,100)+ROW()/1000 -> 42.007 | C7: 4 | D7: =IF(AND(D$3<=$E$1,C7<=INT($B$1/$E$1)),INDEX(OFFSET($A$2,0,0,$B$1),MATCH(SMALL(OFFSET($A$2,0,1,$B$1),INT($B$1/$E$1)*(D$3-1)+ROW(4:4)),OFFSET($A$2,0,1,$B$1),0)),"") | E7: 4 | F7: =IF(AND(F$3<=$E$1,E7<=INT($B$1/$E$1)),INDEX(OFFSET($A$2,0,0,$B$1),MATCH(SMALL(OFFSET($A$2,0,1,$B$1),INT($B$1/$E$1)*(F$3-1)+ROW(4:4)),OFFSET($A$2,0,1,$B$1),0)),"") | G7: 4 | H7: =IF(AND(H$3<=$E$1,G7<=INT($B$1/$E$1)),INDEX(OFFSET($A$2,0,0,$B$1),MATCH(SMALL(OFFSET($A$2,0,1,$B$1),INT($B$1/$E$1)*(H$3-1)+ROW(4:4)),OFFSET($A$2,0,1,$B$1),0)),"") | I7: 4 | J7: =IF(AND(J$3<=$E$1,I7<=INT($B$1/$E$1)),INDEX(OFFSET($A$2,0,0,$B$1),MATCH(SMALL(OFFSET($A$2,0,1,$B$1),INT($B$1/$E$1)*(J$3-1)+ROW(4:4)),OFFSET($A$2,0,1,$B$1),0)),"") | K7: 4 | L7: =IF(AND(L$3<=$E$1,K7<=INT($B$1/$E$1)),INDEX(OFFSET($A$2,0,0,$B$1),MATCH(SMALL(OFFSET($A$2,0,1,$B$1),INT($B$1/$E$1)*(L$3-1)+ROW(4:4)),OFFSET($A$2,0,1,$B$1),0)),"") | M7: 4 | N7: =IF(AND(N$3<=$E$1,M7<=INT($B$1/$E$1)),INDEX(OFFSET($A$2,0,0,$B$1),MATCH(SMALL(OFFSET($A$2,0,1,$B$1),INT($B$1/$E$1)*(N$3-1)+ROW(4:4)),OFFSET($A$2,0,1,$B$1),0)),"") | O7: 4 | P7: =IF(AND(P$3<=$E$1,O7<=INT($B$1/$E$1)),INDEX(OFFSET($A$2,0,0,$B$1),MATCH(SMALL(OFFSET($A$2,0,1,$B$1),INT($B$1/$E$1)*(P$3-1)+ROW(4:4)),OFFSET($A$2,0,1,$B$1),0)),"") | Q7: 4 | R7: =IF(AND(R$3<=$E$1,Q7<=INT($B$1/$E$1)),INDEX(OFFSET($A$2,0,0,$B$1),MATCH(SMALL(OFFSET($A$2,0,1,$B$1),INT($B$1/$E$1)*(R$3-1)+ROW(4:4)),OFFSET($A$2,0,1,$B$1),0)),"")
B8: =RANDBETWEEN(1,100)+ROW()/1000 -> 92.008 | C8: 5 | D8: =IF(AND(D$3<=$E$1,C8<=INT($B$1/$E$1)),INDEX(OFFSET($A$2,0,0,$B$1),MATCH(SMALL(OFFSET($A$2,0,1,$B$1),INT($B$1/$E$1)*(D$3-1)+ROW(5:5)),OFFSET($A$2,0,1,$B$1),0)),"") | E8: 5 | F8: =IF(AND(F$3<=$E$1,E8<=INT($B$1/$E$1)),INDEX(OFFSET($A$2,0,0,$B$1),MATCH(SMALL(OFFSET($A$2,0,1,$B$1),INT($B$1/$E$1)*(F$3-1)+ROW(5:5)),OFFSET($A$2,0,1,$B$1),0)),"") | G8: 5 | H8: =IF(AND(H$3<=$E$1,G8<=INT($B$1/$E$1)),INDEX(OFFSET($A$2,0,0,$B$1),MATCH(SMALL(OFFSET($A$2,0,1,$B$1),INT($B$1/$E$1)*(H$3-1)+ROW(5:5)),OFFSET($A$2,0,1,$B$1),0)),"") | I8: 5 | J8: =IF(AND(J$3<=$E$1,I8<=INT($B$1/$E$1)),INDEX(OFFSET($A$2,0,0,$B$1),MATCH(SMALL(OFFSET($A$2,0,1,$B$1),INT($B$1/$E$1)*(J$3-1)+ROW(5:5)),OFFSET($A$2,0,1,$B$1),0)),"") | K8: 5 | L8: =IF(AND(L$3<=$E$1,K8<=INT($B$1/$E$1)),INDEX(OFFSET($A$2,0,0,$B$1),MATCH(SMALL(OFFSET($A$2,0,1,$B$1),INT($B$1/$E$1)*(L$3-1)+ROW(5:5)),OFFSET($A$2,0,1,$B$1),0)),"") | M8: 5 | N8: =IF(AND(N$3<=$E$1,M8<=INT($B$1/$E$1)),INDEX(OFFSET($A$2,0,0,$B$1),MATCH(SMALL(OFFSET($A$2,0,1,$B$1),INT($B$1/$E$1)*(N$3-1)+ROW(5:5)),OFFSET($A$2,0,1,$B$1),0)),"") | O8: 5 | P8: =IF(AND(P$3<=$E$1,O8<=INT($B$1/$E$1)),INDEX(OFFSET($A$2,0,0,$B$1),MATCH(SMALL(OFFSET($A$2,0,1,$B$1),INT($B$1/$E$1)*(P$3-1)+ROW(5:5)),OFFSET($A$2,0,1,$B$1),0)),"") | Q8: 5 | R8: =IF(AND(R$3<=$E$1,Q8<=INT($B$1/$E$1)),INDEX(OFFSET($A$2,0,0,$B$1),MATCH(SMALL(OFFSET($A$2,0,1,$B$1),INT($B$1/$E$1)*(R$3-1)+ROW(5:5)),OFFSET($A$2,0,1,$B$1),0)),"")
B9: =RANDBETWEEN(1,100)+ROW()/1000 -> 52.009 | C9: 6 | D9: =IF(AND(D$3<=$E$1,C9<=INT($B$1/$E$1)),INDEX(OFFSET($A$2,0,0,$B$1),MATCH(SMALL(OFFSET($A$2,0,1,$B$1),INT($B$1/$E$1)*(D$3-1)+ROW(6:6)),OFFSET($A$2,0,1,$B$1),0)),"") | E9: 6 | F9: =IF(AND(F$3<=$E$1,E9<=INT($B$1/$E$1)),INDEX(OFFSET($A$2,0,0,$B$1),MATCH(SMALL(OFFSET($A$2,0,1,$B$1),INT($B$1/$E$1)*(F$3-1)+ROW(6:6)),OFFSET($A$2,0,1,$B$1),0)),"") | G9: 6 | H9: =IF(AND(H$3<=$E$1,G9<=INT($B$1/$E$1)),INDEX(OFFSET($A$2,0,0,$B$1),MATCH(SMALL(OFFSET($A$2,0,1,$B$1),INT($B$1/$E$1)*(H$3-1)+ROW(6:6)),OFFSET($A$2,0,1,$B$1),0)),"") | I9: 6 | J9: =IF(AND(J$3<=$E$1,I9<=INT($B$1/$E$1)),INDEX(OFFSET($A$2,0,0,$B$1),MATCH(SMALL(OFFSET($A$2,0,1,$B$1),INT($B$1/$E$1)*(J$3-1)+ROW(6:6)),OFFSET($A$2,0,1,$B$1),0)),"") | K9: 6 | L9: =IF(AND(L$3<=$E$1,K9<=INT($B$1/$E$1)),INDEX(OFFSET($A$2,0,0,$B$1),MATCH(SMALL(OFFSET($A$2,0,1,$B$1),INT($B$1/$E$1)*(L$3-1)+ROW(6:6)),OFFSET($A$2,0,1,$B$1),0)),"") | M9: 6 | N9: =IF(AND(N$3<=$E$1,M9<=INT($B$1/$E$1)),INDEX(OFFSET($A$2,0,0,$B$1),MATCH(SMALL(OFFSET($A$2,0,1,$B$1),INT($B$1/$E$1)*(N$3-1)+ROW(6:6)),OFFSET($A$2,0,1,$B$1),0)),"") | O9: 6 | P9: =IF(AND(P$3<=$E$1,O9<=INT($B$1/$E$1)),INDEX(OFFSET($A$2,0,0,$B$1),MATCH(SMALL(OFFSET($A$2,0,1,$B$1),INT($B$1/$E$1)*(P$3-1)+ROW(6:6)),OFFSET($A$2,0,1,$B$1),0)),"") | Q9: 6 | R9: =IF(AND(R$3<=$E$1,Q9<=INT($B$1/$E$1)),INDEX(OFFSET($A$2,0,0,$B$1),MATCH(SMALL(OFFSET($A$2,0,1,$B$1),INT($B$1/$E$1)*(R$3-1)+ROW(6:6)),OFFSET($A$2,0,1,$B$1),0)),"")
B10: =RANDBETWEEN(1,100)+ROW()/1000 -> 7.01 | C10: 7 | D10: =IF(AND(D$3<=$E$1,C10<=INT($B$1/$E$1)),INDEX(OFFSET($A$2,0,0,$B$1),MATCH(SMALL(OFFSET($A$2,0,1,$B$1),INT($B$1/$E$1)*(D$3-1)+ROW(7:7)),OFFSET($A$2,0,1,$B$1),0)),"") | E10: 7 | F10: =IF(AND(F$3<=$E$1,E10<=INT($B$1/$E$1)),INDEX(OFFSET($A$2,0,0,$B$1),MATCH(SMALL(OFFSET($A$2,0,1,$B$1),INT($B$1/$E$1)*(F$3-1)+ROW(7:7)),OFFSET($A$2,0,1,$B$1),0)),"") | G10: 7 | H10: =IF(AND(H$3<=$E$1,G10<=INT($B$1/$E$1)),INDEX(OFFSET($A$2,0,0,$B$1),MATCH(SMALL(OFFSET($A$2,0,1,$B$1),INT($B$1/$E$1)*(H$3-1)+ROW(7:7)),OFFSET($A$2,0,1,$B$1),0)),"") | I10: 7 | J10: =IF(AND(J$3<=$E$1,I10<=INT($B$1/$E$1)),INDEX(OFFSET($A$2,0,0,$B$1),MATCH(SMALL(OFFSET($A$2,0,1,$B$1),INT($B$1/$E$1)*(J$3-1)+ROW(7:7)),OFFSET($A$2,0,1,$B$1),0)),"") | K10: 7 | L10: =IF(AND(L$3<=$E$1,K10<=INT($B$1/$E$1)),INDEX(OFFSET($A$2,0,0,$B$1),MATCH(SMALL(OFFSET($A$2,0,1,$B$1),INT($B$1/$E$1)*(L$3-1)+ROW(7:7)),OFFSET($A$2,0,1,$B$1),0)),"") | M10: 7 | N10: =IF(AND(N$3<=$E$1,M10<=INT($B$1/$E$1)),INDEX(OFFSET($A$2,0,0,$B$1),MATCH(SMALL(OFFSET($A$2,0,1,$B$1),INT($B$1/$E$1)*(N$3-1)+ROW(7:7)),OFFSET($A$2,0,1,$B$1),0)),"") | O10: 7 | P10: =IF(AND(P$3<=$E$1,O10<=INT($B$1/$E$1)),INDEX(OFFSET($A$2,0,0,$B$1),MATCH(SMALL(OFFSET($A$2,0,1,$B$1),INT($B$1/$E$1)*(P$3-1)+ROW(7:7)),OFFSET($A$2,0,1,$B$1),0)),"") | Q10: 7 | R10: =IF(AND(R$3<=$E$1,Q10<=INT($B$1/$E$1)),INDEX(OFFSET($A$2,0,0,$B$1),MATCH(SMALL(OFFSET($A$2,0,1,$B$1),INT($B$1/$E$1)*(R$3-1)+ROW(7:7)),OFFSET($A$2,0,1,$B$1),0)),"")
B11: =RANDBETWEEN(1,100)+ROW()/1000 -> 45.011 | C11: 8 | D11: =IF(AND(D$3<=$E$1,C11<=INT($B$1/$E$1)),INDEX(OFFSET($A$2,0,0,$B$1),MATCH(SMALL(OFFSET($A$2,0,1,$B$1),INT($B$1/$E$1)*(D$3-1)+ROW(8:8)),OFFSET($A$2,0,1,$B$1),0)),"") | E11: 8 | F11: =IF(AND(F$3<=$E$1,E11<=INT($B$1/$E$1)),INDEX(OFFSET($A$2,0,0,$B$1),MATCH(SMALL(OFFSET($A$2,0,1,$B$1),INT($B$1/$E$1)*(F$3-1)+ROW(8:8)),OFFSET($A$2,0,1,$B$1),0)),"") | G11: 8 | H11: =IF(AND(H$3<=$E$1,G11<=INT($B$1/$E$1)),INDEX(OFFSET($A$2,0,0,$B$1),MATCH(SMALL(OFFSET($A$2,0,1,$B$1),INT($B$1/$E$1)*(H$3-1)+ROW(8:8)),OFFSET($A$2,0,1,$B$1),0)),"") | I11: 8 | J11: =IF(AND(J$3<=$E$1,I11<=INT($B$1/$E$1)),INDEX(OFFSET($A$2,0,0,$B$1),MATCH(SMALL(OFFSET($A$2,0,1,$B$1),INT($B$1/$E$1)*(J$3-1)+ROW(8:8)),OFFSET($A$2,0,1,$B$1),0)),"") | K11: 8 | L11: =IF(AND(L$3<=$E$1,K11<=INT($B$1/$E$1)),INDEX(OFFSET($A$2,0,0,$B$1),MATCH(SMALL(OFFSET($A$2,0,1,$B$1),INT($B$1/$E$1)*(L$3-1)+ROW(8:8)),OFFSET($A$2,0,1,$B$1),0)),"") | M11: 8 | N11: =IF(AND(N$3<=$E$1,M11<=INT($B$1/$E$1)),INDEX(OFFSET($A$2,0,0,$B$1),MATCH(SMALL(OFFSET($A$2,0,1,$B$1),INT($B$1/$E$1)*(N$3-1)+ROW(8:8)),OFFSET($A$2,0,1,$B$1),0)),"") | O11: 8 | P11: =IF(AND(P$3<=$E$1,O11<=INT($B$1/$E$1)),INDEX(OFFSET($A$2,0,0,$B$1),MATCH(SMALL(OFFSET($A$2,0,1,$B$1),INT($B$1/$E$1)*(P$3-1)+ROW(8:8)),OFFSET($A$2,0,1,$B$1),0)),"") | Q11: 8 | R11: =IF(AND(R$3<=$E$1,Q11<=INT($B$1/$E$1)),INDEX(OFFSET($A$2,0,0,$B$1),MATCH(SMALL(OFFSET($A$2,0,1,$B$1),INT($B$1/$E$1)*(R$3-1)+ROW(8:8)),OFFSET($A$2,0,1,$B$1),0)),"")
B12: =RANDBETWEEN(1,100)+ROW()/1000 -> 62.012 | C12: 9 | D12: =IF(AND(D$3<=$E$1,C12<=INT($B$1/$E$1)),INDEX(OFFSET($A$2,0,0,$B$1),MATCH(SMALL(OFFSET($A$2,0,1,$B$1),INT($B$1/$E$1)*(D$3-1)+ROW(9:9)),OFFSET($A$2,0,1,$B$1),0)),"") | E12: 9 | F12: =IF(AND(F$3<=$E$1,E12<=INT($B$1/$E$1)),INDEX(OFFSET($A$2,0,0,$B$1),MATCH(SMALL(OFFSET($A$2,0,1,$B$1),INT($B$1/$E$1)*(F$3-1)+ROW(9:9)),OFFSET($A$2,0,1,$B$1),0)),"") | G12: 9 | H12: =IF(AND(H$3<=$E$1,G12<=INT($B$1/$E$1)),INDEX(OFFSET($A$2,0,0,$B$1),MATCH(SMALL(OFFSET($A$2,0,1,$B$1),INT($B$1/$E$1)*(H$3-1)+ROW(9:9)),OFFSET($A$2,0,1,$B$1),0)),"") | I12: 9 | J12: =IF(AND(J$3<=$E$1,I12<=INT($B$1/$E$1)),INDEX(OFFSET($A$2,0,0,$B$1),MATCH(SMALL(OFFSET($A$2,0,1,$B$1),INT($B$1/$E$1)*(J$3-1)+ROW(9:9)),OFFSET($A$2,0,1,$B$1),0)),"") | K12: 9 | L12: =IF(AND(L$3<=$E$1,K12<=INT($B$1/$E$1)),INDEX(OFFSET($A$2,0,0,$B$1),MATCH(SMALL(OFFSET($A$2,0,1,$B$1),INT($B$1/$E$1)*(L$3-1)+ROW(9:9)),OFFSET($A$2,0,1,$B$1),0)),"") | M12: 9 | N12: =IF(AND(N$3<=$E$1,M12<=INT($B$1/$E$1)),INDEX(OFFSET($A$2,0,0,$B$1),MATCH(SMALL(OFFSET($A$2,0,1,$B$1),INT($B$1/$E$1)*(N$3-1)+ROW(9:9)),OFFSET($A$2,0,1,$B$1),0)),"") | O12: 9 | P12: =IF(AND(P$3<=$E$1,O12<=INT($B$1/$E$1)),INDEX(OFFSET($A$2,0,0,$B$1),MATCH(SMALL(OFFSET($A$2,0,1,$B$1),INT($B$1/$E$1)*(P$3-1)+ROW(9:9)),OFFSET($A$2,0,1,$B$1),0)),"") | Q12: 9 | R12: =IF(AND(R$3<=$E$1,Q12<=INT($B$1/$E$1)),INDEX(OFFSET($A$2,0,0,$B$1),MATCH(SMALL(OFFSET($A$2,0,1,$B$1),INT($B$1/$E$1)*(R$3-1)+ROW(9:9)),OFFSET($A$2,0,1,$B$1),0)),"")
B13: =RANDBETWEEN(1,100)+ROW()/1000 -> 30.013 | C13: 10 | D13: =IF(AND(D$3<=$E$1,C13<=INT($B$1/$E$1)),INDEX(OFFSET($A$2,0,0,$B$1),MATCH(SMALL(OFFSET($A$2,0,1,$B$1),INT($B$1/$E$1)*(D$3-1)+ROW(10:10)),OFFSET($A$2,0,1,$B$1),0)),"") | E13: 10 | F13: =IF(AND(F$3<=$E$1,E13<=INT($B$1/$E$1)),INDEX(OFFSET($A$2,0,0,$B$1),MATCH(SMALL(OFFSET($A$2,0,1,$B$1),INT($B$1/$E$1)*(F$3-1)+ROW(10:10)),OFFSET($A$2,0,1,$B$1),0)),"") | G13: 10 | H13: =IF(AND(H$3<=$E$1,G13<=INT($B$1/$E$1)),INDEX(OFFSET($A$2,0,0,$B$1),MATCH(SMALL(OFFSET($A$2,0,1,$B$1),INT($B$1/$E$1)*(H$3-1)+ROW(10:10)),OFFSET($A$2,0,1,$B$1),0)),"") | I13: 10 | J13: =IF(AND(J$3<=$E$1,I13<=INT($B$1/$E$1)),INDEX(OFFSET($A$2,0,0,$B$1),MATCH(SMALL(OFFSET($A$2,0,1,$B$1),INT($B$1/$E$1)*(J$3-1)+ROW(10:10)),OFFSET($A$2,0,1,$B$1),0)),"") | K13: 10 | L13: =IF(AND(L$3<=$E$1,K13<=INT($B$1/$E$1)),INDEX(OFFSET($A$2,0,0,$B$1),MATCH(SMALL(OFFSET($A$2,0,1,$B$1),INT($B$1/$E$1)*(L$3-1)+ROW(10:10)),OFFSET($A$2,0,1,$B$1),0)),"") | M13: 10 | N13: =IF(AND(N$3<=$E$1,M13<=INT($B$1/$E$1)),INDEX(OFFSET($A$2,0,0,$B$1),MATCH(SMALL(OFFSET($A$2,0,1,$B$1),INT($B$1/$E$1)*(N$3-1)+ROW(10:10)),OFFSET($A$2,0,1,$B$1),0)),"") | O13: 10 | P13: =IF(AND(P$3<=$E$1,O13<=INT($B$1/$E$1)),INDEX(OFFSET($A$2,0,0,$B$1),MATCH(SMALL(OFFSET($A$2,0,1,$B$1),INT($B$1/$E$1)*(P$3-1)+ROW(10:10)),OFFSET($A$2,0,1,$B$1),0)),"") | Q13: 10 | R13: =IF(AND(R$3<=$E$1,Q13<=INT($B$1/$E$1)),INDEX(OFFSET($A$2,0,0,$B$1),MATCH(SMALL(OFFSET($A$2,0,1,$B$1),INT($B$1/$E$1)*(R$3-1)+ROW(10:10)),OFFSET($A$2,0,1,$B$1),0)),"")
B14: =RANDBETWEEN(1,100)+ROW()/1000 -> 90.014 | C14: 11 | D14: =IF(AND(D$3<=$E$1,C14<=INT($B$1/$E$1)),INDEX(OFFSET($A$2,0,0,$B$1),MATCH(SMALL(OFFSET($A$2,0,1,$B$1),INT($B$1/$E$1)*(D$3-1)+ROW(11:11)),OFFSET($A$2,0,1,$B$1),0)),"") | E14: 11 | F14: =IF(AND(F$3<=$E$1,E14<=INT($B$1/$E$1)),INDEX(OFFSET($A$2,0,0,$B$1),MATCH(SMALL(OFFSET($A$2,0,1,$B$1),INT($B$1/$E$1)*(F$3-1)+ROW(11:11)),OFFSET($A$2,0,1,$B$1),0)),"") | G14: 11 | H14: =IF(AND(H$3<=$E$1,G14<=INT($B$1/$E$1)),INDEX(OFFSET($A$2,0,0,$B$1),MATCH(SMALL(OFFSET($A$2,0,1,$B$1),INT($B$1/$E$1)*(H$3-1)+ROW(11:11)),OFFSET($A$2,0,1,$B$1),0)),"") | I14: 11 | J14: =IF(AND(J$3<=$E$1,I14<=INT($B$1/$E$1)),INDEX(OFFSET($A$2,0,0,$B$1),MATCH(SMALL(OFFSET($A$2,0,1,$B$1),INT($B$1/$E$1)*(J$3-1)+ROW(11:11)),OFFSET($A$2,0,1,$B$1),0)),"") | K14: 11 | L14: =IF(AND(L$3<=$E$1,K14<=INT($B$1/$E$1)),INDEX(OFFSET($A$2,0,0,$B$1),MATCH(SMALL(OFFSET($A$2,0,1,$B$1),INT($B$1/$E$1)*(L$3-1)+ROW(11:11)),OFFSET($A$2,0,1,$B$1),0)),"") | M14: 11 | N14: =IF(AND(N$3<=$E$1,M14<=INT($B$1/$E$1)),INDEX(OFFSET($A$2,0,0,$B$1),MATCH(SMALL(OFFSET($A$2,0,1,$B$1),INT($B$1/$E$1)*(N$3-1)+ROW(11:11)),OFFSET($A$2,0,1,$B$1),0)),"") | O14: 11 | P14: =IF(AND(P$3<=$E$1,O14<=INT($B$1/$E$1)),INDEX(OFFSET($A$2,0,0,$B$1),MATCH(SMALL(OFFSET($A$2,0,1,$B$1),INT($B$1/$E$1)*(P$3-1)+ROW(11:11)),OFFSET($A$2,0,1,$B$1),0)),"") | Q14: 11 | R14: =IF(AND(R$3<=$E$1,Q14<=INT($B$1/$E$1)),INDEX(OFFSET($A$2,0,0,$B$1),MATCH(SMALL(OFFSET($A$2,0,1,$B$1),INT($B$1/$E$1)*(R$3-1)+ROW(11:11)),OFFSET($A$2,0,1,$B$1),0)),"")
B15: =RANDBETWEEN(1,100)+ROW()/1000 -> 30.015 | C15: 12 | D15: =IF(AND(D$3<=$E$1,C15<=INT($B$1/$E$1)),INDEX(OFFSET($A$2,0,0,$B$1),MATCH(SMALL(OFFSET($A$2,0,1,$B$1),INT($B$1/$E$1)*(D$3-1)+ROW(12:12)),OFFSET($A$2,0,1,$B$1),0)),"") | E15: 12 | F15: =IF(AND(F$3<=$E$1,E15<=INT($B$1/$E$1)),INDEX(OFFSET($A$2,0,0,$B$1),MATCH(SMALL(OFFSET($A$2,0,1,$B$1),INT($B$1/$E$1)*(F$3-1)+ROW(12:12)),OFFSET($A$2,0,1,$B$1),0)),"") | G15: 12 | H15: =IF(AND(H$3<=$E$1,G15<=INT($B$1/$E$1)),INDEX(OFFSET($A$2,0,0,$B$1),MATCH(SMALL(OFFSET($A$2,0,1,$B$1),INT($B$1/$E$1)*(H$3-1)+ROW(12:12)),OFFSET($A$2,0,1,$B$1),0)),"") | I15: 12 | J15: =IF(AND(J$3<=$E$1,I15<=INT($B$1/$E$1)),INDEX(OFFSET($A$2,0,0,$B$1),MATCH(SMALL(OFFSET($A$2,0,1,$B$1),INT($B$1/$E$1)*(J$3-1)+ROW(12:12)),OFFSET($A$2,0,1,$B$1),0)),"") | K15: 12 | L15: =IF(AND(L$3<=$E$1,K15<=INT($B$1/$E$1)),INDEX(OFFSET($A$2,0,0,$B$1),MATCH(SMALL(OFFSET($A$2,0,1,$B$1),INT($B$1/$E$1)*(L$3-1)+ROW(12:12)),OFFSET($A$2,0,1,$B$1),0)),"") | M15: 12 | N15: =IF(AND(N$3<=$E$1,M15<=INT($B$1/$E$1)),INDEX(OFFSET($A$2,0,0,$B$1),MATCH(SMALL(OFFSET($A$2,0,1,$B$1),INT($B$1/$E$1)*(N$3-1)+ROW(12:12)),OFFSET($A$2,0,1,$B$1),0)),"") | O15: 12 | P15: =IF(AND(P$3<=$E$1,O15<=INT($B$1/$E$1)),INDEX(OFFSET($A$2,0,0,$B$1),MATCH(SMALL(OFFSET($A$2,0,1,$B$1),INT($B$1/$E$1)*(P$3-1)+ROW(12:12)),OFFSET($A$2,0,1,$B$1),0)),"") | Q15: 12 | R15: =IF(AND(R$3<=$E$1,Q15<=INT($B$1/$E$1)),INDEX(OFFSET($A$2,0,0,$B$1),MATCH(SMALL(OFFSET($A$2,0,1,$B$1),INT($B$1/$E$1)*(R$3-1)+ROW(12:12)),OFFSET($A$2,0,1,$B$1),0)),"")
B16: =RANDBETWEEN(1,100)+ROW()/1000 -> 8.016 | C16: 13 | D16: =IF(AND(D$3<=$E$1,C16<=INT($B$1/$E$1)),INDEX(OFFSET($A$2,0,0,$B$1),MATCH(SMALL(OFFSET($A$2,0,1,$B$1),INT($B$1/$E$1)*(D$3-1)+ROW(13:13)),OFFSET($A$2,0,1,$B$1),0)),"") | E16: 13 | F16: =IF(AND(F$3<=$E$1,E16<=INT($B$1/$E$1)),INDEX(OFFSET($A$2,0,0,$B$1),MATCH(SMALL(OFFSET($A$2,0,1,$B$1),INT($B$1/$E$1)*(F$3-1)+ROW(13:13)),OFFSET($A$2,0,1,$B$1),0)),"") | G16: 13 | H16: =IF(AND(H$3<=$E$1,G16<=INT($B$1/$E$1)),INDEX(OFFSET($A$2,0,0,$B$1),MATCH(SMALL(OFFSET($A$2,0,1,$B$1),INT($B$1/$E$1)*(H$3-1)+ROW(13:13)),OFFSET($A$2,0,1,$B$1),0)),"") | I16: 13 | J16: =IF(AND(J$3<=$E$1,I16<=INT($B$1/$E$1)),INDEX(OFFSET($A$2,0,0,$B$1),MATCH(SMALL(OFFSET($A$2,0,1,$B$1),INT($B$1/$E$1)*(J$3-1)+ROW(13:13)),OFFSET($A$2,0,1,$B$1),0)),"") | K16: 13 | L16: =IF(AND(L$3<=$E$1,K16<=INT($B$1/$E$1)),INDEX(OFFSET($A$2,0,0,$B$1),MATCH(SMALL(OFFSET($A$2,0,1,$B$1),INT($B$1/$E$1)*(L$3-1)+ROW(13:13)),OFFSET($A$2,0,1,$B$1),0)),"") | M16: 13 | N16: =IF(AND(N$3<=$E$1,M16<=INT($B$1/$E$1)),INDEX(OFFSET($A$2,0,0,$B$1),MATCH(SMALL(OFFSET($A$2,0,1,$B$1),INT($B$1/$E$1)*(N$3-1)+ROW(13:13)),OFFSET($A$2,0,1,$B$1),0)),"") | O16: 13 | P16: =IF(AND(P$3<=$E$1,O16<=INT($B$1/$E$1)),INDEX(OFFSET($A$2,0,0,$B$1),MATCH(SMALL(OFFSET($A$2,0,1,$B$1),INT($B$1/$E$1)*(P$3-1)+ROW(13:13)),OFFSET($A$2,0,1,$B$1),0)),"") | Q16: 13 | R16: =IF(AND(R$3<=$E$1,Q16<=INT($B$1/$E$1)),INDEX(OFFSET($A$2,0,0,$B$1),MATCH(SMALL(OFFSET($A$2,0,1,$B$1),INT($B$1/$E$1)*(R$3-1)+ROW(13:13)),OFFSET($A$2,0,1,$B$1),0)),"")
B17: =RANDBETWEEN(1,100)+ROW()/1000 -> 47.017 | C17: 14 | D17: =IF(AND(D$3<=$E$1,C17<=INT($B$1/$E$1)),INDEX(OFFSET($A$2,0,0,$B$1),MATCH(SMALL(OFFSET($A$2,0,1,$B$1),INT($B$1/$E$1)*(D$3-1)+ROW(14:14)),OFFSET($A$2,0,1,$B$1),0)),"") | E17: 14 | F17: =IF(AND(F$3<=$E$1,E17<=INT($B$1/$E$1)),INDEX(OFFSET($A$2,0,0,$B$1),MATCH(SMALL(OFFSET($A$2,0,1,$B$1),INT($B$1/$E$1)*(F$3-1)+ROW(14:14)),OFFSET($A$2,0,1,$B$1),0)),"") | G17: 14 | H17: =IF(AND(H$3<=$E$1,G17<=INT($B$1/$E$1)),INDEX(OFFSET($A$2,0,0,$B$1),MATCH(SMALL(OFFSET($A$2,0,1,$B$1),INT($B$1/$E$1)*(H$3-1)+ROW(14:14)),OFFSET($A$2,0,1,$B$1),0)),"") | I17: 14 | J17: =IF(AND(J$3<=$E$1,I17<=INT($B$1/$E$1)),INDEX(OFFSET($A$2,0,0,$B$1),MATCH(SMALL(OFFSET($A$2,0,1,$B$1),INT($B$1/$E$1)*(J$3-1)+ROW(14:14)),OFFSET($A$2,0,1,$B$1),0)),"") | K17: 14 | L17: =IF(AND(L$3<=$E$1,K17<=INT($B$1/$E$1)),INDEX(OFFSET($A$2,0,0,$B$1),MATCH(SMALL(OFFSET($A$2,0,1,$B$1),INT($B$1/$E$1)*(L$3-1)+ROW(14:14)),OFFSET($A$2,0,1,$B$1),0)),"") | M17: 14 | N17: =IF(AND(N$3<=$E$1,M17<=INT($B$1/$E$1)),INDEX(OFFSET($A$2,0,0,$B$1),MATCH(SMALL(OFFSET($A$2,0,1,$B$1),INT($B$1/$E$1)*(N$3-1)+ROW(14:14)),OFFSET($A$2,0,1,$B$1),0)),"") | O17: 14 | P17: =IF(AND(P$3<=$E$1,O17<=INT($B$1/$E$1)),INDEX(OFFSET($A$2,0,0,$B$1),MATCH(SMALL(OFFSET($A$2,0,1,$B$1),INT($B$1/$E$1)*(P$3-1)+ROW(14:14)),OFFSET($A$2,0,1,$B$1),0)),"") | Q17: 14 | R17: =IF(AND(R$3<=$E$1,Q17<=INT($B$1/$E$1)),INDEX(OFFSET($A$2,0,0,$B$1),MATCH(SMALL(OFFSET($A$2,0,1,$B$1),INT($B$1/$E$1)*(R$3-1)+ROW(14:14)),OFFSET($A$2,0,1,$B$1),0)),"")
B18: =RANDBETWEEN(1,100)+ROW()/1000 -> 24.018 | C18: 15 | D18: =IF(AND(D$3<=$E$1,C18<=INT($B$1/$E$1)),INDEX(OFFSET($A$2,0,0,$B$1),MATCH(SMALL(OFFSET($A$2,0,1,$B$1),INT($B$1/$E$1)*(D$3-1)+ROW(15:15)),OFFSET($A$2,0,1,$B$1),0)),"") | E18: 15 | F18: =IF(AND(F$3<=$E$1,E18<=INT($B$1/$E$1)),INDEX(OFFSET($A$2,0,0,$B$1),MATCH(SMALL(OFFSET($A$2,0,1,$B$1),INT($B$1/$E$1)*(F$3-1)+ROW(15:15)),OFFSET($A$2,0,1,$B$1),0)),"") | G18: 15 | H18: =IF(AND(H$3<=$E$1,G18<=INT($B$1/$E$1)),INDEX(OFFSET($A$2,0,0,$B$1),MATCH(SMALL(OFFSET($A$2,0,1,$B$1),INT($B$1/$E$1)*(H$3-1)+ROW(15:15)),OFFSET($A$2,0,1,$B$1),0)),"") | I18: 15 | J18: =IF(AND(J$3<=$E$1,I18<=INT($B$1/$E$1)),INDEX(OFFSET($A$2,0,0,$B$1),MATCH(SMALL(OFFSET($A$2,0,1,$B$1),INT($B$1/$E$1)*(J$3-1)+ROW(15:15)),OFFSET($A$2,0,1,$B$1),0)),"") | K18: 15 | L18: =IF(AND(L$3<=$E$1,K18<=INT($B$1/$E$1)),INDEX(OFFSET($A$2,0,0,$B$1),MATCH(SMALL(OFFSET($A$2,0,1,$B$1),INT($B$1/$E$1)*(L$3-1)+ROW(15:15)),OFFSET($A$2,0,1,$B$1),0)),"") | M18: 15 | N18: =IF(AND(N$3<=$E$1,M18<=INT($B$1/$E$1)),INDEX(OFFSET($A$2,0,0,$B$1),MATCH(SMALL(OFFSET($A$2,0,1,$B$1),INT($B$1/$E$1)*(N$3-1)+ROW(15:15)),OFFSET($A$2,0,1,$B$1),0)),"") | O18: 15 | P18: =IF(AND(P$3<=$E$1,O18<=INT($B$1/$E$1)),INDEX(OFFSET($A$2,0,0,$B$1),MATCH(SMALL(OFFSET($A$2,0,1,$B$1),INT($B$1/$E$1)*(P$3-1)+ROW(15:15)),OFFSET($A$2,0,1,$B$1),0)),"") | Q18: 15 | R18: =IF(AND(R$3<=$E$1,Q18<=INT($B$1/$E$1)),INDEX(OFFSET($A$2,0,0,$B$1),MATCH(SMALL(OFFSET($A$2,0,1,$B$1),INT($B$1/$E$1)*(R$3-1)+ROW(15:15)),OFFSET($A$2,0,1,$B$1),0)),"")
B19: =RANDBETWEEN(1,100)+ROW()/1000 -> 39.019 | C19: 16 | D19: =IF(AND(D$3<=$E$1,C19<=INT($B$1/$E$1)),INDEX(OFFSET($A$2,0,0,$B$1),MATCH(SMALL(OFFSET($A$2,0,1,$B$1),INT($B$1/$E$1)*(D$3-1)+ROW(16:16)),OFFSET($A$2,0,1,$B$1),0)),"") | E19: 16 | F19: =IF(AND(F$3<=$E$1,E19<=INT($B$1/$E$1)),INDEX(OFFSET($A$2,0,0,$B$1),MATCH(SMALL(OFFSET($A$2,0,1,$B$1),INT($B$1/$E$1)*(F$3-1)+ROW(16:16)),OFFSET($A$2,0,1,$B$1),0)),"") | G19: 16 | H19: =IF(AND(H$3<=$E$1,G19<=INT($B$1/$E$1)),INDEX(OFFSET($A$2,0,0,$B$1),MATCH(SMALL(OFFSET($A$2,0,1,$B$1),INT($B$1/$E$1)*(H$3-1)+ROW(16:16)),OFFSET($A$2,0,1,$B$1),0)),"") | I19: 16 | J19: =IF(AND(J$3<=$E$1,I19<=INT($B$1/$E$1)),INDEX(OFFSET($A$2,0,0,$B$1),MATCH(SMALL(OFFSET($A$2,0,1,$B$1),INT($B$1/$E$1)*(J$3-1)+ROW(16:16)),OFFSET($A$2,0,1,$B$1),0)),"") | K19: 16 | L19: =IF(AND(L$3<=$E$1,K19<=INT($B$1/$E$1)),INDEX(OFFSET($A$2,0,0,$B$1),MATCH(SMALL(OFFSET($A$2,0,1,$B$1),INT($B$1/$E$1)*(L$3-1)+ROW(16:16)),OFFSET($A$2,0,1,$B$1),0)),"") | M19: 16 | N19: =IF(AND(N$3<=$E$1,M19<=INT($B$1/$E$1)),INDEX(OFFSET($A$2,0,0,$B$1),MATCH(SMALL(OFFSET($A$2,0,1,$B$1),INT($B$1/$E$1)*(N$3-1)+ROW(16:16)),OFFSET($A$2,0,1,$B$1),0)),"") | O19: 16 | P19: =IF(AND(P$3<=$E$1,O19<=INT($B$1/$E$1)),INDEX(OFFSET($A$2,0,0,$B$1),MATCH(SMALL(OFFSET($A$2,0,1,$B$1),INT($B$1/$E$1)*(P$3-1)+ROW(16:16)),OFFSET($A$2,0,1,$B$1),0)),"") | Q19: 16 | R19: =IF(AND(R$3<=$E$1,Q19<=INT($B$1/$E$1)),INDEX(OFFSET($A$2,0,0,$B$1),MATCH(SMALL(OFFSET($A$2,0,1,$B$1),INT($B$1/$E$1)*(R$3-1)+ROW(16:16)),OFFSET($A$2,0,1,$B$1),0)),"")
B20: =RANDBETWEEN(1,100)+ROW()/1000 -> 16.02 | C20: 17 | D20: =IF(AND(D$3<=$E$1,C20<=INT($B$1/$E$1)),INDEX(OFFSET($A$2,0,0,$B$1),MATCH(SMALL(OFFSET($A$2,0,1,$B$1),INT($B$1/$E$1)*(D$3-1)+ROW(17:17)),OFFSET($A$2,0,1,$B$1),0)),"") | E20: 17 | F20: =IF(AND(F$3<=$E$1,E20<=INT($B$1/$E$1)),INDEX(OFFSET($A$2,0,0,$B$1),MATCH(SMALL(OFFSET($A$2,0,1,$B$1),INT($B$1/$E$1)*(F$3-1)+ROW(17:17)),OFFSET($A$2,0,1,$B$1),0)),"") | G20: 17 | H20: =IF(AND(H$3<=$E$1,G20<=INT($B$1/$E$1)),INDEX(OFFSET($A$2,0,0,$B$1),MATCH(SMALL(OFFSET($A$2,0,1,$B$1),INT($B$1/$E$1)*(H$3-1)+ROW(17:17)),OFFSET($A$2,0,1,$B$1),0)),"") | I20: 17 | J20: =IF(AND(J$3<=$E$1,I20<=INT($B$1/$E$1)),INDEX(OFFSET($A$2,0,0,$B$1),MATCH(SMALL(OFFSET($A$2,0,1,$B$1),INT($B$1/$E$1)*(J$3-1)+ROW(17:17)),OFFSET($A$2,0,1,$B$1),0)),"") | K20: 17 | L20: =IF(AND(L$3<=$E$1,K20<=INT($B$1/$E$1)),INDEX(OFFSET($A$2,0,0,$B$1),MATCH(SMALL(OFFSET($A$2,0,1,$B$1),INT($B$1/$E$1)*(L$3-1)+ROW(17:17)),OFFSET($A$2,0,1,$B$1),0)),"") | M20: 17 | N20: =IF(AND(N$3<=$E$1,M20<=INT($B$1/$E$1)),INDEX(OFFSET($A$2,0,0,$B$1),MATCH(SMALL(OFFSET($A$2,0,1,$B$1),INT($B$1/$E$1)*(N$3-1)+ROW(17:17)),OFFSET($A$2,0,1,$B$1),0)),"") | O20: 17 | P20: =IF(AND(P$3<=$E$1,O20<=INT($B$1/$E$1)),INDEX(OFFSET($A$2,0,0,$B$1),MATCH(SMALL(OFFSET($A$2,0,1,$B$1),INT($B$1/$E$1)*(P$3-1)+ROW(17:17)),OFFSET($A$2,0,1,$B$1),0)),"") | Q20: 17 | R20: =IF(AND(R$3<=$E$1,Q20<=INT($B$1/$E$1)),INDEX(OFFSET($A$2,0,0,$B$1),MATCH(SMALL(OFFSET($A$2,0,1,$B$1),INT($B$1/$E$1)*(R$3-1)+ROW(17:17)),OFFSET($A$2,0,1,$B$1),0)),"")
B21: =RANDBETWEEN(1,100)+ROW()/1000 -> 43.021 | C21: 18 | D21: =IF(AND(D$3<=$E$1,C21<=INT($B$1/$E$1)),INDEX(OFFSET($A$2,0,0,$B$1),MATCH(SMALL(OFFSET($A$2,0,1,$B$1),INT($B$1/$E$1)*(D$3-1)+ROW(18:18)),OFFSET($A$2,0,1,$B$1),0)),"") | E21: 18 | F21: =IF(AND(F$3<=$E$1,E21<=INT($B$1/$E$1)),INDEX(OFFSET($A$2,0,0,$B$1),MATCH(SMALL(OFFSET($A$2,0,1,$B$1),INT($B$1/$E$1)*(F$3-1)+ROW(18:18)),OFFSET($A$2,0,1,$B$1),0)),"") | G21: 18 | H21: =IF(AND(H$3<=$E$1,G21<=INT($B$1/$E$1)),INDEX(OFFSET($A$2,0,0,$B$1),MATCH(SMALL(OFFSET($A$2,0,1,$B$1),INT($B$1/$E$1)*(H$3-1)+ROW(18:18)),OFFSET($A$2,0,1,$B$1),0)),"") | I21: 18 | J21: =IF(AND(J$3<=$E$1,I21<=INT($B$1/$E$1)),INDEX(OFFSET($A$2,0,0,$B$1),MATCH(SMALL(OFFSET($A$2,0,1,$B$1),INT($B$1/$E$1)*(J$3-1)+ROW(18:18)),OFFSET($A$2,0,1,$B$1),0)),"") | K21: 18 | L21: =IF(AND(L$3<=$E$1,K21<=INT($B$1/$E$1)),INDEX(OFFSET($A$2,0,0,$B$1),MATCH(SMALL(OFFSET($A$2,0,1,$B$1),INT($B$1/$E$1)*(L$3-1)+ROW(18:18)),OFFSET($A$2,0,1,$B$1),0)),"") | M21: 18 | N21: =IF(AND(N$3<=$E$1,M21<=INT($B$1/$E$1)),INDEX(OFFSET($A$2,0,0,$B$1),MATCH(SMALL(OFFSET($A$2,0,1,$B$1),INT($B$1/$E$1)*(N$3-1)+ROW(18:18)),OFFSET($A$2,0,1,$B$1),0)),"") | O21: 18 | P21: =IF(AND(P$3<=$E$1,O21<=INT($B$1/$E$1)),INDEX(OFFSET($A$2,0,0,$B$1),MATCH(SMALL(OFFSET($A$2,0,1,$B$1),INT($B$1/$E$1)*(P$3-1)+ROW(18:18)),OFFSET($A$2,0,1,$B$1),0)),"") | Q21: 18 | R21: =IF(AND(R$3<=$E$1,Q21<=INT($B$1/$E$1)),INDEX(OFFSET($A$2,0,0,$B$1),MATCH(SMALL(OFFSET($A$2,0,1,$B$1),INT($B$1/$E$1)*(R$3-1)+ROW(18:18)),OFFSET($A$2,0,1,$B$1),0)),"")
B22: =RANDBETWEEN(1,100)+ROW()/1000 -> 26.022 | C22: 19 | D22: =IF(AND(D$3<=$E$1,C22<=INT($B$1/$E$1)),INDEX(OFFSET($A$2,0,0,$B$1),MATCH(SMALL(OFFSET($A$2,0,1,$B$1),INT($B$1/$E$1)*(D$3-1)+ROW(19:19)),OFFSET($A$2,0,1,$B$1),0)),"") | E22: 19 | F22: =IF(AND(F$3<=$E$1,E22<=INT($B$1/$E$1)),INDEX(OFFSET($A$2,0,0,$B$1),MATCH(SMALL(OFFSET($A$2,0,1,$B$1),INT($B$1/$E$1)*(F$3-1)+ROW(19:19)),OFFSET($A$2,0,1,$B$1),0)),"") | G22: 19 | H22: =IF(AND(H$3<=$E$1,G22<=INT($B$1/$E$1)),INDEX(OFFSET($A$2,0,0,$B$1),MATCH(SMALL(OFFSET($A$2,0,1,$B$1),INT($B$1/$E$1)*(H$3-1)+ROW(19:19)),OFFSET($A$2,0,1,$B$1),0)),"") | I22: 19 | J22: =IF(AND(J$3<=$E$1,I22<=INT($B$1/$E$1)),INDEX(OFFSET($A$2,0,0,$B$1),MATCH(SMALL(OFFSET($A$2,0,1,$B$1),INT($B$1/$E$1)*(J$3-1)+ROW(19:19)),OFFSET($A$2,0,1,$B$1),0)),"") | K22: 19 | L22: =IF(AND(L$3<=$E$1,K22<=INT($B$1/$E$1)),INDEX(OFFSET($A$2,0,0,$B$1),MATCH(SMALL(OFFSET($A$2,0,1,$B$1),INT($B$1/$E$1)*(L$3-1)+ROW(19:19)),OFFSET($A$2,0,1,$B$1),0)),"") | M22: 19 | N22: =IF(AND(N$3<=$E$1,M22<=INT($B$1/$E$1)),INDEX(OFFSET($A$2,0,0,$B$1),MATCH(SMALL(OFFSET($A$2,0,1,$B$1),INT($B$1/$E$1)*(N$3-1)+ROW(19:19)),OFFSET($A$2,0,1,$B$1),0)),"") | O22: 19 | P22: =IF(AND(P$3<=$E$1,O22<=INT($B$1/$E$1)),INDEX(OFFSET($A$2,0,0,$B$1),MATCH(SMALL(OFFSET($A$2,0,1,$B$1),INT($B$1/$E$1)*(P$3-1)+ROW(19:19)),OFFSET($A$2,0,1,$B$1),0)),"") | Q22: 19 | R22: =IF(AND(R$3<=$E$1,Q22<=INT($B$1/$E$1)),INDEX(OFFSET($A$2,0,0,$B$1),MATCH(SMALL(OFFSET($A$2,0,1,$B$1),INT($B$1/$E$1)*(R$3-1)+ROW(19:19)),OFFSET($A$2,0,1,$B$1),0)),"")
B23: =RANDBETWEEN(1,100)+ROW()/1000 -> 3.023 | C23: 20 | D23: =IF(AND(D$3<=$E$1,C23<=INT($B$1/$E$1)),INDEX(OFFSET($A$2,0,0,$B$1),MATCH(SMALL(OFFSET($A$2,0,1,$B$1),INT($B$1/$E$1)*(D$3-1)+ROW(20:20)),OFFSET($A$2,0,1,$B$1),0)),"") | E23: 20 | F23: =IF(AND(F$3<=$E$1,E23<=INT($B$1/$E$1)),INDEX(OFFSET($A$2,0,0,$B$1),MATCH(SMALL(OFFSET($A$2,0,1,$B$1),INT($B$1/$E$1)*(F$3-1)+ROW(20:20)),OFFSET($A$2,0,1,$B$1),0)),"") | G23: 20 | H23: =IF(AND(H$3<=$E$1,G23<=INT($B$1/$E$1)),INDEX(OFFSET($A$2,0,0,$B$1),MATCH(SMALL(OFFSET($A$2,0,1,$B$1),INT($B$1/$E$1)*(H$3-1)+ROW(20:20)),OFFSET($A$2,0,1,$B$1),0)),"") | I23: 20 | J23: =IF(AND(J$3<=$E$1,I23<=INT($B$1/$E$1)),INDEX(OFFSET($A$2,0,0,$B$1),MATCH(SMALL(OFFSET($A$2,0,1,$B$1),INT($B$1/$E$1)*(J$3-1)+ROW(20:20)),OFFSET($A$2,0,1,$B$1),0)),"") | K23: 20 | L23: =IF(AND(L$3<=$E$1,K23<=INT($B$1/$E$1)),INDEX(OFFSET($A$2,0,0,$B$1),MATCH(SMALL(OFFSET($A$2,0,1,$B$1),INT($B$1/$E$1)*(L$3-1)+ROW(20:20)),OFFSET($A$2,0,1,$B$1),0)),"") | M23: 20 | N23: =IF(AND(N$3<=$E$1,M23<=INT($B$1/$E$1)),INDEX(OFFSET($A$2,0,0,$B$1),MATCH(SMALL(OFFSET($A$2,0,1,$B$1),INT($B$1/$E$1)*(N$3-1)+ROW(20:20)),OFFSET($A$2,0,1,$B$1),0)),"") | O23: 20 | P23: =IF(AND(P$3<=$E$1,O23<=INT($B$1/$E$1)),INDEX(OFFSET($A$2,0,0,$B$1),MATCH(SMALL(OFFSET($A$2,0,1,$B$1),INT($B$1/$E$1)*(P$3-1)+ROW(20:20)),OFFSET($A$2,0,1,$B$1),0)),"") | Q23: 20 | R23: =IF(AND(R$3<=$E$1,Q23<=INT($B$1/$E$1)),INDEX(OFFSET($A$2,0,0,$B$1),MATCH(SMALL(OFFSET($A$2,0,1,$B$1),INT($B$1/$E$1)*(R$3-1)+ROW(20:20)),OFFSET($A$2,0,1,$B$1),0)),"")
B24: =RANDBETWEEN(1,100)+ROW()/1000 -> 94.024 | C24: 21 | D24: =IF(AND(D$3<=$E$1,C24<=INT($B$1/$E$1)),INDEX(OFFSET($A$2,0,0,$B$1),MATCH(SMALL(OFFSET($A$2,0,1,$B$1),INT($B$1/$E$1)*(D$3-1)+ROW(21:21)),OFFSET($A$2,0,1,$B$1),0)),"") | E24: 21 | F24: =IF(AND(F$3<=$E$1,E24<=INT($B$1/$E$1)),INDEX(OFFSET($A$2,0,0,$B$1),MATCH(SMALL(OFFSET($A$2,0,1,$B$1),INT($B$1/$E$1)*(F$3-1)+ROW(21:21)),OFFSET($A$2,0,1,$B$1),0)),"") | G24: 21 | H24: =IF(AND(H$3<=$E$1,G24<=INT($B$1/$E$1)),INDEX(OFFSET($A$2,0,0,$B$1),MATCH(SMALL(OFFSET($A$2,0,1,$B$1),INT($B$1/$E$1)*(H$3-1)+ROW(21:21)),OFFSET($A$2,0,1,$B$1),0)),"") | I24: 21 | J24: =IF(AND(J$3<=$E$1,I24<=INT($B$1/$E$1)),INDEX(OFFSET($A$2,0,0,$B$1),MATCH(SMALL(OFFSET($A$2,0,1,$B$1),INT($B$1/$E$1)*(J$3-1)+ROW(21:21)),OFFSET($A$2,0,1,$B$1),0)),"") | K24: 21 | L24: =IF(AND(L$3<=$E$1,K24<=INT($B$1/$E$1)),INDEX(OFFSET($A$2,0,0,$B$1),MATCH(SMALL(OFFSET($A$2,0,1,$B$1),INT($B$1/$E$1)*(L$3-1)+ROW(21:21)),OFFSET($A$2,0,1,$B$1),0)),"") | M24: 21 | N24: =IF(AND(N$3<=$E$1,M24<=INT($B$1/$E$1)),INDEX(OFFSET($A$2,0,0,$B$1),MATCH(SMALL(OFFSET($A$2,0,1,$B$1),INT($B$1/$E$1)*(N$3-1)+ROW(21:21)),OFFSET($A$2,0,1,$B$1),0)),"") | O24: 21 | P24: =IF(AND(P$3<=$E$1,O24<=INT($B$1/$E$1)),INDEX(OFFSET($A$2,0,0,$B$1),MATCH(SMALL(OFFSET($A$2,0,1,$B$1),INT($B$1/$E$1)*(P$3-1)+ROW(21:21)),OFFSET($A$2,0,1,$B$1),0)),"") | Q24: 21 | R24: =IF(AND(R$3<=$E$1,Q24<=INT($B$1/$E$1)),INDEX(OFFSET($A$2,0,0,$B$1),MATCH(SMALL(OFFSET($A$2,0,1,$B$1),INT($B$1/$E$1)*(R$3-1)+ROW(21:21)),OFFSET($A$2,0,1,$B$1),0)),"")
B25: =RANDBETWEEN(1,100)+ROW()/1000 -> 85.025 | C25: 22 | D25: =IF(AND(D$3<=$E$1,C25<=INT($B$1/$E$1)),INDEX(OFFSET($A$2,0,0,$B$1),MATCH(SMALL(OFFSET($A$2,0,1,$B$1),INT($B$1/$E$1)*(D$3-1)+ROW(22:22)),OFFSET($A$2,0,1,$B$1),0)),"") | E25: 22 | F25: =IF(AND(F$3<=$E$1,E25<=INT($B$1/$E$1)),INDEX(OFFSET($A$2,0,0,$B$1),MATCH(SMALL(OFFSET($A$2,0,1,$B$1),INT($B$1/$E$1)*(F$3-1)+ROW(22:22)),OFFSET($A$2,0,1,$B$1),0)),"") | G25: 22 | H25: =IF(AND(H$3<=$E$1,G25<=INT($B$1/$E$1)),INDEX(OFFSET($A$2,0,0,$B$1),MATCH(SMALL(OFFSET($A$2,0,1,$B$1),INT($B$1/$E$1)*(H$3-1)+ROW(22:22)),OFFSET($A$2,0,1,$B$1),0)),"") | I25: 22 | J25: =IF(AND(J$3<=$E$1,I25<=INT($B$1/$E$1)),INDEX(OFFSET($A$2,0,0,$B$1),MATCH(SMALL(OFFSET($A$2,0,1,$B$1),INT($B$1/$E$1)*(J$3-1)+ROW(22:22)),OFFSET($A$2,0,1,$B$1),0)),"") | K25: 22 | L25: =IF(AND(L$3<=$E$1,K25<=INT($B$1/$E$1)),INDEX(OFFSET($A$2,0,0,$B$1),MATCH(SMALL(OFFSET($A$2,0,1,$B$1),INT($B$1/$E$1)*(L$3-1)+ROW(22:22)),OFFSET($A$2,0,1,$B$1),0)),"") | M25: 22 | N25: =IF(AND(N$3<=$E$1,M25<=INT($B$1/$E$1)),INDEX(OFFSET($A$2,0,0,$B$1),MATCH(SMALL(OFFSET($A$2,0,1,$B$1),INT($B$1/$E$1)*(N$3-1)+ROW(22:22)),OFFSET($A$2,0,1,$B$1),0)),"") | O25: 22 | P25: =IF(AND(P$3<=$E$1,O25<=INT($B$1/$E$1)),INDEX(OFFSET($A$2,0,0,$B$1),MATCH(SMALL(OFFSET($A$2,0,1,$B$1),INT($B$1/$E$1)*(P$3-1)+ROW(22:22)),OFFSET($A$2,0,1,$B$1),0)),"") | Q25: 22 | R25: =IF(AND(R$3<=$E$1,Q25<=INT($B$1/$E$1)),INDEX(OFFSET($A$2,0,0,$B$1),MATCH(SMALL(OFFSET($A$2,0,1,$B$1),INT($B$1/$E$1)*(R$3-1)+ROW(22:22)),OFFSET($A$2,0,1,$B$1),0)),"")
B26: =RANDBETWEEN(1,100)+ROW()/1000 -> 42.026 | C26: 23 | D26: =IF(AND(D$3<=$E$1,C26<=INT($B$1/$E$1)),INDEX(OFFSET($A$2,0,0,$B$1),MATCH(SMALL(OFFSET($A$2,0,1,$B$1),INT($B$1/$E$1)*(D$3-1)+ROW(23:23)),OFFSET($A$2,0,1,$B$1),0)),"") | E26: 23 | F26: =IF(AND(F$3<=$E$1,E26<=INT($B$1/$E$1)),INDEX(OFFSET($A$2,0,0,$B$1),MATCH(SMALL(OFFSET($A$2,0,1,$B$1),INT($B$1/$E$1)*(F$3-1)+ROW(23:23)),OFFSET($A$2,0,1,$B$1),0)),"") | G26: 23 | H26: =IF(AND(H$3<=$E$1,G26<=INT($B$1/$E$1)),INDEX(OFFSET($A$2,0,0,$B$1),MATCH(SMALL(OFFSET($A$2,0,1,$B$1),INT($B$1/$E$1)*(H$3-1)+ROW(23:23)),OFFSET($A$2,0,1,$B$1),0)),"") | I26: 23 | J26: =IF(AND(J$3<=$E$1,I26<=INT($B$1/$E$1)),INDEX(OFFSET($A$2,0,0,$B$1),MATCH(SMALL(OFFSET($A$2,0,1,$B$1),INT($B$1/$E$1)*(J$3-1)+ROW(23:23)),OFFSET($A$2,0,1,$B$1),0)),"") | K26: 23 | L26: =IF(AND(L$3<=$E$1,K26<=INT($B$1/$E$1)),INDEX(OFFSET($A$2,0,0,$B$1),MATCH(SMALL(OFFSET($A$2,0,1,$B$1),INT($B$1/$E$1)*(L$3-1)+ROW(23:23)),OFFSET($A$2,0,1,$B$1),0)),"") | M26: 23 | N26: =IF(AND(N$3<=$E$1,M26<=INT($B$1/$E$1)),INDEX(OFFSET($A$2,0,0,$B$1),MATCH(SMALL(OFFSET($A$2,0,1,$B$1),INT($B$1/$E$1)*(N$3-1)+ROW(23:23)),OFFSET($A$2,0,1,$B$1),0)),"") | O26: 23 | P26: =IF(AND(P$3<=$E$1,O26<=INT($B$1/$E$1)),INDEX(OFFSET($A$2,0,0,$B$1),MATCH(SMALL(OFFSET($A$2,0,1,$B$1),INT($B$1/$E$1)*(P$3-1)+ROW(23:23)),OFFSET($A$2,0,1,$B$1),0)),"") | Q26: 23 | R26: =IF(AND(R$3<=$E$1,Q26<=INT($B$1/$E$1)),INDEX(OFFSET($A$2,0,0,$B$1),MATCH(SMALL(OFFSET($A$2,0,1,$B$1),INT($B$1/$E$1)*(R$3-1)+ROW(23:23)),OFFSET($A$2,0,1,$B$1),0)),"")
B27: =RANDBETWEEN(1,100)+ROW()/1000 -> 42.027 | C27: 24 | D27: =IF(AND(D$3<=$E$1,C27<=INT($B$1/$E$1)),INDEX(OFFSET($A$2,0,0,$B$1),MATCH(SMALL(OFFSET($A$2,0,1,$B$1),INT($B$1/$E$1)*(D$3-1)+ROW(24:24)),OFFSET($A$2,0,1,$B$1),0)),"") | E27: 24 | F27: =IF(AND(F$3<=$E$1,E27<=INT($B$1/$E$1)),INDEX(OFFSET($A$2,0,0,$B$1),MATCH(SMALL(OFFSET($A$2,0,1,$B$1),INT($B$1/$E$1)*(F$3-1)+ROW(24:24)),OFFSET($A$2,0,1,$B$1),0)),"") | G27: 24 | H27: =IF(AND(H$3<=$E$1,G27<=INT($B$1/$E$1)),INDEX(OFFSET($A$2,0,0,$B$1),MATCH(SMALL(OFFSET($A$2,0,1,$B$1),INT($B$1/$E$1)*(H$3-1)+ROW(24:24)),OFFSET($A$2,0,1,$B$1),0)),"") | I27: 24 | J27: =IF(AND(J$3<=$E$1,I27<=INT($B$1/$E$1)),INDEX(OFFSET($A$2,0,0,$B$1),MATCH(SMALL(OFFSET($A$2,0,1,$B$1),INT($B$1/$E$1)*(J$3-1)+ROW(24:24)),OFFSET($A$2,0,1,$B$1),0)),"") | K27: 24 | L27: =IF(AND(L$3<=$E$1,K27<=INT($B$1/$E$1)),INDEX(OFFSET($A$2,0,0,$B$1),MATCH(SMALL(OFFSET($A$2,0,1,$B$1),INT($B$1/$E$1)*(L$3-1)+ROW(24:24)),OFFSET($A$2,0,1,$B$1),0)),"") | M27: 24 | N27: =IF(AND(N$3<=$E$1,M27<=INT($B$1/$E$1)),INDEX(OFFSET($A$2,0,0,$B$1),MATCH(SMALL(OFFSET($A$2,0,1,$B$1),INT($B$1/$E$1)*(N$3-1)+ROW(24:24)),OFFSET($A$2,0,1,$B$1),0)),"") | O27: 24 | P27: =IF(AND(P$3<=$E$1,O27<=INT($B$1/$E$1)),INDEX(OFFSET($A$2,0,0,$B$1),MATCH(SMALL(OFFSET($A$2,0,1,$B$1),INT($B$1/$E$1)*(P$3-1)+ROW(24:24)),OFFSET($A$2,0,1,$B$1),0)),"") | Q27: 24 | R27: =IF(AND(R$3<=$E$1,Q27<=INT($B$1/$E$1)),INDEX(OFFSET($A$2,0,0,$B$1),MATCH(SMALL(OFFSET($A$2,0,1,$B$1),INT($B$1/$E$1)*(R$3-1)+ROW(24:24)),OFFSET($A$2,0,1,$B$1),0)),"")
B28: =RANDBETWEEN(1,100)+ROW()/1000 -> 19.028 | C28: 25 | D28: =IF(AND(D$3<=$E$1,C28<=INT($B$1/$E$1)),INDEX(OFFSET($A$2,0,0,$B$1),MATCH(SMALL(OFFSET($A$2,0,1,$B$1),INT($B$1/$E$1)*(D$3-1)+ROW(25:25)),OFFSET($A$2,0,1,$B$1),0)),"") | E28: 25 | F28: =IF(AND(F$3<=$E$1,E28<=INT($B$1/$E$1)),INDEX(OFFSET($A$2,0,0,$B$1),MATCH(SMALL(OFFSET($A$2,0,1,$B$1),INT($B$1/$E$1)*(F$3-1)+ROW(25:25)),OFFSET($A$2,0,1,$B$1),0)),"") | G28: 25 | H28: =IF(AND(H$3<=$E$1,G28<=INT($B$1/$E$1)),INDEX(OFFSET($A$2,0,0,$B$1),MATCH(SMALL(OFFSET($A$2,0,1,$B$1),INT($B$1/$E$1)*(H$3-1)+ROW(25:25)),OFFSET($A$2,0,1,$B$1),0)),"") | I28: 25 | J28: =IF(AND(J$3<=$E$1,I28<=INT($B$1/$E$1)),INDEX(OFFSET($A$2,0,0,$B$1),MATCH(SMALL(OFFSET($A$2,0,1,$B$1),INT($B$1/$E$1)*(J$3-1)+ROW(25:25)),OFFSET($A$2,0,1,$B$1),0)),"") | K28: 25 | L28: =IF(AND(L$3<=$E$1,K28<=INT($B$1/$E$1)),INDEX(OFFSET($A$2,0,0,$B$1),MATCH(SMALL(OFFSET($A$2,0,1,$B$1),INT($B$1/$E$1)*(L$3-1)+ROW(25:25)),OFFSET($A$2,0,1,$B$1),0)),"") | M28: 25 | N28: =IF(AND(N$3<=$E$1,M28<=INT($B$1/$E$1)),INDEX(OFFSET($A$2,0,0,$B$1),MATCH(SMALL(OFFSET($A$2,0,1,$B$1),INT($B$1/$E$1)*(N$3-1)+ROW(25:25)),OFFSET($A$2,0,1,$B$1),0)),"") | O28: 25 | P28: =IF(AND(P$3<=$E$1,O28<=INT($B$1/$E$1)),INDEX(OFFSET($A$2,0,0,$B$1),MATCH(SMALL(OFFSET($A$2,0,1,$B$1),INT($B$1/$E$1)*(P$3-1)+ROW(25:25)),OFFSET($A$2,0,1,$B$1),0)),"") | Q28: 25 | R28: =IF(AND(R$3<=$E$1,Q28<=INT($B$1/$E$1)),INDEX(OFFSET($A$2,0,0,$B$1),MATCH(SMALL(OFFSET($A$2,0,1,$B$1),INT($B$1/$E$1)*(R$3-1)+ROW(25:25)),OFFSET($A$2,0,1,$B$1),0)),"")
B29: =RANDBETWEEN(1,100)+ROW()/1000 -> 34.029 | C29: 26 | D29: =IF(AND(D$3<=$E$1,C29<=INT($B$1/$E$1)),INDEX(OFFSET($A$2,0,0,$B$1),MATCH(SMALL(OFFSET($A$2,0,1,$B$1),INT($B$1/$E$1)*(D$3-1)+ROW(26:26)),OFFSET($A$2,0,1,$B$1),0)),"") | E29: 26 | F29: =IF(AND(F$3<=$E$1,E29<=INT($B$1/$E$1)),INDEX(OFFSET($A$2,0,0,$B$1),MATCH(SMALL(OFFSET($A$2,0,1,$B$1),INT($B$1/$E$1)*(F$3-1)+ROW(26:26)),OFFSET($A$2,0,1,$B$1),0)),"") | G29: 26 | H29: =IF(AND(H$3<=$E$1,G29<=INT($B$1/$E$1)),INDEX(OFFSET($A$2,0,0,$B$1),MATCH(SMALL(OFFSET($A$2,0,1,$B$1),INT($B$1/$E$1)*(H$3-1)+ROW(26:26)),OFFSET($A$2,0,1,$B$1),0)),"") | I29: 26 | J29: =IF(AND(J$3<=$E$1,I29<=INT($B$1/$E$1)),INDEX(OFFSET($A$2,0,0,$B$1),MATCH(SMALL(OFFSET($A$2,0,1,$B$1),INT($B$1/$E$1)*(J$3-1)+ROW(26:26)),OFFSET($A$2,0,1,$B$1),0)),"") | K29: 26 | L29: =IF(AND(L$3<=$E$1,K29<=INT($B$1/$E$1)),INDEX(OFFSET($A$2,0,0,$B$1),MATCH(SMALL(OFFSET($A$2,0,1,$B$1),INT($B$1/$E$1)*(L$3-1)+ROW(26:26)),OFFSET($A$2,0,1,$B$1),0)),"") | M29: 26 | N29: =IF(AND(N$3<=$E$1,M29<=INT($B$1/$E$1)),INDEX(OFFSET($A$2,0,0,$B$1),MATCH(SMALL(OFFSET($A$2,0,1,$B$1),INT($B$1/$E$1)*(N$3-1)+ROW(26:26)),OFFSET($A$2,0,1,$B$1),0)),"") | O29: 26 | P29: =IF(AND(P$3<=$E$1,O29<=INT($B$1/$E$1)),INDEX(OFFSET($A$2,0,0,$B$1),MATCH(SMALL(OFFSET($A$2,0,1,$B$1),INT($B$1/$E$1)*(P$3-1)+ROW(26:26)),OFFSET($A$2,0,1,$B$1),0)),"") | Q29: 26 | R29: =IF(AND(R$3<=$E$1,Q29<=INT($B$1/$E$1)),INDEX(OFFSET($A$2,0,0,$B$1),MATCH(SMALL(OFFSET($A$2,0,1,$B$1),INT($B$1/$E$1)*(R$3-1)+ROW(26:26)),OFFSET($A$2,0,1,$B$1),0)),"")
B30: =RANDBETWEEN(1,100)+ROW()/1000 -> 67.03 | C30: 27 | D30: =IF(AND(D$3<=$E$1,C30<=INT($B$1/$E$1)),INDEX(OFFSET($A$2,0,0,$B$1),MATCH(SMALL(OFFSET($A$2,0,1,$B$1),INT($B$1/$E$1)*(D$3-1)+ROW(27:27)),OFFSET($A$2,0,1,$B$1),0)),"") | E30: 27 | F30: =IF(AND(F$3<=$E$1,E30<=INT($B$1/$E$1)),INDEX(OFFSET($A$2,0,0,$B$1),MATCH(SMALL(OFFSET($A$2,0,1,$B$1),INT($B$1/$E$1)*(F$3-1)+ROW(27:27)),OFFSET($A$2,0,1,$B$1),0)),"") | G30: 27 | H30: =IF(AND(H$3<=$E$1,G30<=INT($B$1/$E$1)),INDEX(OFFSET($A$2,0,0,$B$1),MATCH(SMALL(OFFSET($A$2,0,1,$B$1),INT($B$1/$E$1)*(H$3-1)+ROW(27:27)),OFFSET($A$2,0,1,$B$1),0)),"") | I30: 27 | J30: =IF(AND(J$3<=$E$1,I30<=INT($B$1/$E$1)),INDEX(OFFSET($A$2,0,0,$B$1),MATCH(SMALL(OFFSET($A$2,0,1,$B$1),INT($B$1/$E$1)*(J$3-1)+ROW(27:27)),OFFSET($A$2,0,1,$B$1),0)),"") | K30: 27 | L30: =IF(AND(L$3<=$E$1,K30<=INT($B$1/$E$1)),INDEX(OFFSET($A$2,0,0,$B$1),MATCH(SMALL(OFFSET($A$2,0,1,$B$1),INT($B$1/$E$1)*(L$3-1)+ROW(27:27)),OFFSET($A$2,0,1,$B$1),0)),"") | M30: 27 | N30: =IF(AND(N$3<=$E$1,M30<=INT($B$1/$E$1)),INDEX(OFFSET($A$2,0,0,$B$1),MATCH(SMALL(OFFSET($A$2,0,1,$B$1),INT($B$1/$E$1)*(N$3-1)+ROW(27:27)),OFFSET($A$2,0,1,$B$1),0)),"") | O30: 27 | P30: =IF(AND(P$3<=$E$1,O30<=INT($B$1/$E$1)),INDEX(OFFSET($A$2,0,0,$B$1),MATCH(SMALL(OFFSET($A$2,0,1,$B$1),INT($B$1/$E$1)*(P$3-1)+ROW(27:27)),OFFSET($A$2,0,1,$B$1),0)),"") | Q30: 27 | R30: =IF(AND(R$3<=$E$1,Q30<=INT($B$1/$E$1)),INDEX(OFFSET($A$2,0,0,$B$1),MATCH(SMALL(OFFSET($A$2,0,1,$B$1),INT($B$1/$E$1)*(R$3-1)+ROW(27:27)),OFFSET($A$2,0,1,$B$1),0)),"")
B31: =RANDBETWEEN(1,100)+ROW()/1000 -> 69.031 | C31: 28 | D31: =IF(AND(D$3<=$E$1,C31<=INT($B$1/$E$1)),INDEX(OFFSET($A$2,0,0,$B$1),MATCH(SMALL(OFFSET($A$2,0,1,$B$1),INT($B$1/$E$1)*(D$3-1)+ROW(28:28)),OFFSET($A$2,0,1,$B$1),0)),"") | E31: 28 | F31: =IF(AND(F$3<=$E$1,E31<=INT($B$1/$E$1)),INDEX(OFFSET($A$2,0,0,$B$1),MATCH(SMALL(OFFSET($A$2,0,1,$B$1),INT($B$1/$E$1)*(F$3-1)+ROW(28:28)),OFFSET($A$2,0,1,$B$1),0)),"") | G31: 28 | H31: =IF(AND(H$3<=$E$1,G31<=INT($B$1/$E$1)),INDEX(OFFSET($A$2,0,0,$B$1),MATCH(SMALL(OFFSET($A$2,0,1,$B$1),INT($B$1/$E$1)*(H$3-1)+ROW(28:28)),OFFSET($A$2,0,1,$B$1),0)),"") | I31: 28 | J31: =IF(AND(J$3<=$E$1,I31<=INT($B$1/$E$1)),INDEX(OFFSET($A$2,0,0,$B$1),MATCH(SMALL(OFFSET($A$2,0,1,$B$1),INT($B$1/$E$1)*(J$3-1)+ROW(28:28)),OFFSET($A$2,0,1,$B$1),0)),"") | K31: 28 | L31: =IF(AND(L$3<=$E$1,K31<=INT($B$1/$E$1)),INDEX(OFFSET($A$2,0,0,$B$1),MATCH(SMALL(OFFSET($A$2,0,1,$B$1),INT($B$1/$E$1)*(L$3-1)+ROW(28:28)),OFFSET($A$2,0,1,$B$1),0)),"") | M31: 28 | N31: =IF(AND(N$3<=$E$1,M31<=INT($B$1/$E$1)),INDEX(OFFSET($A$2,0,0,$B$1),MATCH(SMALL(OFFSET($A$2,0,1,$B$1),INT($B$1/$E$1)*(N$3-1)+ROW(28:28)),OFFSET($A$2,0,1,$B$1),0)),"") | O31: 28 | P31: =IF(AND(P$3<=$E$1,O31<=INT($B$1/$E$1)),INDEX(OFFSET($A$2,0,0,$B$1),MATCH(SMALL(OFFSET($A$2,0,1,$B$1),INT($B$1/$E$1)*(P$3-1)+ROW(28:28)),OFFSET($A$2,0,1,$B$1),0)),"") | Q31: 28 | R31: =IF(AND(R$3<=$E$1,Q31<=INT($B$1/$E$1)),INDEX(OFFSET($A$2,0,0,$B$1),MATCH(SMALL(OFFSET($A$2,0,1,$B$1),INT($B$1/$E$1)*(R$3-1)+ROW(28:28)),OFFSET($A$2,0,1,$B$1),0)),"")
B32: =RANDBETWEEN(1,100)+ROW()/1000 -> 36.032 | C32: 29 | D32: =IF(AND(D$3<=$E$1,C32<=INT($B$1/$E$1)),INDEX(OFFSET($A$2,0,0,$B$1),MATCH(SMALL(OFFSET($A$2,0,1,$B$1),INT($B$1/$E$1)*(D$3-1)+ROW(29:29)),OFFSET($A$2,0,1,$B$1),0)),"") | E32: 29 | F32: =IF(AND(F$3<=$E$1,E32<=INT($B$1/$E$1)),INDEX(OFFSET($A$2,0,0,$B$1),MATCH(SMALL(OFFSET($A$2,0,1,$B$1),INT($B$1/$E$1)*(F$3-1)+ROW(29:29)),OFFSET($A$2,0,1,$B$1),0)),"") | G32: 29 | H32: =IF(AND(H$3<=$E$1,G32<=INT($B$1/$E$1)),INDEX(OFFSET($A$2,0,0,$B$1),MATCH(SMALL(OFFSET($A$2,0,1,$B$1),INT($B$1/$E$1)*(H$3-1)+ROW(29:29)),OFFSET($A$2,0,1,$B$1),0)),"") | I32: 29 | J32: =IF(AND(J$3<=$E$1,I32<=INT($B$1/$E$1)),INDEX(OFFSET($A$2,0,0,$B$1),MATCH(SMALL(OFFSET($A$2,0,1,$B$1),INT($B$1/$E$1)*(J$3-1)+ROW(29:29)),OFFSET($A$2,0,1,$B$1),0)),"") | K32: 29 | L32: =IF(AND(L$3<=$E$1,K32<=INT($B$1/$E$1)),INDEX(OFFSET($A$2,0,0,$B$1),MATCH(SMALL(OFFSET($A$2,0,1,$B$1),INT($B$1/$E$1)*(L$3-1)+ROW(29:29)),OFFSET($A$2,0,1,$B$1),0)),"") | M32: 29 | N32: =IF(AND(N$3<=$E$1,M32<=INT($B$1/$E$1)),INDEX(OFFSET($A$2,0,0,$B$1),MATCH(SMALL(OFFSET($A$2,0,1,$B$1),INT($B$1/$E$1)*(N$3-1)+ROW(29:29)),OFFSET($A$2,0,1,$B$1),0)),"") | O32: 29 | P32: =IF(AND(P$3<=$E$1,O32<=INT($B$1/$E$1)),INDEX(OFFSET($A$2,0,0,$B$1),MATCH(SMALL(OFFSET($A$2,0,1,$B$1),INT($B$1/$E$1)*(P$3-1)+ROW(29:29)),OFFSET($A$2,0,1,$B$1),0)),"") | Q32: 29 | R32: =IF(AND(R$3<=$E$1,Q32<=INT($B$1/$E$1)),INDEX(OFFSET($A$2,0,0,$B$1),MATCH(SMALL(OFFSET($A$2,0,1,$B$1),INT($B$1/$E$1)*(R$3-1)+ROW(29:29)),OFFSET($A$2,0,1,$B$1),0)),"")
B33: =RANDBETWEEN(1,100)+ROW()/1000 -> 98.033 | C33: 30 | D33: =IF(AND(D$3<=$E$1,C33<=INT($B$1/$E$1)),INDEX(OFFSET($A$2,0,0,$B$1),MATCH(SMALL(OFFSET($A$2,0,1,$B$1),INT($B$1/$E$1)*(D$3-1)+ROW(30:30)),OFFSET($A$2,0,1,$B$1),0)),"") | E33: 30 | F33: =IF(AND(F$3<=$E$1,E33<=INT($B$1/$E$1)),INDEX(OFFSET($A$2,0,0,$B$1),MATCH(SMALL(OFFSET($A$2,0,1,$B$1),INT($B$1/$E$1)*(F$3-1)+ROW(30:30)),OFFSET($A$2,0,1,$B$1),0)),"") | G33: 30 | H33: =IF(AND(H$3<=$E$1,G33<=INT($B$1/$E$1)),INDEX(OFFSET($A$2,0,0,$B$1),MATCH(SMALL(OFFSET($A$2,0,1,$B$1),INT($B$1/$E$1)*(H$3-1)+ROW(30:30)),OFFSET($A$2,0,1,$B$1),0)),"") | I33: 30 | J33: =IF(AND(J$3<=$E$1,I33<=INT($B$1/$E$1)),INDEX(OFFSET($A$2,0,0,$B$1),MATCH(SMALL(OFFSET($A$2,0,1,$B$1),INT($B$1/$E$1)*(J$3-1)+ROW(30:30)),OFFSET($A$2,0,1,$B$1),0)),"") | K33: 30 | L33: =IF(AND(L$3<=$E$1,K33<=INT($B$1/$E$1)),INDEX(OFFSET($A$2,0,0,$B$1),MATCH(SMALL(OFFSET($A$2,0,1,$B$1),INT($B$1/$E$1)*(L$3-1)+ROW(30:30)),OFFSET($A$2,0,1,$B$1),0)),"") | M33: 30 | N33: =IF(AND(N$3<=$E$1,M33<=INT($B$1/$E$1)),INDEX(OFFSET($A$2,0,0,$B$1),MATCH(SMALL(OFFSET($A$2,0,1,$B$1),INT($B$1/$E$1)*(N$3-1)+ROW(30:30)),OFFSET($A$2,0,1,$B$1),0)),"") | O33: 30 | P33: =IF(AND(P$3<=$E$1,O33<=INT($B$1/$E$1)),INDEX(OFFSET($A$2,0,0,$B$1),MATCH(SMALL(OFFSET($A$2,0,1,$B$1),INT($B$1/$E$1)*(P$3-1)+ROW(30:30)),OFFSET($A$2,0,1,$B$1),0)),"") | Q33: 30 | R33: =IF(AND(R$3<=$E$1,Q33<=INT($B$1/$E$1)),INDEX(OFFSET($A$2,0,0,$B$1),MATCH(SMALL(OFFSET($A$2,0,1,$B$1),INT($B$1/$E$1)*(R$3-1)+ROW(30:30)),OFFSET($A$2,0,1,$B$1),0)),"")
B34: =RANDBETWEEN(1,100)+ROW()/1000 -> 73.034 | C34: 31 | D34: =IF(AND(D$3<=$E$1,C34<=INT($B$1/$E$1)),INDEX(OFFSET($A$2,0,0,$B$1),MATCH(SMALL(OFFSET($A$2,0,1,$B$1),INT($B$1/$E$1)*(D$3-1)+ROW(31:31)),OFFSET($A$2,0,1,$B$1),0)),"") | E34: 31 | F34: =IF(AND(F$3<=$E$1,E34<=INT($B$1/$E$1)),INDEX(OFFSET($A$2,0,0,$B$1),MATCH(SMALL(OFFSET($A$2,0,1,$B$1),INT($B$1/$E$1)*(F$3-1)+ROW(31:31)),OFFSET($A$2,0,1,$B$1),0)),"") | G34: 31 | H34: =IF(AND(H$3<=$E$1,G34<=INT($B$1/$E$1)),INDEX(OFFSET($A$2,0,0,$B$1),MATCH(SMALL(OFFSET($A$2,0,1,$B$1),INT($B$1/$E$1)*(H$3-1)+ROW(31:31)),OFFSET($A$2,0,1,$B$1),0)),"") | I34: 31 | J34: =IF(AND(J$3<=$E$1,I34<=INT($B$1/$E$1)),INDEX(OFFSET($A$2,0,0,$B$1),MATCH(SMALL(OFFSET($A$2,0,1,$B$1),INT($B$1/$E$1)*(J$3-1)+ROW(31:31)),OFFSET($A$2,0,1,$B$1),0)),"") | K34: 31 | L34: =IF(AND(L$3<=$E$1,K34<=INT($B$1/$E$1)),INDEX(OFFSET($A$2,0,0,$B$1),MATCH(SMALL(OFFSET($A$2,0,1,$B$1),INT($B$1/$E$1)*(L$3-1)+ROW(31:31)),OFFSET($A$2,0,1,$B$1),0)),"") | M34: 31 | N34: =IF(AND(N$3<=$E$1,M34<=INT($B$1/$E$1)),INDEX(OFFSET($A$2,0,0,$B$1),MATCH(SMALL(OFFSET($A$2,0,1,$B$1),INT($B$1/$E$1)*(N$3-1)+ROW(31:31)),OFFSET($A$2,0,1,$B$1),0)),"") | O34: 31 | P34: =IF(AND(P$3<=$E$1,O34<=INT($B$1/$E$1)),INDEX(OFFSET($A$2,0,0,$B$1),MATCH(SMALL(OFFSET($A$2,0,1,$B$1),INT($B$1/$E$1)*(P$3-1)+ROW(31:31)),OFFSET($A$2,0,1,$B$1),0)),"") | Q34: 31 | R34: =IF(AND(R$3<=$E$1,Q34<=INT($B$1/$E$1)),INDEX(OFFSET($A$2,0,0,$B$1),MATCH(SMALL(OFFSET($A$2,0,1,$B$1),INT($B$1/$E$1)*(R$3-1)+ROW(31:31)),OFFSET($A$2,0,1,$B$1),0)),"")
B35: =RANDBETWEEN(1,100)+ROW()/1000 -> 50.035 | C35: 32 | D35: =IF(AND(D$3<=$E$1,C35<=INT($B$1/$E$1)),INDEX(OFFSET($A$2,0,0,$B$1),MATCH(SMALL(OFFSET($A$2,0,1,$B$1),INT($B$1/$E$1)*(D$3-1)+ROW(32:32)),OFFSET($A$2,0,1,$B$1),0)),"") | E35: 32 | F35: =IF(AND(F$3<=$E$1,E35<=INT($B$1/$E$1)),INDEX(OFFSET($A$2,0,0,$B$1),MATCH(SMALL(OFFSET($A$2,0,1,$B$1),INT($B$1/$E$1)*(F$3-1)+ROW(32:32)),OFFSET($A$2,0,1,$B$1),0)),"") | G35: 32 | H35: =IF(AND(H$3<=$E$1,G35<=INT($B$1/$E$1)),INDEX(OFFSET($A$2,0,0,$B$1),MATCH(SMALL(OFFSET($A$2,0,1,$B$1),INT($B$1/$E$1)*(H$3-1)+ROW(32:32)),OFFSET($A$2,0,1,$B$1),0)),"") | I35: 32 | J35: =IF(AND(J$3<=$E$1,I35<=INT($B$1/$E$1)),INDEX(OFFSET($A$2,0,0,$B$1),MATCH(SMALL(OFFSET($A$2,0,1,$B$1),INT($B$1/$E$1)*(J$3-1)+ROW(32:32)),OFFSET($A$2,0,1,$B$1),0)),"") | K35: 32 | L35: =IF(AND(L$3<=$E$1,K35<=INT($B$1/$E$1)),INDEX(OFFSET($A$2,0,0,$B$1),MATCH(SMALL(OFFSET($A$2,0,1,$B$1),INT($B$1/$E$1)*(L$3-1)+ROW(32:32)),OFFSET($A$2,0,1,$B$1),0)),"") | M35: 32 | N35: =IF(AND(N$3<=$E$1,M35<=INT($B$1/$E$1)),INDEX(OFFSET($A$2,0,0,$B$1),MATCH(SMALL(OFFSET($A$2,0,1,$B$1),INT($B$1/$E$1)*(N$3-1)+ROW(32:32)),OFFSET($A$2,0,1,$B$1),0)),"") | O35: 32 | P35: =IF(AND(P$3<=$E$1,O35<=INT($B$1/$E$1)),INDEX(OFFSET($A$2,0,0,$B$1),MATCH(SMALL(OFFSET($A$2,0,1,$B$1),INT($B$1/$E$1)*(P$3-1)+ROW(32:32)),OFFSET($A$2,0,1,$B$1),0)),"") | Q35: 32 | R35: =IF(AND(R$3<=$E$1,Q35<=INT($B$1/$E$1)),INDEX(OFFSET($A$2,0,0,$B$1),MATCH(SMALL(OFFSET($A$2,0,1,$B$1),INT($B$1/$E$1)*(R$3-1)+ROW(32:32)),OFFSET($A$2,0,1,$B$1),0)),"")
B36: =RANDBETWEEN(1,100)+ROW()/1000 -> 2.036 | C36: 33 | D36: =IF(AND(D$3<=$E$1,C36<=INT($B$1/$E$1)),INDEX(OFFSET($A$2,0,0,$B$1),MATCH(SMALL(OFFSET($A$2,0,1,$B$1),INT($B$1/$E$1)*(D$3-1)+ROW(33:33)),OFFSET($A$2,0,1,$B$1),0)),"") | E36: 33 | F36: =IF(AND(F$3<=$E$1,E36<=INT($B$1/$E$1)),INDEX(OFFSET($A$2,0,0,$B$1),MATCH(SMALL(OFFSET($A$2,0,1,$B$1),INT($B$1/$E$1)*(F$3-1)+ROW(33:33)),OFFSET($A$2,0,1,$B$1),0)),"") | G36: 33 | H36: =IF(AND(H$3<=$E$1,G36<=INT($B$1/$E$1)),INDEX(OFFSET($A$2,0,0,$B$1),MATCH(SMALL(OFFSET($A$2,0,1,$B$1),INT($B$1/$E$1)*(H$3-1)+ROW(33:33)),OFFSET($A$2,0,1,$B$1),0)),"") | I36: 33 | J36: =IF(AND(J$3<=$E$1,I36<=INT($B$1/$E$1)),INDEX(OFFSET($A$2,0,0,$B$1),MATCH(SMALL(OFFSET($A$2,0,1,$B$1),INT($B$1/$E$1)*(J$3-1)+ROW(33:33)),OFFSET($A$2,0,1,$B$1),0)),"") | K36: 33 | L36: =IF(AND(L$3<=$E$1,K36<=INT($B$1/$E$1)),INDEX(OFFSET($A$2,0,0,$B$1),MATCH(SMALL(OFFSET($A$2,0,1,$B$1),INT($B$1/$E$1)*(L$3-1)+ROW(33:33)),OFFSET($A$2,0,1,$B$1),0)),"") | M36: 33 | N36: =IF(AND(N$3<=$E$1,M36<=INT($B$1/$E$1)),INDEX(OFFSET($A$2,0,0,$B$1),MATCH(SMALL(OFFSET($A$2,0,1,$B$1),INT($B$1/$E$1)*(N$3-1)+ROW(33:33)),OFFSET($A$2,0,1,$B$1),0)),"") | O36: 33 | P36: =IF(AND(P$3<=$E$1,O36<=INT($B$1/$E$1)),INDEX(OFFSET($A$2,0,0,$B$1),MATCH(SMALL(OFFSET($A$2,0,1,$B$1),INT($B$1/$E$1)*(P$3-1)+ROW(33:33)),OFFSET($A$2,0,1,$B$1),0)),"") | Q36: 33 | R36: =IF(AND(R$3<=$E$1,Q36<=INT($B$1/$E$1)),INDEX(OFFSET($A$2,0,0,$B$1),MATCH(SMALL(OFFSET($A$2,0,1,$B$1),INT($B$1/$E$1)*(R$3-1)+ROW(33:33)),OFFSET($A$2,0,1,$B$1),0)),"")
B37: =RANDBETWEEN(1,100)+ROW()/1000 -> 1.037 | C37: 34 | D37: =IF(AND(D$3<=$E$1,C37<=INT($B$1/$E$1)),INDEX(OFFSET($A$2,0,0,$B$1),MATCH(SMALL(OFFSET($A$2,0,1,$B$1),INT($B$1/$E$1)*(D$3-1)+ROW(34:34)),OFFSET($A$2,0,1,$B$1),0)),"") | E37: 34 | F37: =IF(AND(F$3<=$E$1,E37<=INT($B$1/$E$1)),INDEX(OFFSET($A$2,0,0,$B$1),MATCH(SMALL(OFFSET($A$2,0,1,$B$1),INT($B$1/$E$1)*(F$3-1)+ROW(34:34)),OFFSET($A$2,0,1,$B$1),0)),"") | G37: 34 | H37: =IF(AND(H$3<=$E$1,G37<=INT($B$1/$E$1)),INDEX(OFFSET($A$2,0,0,$B$1),MATCH(SMALL(OFFSET($A$2,0,1,$B$1),INT($B$1/$E$1)*(H$3-1)+ROW(34:34)),OFFSET($A$2,0,1,$B$1),0)),"") | I37: 34 | J37: =IF(AND(J$3<=$E$1,I37<=INT($B$1/$E$1)),INDEX(OFFSET($A$2,0,0,$B$1),MATCH(SMALL(OFFSET($A$2,0,1,$B$1),INT($B$1/$E$1)*(J$3-1)+ROW(34:34)),OFFSET($A$2,0,1,$B$1),0)),"") | K37: 34 | L37: =IF(AND(L$3<=$E$1,K37<=INT($B$1/$E$1)),INDEX(OFFSET($A$2,0,0,$B$1),MATCH(SMALL(OFFSET($A$2,0,1,$B$1),INT($B$1/$E$1)*(L$3-1)+ROW(34:34)),OFFSET($A$2,0,1,$B$1),0)),"") | M37: 34 | N37: =IF(AND(N$3<=$E$1,M37<=INT($B$1/$E$1)),INDEX(OFFSET($A$2,0,0,$B$1),MATCH(SMALL(OFFSET($A$2,0,1,$B$1),INT($B$1/$E$1)*(N$3-1)+ROW(34:34)),OFFSET($A$2,0,1,$B$1),0)),"") | O37: 34 | P37: =IF(AND(P$3<=$E$1,O37<=INT($B$1/$E$1)),INDEX(OFFSET($A$2,0,0,$B$1),MATCH(SMALL(OFFSET($A$2,0,1,$B$1),INT($B$1/$E$1)*(P$3-1)+ROW(34:34)),OFFSET($A$2,0,1,$B$1),0)),"") | Q37: 34 | R37: =IF(AND(R$3<=$E$1,Q37<=INT($B$1/$E$1)),INDEX(OFFSET($A$2,0,0,$B$1),MATCH(SMALL(OFFSET($A$2,0,1,$B$1),INT($B$1/$E$1)*(R$3-1)+ROW(34:34)),OFFSET($A$2,0,1,$B$1),0)),"")
B38: =RANDBETWEEN(1,100)+ROW()/1000 -> 56.038 | C38: 35 | D38: =IF(AND(D$3<=$E$1,C38<=INT($B$1/$E$1)),INDEX(OFFSET($A$2,0,0,$B$1),MATCH(SMALL(OFFSET($A$2,0,1,$B$1),INT($B$1/$E$1)*(D$3-1)+ROW(35:35)),OFFSET($A$2,0,1,$B$1),0)),"") | E38: 35 | F38: =IF(AND(F$3<=$E$1,E38<=INT($B$1/$E$1)),INDEX(OFFSET($A$2,0,0,$B$1),MATCH(SMALL(OFFSET($A$2,0,1,$B$1),INT($B$1/$E$1)*(F$3-1)+ROW(35:35)),OFFSET($A$2,0,1,$B$1),0)),"") | G38: 35 | H38: =IF(AND(H$3<=$E$1,G38<=INT($B$1/$E$1)),INDEX(OFFSET($A$2,0,0,$B$1),MATCH(SMALL(OFFSET($A$2,0,1,$B$1),INT($B$1/$E$1)*(H$3-1)+ROW(35:35)),OFFSET($A$2,0,1,$B$1),0)),"") | I38: 35 | J38: =IF(AND(J$3<=$E$1,I38<=INT($B$1/$E$1)),INDEX(OFFSET($A$2,0,0,$B$1),MATCH(SMALL(OFFSET($A$2,0,1,$B$1),INT($B$1/$E$1)*(J$3-1)+ROW(35:35)),OFFSET($A$2,0,1,$B$1),0)),"") | K38: 35 | L38: =IF(AND(L$3<=$E$1,K38<=INT($B$1/$E$1)),INDEX(OFFSET($A$2,0,0,$B$1),MATCH(SMALL(OFFSET($A$2,0,1,$B$1),INT($B$1/$E$1)*(L$3-1)+ROW(35:35)),OFFSET($A$2,0,1,$B$1),0)),"") | M38: 35 | N38: =IF(AND(N$3<=$E$1,M38<=INT($B$1/$E$1)),INDEX(OFFSET($A$2,0,0,$B$1),MATCH(SMALL(OFFSET($A$2,0,1,$B$1),INT($B$1/$E$1)*(N$3-1)+ROW(35:35)),OFFSET($A$2,0,1,$B$1),0)),"") | O38: 35 | P38: =IF(AND(P$3<=$E$1,O38<=INT($B$1/$E$1)),INDEX(OFFSET($A$2,0,0,$B$1),MATCH(SMALL(OFFSET($A$2,0,1,$B$1),INT($B$1/$E$1)*(P$3-1)+ROW(35:35)),OFFSET($A$2,0,1,$B$1),0)),"") | Q38: 35 | R38: =IF(AND(R$3<=$E$1,Q38<=INT($B$1/$E$1)),INDEX(OFFSET($A$2,0,0,$B$1),MATCH(SMALL(OFFSET($A$2,0,1,$B$1),INT($B$1/$E$1)*(R$3-1)+ROW(35:35)),OFFSET($A$2,0,1,$B$1),0)),"")
B39: =RANDBETWEEN(1,100)+ROW()/1000 -> 75.039 | C39: 36 | D39: =IF(AND(D$3<=$E$1,C39<=INT($B$1/$E$1)),INDEX(OFFSET($A$2,0,0,$B$1),MATCH(SMALL(OFFSET($A$2,0,1,$B$1),INT($B$1/$E$1)*(D$3-1)+ROW(36:36)),OFFSET($A$2,0,1,$B$1),0)),"") | E39: 36 | F39: =IF(AND(F$3<=$E$1,E39<=INT($B$1/$E$1)),INDEX(OFFSET($A$2,0,0,$B$1),MATCH(SMALL(OFFSET($A$2,0,1,$B$1),INT($B$1/$E$1)*(F$3-1)+ROW(36:36)),OFFSET($A$2,0,1,$B$1),0)),"") | G39: 36 | H39: =IF(AND(H$3<=$E$1,G39<=INT($B$1/$E$1)),INDEX(OFFSET($A$2,0,0,$B$1),MATCH(SMALL(OFFSET($A$2,0,1,$B$1),INT($B$1/$E$1)*(H$3-1)+ROW(36:36)),OFFSET($A$2,0,1,$B$1),0)),"") | I39: 36 | J39: =IF(AND(J$3<=$E$1,I39<=INT($B$1/$E$1)),INDEX(OFFSET($A$2,0,0,$B$1),MATCH(SMALL(OFFSET($A$2,0,1,$B$1),INT($B$1/$E$1)*(J$3-1)+ROW(36:36)),OFFSET($A$2,0,1,$B$1),0)),"") | K39: 36 | L39: =IF(AND(L$3<=$E$1,K39<=INT($B$1/$E$1)),INDEX(OFFSET($A$2,0,0,$B$1),MATCH(SMALL(OFFSET($A$2,0,1,$B$1),INT($B$1/$E$1)*(L$3-1)+ROW(36:36)),OFFSET($A$2,0,1,$B$1),0)),"") | M39: 36 | N39: =IF(AND(N$3<=$E$1,M39<=INT($B$1/$E$1)),INDEX(OFFSET($A$2,0,0,$B$1),MATCH(SMALL(OFFSET($A$2,0,1,$B$1),INT($B$1/$E$1)*(N$3-1)+ROW(36:36)),OFFSET($A$2,0,1,$B$1),0)),"") | O39: 36 | P39: =IF(AND(P$3<=$E$1,O39<=INT($B$1/$E$1)),INDEX(OFFSET($A$2,0,0,$B$1),MATCH(SMALL(OFFSET($A$2,0,1,$B$1),INT($B$1/$E$1)*(P$3-1)+ROW(36:36)),OFFSET($A$2,0,1,$B$1),0)),"") | Q39: 36 | R39: =IF(AND(R$3<=$E$1,Q39<=INT($B$1/$E$1)),INDEX(OFFSET($A$2,0,0,$B$1),MATCH(SMALL(OFFSET($A$2,0,1,$B$1),INT($B$1/$E$1)*(R$3-1)+ROW(36:36)),OFFSET($A$2,0,1,$B$1),0)),"")
B40: =RANDBETWEEN(1,100)+ROW()/1000 -> 21.04 | C40: 37 | D40: =IF(AND(D$3<=$E$1,C40<=INT($B$1/$E$1)),INDEX(OFFSET($A$2,0,0,$B$1),MATCH(SMALL(OFFSET($A$2,0,1,$B$1),INT($B$1/$E$1)*(D$3-1)+ROW(37:37)),OFFSET($A$2,0,1,$B$1),0)),"") | E40: 37 | F40: =IF(AND(F$3<=$E$1,E40<=INT($B$1/$E$1)),INDEX(OFFSET($A$2,0,0,$B$1),MATCH(SMALL(OFFSET($A$2,0,1,$B$1),INT($B$1/$E$1)*(F$3-1)+ROW(37:37)),OFFSET($A$2,0,1,$B$1),0)),"") | G40: 37 | H40: =IF(AND(H$3<=$E$1,G40<=INT($B$1/$E$1)),INDEX(OFFSET($A$2,0,0,$B$1),MATCH(SMALL(OFFSET($A$2,0,1,$B$1),INT($B$1/$E$1)*(H$3-1)+ROW(37:37)),OFFSET($A$2,0,1,$B$1),0)),"") | I40: 37 | J40: =IF(AND(J$3<=$E$1,I40<=INT($B$1/$E$1)),INDEX(OFFSET($A$2,0,0,$B$1),MATCH(SMALL(OFFSET($A$2,0,1,$B$1),INT($B$1/$E$1)*(J$3-1)+ROW(37:37)),OFFSET($A$2,0,1,$B$1),0)),"") | K40: 37 | L40: =IF(AND(L$3<=$E$1,K40<=INT($B$1/$E$1)),INDEX(OFFSET($A$2,0,0,$B$1),MATCH(SMALL(OFFSET($A$2,0,1,$B$1),INT($B$1/$E$1)*(L$3-1)+ROW(37:37)),OFFSET($A$2,0,1,$B$1),0)),"") | M40: 37 | N40: =IF(AND(N$3<=$E$1,M40<=INT($B$1/$E$1)),INDEX(OFFSET($A$2,0,0,$B$1),MATCH(SMALL(OFFSET($A$2,0,1,$B$1),INT($B$1/$E$1)*(N$3-1)+ROW(37:37)),OFFSET($A$2,0,1,$B$1),0)),"") | O40: 37 | P40: =IF(AND(P$3<=$E$1,O40<=INT($B$1/$E$1)),INDEX(OFFSET($A$2,0,0,$B$1),MATCH(SMALL(OFFSET($A$2,0,1,$B$1),INT($B$1/$E$1)*(P$3-1)+ROW(37:37)),OFFSET($A$2,0,1,$B$1),0)),"") | Q40: 37 | R40: =IF(AND(R$3<=$E$1,Q40<=INT($B$1/$E$1)),INDEX(OFFSET($A$2,0,0,$B$1),MATCH(SMALL(OFFSET($A$2,0,1,$B$1),INT($B$1/$E$1)*(R$3-1)+ROW(37:37)),OFFSET($A$2,0,1,$B$1),0)),"")
...

Sheet club B
A1: Joueurs | B1: =COUNTA(A:A)-1 -> 6 | D1: Nombre d'équipes | E1: 2 | H1: Pressez la touche F9 pour un nouveau tirage !
A2: Charles Pierre | B2: =RANDBETWEEN(1,100)+ROW()/1000 -> 8.002
A3: Romain Laurent | B3: =RANDBETWEEN(1,100)+ROW()/1000 -> 97.003 | D3: 1 | F3: =D3+1 -> 2 | H3: =F3+1 -> 3 | J3: =H3+1 -> 4 | L3: =J3+1 -> 5 | N3: =L3+1 -> 6 | P3: =N3+1 -> 7 | R3: =P3+1 -> 8
A4: Martine Josiane | B4: =RANDBETWEEN(1,100)+ROW()/1000 -> 76.004 | C4: 1 | D4: =IF(AND(D$3<=$E$1,C4<=INT($B$1/$E$1)),INDEX(OFFSET($A$2,0,0,$B$1),MATCH(SMALL(OFFSET($A$2,0,1,$B$1),INT($B$1/$E$1)*(D$3-1)+ROW(1:1)),OFFSET($A$2,0,1,$B$1),0)),"") -> Caroline Christine | E4: 1 | F4: =IF(AND(F$3<=$E$1,E4<=INT($B$1/$E$1)),INDEX(OFFSET($A$2,0,0,$B$1),MATCH(SMALL(OFFSET($A$2,0,1,$B$1),INT($B$1/$E$1)*(F$3-1)+ROW(1:1)),OFFSET($A$2,0,1,$B$1),0)),"") -> Martine Josiane | G4: 1 | H4: =IF(AND(H$3<=$E$1,G4<=INT($B$1/$E$1)),INDEX(OFFSET($A$2,0,0,$B$1),MATCH(SMALL(OFFSET($A$2,0,1,$B$1),INT($B$1/$E$1)*(H$3-1)+ROW(1:1)),OFFSET($A$2,0,1,$B$1),0)),"") | I4: 1 | J4: =IF(AND(J$3<=$E$1,I4<=INT($B$1/$E$1)),INDEX(OFFSET($A$2,0,0,$B$1),MATCH(SMALL(OFFSET($A$2,0,1,$B$1),INT($B$1/$E$1)*(J$3-1)+ROW(1:1)),OFFSET($A$2,0,1,$B$1),0)),"") | K4: 1 | L4: =IF(AND(L$3<=$E$1,K4<=INT($B$1/$E$1)),INDEX(OFFSET($A$2,0,0,$B$1),MATCH(SMALL(OFFSET($A$2,0,1,$B$1),INT($B$1/$E$1)*(L$3-1)+ROW(1:1)),OFFSET($A$2,0,1,$B$1),0)),"") | M4: 1 | N4: =IF(AND(N$3<=$E$1,M4<=INT($B$1/$E$1)),INDEX(OFFSET($A$2,0,0,$B$1),MATCH(SMALL(OFFSET($A$2,0,1,$B$1),INT($B$1/$E$1)*(N$3-1)+ROW(1:1)),OFFSET($A$2,0,1,$B$1),0)),"") | O4: 1 | P4: =IF(AND(P$3<=$E$1,O4<=INT($B$1/$E$1)),INDEX(OFFSET($A$2,0,0,$B$1),MATCH(SMALL(OFFSET($A$2,0,1,$B$1),INT($B$1/$E$1)*(P$3-1)+ROW(1:1)),OFFSET($A$2,0,1,$B$1),0)),"") | Q4: 1 | R4: =IF(AND(R$3<=$E$1,Q4<=INT($B$1/$E$1)),INDEX(OFFSET($A$2,0,0,$B$1),MATCH(SMALL(OFFSET($A$2,0,1,$B$1),INT($B$1/$E$1)*(R$3-1)+ROW(1:1)),OFFSET($A$2,0,1,$B$1),0)),"")
A5: Louise Annie | B5: =RANDBETWEEN(1,100)+ROW()/1000 -> 92.005 | C5: 2 | D5: =IF(AND(D$3<=$E$1,C5<=INT($B$1/$E$1)),INDEX(OFFSET($A$2,0,0,$B$1),MATCH(SMALL(OFFSET($A$2,0,1,$B$1),INT($B$1/$E$1)*(D$3-1)+ROW(2:2)),OFFSET($A$2,0,1,$B$1),0)),"") -> Charles Pierre | E5: 2 | F5: =IF(AND(F$3<=$E$1,E5<=INT($B$1/$E$1)),INDEX(OFFSET($A$2,0,0,$B$1),MATCH(SMALL(OFFSET($A$2,0,1,$B$1),INT($B$1/$E$1)*(F$3-1)+ROW(2:2)),OFFSET($A$2,0,1,$B$1),0)),"") -> Louise Annie | G5: 2 | H5: =IF(AND(H$3<=$E$1,G5<=INT($B$1/$E$1)),INDEX(OFFSET($A$2,0,0,$B$1),MATCH(SMALL(OFFSET($A$2,0,1,$B$1),INT($B$1/$E$1)*(H$3-1)+ROW(2:2)),OFFSET($A$2,0,1,$B$1),0)),"") | I5: 2 | J5: =IF(AND(J$3<=$E$1,I5<=INT($B$1/$E$1)),INDEX(OFFSET($A$2,0,0,$B$1),MATCH(SMALL(OFFSET($A$2,0,1,$B$1),INT($B$1/$E$1)*(J$3-1)+ROW(2:2)),OFFSET($A$2,0,1,$B$1),0)),"") | K5: 2 | L5: =IF(AND(L$3<=$E$1,K5<=INT($B$1/$E$1)),INDEX(OFFSET($A$2,0,0,$B$1),MATCH(SMALL(OFFSET($A$2,0,1,$B$1),INT($B$1/$E$1)*(L$3-1)+ROW(2:2)),OFFSET($A$2,0,1,$B$1),0)),"") | M5: 2 | N5: =IF(AND(N$3<=$E$1,M5<=INT($B$1/$E$1)),INDEX(OFFSET($A$2,0,0,$B$1),MATCH(SMALL(OFFSET($A$2,0,1,$B$1),INT($B$1/$E$1)*(N$3-1)+ROW(2:2)),OFFSET($A$2,0,1,$B$1),0)),"") | O5: 2 | P5: =IF(AND(P$3<=$E$1,O5<=INT($B$1/$E$1)),INDEX(OFFSET($A$2,0,0,$B$1),MATCH(SMALL(OFFSET($A$2,0,1,$B$1),INT($B$1/$E$1)*(P$3-1)+ROW(2:2)),OFFSET($A$2,0,1,$B$1),0)),"") | Q5: 2 | R5: =IF(AND(R$3<=$E$1,Q5<=INT($B$1/$E$1)),INDEX(OFFSET($A$2,0,0,$B$1),MATCH(SMALL(OFFSET($A$2,0,1,$B$1),INT($B$1/$E$1)*(R$3-1)+ROW(2:2)),OFFSET($A$2,0,1,$B$1),0)),"")
