Workbook

Sheet Feuil2
A1: KMS | B1: tranche kilo attribuée
A2: 237000 | B2: =VLOOKUP(A2,'tranches kilométriques'!A:B,2,TRUE) -> 200000 | F2: 10000 | G2: =VLOOKUP(F2,'tranches kilométriques'!A:B,2,TRUE) -> 0
A3: 285522 | B3: =VLOOKUP(A3,'tranches kilométriques'!A:B,2,TRUE) -> 250000 | F3: 20000 | G3: =VLOOKUP(F3,'tranches kilométriques'!A:B,2,TRUE) -> 0
A4: 900000 | B4: =VLOOKUP(A4,'tranches kilométriques'!A:B,2,TRUE) -> 900000 | F4: 30000 | G4: =VLOOKUP(F4,'tranches kilométriques'!A:B,2,TRUE) -> 0
A5: 256289 | B5: =VLOOKUP(A5,'tranches kilométriques'!A:B,2,TRUE) -> 250000 | F5: 40000 | G5: =VLOOKUP(F5,'tranches kilométriques'!A:B,2,TRUE) -> 0
A6: 8000 | B6: =VLOOKUP(A6,'tranches kilométriques'!A:B,2,TRUE) -> 0 | F6: 50000 | G6: =VLOOKUP(F6,'tranches kilométriques'!A:B,2,TRUE) -> 50000
A7: 111878 | B7: =VLOOKUP(A7,'tranches kilométriques'!A:B,2,TRUE) -> 100000 | F7: 60000 | G7: =VLOOKUP(F7,'tranches kilométriques'!A:B,2,TRUE) -> 50000
A8: 101002 | B8: =VLOOKUP(A8,'tranches kilométriques'!A:B,2,TRUE) -> 100000 | F8: 70000 | G8: =VLOOKUP(F8,'tranches kilométriques'!A:B,2,TRUE) -> 50000
A9: 35048 | B9: =VLOOKUP(A9,'tranches kilométriques'!A:B,2,TRUE) -> 0 | F9: 80000 | G9: =VLOOKUP(F9,'tranches kilométriques'!A:B,2,TRUE) -> 50000
A10: 295386 | B10: =VLOOKUP(A10,'tranches kilométriques'!A:B,2,TRUE) -> 250000 | F10: 90000 | G10: =VLOOKUP(F10,'tranches kilométriques'!A:B,2,TRUE) -> 50000
A11: 317030 | B11: =VLOOKUP(A11,'tranches kilométriques'!A:B,2,TRUE) -> 300000 | F11: 100000 | G11: =VLOOKUP(F11,'tranches kilométriques'!A:B,2,TRUE) -> 100000
A12: 282971 | B12: =VLOOKUP(A12,'tranches kilométriques'!A:B,2,TRUE) -> 250000 | F12: 110000 | G12: =VLOOKUP(F12,'tranches kilométriques'!A:B,2,TRUE) -> 100000
A13: 292422 | B13: =VLOOKUP(A13,'tranches kilométriques'!A:B,2,TRUE) -> 250000 | F13: 120000 | G13: =VLOOKUP(F13,'tranches kilométriques'!A:B,2,TRUE) -> 100000
... A86: 291308 | B86: =VLOOKUP(A86,'tranches kilométriques'!A:B,2,TRUE) -> 250000 | F86: 850000 | G86: =VLOOKUP(F86,'tranches kilométriques'!A:B,2,TRUE) -> 850000
F87: 860000 | G87: =VLOOKUP(F87,'tranches kilométriques'!A:B,2,TRUE) -> 850000
F88: 870000 | G88: =VLOOKUP(F88,'tranches kilométriques'!A:B,2,TRUE) -> 850000
F89: 880000 | G89: =VLOOKUP(F89,'tranches kilométriques'!A:B,2,TRUE) -> 900000
F90: 890000 | G90: =VLOOKUP(F90,'tranches kilométriques'!A:B,2,TRUE) -> 900000
F91: 900000 | G91: =VLOOKUP(F91,'tranches kilométriques'!A:B,2,TRUE) -> 900000
F92: 910000 | G92: =VLOOKUP(F92,'tranches kilométriques'!A:B,2,TRUE) -> 900000
F93: 920000 | G93: =VLOOKUP(F93,'tranches kilométriques'!A:B,2,TRUE) -> 900000
F94: 930000 | G94: =VLOOKUP(F94,'tranches kilométriques'!A:B,2,TRUE) -> 950000
F95: 940000 | G95: =VLOOKUP(F95,'tranches kilométriques'!A:B,2,TRUE) -> 950000
F96: 950000 | G96: =VLOOKUP(F96,'tranches kilométriques'!A:B,2,TRUE) -> 950000
F97: 960000 | G97: =VLOOKUP(F97,'tranches kilométriques'!A:B,2,TRUE) -> 950000
F98: 970000 | G98: =VLOOKUP(F98,'tranches kilométriques'!A:B,2,TRUE) -> 950000
... F100: 990000 | G100: =VLOOKUP(F100,'tranches kilométriques'!A:B,2,TRUE) -> 1000000

Sheet tranches kilométriques
A1: 0 | B1: 0 | D1: colonne A = à partir de cette valeur
A2: 50000 | B2: 50000 | D2: colonne B = on prend la valeur de la colonne B
A3: 100000 | B3: 100000
A4: 150000 | B4: 150000
A5: 200000 | B5: 200000
A6: 250000 | B6: 250000
A7: 275000 | B7: 250000
A8: 300000 | B8: 300000
A9: 350000 | B9: 350000
A10: 400000 | B10: 400000 | D10: pour les valeurs inférieures à 400 000, on arrondit pas à 400 000 donc tranche kilométrique en dessous. donc par exemple, si A1=398 000, B2=350 000 et non pas 400 000
A11: 425000 | B11: 450000
A12: 475000 | B12: 500000
A13: 525000 | B13: 550000
A14: 575000 | B14: 600000
A15: 625000 | B15: 650000
A16: 675000 | B16: 700000
A17: 725000 | B17: 750000
A18: 775000 | B18: 800000
A19: 825000 | B19: 850000
A20: 875000 | B20: 900000
A21: 925000 | B21: 950000
A22: 975000 | B22: 1000000
