Workbook

Sheet données
A1: mot | B1: si sup à 4 | C1: à supprimer ?
A2: Curie | B2: =IF(LEN(A2) >4, A2, "") -> Curie | C2: =IF(COUNTIF('mots à suopprimer'!A:A,B2),"à supprimer","")
A3: une | B3: =IF(LEN(A3) >4, A3, "") | C3: =IF(COUNTIF('mots à suopprimer'!A:A,B3),"à supprimer","") -> à supprimer
A4: Marie | B4: =IF(LEN(A4) >4, A4, "") -> Marie | C4: =IF(COUNTIF('mots à suopprimer'!A:A,B4),"à supprimer","")
A5: physique | B5: =IF(LEN(A5) >4, A5, "") -> physique | C5: =IF(COUNTIF('mots à suopprimer'!A:A,B5),"à supprimer","")
A6: Pierre | B6: =IF(LEN(A6) >4, A6, "") -> Pierre | C6: =IF(COUNTIF('mots à suopprimer'!A:A,B6),"à supprimer","")
A7: mathématiques | B7: =IF(LEN(A7) >4, A7, "") -> mathématiques | C7: =IF(COUNTIF('mots à suopprimer'!A:A,B7),"à supprimer","")
A8: professeur | B8: =IF(LEN(A8) >4, A8, "") -> professeur | C8: =IF(COUNTIF('mots à suopprimer'!A:A,B8),"à supprimer","")
A9: année | B9: =IF(LEN(A9) >4, A9, "") -> année | C9: =IF(COUNTIF('mots à suopprimer'!A:A,B9),"à supprimer","")
A10: cette | B10: =IF(LEN(A10) >4, A10, "") -> cette | C10: =IF(COUNTIF('mots à suopprimer'!A:A,B10),"à supprimer","")
A11: Nobel | B11: =IF(LEN(A11) >4, A11, "") -> Nobel | C11: =IF(COUNTIF('mots à suopprimer'!A:A,B11),"à supprimer","")
A12: prix | B12: =IF(LEN(A12) >4, A12, "") | C12: =IF(COUNTIF('mots à suopprimer'!A:A,B12),"à supprimer","") -> à supprimer
A13: radioactivité | B13: =IF(LEN(A13) >4, A13, "") -> radioactivité | C13: =IF(COUNTIF('mots à suopprimer'!A:A,B13),"à supprimer","")
... A245: nom | B245: =IF(LEN(A245) >4, A245, "") | C245: =IF(COUNTIF('mots à suopprimer'!A:A,B245),"à supprimer","") -> à supprimer

Sheet mots à suopprimer
A1: découverte
A2: phénomène
A3: générale
A4: l'époque
A5: extraire
A6: première
A7: nouveau
