Workbook

Sheet Groupes
A1: Groupe | B1: N° ticket | C1: Nom | D1: Parrain | E1: ID | F1: Date entrée | G1: Date sortie
A2: Groupe 1 | B2: 101 | C2: Jean | D2: AAAAA | E2: 4928 | F2: 43101 | G2: 43831
A3: Groupe 1 | B3: 366 | C3: Jacques | D3: DSFDSGSG | E3: 5535 | F3: 43101 | G3: 43466
A4: Groupe 1 | B4: 1988 | C4: Gérard | D4: PFDMFL | E4: 5728 | F4: 42370 | G4: 43101
A5: Groupe 1 | B5: 4562 | C5: Gabriel | D5: BBBBB | E5: 12059 | F5: 42370 | G5: 43466
A6: Groupe 1 | B6: 5549 | C6: Thomas | D6: TTTTTT | E6: 12205 | F6: 42370 | G6: 43570
A7: Groupe 1 | B7: 15814 | C7: Marie | D7: FFFFFFF | E7: 13352 | F7: 42370 | G7: 42917
A8: Groupe 1 | B8: 151 | C8: Nicolas | D8: QQQQQQ | E8: 13436 | F8: 42370 | G8: 42736
A9: Groupe 1 | B9: 152 | C9: Nicolas | D9: PMLHLHKGH | E9: 13436 | F9: 43101 | G9: 43466
A10: Groupe 1 | B10: 10 | C10: Pierre | D10: BBBBB | E10: 17949 | F10: 43101 | G10: 43831
A11: Groupe 1 | B11: 2585 | C11: Didier | D11: RRRRRR | E11: 18571 | F11: 42370 | G11: 42978
A12: Groupe 1 | B12: 2586 | C12: Didier | D12: POLHJNDH | E12: 18571 | F12: 42736 | G12: 43466
A13: Groupe 1 | B13: 7477 | C13: Sophie | D13: VVVVVVVV | E13: 19147 | F13: 42370 | G13: 43466
... A28: Groupe 2 | B28: 78 | C28: Arthur | D28: PFDMFL | E28: 22 | F28: 42370 | G28: 42371
A29: Groupe 2 | B29: 79 | C29: Arthur | D29: PFDMFL | E29: 22 | F29: 43101
A30: Groupe 2 | B30: 5435 | C30: Didier | D30: POLHJNDH | E30: 18571 | F30: 43466 | G30: 43832
A31: Groupe 2 | B31: 5436 | C31: Didier | D31: POLHJNDH | E31: 18571 | F31: 43896
A32: Groupe 2 | B32: 36541614 | C32: Nicolas | D32: QQQQQQ | E32: 13436 | F32: 43831
A33: Groupe 2 | B33: 517817 | C33: Sophie | D33: EEEEEEEEE | E33: 19147 | F33: 44177
A34: Groupe 2 | B34: 449849 | C34: Armand | D34: GHKGHFB | E34: 20788 | F34: 44197 | G34: 44198
A35: Groupe 2 | B35: 1789918 | C35: Franck | D35: OOOOOOO | E35: 85155 | F35: 42370 | G35: 43831
A36: Groupe 2 | B36: 987128 | C36: Guy | D36: TTTTTT | E36: 25197 | F36: 43470
A37: Groupe 2 | B37: 464024 | C37: Hugues | D37: PFDMFL | E37: 25731 | F37: 43497 | G37: 43498
A38: Groupe 2 | B38: 464025 | C38: Hugues | D38: PFDMFL | E38: 25731 | F38: 43831
A39: Groupe 2 | B39: 55 | C39: Pauline | D39: BBBBB | E39: 68410 | F39: 42019 | G39: 42736
A40: Groupe 2 | B40: 56 | C40: Pauline | D40: PMLHLHKGH | E40: 68410 | F40: 43739
A41: Groupe 2 | B41: 178 | C41: Joel | D41: BBBBB | E41: 28762 | F41: 43831
A42: Groupe 2 | B42: 56149 | C42: Pierre | D42: BBBBB | E42: 17949 | F42: 43952
A43: Groupe 2 | B43: 781 | C43: Francis | D43: PFDMFL | E43: 29202 | F43: 43831
A44: Groupe 2 | B44: 74484 | C44: Carole | D44: TTTTTT | E44: 88888888 | F44: 42736
A45: Groupe 2 | B45: 78968 | C45: Benoit | D45: ZREZTGEZEFEZ | E45: 9879878 | F45: 42005
A46: Groupe 2 | B46: 564 | C46: Patrick | D46: ZREZTGEZEFEZ | E46: 19846 | F46: 43801 | G46: 44166
A47: Groupe 2 | B47: 565 | C47: Patrick | D47: PMLHLHKGH | E47: 19846 | F47: 44197
A48: Groupe 2 | B48: 98989248 | C48: Neils | D48: AAAAA | E48: 98142056 | F48: 43466
A49: Groupe 2 | B49: 681496 | C49: Alain | D49: PFDMFL | E49: 28693 | F49: 43831
A50: Groupe 2 | B50: 3778378 | C50: Marie | D50: FFFFFFF | E50: 13352 | F50: 42736 | G50: 43101
A51: Groupe 2 | B51: 7243789 | C51: Marie | D51: DSFDSGSG | E51: 13352 | F51: 43831
A52: Groupe 2 | B52: 3783783 | C52: Gérard | D52: AAAAA | E52: 5728 | F52: 43466 | G52: 43832
A53: Groupe 2 | B53: 783783 | C53: Sylvie | D53: ZREZTGEZEFEZ | E53: 21882 | F53: 44197

Sheet TCD
B3: Étiquettes de colonnes
B4: Groupe 1 | D4: Groupe 2
A5: ID | B5: Max de Date entrée | C5: Min de Date sortie | D5: Max de Date entrée | E5: Min de Date sortie
A6: 22 | D6: 43101 | E6: 42371
A7: 4928 | B7: 43101 | C7: 43831
A8: 5535 | B8: 43101 | C8: 43466
A9: 5728 | B9: 42370 | C9: 43101 | D9: 43466 | E9: 43832
A10: 12059 | B10: 42370 | C10: 43466
A11: 12205 | B11: 42370 | C11: 43570
A12: 13352 | B12: 42370 | C12: 42917 | D12: 43831 | E12: 43101
A13: 13436 | B13: 43101 | C13: 42736 | D13: 43831
A14: 17949 | B14: 43101 | C14: 43831 | D14: 43952
A15: 18571 | B15: 42736 | C15: 42978 | D15: 43896 | E15: 43832
A16: 19147 | B16: 43466 | C16: 43466 | D16: 44177
A17: 19549 | B17: 43136 | C17: 43866
A18: 19846 | B18: 43101 | C18: 43466 | D18: 44197 | E18: 44166
A19: 20788 | B19: 43101 | C19: 42736 | D19: 44197 | E19: 44198
A20: 21882 | B20: 43831 | C20: 43831 | D20: 44197
A21: 25197 | B21: 43101 | C21: 43101 | D21: 43470
A22: 25731 | B22: 42736 | C22: 42621 | D22: 43831 | E22: 43498
A23: 28693 | B23: 42370 | C23: 42736 | D23: 43831
A24: 28762 | B24: 42370 | C24: 42736 | D24: 43831
A25: 29202 | B25: 42370 | C25: 43584 | D25: 43831
A26: 68410 | D26: 43739 | E26: 42736
A27: 85155 | D27: 42370 | E27: 43831
A28: 9879878 | D28: 42005
A29: 88888888 | D29: 42736
A30: 98142056 | D30: 43466
A31: Total général | B31: 43831 | C31: 42621 | D31: 44197 | E31: 42371

Sheet Ecarts
A1: ID | B1: Sortie Groupe 1 | C1: Entrée Groupe 2 | D1: Ecart entrée groupe 2 - sortie groupe 1
A2: 22 | B2: =GETPIVOTDATA("Max de Date entrée",TCD!$A$3,"Groupe","Groupe 1","ID",Tableau2[[#This Row],[ID]]) -> 0 | C2: =GETPIVOTDATA("Min de Date sortie",TCD!$A$3,"Groupe","Groupe 2","ID",Tableau2[[#This Row],[ID]]) -> 42371 | D2: =IF(AND(Tableau2[[#This Row],[Sortie Groupe 1]]<>0,Tableau2[[#This Row],[Entrée Groupe 2]]<>0),Tableau2[[#This Row],[Entrée Groupe 2]]-Tableau2[[#This Row],[Sortie Groupe 1]],0) -> 0
A3: 4928 | B3: =GETPIVOTDATA("Max de Date entrée",TCD!$A$3,"Groupe","Groupe 1","ID",Tableau2[[#This Row],[ID]]) -> 43101 | C3: =GETPIVOTDATA("Min de Date sortie",TCD!$A$3,"Groupe","Groupe 2","ID",Tableau2[[#This Row],[ID]]) -> 0 | D3: =IF(AND(Tableau2[[#This Row],[Sortie Groupe 1]]<>0,Tableau2[[#This Row],[Entrée Groupe 2]]<>0),Tableau2[[#This Row],[Entrée Groupe 2]]-Tableau2[[#This Row],[Sortie Groupe 1]],0) -> 0
A4: 5535 | B4: =GETPIVOTDATA("Max de Date entrée",TCD!$A$3,"Groupe","Groupe 1","ID",Tableau2[[#This Row],[ID]]) -> 43101 | C4: =GETPIVOTDATA("Min de Date sortie",TCD!$A$3,"Groupe","Groupe 2","ID",Tableau2[[#This Row],[ID]]) -> 0 | D4: =IF(AND(Tableau2[[#This Row],[Sortie Groupe 1]]<>0,Tableau2[[#This Row],[Entrée Groupe 2]]<>0),Tableau2[[#This Row],[Entrée Groupe 2]]-Tableau2[[#This Row],[Sortie Groupe 1]],0) -> 0
A5: 5728 | B5: =GETPIVOTDATA("Max de Date entrée",TCD!$A$3,"Groupe","Groupe 1","ID",Tableau2[[#This Row],[ID]]) -> 42370 | C5: =GETPIVOTDATA("Min de Date sortie",TCD!$A$3,"Groupe","Groupe 2","ID",Tableau2[[#This Row],[ID]]) -> 43832 | D5: =IF(AND(Tableau2[[#This Row],[Sortie Groupe 1]]<>0,Tableau2[[#This Row],[Entrée Groupe 2]]<>0),Tableau2[[#This Row],[Entrée Groupe 2]]-Tableau2[[#This Row],[Sortie Groupe 1]],0) -> 1462
A6: 12059 | B6: =GETPIVOTDATA("Max de Date entrée",TCD!$A$3,"Groupe","Groupe 1","ID",Tableau2[[#This Row],[ID]]) -> 42370 | C6: =GETPIVOTDATA("Min de Date sortie",TCD!$A$3,"Groupe","Groupe 2","ID",Tableau2[[#This Row],[ID]]) -> 0 | D6: =IF(AND(Tableau2[[#This Row],[Sortie Groupe 1]]<>0,Tableau2[[#This Row],[Entrée Groupe 2]]<>0),Tableau2[[#This Row],[Entrée Groupe 2]]-Tableau2[[#This Row],[Sortie Groupe 1]],0) -> 0
A7: 12205 | B7: =GETPIVOTDATA("Max de Date entrée",TCD!$A$3,"Groupe","Groupe 1","ID",Tableau2[[#This Row],[ID]]) -> 42370 | C7: =GETPIVOTDATA("Min de Date sortie",TCD!$A$3,"Groupe","Groupe 2","ID",Tableau2[[#This Row],[ID]]) -> 0 | D7: =IF(AND(Tableau2[[#This Row],[Sortie Groupe 1]]<>0,Tableau2[[#This Row],[Entrée Groupe 2]]<>0),Tableau2[[#This Row],[Entrée Groupe 2]]-Tableau2[[#This Row],[Sortie Groupe 1]],0) -> 0
A8: 13352 | B8: =GETPIVOTDATA("Max de Date entrée",TCD!$A$3,"Groupe","Groupe 1","ID",Tableau2[[#This Row],[ID]]) -> 42370 | C8: =GETPIVOTDATA("Min de Date sortie",TCD!$A$3,"Groupe","Groupe 2","ID",Tableau2[[#This Row],[ID]]) -> 43101 | D8: =IF(AND(Tableau2[[#This Row],[Sortie Groupe 1]]<>0,Tableau2[[#This Row],[Entrée Groupe 2]]<>0),Tableau2[[#This Row],[Entrée Groupe 2]]-Tableau2[[#This Row],[Sortie Groupe 1]],0) -> 731
A9: 13436 | B9: =GETPIVOTDATA("Max de Date entrée",TCD!$A$3,"Groupe","Groupe 1","ID",Tableau2[[#This Row],[ID]]) -> 43101 | C9: =GETPIVOTDATA("Min de Date sortie",TCD!$A$3,"Groupe","Groupe 2","ID",Tableau2[[#This Row],[ID]]) -> 0 | D9: =IF(AND(Tableau2[[#This Row],[Sortie Groupe 1]]<>0,Tableau2[[#This Row],[Entrée Groupe 2]]<>0),Tableau2[[#This Row],[Entrée Groupe 2]]-Tableau2[[#This Row],[Sortie Groupe 1]],0) -> 0
A10: 17949 | B10: =GETPIVOTDATA("Max de Date entrée",TCD!$A$3,"Groupe","Groupe 1","ID",Tableau2[[#This Row],[ID]]) -> 43101 | C10: =GETPIVOTDATA("Min de Date sortie",TCD!$A$3,"Groupe","Groupe 2","ID",Tableau2[[#This Row],[ID]]) -> 0 | D10: =IF(AND(Tableau2[[#This Row],[Sortie Groupe 1]]<>0,Tableau2[[#This Row],[Entrée Groupe 2]]<>0),Tableau2[[#This Row],[Entrée Groupe 2]]-Tableau2[[#This Row],[Sortie Groupe 1]],0) -> 0
A11: 18571 | B11: =GETPIVOTDATA("Max de Date entrée",TCD!$A$3,"Groupe","Groupe 1","ID",Tableau2[[#This Row],[ID]]) -> 42736 | C11: =GETPIVOTDATA("Min de Date sortie",TCD!$A$3,"Groupe","Groupe 2","ID",Tableau2[[#This Row],[ID]]) -> 43832 | D11: =IF(AND(Tableau2[[#This Row],[Sortie Groupe 1]]<>0,Tableau2[[#This Row],[Entrée Groupe 2]]<>0),Tableau2[[#This Row],[Entrée Groupe 2]]-Tableau2[[#This Row],[Sortie Groupe 1]],0) -> 1096
A12: 19147 | B12: =GETPIVOTDATA("Max de Date entrée",TCD!$A$3,"Groupe","Groupe 1","ID",Tableau2[[#This Row],[ID]]) -> 43466 | C12: =GETPIVOTDATA("Min de Date sortie",TCD!$A$3,"Groupe","Groupe 2","ID",Tableau2[[#This Row],[ID]]) -> 0 | D12: =IF(AND(Tableau2[[#This Row],[Sortie Groupe 1]]<>0,Tableau2[[#This Row],[Entrée Groupe 2]]<>0),Tableau2[[#This Row],[Entrée Groupe 2]]-Tableau2[[#This Row],[Sortie Groupe 1]],0) -> 0
A13: 19549 | B13: =GETPIVOTDATA("Max de Date entrée",TCD!$A$3,"Groupe","Groupe 1","ID",Tableau2[[#This Row],[ID]]) -> 43136 | C13: =GETPIVOTDATA("Min de Date sortie",TCD!$A$3,"Groupe","Groupe 2","ID",Tableau2[[#This Row],[ID]]) -> 0 | D13: =IF(AND(Tableau2[[#This Row],[Sortie Groupe 1]]<>0,Tableau2[[#This Row],[Entrée Groupe 2]]<>0),Tableau2[[#This Row],[Entrée Groupe 2]]-Tableau2[[#This Row],[Sortie Groupe 1]],0) -> 0
... A26: 98142056 | B26: =GETPIVOTDATA("Max de Date entrée",TCD!$A$3,"Groupe","Groupe 1","ID",Tableau2[[#This Row],[ID]]) -> 0 | C26: =GETPIVOTDATA("Min de Date sortie",TCD!$A$3,"Groupe","Groupe 2","ID",Tableau2[[#This Row],[ID]]) -> 0 | D26: =IF(AND(Tableau2[[#This Row],[Sortie Groupe 1]]<>0,Tableau2[[#This Row],[Entrée Groupe 2]]<>0),Tableau2[[#This Row],[Entrée Groupe 2]]-Tableau2[[#This Row],[Sortie Groupe 1]],0) -> 0
