Workbook
Name AncienSolde_CDG: [1]PARAMETRES!$C$9
Name DERNIERS_JOURS_MOIS: [1]CALENDRIER!$C$1:$C$12
Name DIRECTION_Sce: [1]PARAMETRES!$B$3
Name DOSSIER: [1]PARAMETRES!$B$1
Name Exercice: [1]PARAMETRES!$B$2
Name JCaisse_Matricule_CDG: '[1]JOURS CAISSE'!$B$2:$B$367
Name MOIS_EXO: [1]CALENDRIER!$B$1:$B$12
Name NUM_MOIS_EXO: [1]CALENDRIER!$A$1:$A$12
Name TPARAM_LibelléAutoriz_Compte: [1]PARAMETRES!$C$34:$C$48
Name TPARAM_LibelléAutoriz_Libellé: [1]PARAMETRES!$B$34:$B$48
Name TPARAM_Matricule: [1]PARAMETRES!$F$9:$F$11
Name TPARAM_Prefix_Pieces: [1]PARAMETRES!$D$9:$D$11
Name TPARAM_Utilisateur: [1]PARAMETRES!$E$9:$E$11

Sheet PV DE CAISSE
A1: 12 | C1: =INDEX(MOIS_EXO,MATCH($A$1,NUM_MOIS_EXO,0))&" "&Exercice -> DÉCEMBRE 2016
W7: 903
A30: 1
A31: 2
A32: 3
A33: 4 | H33: Formule à simplifier SVP! D'ailleurs, ça marche pour tous les mois sauf décembre! Bizarre
A34: 5
A35: 6 | C35: Unités | E35: Nombre | F35: Montant
A36: 7 | C36: Billet | D36: 10000 | E36: {=SUM(IF(('Billetage CP'!D$1:O$1='PV DE CAISSE'!$A$1)*('Billetage CP'!$C$8:$C$20='PV DE CAISSE'!$D36),'Billetage CP'!$D$8:$O$20)) +SUM(IF(('Billetage Monnaie'!D$1:O$1='PV DE CAISSE'!$A$1)*('Billetage Monnaie'!$C$8:$C$20='PV DE CAISSE'!$D36),'Billetage Monnaie'!$D$8:$O$20)) +SUM(IF(('Billetage C01'!D$1:O$1='PV DE CAISSE'!$A$1)*('Billetage C01'!$C$8:$C$20='PV DE CAISSE'!$D36),'Billetage C01'!$D$8:$O$20)) +SUM(IF(('Billetage C02'!D$1:O$1='PV DE CAISSE'!$A$1)*('Billetage C02'!$C$8:$C$20='PV DE CAISSE'!$D36),'Billetage C02'!$D$8:$O$20)) +SUM(IF(('Billetage C03'!D$1:O$1='PV DE CAISSE'!$A$1)*('Billetage C03'!$C$8:$C$20='PV DE CAISSE'!$D36),'Billetage C03'!$D$8:$O$20))} -> 15 | F36: =IF('Billetage CP'!A4=0,"",D36*'Billetage CP'!A4) -> 150000
A37: 8 | C37: Billet | D37: 5000 | E37: {=SUM(IF(('Billetage CP'!D$1:O$1='PV DE CAISSE'!$A$1)*('Billetage CP'!$C$8:$C$20='PV DE CAISSE'!$D37),'Billetage CP'!$D$8:$O$20)) +SUM(IF(('Billetage Monnaie'!D$1:O$1='PV DE CAISSE'!$A$1)*('Billetage Monnaie'!$C$8:$C$20='PV DE CAISSE'!$D37),'Billetage Monnaie'!$D$8:$O$20)) +SUM(IF(('Billetage C01'!D$1:O$1='PV DE CAISSE'!$A$1)*('Billetage C01'!$C$8:$C$20='PV DE CAISSE'!$D37),'Billetage C01'!$D$8:$O$20)) +SUM(IF(('Billetage C02'!D$1:O$1='PV DE CAISSE'!$A$1)*('Billetage C02'!$C$8:$C$20='PV DE CAISSE'!$D37),'Billetage C02'!$D$8:$O$20)) +SUM(IF(('Billetage C03'!D$1:O$1='PV DE CAISSE'!$A$1)*('Billetage C03'!$C$8:$C$20='PV DE CAISSE'!$D37),'Billetage C03'!$D$8:$O$20))} -> 0 | F37: =IF(E37=0,"",D37*E37)
A38: 9 | C38: Billet | D38: 2000 | E38: {=SUM(IF(('Billetage CP'!D$1:O$1='PV DE CAISSE'!$A$1)*('Billetage CP'!$C$8:$C$20='PV DE CAISSE'!$D38),'Billetage CP'!$D$8:$O$20)) +SUM(IF(('Billetage Monnaie'!D$1:O$1='PV DE CAISSE'!$A$1)*('Billetage Monnaie'!$C$8:$C$20='PV DE CAISSE'!$D38),'Billetage Monnaie'!$D$8:$O$20)) +SUM(IF(('Billetage C01'!D$1:O$1='PV DE CAISSE'!$A$1)*('Billetage C01'!$C$8:$C$20='PV DE CAISSE'!$D38),'Billetage C01'!$D$8:$O$20)) +SUM(IF(('Billetage C02'!D$1:O$1='PV DE CAISSE'!$A$1)*('Billetage C02'!$C$8:$C$20='PV DE CAISSE'!$D38),'Billetage C02'!$D$8:$O$20)) +SUM(IF(('Billetage C03'!D$1:O$1='PV DE CAISSE'!$A$1)*('Billetage C03'!$C$8:$C$20='PV DE CAISSE'!$D38),'Billetage C03'!$D$8:$O$20))} -> 0 | F38: =IF(E38=0,"",D38*E38)
A39: 10 | C39: Billet | D39: 1000 | E39: {=SUM(IF(('Billetage CP'!D$1:O$1='PV DE CAISSE'!$A$1)*('Billetage CP'!$C$8:$C$20='PV DE CAISSE'!$D39),'Billetage CP'!$D$8:$O$20)) +SUM(IF(('Billetage Monnaie'!D$1:O$1='PV DE CAISSE'!$A$1)*('Billetage Monnaie'!$C$8:$C$20='PV DE CAISSE'!$D39),'Billetage Monnaie'!$D$8:$O$20)) +SUM(IF(('Billetage C01'!D$1:O$1='PV DE CAISSE'!$A$1)*('Billetage C01'!$C$8:$C$20='PV DE CAISSE'!$D39),'Billetage C01'!$D$8:$O$20)) +SUM(IF(('Billetage C02'!D$1:O$1='PV DE CAISSE'!$A$1)*('Billetage C02'!$C$8:$C$20='PV DE CAISSE'!$D39),'Billetage C02'!$D$8:$O$20)) +SUM(IF(('Billetage C03'!D$1:O$1='PV DE CAISSE'!$A$1)*('Billetage C03'!$C$8:$C$20='PV DE CAISSE'!$D39),'Billetage C03'!$D$8:$O$20))} -> 250 | F39: =IF(E39=0,"",D39*E39) -> 250000
A40: 11 | C40: Billet | D40: 500 | E40: {=SUM(IF(('Billetage CP'!D$1:O$1='PV DE CAISSE'!$A$1)*('Billetage CP'!$C$8:$C$20='PV DE CAISSE'!$D40),'Billetage CP'!$D$8:$O$20)) +SUM(IF(('Billetage Monnaie'!D$1:O$1='PV DE CAISSE'!$A$1)*('Billetage Monnaie'!$C$8:$C$20='PV DE CAISSE'!$D40),'Billetage Monnaie'!$D$8:$O$20)) +SUM(IF(('Billetage C01'!D$1:O$1='PV DE CAISSE'!$A$1)*('Billetage C01'!$C$8:$C$20='PV DE CAISSE'!$D40),'Billetage C01'!$D$8:$O$20)) +SUM(IF(('Billetage C02'!D$1:O$1='PV DE CAISSE'!$A$1)*('Billetage C02'!$C$8:$C$20='PV DE CAISSE'!$D40),'Billetage C02'!$D$8:$O$20)) +SUM(IF(('Billetage C03'!D$1:O$1='PV DE CAISSE'!$A$1)*('Billetage C03'!$C$8:$C$20='PV DE CAISSE'!$D40),'Billetage C03'!$D$8:$O$20))} -> 0 | F40: =IF(E40=0,"",D40*E40)
A41: 12 | C41: Pièce | D41: 500 | E41: {=SUM(IF(('Billetage CP'!D$1:O$1='PV DE CAISSE'!$A$1)*('Billetage CP'!$C$8:$C$20='PV DE CAISSE'!$D41),'Billetage CP'!$D$8:$O$20)) +SUM(IF(('Billetage Monnaie'!D$1:O$1='PV DE CAISSE'!$A$1)*('Billetage Monnaie'!$C$8:$C$20='PV DE CAISSE'!$D41),'Billetage Monnaie'!$D$8:$O$20)) +SUM(IF(('Billetage C01'!D$1:O$1='PV DE CAISSE'!$A$1)*('Billetage C01'!$C$8:$C$20='PV DE CAISSE'!$D41),'Billetage C01'!$D$8:$O$20)) +SUM(IF(('Billetage C02'!D$1:O$1='PV DE CAISSE'!$A$1)*('Billetage C02'!$C$8:$C$20='PV DE CAISSE'!$D41),'Billetage C02'!$D$8:$O$20)) +SUM(IF(('Billetage C03'!D$1:O$1='PV DE CAISSE'!$A$1)*('Billetage C03'!$C$8:$C$20='PV DE CAISSE'!$D41),'Billetage C03'!$D$8:$O$20))} -> 0
C42: Pièce | D42: 100 | E42: {=SUM(IF(('Billetage CP'!D$1:O$1='PV DE CAISSE'!$A$1)*('Billetage CP'!$C$8:$C$20='PV DE CAISSE'!$D42),'Billetage CP'!$D$8:$O$20)) +SUM(IF(('Billetage Monnaie'!D$1:O$1='PV DE CAISSE'!$A$1)*('Billetage Monnaie'!$C$8:$C$20='PV DE CAISSE'!$D42),'Billetage Monnaie'!$D$8:$O$20)) +SUM(IF(('Billetage C01'!D$1:O$1='PV DE CAISSE'!$A$1)*('Billetage C01'!$C$8:$C$20='PV DE CAISSE'!$D42),'Billetage C01'!$D$8:$O$20)) +SUM(IF(('Billetage C02'!D$1:O$1='PV DE CAISSE'!$A$1)*('Billetage C02'!$C$8:$C$20='PV DE CAISSE'!$D42),'Billetage C02'!$D$8:$O$20)) +SUM(IF(('Billetage C03'!D$1:O$1='PV DE CAISSE'!$A$1)*('Billetage C03'!$C$8:$C$20='PV DE CAISSE'!$D42),'Billetage C03'!$D$8:$O$20))} -> 0 | F42: =IF(E42=0,"",D42*E42)
C43: Pièce | D43: 50 | E43: {=SUM(IF(('Billetage CP'!D$1:O$1='PV DE CAISSE'!$A$1)*('Billetage CP'!$C$8:$C$20='PV DE CAISSE'!$D43),'Billetage CP'!$D$8:$O$20)) +SUM(IF(('Billetage Monnaie'!D$1:O$1='PV DE CAISSE'!$A$1)*('Billetage Monnaie'!$C$8:$C$20='PV DE CAISSE'!$D43),'Billetage Monnaie'!$D$8:$O$20)) +SUM(IF(('Billetage C01'!D$1:O$1='PV DE CAISSE'!$A$1)*('Billetage C01'!$C$8:$C$20='PV DE CAISSE'!$D43),'Billetage C01'!$D$8:$O$20)) +SUM(IF(('Billetage C02'!D$1:O$1='PV DE CAISSE'!$A$1)*('Billetage C02'!$C$8:$C$20='PV DE CAISSE'!$D43),'Billetage C02'!$D$8:$O$20)) +SUM(IF(('Billetage C03'!D$1:O$1='PV DE CAISSE'!$A$1)*('Billetage C03'!$C$8:$C$20='PV DE CAISSE'!$D43),'Billetage C03'!$D$8:$O$20))} -> 0 | F43: =IF(E43=0,"",D43*E43)
C44: Pièce | D44: 25 | E44: {=SUM(IF(('Billetage CP'!D$1:O$1='PV DE CAISSE'!$A$1)*('Billetage CP'!$C$8:$C$20='PV DE CAISSE'!$D44),'Billetage CP'!$D$8:$O$20)) +SUM(IF(('Billetage Monnaie'!D$1:O$1='PV DE CAISSE'!$A$1)*('Billetage Monnaie'!$C$8:$C$20='PV DE CAISSE'!$D44),'Billetage Monnaie'!$D$8:$O$20)) +SUM(IF(('Billetage C01'!D$1:O$1='PV DE CAISSE'!$A$1)*('Billetage C01'!$C$8:$C$20='PV DE CAISSE'!$D44),'Billetage C01'!$D$8:$O$20)) +SUM(IF(('Billetage C02'!D$1:O$1='PV DE CAISSE'!$A$1)*('Billetage C02'!$C$8:$C$20='PV DE CAISSE'!$D44),'Billetage C02'!$D$8:$O$20)) +SUM(IF(('Billetage C03'!D$1:O$1='PV DE CAISSE'!$A$1)*('Billetage C03'!$C$8:$C$20='PV DE CAISSE'!$D44),'Billetage C03'!$D$8:$O$20))} -> 0 | F44: =IF(E44=0,"",D44*E44)
C45: Pièce | D45: 10 | E45: {=SUM(IF(('Billetage CP'!D$1:O$1='PV DE CAISSE'!$A$1)*('Billetage CP'!$C$8:$C$20='PV DE CAISSE'!$D45),'Billetage CP'!$D$8:$O$20)) +SUM(IF(('Billetage Monnaie'!D$1:O$1='PV DE CAISSE'!$A$1)*('Billetage Monnaie'!$C$8:$C$20='PV DE CAISSE'!$D45),'Billetage Monnaie'!$D$8:$O$20)) +SUM(IF(('Billetage C01'!D$1:O$1='PV DE CAISSE'!$A$1)*('Billetage C01'!$C$8:$C$20='PV DE CAISSE'!$D45),'Billetage C01'!$D$8:$O$20)) +SUM(IF(('Billetage C02'!D$1:O$1='PV DE CAISSE'!$A$1)*('Billetage C02'!$C$8:$C$20='PV DE CAISSE'!$D45),'Billetage C02'!$D$8:$O$20)) +SUM(IF(('Billetage C03'!D$1:O$1='PV DE CAISSE'!$A$1)*('Billetage C03'!$C$8:$C$20='PV DE CAISSE'!$D45),'Billetage C03'!$D$8:$O$20))} -> 0 | F45: =IF(E45=0,"",D45*E45)
C46: Pièce | D46: 5 | E46: {=SUM(IF(('Billetage CP'!D$1:O$1='PV DE CAISSE'!$A$1)*('Billetage CP'!$C$8:$C$20='PV DE CAISSE'!$D46),'Billetage CP'!$D$8:$O$20)) +SUM(IF(('Billetage Monnaie'!D$1:O$1='PV DE CAISSE'!$A$1)*('Billetage Monnaie'!$C$8:$C$20='PV DE CAISSE'!$D46),'Billetage Monnaie'!$D$8:$O$20)) +SUM(IF(('Billetage C01'!D$1:O$1='PV DE CAISSE'!$A$1)*('Billetage C01'!$C$8:$C$20='PV DE CAISSE'!$D46),'Billetage C01'!$D$8:$O$20)) +SUM(IF(('Billetage C02'!D$1:O$1='PV DE CAISSE'!$A$1)*('Billetage C02'!$C$8:$C$20='PV DE CAISSE'!$D46),'Billetage C02'!$D$8:$O$20)) +SUM(IF(('Billetage C03'!D$1:O$1='PV DE CAISSE'!$A$1)*('Billetage C03'!$C$8:$C$20='PV DE CAISSE'!$D46),'Billetage C03'!$D$8:$O$20))} -> 0 | F46: =IF(E46=0,"",D46*E46)
C47: Pièce | D47: 2 | E47: {=SUM(IF(('Billetage CP'!D$1:O$1='PV DE CAISSE'!$A$1)*('Billetage CP'!$C$8:$C$20='PV DE CAISSE'!$D47),'Billetage CP'!$D$8:$O$20)) +SUM(IF(('Billetage Monnaie'!D$1:O$1='PV DE CAISSE'!$A$1)*('Billetage Monnaie'!$C$8:$C$20='PV DE CAISSE'!$D47),'Billetage Monnaie'!$D$8:$O$20)) +SUM(IF(('Billetage C01'!D$1:O$1='PV DE CAISSE'!$A$1)*('Billetage C01'!$C$8:$C$20='PV DE CAISSE'!$D47),'Billetage C01'!$D$8:$O$20)) +SUM(IF(('Billetage C02'!D$1:O$1='PV DE CAISSE'!$A$1)*('Billetage C02'!$C$8:$C$20='PV DE CAISSE'!$D47),'Billetage C02'!$D$8:$O$20)) +SUM(IF(('Billetage C03'!D$1:O$1='PV DE CAISSE'!$A$1)*('Billetage C03'!$C$8:$C$20='PV DE CAISSE'!$D47),'Billetage C03'!$D$8:$O$20))} -> 0 | F47: =IF(E47=0,"",D47*E47)
C48: Pièce | D48: 1 | E48: {=SUM(IF(('Billetage CP'!D$1:O$1='PV DE CAISSE'!$A$1)*('Billetage CP'!$C$8:$C$20='PV DE CAISSE'!$D48),'Billetage CP'!$D$8:$O$20)) +SUM(IF(('Billetage Monnaie'!D$1:O$1='PV DE CAISSE'!$A$1)*('Billetage Monnaie'!$C$8:$C$20='PV DE CAISSE'!$D48),'Billetage Monnaie'!$D$8:$O$20)) +SUM(IF(('Billetage C01'!D$1:O$1='PV DE CAISSE'!$A$1)*('Billetage C01'!$C$8:$C$20='PV DE CAISSE'!$D48),'Billetage C01'!$D$8:$O$20)) +SUM(IF(('Billetage C02'!D$1:O$1='PV DE CAISSE'!$A$1)*('Billetage C02'!$C$8:$C$20='PV DE CAISSE'!$D48),'Billetage C02'!$D$8:$O$20)) +SUM(IF(('Billetage C03'!D$1:O$1='PV DE CAISSE'!$A$1)*('Billetage C03'!$C$8:$C$20='PV DE CAISSE'!$D48),'Billetage C03'!$D$8:$O$20))} -> 0 | F48: =IF(E48=0,"",D48*E48)
C49: Total en coffre fort | F49: =IF(SUM(F36:F48)=0,"",SUM(F36:F48)) -> 400000
C50: MS-i CAISSE 5.2 - Date de tirage 15/12/2016 19:10:49

Sheet Billetage CP
D1: 1 | E1: 2 | F1: 3 | G1: 4 | H1: 5 | I1: 6 | J1: 7 | K1: 8 | L1: 9 | M1: 10 | N1: 11 | O1: 12
F2: ="CAISSE PRINCIPALE "&DOSSIER&" "&Exercice -> CAISSE PRINCIPALE GIPA SA 2016
A4: =SUMPRODUCT((D$1:O$1='PV DE CAISSE'!$A$1)*($C$8:$C$20='PV DE CAISSE'!$D36)*($D$8:$O$20)) -> 15
B6: Récapitulatif annuel des inventaires d'espèces en coffre fort Caisse principale
B7: Unités | D7: =TEXT(EOMONTH(DATE(Exercice,COLUMN(A:A),1),0),"jj/mm/aaaa") -> 31/01/2016 | E7: =TEXT(EOMONTH(DATE(Exercice,COLUMN(B:B),1),0),"jj/mm/aaaa") -> 29/02/2016 | F7: =TEXT(EOMONTH(DATE(Exercice,COLUMN(C:C),1),0),"jj/mm/aaaa") -> 31/03/2016 | G7: =TEXT(EOMONTH(DATE(Exercice,COLUMN(D:D),1),0),"jj/mm/aaaa") -> 30/04/2016 | H7: =TEXT(EOMONTH(DATE(Exercice,COLUMN(E:E),1),0),"jj/mm/aaaa") -> 31/05/2016 | I7: =TEXT(EOMONTH(DATE(Exercice,COLUMN(F:F),1),0),"jj/mm/aaaa") -> 30/06/2016 | J7: =TEXT(EOMONTH(DATE(Exercice,COLUMN(G:G),1),0),"jj/mm/aaaa") -> 31/07/2016 | K7: =TEXT(EOMONTH(DATE(Exercice,COLUMN(H:H),1),0),"jj/mm/aaaa") -> 31/08/2016 | L7: =TEXT(EOMONTH(DATE(Exercice,COLUMN(I:I),1),0),"jj/mm/aaaa") -> 30/09/2016 | M7: =TEXT(EOMONTH(DATE(Exercice,COLUMN(J:J),1),0),"jj/mm/aaaa") -> 31/10/2016 | N7: =TEXT(EOMONTH(DATE(Exercice,COLUMN(K:K),1),0),"jj/mm/aaaa") -> 30/11/2016 | O7: =TEXT(EOMONTH(DATE(Exercice,COLUMN(L:L),1),0),"jj/mm/aaaa") -> 31/12/2016
B8: Billet de | C8: 10000 | D8: 10 | E8: 290 | N8: 314 | O8: 15
B9: Billet de | C9: 5000 | D9: 15 | E9: 20 | N9: 4
B10: Billet de | C10: 2000 | D10: 20 | N10: 1
B11: Billet de | C11: 1000 | D11: 5 | N11: 6
B12: Billet | C12: 500 | N12: 3
B13: Pièce de | C13: 500
B14: Pièce | C14: 100
B15: Pièce | C15: 50
B16: Pièce | C16: 25
B17: Pièce | C17: 10
B18: Pièce | C18: 5
B19: Pièce | C19: 2
B20: Pièce | C20: 1
B21: Valeurs | D21: =SUMPRODUCT($C$8:$C$20,D$8:D$20) -> 220000 | E21: =SUMPRODUCT($C$8:$C$20,E$8:E$20) -> 3000000 | F21: =SUMPRODUCT($C$8:$C$20,F$8:F$20) -> 0 | G21: =SUMPRODUCT($C$8:$C$20,G$8:G$20) -> 0 | H21: =SUMPRODUCT($C$8:$C$20,H$8:H$20) -> 0 | I21: =SUMPRODUCT($C$8:$C$20,I$8:I$20) -> 0 | J21: =SUMPRODUCT($C$8:$C$20,J$8:J$20) -> 0 | K21: =SUMPRODUCT($C$8:$C$20,K$8:K$20) -> 0 | ... O21: =SUMPRODUCT($C$8:$C$20,O$8:O$20) -> 150000

Sheet Billetage Monnaie
D1: 1 | E1: 2 | F1: 3 | G1: 4 | H1: 5 | I1: 6 | J1: 7 | K1: 8 | L1: 9 | M1: 10 | N1: 11 | O1: 12
F2: ="CAISSE PRINCIPALE "&DOSSIER&" "&Exercice -> CAISSE PRINCIPALE GIPA SA 2016
A4: =SUMPRODUCT((D$1:O$1='PV DE CAISSE'!$A$1)*($C$8:$C$20='PV DE CAISSE'!$D36)*($D$8:$O$20)) -> 0
B6: Récapitulatif annuel des inventaires d'espèces en coffre fort Caisse Monnaie
B7: Unités | D7: =TEXT(EOMONTH(DATE(Exercice,COLUMN(A:A),1),0),"jj/mm/aaaa") -> 31/01/2016 | E7: =TEXT(EOMONTH(DATE(Exercice,COLUMN(B:B),1),0),"jj/mm/aaaa") -> 29/02/2016 | F7: =TEXT(EOMONTH(DATE(Exercice,COLUMN(C:C),1),0),"jj/mm/aaaa") -> 31/03/2016 | G7: =TEXT(EOMONTH(DATE(Exercice,COLUMN(D:D),1),0),"jj/mm/aaaa") -> 30/04/2016 | H7: =TEXT(EOMONTH(DATE(Exercice,COLUMN(E:E),1),0),"jj/mm/aaaa") -> 31/05/2016 | I7: =TEXT(EOMONTH(DATE(Exercice,COLUMN(F:F),1),0),"jj/mm/aaaa") -> 30/06/2016 | J7: =TEXT(EOMONTH(DATE(Exercice,COLUMN(G:G),1),0),"jj/mm/aaaa") -> 31/07/2016 | K7: =TEXT(EOMONTH(DATE(Exercice,COLUMN(H:H),1),0),"jj/mm/aaaa") -> 31/08/2016 | L7: =TEXT(EOMONTH(DATE(Exercice,COLUMN(I:I),1),0),"jj/mm/aaaa") -> 30/09/2016 | M7: =TEXT(EOMONTH(DATE(Exercice,COLUMN(J:J),1),0),"jj/mm/aaaa") -> 31/10/2016 | N7: =TEXT(EOMONTH(DATE(Exercice,COLUMN(K:K),1),0),"jj/mm/aaaa") -> 30/11/2016 | O7: =TEXT(EOMONTH(DATE(Exercice,COLUMN(L:L),1),0),"jj/mm/aaaa") -> 31/12/2016
B8: Billet de | C8: 10000 | E8: 985 | I8: 100
B9: Billet de | C9: 5000 | I9: 45
B10: Billet de | C10: 2000
B11: Billet de | C11: 1000
B12: Billet | C12: 500
B13: Pièce de | C13: 500 | E13: 140 | I13: 145
B14: Pièce | C14: 100
B15: Pièce | C15: 50
B16: Pièce | C16: 25
B17: Pièce | C17: 10 | I17: 250
B18: Pièce | C18: 5
B19: Pièce | C19: 2
B20: Pièce | C20: 1
B21: Valeurs | D21: =SUMPRODUCT($C$8:$C$20,D$8:D$20) -> 0 | E21: =SUMPRODUCT($C$8:$C$20,E$8:E$20) -> 9920000 | F21: =SUMPRODUCT($C$8:$C$20,F$8:F$20) -> 0 | G21: =SUMPRODUCT($C$8:$C$20,G$8:G$20) -> 0 | H21: =SUMPRODUCT($C$8:$C$20,H$8:H$20) -> 0 | I21: =SUMPRODUCT($C$8:$C$20,I$8:I$20) -> 1300000 | J21: =SUMPRODUCT($C$8:$C$20,J$8:J$20) -> 0 | K21: =SUMPRODUCT($C$8:$C$20,K$8:K$20) -> 0 | ... O21: =SUMPRODUCT($C$8:$C$20,O$8:O$20) -> 0

Sheet Billetage C01
D1: 1 | E1: 2 | F1: 3 | G1: 4 | H1: 5 | I1: 6 | J1: 7 | K1: 8 | L1: 9 | M1: 10 | N1: 11 | O1: 12
F2: ="CAISSE MAGASIN N°01 "&DOSSIER&" "&Exercice -> CAISSE MAGASIN N°01 GIPA SA 2016
A4: =SUMPRODUCT((D$1:O$1='PV DE CAISSE'!$A$1)*($C$8:$C$20='PV DE CAISSE'!$D36)*($D$8:$O$20)) -> 0
B6: Récapitulatif annuel des inventaires d'espèces en coffre fort Caisse n°1
B7: Unités | D7: =TEXT(EOMONTH(DATE(Exercice,COLUMN(A:A),1),0),"jj/mm/aaaa") -> 31/01/2016 | E7: =TEXT(EOMONTH(DATE(Exercice,COLUMN(B:B),1),0),"jj/mm/aaaa") -> 29/02/2016 | F7: =TEXT(EOMONTH(DATE(Exercice,COLUMN(C:C),1),0),"jj/mm/aaaa") -> 31/03/2016 | G7: =TEXT(EOMONTH(DATE(Exercice,COLUMN(D:D),1),0),"jj/mm/aaaa") -> 30/04/2016 | H7: =TEXT(EOMONTH(DATE(Exercice,COLUMN(E:E),1),0),"jj/mm/aaaa") -> 31/05/2016 | I7: =TEXT(EOMONTH(DATE(Exercice,COLUMN(F:F),1),0),"jj/mm/aaaa") -> 30/06/2016 | J7: =TEXT(EOMONTH(DATE(Exercice,COLUMN(G:G),1),0),"jj/mm/aaaa") -> 31/07/2016 | K7: =TEXT(EOMONTH(DATE(Exercice,COLUMN(H:H),1),0),"jj/mm/aaaa") -> 31/08/2016 | L7: =TEXT(EOMONTH(DATE(Exercice,COLUMN(I:I),1),0),"jj/mm/aaaa") -> 30/09/2016 | M7: =TEXT(EOMONTH(DATE(Exercice,COLUMN(J:J),1),0),"jj/mm/aaaa") -> 31/10/2016 | N7: =TEXT(EOMONTH(DATE(Exercice,COLUMN(K:K),1),0),"jj/mm/aaaa") -> 30/11/2016 | O7: =TEXT(EOMONTH(DATE(Exercice,COLUMN(L:L),1),0),"jj/mm/aaaa") -> 31/12/2016
B8: Billet de | C8: 10000
B9: Billet de | C9: 5000
B10: Billet de | C10: 2000
B11: Billet de | C11: 1000
B12: Billet | C12: 500
B13: Pièce de | C13: 500
B14: Pièce | C14: 100
B15: Pièce | C15: 50
B16: Pièce | C16: 25
B17: Pièce | C17: 10
B18: Pièce | C18: 5
B19: Pièce | C19: 2
B20: Pièce | C20: 1
B21: Valeurs | D21: =SUMPRODUCT($C$8:$C$20,D$8:D$20) -> 0 | E21: =SUMPRODUCT($C$8:$C$20,E$8:E$20) -> 0 | F21: =SUMPRODUCT($C$8:$C$20,F$8:F$20) -> 0 | G21: =SUMPRODUCT($C$8:$C$20,G$8:G$20) -> 0 | H21: =SUMPRODUCT($C$8:$C$20,H$8:H$20) -> 0 | I21: =SUMPRODUCT($C$8:$C$20,I$8:I$20) -> 0 | J21: =SUMPRODUCT($C$8:$C$20,J$8:J$20) -> 0 | K21: =SUMPRODUCT($C$8:$C$20,K$8:K$20) -> 0 | ... O21: =SUMPRODUCT($C$8:$C$20,O$8:O$20) -> 0

Sheet Billetage C02
D1: 1 | E1: 2 | F1: 3 | G1: 4 | H1: 5 | I1: 6 | J1: 7 | K1: 8 | L1: 9 | M1: 10 | N1: 11 | O1: 12
F2: ="CAISSE MAGASIN N°02 "&DOSSIER&" "&Exercice -> CAISSE MAGASIN N°02 GIPA SA 2016
A4: =SUMPRODUCT((D$1:O$1='PV DE CAISSE'!$A$1)*($C$8:$C$20='PV DE CAISSE'!$D36)*($D$8:$O$20)) -> 0
B6: Récapitulatif annuel des inventaires d'espèces en coffre fort Caisse n°2
B7: Unités | D7: =TEXT(EOMONTH(DATE(Exercice,COLUMN(A:A),1),0),"jj/mm/aaaa") -> 31/01/2016 | E7: =TEXT(EOMONTH(DATE(Exercice,COLUMN(B:B),1),0),"jj/mm/aaaa") -> 29/02/2016 | F7: =TEXT(EOMONTH(DATE(Exercice,COLUMN(C:C),1),0),"jj/mm/aaaa") -> 31/03/2016 | G7: =TEXT(EOMONTH(DATE(Exercice,COLUMN(D:D),1),0),"jj/mm/aaaa") -> 30/04/2016 | H7: =TEXT(EOMONTH(DATE(Exercice,COLUMN(E:E),1),0),"jj/mm/aaaa") -> 31/05/2016 | I7: =TEXT(EOMONTH(DATE(Exercice,COLUMN(F:F),1),0),"jj/mm/aaaa") -> 30/06/2016 | J7: =TEXT(EOMONTH(DATE(Exercice,COLUMN(G:G),1),0),"jj/mm/aaaa") -> 31/07/2016 | K7: =TEXT(EOMONTH(DATE(Exercice,COLUMN(H:H),1),0),"jj/mm/aaaa") -> 31/08/2016 | L7: =TEXT(EOMONTH(DATE(Exercice,COLUMN(I:I),1),0),"jj/mm/aaaa") -> 30/09/2016 | M7: =TEXT(EOMONTH(DATE(Exercice,COLUMN(J:J),1),0),"jj/mm/aaaa") -> 31/10/2016 | N7: =TEXT(EOMONTH(DATE(Exercice,COLUMN(K:K),1),0),"jj/mm/aaaa") -> 30/11/2016 | O7: =TEXT(EOMONTH(DATE(Exercice,COLUMN(L:L),1),0),"jj/mm/aaaa") -> 31/12/2016
B8: Billet de | C8: 10000 | N8: 2
B9: Billet de | C9: 5000 | N9: 5
B10: Billet de | C10: 2000 | N10: 2
B11: Billet de | C11: 1000 | N11: 16
B12: Billet | C12: 500 | N12: 43
B13: Pièce de | C13: 500 | N13: 6
B14: Pièce | C14: 100 | N14: 81
B15: Pièce | C15: 50 | N15: 296
B16: Pièce | C16: 25 | N16: 111
B17: Pièce | C17: 10
B18: Pièce | C18: 5 | N18: 2
B19: Pièce | C19: 2 | N19: 3
B20: Pièce | C20: 1 | N20: 3
B21: Valeurs | D21: =SUMPRODUCT($C$8:$C$20,D$8:D$20) -> 0 | E21: =SUMPRODUCT($C$8:$C$20,E$8:E$20) -> 0 | F21: =SUMPRODUCT($C$8:$C$20,F$8:F$20) -> 0 | G21: =SUMPRODUCT($C$8:$C$20,G$8:G$20) -> 0 | H21: =SUMPRODUCT($C$8:$C$20,H$8:H$20) -> 0 | I21: =SUMPRODUCT($C$8:$C$20,I$8:I$20) -> 0 | J21: =SUMPRODUCT($C$8:$C$20,J$8:J$20) -> 0 | K21: =SUMPRODUCT($C$8:$C$20,K$8:K$20) -> 0 | ... O21: =SUMPRODUCT($C$8:$C$20,O$8:O$20) -> 0

Sheet Billetage C03
D1: 1 | E1: 2 | F1: 3 | G1: 4 | H1: 5 | I1: 6 | J1: 7 | K1: 8 | L1: 9 | M1: 10 | N1: 11 | O1: 12
F2: ="CAISSE MAGASIN N°03 "&DOSSIER&" "&Exercice -> CAISSE MAGASIN N°03 GIPA SA 2016
A4: =SUMPRODUCT((D$1:O$1='PV DE CAISSE'!$A$1)*($C$8:$C$20='PV DE CAISSE'!$D36)*($D$8:$O$20)) -> 0
B6: Récapitulatif annuel des inventaires d'espèces en coffre fort Caisse n°3
B7: Unités | D7: =TEXT(EOMONTH(DATE(Exercice,COLUMN(A:A),1),0),"jj/mm/aaaa") -> 31/01/2016 | E7: =TEXT(EOMONTH(DATE(Exercice,COLUMN(B:B),1),0),"jj/mm/aaaa") -> 29/02/2016 | F7: =TEXT(EOMONTH(DATE(Exercice,COLUMN(C:C),1),0),"jj/mm/aaaa") -> 31/03/2016 | G7: =TEXT(EOMONTH(DATE(Exercice,COLUMN(D:D),1),0),"jj/mm/aaaa") -> 30/04/2016 | H7: =TEXT(EOMONTH(DATE(Exercice,COLUMN(E:E),1),0),"jj/mm/aaaa") -> 31/05/2016 | I7: =TEXT(EOMONTH(DATE(Exercice,COLUMN(F:F),1),0),"jj/mm/aaaa") -> 30/06/2016 | J7: =TEXT(EOMONTH(DATE(Exercice,COLUMN(G:G),1),0),"jj/mm/aaaa") -> 31/07/2016 | K7: =TEXT(EOMONTH(DATE(Exercice,COLUMN(H:H),1),0),"jj/mm/aaaa") -> 31/08/2016 | L7: =TEXT(EOMONTH(DATE(Exercice,COLUMN(I:I),1),0),"jj/mm/aaaa") -> 30/09/2016 | M7: =TEXT(EOMONTH(DATE(Exercice,COLUMN(J:J),1),0),"jj/mm/aaaa") -> 31/10/2016 | N7: =TEXT(EOMONTH(DATE(Exercice,COLUMN(K:K),1),0),"jj/mm/aaaa") -> 30/11/2016 | O7: =TEXT(EOMONTH(DATE(Exercice,COLUMN(L:L),1),0),"jj/mm/aaaa") -> 31/12/2016
B8: Billet de | C8: 10000
B9: Billet de | C9: 5000
B10: Billet de | C10: 2000
B11: Billet de | C11: 1000 | O11: 250
B12: Billet | C12: 500
B13: Pièce de | C13: 500
B14: Pièce | C14: 100
B15: Pièce | C15: 50
B16: Pièce | C16: 25
B17: Pièce | C17: 10
B18: Pièce | C18: 5
B19: Pièce | C19: 2
B20: Pièce | C20: 1
B21: Valeurs | D21: =SUMPRODUCT($C$8:$C$20,D$8:D$20) -> 0 | E21: =SUMPRODUCT($C$8:$C$20,E$8:E$20) -> 0 | F21: =SUMPRODUCT($C$8:$C$20,F$8:F$20) -> 0 | G21: =SUMPRODUCT($C$8:$C$20,G$8:G$20) -> 0 | H21: =SUMPRODUCT($C$8:$C$20,H$8:H$20) -> 0 | I21: =SUMPRODUCT($C$8:$C$20,I$8:I$20) -> 0 | J21: =SUMPRODUCT($C$8:$C$20,J$8:J$20) -> 0 | K21: =SUMPRODUCT($C$8:$C$20,K$8:K$20) -> 0 | ... O21: =SUMPRODUCT($C$8:$C$20,O$8:O$20) -> 250000
