Workbook

Sheet a1
C2: COVER | F2: TOTAL RAILS : | H2: =C6+#REF!+#REF! -> #REF! | K2: PROJECT NAME : | S2: DRAWING NAME :
D3: TOP | F3: TOTAL STUDS : | K3: CLIENT : | S3: DATE :
D4: BOTTOM
B6: TOTAL RAILS : | C6: =SUM(E5:X5) -> 0 | D6: =D12*SUM(D14:D33) -> 0 | E6: =E12*SUM(E14:E33) -> 0 | F6: =F12*SUM(F14:F33) -> 0 | G6: =G12*SUM(G14:G33) -> 0 | H6: =H12*SUM(H14:H33) -> 0 | I6: =I12*SUM(I14:I33) -> 0 | J6: =J12*SUM(J14:J33) -> 0 | K6: =K12*SUM(K14:K33) -> 0 | ... BU6: =BU12*SUM(BU14:BU33) -> 0
B7: DIAM STUDS : | D7: 1 | E7: 2 | F7: 3 | G7: 4 | H7: 5 | I7: 6
A8: SLAB | B8: STUD HEIGHT : | D8: =$A9-($C3+$C4) -> 0 | E8: =$A9-($C3+$C4) -> 0 | F8: =$A9-($C3+$C4) -> 0 | G8: =$A9-($C3+$C4) -> 0 | H8: =$A9-($C3+$C4) -> 0 | I8: =$A9-($C3+$C4) -> 0 | J8: =$A9-($C3+$C4) -> 0 | K8: =$A9-($C3+$C4) -> 0 | ... BU8: =$A9-($C3+$C4) -> 0
B9: QUANTITY OF STUD PER RAIL :
B10: END SPACING :
B11: SPACING BETWEEN STUDS :
B12: QUANTITY OF RAILS PER COLUMNS :
A13: PAGES | B13: LEVEL | C13: COL | D13: SR-1 | E13: SR-2 | F13: SR-3 | G13: SR-4 | H13: SR-5 | I13: SR-6 | J13: SR-7 | K13: SR-8 | L13: SR-9 | M13: SR-10 | N13: SR-11 | O13: SR-12 | P13: SR-13 | Q13: SR-14 | R13: SR-15 | S13: SR-16 | T13: SR-17 | U13: SR-18 | V13: SR-19 | W13: SR-20 | X13: SR-21 | Y13: SR-22 | Z13: SR-23 | AA13: SR-24 | AB13: SR-25 | AC13: SR-26 | AD13: SR-27 | AE13: SR-28 | AF13: SR-29 | AG13: SR-30 | AH13: SR-31 | AI13: SR-32 | AJ13: SR-33 | AK13: SR-34 | AL13: SR-35 | AM13: SR-36 | AN13: SR-37 | AO13: SR-38 | AP13: SR-39 | AQ13: SR-40 | AR13: SR-41 | AS13: SR-42 | AT13: SR-43 | AU13: SR-44 | AV13: SR-45 | AW13: SR-46 | AX13: SR-47 | AY13: SR-48 | AZ13: SR-49 | BA13: SR-50 | BB13: SR-51 | BC13: SR-52 | BD13: SR-53 | BE13: SR-54 | BF13: SR-55 | BG13: SR-56 | BH13: SR-57 | BI13: SR-58 | BJ13: SR-59 | BK13: SR-60 | BL13: SR-61 | BM13: SR-62 | BN13: SR-63 | BO13: SR-64 | BP13: SR-65 | BQ13: SR-66 | BR13: SR-67 | BS13: SR-68 | BT13: SR-69 | BU13: SR-70
C14: =SUM(D14:W14) -> 0
C15: =SUM(D15:W15) -> 0
C16: =SUM(D16:W16) -> 0
C17: =SUM(D17:W17) -> 0
C18: =SUM(D18:W18) -> 0
C19: =SUM(D19:W19) -> 0
C20: =SUM(D20:W20) -> 0
C21: =SUM(D21:W21) -> 0
C22: =SUM(D22:W22) -> 0
C23: =SUM(D23:W23) -> 0
C24: =SUM(D24:W24) -> 0
C25: =SUM(D25:W25) -> 0
... C33: =SUM(D33:W33) -> 0

Sheet Resultat
C4: DIAM STUDS | D4: STUD HEIGHT | E4: QUANTITY OF STUD PER RAIL | F4: END SPACING | G4: SPACING BETWEEN STUDS | H4: QUANTITY OF RAILS PER COLUMNS
B5: SR-1 | C5: =OFFSET('a1'!$D$7,,ROW()-5) -> 1 | D5: ='a1'!D8 -> 0
B6: SR-2 | C6: =OFFSET('a1'!$D$7,,ROW()-5) -> 2 | D6: ='a1'!E8 -> 0
B7: SR-3 | C7: =OFFSET('a1'!$D$7,,ROW()-5) -> 3 | D7: ='a1'!F8 -> 0
B8: SR-4 | C8: =OFFSET('a1'!$D$7,,ROW()-5) -> 4 | D8: ='a1'!G8 -> 0
B9: SR-5 | C9: =OFFSET('a1'!$D$7,,ROW()-5) -> 5 | D9: ='a1'!H8 -> 0
B10: SR-6 | C10: =OFFSET('a1'!$D$7,,ROW()-5) -> 6 | D10: ='a1'!I8 -> 0
B11: SR-7 | C11: =OFFSET('a1'!$D$7,,ROW()-5) -> 0 | D11: ='a1'!J8 -> 0
B12: SR-8 | C12: =OFFSET('a1'!$D$7,,ROW()-5) -> 0 | D12: ='a1'!K8 -> 0
B13: SR-9 | C13: =OFFSET('a1'!$D$7,,ROW()-5) -> 0 | D13: ='a1'!L8 -> 0
B14: SR-10 | C14: =OFFSET('a1'!$D$7,,ROW()-5) -> 0 | D14: ='a1'!M8 -> 0
B15: SR-11 | C15: =OFFSET('a1'!$D$7,,ROW()-5) -> 0 | D15: ='a1'!N8 -> 0
B16: SR-12 | C16: =OFFSET('a1'!$D$7,,ROW()-5) -> 0 | D16: ='a1'!O8 -> 0
B17: SR-13 | C17: =OFFSET('a1'!$D$7,,ROW()-5) -> 0 | D17: ='a1'!P8 -> 0
B18: SR-14 | C18: =OFFSET('a1'!$D$7,,ROW()-5) -> 0 | D18: ='a1'!Q8 -> 0
B19: SR-15 | C19: =OFFSET('a1'!$D$7,ROW()-5,) -> 0 | D19: ='a1'!R8 -> 0
B20: SR-16 | C20: =OFFSET('a1'!$D$7,ROW()-5,) -> 0 | D20: ='a1'!S8 -> 0
B21: SR-17 | C21: ='a1'!T7 -> 0 | D21: ='a1'!T8 -> 0
B22: SR-18 | C22: ='a1'!U7 -> 0 | D22: ='a1'!U8 -> 0
B23: SR-19 | C23: ='a1'!V7 -> 0 | D23: ='a1'!V8 -> 0
B24: SR-20 | C24: ='a1'!W7 -> 0 | D24: ='a1'!W8 -> 0
B25: SR-21 | C25: ='a1'!X7 -> 0 | D25: ='a1'!X8 -> 0
B26: SR-22 | C26: ='a1'!Y7 -> 0 | D26: ='a1'!Y8 -> 0
B27: SR-23 | C27: ='a1'!Z7 -> 0 | D27: ='a1'!Z8 -> 0
B28: SR-24 | C28: ='a1'!AA7 -> 0 | D28: ='a1'!AA8 -> 0
B29: SR-25 | C29: ='a1'!AB7 -> 0 | D29: ='a1'!AB8 -> 0
B30: SR-26 | C30: ='a1'!AC7 -> 0 | D30: ='a1'!AC8 -> 0
B31: SR-27 | C31: ='a1'!AD7 -> 0 | D31: ='a1'!AD8 -> 0
B32: SR-28 | C32: ='a1'!AE7 -> 0 | D32: ='a1'!AE8 -> 0
B33: SR-29 | C33: ='a1'!AF7 -> 0 | D33: ='a1'!AF8 -> 0
B34: SR-30 | C34: ='a1'!AG7 -> 0 | D34: ='a1'!AG8 -> 0
B35: SR-31 | C35: ='a1'!AH7 -> 0 | D35: ='a1'!AH8 -> 0
B36: SR-32 | C36: ='a1'!AI7 -> 0 | D36: ='a1'!AI8 -> 0
B37: SR-33 | C37: ='a1'!AJ7 -> 0 | D37: ='a1'!AJ8 -> 0
B38: SR-34 | C38: ='a1'!AK7 -> 0 | D38: ='a1'!AK8 -> 0
B39: SR-35 | C39: ='a1'!AL7 -> 0 | D39: ='a1'!AL8 -> 0
B40: SR-36 | C40: ='a1'!AM7 -> 0 | D40: ='a1'!AM8 -> 0
B41: SR-37 | C41: ='a1'!AN7 -> 0 | D41: ='a1'!AN8 -> 0
B42: SR-38 | C42: ='a1'!AO7 -> 0 | D42: ='a1'!AO8 -> 0
B43: SR-39 | C43: ='a1'!AP7 -> 0 | D43: ='a1'!AP8 -> 0
...
