Workbook
Name hameau: Tableau7[[#All],[hameau]]
Name pavillon_est: Tableau6[[#All],[pavillon est]]
Name pavillon_ouest: Tableau5[[#All],[pavillon ouest]]
Name périurbain: Tableau4[[#All],[périurbain]]
Name saragosse: Tableau3[[#All],[saragosse]]
Name secteur: Tableau1[[#All],[secteur]]
Name urbain: Tableau2[[#All],[urbain]]

Sheet données
E5: UTILISATION | F5: OBTENTION | G5: FOURNISSEUR | H5: QUANTITÉ | I5: QUANTITÉ | J5: QUANTITÉ | K5: QUANTITÉ | L5: QUANTITÉ | M5: QUANTITÉ | N5: QUANTITÉ | O5: QUANTITÉ | AC5: TEMPERATURE
A6: HAUT | B6: BAS | E6: couvre Sol | F6: Jeunes plant | H6: plaques | I6: massif | J6: massif | K6: hors sol | L6: deco | M6: essai | N6: don | O6: Plus 10% | P6: semaine livraison jeune plant | AB6: pot | AH6: Square George v Massif rond 38m² | AI6: Square George v Contour | AJ6: Plate bande Aragon 104 m2 | AK6: Bd des pyrénées | AL6: Fontaine de Vigny 48m² | AM6: Place Clémenceau 400m² | AN6: MonumentST Martin 7m² | AO6: Junipérus 25m² | AP6: Funiculaire 17m² | AQ6: Monnaie Château 16m² | AR6: Monnaie Grille 10m² | AS6: feux Monnaie 12m² | AT6: Jardinières Cassin | AU6: Jardinières ACBB | AV6: Jardinières Parking Gare | AW6: Palais beaumont 110m² | AX6: St Criq 38m² | AY6: Femme au Puit 14m² | AZ6: Villa St Basils Entrée 48m² | BA6: St Basils Terrasse 22m² | BB6: St Basils massif Du fond 20m² | BC6: D'Artagnan 18m² | BD6: Statue Foch 47m² | BE6: Stèle Wright | BF6: Rue Emile guichené Jardinères | BG6: St JACQUE YOAN 10M² | BH6: beaumont Parc | BJ6: PLACE ALBERT 1ER 55M² | BK6: MARCA ETTIGNY 65M² | BL6: PARC LAWRENCE 12M² | BM6: Eglise St Joseph 18m² | BN6: Place du Foirial 28m² | BO6: Foire massif +jardinières | BP6: Jardinières Gassiot Montpensier | BQ6: Massif entrée Cours Camou | BR6: place Gramont 120m² | BS6: Lawrence Av de la Résistance | BT6: Carré Parc Lawrence | BV6: RP Mitterrand 80m² | BW6: Olof Palme | BX6: Bd de la Paix angle Montardon19m² | BY6: RP ATTIGNY | BZ6: RP | CA6: Berlioz centre Commercial 6m² | CB6: Mermoz angle Bd Paix resto 3m² | CC6: Ecole lilas 7M² +10 petites jds | CD6: Ecole Lavigne 10m² + jds | CE6: Ecole hippodrome 5m² + 22 jds | CG6: RP Mouchotte 85m² | CH6: Rp Yitzhat Rabin 165 m2 | CI6: Allées de Morlaas 28m² | CJ6: Formose | CL6: Peyroulet 32m² | CM6: Rp Droit de L'Homme 130 m2 | CO6: divers
A7: DESIGNATION | B7: COULEUR | C7: HAUTEUR | D7: PRODUCTION | E7: vivaces | F7: semis | I7: e,frere | P7: 4 | Q7: 6 | R7: 8 | S7: 10 | T7: 12 | U7: 14 | V7: 17 | W7: 19 | X7: 20 | Y7: 21 | Z7: total | AA7: reliquat | AC7: semis | AD7: culture | AE7: observation | AF7: arrosage | AG7: URBAIN | BI7: PERI URBAIN | BU7: pavillon ouest | CF7: PAVILLON EST | CK7: SARAGOSSE | CN7: HAMEAU | CP7: TOTAUX
A8: abutilon Souvenir de bonn Orange | C8: 90-100 | D8: =O8 -> 0 | I8: =CP8 -> 0 | O8: =SUM(I8:N8)*1.1 -> 0 | Z8: =SUM(P8:Y8) -> 0 | AB8: 12 | AE8: Semis 02-03,3-4 mois de culture | AF8: moderé | AG8: =SUM(AH8:BH8) -> 0 | BI8: =SUM(BJ8:BT8) -> 0 | BU8: =SUM(BV8:CE8) -> 0 | CF8: =SUM(CG8:CJ8) -> 0 | CK8: =SUM(CL8:CM8) -> 0 | CN8: =SUM(CO8:CO8) -> 0 | CP8: =SUM(CN8,CK8,CF8,BU8,AG8,BI8) -> 0
A9: abutilon feuille panaché jaune rouge | C9: 120 | D9: =O9 -> 0 | I9: =CP9 -> 0 | O9: =SUM(I9:N9)*1.1 -> 0 | Z9: =SUM(P9:Y9) -> 0 | AC9: 18 | AD9: 12 | AE9: Semis 03-05 / germination 14/20 jours | AG9: =SUM(AH9:BH9) -> 0 | BI9: =SUM(BJ9:BT9) -> 0 | BU9: =SUM(BV9:CE9) -> 0 | CF9: =SUM(CG9:CJ9) -> 0 | CK9: =SUM(CL9:CM9) -> 0 | CN9: =SUM(CO9:CO9) -> 0 | CP9: =SUM(CN9,CK9,CF9,BU9,AG9,BI9) -> 0
A10: agastache foeniculum² ' Little adder ' bleu | C10: 40-50 | D10: =O10 -> 0 | I10: =CP10 -> 0 | O10: =SUM(I10:N10)*1.1 -> 0 | Z10: =SUM(P10:Y10) -> 0 | AG10: =SUM(AH10:BH10) -> 0 | BI10: =SUM(BJ10:BT10) -> 0 | BU10: =SUM(BV10:CE10) -> 0 | CF10: =SUM(CG10:CJ10) -> 0 | CK10: =SUM(CL10:CM10) -> 0 | CN10: =SUM(CO10:CO10) -> 0 | CP10: =SUM(CN10,CK10,CF10,BU10,AG10,BI10) -> 0
A11: agastache Aurantiaca . ' citronnade ' jaune | C11: 50-60 | D11: =O11 -> 0 | I11: =CP11 -> 0 | O11: =SUM(I11:N11)*1.1 -> 0 | Z11: =SUM(P11:Y11) -> 0 | AG11: =SUM(AH11:BH11) -> 0 | BI11: =SUM(BJ11:BT11) -> 0 | BU11: =SUM(BV11:CE11) -> 0 | CF11: =SUM(CG11:CJ11) -> 0 | CK11: =SUM(CL11:CM11) -> 0 | CN11: =SUM(CO11:CO11) -> 0 | CP11: =SUM(CN11,CK11,CF11,BU11,AG11,BI11) -> 0
A12: agastache Aurantiaca . ' Orangeade ' orange | C12: 50-60 | D12: =O12 -> 0 | I12: =CP12 -> 0 | O12: =SUM(I12:N12)*1.1 -> 0 | Z12: =SUM(P12:Y12) -> 0 | AG12: =SUM(AH12:BH12) -> 0 | BI12: =SUM(BJ12:BT12) -> 0 | BU12: =SUM(BV12:CE12) -> 0 | CF12: =SUM(CG12:CJ12) -> 0 | CK12: =SUM(CL12:CM12) -> 0 | CN12: =SUM(CO12:CO12) -> 0 | CP12: =SUM(CN12,CK12,CF12,BU12,AG12,BI12) -> 0
A13: agastache Aurantiaca . ' kudos ' silver blue bleu | C13: 30-40 | D13: =O13 -> 0 | I13: =CP13 -> 0 | O13: =SUM(I13:N13)*1.1 -> 0 | Z13: =SUM(P13:Y13) -> 0 | AG13: =SUM(AH13:BH13) -> 0 | BI13: =SUM(BJ13:BT13) -> 0 | BU13: =SUM(BV13:CE13) -> 0 | CF13: =SUM(CG13:CJ13) -> 0 | CK13: =SUM(CL13:CM13) -> 0 | CN13: =SUM(CO13:CO13) -> 0 | CP13: =SUM(CN13,CK13,CF13,BU13,AG13,BI13) -> 0
A14: agastache Aurantiaca . ' kudos ' Mandarin orange | C14: 30-40 | D14: =O14 -> 0 | I14: =CP14 -> 0 | O14: =SUM(I14:N14)*1.1 -> 0 | Z14: =SUM(P14:Y14) -> 0 | AB14: 12 | AG14: =SUM(AH14:BH14) -> 0 | BI14: =SUM(BJ14:BT14) -> 0 | BU14: =SUM(BV14:CE14) -> 0 | CF14: =SUM(CG14:CJ14) -> 0 | CK14: =SUM(CL14:CM14) -> 0 | CN14: =SUM(CO14:CO14) -> 0 | CP14: =SUM(CN14,CK14,CF14,BU14,AG14,BI14) -> 0
A15: agastache Aurantiaca . ' kudos ' Coral rouge | C15: 30-40 | D15: =O15 -> 0 | I15: =CP15 -> 0 | O15: =SUM(I15:N15)*1.1 -> 0 | Z15: =SUM(P15:Y15) -> 0 | AC15: 15 | AE15: Semis 03 en godet,germination 7/14 jours | AG15: =SUM(AH15:BH15) -> 0 | BI15: =SUM(BJ15:BT15) -> 0 | BU15: =SUM(BV15:CE15) -> 0 | CF15: =SUM(CG15:CJ15) -> 0 | CK15: =SUM(CL15:CM15) -> 0 | CN15: =SUM(CO15:CO15) -> 0 | CP15: =SUM(CN15,CK15,CF15,BU15,AG15,BI15) -> 0
A16: agastache Aurantiaca . ' kudos ' yellow jaune | C16: 30-40 | D16: =O16 -> 0 | I16: =CP16 -> 0 | O16: =SUM(I16:N16)*1.1 -> 0 | Z16: =SUM(P16:Y16) -> 0 | AC16: 18 | AD16: 12 | AE16: semis 03-06,floraison 05-09 | AG16: =SUM(AH16:BH16) -> 0 | BI16: =SUM(BJ16:BT16) -> 0 | BU16: =SUM(BV16:CE16) -> 0 | CF16: =SUM(CG16:CJ16) -> 0 | CK16: =SUM(CL16:CM16) -> 0 | CN16: =SUM(CO16:CO16) -> 0 | CP16: =SUM(CN16,CK16,CF16,BU16,AG16,BI16) -> 0
A17: agastache Urticifolia . Top white blanc | C17: 70 | D17: =O17 -> 0 | I17: =CP17 -> 0 | O17: =SUM(I17:N17)*1.1 -> 0 | Z17: =SUM(P17:Y17) -> 0 | AG17: =SUM(AH17:BH17) -> 0 | BI17: =SUM(BJ17:BT17) -> 0 | BU17: =SUM(BV17:CE17) -> 0 | CF17: =SUM(CG17:CJ17) -> 0 | CK17: =SUM(CL17:CM17) -> 0 | CN17: =SUM(CO17:CO17) -> 0 | CP17: =SUM(CN17,CK17,CF17,BU17,AG17,BI17) -> 0
A18: agastache Urticifolia . Top blue ' Coerulea bleu ( top bleu ) bleu violet | C18: 70 | D18: =O18 -> 0 | I18: =CP18 -> 0 | O18: =SUM(I18:N18)*1.1 -> 0 | Z18: =SUM(P18:Y18) -> 0 | AG18: =SUM(AH18:BH18) -> 0 | BI18: =SUM(BJ18:BT18) -> 0 | BU18: =SUM(BV18:CE18) -> 0 | CF18: =SUM(CG18:CJ18) -> 0 | CK18: =SUM(CL18:CM18) -> 0 | CN18: =SUM(CO18:CO18) -> 0 | CP18: =SUM(CN18,CK18,CF18,BU18,AG18,BI18) -> 0
A19: agastache Astromontana . pink pop rose lavande | C19: 40 | D19: =O19 -> 0 | I19: =CP19 -> 0 | O19: =SUM(I19:N19)*1.1 -> 0 | Z19: =SUM(P19:Y19) -> 0 | AG19: =SUM(AH19:BH19) -> 0 | BI19: =SUM(BJ19:BT19) -> 0 | BU19: =SUM(BV19:CE19) -> 0 | CF19: =SUM(CG19:CJ19) -> 0 | CK19: =SUM(CL19:CM19) -> 0 | CN19: =SUM(CO19:CO19) -> 0 | CP19: =SUM(CN19,CK19,CF19,BU19,AG19,BI19) -> 0
A20: agastache Cana . heather Queen rose | C20: 50-60 | D20: =O20 -> 0 | I20: =CP20 -> 0 | O20: =SUM(I20:N20)*1.1 -> 0 | Z20: =SUM(P20:Y20) -> 0 | AG20: =SUM(AH20:BH20) -> 0 | BI20: =SUM(BJ20:BT20) -> 0 | BU20: =SUM(BV20:CE20) -> 0 | CF20: =SUM(CG20:CJ20) -> 0 | CK20: =SUM(CL20:CM20) -> 0 | CN20: =SUM(CO20:CO20) -> 0 | CP20: =SUM(CN20,CK20,CF20,BU20,AG20,BI20) -> 0
A21: agastache foenic. golden jubilee lavande | C21: 45-50 | D21: =O21 -> 0 | I21: =CP21 -> 0 | O21: =SUM(I21:N21)*1.1 -> 0 | Z21: =SUM(P21:Y21) -> 0 | AG21: =SUM(AH21:BH21) -> 0 | BI21: =SUM(BJ21:BT21) -> 0 | BU21: =SUM(BV21:CE21) -> 0 | CF21: =SUM(CG21:CJ21) -> 0 | CK21: =SUM(CL21:CM21) -> 0 | CN21: =SUM(CO21:CO21) -> 0 | CP21: =SUM(CN21,CK21,CF21,BU21,AG21,BI21) -> 0
A22: agastache ville de bourg la reine rose | C22: 70-80 | D22: =O22 -> 0 | I22: =CP22 -> 0 | O22: =SUM(I22:N22)*1.1 -> 0 | Z22: =SUM(P22:Y22) -> 0 | AC22: 18 | AD22: 15 | AE22: semis 03-05,plantation 20x25 | AG22: =SUM(AH22:BH22) -> 0 | BI22: =SUM(BJ22:BT22) -> 0 | BU22: =SUM(BV22:CE22) -> 0 | CF22: =SUM(CG22:CJ22) -> 0 | CK22: =SUM(CL22:CM22) -> 0 | CN22: =SUM(CO22:CO22) -> 0 | CP22: =SUM(CN22,CK22,CF22,BU22,AG22,BI22) -> 0
A23: agastache Aurant . Arizona Sun f1 orange | C23: 25-30 | D23: =O23 -> 0 | I23: =CP23 -> 0 | O23: =SUM(I23:N23)*1.1 -> 0 | Z23: =SUM(P23:Y23) -> 0 | AG23: =SUM(AH23:BH23) -> 0 | BI23: =SUM(BJ23:BT23) -> 0 | BU23: =SUM(BV23:CE23) -> 0 | CF23: =SUM(CG23:CJ23) -> 0 | CK23: =SUM(CL23:CM23) -> 0 | CN23: =SUM(CO23:CO23) -> 0 | CP23: =SUM(CN23,CK23,CF23,BU23,AG23,BI23) -> 0
A24: agastache Aurantiaca Agadir rose rose | C24: 40 | D24: =O24 -> 0 | I24: =CP24 -> 0 | O24: =SUM(I24:N24)*1.1 -> 0 | Z24: =SUM(P24:Y24) -> 0 | AG24: =SUM(AH24:BH24) -> 0 | BI24: =SUM(BJ24:BT24) -> 0 | BU24: =SUM(BV24:CE24) -> 0 | CF24: =SUM(CG24:CJ24) -> 0 | CK24: =SUM(CL24:CM24) -> 0 | CN24: =SUM(CO24:CO24) -> 0 | CP24: =SUM(CN24,CK24,CF24,BU24,AG24,BI24) -> 0
A25: agastache Aurantiaca Agadir jaune jaune | C25: 40 | D25: =O25 -> 0 | I25: =CP25 -> 0 | O25: =SUM(I25:N25)*1.1 -> 0 | Z25: =SUM(P25:Y25) -> 0 | AG25: =SUM(AH25:BH25) -> 0 | BI25: =SUM(BJ25:BT25) -> 0 | BU25: =SUM(BV25:CE25) -> 0 | CF25: =SUM(CG25:CJ25) -> 0 | CK25: =SUM(CL25:CM25) -> 0 | CN25: =SUM(CO25:CO25) -> 0 | CP25: =SUM(CN25,CK25,CF25,BU25,AG25,BI25) -> 0
A26: agastache ville de bourg la reine yellow | C26: 70-80 | D26: =O26 -> 0 | I26: =CP26 -> 0 | O26: =SUM(I26:N26)*1.1 -> 0 | Z26: =SUM(P26:Y26) -> 0 | AB26: 12 | AC26: 20 | AD26: 14 | AE26: Semis 01-05 2-3 mois de culture | AG26: =SUM(AH26:BH26) -> 0 | BI26: =SUM(BJ26:BT26) -> 0 | BU26: =SUM(BV26:CE26) -> 0 | CF26: =SUM(CG26:CJ26) -> 0 | CK26: =SUM(CL26:CM26) -> 0 | CN26: =SUM(CO26:CO26) -> 0 | CP26: =SUM(CN26,CK26,CF26,BU26,AG26,BI26) -> 0
A27: agératum ville d' Angers bleu | C27: 30-35 | D27: =O27 -> 0 | I27: =CP27 -> 0 | O27: =SUM(I27:N27)*1.1 -> 0 | Z27: =SUM(P27:Y27) -> 0 | AB27: 12 | AD27: 14 | AE27: Vivace -7 | AG27: =SUM(AH27:BH27) -> 0 | BI27: =SUM(BJ27:BT27) -> 0 | BU27: =SUM(BV27:CE27) -> 0 | CF27: =SUM(CG27:CJ27) -> 0 | CK27: =SUM(CL27:CM27) -> 0 | CN27: =SUM(CO27:CO27) -> 0 | CP27: =SUM(CN27,CK27,CF27,BU27,AG27,BI27) -> 0
A28: agératum blue planet bleu | C28: 60-70 | D28: =O28 -> 0 | I28: =CP28 -> 0 | O28: =SUM(I28:N28)*1.1 -> 0 | Z28: =SUM(P28:Y28) -> 0 | AB28: 12 | AD28: 14 | AG28: =SUM(AH28:BH28) -> 0 | BI28: =SUM(BJ28:BT28) -> 0 | BU28: =SUM(BV28:CE28) -> 0 | CF28: =SUM(CG28:CJ28) -> 0 | CK28: =SUM(CL28:CM28) -> 0 | CN28: =SUM(CO28:CO28) -> 0 | CP28: =SUM(CN28,CK28,CF28,BU28,AG28,BI28) -> 0
A29: agératum White alp blanc | C29: 60-70 | D29: =O29 -> 0 | I29: =CP29 -> 0 | O29: =SUM(I29:N29)*1.1 -> 0 | Z29: =SUM(P29:Y29) -> 0 | AG29: =SUM(AH29:BH29) -> 0 | BI29: =SUM(BJ29:BT29) -> 0 | BU29: =SUM(BV29:CE29) -> 0 | CF29: =SUM(CG29:CJ29) -> 0 | CK29: =SUM(CL29:CM29) -> 0 | CN29: =SUM(CO29:CO29) -> 0 | CP29: =SUM(CN29,CK29,CF29,BU29,AG29,BI29) -> 0
A30: agératum red flint rouge vineux /violet | C30: 60-70 | D30: =O30 -> 0 | I30: =CP30 -> 0 | O30: =SUM(I30:N30)*1.1 -> 0 | Z30: =SUM(P30:Y30) -> 0 | AG30: =SUM(AH30:BH30) -> 0 | BI30: =SUM(BJ30:BT30) -> 0 | BU30: =SUM(BV30:CE30) -> 0 | CF30: =SUM(CG30:CJ30) -> 0 | CK30: =SUM(CL30:CM30) -> 0 | CN30: =SUM(CO30:CO30) -> 0 | CP30: =SUM(CN30,CK30,CF30,BU30,AG30,BI30) -> 0
A31: alocasia calidora dwarf feuillage vert | C31: 100-150 | D31: =O31 -> 0 | I31: =CP31 -> 0 | O31: =SUM(I31:N31)*1.1 -> 0 | Z31: =SUM(P31:Y31) -> 0 | AG31: =SUM(AH31:BH31) -> 0 | BI31: =SUM(BJ31:BT31) -> 0 | BU31: =SUM(BV31:CE31) -> 0 | CF31: =SUM(CG31:CJ31) -> 0 | CK31: =SUM(CL31:CM31) -> 0 | CN31: =SUM(CO31:CO31) -> 0 | CP31: =SUM(CN31,CK31,CF31,BU31,AG31,BI31) -> 0
A32: acalypha wilkesiana Mosaic feuillage cuivré | C32: 50-60 | D32: =O32 -> 0 | I32: =CP32 -> 0 | O32: =SUM(I32:N32)*1.1 -> 0 | Z32: =SUM(P32:Y32) -> 0 | AG32: =SUM(AH32:BH32) -> 0 | BI32: =SUM(BJ32:BT32) -> 0 | BU32: =SUM(BV32:CE32) -> 0 | CF32: =SUM(CG32:CJ32) -> 0 | CK32: =SUM(CL32:CM32) -> 0 | CN32: =SUM(CO32:CO32) -> 0 | CP32: =SUM(CN32,CK32,CF32,BU32,AG32,BI32) -> 0
A33: acalypha wilkesiana red feuillage vert cuivré b crème | C33: 30/40 | D33: =O33 -> 0 | I33: =CP33 -> 0 | O33: =SUM(I33:N33)*1.1 -> 0 | Z33: =SUM(P33:Y33) -> 0 | AG33: =SUM(AH33:BH33) -> 0 | BI33: =SUM(BJ33:BT33) -> 0 | BU33: =SUM(BV33:CE33) -> 0 | CF33: =SUM(CG33:CJ33) -> 0 | CK33: =SUM(CL33:CM33) -> 0 | CN33: =SUM(CO33:CO33) -> 0 | CP33: =SUM(CN33,CK33,CF33,BU33,AG33,BI33) -> 0
A34: acalypha Gibraltar feuillage vert jaune | C34: 60-80 | D34: =O34 -> 0 | I34: =CP34 -> 0 | O34: =SUM(I34:N34)*1.1 -> 0 | Z34: =SUM(P34:Y34) -> 0 | AG34: =SUM(AH34:BH34) -> 0 | BI34: =SUM(BJ34:BT34) -> 0 | BU34: =SUM(BV34:CE34) -> 0 | CF34: =SUM(CG34:CJ34) -> 0 | CK34: =SUM(CL34:CM34) -> 0 | CN34: =SUM(CO34:CO34) -> 0 | CP34: =SUM(CN34,CK34,CF34,BU34,AG34,BI34) -> 0
A35: acalypha obovata feuillage ocre brun et terre cuite | C35: 60-80 | D35: =O35 -> 0 | I35: =CP35 -> 0 | O35: =SUM(I35:N35)*1.1 -> 0 | Z35: =SUM(P35:Y35) -> 0 | AG35: =SUM(AH35:BH35) -> 0 | BI35: =SUM(BJ35:BT35) -> 0 | BU35: =SUM(BV35:CE35) -> 0 | CF35: =SUM(CG35:CJ35) -> 0 | CK35: =SUM(CL35:CM35) -> 0 | CN35: =SUM(CO35:CO35) -> 0 | CP35: =SUM(CN35,CK35,CF35,BU35,AG35,BI35) -> 0
A36: Acanthe mexicana ' feuillage vert foncé veinées de blanc ' rose violet | C36: 150 | D36: =O36 -> 0 | I36: =CP36 -> 0 | O36: =SUM(I36:N36)*1.1 -> 0 | Z36: =SUM(P36:Y36) -> 0 | AG36: =SUM(AH36:BH36) -> 0 | BI36: =SUM(BJ36:BT36) -> 0 | BU36: =SUM(BV36:CE36) -> 0 | CF36: =SUM(CG36:CJ36) -> 0 | CK36: =SUM(CL36:CM36) -> 0 | CN36: =SUM(CO36:CO36) -> 0 | CP36: =SUM(CN36,CK36,CF36,BU36,AG36,BI36) -> 0
A37: alstroemeria Summer breeze ® Jaune strié | C37: 50 | D37: =O37 -> 0 | I37: =CP37 -> 0 | O37: =SUM(I37:N37)*1.1 -> 0 | Z37: =SUM(P37:Y37) -> 0 | AG37: =SUM(AH37:BH37) -> 0 | BI37: =SUM(BJ37:BT37) -> 0 | BU37: =SUM(BV37:CE37) -> 0 | CF37: =SUM(CG37:CJ37) -> 0 | CK37: =SUM(CL37:CM37) -> 0 | CN37: =SUM(CO37:CO37) -> 0 | CP37: =SUM(CN37,CK37,CF37,BU37,AG37,BI37) -> 0
A38: alstroemeria Indian summer ® jaune orange strié | C38: 60-70 | D38: =O38 -> 0 | I38: =CP38 -> 0 | O38: =SUM(I38:N38)*1.1 -> 0 | Z38: =SUM(P38:Y38) -> 0 | AG38: =SUM(AH38:BH38) -> 0 | BI38: =SUM(BJ38:BT38) -> 0 | BU38: =SUM(BV38:CE38) -> 0 | CF38: =SUM(CG38:CJ38) -> 0 | CK38: =SUM(CL38:CM38) -> 0 | CN38: =SUM(CO38:CO38) -> 0 | CP38: =SUM(CN38,CK38,CF38,BU38,AG38,BI38) -> 0
A39: alstroemeria summer Saint ® rose mauve | C39: 80 | D39: =O39 -> 0 | I39: =CP39 -> 0 | O39: =SUM(I39:N39)*1.1 -> 0 | Z39: =SUM(P39:Y39) -> 0 | AB39: 11 | AC39: 22 | AD39: 18 | AE39: Semis 01 pour flo en 05,4 mois de culture,ne pas recouvrir les gn | AG39: =SUM(AH39:BH39) -> 0 | BI39: =SUM(BJ39:BT39) -> 0 | BU39: =SUM(BV39:CE39) -> 0 | CF39: =SUM(CG39:CJ39) -> 0 | CK39: =SUM(CL39:CM39) -> 0 | CN39: =SUM(CO39:CO39) -> 0 | CP39: =SUM(CN39,CK39,CF39,BU39,AG39,BI39) -> 0
A40: alternanthera purple knight rouge | C40: 40-50 | D40: =O40 -> 0 | I40: =CP40 -> 0 | O40: =SUM(I40:N40)*1.1 -> 0 | Z40: =SUM(P40:Y40) -> 0 | AG40: =SUM(AH40:BH40) -> 0 | BI40: =SUM(BJ40:BT40) -> 0 | BU40: =SUM(BV40:CE40) -> 0 | CF40: =SUM(CG40:CJ40) -> 0 | CK40: =SUM(CL40:CM40) -> 0 | CN40: =SUM(CO40:CO40) -> 0 | CP40: =SUM(CN40,CK40,CF40,BU40,AG40,BI40) -> 0
A41: alternanthera Party time vert rose | C41: 50 | D41: =O41 -> 0 | I41: =CP41 -> 0 | O41: =SUM(I41:N41)*1.1 -> 0 | Z41: =SUM(P41:Y41) -> 0 | AB41: 13 | AC41: 20 | AD41: 16 | AE41: Semis 02-05 ,3 mois de culture,flo 06-08 | AG41: =SUM(AH41:BH41) -> 0 | BI41: =SUM(BJ41:BT41) -> 0 | BU41: =SUM(BV41:CE41) -> 0 | CF41: =SUM(CG41:CJ41) -> 0 | CK41: =SUM(CL41:CM41) -> 0 | CN41: =SUM(CO41:CO41) -> 0 | CP41: =SUM(CN41,CK41,CF41,BU41,AG41,BI41) -> 0
A42: amarante Caudatus queue verte 'viridis' vert | C42: 100/120 | D42: =O42 -> 0 | I42: =CP42 -> 0 | O42: =SUM(I42:N42)*1.1 -> 0 | Z42: =SUM(P42:Y42) -> 0 | AG42: =SUM(AH42:BH42) -> 0 | BI42: =SUM(BJ42:BT42) -> 0 | BU42: =SUM(BV42:CE42) -> 0 | CF42: =SUM(CG42:CJ42) -> 0 | CK42: =SUM(CL42:CM42) -> 0 | CN42: =SUM(CO42:CO42) -> 0 | CP42: =SUM(CN42,CK42,CF42,BU42,AG42,BI42) -> 0
A43: amarante Caudatus 'queue de renard ' rouge | C43: 80 | D43: =O43 -> 0 | I43: =CP43 -> 0 | O43: =SUM(I43:N43)*1.1 -> 0 | Z43: =SUM(P43:Y43) -> 0 | AG43: =SUM(AH43:BH43) -> 0 | BI43: =SUM(BJ43:BT43) -> 0 | BU43: =SUM(BV43:CE43) -> 0 | CF43: =SUM(CG43:CJ43) -> 0 | CK43: =SUM(CL43:CM43) -> 0 | CN43: =SUM(CO43:CO43) -> 0 | CP43: =SUM(CN43,CK43,CF43,BU43,AG43,BI43) -> 0
A44: amarante paniculée 'hot biscuits ' bronze | C44: 100/120 | D44: =O44 -> 0 | I44: =CP44 -> 0 | O44: =SUM(I44:N44)*1.1 -> 0 | Z44: =SUM(P44:Y44) -> 0 | AB44: 13 | AC44: 15 | AD44: 12 | AE44: Semis 03 ou 04-05 pleine terre,germination 7-14 jours | AG44: =SUM(AH44:BH44) -> 0 | BI44: =SUM(BJ44:BT44) -> 0 | BU44: =SUM(BV44:CE44) -> 0 | CF44: =SUM(CG44:CJ44) -> 0 | CK44: =SUM(CL44:CM44) -> 0 | CN44: =SUM(CO44:CO44) -> 0 | CP44: =SUM(CN44,CK44,CF44,BU44,AG44,BI44) -> 0
A45: amarante paniculée 'velvet curtains ' rouge velours | C45: 150 | D45: =O45 -> 0 | I45: =CP45 -> 0 | O45: =SUM(I45:N45)*1.1 -> 0 | Z45: =SUM(P45:Y45) -> 0 | AB45: 13 | AC45: 15 | AD45: 12 | AE45: Semis 03 ou 04-05 pleine terre,germination 7-14 jours | AG45: =SUM(AH45:BH45) -> 0 | BI45: =SUM(BJ45:BT45) -> 0 | BU45: =SUM(BV45:CE45) -> 0 | CF45: =SUM(CG45:CJ45) -> 0 | CK45: =SUM(CL45:CM45) -> 0 | CN45: =SUM(CO45:CO45) -> 0 | CP45: =SUM(CN45,CK45,CF45,BU45,AG45,BI45) -> 0
A46: amarante tricolor early splendor rouge | C46: 60/80 | D46: =O46 -> 0 | I46: =CP46 -> 0 | O46: =SUM(I46:N46)*1.1 -> 0 | Z46: =SUM(P46:Y46) -> 0 | AG46: =SUM(AH46:BH46) -> 0 | BI46: =SUM(BJ46:BT46) -> 0 | BU46: =SUM(BV46:CE46) -> 0 | CF46: =SUM(CG46:CJ46) -> 0 | CK46: =SUM(CL46:CM46) -> 0 | CN46: =SUM(CO46:CO46) -> 0 | CP46: =SUM(CN46,CK46,CF46,BU46,AG46,BI46) -> 0
A47: amarante paniculée 'Oechsberg' rouge | C47: 75-80 | D47: =O47 -> 0 | I47: =CP47 -> 0 | O47: =SUM(I47:N47)*1.1 -> 0 | Z47: =SUM(P47:Y47) -> 0 | AG47: =SUM(AH47:BH47) -> 0 | BI47: =SUM(BJ47:BT47) -> 0 | BU47: =SUM(BV47:CE47) -> 0 | CF47: =SUM(CG47:CJ47) -> 0 | CK47: =SUM(CL47:CM47) -> 0 | CN47: =SUM(CO47:CO47) -> 0 | CP47: =SUM(CN47,CK47,CF47,BU47,AG47,BI47) -> 0
A48: amarante Splendens perfecta rouge jaune vert | C48: 80 | D48: =O48 -> 0 | I48: =CP48 -> 0 | O48: =SUM(I48:N48)*1.1 -> 0 | Z48: =SUM(P48:Y48) -> 0 | AB48: 12 | AC48: 18 | AD48: 16 | AE48: Semis 01-04,7-14 jours de germination | AG48: =SUM(AH48:BH48) -> 0 | BI48: =SUM(BJ48:BT48) -> 0 | BU48: =SUM(BV48:CE48) -> 0 | CF48: =SUM(CG48:CJ48) -> 0 | CK48: =SUM(CL48:CM48) -> 0 | CN48: =SUM(CO48:CO48) -> 0 | CP48: =SUM(CN48,CK48,CF48,BU48,AG48,BI48) -> 0
A49: amni visnaga blanc | C49: 100 | D49: =O49 -> 0 | I49: =CP49 -> 0 | O49: =SUM(I49:N49)*1.1 -> 0 | Z49: =SUM(P49:Y49) -> 0 | AB49: 11 | AC49: 18 | AD49: 16 | AE49: Semis 01-04,7-14 jours de germination | AG49: =SUM(AH49:BH49) -> 0 | BI49: =SUM(BJ49:BT49) -> 0 | BU49: =SUM(BV49:CE49) -> 0 | CF49: =SUM(CG49:CJ49) -> 0 | CK49: =SUM(CL49:CM49) -> 0 | CN49: =SUM(CO49:CO49) -> 0 | CP49: =SUM(CN49,CK49,CF49,BU49,AG49,BI49) -> 0
A50: amicia Zygomeris ' feuillage composé à stipules rosés ' | C50: 150 | D50: =O50 -> 0 | I50: =CP50 -> 0 | O50: =SUM(I50:N50)*1.1 -> 0 | Z50: =SUM(P50:Y50) -> 0 | AG50: =SUM(AH50:BH50) -> 0 | BI50: =SUM(BJ50:BT50) -> 0 | BU50: =SUM(BV50:CE50) -> 0 | CF50: =SUM(CG50:CJ50) -> 0 | CK50: =SUM(CL50:CM50) -> 0 | CN50: =SUM(CO50:CO50) -> 0 | CP50: =SUM(CN50,CK50,CF50,BU50,AG50,BI50) -> 0
A51: angelonia Archangel pink rose | C51: 25-35 | D51: =O51 -> 0 | I51: =CP51 -> 0 | O51: =SUM(I51:N51)*1.1 -> 0 | Z51: =SUM(P51:Y51) -> 0 | AG51: =SUM(AH51:BH51) -> 0 | BI51: =SUM(BJ51:BT51) -> 0 | BU51: =SUM(BV51:CE51) -> 0 | CF51: =SUM(CG51:CJ51) -> 0 | CK51: =SUM(CL51:CM51) -> 0 | CN51: =SUM(CO51:CO51) -> 0 | CP51: =SUM(CN51,CK51,CF51,BU51,AG51,BI51) -> 0
A52: angelonia Archangel blue bicolor Blue | C52: 25-35 | D52: =O52 -> 0 | I52: =CP52 -> 0 | O52: =SUM(I52:N52)*1.1 -> 0 | Z52: =SUM(P52:Y52) -> 0 | AG52: =SUM(AH52:BH52) -> 0 | BI52: =SUM(BJ52:BT52) -> 0 | BU52: =SUM(BV52:CE52) -> 0 | CF52: =SUM(CG52:CJ52) -> 0 | CK52: =SUM(CL52:CM52) -> 0 | CN52: =SUM(CO52:CO52) -> 0 | CP52: =SUM(CN52,CK52,CF52,BU52,AG52,BI52) -> 0
A53: angelonia serena white | C53: 30-35 | D53: =O53 -> 0 | I53: =CP53 -> 0 | O53: =SUM(I53:N53)*1.1 -> 0 | Z53: =SUM(P53:Y53) -> 0 | AG53: =SUM(AH53:BH53) -> 0 | BI53: =SUM(BJ53:BT53) -> 0 | BU53: =SUM(BV53:CE53) -> 0 | CF53: =SUM(CG53:CJ53) -> 0 | CK53: =SUM(CL53:CM53) -> 0 | CN53: =SUM(CO53:CO53) -> 0 | CP53: =SUM(CN53,CK53,CF53,BU53,AG53,BI53) -> 0
A54: angelonia serena purple | C54: 30 | D54: =O54 -> 0 | I54: =CP54 -> 0 | O54: =SUM(I54:N54)*1.1 -> 0 | Z54: =SUM(P54:Y54) -> 0 | AB54: 25 | AD54: 14 | AG54: =SUM(AH54:BH54) -> 0 | BI54: =SUM(BJ54:BT54) -> 0 | BU54: =SUM(BV54:CE54) -> 0 | CF54: =SUM(CG54:CJ54) -> 0 | CK54: =SUM(CL54:CM54) -> 0 | CN54: =SUM(CO54:CO54) -> 0 | CP54: =SUM(CN54,CK54,CF54,BU54,AG54,BI54) -> 0
A55: angelonia Angelface ' dark violet ' violet | C55: 40/60 | D55: =O55 -> 0 | I55: =CP55 -> 0 | O55: =SUM(I55:N55)*1.1 -> 0 | Z55: =SUM(P55:Y55) -> 0 | AG55: =SUM(AH55:BH55) -> 0 | BI55: =SUM(BJ55:BT55) -> 0 | BU55: =SUM(BV55:CE55) -> 0 | CF55: =SUM(CG55:CJ55) -> 0 | CK55: =SUM(CL55:CM55) -> 0 | CN55: =SUM(CO55:CO55) -> 0 | CP55: =SUM(CN55,CK55,CF55,BU55,AG55,BI55) -> 0
A56: angelonia Angelface ' pink imp ' rose | C56: 40-60 | D56: =O56 -> 0 | I56: =CP56 -> 0 | O56: =SUM(I56:N56)*1.1 -> 0 | AG56: =SUM(AH56:BH56) -> 0 | BI56: =SUM(BJ56:BT56) -> 0 | BU56: =SUM(BV56:CE56) -> 0 | CF56: =SUM(CG56:CJ56) -> 0 | CK56: =SUM(CL56:CM56) -> 0 | CN56: =SUM(CO56:CO56) -> 0 | CP56: =SUM(CN56,CK56,CF56,BU56,AG56,BI56) -> 0
A57: angelonia Angelface ' blue imp ' Blue | C57: 40-60 | D57: =O57 -> 0 | I57: =CP57 -> 0 | O57: =SUM(I57:N57)*1.1 -> 0 | Z57: =SUM(P57:Y57) -> 0 | AG57: =SUM(AH57:BH57) -> 0 | BI57: =SUM(BJ57:BT57) -> 0 | BU57: =SUM(BV57:CE57) -> 0 | CF57: =SUM(CG57:CJ57) -> 0 | CK57: =SUM(CL57:CM57) -> 0 | CN57: =SUM(CO57:CO57) -> 0 | CP57: =SUM(CN57,CK57,CF57,BU57,AG57,BI57) -> 0
A58: angelonia Angelface ' carrara ' blanc | C58: 40-60 | D58: =O58 -> 0 | I58: =CP58 -> 0 | O58: =SUM(I58:N58)*1.1 -> 0 | Z58: =SUM(P58:Y58) -> 0 | AG58: =SUM(AH58:BH58) -> 0 | BI58: =SUM(BJ58:BT58) -> 0 | BU58: =SUM(BV58:CE58) -> 0 | CF58: =SUM(CG58:CJ58) -> 0 | CK58: =SUM(CL58:CM58) -> 0 | CN58: =SUM(CO58:CO58) -> 0 | CP58: =SUM(CN58,CK58,CF58,BU58,AG58,BI58) -> 0
A59: angelonia Angelface ' Wedgewood blue ' Blue | C59: 40-60 | D59: =O59 -> 0 | I59: =CP59 -> 0 | O59: =SUM(I59:N59)*1.1 -> 0 | Z59: =SUM(P59:Y59) -> 0 | AG59: =SUM(AH59:BH59) -> 0 | BI59: =SUM(BJ59:BT59) -> 0 | BU59: =SUM(BV59:CE59) -> 0 | CF59: =SUM(CG59:CJ59) -> 0 | CK59: =SUM(CL59:CM59) -> 0 | CN59: =SUM(CO59:CO59) -> 0 | CP59: =SUM(CN59,CK59,CF59,BU59,AG59,BI59) -> 0
A60: Anisodontéa Lady in pink rose à coeur rouge | C60: 50-60 | D60: =O60 -> 0 | I60: =CP60 -> 0 | O60: =SUM(I60:N60)*1.1 -> 0 | Z60: =SUM(P60:Y60) -> 0 | AG60: =SUM(AH60:BH60) -> 0 | BI60: =SUM(BJ60:BT60) -> 0 | BU60: =SUM(BV60:CE60) -> 0 | CF60: =SUM(CG60:CJ60) -> 0 | CK60: =SUM(CL60:CM60) -> 0 | CN60: =SUM(CO60:CO60) -> 0 | CP60: =SUM(CN60,CK60,CF60,BU60,AG60,BI60) -> 0
A61: Anthericum Saundersiale Starlight feuillage vert blanc | C61: 70/80 | D61: =O61 -> 0 | I61: =CP61 -> 0 | O61: =SUM(I61:N61)*1.1 -> 0 | Z61: =SUM(P61:Y61) -> 0 | AG61: =SUM(AH61:BH61) -> 0 | BI61: =SUM(BJ61:BT61) -> 0 | BU61: =SUM(BV61:CE61) -> 0 | CF61: =SUM(CG61:CJ61) -> 0 | CK61: =SUM(CL61:CM61) -> 0 | CN61: =SUM(CO61:CO61) -> 0 | CP61: =SUM(CN61,CK61,CF61,BU61,AG61,BI61) -> 0
A62: Arundo donax variegata blanc vert | C62: 150-200 | D62: =O62 -> 0 | I62: =CP62 -> 0 | O62: =SUM(I62:N62)*1.1 -> 0 | Z62: =SUM(P62:Y62) -> 0 | AG62: =SUM(AH62:BH62) -> 0 | BI62: =SUM(BJ62:BT62) -> 0 | BU62: =SUM(BV62:CE62) -> 0 | CF62: =SUM(CG62:CJ62) -> 0 | CK62: =SUM(CL62:CM62) -> 0 | CN62: =SUM(CO62:CO62) -> 0 | CP62: =SUM(CN62,CK62,CF62,BU62,AG62,BI62) -> 0
A63: artemesia powis castle (feuillage) gris | C63: 50 | D63: =O63 -> 0 | I63: =CP63 -> 0 | O63: =SUM(I63:N63)*1.1 -> 0 | Z63: =SUM(P63:Y63) -> 0 | AB63: 12 | AC63: 20 | AD63: 12 | AE63: Semis 02-03 | AG63: =SUM(AH63:BH63) -> 0 | BI63: =SUM(BJ63:BT63) -> 0 | BU63: =SUM(BV63:CE63) -> 0 | CF63: =SUM(CG63:CJ63) -> 0 | CK63: =SUM(CL63:CM63) -> 0 | CN63: =SUM(CO63:CO63) -> 0 | CP63: =SUM(CN63,CK63,CF63,BU63,AG63,BI63) -> 0
A64: Avoine panaché 'feuillage panaché ' vert et blanc | C64: 40-50 | D64: =O64 -> 0 | I64: =CP64 -> 0 | O64: =SUM(I64:N64)*1.1 -> 0 | Z64: =SUM(P64:Y64) -> 0 | AB64: 12 | AC64: 22 | AD64: 17 | AE64: semis 12-04,germination 14-20 jours | AG64: =SUM(AH64:BH64) -> 0 | BI64: =SUM(BJ64:BT64) -> 0 | BU64: =SUM(BV64:CE64) -> 0 | CF64: =SUM(CG64:CJ64) -> 0 | CK64: =SUM(CL64:CM64) -> 0 | CN64: =SUM(CO64:CO64) -> 0 | CP64: =SUM(CN64,CK64,CF64,BU64,AG64,BI64) -> 0
A65: bégonia big f1 ' Red green leaf ' rouge | C65: 40 | D65: =O65 -> 0 | I65: =CP65 -> 0 | O65: =SUM(I65:N65)*1.1 -> 0 | Z65: =SUM(P65:Y65) -> 0 | AB65: 12 | AC65: 22 | AD65: 17 | AE65: semis 12-04,germination 14-20 jours | AG65: =SUM(AH65:BH65) -> 0 | BI65: =SUM(BJ65:BT65) -> 0 | BU65: =SUM(BV65:CE65) -> 0 | CF65: =SUM(CG65:CJ65) -> 0 | CK65: =SUM(CL65:CM65) -> 0 | CN65: =SUM(CO65:CO65) -> 0 | CP65: =SUM(CN65,CK65,CF65,BU65,AG65,BI65) -> 0
A66: bégonia big f1 ' pink green leaf ' rose | C66: 40-50 | D66: =O66 -> 0 | I66: =CP66 -> 0 | O66: =SUM(I66:N66)*1.1 -> 0 | Z66: =SUM(P66:Y66) -> 0 | AB66: 12 | AC66: 22 | AD66: 17 | AE66: semis 12-04,germination 14-20 jours | AG66: =SUM(AH66:BH66) -> 0 | BI66: =SUM(BJ66:BT66) -> 0 | BU66: =SUM(BV66:CE66) -> 0 | CF66: =SUM(CG66:CJ66) -> 0 | CK66: =SUM(CL66:CM66) -> 0 | CN66: =SUM(CO66:CO66) -> 0 | CP66: =SUM(CN66,CK66,CF66,BU66,AG66,BI66) -> 0
A67: bégonia Semperflorence simple haut stara F1 rose | C67: 30 | D67: =O67 -> 0 | I67: =CP67 -> 0 | O67: =SUM(I67:N67)*1.1 -> 0 | Z67: =SUM(P67:Y67) -> 0 | AG67: =SUM(AH67:BH67) -> 0 | BI67: =SUM(BJ67:BT67) -> 0 | BU67: =SUM(BV67:CE67) -> 0 | CF67: =SUM(CG67:CJ67) -> 0 | CK67: =SUM(CL67:CM67) -> 0 | CN67: =SUM(CO67:CO67) -> 0 | CP67: =SUM(CN67,CK67,CF67,BU67,AG67,BI67) -> 0
A68: bégonia Boliviensis ' bonfire ' orange red | C68: retombant | D68: =O68 -> 0 | I68: =CP68 -> 0 | O68: =SUM(I68:N68)*1.1 -> 0 | Z68: =SUM(P68:Y68) -> 0 | AB68: 12 | AC68: 22 | AD68: 17 | AE68: semis 12-04,germination 14-20 jours | AG68: =SUM(AH68:BH68) -> 0 | BI68: =SUM(BJ68:BT68) -> 0 | BU68: =SUM(BV68:CE68) -> 0 | CF68: =SUM(CG68:CJ68) -> 0 | CK68: =SUM(CL68:CM68) -> 0 | CN68: =SUM(CO68:CO68) -> 0 | CP68: =SUM(CN68,CK68,CF68,BU68,AG68,BI68) -> 0
A69: bégonia hybrida dragon wing rose | C69: 40 | D69: =O69 -> 0 | I69: =CP69 -> 0 | O69: =SUM(I69:N69)*1.1 -> 0 | Z69: =SUM(P69:Y69) -> 0 | AG69: =SUM(AH69:BH69) -> 0 | BI69: =SUM(BJ69:BT69) -> 0 | BU69: =SUM(BV69:CE69) -> 0 | CF69: =SUM(CG69:CJ69) -> 0 | CK69: =SUM(CL69:CM69) -> 0 | CN69: =SUM(CO69:CO69) -> 0 | CP69: =SUM(CN69,CK69,CF69,BU69,AG69,BI69) -> 0
A70: bégonia hybrida dragon wing rouge | C70: 40 | D70: =O70 -> 0 | I70: =CP70 -> 0 | O70: =SUM(I70:N70)*1.1 -> 0 | Z70: =SUM(P70:Y70) -> 0 | AG70: =SUM(AH70:BH70) -> 0 | BI70: =SUM(BJ70:BT70) -> 0 | BU70: =SUM(BV70:CE70) -> 0 | CF70: =SUM(CG70:CJ70) -> 0 | CK70: =SUM(CL70:CM70) -> 0 | CN70: =SUM(CO70:CO70) -> 0 | CP70: =SUM(CN70,CK70,CF70,BU70,AG70,BI70) -> 0
A71: bégonia hybrida baby wing ' white green leaf ' blanc | C71: 30-40 | D71: =O71 -> 0 | I71: =CP71 -> 0 | O71: =SUM(I71:N71)*1.1 -> 0 | Z71: =SUM(P71:Y71) -> 0 | AB71: 13 | AC71: 18 | AD71: 15 | AE71: bouture potion de racine,rejet - tolere -10 sur de coute periode | AG71: =SUM(AH71:BH71) -> 0 | BI71: =SUM(BJ71:BT71) -> 0 | BU71: =SUM(BV71:CE71) -> 0 | CF71: =SUM(CG71:CJ71) -> 0 | CK71: =SUM(CL71:CM71) -> 0 | CN71: =SUM(CO71:CO71) -> 0 | CP71: =SUM(CN71,CK71,CF71,BU71,AG71,BI71) -> 0
A72: Bégonia hybrida Megawatt f1 red green leaves Imp. rouge | C72: 40-45 | D72: =O72 -> 0 | I72: =CP72 -> 0 | O72: =SUM(I72:N72)*1.1 -> 0 | Z72: =SUM(P72:Y72) -> 0 | AB72: 11 | AC72: 15 | AD72: 10 | AE72: Semis 10-11 ou 01-02,18-22 semaine culture | AG72: =SUM(AH72:BH72) -> 0 | BI72: =SUM(BJ72:BT72) -> 0 | BU72: =SUM(BV72:CE72) -> 0 | CF72: =SUM(CG72:CJ72) -> 0 | CK72: =SUM(CL72:CM72) -> 0 | CN72: =SUM(CO72:CO72) -> 0 | CP72: =SUM(CN72,CK72,CF72,BU72,AG72,BI72) -> 0
A73: bégonia boliviensis Carmina red rouge | C73: 30-45 | D73: =O73 -> 0 | I73: =CP73 -> 0 | O73: =SUM(I73:N73)*1.1 -> 0 | Z73: =SUM(P73:Y73) -> 0 | AC73: 18 | AD73: 16 | AE73: Semis 02-06 flor 04-06-12-16 semaines | AG73: =SUM(AH73:BH73) -> 0 | BI73: =SUM(BJ73:BT73) -> 0 | BU73: =SUM(BV73:CE73) -> 0 | CF73: =SUM(CG73:CJ73) -> 0 | CK73: =SUM(CL73:CM73) -> 0 | CN73: =SUM(CO73:CO73) -> 0 | CP73: =SUM(CN73,CK73,CF73,BU73,AG73,BI73) -> 0
A74: bégonia boliviensis glowing embers ™ jaune/orangé | C74: 25-35 | D74: =O74 -> 0 | I74: =CP74 -> 0 | O74: =SUM(I74:N74)*1.1 -> 0 | Z74: =SUM(P74:Y74) -> 0 | AG74: =SUM(AH74:BH74) -> 0 | BI74: =SUM(BJ74:BT74) -> 0 | BU74: =SUM(BV74:CE74) -> 0 | CF74: =SUM(CG74:CJ74) -> 0 | CK74: =SUM(CL74:CM74) -> 0 | CN74: =SUM(CO74:CO74) -> 0 | CP74: =SUM(CN74,CK74,CF74,BU74,AG74,BI74) -> 0
A75: Bégonia Semperflorence volumia rose bicolor | C75: 40 | D75: =O75 -> 0 | I75: =CP75 -> 0 | O75: =SUM(I75:N75)*1.1 -> 0 | Z75: =SUM(P75:Y75) -> 0 | AG75: =SUM(AH75:BH75) -> 0 | BI75: =SUM(BJ75:BT75) -> 0 | BU75: =SUM(BV75:CE75) -> 0 | CF75: =SUM(CG75:CJ75) -> 0 | CK75: =SUM(CL75:CM75) -> 0 | CN75: =SUM(CO75:CO75) -> 0 | CP75: =SUM(CN75,CK75,CF75,BU75,AG75,BI75) -> 0
A76: bidens Gold jingle jaune d'or | C76: 35 | D76: =O76 -> 0 | I76: =CP76 -> 0 | O76: =SUM(I76:N76)*1.1 -> 0 | Z76: =SUM(P76:Y76) -> 0 | AG76: =SUM(AH76:BH76) -> 0 | BI76: =SUM(BJ76:BT76) -> 0 | BU76: =SUM(BV76:CE76) -> 0 | CF76: =SUM(CG76:CJ76) -> 0 | CK76: =SUM(CL76:CM76) -> 0 | CN76: =SUM(CO76:CO76) -> 0 | CP76: =SUM(CN76,CK76,CF76,BU76,AG76,BI76) -> 0
A77: bidens ferulifolia pirate's pearl ® blanc | C77: 60 | D77: =O77 -> 0 | I77: =CP77 -> 0 | O77: =SUM(I77:N77)*1.1 -> 0 | Z77: =SUM(P77:Y77) -> 0 | AG77: =SUM(AH77:BH77) -> 0 | BI77: =SUM(BJ77:BT77) -> 0 | BU77: =SUM(BV77:CE77) -> 0 | CF77: =SUM(CG77:CJ77) -> 0 | CK77: =SUM(CL77:CM77) -> 0 | CN77: =SUM(CO77:CO77) -> 0 | CP77: =SUM(CN77,CK77,CF77,BU77,AG77,BI77) -> 0
A78: bidens ferulifolia pirate's Princess rose rose /blanc | C78: 40-50 | D78: =O78 -> 0 | I78: =CP78 -> 0 | O78: =SUM(I78:N78)*1.1 -> 0 | Z78: =SUM(P78:Y78) -> 0 | AG78: =SUM(AH78:BH78) -> 0 | BI78: =SUM(BJ78:BT78) -> 0 | BU78: =SUM(BV78:CE78) -> 0 | CF78: =SUM(CG78:CJ78) -> 0 | CK78: =SUM(CL78:CM78) -> 0 | CN78: =SUM(CO78:CO78) -> 0 | CP78: =SUM(CN78,CK78,CF78,BU78,AG78,BI78) -> 0
A79: bidens lemon moon bicolore | C79: 35-40 | D79: =O79 -> 0 | I79: =CP79 -> 0 | O79: =SUM(I79:N79)*1.1 -> 0 | Z79: =SUM(P79:Y79) -> 0 | AB79: 13 | AC79: 22 | AD79: 16 | AG79: =SUM(AH79:BH79) -> 0 | BI79: =SUM(BJ79:BT79) -> 0 | BU79: =SUM(BV79:CE79) -> 0 | CF79: =SUM(CG79:CJ79) -> 0 | CK79: =SUM(CL79:CM79) -> 0 | CN79: =SUM(CO79:CO79) -> 0 | CP79: =SUM(CN79,CK79,CF79,BU79,AG79,BI79) -> 0
A80: bidens sunrise star orange | C80: 60 | D80: =O80 -> 0 | I80: =CP80 -> 0 | O80: =SUM(I80:N80)*1.1 -> 0 | Z80: =SUM(P80:Y80) -> 0 | AG80: =SUM(AH80:BH80) -> 0 | BI80: =SUM(BJ80:BT80) -> 0 | BU80: =SUM(BV80:CE80) -> 0 | CF80: =SUM(CG80:CJ80) -> 0 | CK80: =SUM(CL80:CM80) -> 0 | CN80: =SUM(CO80:CO80) -> 0 | CP80: =SUM(CN80,CK80,CF80,BU80,AG80,BI80) -> 0
A81: bidens Varietés compact ' popstar ' jaune | C81: 30 | D81: =O81 -> 0 | I81: =CP81 -> 0 | O81: =SUM(I81:N81)*1.1 -> 0 | Z81: =SUM(P81:Y81) -> 0 | AG81: =SUM(AH81:BH81) -> 0 | BI81: =SUM(BJ81:BT81) -> 0 | BU81: =SUM(BV81:CE81) -> 0 | CF81: =SUM(CG81:CJ81) -> 0 | CK81: =SUM(CL81:CM81) -> 0 | CN81: =SUM(CO81:CO81) -> 0 | CP81: =SUM(CN81,CK81,CF81,BU81,AG81,BI81) -> 0
A82: bidens Varietés compact 'Giant Yellow ' jaune | C82: 20-25 | D82: =O82 -> 0 | I82: =CP82 -> 0 | O82: =SUM(I82:N82)*1.1 -> 0 | Z82: =SUM(P82:Y82) -> 0 | AC82: 20 | AE82: floraison en 14 semaines à partir de mi-mai | AG82: =SUM(AH82:BH82) -> 0 | BI82: =SUM(BJ82:BT82) -> 0 | BU82: =SUM(BV82:CE82) -> 0 | CF82: =SUM(CG82:CJ82) -> 0 | CK82: =SUM(CL82:CM82) -> 0 | CN82: =SUM(CO82:CO82) -> 0 | CP82: =SUM(CN82,CK82,CF82,BU82,AG82,BI82) -> 0
A83: bidens Varietés meduim ' blazing glory ' bicolor rouge centre jaune | C83: 20-25 | D83: =O83 -> 0 | I83: =CP83 -> 0 | O83: =SUM(I83:N83)*1.1 -> 0 | Z83: =SUM(P83:Y83) -> 0 | AB83: 13 | AG83: =SUM(AH83:BH83) -> 0 | BI83: =SUM(BJ83:BT83) -> 0 | BU83: =SUM(BV83:CE83) -> 0 | CF83: =SUM(CG83:CJ83) -> 0 | CK83: =SUM(CL83:CM83) -> 0 | CN83: =SUM(CO83:CO83) -> 0 | CP83: =SUM(CN83,CK83,CF83,BU83,AG83,BI83) -> 0
A84: bidens Varietés compact ' pretty in pink ' rose et blanc | C84: 25-30 | D84: =O84 -> 0 | I84: =CP84 -> 0 | O84: =SUM(I84:N84)*1.1 -> 0 | Z84: =SUM(P84:Y84) -> 0 | AG84: =SUM(AH84:BH84) -> 0 | BI84: =SUM(BJ84:BT84) -> 0 | BU84: =SUM(BV84:CE84) -> 0 | CF84: =SUM(CG84:CJ84) -> 0 | CK84: =SUM(CL84:CM84) -> 0 | CN84: =SUM(CO84:CO84) -> 0 | CP84: =SUM(CN84,CK84,CF84,BU84,AG84,BI84) -> 0
A85: bidens Variétés meduim ' yellow sunshine ' jaune | C85: 20-25 | D85: =O85 -> 0 | I85: =CP85 -> 0 | O85: =SUM(I85:N85)*1.1 -> 0 | Z85: =SUM(P85:Y85) -> 0 | AG85: =SUM(AH85:BH85) -> 0 | BI85: =SUM(BJ85:BT85) -> 0 | BU85: =SUM(BV85:CE85) -> 0 | CF85: =SUM(CG85:CJ85) -> 0 | CK85: =SUM(CL85:CM85) -> 0 | CN85: =SUM(CO85:CO85) -> 0 | CP85: =SUM(CN85,CK85,CF85,BU85,AG85,BI85) -> 0
A86: bidens Beedance™ painted red rouge -jaune | C86: 40 | D86: =O86 -> 0 | I86: =CP86 -> 0 | O86: =SUM(I86:N86)*1.1 -> 0 | Z86: =SUM(P86:Y86) -> 0 | AB86: 12 | AG86: =SUM(AH86:BH86) -> 0 | BI86: =SUM(BJ86:BT86) -> 0 | BU86: =SUM(BV86:CE86) -> 0 | CF86: =SUM(CG86:CJ86) -> 0 | CK86: =SUM(CL86:CM86) -> 0 | CN86: =SUM(CO86:CO86) -> 0 | CP86: =SUM(CN86,CK86,CF86,BU86,AG86,BI86) -> 0
A87: bidens Beedance™ painted yellow jaune rouge | C87: 40 | D87: =O87 -> 0 | I87: =CP87 -> 0 | O87: =SUM(I87:N87)*1.1 -> 0 | Z87: =SUM(P87:Y87) -> 0 | AG87: =SUM(AH87:BH87) -> 0 | BI87: =SUM(BJ87:BT87) -> 0 | BU87: =SUM(BV87:CE87) -> 0 | CF87: =SUM(CG87:CJ87) -> 0 | CK87: =SUM(CL87:CM87) -> 0 | CN87: =SUM(CO87:CO87) -> 0 | CP87: =SUM(CN87,CK87,CF87,BU87,AG87,BI87) -> 0
A88: bidens Variétés meduim campfire ' funny honey ' jaune orangé | C88: 30/40 | D88: =O88 -> 0 | I88: =CP88 -> 0 | O88: =SUM(I88:N88)*1.1 -> 0 | Z88: =SUM(P88:Y88) -> 0 | AG88: =SUM(AH88:BH88) -> 0 | BI88: =SUM(BJ88:BT88) -> 0 | BU88: =SUM(BV88:CE88) -> 0 | CF88: =SUM(CG88:CJ88) -> 0 | CK88: =SUM(CL88:CM88) -> 0 | CN88: =SUM(CO88:CO88) -> 0 | CP88: =SUM(CN88,CK88,CF88,BU88,AG88,BI88) -> 0
A89: brachycome brasco violet | D89: =O89 -> 0 | I89: =CP89 -> 0 | O89: =SUM(I89:N89)*1.1 -> 0 | Z89: =SUM(P89:Y89) -> 0 | AG89: =SUM(AH89:BH89) -> 0 | BI89: =SUM(BJ89:BT89) -> 0 | BU89: =SUM(BV89:CE89) -> 0 | CF89: =SUM(CG89:CJ89) -> 0 | CK89: =SUM(CL89:CM89) -> 0 | CN89: =SUM(CO89:CO89) -> 0 | CP89: =SUM(CN89,CK89,CF89,BU89,AG89,BI89) -> 0
A90: calamagrostis acut. Karl foerster | D90: =O90 -> 0 | I90: =CP90 -> 0 | O90: =SUM(I90:N90)*1.1 -> 0 | Z90: =SUM(P90:Y90) -> 0 | AG90: =SUM(AH90:BH90) -> 0 | BI90: =SUM(BJ90:BT90) -> 0 | BU90: =SUM(BV90:CE90) -> 0 | CF90: =SUM(CG90:CJ90) -> 0 | CK90: =SUM(CL90:CM90) -> 0 | CN90: =SUM(CO90:CO90) -> 0 | CP90: =SUM(CN90,CK90,CF90,BU90,AG90,BI90) -> 0
A91: Cannas nains Caballero feuillage vert jaune picté rouge | C91: 60 | D91: =O91 -> 0 | I91: =CP91 -> 0 | O91: =SUM(I91:N91)*1.1 -> 0 | Z91: =SUM(P91:Y91) -> 0 | AG91: =SUM(AH91:BH91) -> 0 | BI91: =SUM(BJ91:BT91) -> 0 | BU91: =SUM(BV91:CE91) -> 0 | CF91: =SUM(CG91:CJ91) -> 0 | CK91: =SUM(CL91:CM91) -> 0 | CN91: =SUM(CO91:CO91) -> 0 | CP91: =SUM(CN91,CK91,CF91,BU91,AG91,BI91) -> 0
A92: Cannas hauts Panach 'feuillage panaché ' Orange | C92: 120 | D92: =O92 -> 0 | I92: =CP92 -> 0 | O92: =SUM(I92:N92)*1.1 -> 0 | Z92: =SUM(P92:Y92) -> 0 | AG92: =SUM(AH92:BH92) -> 0 | BI92: =SUM(BJ92:BT92) -> 0 | BU92: =SUM(BV92:CE92) -> 0 | CF92: =SUM(CG92:CJ92) -> 0 | CK92: =SUM(CL92:CM92) -> 0 | CN92: =SUM(CO92:CO92) -> 0 | CP92: =SUM(CN92,CK92,CF92,BU92,AG92,BI92) -> 0
A93: Cannas hauts Jivago feuillage vert orange brillant | C93: 110 | D93: =O93 -> 0 | I93: =CP93 -> 0 | O93: =SUM(I93:N93)*1.1 -> 0 | Z93: =SUM(P93:Y93) -> 0 | AG93: =SUM(AH93:BH93) -> 0 | BI93: =SUM(BJ93:BT93) -> 0 | BU93: =SUM(BV93:CE93) -> 0 | CF93: =SUM(CG93:CJ93) -> 0 | CK93: =SUM(CL93:CM93) -> 0 | CN93: =SUM(CO93:CO93) -> 0 | CP93: =SUM(CN93,CK93,CF93,BU93,AG93,BI93) -> 0
A94: Cannas hauts Triomphe feuillage poupre Orange à reflets rouge | C94: 120 | D94: =O94 -> 0 | I94: =CP94 -> 0 | O94: =SUM(I94:N94)*1.1 -> 0 | Z94: =SUM(P94:Y94) -> 0 | AG94: =SUM(AH94:BH94) -> 0 | BI94: =SUM(BJ94:BT94) -> 0 | BU94: =SUM(BV94:CE94) -> 0 | CF94: =SUM(CG94:CJ94) -> 0 | CK94: =SUM(CL94:CM94) -> 0 | CN94: =SUM(CO94:CO94) -> 0 | CP94: =SUM(CN94,CK94,CF94,BU94,AG94,BI94) -> 0
A95: Cannas hauts En avant feuillage vert jaune picté rouge | C95: 110 | D95: =O95 -> 0 | I95: =CP95 -> 0 | O95: =SUM(I95:N95)*1.1 -> 0 | Z95: =SUM(P95:Y95) -> 0 | AG95: =SUM(AH95:BH95) -> 0 | BI95: =SUM(BJ95:BT95) -> 0 | BU95: =SUM(BV95:CE95) -> 0 | CF95: =SUM(CG95:CJ95) -> 0 | CK95: =SUM(CL95:CM95) -> 0 | CN95: =SUM(CO95:CO95) -> 0 | CP95: =SUM(CN95,CK95,CF95,BU95,AG95,BI95) -> 0
A96: Cannas hauts Indiana feuillage vert orange | C96: 150 | D96: =O96 -> 0 | I96: =CP96 -> 0 | O96: =SUM(I96:N96)*1.1 -> 0 | Z96: =SUM(P96:Y96) -> 0 | AG96: =SUM(AH96:BH96) -> 0 | BI96: =SUM(BJ96:BT96) -> 0 | BU96: =SUM(BV96:CE96) -> 0 | CF96: =SUM(CG96:CJ96) -> 0 | CK96: =SUM(CL96:CM96) -> 0 | CN96: =SUM(CO96:CO96) -> 0 | CP96: =SUM(CN96,CK96,CF96,BU96,AG96,BI96) -> 0
A97: Cannas hauts Carnaval feuillage vert jaune veiné orange | C97: 130 | D97: =O97 -> 0 | I97: =CP97 -> 0 | O97: =SUM(I97:N97)*1.1 -> 0 | Z97: =SUM(P97:Y97) -> 0 | AG97: =SUM(AH97:BH97) -> 0 | BI97: =SUM(BJ97:BT97) -> 0 | BU97: =SUM(BV97:CE97) -> 0 | CF97: =SUM(CG97:CJ97) -> 0 | CK97: =SUM(CL97:CM97) -> 0 | CN97: =SUM(CO97:CO97) -> 0 | CP97: =SUM(CN97,CK97,CF97,BU97,AG97,BI97) -> 0
A98: Canne a sucre pourpre pourpre | C98: 250- 300 | D98: =O98 -> 0 | I98: =CP98 -> 0 | O98: =SUM(I98:N98)*1.1 -> 0 | Z98: =SUM(P98:Y98) -> 0 | AB98: 12 | AG98: =SUM(AH98:BH98) -> 0 | BI98: =SUM(BJ98:BT98) -> 0 | BU98: =SUM(BV98:CE98) -> 0 | CF98: =SUM(CG98:CJ98) -> 0 | CK98: =SUM(CL98:CM98) -> 0 | CN98: =SUM(CO98:CO98) -> 0 | CP98: =SUM(CN98,CK98,CF98,BU98,AG98,BI98) -> 0
A99: Calendula crown orange orange | C99: 60-80 | D99: =O99 -> 0 | I99: =CP99 -> 0 | O99: =SUM(I99:N99)*1.1 -> 0 | Z99: =SUM(P99:Y99) -> 0 | AB99: 12 | AG99: =SUM(AH99:BH99) -> 0 | BI99: =SUM(BJ99:BT99) -> 0 | BU99: =SUM(BV99:CE99) -> 0 | CF99: =SUM(CG99:CJ99) -> 0 | CK99: =SUM(CL99:CM99) -> 0 | CN99: =SUM(CO99:CO99) -> 0 | CP99: =SUM(CN99,CK99,CF99,BU99,AG99,BI99) -> 0
A100: calibrachoa Cabaret lavender imp lavende | C100: 20-25 | D100: =O100 -> 0 | I100: =CP100 -> 0 | O100: =SUM(I100:N100)*1.1 -> 0 | Z100: =SUM(P100:Y100) -> 0 | AC100: 18 | AD100: 16 | AE100: Semis 03-06 | AG100: =SUM(AH100:BH100) -> 0 | BI100: =SUM(BJ100:BT100) -> 0 | BU100: =SUM(BV100:CE100) -> 0 | CF100: =SUM(CG100:CJ100) -> 0 | CK100: =SUM(CL100:CM100) -> 0 | CN100: =SUM(CO100:CO100) -> 0 | CP100: =SUM(CN100,CK100,CF100,BU100,AG100,BI100) -> 0
A101: calibrachoa Cabaret pure yellow jaune | C101: 20-25 | D101: =O101 -> 0 | I101: =CP101 -> 0 | O101: =SUM(I101:N101)*1.1 -> 0 | Z101: =SUM(P101:Y101) -> 0 | AC101: 18 | AG101: =SUM(AH101:BH101) -> 0 | BI101: =SUM(BJ101:BT101) -> 0 | BU101: =SUM(BV101:CE101) -> 0 | CF101: =SUM(CG101:CJ101) -> 0 | CK101: =SUM(CL101:CM101) -> 0 | CN101: =SUM(CO101:CO101) -> 0 | CP101: =SUM(CN101,CK101,CF101,BU101,AG101,BI101) -> 0
A102: calibrachoa Superbells unique ' dark red ' rouge | C102: 30 | D102: =O102 -> 0 | I102: =CP102 -> 0 | O102: =SUM(I102:N102)*1.1 -> 0 | Z102: =SUM(P102:Y102) -> 0 | AG102: =SUM(AH102:BH102) -> 0 | BI102: =SUM(BJ102:BT102) -> 0 | BU102: =SUM(BV102:CE102) -> 0 | CF102: =SUM(CG102:CJ102) -> 0 | CK102: =SUM(CL102:CM102) -> 0 | CN102: =SUM(CO102:CO102) -> 0 | CP102: =SUM(CN102,CK102,CF102,BU102,AG102,BI102) -> 0
A103: calibrachoa Superbells lemon slice jaune /blanc | C103: 30 | D103: =O103 -> 0 | I103: =CP103 -> 0 | O103: =SUM(I103:N103)*1.1 -> 0 | Z103: =SUM(P103:Y103) -> 0 | AG103: =SUM(AH103:BH103) -> 0 | BI103: =SUM(BJ103:BT103) -> 0 | BU103: =SUM(BV103:CE103) -> 0 | CF103: =SUM(CG103:CJ103) -> 0 | CK103: =SUM(CL103:CM103) -> 0 | CN103: =SUM(CO103:CO103) -> 0 | CP103: =SUM(CN103,CK103,CF103,BU103,AG103,BI103) -> 0
A104: calibrachoa Cancan Sunshine impr jaune centre rouge /orange | C104: 30 | D104: =O104 -> 0 | I104: =CP104 -> 0 | O104: =SUM(I104:N104)*1.1 -> 0 | Z104: =SUM(P104:Y104) -> 0 | AB104: 12 | AC104: 22 | AD104: 18 | AG104: =SUM(AH104:BH104) -> 0 | BI104: =SUM(BJ104:BT104) -> 0 | BU104: =SUM(BV104:CE104) -> 0 | CF104: =SUM(CG104:CJ104) -> 0 | CK104: =SUM(CL104:CM104) -> 0 | CN104: =SUM(CO104:CO104) -> 0 | CP104: =SUM(CN104,CK104,CF104,BU104,AG104,BI104) -> 0
...

Sheet edition
A3: urbain
A4: Square George v Massif rond 38m²
A5: =IFERROR(MATCH(A4,données!6:6,0),"non trouvé") -> 34
A7: =données!A7 -> DESIGNATION | B7: =données!B7 -> COULEUR | C7: =données!C7 -> HAUTEUR | D7: NB
A8: =données!A8 -> abutilon Souvenir de bonn Orange | B8: =IF(données!B8="","",données!B8) | C8: =données!C8 -> 90-100 | D8: =OFFSET(données!A8,,$A$5-1) -> 0
A9: =données!A9 -> abutilon feuille panaché jaune rouge | B9: =IF(données!B9="","",données!B9) | C9: =données!C9 -> 120 | D9: =OFFSET(données!A9,,$A$5-1) -> 0
A10: =données!A10 -> agastache foeniculum² ' Little adder ' bleu | B10: =IF(données!B10="","",données!B10) | C10: =données!C10 -> 40-50 | D10: =OFFSET(données!A10,,$A$5-1) -> 0
A11: =données!A11 -> agastache Aurantiaca . ' citronnade ' jaune | B11: =IF(données!B11="","",données!B11) | C11: =données!C11 -> 50-60 | D11: =OFFSET(données!A11,,$A$5-1) -> 0
A12: =données!A12 -> agastache Aurantiaca . ' Orangeade ' orange | B12: =IF(données!B12="","",données!B12) | C12: =données!C12 -> 50-60 | D12: =OFFSET(données!A12,,$A$5-1) -> 0
A13: =données!A13 -> agastache Aurantiaca . ' kudos ' silver blue bleu | B13: =IF(données!B13="","",données!B13) | C13: =données!C13 -> 30-40 | D13: =OFFSET(données!A13,,$A$5-1) -> 0
A14: =données!A14 -> agastache Aurantiaca . ' kudos ' Mandarin orange | B14: =IF(données!B14="","",données!B14) | C14: =données!C14 -> 30-40 | D14: =OFFSET(données!A14,,$A$5-1) -> 0
A15: =données!A15 -> agastache Aurantiaca . ' kudos ' Coral rouge | B15: =IF(données!B15="","",données!B15) | C15: =données!C15 -> 30-40 | D15: =OFFSET(données!A15,,$A$5-1) -> 0
A16: =données!A16 -> agastache Aurantiaca . ' kudos ' yellow jaune | B16: =IF(données!B16="","",données!B16) | C16: =données!C16 -> 30-40 | D16: =OFFSET(données!A16,,$A$5-1) -> 0
A17: =données!A17 -> agastache Urticifolia . Top white blanc | B17: =IF(données!B17="","",données!B17) | C17: =données!C17 -> 70 | D17: =OFFSET(données!A17,,$A$5-1) -> 0
A18: =données!A18 -> agastache Urticifolia . Top blue ' Coerulea bleu ( top bleu ) bleu violet | B18: =IF(données!B18="","",données!B18) | C18: =données!C18 -> 70 | D18: =OFFSET(données!A18,,$A$5-1) -> 0
A19: =données!A19 -> agastache Astromontana . pink pop rose lavande | B19: =IF(données!B19="","",données!B19) | C19: =données!C19 -> 40 | D19: =OFFSET(données!A19,,$A$5-1) -> 0
... A715: =données!A715 -> zinnia profusion orange | B715: =IF(données!B715="","",données!B715) | C715: =données!C715 -> 0 | D715: =OFFSET(données!A715,,$A$5-1) -> 0

Sheet parametres
A3: secteur | C3: urbain | E3: saragosse | G3: périurbain | I3: pavillon ouest | K3: pavillon est | M3: hameau
A4: urbain | C4: Square George v Massif rond 38m² | E4: Peyroulet 32m² | G4: PLACE ALBERT 1ER 55M² | I4: RP Mitterrand 80m² | K4: RP Mouchotte 85m² | M4: divers
A5: périurbain | C5: Square George v Contour | E5: Rp Droit de L'Homme 130 m2 | G5: MARCA ETTIGNY 65M² | I5: Olof Palme | K5: Rp Yitzhat Rabin 165 m2
A6: pavillon ouest | C6: Plate bande Aragon 104 m2 | G6: PARC LAWRENCE 12M² | I6: Bd de la Paix angle Montardon19m² | K6: Allées de Morlaas 28m²
A7: pavillon est | C7: Bd des pyrénées | G7: Eglise St Joseph 18m² | I7: RP ATTIGNY | K7: Formose
A8: saragosse | C8: Fontaine de Vigny 48m² | G8: Place du Foirial 28m² | I8: RP
A9: hameau | C9: Place Clémenceau 400m² | G9: Foire massif +jardinières | I9: Berlioz centre Commercial 6m²
C10: MonumentST Martin 7m² | G10: Jardinières Gassiot Montpensier | I10: Mermoz angle Bd Paix resto 3m²
C11: Junipérus 25m² | G11: Massif entrée Cours Camou | I11: Ecole lilas 7M² +10 petites jds
C12: Funiculaire 17m² | G12: place Gramont 120m² | I12: Ecole Lavigne 10m² + jds
C13: Monnaie Château 16m² | G13: Lawrence Av de la Résistance | I13: Ecole hippodrome 5m² + 22 jds
C14: Monnaie Grille 10m² | G14: Carré Parc Lawrence
C15: feux Monnaie 12m²
C16: Jardinières Cassin
C17: Jardinières ACBB
C18: Jardinières Parking Gare
C19: Palais beaumont 110m²
C20: St Criq 38m²
C21: Femme au Puit 14m²
C22: Villa St Basils Entrée 48m²
C23: St Basils Terrasse 22m²
C24: St Basils massif Du fond 20m²
C25: D'Artagnan 18m²
C26: Statue Foch 47m²
... C30: beaumont Parc
