Workbook
Name hameau: Tableau7[[#All],[hameau]]
Name pavillon_est: Tableau6[[#All],[pavillon est]]
Name pavillon_ouest: Tableau5[[#All],[pavillon ouest]]
Name périurbain: Tableau4[[#All],[périurbain]]
Name saragosse: Tableau3[[#All],[saragosse]]
Name secteur: Tableau1[[#All],[secteur]]
Name urbain: Tableau2[[#All],[urbain]]

Sheet données
E5: UTILISATION | F5: OBTENTION | G5: FOURNISSEUR | H5: QUANTITÉ | I5: QUANTITÉ | J5: QUANTITÉ | K5: QUANTITÉ | L5: QUANTITÉ | M5: QUANTITÉ | N5: QUANTITÉ | O5: QUANTITÉ | AC5: TEMPERATURE
A6: HAUT | B6: BAS | E6: couvre Sol | F6: Jeunes plant | H6: plaques | I6: massif | J6: massif | K6: hors sol | L6: deco | M6: essai | N6: don | O6: Plus 10% | P6: semaine livraison jeune plant | AB6: pot | AH6: Square George v Massif rond 38m² | AI6: Square George v Contour | AJ6: Plate bande Aragon 104 m2 | AK6: Bd des pyrénées | AL6: Fontaine de Vigny 48m² | AM6: Place Clémenceau 400m² | AN6: MonumentST Martin 7m² | AO6: Junipérus 25m² | AP6: Funiculaire 17m² | AQ6: Monnaie Château 16m² | AR6: Monnaie Grille 10m² | AS6: feux Monnaie 12m² | AT6: Jardinières Cassin | AU6: Jardinières ACBB | AV6: Jardinières Parking Gare | AW6: Palais beaumont 110m² | AX6: St Criq 38m² | AY6: Femme au Puit 14m² | AZ6: Villa St Basils Entrée 48m² | BA6: St Basils Terrasse 22m² | BB6: St Basils massif Du fond 20m² | BC6: D'Artagnan 18m² | BD6: Statue Foch 47m² | BE6: Stèle Wright | BF6: Rue Emile guichené Jardinères | BG6: St JACQUE YOAN 10M² | BH6: beaumont Parc | BJ6: PLACE ALBERT 1ER 55M² | BK6: MARCA ETTIGNY 65M² | BL6: PARC LAWRENCE 12M² | BM6: Eglise St Joseph 18m² | BN6: Place du Foirial 28m² | BO6: Foire massif +jardinières | BP6: Jardinières Gassiot Montpensier | BQ6: Massif entrée Cours Camou | BR6: place Gramont 120m² | BS6: Lawrence Av de la Résistance | BT6: Carré Parc Lawrence | BV6: RP Mitterrand 80m² | BW6: Olof Palme | BX6: Bd de la Paix angle Montardon19m² | BY6: RP ATTIGNY | BZ6: RP | CA6: Berlioz centre Commercial 6m² | CB6: Mermoz angle Bd Paix resto 3m² | CC6: Ecole lilas 7M² +10 petites jds | CD6: Ecole Lavigne 10m² + jds | CE6: Ecole hippodrome 5m² + 22 jds | CG6: RP Mouchotte 85m² | CH6: Rp Yitzhat Rabin 165 m2 | CI6: Allées de Morlaas 28m² | CJ6: Formose | CL6: Peyroulet 32m² | CM6: Rp Droit de L'Homme 130 m2 | CO6: divers
A7: DESIGNATION | B7: COULEUR | C7: HAUTEUR | D7: PRODUCTION | E7: vivaces | F7: semis | I7: e,frere | P7: 4 | Q7: 6 | R7: 8 | S7: 10 | T7: 12 | U7: 14 | V7: 17 | W7: 19 | X7: 20 | Y7: 21 | Z7: total | AA7: reliquat | AC7: semis | AD7: culture | AE7: observation | AF7: arrosage | AG7: URBAIN | BI7: PERI URBAIN | BU7: pavillon ouest | CF7: PAVILLON EST | CK7: SARAGOSSE | CN7: HAMEAU | CP7: TOTAUX
A8: abutilon Souvenir de bonn Orange | C8: 90-100 | D8: =O8 -> 0 | I8: =CP8 -> 0 | O8: =SUM(I8:N8)*1.1 -> 0 | Z8: =SUM(P8:Y8) -> 0 | AB8: 12 | AE8: Semis 02-03,3-4 mois de culture | AF8: moderé | AG8: =SUM(AH8:BH8) -> 0 | BI8: =SUM(BJ8:BT8) -> 0 | BU8: =SUM(BV8:CE8) -> 0 | CF8: =SUM(CG8:CJ8) -> 0 | CK8: =SUM(CL8:CM8) -> 0 | CN8: =SUM(CO8:CO8) -> 0 | CP8: =SUM(CN8,CK8,CF8,BU8,AG8,BI8) -> 0
A9: abutilon feuille panaché jaune rouge | C9: 120 | D9: =O9 -> 0 | I9: =CP9 -> 0 | O9: =SUM(I9:N9)*1.1 -> 0 | Z9: =SUM(P9:Y9) -> 0 | AC9: 18 | AD9: 12 | AE9: Semis 03-05 / germination 14/20 jours | AG9: =SUM(AH9:BH9) -> 0 | BI9: =SUM(BJ9:BT9) -> 0 | BU9: =SUM(BV9:CE9) -> 0 | CF9: =SUM(CG9:CJ9) -> 0 | CK9: =SUM(CL9:CM9) -> 0 | CN9: =SUM(CO9:CO9) -> 0 | CP9: =SUM(CN9,CK9,CF9,BU9,AG9,BI9) -> 0
A10: agastache foeniculum² ' Little adder ' bleu | C10: 40-50 | D10: =O10 -> 0 | I10: =CP10 -> 0 | O10: =SUM(I10:N10)*1.1 -> 0 | Z10: =SUM(P10:Y10) -> 0 | AG10: =SUM(AH10:BH10) -> 0 | BI10: =SUM(BJ10:BT10) -> 0 | BU10: =SUM(BV10:CE10) -> 0 | CF10: =SUM(CG10:CJ10) -> 0 | CK10: =SUM(CL10:CM10) -> 0 | CN10: =SUM(CO10:CO10) -> 0 | CP10: =SUM(CN10,CK10,CF10,BU10,AG10,BI10) -> 0
A11: agastache Aurantiaca . ' citronnade ' jaune | C11: 50-60 | D11: =O11 -> 0 | I11: =CP11 -> 0 | O11: =SUM(I11:N11)*1.1 -> 0 | Z11: =SUM(P11:Y11) -> 0 | AG11: =SUM(AH11:BH11) -> 0 | BI11: =SUM(BJ11:BT11) -> 0 | BU11: =SUM(BV11:CE11) -> 0 | CF11: =SUM(CG11:CJ11) -> 0 | CK11: =SUM(CL11:CM11) -> 0 | CN11: =SUM(CO11:CO11) -> 0 | CP11: =SUM(CN11,CK11,CF11,BU11,AG11,BI11) -> 0
A12: agastache Aurantiaca . ' Orangeade ' orange | C12: 50-60 | D12: =O12 -> 0 | I12: =CP12 -> 0 | O12: =SUM(I12:N12)*1.1 -> 0 | Z12: =SUM(P12:Y12) -> 0 | AG12: =SUM(AH12:BH12) -> 0 | BI12: =SUM(BJ12:BT12) -> 0 | BU12: =SUM(BV12:CE12) -> 0 | CF12: =SUM(CG12:CJ12) -> 0 | CK12: =SUM(CL12:CM12) -> 0 | CN12: =SUM(CO12:CO12) -> 0 | CP12: =SUM(CN12,CK12,CF12,BU12,AG12,BI12) -> 0
A13: agastache Aurantiaca . ' kudos ' silver blue bleu | C13: 30-40 | D13: =O13 -> 0 | I13: =CP13 -> 0 | O13: =SUM(I13:N13)*1.1 -> 0 | Z13: =SUM(P13:Y13) -> 0 | AG13: =SUM(AH13:BH13) -> 0 | BI13: =SUM(BJ13:BT13) -> 0 | BU13: =SUM(BV13:CE13) -> 0 | CF13: =SUM(CG13:CJ13) -> 0 | CK13: =SUM(CL13:CM13) -> 0 | CN13: =SUM(CO13:CO13) -> 0 | CP13: =SUM(CN13,CK13,CF13,BU13,AG13,BI13) -> 0
A14: agastache Aurantiaca . ' kudos ' Mandarin orange | C14: 30-40 | D14: =O14 -> 0 | I14: =CP14 -> 0 | O14: =SUM(I14:N14)*1.1 -> 0 | Z14: =SUM(P14:Y14) -> 0 | AB14: 12 | AG14: =SUM(AH14:BH14) -> 0 | BI14: =SUM(BJ14:BT14) -> 0 | BU14: =SUM(BV14:CE14) -> 0 | CF14: =SUM(CG14:CJ14) -> 0 | CK14: =SUM(CL14:CM14) -> 0 | CN14: =SUM(CO14:CO14) -> 0 | CP14: =SUM(CN14,CK14,CF14,BU14,AG14,BI14) -> 0
A15: agastache Aurantiaca . ' kudos ' Coral rouge | C15: 30-40 | D15: =O15 -> 0 | I15: =CP15 -> 0 | O15: =SUM(I15:N15)*1.1 -> 0 | Z15: =SUM(P15:Y15) -> 0 | AC15: 15 | AE15: Semis 03 en godet,germination 7/14 jours | AG15: =SUM(AH15:BH15) -> 0 | BI15: =SUM(BJ15:BT15) -> 0 | BU15: =SUM(BV15:CE15) -> 0 | CF15: =SUM(CG15:CJ15) -> 0 | CK15: =SUM(CL15:CM15) -> 0 | CN15: =SUM(CO15:CO15) -> 0 | CP15: =SUM(CN15,CK15,CF15,BU15,AG15,BI15) -> 0
A16: agastache Aurantiaca . ' kudos ' yellow jaune | C16: 30-40 | D16: =O16 -> 0 | I16: =CP16 -> 0 | O16: =SUM(I16:N16)*1.1 -> 0 | Z16: =SUM(P16:Y16) -> 0 | AC16: 18 | AD16: 12 | AE16: semis 03-06,floraison 05-09 | AG16: =SUM(AH16:BH16) -> 0 | BI16: =SUM(BJ16:BT16) -> 0 | BU16: =SUM(BV16:CE16) -> 0 | CF16: =SUM(CG16:CJ16) -> 0 | CK16: =SUM(CL16:CM16) -> 0 | CN16: =SUM(CO16:CO16) -> 0 | CP16: =SUM(CN16,CK16,CF16,BU16,AG16,BI16) -> 0
A17: agastache Urticifolia . Top white blanc | C17: 70 | D17: =O17 -> 0 | I17: =CP17 -> 0 | O17: =SUM(I17:N17)*1.1 -> 0 | Z17: =SUM(P17:Y17) -> 0 | AG17: =SUM(AH17:BH17) -> 0 | BI17: =SUM(BJ17:BT17) -> 0 | BU17: =SUM(BV17:CE17) -> 0 | CF17: =SUM(CG17:CJ17) -> 0 | CK17: =SUM(CL17:CM17) -> 0 | CN17: =SUM(CO17:CO17) -> 0 | CP17: =SUM(CN17,CK17,CF17,BU17,AG17,BI17) -> 0
A18: agastache Urticifolia . Top blue ' Coerulea bleu ( top bleu ) bleu violet | C18: 70 | D18: =O18 -> 0 | I18: =CP18 -> 0 | O18: =SUM(I18:N18)*1.1 -> 0 | Z18: =SUM(P18:Y18) -> 0 | AG18: =SUM(AH18:BH18) -> 0 | BI18: =SUM(BJ18:BT18) -> 0 | BU18: =SUM(BV18:CE18) -> 0 | CF18: =SUM(CG18:CJ18) -> 0 | CK18: =SUM(CL18:CM18) -> 0 | CN18: =SUM(CO18:CO18) -> 0 | CP18: =SUM(CN18,CK18,CF18,BU18,AG18,BI18) -> 0
A19: agastache Astromontana . pink pop rose lavande | C19: 40 | D19: =O19 -> 0 | I19: =CP19 -> 0 | O19: =SUM(I19:N19)*1.1 -> 0 | Z19: =SUM(P19:Y19) -> 0 | AG19: =SUM(AH19:BH19) -> 0 | BI19: =SUM(BJ19:BT19) -> 0 | BU19: =SUM(BV19:CE19) -> 0 | CF19: =SUM(CG19:CJ19) -> 0 | CK19: =SUM(CL19:CM19) -> 0 | CN19: =SUM(CO19:CO19) -> 0 | CP19: =SUM(CN19,CK19,CF19,BU19,AG19,BI19) -> 0
A20: agastache Cana . heather Queen rose | C20: 50-60 | D20: =O20 -> 0 | I20: =CP20 -> 0 | O20: =SUM(I20:N20)*1.1 -> 0 | Z20: =SUM(P20:Y20) -> 0 | AG20: =SUM(AH20:BH20) -> 0 | BI20: =SUM(BJ20:BT20) -> 0 | BU20: =SUM(BV20:CE20) -> 0 | CF20: =SUM(CG20:CJ20) -> 0 | CK20: =SUM(CL20:CM20) -> 0 | CN20: =SUM(CO20:CO20) -> 0 | CP20: =SUM(CN20,CK20,CF20,BU20,AG20,BI20) -> 0
A21: agastache foenic. golden jubilee lavande | C21: 45-50 | D21: =O21 -> 0 | I21: =CP21 -> 0 | O21: =SUM(I21:N21)*1.1 -> 0 | Z21: =SUM(P21:Y21) -> 0 | AG21: =SUM(AH21:BH21) -> 0 | BI21: =SUM(BJ21:BT21) -> 0 | BU21: =SUM(BV21:CE21) -> 0 | CF21: =SUM(CG21:CJ21) -> 0 | CK21: =SUM(CL21:CM21) -> 0 | CN21: =SUM(CO21:CO21) -> 0 | CP21: =SUM(CN21,CK21,CF21,BU21,AG21,BI21) -> 0
A22: agastache ville de bourg la reine rose | C22: 70-80 | D22: =O22 -> 0 | I22: =CP22 -> 0 | O22: =SUM(I22:N22)*1.1 -> 0 | Z22: =SUM(P22:Y22) -> 0 | AC22: 18 | AD22: 15 | AE22: semis 03-05,plantation 20x25 | AG22: =SUM(AH22:BH22) -> 0 | BI22: =SUM(BJ22:BT22) -> 0 | BU22: =SUM(BV22:CE22) -> 0 | CF22: =SUM(CG22:CJ22) -> 0 | CK22: =SUM(CL22:CM22) -> 0 | CN22: =SUM(CO22:CO22) -> 0 | CP22: =SUM(CN22,CK22,CF22,BU22,AG22,BI22) -> 0
A23: agastache Aurant . Arizona Sun f1 orange | C23: 25-30 | D23: =O23 -> 0 | I23: =CP23 -> 0 | O23: =SUM(I23:N23)*1.1 -> 0 | Z23: =SUM(P23:Y23) -> 0 | AG23: =SUM(AH23:BH23) -> 0 | BI23: =SUM(BJ23:BT23) -> 0 | BU23: =SUM(BV23:CE23) -> 0 | CF23: =SUM(CG23:CJ23) -> 0 | CK23: =SUM(CL23:CM23) -> 0 | CN23: =SUM(CO23:CO23) -> 0 | CP23: =SUM(CN23,CK23,CF23,BU23,AG23,BI23) -> 0
A24: agastache Aurantiaca Agadir rose rose | C24: 40 | D24: =O24 -> 0 | I24: =CP24 -> 0 | O24: =SUM(I24:N24)*1.1 -> 0 | Z24: =SUM(P24:Y24) -> 0 | AG24: =SUM(AH24:BH24) -> 0 | BI24: =SUM(BJ24:BT24) -> 0 | BU24: =SUM(BV24:CE24) -> 0 | CF24: =SUM(CG24:CJ24) -> 0 | CK24: =SUM(CL24:CM24) -> 0 | CN24: =SUM(CO24:CO24) -> 0 | CP24: =SUM(CN24,CK24,CF24,BU24,AG24,BI24) -> 0
A25: agastache Aurantiaca Agadir jaune jaune | C25: 40 | D25: =O25 -> 0 | I25: =CP25 -> 0 | O25: =SUM(I25:N25)*1.1 -> 0 | Z25: =SUM(P25:Y25) -> 0 | AG25: =SUM(AH25:BH25) -> 0 | BI25: =SUM(BJ25:BT25) -> 0 | BU25: =SUM(BV25:CE25) -> 0 | CF25: =SUM(CG25:CJ25) -> 0 | CK25: =SUM(CL25:CM25) -> 0 | CN25: =SUM(CO25:CO25) -> 0 | CP25: =SUM(CN25,CK25,CF25,BU25,AG25,BI25) -> 0
A26: agastache ville de bourg la reine yellow | C26: 70-80 | D26: =O26 -> 0 | I26: =CP26 -> 0 | O26: =SUM(I26:N26)*1.1 -> 0 | Z26: =SUM(P26:Y26) -> 0 | AB26: 12 | AC26: 20 | AD26: 14 | AE26: Semis 01-05 2-3 mois de culture | AG26: =SUM(AH26:BH26) -> 0 | BI26: =SUM(BJ26:BT26) -> 0 | BU26: =SUM(BV26:CE26) -> 0 | CF26: =SUM(CG26:CJ26) -> 0 | CK26: =SUM(CL26:CM26) -> 0 | CN26: =SUM(CO26:CO26) -> 0 | CP26: =SUM(CN26,CK26,CF26,BU26,AG26,BI26) -> 0
A27: agératum ville d' Angers bleu | C27: 30-35 | D27: =O27 -> 0 | I27: =CP27 -> 0 | O27: =SUM(I27:N27)*1.1 -> 0 | Z27: =SUM(P27:Y27) -> 0 | AB27: 12 | AD27: 14 | AE27: Vivace -7 | AG27: =SUM(AH27:BH27) -> 0 | BI27: =SUM(BJ27:BT27) -> 0 | BU27: =SUM(BV27:CE27) -> 0 | CF27: =SUM(CG27:CJ27) -> 0 | CK27: =SUM(CL27:CM27) -> 0 | CN27: =SUM(CO27:CO27) -> 0 | CP27: =SUM(CN27,CK27,CF27,BU27,AG27,BI27) -> 0
A28: agératum blue planet bleu | C28: 60-70 | D28: =O28 -> 0 | I28: =CP28 -> 0 | O28: =SUM(I28:N28)*1.1 -> 0 | Z28: =SUM(P28:Y28) -> 0 | AB28: 12 | AD28: 14 | AG28: =SUM(AH28:BH28) -> 0 | BI28: =SUM(BJ28:BT28) -> 0 | BU28: =SUM(BV28:CE28) -> 0 | CF28: =SUM(CG28:CJ28) -> 0 | CK28: =SUM(CL28:CM28) -> 0 | CN28: =SUM(CO28:CO28) -> 0 | CP28: =SUM(CN28,CK28,CF28,BU28,AG28,BI28) -> 0
A29: agératum White alp blanc | C29: 60-70 | D29: =O29 -> 0 | I29: =CP29 -> 0 | O29: =SUM(I29:N29)*1.1 -> 0 | Z29: =SUM(P29:Y29) -> 0 | AG29: =SUM(AH29:BH29) -> 0 | BI29: =SUM(BJ29:BT29) -> 0 | BU29: =SUM(BV29:CE29) -> 0 | CF29: =SUM(CG29:CJ29) -> 0 | CK29: =SUM(CL29:CM29) -> 0 | CN29: =SUM(CO29:CO29) -> 0 | CP29: =SUM(CN29,CK29,CF29,BU29,AG29,BI29) -> 0
A30: agératum red flint rouge vineux /violet | C30: 60-70 | D30: =O30 -> 0 | I30: =CP30 -> 0 | O30: =SUM(I30:N30)*1.1 -> 0 | Z30: =SUM(P30:Y30) -> 0 | AG30: =SUM(AH30:BH30) -> 0 | BI30: =SUM(BJ30:BT30) -> 0 | BU30: =SUM(BV30:CE30) -> 0 | CF30: =SUM(CG30:CJ30) -> 0 | CK30: =SUM(CL30:CM30) -> 0 | CN30: =SUM(CO30:CO30) -> 0 | CP30: =SUM(CN30,CK30,CF30,BU30,AG30,BI30) -> 0
A31: alocasia calidora dwarf feuillage vert | C31: 100-150 | D31: =O31 -> 0 | I31: =CP31 -> 0 | O31: =SUM(I31:N31)*1.1 -> 0 | Z31: =SUM(P31:Y31) -> 0 | AG31: =SUM(AH31:BH31) -> 0 | BI31: =SUM(BJ31:BT31) -> 0 | BU31: =SUM(BV31:CE31) -> 0 | CF31: =SUM(CG31:CJ31) -> 0 | CK31: =SUM(CL31:CM31) -> 0 | CN31: =SUM(CO31:CO31) -> 0 | CP31: =SUM(CN31,CK31,CF31,BU31,AG31,BI31) -> 0
A32: acalypha wilkesiana Mosaic feuillage cuivré | C32: 50-60 | D32: =O32 -> 0 | I32: =CP32 -> 0 | O32: =SUM(I32:N32)*1.1 -> 0 | Z32: =SUM(P32:Y32) -> 0 | AG32: =SUM(AH32:BH32) -> 0 | BI32: =SUM(BJ32:BT32) -> 0 | BU32: =SUM(BV32:CE32) -> 0 | CF32: =SUM(CG32:CJ32) -> 0 | CK32: =SUM(CL32:CM32) -> 0 | CN32: =SUM(CO32:CO32) -> 0 | CP32: =SUM(CN32,CK32,CF32,BU32,AG32,BI32) -> 0
A33: acalypha wilkesiana red feuillage vert cuivré b crème | C33: 30/40 | D33: =O33 -> 0 | I33: =CP33 -> 0 | O33: =SUM(I33:N33)*1.1 -> 0 | Z33: =SUM(P33:Y33) -> 0 | AG33: =SUM(AH33:BH33) -> 0 | BI33: =SUM(BJ33:BT33) -> 0 | BU33: =SUM(BV33:CE33) -> 0 | CF33: =SUM(CG33:CJ33) -> 0 | CK33: =SUM(CL33:CM33) -> 0 | CN33: =SUM(CO33:CO33) -> 0 | CP33: =SUM(CN33,CK33,CF33,BU33,AG33,BI33) -> 0
A34: acalypha Gibraltar feuillage vert jaune | C34: 60-80 | D34: =O34 -> 0 | I34: =CP34 -> 0 | O34: =SUM(I34:N34)*1.1 -> 0 | Z34: =SUM(P34:Y34) -> 0 | AG34: =SUM(AH34:BH34) -> 0 | BI34: =SUM(BJ34:BT34) -> 0 | BU34: =SUM(BV34:CE34) -> 0 | CF34: =SUM(CG34:CJ34) -> 0 | CK34: =SUM(CL34:CM34) -> 0 | CN34: =SUM(CO34:CO34) -> 0 | CP34: =SUM(CN34,CK34,CF34,BU34,AG34,BI34) -> 0
A35: acalypha obovata feuillage ocre brun et terre cuite | C35: 60-80 | D35: =O35 -> 0 | I35: =CP35 -> 0 | O35: =SUM(I35:N35)*1.1 -> 0 | Z35: =SUM(P35:Y35) -> 0 | AG35: =SUM(AH35:BH35) -> 0 | BI35: =SUM(BJ35:BT35) -> 0 | BU35: =SUM(BV35:CE35) -> 0 | CF35: =SUM(CG35:CJ35) -> 0 | CK35: =SUM(CL35:CM35) -> 0 | CN35: =SUM(CO35:CO35) -> 0 | CP35: =SUM(CN35,CK35,CF35,BU35,AG35,BI35) -> 0
A36: Acanthe mexicana ' feuillage vert foncé veinées de blanc ' rose violet | C36: 150 | D36: =O36 -> 0 | I36: =CP36 -> 0 | O36: =SUM(I36:N36)*1.1 -> 0 | Z36: =SUM(P36:Y36) -> 0 | AG36: =SUM(AH36:BH36) -> 0 | BI36: =SUM(BJ36:BT36) -> 0 | BU36: =SUM(BV36:CE36) -> 0 | CF36: =SUM(CG36:CJ36) -> 0 | CK36: =SUM(CL36:CM36) -> 0 | CN36: =SUM(CO36:CO36) -> 0 | CP36: =SUM(CN36,CK36,CF36,BU36,AG36,BI36) -> 0
A37: alstroemeria Summer breeze ® Jaune strié | C37: 50 | D37: =O37 -> 0 | I37: =CP37 -> 0 | O37: =SUM(I37:N37)*1.1 -> 0 | Z37: =SUM(P37:Y37) -> 0 | AG37: =SUM(AH37:BH37) -> 0 | BI37: =SUM(BJ37:BT37) -> 0 | BU37: =SUM(BV37:CE37) -> 0 | CF37: =SUM(CG37:CJ37) -> 0 | CK37: =SUM(CL37:CM37) -> 0 | CN37: =SUM(CO37:CO37) -> 0 | CP37: =SUM(CN37,CK37,CF37,BU37,AG37,BI37) -> 0
A38: alstroemeria Indian summer ® jaune orange strié | C38: 60-70 | D38: =O38 -> 0 | I38: =CP38 -> 0 | O38: =SUM(I38:N38)*1.1 -> 0 | Z38: =SUM(P38:Y38) -> 0 | AG38: =SUM(AH38:BH38) -> 0 | BI38: =SUM(BJ38:BT38) -> 0 | BU38: =SUM(BV38:CE38) -> 0 | CF38: =SUM(CG38:CJ38) -> 0 | CK38: =SUM(CL38:CM38) -> 0 | CN38: =SUM(CO38:CO38) -> 0 | CP38: =SUM(CN38,CK38,CF38,BU38,AG38,BI38) -> 0
A39: alstroemeria summer Saint ® rose mauve | C39: 80 | D39: =O39 -> 0 | I39: =CP39 -> 0 | O39: =SUM(I39:N39)*1.1 -> 0 | Z39: =SUM(P39:Y39) -> 0 | AB39: 11 | AC39: 22 | AD39: 18 | AE39: Semis 01 pour flo en 05,4 mois de culture,ne pas recouvrir les gn | AG39: =SUM(AH39:BH39) -> 0 | BI39: =SUM(BJ39:BT39) -> 0 | BU39: =SUM(BV39:CE39) -> 0 | CF39: =SUM(CG39:CJ39) -> 0 | CK39: =SUM(CL39:CM39) -> 0 | CN39: =SUM(CO39:CO39) -> 0 | CP39: =SUM(CN39,CK39,CF39,BU39,AG39,BI39) -> 0
A40: alternanthera purple knight rouge | C40: 40-50 | D40: =O40 -> 0 | I40: =CP40 -> 0 | O40: =SUM(I40:N40)*1.1 -> 0 | Z40: =SUM(P40:Y40) -> 0 | AG40: =SUM(AH40:BH40) -> 0 | BI40: =SUM(BJ40:BT40) -> 0 | BU40: =SUM(BV40:CE40) -> 0 | CF40: =SUM(CG40:CJ40) -> 0 | CK40: =SUM(CL40:CM40) -> 0 | CN40: =SUM(CO40:CO40) -> 0 | CP40: =SUM(CN40,CK40,CF40,BU40,AG40,BI40) -> 0
A41: alternanthera Party time vert rose | C41: 50 | D41: =O41 -> 0 | I41: =CP41 -> 0 | O41: =SUM(I41:N41)*1.1 -> 0 | Z41: =SUM(P41:Y41) -> 0 | AB41: 13 | AC41: 20 | AD41: 16 | AE41: Semis 02-05 ,3 mois de culture,flo 06-08 | AG41: =SUM(AH41:BH41) -> 0 | BI41: =SUM(BJ41:BT41) -> 0 | BU41: =SUM(BV41:CE41) -> 0 | CF41: =SUM(CG41:CJ41) -> 0 | CK41: =SUM(CL41:CM41) -> 0 | CN41: =SUM(CO41:CO41) -> 0 | CP41: =SUM(CN41,CK41,CF41,BU41,AG41,BI41) -> 0
A42: amarante Caudatus queue verte 'viridis' vert | C42: 100/120 | D42: =O42 -> 0 | I42: =CP42 -> 0 | O42: =SUM(I42:N42)*1.1 -> 0 | Z42: =SUM(P42:Y42) -> 0 | AG42: =SUM(AH42:BH42) -> 0 | BI42: =SUM(BJ42:BT42) -> 0 | BU42: =SUM(BV42:CE42) -> 0 | CF42: =SUM(CG42:CJ42) -> 0 | CK42: =SUM(CL42:CM42) -> 0 | CN42: =SUM(CO42:CO42) -> 0 | CP42: =SUM(CN42,CK42,CF42,BU42,AG42,BI42) -> 0
A43: amarante Caudatus 'queue de renard ' rouge | C43: 80 | D43: =O43 -> 0 | I43: =CP43 -> 0 | O43: =SUM(I43:N43)*1.1 -> 0 | Z43: =SUM(P43:Y43) -> 0 | AG43: =SUM(AH43:BH43) -> 0 | BI43: =SUM(BJ43:BT43) -> 0 | BU43: =SUM(BV43:CE43) -> 0 | CF43: =SUM(CG43:CJ43) -> 0 | CK43: =SUM(CL43:CM43) -> 0 | CN43: =SUM(CO43:CO43) -> 0 | CP43: =SUM(CN43,CK43,CF43,BU43,AG43,BI43) -> 0
A44: amarante paniculée 'hot biscuits ' bronze | C44: 100/120 | D44: =O44 -> 0 | I44: =CP44 -> 0 | O44: =SUM(I44:N44)*1.1 -> 0 | Z44: =SUM(P44:Y44) -> 0 | AB44: 13 | AC44: 15 | AD44: 12 | AE44: Semis 03 ou 04-05 pleine terre,germination 7-14 jours | AG44: =SUM(AH44:BH44) -> 0 | BI44: =SUM(BJ44:BT44) -> 0 | BU44: =SUM(BV44:CE44) -> 0 | CF44: =SUM(CG44:CJ44) -> 0 | CK44: =SUM(CL44:CM44) -> 0 | CN44: =SUM(CO44:CO44) -> 0 | CP44: =SUM(CN44,CK44,CF44,BU44,AG44,BI44) -> 0
...

Sheet edition
A3: urbain
A4: Square George v Massif rond 38m²
A5: =IFERROR(MATCH(A4,données!6:6,0),"non trouvé") -> 34
A7: =données!A7 -> DESIGNATION | B7: =données!B7 -> COULEUR | C7: =données!C7 -> HAUTEUR | D7: NB
A8: =données!A8 -> abutilon Souvenir de bonn Orange | B8: =IF(données!B8="","",données!B8) | C8: =données!C8 -> 90-100 | D8: =OFFSET(données!A8,,$A$5-1) -> 0
A9: =données!A9 -> abutilon feuille panaché jaune rouge | B9: =IF(données!B9="","",données!B9) | C9: =données!C9 -> 120 | D9: =OFFSET(données!A9,,$A$5-1) -> 0
A10: =données!A10 -> agastache foeniculum² ' Little adder ' bleu | B10: =IF(données!B10="","",données!B10) | C10: =données!C10 -> 40-50 | D10: =OFFSET(données!A10,,$A$5-1) -> 0
A11: =données!A11 -> agastache Aurantiaca . ' citronnade ' jaune | B11: =IF(données!B11="","",données!B11) | C11: =données!C11 -> 50-60 | D11: =OFFSET(données!A11,,$A$5-1) -> 0
A12: =données!A12 -> agastache Aurantiaca . ' Orangeade ' orange | B12: =IF(données!B12="","",données!B12) | C12: =données!C12 -> 50-60 | D12: =OFFSET(données!A12,,$A$5-1) -> 0
A13: =données!A13 -> agastache Aurantiaca . ' kudos ' silver blue bleu | B13: =IF(données!B13="","",données!B13) | C13: =données!C13 -> 30-40 | D13: =OFFSET(données!A13,,$A$5-1) -> 0
A14: =données!A14 -> agastache Aurantiaca . ' kudos ' Mandarin orange | B14: =IF(données!B14="","",données!B14) | C14: =données!C14 -> 30-40 | D14: =OFFSET(données!A14,,$A$5-1) -> 0
A15: =données!A15 -> agastache Aurantiaca . ' kudos ' Coral rouge | B15: =IF(données!B15="","",données!B15) | C15: =données!C15 -> 30-40 | D15: =OFFSET(données!A15,,$A$5-1) -> 0
A16: =données!A16 -> agastache Aurantiaca . ' kudos ' yellow jaune | B16: =IF(données!B16="","",données!B16) | C16: =données!C16 -> 30-40 | D16: =OFFSET(données!A16,,$A$5-1) -> 0
A17: =données!A17 -> agastache Urticifolia . Top white blanc | B17: =IF(données!B17="","",données!B17) | C17: =données!C17 -> 70 | D17: =OFFSET(données!A17,,$A$5-1) -> 0
A18: =données!A18 -> agastache Urticifolia . Top blue ' Coerulea bleu ( top bleu ) bleu violet | B18: =IF(données!B18="","",données!B18) | C18: =données!C18 -> 70 | D18: =OFFSET(données!A18,,$A$5-1) -> 0
A19: =données!A19 -> agastache Astromontana . pink pop rose lavande | B19: =IF(données!B19="","",données!B19) | C19: =données!C19 -> 40 | D19: =OFFSET(données!A19,,$A$5-1) -> 0
... A715: =données!A715 -> zinnia profusion orange | B715: =IF(données!B715="","",données!B715) | C715: =données!C715 -> 0 | D715: =OFFSET(données!A715,,$A$5-1) -> 0

Sheet parametres
A3: secteur | C3: urbain | E3: saragosse | G3: périurbain | I3: pavillon ouest | K3: pavillon est | M3: hameau
A4: urbain | C4: Square George v Massif rond 38m² | E4: Peyroulet 32m² | G4: PLACE ALBERT 1ER 55M² | I4: RP Mitterrand 80m² | K4: RP Mouchotte 85m² | M4: divers
A5: périurbain | C5: Square George v Contour | E5: Rp Droit de L'Homme 130 m2 | G5: MARCA ETTIGNY 65M² | I5: Olof Palme | K5: Rp Yitzhat Rabin 165 m2
A6: pavillon ouest | C6: Plate bande Aragon 104 m2 | G6: PARC LAWRENCE 12M² | I6: Bd de la Paix angle Montardon19m² | K6: Allées de Morlaas 28m²
A7: pavillon est | C7: Bd des pyrénées | G7: Eglise St Joseph 18m² | I7: RP ATTIGNY | K7: Formose
A8: saragosse | C8: Fontaine de Vigny 48m² | G8: Place du Foirial 28m² | I8: RP
A9: hameau | C9: Place Clémenceau 400m² | G9: Foire massif +jardinières | I9: Berlioz centre Commercial 6m²
C10: MonumentST Martin 7m² | G10: Jardinières Gassiot Montpensier | I10: Mermoz angle Bd Paix resto 3m²
C11: Junipérus 25m² | G11: Massif entrée Cours Camou | I11: Ecole lilas 7M² +10 petites jds
C12: Funiculaire 17m² | G12: place Gramont 120m² | I12: Ecole Lavigne 10m² + jds
C13: Monnaie Château 16m² | G13: Lawrence Av de la Résistance | I13: Ecole hippodrome 5m² + 22 jds
C14: Monnaie Grille 10m² | G14: Carré Parc Lawrence
C15: feux Monnaie 12m²
C16: Jardinières Cassin
C17: Jardinières ACBB
C18: Jardinières Parking Gare
C19: Palais beaumont 110m²
C20: St Criq 38m²
C21: Femme au Puit 14m²
C22: Villa St Basils Entrée 48m²
C23: St Basils Terrasse 22m²
C24: St Basils massif Du fond 20m²
C25: D'Artagnan 18m²
C26: Statue Foch 47m²
... C30: beaumont Parc
