Workbook
Name agents: personnel!$B$5:$B$34
Name chef: liste!$J$2:$J$31
Name Equipier: liste!$M$2:$M$31
Name extincteur: liste!$P$2:$P$31
Name PL: liste!$G$2:$G$31
Name PNR: liste!$D$2:$D$31
Name Preventeur: liste!$A$2:$A$31
Name tout: liste!$S$2:$S$31

Sheet personnel
C1: compétences
H2: MMI
C3: =COUNTIF(C5:C34,"x") -> 7 | D3: =COUNTIF(D5:D34,"x") -> 5 | E3: =COUNTIF(E5:E34,"x") -> 18 | F3: =COUNTIF(F5:F34,"x") -> 10 | G3: =COUNTIF(G5:G34,"x") -> 10 | H3: =COUNTIF(H5:H34,"x") -> 10 | I3: =COUNTIF(I5:I34,"x") -> 4 | J3: =COUNTIF(J5:J34,"x") -> 7 | ... L3: =COUNTIF(L5:L34,"x") -> 3
B4: AGENTS | C4: chef d'équipe | D4: Préventeur | E4: Equipier | F4: PNR | G4: Poids Lourds | H4: extincteur | I4: RIA | J4: PCF | K4: Poteau | L4: exutoire
A5: 1 | B5: GOGUYER | C5: X | F5: X | G5: X
A6: 2 | B6: DEMON | C6: X | F6: X
A7: 3 | B7: REVOIL | C7: X | F7: X
A8: 4 | B8: VASCHALDE | C8: X | F8: X
A9: 5 | B9: BOUILLARD | C9: X | F9: X
A10: 6 | B10: GONCALVES | C10: X
A11: 7 | B11: SZENK | C11: X | H11: X | I11: X | J11: X | K11: X | L11: X
A12: 8 | B12: DURAND | D12: X | F12: X | G12: X
A13: 9 | B13: MARTINEZ | D13: X | F13: X
A14: 10 | B14: QUINONERO | D14: X | F14: X
A15: 11 | B15: SPIZAK | D15: X | F15: X
A16: 12 | B16: PAQUIEN | D16: X | G16: X | J16: X
A17: 13 | B17: LOPEZ | E17: X | F17: X | G17: X | I17: X
A18: 14 | B18: BAZIN | E18: X | G18: X | H18: X
A19: 15 | B19: BRIER | E19: X | G19: X
A20: 16 | B20: CASTELLO | E20: X | G20: X | H20: X
A21: 17 | B21: FINET | E21: X | G21: X | J21: X
A22: 18 | B22: MADANGA | E22: X | G22: X | H22: X | I22: X | J22: X | K22: X | L22: X
A23: 19 | B23: MASSELOT | E23: X | G23: X | H23: X | I23: X | J23: X | K23: X | L23: X
A24: 20 | B24: AUBANEL | E24: X
A25: 21 | B25: BIANCO | E25: X
A26: 22 | B26: GAILLARD | E26: X | H26: X
A27: 23 | B27: GARNIER | E27: X | H27: X
A28: 24 | B28: MALATRE | E28: X | J28: X
A29: 25 | B29: MARTY | E29: X | H29: X
A30: 26 | B30: NOGBOUN | E30: X | H30: X
A31: 27 | B31: NOUVEAU2 | E31: X
A32: 28 | B32: PLUTON | E32: X
A33: 29 | B33: SANTUCCI | E33: X | H33: X | J33: X
A34: 30 | B34: VINCENT | E34: X

Sheet criticité
A1: COMPETENCE | B1: DISPO | C1: BESOIN | D1: RATIO
A2: Préventeur | B2: =INDEX(personnel!$3:$3,MATCH(A2,personnel!$4:$4,0)) -> 5 | C2: =COUNTIF(equipe!$A:$A,A2)*5 -> 5 | D2: =B2/C2 -> 1
A3: PNR | B3: =INDEX(personnel!$3:$3,MATCH(A3,personnel!$4:$4,0)) -> 10 | C3: =COUNTIF(equipe!$A:$A,A3)*5 -> 10 | D3: =B3/C3 -> 1
A4: Poids Lourds | B4: =INDEX(personnel!$3:$3,MATCH(A4,personnel!$4:$4,0)) -> 10 | C4: =COUNTIF(equipe!$A:$A,A4)*5 -> 10 | D4: =B4/C4 -> 1
A5: chef d'équipe | B5: =INDEX(personnel!$3:$3,MATCH(A5,personnel!$4:$4,0)) -> 7 | C5: =COUNTIF(equipe!$A:$A,A5)*5 -> 5 | D5: =B5/C5 -> 1.4
A6: Equipier | B6: =INDEX(personnel!$3:$3,MATCH(A6,personnel!$4:$4,0)) -> 18 | C6: =COUNTIF(equipe!$A:$A,A6)*5 -> 10 | D6: =B6/C6 -> 1.8
A7: extincteur | B7: =INDEX(personnel!$3:$3,MATCH(A7,personnel!$4:$4,0)) -> 10 | C7: =COUNTIF(equipe!$A:$A,A7)*5 -> 5 | D7: =B7/C7 -> 2

Sheet liste
A1: Préventeur | B1: Préventeur | C1: Préventeur | D1: PNR | E1: PNR | F1: PNR | G1: Poids Lourds | H1: Poids Lourds | I1: Poids Lourds | J1: chef d'équipe | K1: chef d'équipe | L1: chef d'équipe | M1: Equipier | N1: Equipier | O1: Equipier | P1: extincteur | Q1: extincteur | R1: extincteur | S1: tout | T1: tout | U1: tout
A2: {=IFERROR(INDEX(agents,SMALL(IF(personnel!D$5:D$34="x",ROW(agents)-4,9^9),ROW()-1)),"")} -> DURAND | B2: =IF(A2="","",RANDBETWEEN(1,9)+ROW()/100) -> 8.02 | C2: =IFERROR(RANK(B2,B$2:B$31),"") -> 1 | D2: {=IFERROR(INDEX(agents,SMALL(IF(personnel!F$5:F$34="x",ROW(agents)-4,9^9),ROW()-1)),"")} -> GOGUYER | E2: =IF(OR(D2="",COUNTIF(equipe!$G$3:$K$3,D2)>0),"",RANDBETWEEN(1,9)+ROW()/100) -> 4.02 | F2: =IFERROR(RANK(E2,E$2:E$31),"") -> 5 | G2: {=IFERROR(INDEX(agents,SMALL(IF(personnel!G$5:G$34="x",ROW(agents)-4,9^9),ROW()-1)),"")} -> GOGUYER | H2: =IF(OR(G2="",COUNTIF(equipe!$G$3:$K$5,G2)>0),"",RANDBETWEEN(1,9)+ROW()/100) | I2: =IFERROR(RANK(H2,H$2:H$31),"") | J2: {=IFERROR(INDEX(agents,SMALL(IF(personnel!C$5:C$34="x",ROW(agents)-4,9^9),ROW()-1)),"")} -> GOGUYER | K2: =IF(OR(J2="",COUNTIF(equipe!$G$3:$K$7,J2)>0),"",RANDBETWEEN(1,9)+ROW()/100) | L2: =IFERROR(RANK(K2,K$2:K$31),"") | M2: {=IFERROR(INDEX(agents,SMALL(IF(personnel!E$5:E$34="x",ROW(agents)-4,9^9),ROW()-1)),"")} -> LOPEZ | N2: =IF(OR(M2="",COUNTIF(equipe!$G$3:$K$8,M2)>0),"",RANDBETWEEN(1,9)+ROW()/100) | O2: =IFERROR(RANK(N2,N$2:N$31),"") | P2: {=IFERROR(INDEX(agents,SMALL(IF(personnel!H$5:H$34="x",ROW(agents)-4,9^9),ROW()-1)),"")} -> SZENK | Q2: =IF(OR(P2="",COUNTIF(equipe!$G$3:$K$10,P2)>0),"",RANDBETWEEN(1,9)+ROW()/100) | R2: =IFERROR(RANK(Q2,Q$2:Q$31),"") | S2: =personnel!B5 -> GOGUYER | T2: =IF(OR(S2="",COUNTIF(equipe!$G$3:$K$11,S2)>0),"",RANDBETWEEN(1,9)+ROW()/100) | U2: =IFERROR(RANK(T2,T$2:T$31),"")
A3: {=IFERROR(INDEX(agents,SMALL(IF(personnel!D$5:D$34="x",ROW(agents)-4,9^9),ROW()-1)),"")} -> MARTINEZ | B3: =IF(A3="","",RANDBETWEEN(1,9)+ROW()/100) -> 1.03 | C3: =IFERROR(RANK(B3,B$2:B$31),"") -> 5 | D3: {=IFERROR(INDEX(agents,SMALL(IF(personnel!F$5:F$34="x",ROW(agents)-4,9^9),ROW()-1)),"")} -> DEMON | E3: =IF(OR(D3="",COUNTIF(equipe!$G$3:$K$3,D3)>0),"",RANDBETWEEN(1,9)+ROW()/100) -> 6.03 | F3: =IFERROR(RANK(E3,E$2:E$31),"") -> 4 | G3: {=IFERROR(INDEX(agents,SMALL(IF(personnel!G$5:G$34="x",ROW(agents)-4,9^9),ROW()-1)),"")} -> DURAND | H3: =IF(OR(G3="",COUNTIF(equipe!$G$3:$K$5,G3)>0),"",RANDBETWEEN(1,9)+ROW()/100) | I3: =IFERROR(RANK(H3,H$2:H$31),"") | J3: {=IFERROR(INDEX(agents,SMALL(IF(personnel!C$5:C$34="x",ROW(agents)-4,9^9),ROW()-1)),"")} -> DEMON | K3: =IF(OR(J3="",COUNTIF(equipe!$G$3:$K$7,J3)>0),"",RANDBETWEEN(1,9)+ROW()/100) | L3: =IFERROR(RANK(K3,K$2:K$31),"") | M3: {=IFERROR(INDEX(agents,SMALL(IF(personnel!E$5:E$34="x",ROW(agents)-4,9^9),ROW()-1)),"")} -> BAZIN | N3: =IF(OR(M3="",COUNTIF(equipe!$G$3:$K$8,M3)>0),"",RANDBETWEEN(1,9)+ROW()/100) | O3: =IFERROR(RANK(N3,N$2:N$31),"") | P3: {=IFERROR(INDEX(agents,SMALL(IF(personnel!H$5:H$34="x",ROW(agents)-4,9^9),ROW()-1)),"")} -> BAZIN | Q3: =IF(OR(P3="",COUNTIF(equipe!$G$3:$K$10,P3)>0),"",RANDBETWEEN(1,9)+ROW()/100) | R3: =IFERROR(RANK(Q3,Q$2:Q$31),"") | S3: =personnel!B6 -> DEMON | T3: =IF(OR(S3="",COUNTIF(equipe!$G$3:$K$11,S3)>0),"",RANDBETWEEN(1,9)+ROW()/100) | U3: =IFERROR(RANK(T3,T$2:T$31),"")
A4: {=IFERROR(INDEX(agents,SMALL(IF(personnel!D$5:D$34="x",ROW(agents)-4,9^9),ROW()-1)),"")} -> QUINONERO | B4: =IF(A4="","",RANDBETWEEN(1,9)+ROW()/100) -> 1.04 | C4: =IFERROR(RANK(B4,B$2:B$31),"") -> 4 | D4: {=IFERROR(INDEX(agents,SMALL(IF(personnel!F$5:F$34="x",ROW(agents)-4,9^9),ROW()-1)),"")} -> REVOIL | E4: =IF(OR(D4="",COUNTIF(equipe!$G$3:$K$3,D4)>0),"",RANDBETWEEN(1,9)+ROW()/100) -> 8.04 | F4: =IFERROR(RANK(E4,E$2:E$31),"") -> 3 | G4: {=IFERROR(INDEX(agents,SMALL(IF(personnel!G$5:G$34="x",ROW(agents)-4,9^9),ROW()-1)),"")} -> PAQUIEN | H4: =IF(OR(G4="",COUNTIF(equipe!$G$3:$K$5,G4)>0),"",RANDBETWEEN(1,9)+ROW()/100) | I4: =IFERROR(RANK(H4,H$2:H$31),"") | J4: {=IFERROR(INDEX(agents,SMALL(IF(personnel!C$5:C$34="x",ROW(agents)-4,9^9),ROW()-1)),"")} -> REVOIL | K4: =IF(OR(J4="",COUNTIF(equipe!$G$3:$K$7,J4)>0),"",RANDBETWEEN(1,9)+ROW()/100) | L4: =IFERROR(RANK(K4,K$2:K$31),"") | M4: {=IFERROR(INDEX(agents,SMALL(IF(personnel!E$5:E$34="x",ROW(agents)-4,9^9),ROW()-1)),"")} -> BRIER | N4: =IF(OR(M4="",COUNTIF(equipe!$G$3:$K$8,M4)>0),"",RANDBETWEEN(1,9)+ROW()/100) | O4: =IFERROR(RANK(N4,N$2:N$31),"") | P4: {=IFERROR(INDEX(agents,SMALL(IF(personnel!H$5:H$34="x",ROW(agents)-4,9^9),ROW()-1)),"")} -> CASTELLO | Q4: =IF(OR(P4="",COUNTIF(equipe!$G$3:$K$10,P4)>0),"",RANDBETWEEN(1,9)+ROW()/100) | R4: =IFERROR(RANK(Q4,Q$2:Q$31),"") | S4: =personnel!B7 -> REVOIL | T4: =IF(OR(S4="",COUNTIF(equipe!$G$3:$K$11,S4)>0),"",RANDBETWEEN(1,9)+ROW()/100) | U4: =IFERROR(RANK(T4,T$2:T$31),"")
A5: {=IFERROR(INDEX(agents,SMALL(IF(personnel!D$5:D$34="x",ROW(agents)-4,9^9),ROW()-1)),"")} -> SPIZAK | B5: =IF(A5="","",RANDBETWEEN(1,9)+ROW()/100) -> 2.05 | C5: =IFERROR(RANK(B5,B$2:B$31),"") -> 2 | D5: {=IFERROR(INDEX(agents,SMALL(IF(personnel!F$5:F$34="x",ROW(agents)-4,9^9),ROW()-1)),"")} -> VASCHALDE | E5: =IF(OR(D5="",COUNTIF(equipe!$G$3:$K$3,D5)>0),"",RANDBETWEEN(1,9)+ROW()/100) -> 8.05 | F5: =IFERROR(RANK(E5,E$2:E$31),"") -> 2 | G5: {=IFERROR(INDEX(agents,SMALL(IF(personnel!G$5:G$34="x",ROW(agents)-4,9^9),ROW()-1)),"")} -> LOPEZ | H5: =IF(OR(G5="",COUNTIF(equipe!$G$3:$K$5,G5)>0),"",RANDBETWEEN(1,9)+ROW()/100) | I5: =IFERROR(RANK(H5,H$2:H$31),"") | J5: {=IFERROR(INDEX(agents,SMALL(IF(personnel!C$5:C$34="x",ROW(agents)-4,9^9),ROW()-1)),"")} -> VASCHALDE | K5: =IF(OR(J5="",COUNTIF(equipe!$G$3:$K$7,J5)>0),"",RANDBETWEEN(1,9)+ROW()/100) | L5: =IFERROR(RANK(K5,K$2:K$31),"") | M5: {=IFERROR(INDEX(agents,SMALL(IF(personnel!E$5:E$34="x",ROW(agents)-4,9^9),ROW()-1)),"")} -> CASTELLO | N5: =IF(OR(M5="",COUNTIF(equipe!$G$3:$K$8,M5)>0),"",RANDBETWEEN(1,9)+ROW()/100) | O5: =IFERROR(RANK(N5,N$2:N$31),"") | P5: {=IFERROR(INDEX(agents,SMALL(IF(personnel!H$5:H$34="x",ROW(agents)-4,9^9),ROW()-1)),"")} -> MADANGA | Q5: =IF(OR(P5="",COUNTIF(equipe!$G$3:$K$10,P5)>0),"",RANDBETWEEN(1,9)+ROW()/100) | R5: =IFERROR(RANK(Q5,Q$2:Q$31),"") | S5: =personnel!B8 -> VASCHALDE | T5: =IF(OR(S5="",COUNTIF(equipe!$G$3:$K$11,S5)>0),"",RANDBETWEEN(1,9)+ROW()/100) | U5: =IFERROR(RANK(T5,T$2:T$31),"")
A6: {=IFERROR(INDEX(agents,SMALL(IF(personnel!D$5:D$34="x",ROW(agents)-4,9^9),ROW()-1)),"")} -> PAQUIEN | B6: =IF(A6="","",RANDBETWEEN(1,9)+ROW()/100) -> 1.06 | C6: =IFERROR(RANK(B6,B$2:B$31),"") -> 3 | D6: {=IFERROR(INDEX(agents,SMALL(IF(personnel!F$5:F$34="x",ROW(agents)-4,9^9),ROW()-1)),"")} -> BOUILLARD | E6: =IF(OR(D6="",COUNTIF(equipe!$G$3:$K$3,D6)>0),"",RANDBETWEEN(1,9)+ROW()/100) -> 9.06 | F6: =IFERROR(RANK(E6,E$2:E$31),"") -> 1 | G6: {=IFERROR(INDEX(agents,SMALL(IF(personnel!G$5:G$34="x",ROW(agents)-4,9^9),ROW()-1)),"")} -> BAZIN | H6: =IF(OR(G6="",COUNTIF(equipe!$G$3:$K$5,G6)>0),"",RANDBETWEEN(1,9)+ROW()/100) -> 7.06 | I6: =IFERROR(RANK(H6,H$2:H$31),"") -> 3 | J6: {=IFERROR(INDEX(agents,SMALL(IF(personnel!C$5:C$34="x",ROW(agents)-4,9^9),ROW()-1)),"")} -> BOUILLARD | K6: =IF(OR(J6="",COUNTIF(equipe!$G$3:$K$7,J6)>0),"",RANDBETWEEN(1,9)+ROW()/100) | L6: =IFERROR(RANK(K6,K$2:K$31),"") | M6: {=IFERROR(INDEX(agents,SMALL(IF(personnel!E$5:E$34="x",ROW(agents)-4,9^9),ROW()-1)),"")} -> FINET | N6: =IF(OR(M6="",COUNTIF(equipe!$G$3:$K$8,M6)>0),"",RANDBETWEEN(1,9)+ROW()/100) | O6: =IFERROR(RANK(N6,N$2:N$31),"") | P6: {=IFERROR(INDEX(agents,SMALL(IF(personnel!H$5:H$34="x",ROW(agents)-4,9^9),ROW()-1)),"")} -> MASSELOT | Q6: =IF(OR(P6="",COUNTIF(equipe!$G$3:$K$10,P6)>0),"",RANDBETWEEN(1,9)+ROW()/100) | R6: =IFERROR(RANK(Q6,Q$2:Q$31),"") | S6: =personnel!B9 -> BOUILLARD | T6: =IF(OR(S6="",COUNTIF(equipe!$G$3:$K$11,S6)>0),"",RANDBETWEEN(1,9)+ROW()/100) | U6: =IFERROR(RANK(T6,T$2:T$31),"")
A7: {=IFERROR(INDEX(agents,SMALL(IF(personnel!D$5:D$34="x",ROW(agents)-4,9^9),ROW()-1)),"")} | B7: =IF(A7="","",RANDBETWEEN(1,9)+ROW()/100) | C7: =IFERROR(RANK(B7,B$2:B$31),"") | D7: {=IFERROR(INDEX(agents,SMALL(IF(personnel!F$5:F$34="x",ROW(agents)-4,9^9),ROW()-1)),"")} -> DURAND | E7: =IF(OR(D7="",COUNTIF(equipe!$G$3:$K$3,D7)>0),"",RANDBETWEEN(1,9)+ROW()/100) | F7: =IFERROR(RANK(E7,E$2:E$31),"") | G7: {=IFERROR(INDEX(agents,SMALL(IF(personnel!G$5:G$34="x",ROW(agents)-4,9^9),ROW()-1)),"")} -> BRIER | H7: =IF(OR(G7="",COUNTIF(equipe!$G$3:$K$5,G7)>0),"",RANDBETWEEN(1,9)+ROW()/100) -> 6.07 | I7: =IFERROR(RANK(H7,H$2:H$31),"") -> 4 | J7: {=IFERROR(INDEX(agents,SMALL(IF(personnel!C$5:C$34="x",ROW(agents)-4,9^9),ROW()-1)),"")} -> GONCALVES | K7: =IF(OR(J7="",COUNTIF(equipe!$G$3:$K$7,J7)>0),"",RANDBETWEEN(1,9)+ROW()/100) -> 1.07 | L7: =IFERROR(RANK(K7,K$2:K$31),"") -> 2 | M7: {=IFERROR(INDEX(agents,SMALL(IF(personnel!E$5:E$34="x",ROW(agents)-4,9^9),ROW()-1)),"")} -> MADANGA | N7: =IF(OR(M7="",COUNTIF(equipe!$G$3:$K$8,M7)>0),"",RANDBETWEEN(1,9)+ROW()/100) | O7: =IFERROR(RANK(N7,N$2:N$31),"") | P7: {=IFERROR(INDEX(agents,SMALL(IF(personnel!H$5:H$34="x",ROW(agents)-4,9^9),ROW()-1)),"")} -> GAILLARD | Q7: =IF(OR(P7="",COUNTIF(equipe!$G$3:$K$10,P7)>0),"",RANDBETWEEN(1,9)+ROW()/100) -> 1.07 | R7: =IFERROR(RANK(Q7,Q$2:Q$31),"") -> 5 | S7: =personnel!B10 -> GONCALVES | T7: =IF(OR(S7="",COUNTIF(equipe!$G$3:$K$11,S7)>0),"",RANDBETWEEN(1,9)+ROW()/100) -> 2.07 | U7: =IFERROR(RANK(T7,T$2:T$31),"") -> 7
A8: {=IFERROR(INDEX(agents,SMALL(IF(personnel!D$5:D$34="x",ROW(agents)-4,9^9),ROW()-1)),"")} | B8: =IF(A8="","",RANDBETWEEN(1,9)+ROW()/100) | C8: =IFERROR(RANK(B8,B$2:B$31),"") | D8: {=IFERROR(INDEX(agents,SMALL(IF(personnel!F$5:F$34="x",ROW(agents)-4,9^9),ROW()-1)),"")} -> MARTINEZ | E8: =IF(OR(D8="",COUNTIF(equipe!$G$3:$K$3,D8)>0),"",RANDBETWEEN(1,9)+ROW()/100) | F8: =IFERROR(RANK(E8,E$2:E$31),"") | G8: {=IFERROR(INDEX(agents,SMALL(IF(personnel!G$5:G$34="x",ROW(agents)-4,9^9),ROW()-1)),"")} -> CASTELLO | H8: =IF(OR(G8="",COUNTIF(equipe!$G$3:$K$5,G8)>0),"",RANDBETWEEN(1,9)+ROW()/100) -> 4.08 | I8: =IFERROR(RANK(H8,H$2:H$31),"") -> 6 | J8: {=IFERROR(INDEX(agents,SMALL(IF(personnel!C$5:C$34="x",ROW(agents)-4,9^9),ROW()-1)),"")} -> SZENK | K8: =IF(OR(J8="",COUNTIF(equipe!$G$3:$K$7,J8)>0),"",RANDBETWEEN(1,9)+ROW()/100) -> 2.08 | L8: =IFERROR(RANK(K8,K$2:K$31),"") -> 1 | M8: {=IFERROR(INDEX(agents,SMALL(IF(personnel!E$5:E$34="x",ROW(agents)-4,9^9),ROW()-1)),"")} -> MASSELOT | N8: =IF(OR(M8="",COUNTIF(equipe!$G$3:$K$8,M8)>0),"",RANDBETWEEN(1,9)+ROW()/100) | O8: =IFERROR(RANK(N8,N$2:N$31),"") | P8: {=IFERROR(INDEX(agents,SMALL(IF(personnel!H$5:H$34="x",ROW(agents)-4,9^9),ROW()-1)),"")} -> GARNIER | Q8: =IF(OR(P8="",COUNTIF(equipe!$G$3:$K$10,P8)>0),"",RANDBETWEEN(1,9)+ROW()/100) -> 9.08 | R8: =IFERROR(RANK(Q8,Q$2:Q$31),"") -> 1 | S8: =personnel!B11 -> SZENK | T8: =IF(OR(S8="",COUNTIF(equipe!$G$3:$K$11,S8)>0),"",RANDBETWEEN(1,9)+ROW()/100) | U8: =IFERROR(RANK(T8,T$2:T$31),"")
A9: {=IFERROR(INDEX(agents,SMALL(IF(personnel!D$5:D$34="x",ROW(agents)-4,9^9),ROW()-1)),"")} | B9: =IF(A9="","",RANDBETWEEN(1,9)+ROW()/100) | C9: =IFERROR(RANK(B9,B$2:B$31),"") | D9: {=IFERROR(INDEX(agents,SMALL(IF(personnel!F$5:F$34="x",ROW(agents)-4,9^9),ROW()-1)),"")} -> QUINONERO | E9: =IF(OR(D9="",COUNTIF(equipe!$G$3:$K$3,D9)>0),"",RANDBETWEEN(1,9)+ROW()/100) | F9: =IFERROR(RANK(E9,E$2:E$31),"") | G9: {=IFERROR(INDEX(agents,SMALL(IF(personnel!G$5:G$34="x",ROW(agents)-4,9^9),ROW()-1)),"")} -> FINET | H9: =IF(OR(G9="",COUNTIF(equipe!$G$3:$K$5,G9)>0),"",RANDBETWEEN(1,9)+ROW()/100) -> 7.09 | I9: =IFERROR(RANK(H9,H$2:H$31),"") -> 2 | J9: {=IFERROR(INDEX(agents,SMALL(IF(personnel!C$5:C$34="x",ROW(agents)-4,9^9),ROW()-1)),"")} | K9: =IF(OR(J9="",COUNTIF(equipe!$G$3:$K$7,J9)>0),"",RANDBETWEEN(1,9)+ROW()/100) | L9: =IFERROR(RANK(K9,K$2:K$31),"") | M9: {=IFERROR(INDEX(agents,SMALL(IF(personnel!E$5:E$34="x",ROW(agents)-4,9^9),ROW()-1)),"")} -> AUBANEL | N9: =IF(OR(M9="",COUNTIF(equipe!$G$3:$K$8,M9)>0),"",RANDBETWEEN(1,9)+ROW()/100) -> 5.09 | O9: =IFERROR(RANK(N9,N$2:N$31),"") -> 7 | P9: {=IFERROR(INDEX(agents,SMALL(IF(personnel!H$5:H$34="x",ROW(agents)-4,9^9),ROW()-1)),"")} -> MARTY | Q9: =IF(OR(P9="",COUNTIF(equipe!$G$3:$K$10,P9)>0),"",RANDBETWEEN(1,9)+ROW()/100) -> 2.09 | R9: =IFERROR(RANK(Q9,Q$2:Q$31),"") -> 4 | S9: =personnel!B12 -> DURAND | T9: =IF(OR(S9="",COUNTIF(equipe!$G$3:$K$11,S9)>0),"",RANDBETWEEN(1,9)+ROW()/100) | U9: =IFERROR(RANK(T9,T$2:T$31),"")
A10: {=IFERROR(INDEX(agents,SMALL(IF(personnel!D$5:D$34="x",ROW(agents)-4,9^9),ROW()-1)),"")} | B10: =IF(A10="","",RANDBETWEEN(1,9)+ROW()/100) | C10: =IFERROR(RANK(B10,B$2:B$31),"") | D10: {=IFERROR(INDEX(agents,SMALL(IF(personnel!F$5:F$34="x",ROW(agents)-4,9^9),ROW()-1)),"")} -> SPIZAK | E10: =IF(OR(D10="",COUNTIF(equipe!$G$3:$K$3,D10)>0),"",RANDBETWEEN(1,9)+ROW()/100) | F10: =IFERROR(RANK(E10,E$2:E$31),"") | G10: {=IFERROR(INDEX(agents,SMALL(IF(personnel!G$5:G$34="x",ROW(agents)-4,9^9),ROW()-1)),"")} -> MADANGA | H10: =IF(OR(G10="",COUNTIF(equipe!$G$3:$K$5,G10)>0),"",RANDBETWEEN(1,9)+ROW()/100) -> 5.1 | I10: =IFERROR(RANK(H10,H$2:H$31),"") -> 5 | J10: {=IFERROR(INDEX(agents,SMALL(IF(personnel!C$5:C$34="x",ROW(agents)-4,9^9),ROW()-1)),"")} | K10: =IF(OR(J10="",COUNTIF(equipe!$G$3:$K$7,J10)>0),"",RANDBETWEEN(1,9)+ROW()/100) | L10: =IFERROR(RANK(K10,K$2:K$31),"") | M10: {=IFERROR(INDEX(agents,SMALL(IF(personnel!E$5:E$34="x",ROW(agents)-4,9^9),ROW()-1)),"")} -> BIANCO | N10: =IF(OR(M10="",COUNTIF(equipe!$G$3:$K$8,M10)>0),"",RANDBETWEEN(1,9)+ROW()/100) -> 6.1 | O10: =IFERROR(RANK(N10,N$2:N$31),"") -> 5 | P10: {=IFERROR(INDEX(agents,SMALL(IF(personnel!H$5:H$34="x",ROW(agents)-4,9^9),ROW()-1)),"")} -> NOGBOUN | Q10: =IF(OR(P10="",COUNTIF(equipe!$G$3:$K$10,P10)>0),"",RANDBETWEEN(1,9)+ROW()/100) -> 8.1 | R10: =IFERROR(RANK(Q10,Q$2:Q$31),"") -> 2 | S10: =personnel!B13 -> MARTINEZ | T10: =IF(OR(S10="",COUNTIF(equipe!$G$3:$K$11,S10)>0),"",RANDBETWEEN(1,9)+ROW()/100) | U10: =IFERROR(RANK(T10,T$2:T$31),"")
A11: {=IFERROR(INDEX(agents,SMALL(IF(personnel!D$5:D$34="x",ROW(agents)-4,9^9),ROW()-1)),"")} | B11: =IF(A11="","",RANDBETWEEN(1,9)+ROW()/100) | C11: =IFERROR(RANK(B11,B$2:B$31),"") | D11: {=IFERROR(INDEX(agents,SMALL(IF(personnel!F$5:F$34="x",ROW(agents)-4,9^9),ROW()-1)),"")} -> LOPEZ | E11: =IF(OR(D11="",COUNTIF(equipe!$G$3:$K$3,D11)>0),"",RANDBETWEEN(1,9)+ROW()/100) -> 1.11 | F11: =IFERROR(RANK(E11,E$2:E$31),"") -> 6 | G11: {=IFERROR(INDEX(agents,SMALL(IF(personnel!G$5:G$34="x",ROW(agents)-4,9^9),ROW()-1)),"")} -> MASSELOT | H11: =IF(OR(G11="",COUNTIF(equipe!$G$3:$K$5,G11)>0),"",RANDBETWEEN(1,9)+ROW()/100) -> 8.11 | I11: =IFERROR(RANK(H11,H$2:H$31),"") -> 1 | J11: {=IFERROR(INDEX(agents,SMALL(IF(personnel!C$5:C$34="x",ROW(agents)-4,9^9),ROW()-1)),"")} | K11: =IF(OR(J11="",COUNTIF(equipe!$G$3:$K$7,J11)>0),"",RANDBETWEEN(1,9)+ROW()/100) | L11: =IFERROR(RANK(K11,K$2:K$31),"") | M11: {=IFERROR(INDEX(agents,SMALL(IF(personnel!E$5:E$34="x",ROW(agents)-4,9^9),ROW()-1)),"")} -> GAILLARD | N11: =IF(OR(M11="",COUNTIF(equipe!$G$3:$K$8,M11)>0),"",RANDBETWEEN(1,9)+ROW()/100) -> 5.11 | O11: =IFERROR(RANK(N11,N$2:N$31),"") -> 6 | P11: {=IFERROR(INDEX(agents,SMALL(IF(personnel!H$5:H$34="x",ROW(agents)-4,9^9),ROW()-1)),"")} -> SANTUCCI | Q11: =IF(OR(P11="",COUNTIF(equipe!$G$3:$K$10,P11)>0),"",RANDBETWEEN(1,9)+ROW()/100) -> 6.11 | R11: =IFERROR(RANK(Q11,Q$2:Q$31),"") -> 3 | S11: =personnel!B14 -> QUINONERO | T11: =IF(OR(S11="",COUNTIF(equipe!$G$3:$K$11,S11)>0),"",RANDBETWEEN(1,9)+ROW()/100) | U11: =IFERROR(RANK(T11,T$2:T$31),"")
A12: {=IFERROR(INDEX(agents,SMALL(IF(personnel!D$5:D$34="x",ROW(agents)-4,9^9),ROW()-1)),"")} | B12: =IF(A12="","",RANDBETWEEN(1,9)+ROW()/100) | C12: =IFERROR(RANK(B12,B$2:B$31),"") | D12: {=IFERROR(INDEX(agents,SMALL(IF(personnel!F$5:F$34="x",ROW(agents)-4,9^9),ROW()-1)),"")} | E12: =IF(OR(D12="",COUNTIF(equipe!$G$3:$K$3,D12)>0),"",RANDBETWEEN(1,9)+ROW()/100) | F12: =IFERROR(RANK(E12,E$2:E$31),"") | G12: {=IFERROR(INDEX(agents,SMALL(IF(personnel!G$5:G$34="x",ROW(agents)-4,9^9),ROW()-1)),"")} | H12: =IF(OR(G12="",COUNTIF(equipe!$G$3:$K$5,G12)>0),"",RANDBETWEEN(1,9)+ROW()/100) | I12: =IFERROR(RANK(H12,H$2:H$31),"") | J12: {=IFERROR(INDEX(agents,SMALL(IF(personnel!C$5:C$34="x",ROW(agents)-4,9^9),ROW()-1)),"")} | K12: =IF(OR(J12="",COUNTIF(equipe!$G$3:$K$7,J12)>0),"",RANDBETWEEN(1,9)+ROW()/100) | L12: =IFERROR(RANK(K12,K$2:K$31),"") | M12: {=IFERROR(INDEX(agents,SMALL(IF(personnel!E$5:E$34="x",ROW(agents)-4,9^9),ROW()-1)),"")} -> GARNIER | N12: =IF(OR(M12="",COUNTIF(equipe!$G$3:$K$8,M12)>0),"",RANDBETWEEN(1,9)+ROW()/100) -> 7.12 | O12: =IFERROR(RANK(N12,N$2:N$31),"") -> 4 | P12: {=IFERROR(INDEX(agents,SMALL(IF(personnel!H$5:H$34="x",ROW(agents)-4,9^9),ROW()-1)),"")} | Q12: =IF(OR(P12="",COUNTIF(equipe!$G$3:$K$10,P12)>0),"",RANDBETWEEN(1,9)+ROW()/100) | R12: =IFERROR(RANK(Q12,Q$2:Q$31),"") | S12: =personnel!B15 -> SPIZAK | T12: =IF(OR(S12="",COUNTIF(equipe!$G$3:$K$11,S12)>0),"",RANDBETWEEN(1,9)+ROW()/100) | U12: =IFERROR(RANK(T12,T$2:T$31),"")
A13: {=IFERROR(INDEX(agents,SMALL(IF(personnel!D$5:D$34="x",ROW(agents)-4,9^9),ROW()-1)),"")} | B13: =IF(A13="","",RANDBETWEEN(1,9)+ROW()/100) | C13: =IFERROR(RANK(B13,B$2:B$31),"") | D13: {=IFERROR(INDEX(agents,SMALL(IF(personnel!F$5:F$34="x",ROW(agents)-4,9^9),ROW()-1)),"")} | E13: =IF(OR(D13="",COUNTIF(equipe!$G$3:$K$3,D13)>0),"",RANDBETWEEN(1,9)+ROW()/100) | F13: =IFERROR(RANK(E13,E$2:E$31),"") | G13: {=IFERROR(INDEX(agents,SMALL(IF(personnel!G$5:G$34="x",ROW(agents)-4,9^9),ROW()-1)),"")} | H13: =IF(OR(G13="",COUNTIF(equipe!$G$3:$K$5,G13)>0),"",RANDBETWEEN(1,9)+ROW()/100) | I13: =IFERROR(RANK(H13,H$2:H$31),"") | J13: {=IFERROR(INDEX(agents,SMALL(IF(personnel!C$5:C$34="x",ROW(agents)-4,9^9),ROW()-1)),"")} | K13: =IF(OR(J13="",COUNTIF(equipe!$G$3:$K$7,J13)>0),"",RANDBETWEEN(1,9)+ROW()/100) | L13: =IFERROR(RANK(K13,K$2:K$31),"") | M13: {=IFERROR(INDEX(agents,SMALL(IF(personnel!E$5:E$34="x",ROW(agents)-4,9^9),ROW()-1)),"")} -> MALATRE | N13: =IF(OR(M13="",COUNTIF(equipe!$G$3:$K$8,M13)>0),"",RANDBETWEEN(1,9)+ROW()/100) -> 7.13 | O13: =IFERROR(RANK(N13,N$2:N$31),"") -> 3 | P13: {=IFERROR(INDEX(agents,SMALL(IF(personnel!H$5:H$34="x",ROW(agents)-4,9^9),ROW()-1)),"")} | Q13: =IF(OR(P13="",COUNTIF(equipe!$G$3:$K$10,P13)>0),"",RANDBETWEEN(1,9)+ROW()/100) | R13: =IFERROR(RANK(Q13,Q$2:Q$31),"") | S13: =personnel!B16 -> PAQUIEN | T13: =IF(OR(S13="",COUNTIF(equipe!$G$3:$K$11,S13)>0),"",RANDBETWEEN(1,9)+ROW()/100) | U13: =IFERROR(RANK(T13,T$2:T$31),"")
... A31: {=IFERROR(INDEX(agents,SMALL(IF(personnel!D$5:D$34="x",ROW(agents)-4,9^9),ROW()-1)),"")} | B31: =IF(A31="","",RANDBETWEEN(1,9)+ROW()/100) | C31: =IFERROR(RANK(B31,B$2:B$31),"") | D31: {=IFERROR(INDEX(agents,SMALL(IF(personnel!F$5:F$34="x",ROW(agents)-4,9^9),ROW()-1)),"")} | E31: =IF(OR(D31="",COUNTIF(equipe!$G$3:$K$3,D31)>0),"",RANDBETWEEN(1,9)+ROW()/100) | F31: =IFERROR(RANK(E31,E$2:E$31),"") | G31: {=IFERROR(INDEX(agents,SMALL(IF(personnel!G$5:G$34="x",ROW(agents)-4,9^9),ROW()-1)),"")} | H31: =IF(OR(G31="",COUNTIF(equipe!$G$3:$K$5,G31)>0),"",RANDBETWEEN(1,9)+ROW()/100) | I31: =IFERROR(RANK(H31,H$2:H$31),"") | J31: {=IFERROR(INDEX(agents,SMALL(IF(personnel!C$5:C$34="x",ROW(agents)-4,9^9),ROW()-1)),"")} | K31: =IF(OR(J31="",COUNTIF(equipe!$G$3:$K$7,J31)>0),"",RANDBETWEEN(1,9)+ROW()/100) | L31: =IFERROR(RANK(K31,K$2:K$31),"") | M31: {=IFERROR(INDEX(agents,SMALL(IF(personnel!E$5:E$34="x",ROW(agents)-4,9^9),ROW()-1)),"")} | N31: =IF(OR(M31="",COUNTIF(equipe!$G$3:$K$8,M31)>0),"",RANDBETWEEN(1,9)+ROW()/100) | O31: =IFERROR(RANK(N31,N$2:N$31),"") | P31: {=IFERROR(INDEX(agents,SMALL(IF(personnel!H$5:H$34="x",ROW(agents)-4,9^9),ROW()-1)),"")} | Q31: =IF(OR(P31="",COUNTIF(equipe!$G$3:$K$10,P31)>0),"",RANDBETWEEN(1,9)+ROW()/100) | R31: =IFERROR(RANK(Q31,Q$2:Q$31),"") | S31: =personnel!B34 -> VINCENT | T31: =IF(OR(S31="",COUNTIF(equipe!$G$3:$K$11,S31)>0),"",RANDBETWEEN(1,9)+ROW()/100) | U31: =IFERROR(RANK(T31,T$2:T$31),"")
A33: =COUNTIF(Preventeur,"><") -> 5 | D33: =COUNTIF(PNR,"><") -> 10 | G33: =COUNTIF(PL,"><") -> 10 | J33: =COUNTIF(chef,"><") -> 7 | M33: =COUNTIF(Equipier,"><") -> 18 | P33: =COUNTIF(extincteur,"><") -> 10 | S33: =COUNTIF(tout,"><") -> 30

Sheet equipe
G1: EQUIPES
G2: 1 | H2: 2 | I2: 3 | J2: 4 | K2: 5
A3: Préventeur | G3: =INDEX(Preventeur,MATCH(G2,liste!$C$2:$C$31,0)) -> DURAND | H3: =INDEX(Preventeur,MATCH(H2,liste!$C$2:$C$31,0)) -> SPIZAK | I3: =INDEX(Preventeur,MATCH(I2,liste!$C$2:$C$31,0)) -> PAQUIEN | J3: =INDEX(Preventeur,MATCH(J2,liste!$C$2:$C$31,0)) -> QUINONERO | K3: =INDEX(Preventeur,MATCH(K2,liste!$C$2:$C$31,0)) -> MARTINEZ
A4: PNR | B4: =IF(COUNTIF(PNR,G3)=1,G3,"x") -> DURAND | C4: =IF(COUNTIF(PNR,H3)=1,H3,"x") -> SPIZAK | D4: =IF(COUNTIF(PNR,I3)=1,I3,"x") -> x | E4: =IF(COUNTIF(PNR,J3)=1,J3,"x") -> QUINONERO | F4: =IF(COUNTIF(PNR,K3)=1,K3,"x") -> MARTINEZ | G4: =IF(B4="x",INDEX(PNR,MATCH(COUNTIF($B4:B4,"x"),liste!$F$2:$F$31,0)),B4) -> DURAND | H4: =IF(C4="x",INDEX(PNR,MATCH(COUNTIF($B4:C4,"x"),liste!$F$2:$F$31,0)),C4) -> SPIZAK | I4: =IF(D4="x",INDEX(PNR,MATCH(COUNTIF($B4:D4,"x"),liste!$F$2:$F$31,0)),D4) -> BOUILLARD | J4: =IF(E4="x",INDEX(PNR,MATCH(COUNTIF($B4:E4,"x"),liste!$F$2:$F$31,0)),E4) -> QUINONERO | K4: =IF(F4="x",INDEX(PNR,MATCH(COUNTIF($B4:F4,"x"),liste!$F$2:$F$31,0)),F4) -> MARTINEZ
A5: PNR | B5: x | C5: x | D5: x | E5: x | F5: x | G5: =INDEX(PNR,MATCH(COUNTIF($B5:B5,"x")+COUNTIF($B$4:$F$4,"x"),liste!$F$2:$F$31,0)) -> VASCHALDE | H5: =INDEX(PNR,MATCH(COUNTIF($B5:C5,"x")+COUNTIF($B$4:$F$4,"x"),liste!$F$2:$F$31,0)) -> REVOIL | I5: =INDEX(PNR,MATCH(COUNTIF($B5:D5,"x")+COUNTIF($B$4:$F$4,"x"),liste!$F$2:$F$31,0)) -> DEMON | J5: =INDEX(PNR,MATCH(COUNTIF($B5:E5,"x")+COUNTIF($B$4:$F$4,"x"),liste!$F$2:$F$31,0)) -> GOGUYER | K5: =INDEX(PNR,MATCH(COUNTIF($B5:F5,"x")+COUNTIF($B$4:$F$4,"x"),liste!$F$2:$F$31,0)) -> LOPEZ
A6: Poids Lourds | B6: =IF(COUNTIF(PL,G3)=1,G3,IF(COUNTIF(PL,G4)=1,G4,IF(COUNTIF(PL,G5)=1,G5,"x"))) -> DURAND | C6: =IF(COUNTIF(PL,H3)=1,H3,IF(COUNTIF(PL,H4)=1,H4,IF(COUNTIF(PL,H5)=1,H5,"x"))) -> x | D6: =IF(COUNTIF(PL,I3)=1,I3,IF(COUNTIF(PL,I4)=1,I4,IF(COUNTIF(PL,I5)=1,I5,"x"))) -> PAQUIEN | E6: =IF(COUNTIF(PL,J3)=1,J3,IF(COUNTIF(PL,J4)=1,J4,IF(COUNTIF(PL,J5)=1,J5,"x"))) -> GOGUYER | F6: =IF(COUNTIF(PL,K3)=1,K3,IF(COUNTIF(PL,K4)=1,K4,IF(COUNTIF(PL,K5)=1,K5,"x"))) -> LOPEZ | G6: =IF(B6="x",INDEX(PL,MATCH(COUNTIF($B6:B6,"x"),liste!$I$2:$I$31,0)),B6) -> DURAND | H6: =IF(C6="x",INDEX(PL,MATCH(COUNTIF($B6:C6,"x"),liste!$I$2:$I$31,0)),C6) -> MASSELOT | I6: =IF(D6="x",INDEX(PL,MATCH(COUNTIF($B6:D6,"x"),liste!$I$2:$I$31,0)),D6) -> PAQUIEN | J6: =IF(E6="x",INDEX(PL,MATCH(COUNTIF($B6:E6,"x"),liste!$I$2:$I$31,0)),E6) -> GOGUYER | K6: =IF(F6="x",INDEX(PL,MATCH(COUNTIF($B6:F6,"x"),liste!$I$2:$I$31,0)),F6) -> LOPEZ
A7: Poids Lourds | B7: =IF(AND(G3<>G6,COUNTIF(PL,G3)=1),G3,IF(AND(G4<>G6,COUNTIF(PL,G4)=1),G4,IF(AND(G5<>G6,COUNTIF(PL,G5)=1),G5,"x"))) -> x | C7: =IF(AND(H3<>H6,COUNTIF(PL,H3)=1),H3,IF(AND(H4<>H6,COUNTIF(PL,H4)=1),H4,IF(AND(H5<>H6,COUNTIF(PL,H5)=1),H5,"x"))) -> x | D7: =IF(AND(I3<>I6,COUNTIF(PL,I3)=1),I3,IF(AND(I4<>I6,COUNTIF(PL,I4)=1),I4,IF(AND(I5<>I6,COUNTIF(PL,I5)=1),I5,"x"))) -> x | E7: =IF(AND(J3<>J6,COUNTIF(PL,J3)=1),J3,IF(AND(J4<>J6,COUNTIF(PL,J4)=1),J4,IF(AND(J5<>J6,COUNTIF(PL,J5)=1),J5,"x"))) -> x | F7: =IF(AND(K3<>K6,COUNTIF(PL,K3)=1),K3,IF(AND(K4<>K6,COUNTIF(PL,K4)=1),K4,IF(AND(K5<>K6,COUNTIF(PL,K5)=1),K5,"x"))) -> x | G7: =IF(B7="x",INDEX(PL,MATCH(COUNTIF($B7:B7,"x")+COUNTIF($B$6:$F$6,"x"),liste!$I$2:$I$31,0)),B7) -> FINET | H7: =IF(C7="x",INDEX(PL,MATCH(COUNTIF($B7:C7,"x")+COUNTIF($B$6:$F$6,"x"),liste!$I$2:$I$31,0)),C7) -> BAZIN | I7: =IF(D7="x",INDEX(PL,MATCH(COUNTIF($B7:D7,"x")+COUNTIF($B$6:$F$6,"x"),liste!$I$2:$I$31,0)),D7) -> BRIER | J7: =IF(E7="x",INDEX(PL,MATCH(COUNTIF($B7:E7,"x")+COUNTIF($B$6:$F$6,"x"),liste!$I$2:$I$31,0)),E7) -> MADANGA | K7: =IF(F7="x",INDEX(PL,MATCH(COUNTIF($B7:F7,"x")+COUNTIF($B$6:$F$6,"x"),liste!$I$2:$I$31,0)),F7) -> CASTELLO
A8: chef d'équipe | B8: =IF(COUNTIF(chef,G3)=1,G3,IF(COUNTIF(chef,G4)=1,G4,IF(COUNTIF(chef,G5)=1,G5,IF(COUNTIF(chef,G6)=1,G6,IF(COUNTIF(chef,G7)=1,G7,"x"))))) -> VASCHALDE | C8: =IF(COUNTIF(chef,H3)=1,H3,IF(COUNTIF(chef,H4)=1,H4,IF(COUNTIF(chef,H5)=1,H5,IF(COUNTIF(chef,H6)=1,H6,IF(COUNTIF(chef,H7)=1,H7,"x"))))) -> REVOIL | D8: =IF(COUNTIF(chef,I3)=1,I3,IF(COUNTIF(chef,I4)=1,I4,IF(COUNTIF(chef,I5)=1,I5,IF(COUNTIF(chef,I6)=1,I6,IF(COUNTIF(chef,I7)=1,I7,"x"))))) -> BOUILLARD | E8: =IF(COUNTIF(chef,J3)=1,J3,IF(COUNTIF(chef,J4)=1,J4,IF(COUNTIF(chef,J5)=1,J5,IF(COUNTIF(chef,J6)=1,J6,IF(COUNTIF(chef,J7)=1,J7,"x"))))) -> GOGUYER | F8: =IF(COUNTIF(chef,K3)=1,K3,IF(COUNTIF(chef,K4)=1,K4,IF(COUNTIF(chef,K5)=1,K5,IF(COUNTIF(chef,K6)=1,K6,IF(COUNTIF(chef,K7)=1,K7,"x"))))) -> x | G8: =IF(B8="x",INDEX(chef,MATCH(COUNTIF($B8:B8,"x"),liste!$L$2:$L$31,0)),B8) -> VASCHALDE | H8: =IF(C8="x",INDEX(chef,MATCH(COUNTIF($B8:C8,"x"),liste!$L$2:$L$31,0)),C8) -> REVOIL | I8: =IF(D8="x",INDEX(chef,MATCH(COUNTIF($B8:D8,"x"),liste!$L$2:$L$31,0)),D8) -> BOUILLARD | J8: =IF(E8="x",INDEX(chef,MATCH(COUNTIF($B8:E8,"x"),liste!$L$2:$L$31,0)),E8) -> GOGUYER | K8: =IF(F8="x",INDEX(chef,MATCH(COUNTIF($B8:F8,"x"),liste!$L$2:$L$31,0)),F8) -> SZENK
A9: Equipier | B9: =IF(COUNTIF(Equipier,G3)=1,G3,IF(COUNTIF(Equipier,G4)=1,G4,IF(COUNTIF(Equipier,G5)=1,G5,IF(COUNTIF(Equipier,G6)=1,G6,IF(COUNTIF(Equipier,G7)=1,G7,IF(COUNTIF(Equipier,G8)=1,G8,"x")))))) -> FINET | C9: =IF(COUNTIF(Equipier,H3)=1,H3,IF(COUNTIF(Equipier,H4)=1,H4,IF(COUNTIF(Equipier,H5)=1,H5,IF(COUNTIF(Equipier,H6)=1,H6,IF(COUNTIF(Equipier,H7)=1,H7,IF(COUNTIF(Equipier,H8)=1,H8,"x")))))) -> MASSELOT | D9: =IF(COUNTIF(Equipier,I3)=1,I3,IF(COUNTIF(Equipier,I4)=1,I4,IF(COUNTIF(Equipier,I5)=1,I5,IF(COUNTIF(Equipier,I6)=1,I6,IF(COUNTIF(Equipier,I7)=1,I7,IF(COUNTIF(Equipier,I8)=1,I8,"x")))))) -> BRIER | E9: =IF(COUNTIF(Equipier,J3)=1,J3,IF(COUNTIF(Equipier,J4)=1,J4,IF(COUNTIF(Equipier,J5)=1,J5,IF(COUNTIF(Equipier,J6)=1,J6,IF(COUNTIF(Equipier,J7)=1,J7,IF(COUNTIF(Equipier,J8)=1,J8,"x")))))) -> MADANGA | F9: =IF(COUNTIF(Equipier,K3)=1,K3,IF(COUNTIF(Equipier,K4)=1,K4,IF(COUNTIF(Equipier,K5)=1,K5,IF(COUNTIF(Equipier,K6)=1,K6,IF(COUNTIF(Equipier,K7)=1,K7,IF(COUNTIF(Equipier,K8)=1,K8,"x")))))) -> LOPEZ | G9: =IF(B9="x",INDEX(Equipier,MATCH(COUNTIF($B9:B9,"x"),liste!$O$2:$O$31,0)),B9) -> FINET | H9: =IF(C9="x",INDEX(Equipier,MATCH(COUNTIF($B9:C9,"x"),liste!$O$2:$O$31,0)),C9) -> MASSELOT | I9: =IF(D9="x",INDEX(Equipier,MATCH(COUNTIF($B9:D9,"x"),liste!$O$2:$O$31,0)),D9) -> BRIER | J9: =IF(E9="x",INDEX(Equipier,MATCH(COUNTIF($B9:E9,"x"),liste!$O$2:$O$31,0)),E9) -> MADANGA | K9: =IF(F9="x",INDEX(Equipier,MATCH(COUNTIF($B9:F9,"x"),liste!$O$2:$O$31,0)),F9) -> LOPEZ
A10: Equipier | B10: =IF(AND(G3<>G9,COUNTIF(Equipier,G3)=1),G3,IF(AND(G4<>G9,COUNTIF(Equipier,G4)=1),G4,IF(AND(G5<>G9,COUNTIF(Equipier,G5)=1),G5,IF(AND(G6<>G9,COUNTIF(Equipier,G6)=1),G6,IF(AND(G7<>G9,COUNTIF(Equipier,G7)=1),G7,IF(AND(G8<>G9,COUNTIF(Equipier,G8)=1),G8,"x")))))) -> x | C10: =IF(AND(H3<>H9,COUNTIF(Equipier,H3)=1),H3,IF(AND(H4<>H9,COUNTIF(Equipier,H4)=1),H4,IF(AND(H5<>H9,COUNTIF(Equipier,H5)=1),H5,IF(AND(H6<>H9,COUNTIF(Equipier,H6)=1),H6,IF(AND(H7<>H9,COUNTIF(Equipier,H7)=1),H7,IF(AND(H8<>H9,COUNTIF(Equipier,H8)=1),H8,"x")))))) -> BAZIN | D10: =IF(AND(I3<>I9,COUNTIF(Equipier,I3)=1),I3,IF(AND(I4<>I9,COUNTIF(Equipier,I4)=1),I4,IF(AND(I5<>I9,COUNTIF(Equipier,I5)=1),I5,IF(AND(I6<>I9,COUNTIF(Equipier,I6)=1),I6,IF(AND(I7<>I9,COUNTIF(Equipier,I7)=1),I7,IF(AND(I8<>I9,COUNTIF(Equipier,I8)=1),I8,"x")))))) -> x | E10: =IF(AND(J3<>J9,COUNTIF(Equipier,J3)=1),J3,IF(AND(J4<>J9,COUNTIF(Equipier,J4)=1),J4,IF(AND(J5<>J9,COUNTIF(Equipier,J5)=1),J5,IF(AND(J6<>J9,COUNTIF(Equipier,J6)=1),J6,IF(AND(J7<>J9,COUNTIF(Equipier,J7)=1),J7,IF(AND(J8<>J9,COUNTIF(Equipier,J8)=1),J8,"x")))))) -> x | F10: =IF(AND(K3<>K9,COUNTIF(Equipier,K3)=1),K3,IF(AND(K4<>K9,COUNTIF(Equipier,K4)=1),K4,IF(AND(K5<>K9,COUNTIF(Equipier,K5)=1),K5,IF(AND(K6<>K9,COUNTIF(Equipier,K6)=1),K6,IF(AND(K7<>K9,COUNTIF(Equipier,K7)=1),K7,IF(AND(K8<>K9,COUNTIF(Equipier,K8)=1),K8,"x")))))) -> CASTELLO | G10: =IF(B10="x",INDEX(Equipier,MATCH(COUNTIF($B10:B10,"x")+COUNTIF($B$9:$F$9,"x"),liste!$O$2:$O$31,0)),B10) -> VINCENT | H10: =IF(C10="x",INDEX(Equipier,MATCH(COUNTIF($B10:C10,"x")+COUNTIF($B$9:$F$9,"x"),liste!$O$2:$O$31,0)),C10) -> BAZIN | I10: =IF(D10="x",INDEX(Equipier,MATCH(COUNTIF($B10:D10,"x")+COUNTIF($B$9:$F$9,"x"),liste!$O$2:$O$31,0)),D10) -> PLUTON | J10: =IF(E10="x",INDEX(Equipier,MATCH(COUNTIF($B10:E10,"x")+COUNTIF($B$9:$F$9,"x"),liste!$O$2:$O$31,0)),E10) -> MALATRE | K10: =IF(F10="x",INDEX(Equipier,MATCH(COUNTIF($B10:F10,"x")+COUNTIF($B$9:$F$9,"x"),liste!$O$2:$O$31,0)),F10) -> CASTELLO
A11: extincteur | B11: =IF(COUNTIF(extincteur,G3)=1,G3,IF(COUNTIF(extincteur,G4)=1,G4,IF(COUNTIF(extincteur,G5)=1,G5,IF(COUNTIF(extincteur,G6)=1,G6,IF(COUNTIF(extincteur,G7)=1,G7,IF(COUNTIF(extincteur,G8)=1,G8,IF(COUNTIF(extincteur,G9)=1,G9,IF(COUNTIF(extincteur,G10)=1,G10,"x")))))))) -> x | C11: =IF(COUNTIF(extincteur,H3)=1,H3,IF(COUNTIF(extincteur,H4)=1,H4,IF(COUNTIF(extincteur,H5)=1,H5,IF(COUNTIF(extincteur,H6)=1,H6,IF(COUNTIF(extincteur,H7)=1,H7,IF(COUNTIF(extincteur,H8)=1,H8,IF(COUNTIF(extincteur,H9)=1,H9,IF(COUNTIF(extincteur,H10)=1,H10,"x")))))))) -> MASSELOT | D11: =IF(COUNTIF(extincteur,I3)=1,I3,IF(COUNTIF(extincteur,I4)=1,I4,IF(COUNTIF(extincteur,I5)=1,I5,IF(COUNTIF(extincteur,I6)=1,I6,IF(COUNTIF(extincteur,I7)=1,I7,IF(COUNTIF(extincteur,I8)=1,I8,IF(COUNTIF(extincteur,I9)=1,I9,IF(COUNTIF(extincteur,I10)=1,I10,"x")))))))) -> x | E11: =IF(COUNTIF(extincteur,J3)=1,J3,IF(COUNTIF(extincteur,J4)=1,J4,IF(COUNTIF(extincteur,J5)=1,J5,IF(COUNTIF(extincteur,J6)=1,J6,IF(COUNTIF(extincteur,J7)=1,J7,IF(COUNTIF(extincteur,J8)=1,J8,IF(COUNTIF(extincteur,J9)=1,J9,IF(COUNTIF(extincteur,J10)=1,J10,"x")))))))) -> MADANGA | F11: =IF(COUNTIF(extincteur,K3)=1,K3,IF(COUNTIF(extincteur,K4)=1,K4,IF(COUNTIF(extincteur,K5)=1,K5,IF(COUNTIF(extincteur,K6)=1,K6,IF(COUNTIF(extincteur,K7)=1,K7,IF(COUNTIF(extincteur,K8)=1,K8,IF(COUNTIF(extincteur,K9)=1,K9,IF(COUNTIF(extincteur,K10)=1,K10,"x")))))))) -> CASTELLO | G11: =IF(B11="x",INDEX(extincteur,MATCH(COUNTIF($B11:B11,"x"),liste!$R$2:$R$31,0)),B11) -> GARNIER | H11: =IF(C11="x",INDEX(extincteur,MATCH(COUNTIF($B11:C11,"x"),liste!$R$2:$R$31,0)),C11) -> MASSELOT | I11: =IF(D11="x",INDEX(extincteur,MATCH(COUNTIF($B11:D11,"x"),liste!$R$2:$R$31,0)),D11) -> NOGBOUN | J11: =IF(E11="x",INDEX(extincteur,MATCH(COUNTIF($B11:E11,"x"),liste!$R$2:$R$31,0)),E11) -> MADANGA | K11: =IF(F11="x",INDEX(extincteur,MATCH(COUNTIF($B11:F11,"x"),liste!$R$2:$R$31,0)),F11) -> CASTELLO
A12: Complément | B12: =IF(B15<=5,"x","") -> x | C12: =IF(C15<=5,"x","") -> x | D12: =IF(D15<=5,"x","") | E12: =IF(E15<=5,"x","") -> x | F12: =IF(F15<=5,"x","") -> x | G12: =IF(B12="x",INDEX(tout,MATCH(COUNTIF($B12:B12,"x"),liste!$U$2:$U$31,0)),B12) -> BIANCO | H12: =IF(C12="x",INDEX(tout,MATCH(COUNTIF($B12:C12,"x"),liste!$U$2:$U$31,0)),C12) -> SANTUCCI | I12: =IF(D12="x",INDEX(tout,MATCH(COUNTIF($B12:D12,"x"),liste!$U$2:$U$31,0)),D12) | J12: =IF(E12="x",INDEX(tout,MATCH(COUNTIF($B12:E12,"x"),liste!$U$2:$U$31,0)),E12) -> AUBANEL | K12: =IF(F12="x",INDEX(tout,MATCH(COUNTIF($B12:F12,"x"),liste!$U$2:$U$31,0)),F12) -> MARTY
A13: Complément | B13: =IF(B15<=4,"x","") | C13: =IF(C15<=4,"x","") -> x | D13: =IF(D15<=4,"x","") | E13: =IF(E15<=4,"x","") -> x | F13: =IF(F15<=4,"x","") -> x | G13: =IF(B13="x",INDEX(tout,MATCH(COUNTIF($B13:B13,"x")+COUNTIF($B$12:$F$12,"x"),liste!$U$2:$U$31,0)),B13) | H13: =IF(C13="x",INDEX(tout,MATCH(COUNTIF($B13:C13,"x")+COUNTIF($B$12:$F$12,"x"),liste!$U$2:$U$31,0)),C13) -> NOUVEAU2 | I13: =IF(D13="x",INDEX(tout,MATCH(COUNTIF($B13:D13,"x")+COUNTIF($B$12:$F$12,"x"),liste!$U$2:$U$31,0)),D13) | J13: =IF(E13="x",INDEX(tout,MATCH(COUNTIF($B13:E13,"x")+COUNTIF($B$12:$F$12,"x"),liste!$U$2:$U$31,0)),E13) -> GAILLARD | K13: =IF(F13="x",INDEX(tout,MATCH(COUNTIF($B13:F13,"x")+COUNTIF($B$12:$F$12,"x"),liste!$U$2:$U$31,0)),F13) -> GONCALVES
A15: Nb d'équipiers différents = | B15: {=SUM(1/COUNTIF(G3:G11,G3:G11))} -> 5 | C15: {=SUM(1/COUNTIF(H3:H11,H3:H11))} -> 4 | D15: {=SUM(1/COUNTIF(I3:I11,I3:I11))} -> 6 | E15: {=SUM(1/COUNTIF(J3:J11,J3:J11))} -> 4 | F15: {=SUM(1/COUNTIF(K3:K11,K3:K11))} -> 4 | G15: {=SUM(1/COUNTIF(G3:G13,G3:G13))-COUNTIF(G3:G13,"")} -> 6 | H15: {=SUM(1/COUNTIF(H3:H13,H3:H13))-COUNTIF(H3:H13,"")} -> 6 | I15: {=SUM(1/COUNTIF(I3:I13,I3:I13))-COUNTIF(I3:I13,"")} -> 5 | J15: {=SUM(1/COUNTIF(J3:J13,J3:J13))-COUNTIF(J3:J13,"")} -> 6 | K15: {=SUM(1/COUNTIF(K3:K13,K3:K13))-COUNTIF(K3:K13,"")} -> 6

Sheet equipes triées sans doublon
A1: Equipe 1 | B1: =A1 -> Equipe 1 | C1: chef d'équipe | D1: Préventeur | E1: Equipier | F1: PNR | G1: Poids Lourds | H1: extincteur | I1: RIA | J1: PCF | K1: Poteau | L1: exutoire | N1: Equipe 2 | O1: =N1 -> Equipe 2 | P1: chef d'équipe | Q1: Préventeur | R1: Equipier | S1: PNR | T1: Poids Lourds | U1: extincteur | V1: RIA | W1: PCF | X1: Poteau | Y1: exutoire | AA1: Equipe 3 | AB1: =AA1 -> Equipe 3 | AC1: chef d'équipe | AD1: Préventeur | AE1: Equipier | AF1: PNR | AG1: Poids Lourds | AH1: extincteur | AI1: RIA | AJ1: PCF | AK1: Poteau | AL1: exutoire | AN1: Equipe 4 | AO1: =AN1 -> Equipe 4 | AP1: chef d'équipe | AQ1: Préventeur | AR1: Equipier | AS1: PNR | AT1: Poids Lourds | AU1: extincteur | AV1: RIA | AW1: PCF | AX1: Poteau | AY1: exutoire | BA1: Equipe 5 | BB1: =BA1 -> Equipe 5 | BC1: chef d'équipe | BD1: Préventeur | BE1: Equipier | BF1: PNR | BG1: Poids Lourds | BH1: extincteur | BI1: RIA | BJ1: PCF | BK1: Poteau | BL1: exutoire
A2: =equipe!G3 -> DURAND | B2: {=IF(ROW(A1)>SUM(1/COUNTIF(A$2:A$12,A$2:A$12)),"",INDEX(A$2:A$12,MATCH(MIN(IF(COUNTIF(B$1:B1,A$2:A$12)=0,COUNTIF(A$2:A$12,"<"&A$2:A$12))),COUNTIF(A$2:A$12,"<"&A$2:A$12),0)))} | C2: =IFERROR(VLOOKUP($B2,personnel!$B$5:$L$34,COLUMN()-COLUMN($B$1)+1,0),0) -> 0 | D2: =IFERROR(VLOOKUP($B2,personnel!$B$5:$L$34,COLUMN()-COLUMN($B$1)+1,0),0) -> 0 | E2: =IFERROR(VLOOKUP($B2,personnel!$B$5:$L$34,COLUMN()-COLUMN($B$1)+1,0),0) -> 0 | F2: =IFERROR(VLOOKUP($B2,personnel!$B$5:$L$34,COLUMN()-COLUMN($B$1)+1,0),0) -> 0 | G2: =IFERROR(VLOOKUP($B2,personnel!$B$5:$L$34,COLUMN()-COLUMN($B$1)+1,0),0) -> 0 | H2: =IFERROR(VLOOKUP($B2,personnel!$B$5:$L$34,COLUMN()-COLUMN($B$1)+1,0),0) -> 0 | I2: =IFERROR(VLOOKUP($B2,personnel!$B$5:$L$34,COLUMN()-COLUMN($B$1)+1,0),0) -> 0 | J2: =IFERROR(VLOOKUP($B2,personnel!$B$5:$L$34,COLUMN()-COLUMN($B$1)+1,0),0) -> 0 | ... L2: =IFERROR(VLOOKUP($B2,personnel!$B$5:$L$34,COLUMN()-COLUMN($B$1)+1,0),0) -> 0 | N2: =equipe!H3 -> SPIZAK | O2: {=IF(ROW(N1)>SUM(1/COUNTIF(N$2:N$12,N$2:N$12)),"",INDEX(N$2:N$12,MATCH(MIN(IF(COUNTIF(O$1:O1,N$2:N$12)=0,COUNTIF(N$2:N$12,"<"&N$2:N$12))),COUNTIF(N$2:N$12,"<"&N$2:N$12),0)))} -> BAZIN | P2: =IFERROR(VLOOKUP($O2,personnel!$B$5:$L$34,COLUMN()-COLUMN($O$1)+1,0),0) -> 0 | Q2: =IFERROR(VLOOKUP($O2,personnel!$B$5:$L$34,COLUMN()-COLUMN($O$1)+1,0),0) -> 0 | R2: =IFERROR(VLOOKUP($O2,personnel!$B$5:$L$34,COLUMN()-COLUMN($O$1)+1,0),0) -> X | S2: =IFERROR(VLOOKUP($O2,personnel!$B$5:$L$34,COLUMN()-COLUMN($O$1)+1,0),0) -> 0 | T2: =IFERROR(VLOOKUP($O2,personnel!$B$5:$L$34,COLUMN()-COLUMN($O$1)+1,0),0) -> X | U2: =IFERROR(VLOOKUP($O2,personnel!$B$5:$L$34,COLUMN()-COLUMN($O$1)+1,0),0) -> X | V2: =IFERROR(VLOOKUP($O2,personnel!$B$5:$L$34,COLUMN()-COLUMN($O$1)+1,0),0) -> 0 | W2: =IFERROR(VLOOKUP($O2,personnel!$B$5:$L$34,COLUMN()-COLUMN($O$1)+1,0),0) -> 0 | ... Y2: =IFERROR(VLOOKUP($O2,personnel!$B$5:$L$34,COLUMN()-COLUMN($O$1)+1,0),0) -> 0 | AA2: =equipe!I3 -> PAQUIEN | AB2: {=IF(ROW(AA1)>SUM(1/COUNTIF(AA$2:AA$12,AA$2:AA$12)),"",INDEX(AA$2:AA$12,MATCH(MIN(IF(COUNTIF(AB$1:AB1,AA$2:AA$12)=0,COUNTIF(AA$2:AA$12,"<"&AA$2:AA$12))),COUNTIF(AA$2:AA$12,"<"&AA$2:AA$12),0)))} | AC2: =IFERROR(VLOOKUP($AB2,personnel!$B$5:$L$34,COLUMN()-COLUMN($AB$1)+1,0),0) -> 0 | AD2: =IFERROR(VLOOKUP($AB2,personnel!$B$5:$L$34,COLUMN()-COLUMN($AB$1)+1,0),0) -> 0 | AE2: =IFERROR(VLOOKUP($AB2,personnel!$B$5:$L$34,COLUMN()-COLUMN($AB$1)+1,0),0) -> 0 | AF2: =IFERROR(VLOOKUP($AB2,personnel!$B$5:$L$34,COLUMN()-COLUMN($AB$1)+1,0),0) -> 0 | AG2: =IFERROR(VLOOKUP($AB2,personnel!$B$5:$L$34,COLUMN()-COLUMN($AB$1)+1,0),0) -> 0 | AH2: =IFERROR(VLOOKUP($AB2,personnel!$B$5:$L$34,COLUMN()-COLUMN($AB$1)+1,0),0) -> 0 | AI2: =IFERROR(VLOOKUP($AB2,personnel!$B$5:$L$34,COLUMN()-COLUMN($AB$1)+1,0),0) -> 0 | AJ2: =IFERROR(VLOOKUP($AB2,personnel!$B$5:$L$34,COLUMN()-COLUMN($AB$1)+1,0),0) -> 0 | ... AL2: =IFERROR(VLOOKUP($AB2,personnel!$B$5:$L$34,COLUMN()-COLUMN($AB$1)+1,0),0) -> 0 | AN2: =equipe!J3 -> QUINONERO | AO2: {=IF(ROW(AN1)>SUM(1/COUNTIF(AN$2:AN$12,AN$2:AN$12)),"",INDEX(AN$2:AN$12,MATCH(MIN(IF(COUNTIF(AO$1:AO1,AN$2:AN$12)=0,COUNTIF(AN$2:AN$12,"<"&AN$2:AN$12))),COUNTIF(AN$2:AN$12,"<"&AN$2:AN$12),0)))} -> AUBANEL | AP2: =IFERROR(VLOOKUP($AO2,personnel!$B$5:$L$34,COLUMN()-COLUMN($AO$1)+1,0),0) -> 0 | AQ2: =IFERROR(VLOOKUP($AO2,personnel!$B$5:$L$34,COLUMN()-COLUMN($AO$1)+1,0),0) -> 0 | AR2: =IFERROR(VLOOKUP($AO2,personnel!$B$5:$L$34,COLUMN()-COLUMN($AO$1)+1,0),0) -> X | AS2: =IFERROR(VLOOKUP($AO2,personnel!$B$5:$L$34,COLUMN()-COLUMN($AO$1)+1,0),0) -> 0 | AT2: =IFERROR(VLOOKUP($AO2,personnel!$B$5:$L$34,COLUMN()-COLUMN($AO$1)+1,0),0) -> 0 | AU2: =IFERROR(VLOOKUP($AO2,personnel!$B$5:$L$34,COLUMN()-COLUMN($AO$1)+1,0),0) -> 0 | AV2: =IFERROR(VLOOKUP($AO2,personnel!$B$5:$L$34,COLUMN()-COLUMN($AO$1)+1,0),0) -> 0 | AW2: =IFERROR(VLOOKUP($AO2,personnel!$B$5:$L$34,COLUMN()-COLUMN($AO$1)+1,0),0) -> 0 | ... AY2: =IFERROR(VLOOKUP($AO2,personnel!$B$5:$L$34,COLUMN()-COLUMN($AO$1)+1,0),0) -> 0 | BA2: =equipe!K3 -> MARTINEZ | BB2: {=IF(ROW(BA1)>SUM(1/COUNTIF(BA$2:BA$12,BA$2:BA$12)),"",INDEX(BA$2:BA$12,MATCH(MIN(IF(COUNTIF(BB$1:BB1,BA$2:BA$12)=0,COUNTIF(BA$2:BA$12,"<"&BA$2:BA$12))),COUNTIF(BA$2:BA$12,"<"&BA$2:BA$12),0)))} -> CASTELLO | BC2: =IFERROR(VLOOKUP($BB2,personnel!$B$5:$L$34,COLUMN()-COLUMN($BB$1)+1,0),0) -> 0 | BD2: =IFERROR(VLOOKUP($BB2,personnel!$B$5:$L$34,COLUMN()-COLUMN($BB$1)+1,0),0) -> 0 | BE2: =IFERROR(VLOOKUP($BB2,personnel!$B$5:$L$34,COLUMN()-COLUMN($BB$1)+1,0),0) -> X | BF2: =IFERROR(VLOOKUP($BB2,personnel!$B$5:$L$34,COLUMN()-COLUMN($BB$1)+1,0),0) -> 0 | BG2: =IFERROR(VLOOKUP($BB2,personnel!$B$5:$L$34,COLUMN()-COLUMN($BB$1)+1,0),0) -> X | BH2: =IFERROR(VLOOKUP($BB2,personnel!$B$5:$L$34,COLUMN()-COLUMN($BB$1)+1,0),0) -> X | BI2: =IFERROR(VLOOKUP($BB2,personnel!$B$5:$L$34,COLUMN()-COLUMN($BB$1)+1,0),0) -> 0 | BJ2: =IFERROR(VLOOKUP($BB2,personnel!$B$5:$L$34,COLUMN()-COLUMN($BB$1)+1,0),0) -> 0 | ... BL2: =IFERROR(VLOOKUP($BB2,personnel!$B$5:$L$34,COLUMN()-COLUMN($BB$1)+1,0),0) -> 0
A3: =equipe!G8 -> VASCHALDE | B3: {=IF(ROW(A2)>SUM(1/COUNTIF(A$2:A$12,A$2:A$12)),"",INDEX(A$2:A$12,MATCH(MIN(IF(COUNTIF(B$1:B2,A$2:A$12)=0,COUNTIF(A$2:A$12,"<"&A$2:A$12))),COUNTIF(A$2:A$12,"<"&A$2:A$12),0)))} -> BIANCO | C3: =IFERROR(VLOOKUP($B3,personnel!$B$5:$L$34,COLUMN()-COLUMN($B$1)+1,0),0) -> 0 | D3: =IFERROR(VLOOKUP($B3,personnel!$B$5:$L$34,COLUMN()-COLUMN($B$1)+1,0),0) -> 0 | E3: =IFERROR(VLOOKUP($B3,personnel!$B$5:$L$34,COLUMN()-COLUMN($B$1)+1,0),0) -> X | F3: =IFERROR(VLOOKUP($B3,personnel!$B$5:$L$34,COLUMN()-COLUMN($B$1)+1,0),0) -> 0 | G3: =IFERROR(VLOOKUP($B3,personnel!$B$5:$L$34,COLUMN()-COLUMN($B$1)+1,0),0) -> 0 | H3: =IFERROR(VLOOKUP($B3,personnel!$B$5:$L$34,COLUMN()-COLUMN($B$1)+1,0),0) -> 0 | I3: =IFERROR(VLOOKUP($B3,personnel!$B$5:$L$34,COLUMN()-COLUMN($B$1)+1,0),0) -> 0 | J3: =IFERROR(VLOOKUP($B3,personnel!$B$5:$L$34,COLUMN()-COLUMN($B$1)+1,0),0) -> 0 | ... L3: =IFERROR(VLOOKUP($B3,personnel!$B$5:$L$34,COLUMN()-COLUMN($B$1)+1,0),0) -> 0 | N3: =equipe!H8 -> REVOIL | O3: {=IF(ROW(N2)>SUM(1/COUNTIF(N$2:N$12,N$2:N$12)),"",INDEX(N$2:N$12,MATCH(MIN(IF(COUNTIF(O$1:O2,N$2:N$12)=0,COUNTIF(N$2:N$12,"<"&N$2:N$12))),COUNTIF(N$2:N$12,"<"&N$2:N$12),0)))} -> MASSELOT | P3: =IFERROR(VLOOKUP($O3,personnel!$B$5:$L$34,COLUMN()-COLUMN($O$1)+1,0),0) -> 0 | Q3: =IFERROR(VLOOKUP($O3,personnel!$B$5:$L$34,COLUMN()-COLUMN($O$1)+1,0),0) -> 0 | R3: =IFERROR(VLOOKUP($O3,personnel!$B$5:$L$34,COLUMN()-COLUMN($O$1)+1,0),0) -> X | S3: =IFERROR(VLOOKUP($O3,personnel!$B$5:$L$34,COLUMN()-COLUMN($O$1)+1,0),0) -> 0 | T3: =IFERROR(VLOOKUP($O3,personnel!$B$5:$L$34,COLUMN()-COLUMN($O$1)+1,0),0) -> X | U3: =IFERROR(VLOOKUP($O3,personnel!$B$5:$L$34,COLUMN()-COLUMN($O$1)+1,0),0) -> X | V3: =IFERROR(VLOOKUP($O3,personnel!$B$5:$L$34,COLUMN()-COLUMN($O$1)+1,0),0) -> X | W3: =IFERROR(VLOOKUP($O3,personnel!$B$5:$L$34,COLUMN()-COLUMN($O$1)+1,0),0) -> X | ... Y3: =IFERROR(VLOOKUP($O3,personnel!$B$5:$L$34,COLUMN()-COLUMN($O$1)+1,0),0) -> X | AA3: =equipe!I8 -> BOUILLARD | AB3: {=IF(ROW(AA2)>SUM(1/COUNTIF(AA$2:AA$12,AA$2:AA$12)),"",INDEX(AA$2:AA$12,MATCH(MIN(IF(COUNTIF(AB$1:AB2,AA$2:AA$12)=0,COUNTIF(AA$2:AA$12,"<"&AA$2:AA$12))),COUNTIF(AA$2:AA$12,"<"&AA$2:AA$12),0)))} -> BOUILLARD | AC3: =IFERROR(VLOOKUP($AB3,personnel!$B$5:$L$34,COLUMN()-COLUMN($AB$1)+1,0),0) -> X | AD3: =IFERROR(VLOOKUP($AB3,personnel!$B$5:$L$34,COLUMN()-COLUMN($AB$1)+1,0),0) -> 0 | AE3: =IFERROR(VLOOKUP($AB3,personnel!$B$5:$L$34,COLUMN()-COLUMN($AB$1)+1,0),0) -> 0 | AF3: =IFERROR(VLOOKUP($AB3,personnel!$B$5:$L$34,COLUMN()-COLUMN($AB$1)+1,0),0) -> X | AG3: =IFERROR(VLOOKUP($AB3,personnel!$B$5:$L$34,COLUMN()-COLUMN($AB$1)+1,0),0) -> 0 | AH3: =IFERROR(VLOOKUP($AB3,personnel!$B$5:$L$34,COLUMN()-COLUMN($AB$1)+1,0),0) -> 0 | AI3: =IFERROR(VLOOKUP($AB3,personnel!$B$5:$L$34,COLUMN()-COLUMN($AB$1)+1,0),0) -> 0 | AJ3: =IFERROR(VLOOKUP($AB3,personnel!$B$5:$L$34,COLUMN()-COLUMN($AB$1)+1,0),0) -> 0 | ... AL3: =IFERROR(VLOOKUP($AB3,personnel!$B$5:$L$34,COLUMN()-COLUMN($AB$1)+1,0),0) -> 0 | AN3: =equipe!J8 -> GOGUYER | AO3: {=IF(ROW(AN2)>SUM(1/COUNTIF(AN$2:AN$12,AN$2:AN$12)),"",INDEX(AN$2:AN$12,MATCH(MIN(IF(COUNTIF(AO$1:AO2,AN$2:AN$12)=0,COUNTIF(AN$2:AN$12,"<"&AN$2:AN$12))),COUNTIF(AN$2:AN$12,"<"&AN$2:AN$12),0)))} -> GAILLARD | AP3: =IFERROR(VLOOKUP($AO3,personnel!$B$5:$L$34,COLUMN()-COLUMN($AO$1)+1,0),0) -> 0 | AQ3: =IFERROR(VLOOKUP($AO3,personnel!$B$5:$L$34,COLUMN()-COLUMN($AO$1)+1,0),0) -> 0 | AR3: =IFERROR(VLOOKUP($AO3,personnel!$B$5:$L$34,COLUMN()-COLUMN($AO$1)+1,0),0) -> X | AS3: =IFERROR(VLOOKUP($AO3,personnel!$B$5:$L$34,COLUMN()-COLUMN($AO$1)+1,0),0) -> 0 | AT3: =IFERROR(VLOOKUP($AO3,personnel!$B$5:$L$34,COLUMN()-COLUMN($AO$1)+1,0),0) -> 0 | AU3: =IFERROR(VLOOKUP($AO3,personnel!$B$5:$L$34,COLUMN()-COLUMN($AO$1)+1,0),0) -> X | AV3: =IFERROR(VLOOKUP($AO3,personnel!$B$5:$L$34,COLUMN()-COLUMN($AO$1)+1,0),0) -> 0 | AW3: =IFERROR(VLOOKUP($AO3,personnel!$B$5:$L$34,COLUMN()-COLUMN($AO$1)+1,0),0) -> 0 | ... AY3: =IFERROR(VLOOKUP($AO3,personnel!$B$5:$L$34,COLUMN()-COLUMN($AO$1)+1,0),0) -> 0 | BA3: =equipe!K8 -> SZENK | BB3: {=IF(ROW(BA2)>SUM(1/COUNTIF(BA$2:BA$12,BA$2:BA$12)),"",INDEX(BA$2:BA$12,MATCH(MIN(IF(COUNTIF(BB$1:BB2,BA$2:BA$12)=0,COUNTIF(BA$2:BA$12,"<"&BA$2:BA$12))),COUNTIF(BA$2:BA$12,"<"&BA$2:BA$12),0)))} -> GONCALVES | BC3: =IFERROR(VLOOKUP($BB3,personnel!$B$5:$L$34,COLUMN()-COLUMN($BB$1)+1,0),0) -> X | BD3: =IFERROR(VLOOKUP($BB3,personnel!$B$5:$L$34,COLUMN()-COLUMN($BB$1)+1,0),0) -> 0 | BE3: =IFERROR(VLOOKUP($BB3,personnel!$B$5:$L$34,COLUMN()-COLUMN($BB$1)+1,0),0) -> 0 | BF3: =IFERROR(VLOOKUP($BB3,personnel!$B$5:$L$34,COLUMN()-COLUMN($BB$1)+1,0),0) -> 0 | BG3: =IFERROR(VLOOKUP($BB3,personnel!$B$5:$L$34,COLUMN()-COLUMN($BB$1)+1,0),0) -> 0 | BH3: =IFERROR(VLOOKUP($BB3,personnel!$B$5:$L$34,COLUMN()-COLUMN($BB$1)+1,0),0) -> 0 | BI3: =IFERROR(VLOOKUP($BB3,personnel!$B$5:$L$34,COLUMN()-COLUMN($BB$1)+1,0),0) -> 0 | BJ3: =IFERROR(VLOOKUP($BB3,personnel!$B$5:$L$34,COLUMN()-COLUMN($BB$1)+1,0),0) -> 0 | ... BL3: =IFERROR(VLOOKUP($BB3,personnel!$B$5:$L$34,COLUMN()-COLUMN($BB$1)+1,0),0) -> 0
A4: =equipe!G4 -> DURAND | B4: {=IF(ROW(A3)>SUM(1/COUNTIF(A$2:A$12,A$2:A$12)),"",INDEX(A$2:A$12,MATCH(MIN(IF(COUNTIF(B$1:B3,A$2:A$12)=0,COUNTIF(A$2:A$12,"<"&A$2:A$12))),COUNTIF(A$2:A$12,"<"&A$2:A$12),0)))} -> DURAND | C4: =IFERROR(VLOOKUP($B4,personnel!$B$5:$L$34,COLUMN()-COLUMN($B$1)+1,0),0) -> 0 | D4: =IFERROR(VLOOKUP($B4,personnel!$B$5:$L$34,COLUMN()-COLUMN($B$1)+1,0),0) -> X | E4: =IFERROR(VLOOKUP($B4,personnel!$B$5:$L$34,COLUMN()-COLUMN($B$1)+1,0),0) -> 0 | F4: =IFERROR(VLOOKUP($B4,personnel!$B$5:$L$34,COLUMN()-COLUMN($B$1)+1,0),0) -> X | G4: =IFERROR(VLOOKUP($B4,personnel!$B$5:$L$34,COLUMN()-COLUMN($B$1)+1,0),0) -> X | H4: =IFERROR(VLOOKUP($B4,personnel!$B$5:$L$34,COLUMN()-COLUMN($B$1)+1,0),0) -> 0 | I4: =IFERROR(VLOOKUP($B4,personnel!$B$5:$L$34,COLUMN()-COLUMN($B$1)+1,0),0) -> 0 | J4: =IFERROR(VLOOKUP($B4,personnel!$B$5:$L$34,COLUMN()-COLUMN($B$1)+1,0),0) -> 0 | ... L4: =IFERROR(VLOOKUP($B4,personnel!$B$5:$L$34,COLUMN()-COLUMN($B$1)+1,0),0) -> 0 | N4: =equipe!H4 -> SPIZAK | O4: {=IF(ROW(N3)>SUM(1/COUNTIF(N$2:N$12,N$2:N$12)),"",INDEX(N$2:N$12,MATCH(MIN(IF(COUNTIF(O$1:O3,N$2:N$12)=0,COUNTIF(N$2:N$12,"<"&N$2:N$12))),COUNTIF(N$2:N$12,"<"&N$2:N$12),0)))} -> NOUVEAU2 | P4: =IFERROR(VLOOKUP($O4,personnel!$B$5:$L$34,COLUMN()-COLUMN($O$1)+1,0),0) -> 0 | Q4: =IFERROR(VLOOKUP($O4,personnel!$B$5:$L$34,COLUMN()-COLUMN($O$1)+1,0),0) -> 0 | R4: =IFERROR(VLOOKUP($O4,personnel!$B$5:$L$34,COLUMN()-COLUMN($O$1)+1,0),0) -> X | S4: =IFERROR(VLOOKUP($O4,personnel!$B$5:$L$34,COLUMN()-COLUMN($O$1)+1,0),0) -> 0 | T4: =IFERROR(VLOOKUP($O4,personnel!$B$5:$L$34,COLUMN()-COLUMN($O$1)+1,0),0) -> 0 | U4: =IFERROR(VLOOKUP($O4,personnel!$B$5:$L$34,COLUMN()-COLUMN($O$1)+1,0),0) -> 0 | V4: =IFERROR(VLOOKUP($O4,personnel!$B$5:$L$34,COLUMN()-COLUMN($O$1)+1,0),0) -> 0 | W4: =IFERROR(VLOOKUP($O4,personnel!$B$5:$L$34,COLUMN()-COLUMN($O$1)+1,0),0) -> 0 | ... Y4: =IFERROR(VLOOKUP($O4,personnel!$B$5:$L$34,COLUMN()-COLUMN($O$1)+1,0),0) -> 0 | AA4: =equipe!I4 -> BOUILLARD | AB4: {=IF(ROW(AA3)>SUM(1/COUNTIF(AA$2:AA$12,AA$2:AA$12)),"",INDEX(AA$2:AA$12,MATCH(MIN(IF(COUNTIF(AB$1:AB3,AA$2:AA$12)=0,COUNTIF(AA$2:AA$12,"<"&AA$2:AA$12))),COUNTIF(AA$2:AA$12,"<"&AA$2:AA$12),0)))} -> BRIER | AC4: =IFERROR(VLOOKUP($AB4,personnel!$B$5:$L$34,COLUMN()-COLUMN($AB$1)+1,0),0) -> 0 | AD4: =IFERROR(VLOOKUP($AB4,personnel!$B$5:$L$34,COLUMN()-COLUMN($AB$1)+1,0),0) -> 0 | AE4: =IFERROR(VLOOKUP($AB4,personnel!$B$5:$L$34,COLUMN()-COLUMN($AB$1)+1,0),0) -> X | AF4: =IFERROR(VLOOKUP($AB4,personnel!$B$5:$L$34,COLUMN()-COLUMN($AB$1)+1,0),0) -> 0 | AG4: =IFERROR(VLOOKUP($AB4,personnel!$B$5:$L$34,COLUMN()-COLUMN($AB$1)+1,0),0) -> X | AH4: =IFERROR(VLOOKUP($AB4,personnel!$B$5:$L$34,COLUMN()-COLUMN($AB$1)+1,0),0) -> 0 | AI4: =IFERROR(VLOOKUP($AB4,personnel!$B$5:$L$34,COLUMN()-COLUMN($AB$1)+1,0),0) -> 0 | AJ4: =IFERROR(VLOOKUP($AB4,personnel!$B$5:$L$34,COLUMN()-COLUMN($AB$1)+1,0),0) -> 0 | ... AL4: =IFERROR(VLOOKUP($AB4,personnel!$B$5:$L$34,COLUMN()-COLUMN($AB$1)+1,0),0) -> 0 | AN4: =equipe!J4 -> QUINONERO | AO4: {=IF(ROW(AN3)>SUM(1/COUNTIF(AN$2:AN$12,AN$2:AN$12)),"",INDEX(AN$2:AN$12,MATCH(MIN(IF(COUNTIF(AO$1:AO3,AN$2:AN$12)=0,COUNTIF(AN$2:AN$12,"<"&AN$2:AN$12))),COUNTIF(AN$2:AN$12,"<"&AN$2:AN$12),0)))} -> GOGUYER | AP4: =IFERROR(VLOOKUP($AO4,personnel!$B$5:$L$34,COLUMN()-COLUMN($AO$1)+1,0),0) -> X | AQ4: =IFERROR(VLOOKUP($AO4,personnel!$B$5:$L$34,COLUMN()-COLUMN($AO$1)+1,0),0) -> 0 | AR4: =IFERROR(VLOOKUP($AO4,personnel!$B$5:$L$34,COLUMN()-COLUMN($AO$1)+1,0),0) -> 0 | AS4: =IFERROR(VLOOKUP($AO4,personnel!$B$5:$L$34,COLUMN()-COLUMN($AO$1)+1,0),0) -> X | AT4: =IFERROR(VLOOKUP($AO4,personnel!$B$5:$L$34,COLUMN()-COLUMN($AO$1)+1,0),0) -> X | AU4: =IFERROR(VLOOKUP($AO4,personnel!$B$5:$L$34,COLUMN()-COLUMN($AO$1)+1,0),0) -> 0 | AV4: =IFERROR(VLOOKUP($AO4,personnel!$B$5:$L$34,COLUMN()-COLUMN($AO$1)+1,0),0) -> 0 | AW4: =IFERROR(VLOOKUP($AO4,personnel!$B$5:$L$34,COLUMN()-COLUMN($AO$1)+1,0),0) -> 0 | ... AY4: =IFERROR(VLOOKUP($AO4,personnel!$B$5:$L$34,COLUMN()-COLUMN($AO$1)+1,0),0) -> 0 | BA4: =equipe!K4 -> MARTINEZ | BB4: {=IF(ROW(BA3)>SUM(1/COUNTIF(BA$2:BA$12,BA$2:BA$12)),"",INDEX(BA$2:BA$12,MATCH(MIN(IF(COUNTIF(BB$1:BB3,BA$2:BA$12)=0,COUNTIF(BA$2:BA$12,"<"&BA$2:BA$12))),COUNTIF(BA$2:BA$12,"<"&BA$2:BA$12),0)))} -> LOPEZ | BC4: =IFERROR(VLOOKUP($BB4,personnel!$B$5:$L$34,COLUMN()-COLUMN($BB$1)+1,0),0) -> 0 | BD4: =IFERROR(VLOOKUP($BB4,personnel!$B$5:$L$34,COLUMN()-COLUMN($BB$1)+1,0),0) -> 0 | BE4: =IFERROR(VLOOKUP($BB4,personnel!$B$5:$L$34,COLUMN()-COLUMN($BB$1)+1,0),0) -> X | BF4: =IFERROR(VLOOKUP($BB4,personnel!$B$5:$L$34,COLUMN()-COLUMN($BB$1)+1,0),0) -> X | BG4: =IFERROR(VLOOKUP($BB4,personnel!$B$5:$L$34,COLUMN()-COLUMN($BB$1)+1,0),0) -> X | BH4: =IFERROR(VLOOKUP($BB4,personnel!$B$5:$L$34,COLUMN()-COLUMN($BB$1)+1,0),0) -> 0 | BI4: =IFERROR(VLOOKUP($BB4,personnel!$B$5:$L$34,COLUMN()-COLUMN($BB$1)+1,0),0) -> X | BJ4: =IFERROR(VLOOKUP($BB4,personnel!$B$5:$L$34,COLUMN()-COLUMN($BB$1)+1,0),0) -> 0 | ... BL4: =IFERROR(VLOOKUP($BB4,personnel!$B$5:$L$34,COLUMN()-COLUMN($BB$1)+1,0),0) -> 0
A5: =equipe!G5 -> VASCHALDE | B5: {=IF(ROW(A4)>SUM(1/COUNTIF(A$2:A$12,A$2:A$12)),"",INDEX(A$2:A$12,MATCH(MIN(IF(COUNTIF(B$1:B4,A$2:A$12)=0,COUNTIF(A$2:A$12,"<"&A$2:A$12))),COUNTIF(A$2:A$12,"<"&A$2:A$12),0)))} -> FINET | C5: =IFERROR(VLOOKUP($B5,personnel!$B$5:$L$34,COLUMN()-COLUMN($B$1)+1,0),0) -> 0 | D5: =IFERROR(VLOOKUP($B5,personnel!$B$5:$L$34,COLUMN()-COLUMN($B$1)+1,0),0) -> 0 | E5: =IFERROR(VLOOKUP($B5,personnel!$B$5:$L$34,COLUMN()-COLUMN($B$1)+1,0),0) -> X | F5: =IFERROR(VLOOKUP($B5,personnel!$B$5:$L$34,COLUMN()-COLUMN($B$1)+1,0),0) -> 0 | G5: =IFERROR(VLOOKUP($B5,personnel!$B$5:$L$34,COLUMN()-COLUMN($B$1)+1,0),0) -> X | H5: =IFERROR(VLOOKUP($B5,personnel!$B$5:$L$34,COLUMN()-COLUMN($B$1)+1,0),0) -> 0 | I5: =IFERROR(VLOOKUP($B5,personnel!$B$5:$L$34,COLUMN()-COLUMN($B$1)+1,0),0) -> 0 | J5: =IFERROR(VLOOKUP($B5,personnel!$B$5:$L$34,COLUMN()-COLUMN($B$1)+1,0),0) -> X | ... L5: =IFERROR(VLOOKUP($B5,personnel!$B$5:$L$34,COLUMN()-COLUMN($B$1)+1,0),0) -> 0 | N5: =equipe!H5 -> REVOIL | O5: {=IF(ROW(N4)>SUM(1/COUNTIF(N$2:N$12,N$2:N$12)),"",INDEX(N$2:N$12,MATCH(MIN(IF(COUNTIF(O$1:O4,N$2:N$12)=0,COUNTIF(N$2:N$12,"<"&N$2:N$12))),COUNTIF(N$2:N$12,"<"&N$2:N$12),0)))} -> REVOIL | P5: =IFERROR(VLOOKUP($O5,personnel!$B$5:$L$34,COLUMN()-COLUMN($O$1)+1,0),0) -> X | Q5: =IFERROR(VLOOKUP($O5,personnel!$B$5:$L$34,COLUMN()-COLUMN($O$1)+1,0),0) -> 0 | R5: =IFERROR(VLOOKUP($O5,personnel!$B$5:$L$34,COLUMN()-COLUMN($O$1)+1,0),0) -> 0 | S5: =IFERROR(VLOOKUP($O5,personnel!$B$5:$L$34,COLUMN()-COLUMN($O$1)+1,0),0) -> X | T5: =IFERROR(VLOOKUP($O5,personnel!$B$5:$L$34,COLUMN()-COLUMN($O$1)+1,0),0) -> 0 | U5: =IFERROR(VLOOKUP($O5,personnel!$B$5:$L$34,COLUMN()-COLUMN($O$1)+1,0),0) -> 0 | V5: =IFERROR(VLOOKUP($O5,personnel!$B$5:$L$34,COLUMN()-COLUMN($O$1)+1,0),0) -> 0 | W5: =IFERROR(VLOOKUP($O5,personnel!$B$5:$L$34,COLUMN()-COLUMN($O$1)+1,0),0) -> 0 | ... Y5: =IFERROR(VLOOKUP($O5,personnel!$B$5:$L$34,COLUMN()-COLUMN($O$1)+1,0),0) -> 0 | AA5: =equipe!I5 -> DEMON | AB5: {=IF(ROW(AA4)>SUM(1/COUNTIF(AA$2:AA$12,AA$2:AA$12)),"",INDEX(AA$2:AA$12,MATCH(MIN(IF(COUNTIF(AB$1:AB4,AA$2:AA$12)=0,COUNTIF(AA$2:AA$12,"<"&AA$2:AA$12))),COUNTIF(AA$2:AA$12,"<"&AA$2:AA$12),0)))} -> DEMON | AC5: =IFERROR(VLOOKUP($AB5,personnel!$B$5:$L$34,COLUMN()-COLUMN($AB$1)+1,0),0) -> X | AD5: =IFERROR(VLOOKUP($AB5,personnel!$B$5:$L$34,COLUMN()-COLUMN($AB$1)+1,0),0) -> 0 | AE5: =IFERROR(VLOOKUP($AB5,personnel!$B$5:$L$34,COLUMN()-COLUMN($AB$1)+1,0),0) -> 0 | AF5: =IFERROR(VLOOKUP($AB5,personnel!$B$5:$L$34,COLUMN()-COLUMN($AB$1)+1,0),0) -> X | AG5: =IFERROR(VLOOKUP($AB5,personnel!$B$5:$L$34,COLUMN()-COLUMN($AB$1)+1,0),0) -> 0 | AH5: =IFERROR(VLOOKUP($AB5,personnel!$B$5:$L$34,COLUMN()-COLUMN($AB$1)+1,0),0) -> 0 | AI5: =IFERROR(VLOOKUP($AB5,personnel!$B$5:$L$34,COLUMN()-COLUMN($AB$1)+1,0),0) -> 0 | AJ5: =IFERROR(VLOOKUP($AB5,personnel!$B$5:$L$34,COLUMN()-COLUMN($AB$1)+1,0),0) -> 0 | ... AL5: =IFERROR(VLOOKUP($AB5,personnel!$B$5:$L$34,COLUMN()-COLUMN($AB$1)+1,0),0) -> 0 | AN5: =equipe!J5 -> GOGUYER | AO5: {=IF(ROW(AN4)>SUM(1/COUNTIF(AN$2:AN$12,AN$2:AN$12)),"",INDEX(AN$2:AN$12,MATCH(MIN(IF(COUNTIF(AO$1:AO4,AN$2:AN$12)=0,COUNTIF(AN$2:AN$12,"<"&AN$2:AN$12))),COUNTIF(AN$2:AN$12,"<"&AN$2:AN$12),0)))} -> MADANGA | AP5: =IFERROR(VLOOKUP($AO5,personnel!$B$5:$L$34,COLUMN()-COLUMN($AO$1)+1,0),0) -> 0 | AQ5: =IFERROR(VLOOKUP($AO5,personnel!$B$5:$L$34,COLUMN()-COLUMN($AO$1)+1,0),0) -> 0 | AR5: =IFERROR(VLOOKUP($AO5,personnel!$B$5:$L$34,COLUMN()-COLUMN($AO$1)+1,0),0) -> X | AS5: =IFERROR(VLOOKUP($AO5,personnel!$B$5:$L$34,COLUMN()-COLUMN($AO$1)+1,0),0) -> 0 | AT5: =IFERROR(VLOOKUP($AO5,personnel!$B$5:$L$34,COLUMN()-COLUMN($AO$1)+1,0),0) -> X | AU5: =IFERROR(VLOOKUP($AO5,personnel!$B$5:$L$34,COLUMN()-COLUMN($AO$1)+1,0),0) -> X | AV5: =IFERROR(VLOOKUP($AO5,personnel!$B$5:$L$34,COLUMN()-COLUMN($AO$1)+1,0),0) -> X | AW5: =IFERROR(VLOOKUP($AO5,personnel!$B$5:$L$34,COLUMN()-COLUMN($AO$1)+1,0),0) -> X | ... AY5: =IFERROR(VLOOKUP($AO5,personnel!$B$5:$L$34,COLUMN()-COLUMN($AO$1)+1,0),0) -> X | BA5: =equipe!K5 -> LOPEZ | BB5: {=IF(ROW(BA4)>SUM(1/COUNTIF(BA$2:BA$12,BA$2:BA$12)),"",INDEX(BA$2:BA$12,MATCH(MIN(IF(COUNTIF(BB$1:BB4,BA$2:BA$12)=0,COUNTIF(BA$2:BA$12,"<"&BA$2:BA$12))),COUNTIF(BA$2:BA$12,"<"&BA$2:BA$12),0)))} -> MARTINEZ | BC5: =IFERROR(VLOOKUP($BB5,personnel!$B$5:$L$34,COLUMN()-COLUMN($BB$1)+1,0),0) -> 0 | BD5: =IFERROR(VLOOKUP($BB5,personnel!$B$5:$L$34,COLUMN()-COLUMN($BB$1)+1,0),0) -> X | BE5: =IFERROR(VLOOKUP($BB5,personnel!$B$5:$L$34,COLUMN()-COLUMN($BB$1)+1,0),0) -> 0 | BF5: =IFERROR(VLOOKUP($BB5,personnel!$B$5:$L$34,COLUMN()-COLUMN($BB$1)+1,0),0) -> X | BG5: =IFERROR(VLOOKUP($BB5,personnel!$B$5:$L$34,COLUMN()-COLUMN($BB$1)+1,0),0) -> 0 | BH5: =IFERROR(VLOOKUP($BB5,personnel!$B$5:$L$34,COLUMN()-COLUMN($BB$1)+1,0),0) -> 0 | BI5: =IFERROR(VLOOKUP($BB5,personnel!$B$5:$L$34,COLUMN()-COLUMN($BB$1)+1,0),0) -> 0 | BJ5: =IFERROR(VLOOKUP($BB5,personnel!$B$5:$L$34,COLUMN()-COLUMN($BB$1)+1,0),0) -> 0 | ... BL5: =IFERROR(VLOOKUP($BB5,personnel!$B$5:$L$34,COLUMN()-COLUMN($BB$1)+1,0),0) -> 0
