Workbook
Name BdD: #REF!
Name Code: OFFSET(#REF!,,,COUNTA(#REF!)-1)
Name code1: #REF!
Name code2: #REF!
Name debut: #REF!
Name entrees: #REF!
Name fin: #REF!
Name liste1: #REF!
Name liste2: #REF!
Name Pont: JFP!$G$1
Name resultat: #REF!
Name sorties: #REF!
Name taux: #REF!

Sheet JFP
A1: =CALENDRIER!D1 -> 2015 | B1: Pâques = | C1: =DATE(A1,IF((25-MOD((11*MOD(A1-1900,19)+4-INT((7*MOD(A1-1900,19)+1)/19)),29)-MOD(A1-1900+INT((A1-1900)/4)+31-MOD((11*MOD(A1-1900,19)+4-INT((7*MOD(A1-1900,19)+1)/19)),29),7))>0,4,3),IF((25-MOD((11*MOD(A1-1900,19)+4-INT((7*MOD(A1-1900,19)+1)/19)),29)-MOD(A1-1900+INT((A1-1900)/4)+31-MOD((11*MOD(A1-1900,19)+4-INT((7*MOD(A1-1900,19)+1)/19)),29),7))>0,(25-MOD((11*MOD(A1-1900,19)+4-INT((7*MOD(A1-1900,19)+1)/19)),29)-MOD(A1-1900+INT((A1-1900)/4)+31-MOD((11*MOD(A1-1900,19)+4-INT((7*MOD(A1-1900,19)+1)/19)),29),7)),31+(25-MOD((11*MOD(A1-1900,19)+4-INT((7*MOD(A1-1900,19)+1)/19)),29)-MOD(A1-1900+INT((A1-1900)/4)+31-MOD((11*MOD(A1-1900,19)+4-INT((7*MOD(A1-1900,19)+1)/19)),29),7)))) -> 42099 | D1: DATE_JF | E1: JF | F1: Jour férié en semaine | G1: Pont
D2: =DATE(A1,1,1) -> 42005 | E2: Premier de l'AN | F2: =IF(OR(WEEKDAY(D2)=1,WEEKDAY(D2)=7),,D2) -> 42005 | G2: =IF(WEEKDAY(D2)=5,D2+1,) -> 42006
D3: =C1 -> 42099 | E3: Pâques | F3: =IF(OR(WEEKDAY(D3)=1,WEEKDAY(D3)=7),,D3) -> 0 | G3: =IF(WEEKDAY(D3)=3,D3-1,IF(WEEKDAY(D3)=5,D3+1,)) -> 0
D4: =C1+1 -> 42100 | E4: Lundi de Pâques | F4: =IF(OR(WEEKDAY(D4)=1,WEEKDAY(D4)=7),,D4) -> 42100 | G4: =IF(WEEKDAY(D4)=3,D4-1,IF(WEEKDAY(D4)=5,D4+1,)) -> 0
D5: =DATE(A1,5,1) -> 42125 | E5: Fête du travail | F5: =IF(OR(WEEKDAY(D5)=1,WEEKDAY(D5)=7),,D5) -> 42125 | G5: =IF(WEEKDAY(D5)=3,D5-1,IF(WEEKDAY(D5)=5,D5+1,)) -> 0
D6: =DATE(A1,5,8) -> 42132 | E6: Victoire de 1945 | F6: =IF(OR(WEEKDAY(D6)=1,WEEKDAY(D6)=7),,D6) -> 42132 | G6: =IF(WEEKDAY(D6)=3,D6-1,IF(WEEKDAY(D6)=5,D6+1,)) -> 0
D7: =C1+39 -> 42138 | E7: Ascension | F7: =IF(OR(WEEKDAY(D7)=1,WEEKDAY(D7)=7),,D7) -> 42138 | G7: =IF(WEEKDAY(D7)=3,D7-1,IF(WEEKDAY(D7)=5,D7+1,)) -> 42139
D8: =C1+50 -> 42149 | E8: Pentecôte | F8: =IF(OR(WEEKDAY(D8)=1,WEEKDAY(D8)=7),,D8) -> 42149 | G8: =IF(WEEKDAY(D8)=3,D8-1,IF(WEEKDAY(D8)=5,D8+1,)) -> 0
D9: =DATE(A1,7,14) -> 42199 | E9: Fête nationale | F9: =IF(OR(WEEKDAY(D9)=1,WEEKDAY(D9)=7),,D9) -> 42199 | G9: =IF(WEEKDAY(D9)=3,D9-1,IF(WEEKDAY(D9)=5,D9+1,)) -> 42198
D10: =DATE(A1,8,15) -> 42231 | E10: Assomption | F10: =IF(OR(WEEKDAY(D10)=1,WEEKDAY(D10)=7),,D10) -> 0 | G10: =IF(WEEKDAY(D10)=3,D10-1,IF(WEEKDAY(D10)=5,D10+1,)) -> 0
D11: =DATE(A1,11,1) -> 42309 | E11: Toussaint | F11: =IF(OR(WEEKDAY(D11)=1,WEEKDAY(D11)=7),,D11) -> 0 | G11: =IF(WEEKDAY(D11)=3,D11-1,IF(WEEKDAY(D11)=5,D11+1,)) -> 0
D12: =DATE(A1,11,11) -> 42319 | E12: Armistice | F12: =IF(OR(WEEKDAY(D12)=1,WEEKDAY(D12)=7),,D12) -> 42319 | G12: =IF(WEEKDAY(D12)=3,D12-1,IF(WEEKDAY(D12)=5,D12+1,)) -> 0
D13: =DATE(A1,12,25) -> 42363 | E13: Noël | F13: =IF(OR(WEEKDAY(D13)=1,WEEKDAY(D13)=7),,D13) -> 42363 | G13: =IF(WEEKDAY(D13)=3,D13-1,IF(WEEKDAY(D13)=5,D13+1,)) -> 0
D14: =DATE(A1+1,1,1) -> 42370 | G14: =IF(WEEKDAY(D14)=3,D14-1,) -> 0
A16: =SUM(F16:G16) -> 12 | F16: =COUNTIF(F2:F14,">0") -> 9 | G16: =COUNTIF(G2:G14,">0") -> 3

Sheet CALENDRIER
C1: Année : | D1: 2015 | I1: jours ouvrés théoriques | J1: =JFP!F1 -> Jour férié en semaine | K1: =Pont -> Pont
I2: =NETWORKDAYS(DATE(D1,1,1),DATE(D1,12,31)) -> 261 | J2: =+JFP!F16 -> 9 | K2: =+JFP!G16 -> 3
B4: 1 | D4: 2 | F4: 3 | H4: 4 | J4: 5 | L4: 6
B5: =DATE($D$1,B4,1) -> 42005 | D5: =DATE($D$1,D4,1) -> 42036 | F5: =DATE($D$1,F4,1) -> 42064 | H5: =DATE($D$1,H4,1) -> 42095 | J5: =DATE($D$1,J4,1) -> 42125 | L5: =DATE($D$1,L4,1) -> 42156
B6: =+B5 -> 42005 | C6: =IF(B6=""," ",IFERROR(VLOOKUP(B6,JFP!$D:$E,2,0),"")&IF(COUNTIF(JFP!$G:$G,CALENDRIER!B6),Pont," ")) -> Premier de l'AN | D6: =+D5 -> 42036 | E6: =IF(D6=""," ",IFERROR(VLOOKUP(D6,JFP!$D:$E,2,0),"")&IF(COUNTIF(JFP!$G:$G,CALENDRIER!D6),Pont," ")) | F6: =+F5 -> 42064 | G6: =IF(F6=""," ",IFERROR(VLOOKUP(F6,JFP!$D:$E,2,0),"")&IF(COUNTIF(JFP!$G:$G,CALENDRIER!F6),Pont," ")) | H6: =+H5 -> 42095 | I6: =IF(H6=""," ",IFERROR(VLOOKUP(H6,JFP!$D:$E,2,0),"")&IF(COUNTIF(JFP!$G:$G,CALENDRIER!H6),Pont," ")) | J6: =+J5 -> 42125 | K6: =IF(J6=""," ",IFERROR(VLOOKUP(J6,JFP!$D:$E,2,0),"")&IF(COUNTIF(JFP!$G:$G,CALENDRIER!J6),Pont," ")) -> Fête du travail | L6: =+L5 -> 42156 | M6: =IF(L6=""," ",IFERROR(VLOOKUP(L6,JFP!$D:$E,2,0),"")&IF(COUNTIF(JFP!$G:$G,CALENDRIER!L6),Pont," "))
B7: =B6+1 -> 42006 | C7: =IF(B7=""," ",IFERROR(VLOOKUP(B7,JFP!$D:$E,2,0),"")&IF(COUNTIF(JFP!$G:$G,CALENDRIER!B7),Pont," ")) -> Pont | D7: =D6+1 -> 42037 | E7: =IF(D7=""," ",IFERROR(VLOOKUP(D7,JFP!$D:$E,2,0),"")&IF(COUNTIF(JFP!$G:$G,CALENDRIER!D7),Pont," ")) | F7: =F6+1 -> 42065 | G7: =IF(F7=""," ",IFERROR(VLOOKUP(F7,JFP!$D:$E,2,0),"")&IF(COUNTIF(JFP!$G:$G,CALENDRIER!F7),Pont," ")) | H7: =H6+1 -> 42096 | I7: =IF(H7=""," ",IFERROR(VLOOKUP(H7,JFP!$D:$E,2,0),"")&IF(COUNTIF(JFP!$G:$G,CALENDRIER!H7),Pont," ")) | J7: =J6+1 -> 42126 | K7: =IF(J7=""," ",IFERROR(VLOOKUP(J7,JFP!$D:$E,2,0),"")&IF(COUNTIF(JFP!$G:$G,CALENDRIER!J7),Pont," ")) | L7: =L6+1 -> 42157 | M7: =IF(L7=""," ",IFERROR(VLOOKUP(L7,JFP!$D:$E,2,0),"")&IF(COUNTIF(JFP!$G:$G,CALENDRIER!L7),Pont," "))
B8: =B7+1 -> 42007 | C8: =IF(B8=""," ",IFERROR(VLOOKUP(B8,JFP!$D:$E,2,0),"")&IF(COUNTIF(JFP!$G:$G,CALENDRIER!B8),Pont," ")) | D8: =D7+1 -> 42038 | E8: =IF(D8=""," ",IFERROR(VLOOKUP(D8,JFP!$D:$E,2,0),"")&IF(COUNTIF(JFP!$G:$G,CALENDRIER!D8),Pont," ")) | F8: =F7+1 -> 42066 | G8: =IF(F8=""," ",IFERROR(VLOOKUP(F8,JFP!$D:$E,2,0),"")&IF(COUNTIF(JFP!$G:$G,CALENDRIER!F8),Pont," ")) | H8: =H7+1 -> 42097 | I8: =IF(H8=""," ",IFERROR(VLOOKUP(H8,JFP!$D:$E,2,0),"")&IF(COUNTIF(JFP!$G:$G,CALENDRIER!H8),Pont," ")) | J8: =J7+1 -> 42127 | K8: =IF(J8=""," ",IFERROR(VLOOKUP(J8,JFP!$D:$E,2,0),"")&IF(COUNTIF(JFP!$G:$G,CALENDRIER!J8),Pont," ")) | L8: =L7+1 -> 42158 | M8: =IF(L8=""," ",IFERROR(VLOOKUP(L8,JFP!$D:$E,2,0),"")&IF(COUNTIF(JFP!$G:$G,CALENDRIER!L8),Pont," "))
B9: =B8+1 -> 42008 | C9: =IF(B9=""," ",IFERROR(VLOOKUP(B9,JFP!$D:$E,2,0),"")&IF(COUNTIF(JFP!$G:$G,CALENDRIER!B9),Pont," ")) | D9: =D8+1 -> 42039 | E9: =IF(D9=""," ",IFERROR(VLOOKUP(D9,JFP!$D:$E,2,0),"")&IF(COUNTIF(JFP!$G:$G,CALENDRIER!D9),Pont," ")) | F9: =F8+1 -> 42067 | G9: =IF(F9=""," ",IFERROR(VLOOKUP(F9,JFP!$D:$E,2,0),"")&IF(COUNTIF(JFP!$G:$G,CALENDRIER!F9),Pont," ")) | H9: =H8+1 -> 42098 | I9: =IF(H9=""," ",IFERROR(VLOOKUP(H9,JFP!$D:$E,2,0),"")&IF(COUNTIF(JFP!$G:$G,CALENDRIER!H9),Pont," ")) | J9: =J8+1 -> 42128 | K9: =IF(J9=""," ",IFERROR(VLOOKUP(J9,JFP!$D:$E,2,0),"")&IF(COUNTIF(JFP!$G:$G,CALENDRIER!J9),Pont," ")) | L9: =L8+1 -> 42159 | M9: =IF(L9=""," ",IFERROR(VLOOKUP(L9,JFP!$D:$E,2,0),"")&IF(COUNTIF(JFP!$G:$G,CALENDRIER!L9),Pont," "))
B10: =B9+1 -> 42009 | C10: =IF(B10=""," ",IFERROR(VLOOKUP(B10,JFP!$D:$E,2,0),"")&IF(COUNTIF(JFP!$G:$G,CALENDRIER!B10),Pont," ")) | D10: =D9+1 -> 42040 | E10: =IF(D10=""," ",IFERROR(VLOOKUP(D10,JFP!$D:$E,2,0),"")&IF(COUNTIF(JFP!$G:$G,CALENDRIER!D10),Pont," ")) | F10: =F9+1 -> 42068 | G10: =IF(F10=""," ",IFERROR(VLOOKUP(F10,JFP!$D:$E,2,0),"")&IF(COUNTIF(JFP!$G:$G,CALENDRIER!F10),Pont," ")) | H10: =H9+1 -> 42099 | I10: =IF(H10=""," ",IFERROR(VLOOKUP(H10,JFP!$D:$E,2,0),"")&IF(COUNTIF(JFP!$G:$G,CALENDRIER!H10),Pont," ")) -> Pâques | J10: =J9+1 -> 42129 | K10: =IF(J10=""," ",IFERROR(VLOOKUP(J10,JFP!$D:$E,2,0),"")&IF(COUNTIF(JFP!$G:$G,CALENDRIER!J10),Pont," ")) | L10: =L9+1 -> 42160 | M10: =IF(L10=""," ",IFERROR(VLOOKUP(L10,JFP!$D:$E,2,0),"")&IF(COUNTIF(JFP!$G:$G,CALENDRIER!L10),Pont," "))
B11: =B10+1 -> 42010 | C11: =IF(B11=""," ",IFERROR(VLOOKUP(B11,JFP!$D:$E,2,0),"")&IF(COUNTIF(JFP!$G:$G,CALENDRIER!B11),Pont," ")) | D11: =D10+1 -> 42041 | E11: =IF(D11=""," ",IFERROR(VLOOKUP(D11,JFP!$D:$E,2,0),"")&IF(COUNTIF(JFP!$G:$G,CALENDRIER!D11),Pont," ")) | F11: =F10+1 -> 42069 | G11: =IF(F11=""," ",IFERROR(VLOOKUP(F11,JFP!$D:$E,2,0),"")&IF(COUNTIF(JFP!$G:$G,CALENDRIER!F11),Pont," ")) | H11: =H10+1 -> 42100 | I11: =IF(H11=""," ",IFERROR(VLOOKUP(H11,JFP!$D:$E,2,0),"")&IF(COUNTIF(JFP!$G:$G,CALENDRIER!H11),Pont," ")) -> Lundi de Pâques | J11: =J10+1 -> 42130 | K11: =IF(J11=""," ",IFERROR(VLOOKUP(J11,JFP!$D:$E,2,0),"")&IF(COUNTIF(JFP!$G:$G,CALENDRIER!J11),Pont," ")) | L11: =L10+1 -> 42161 | M11: =IF(L11=""," ",IFERROR(VLOOKUP(L11,JFP!$D:$E,2,0),"")&IF(COUNTIF(JFP!$G:$G,CALENDRIER!L11),Pont," "))
B12: =B11+1 -> 42011 | C12: =IF(B12=""," ",IFERROR(VLOOKUP(B12,JFP!$D:$E,2,0),"")&IF(COUNTIF(JFP!$G:$G,CALENDRIER!B12),Pont," ")) | D12: =D11+1 -> 42042 | E12: =IF(D12=""," ",IFERROR(VLOOKUP(D12,JFP!$D:$E,2,0),"")&IF(COUNTIF(JFP!$G:$G,CALENDRIER!D12),Pont," ")) | F12: =F11+1 -> 42070 | G12: =IF(F12=""," ",IFERROR(VLOOKUP(F12,JFP!$D:$E,2,0),"")&IF(COUNTIF(JFP!$G:$G,CALENDRIER!F12),Pont," ")) | H12: =H11+1 -> 42101 | I12: =IF(H12=""," ",IFERROR(VLOOKUP(H12,JFP!$D:$E,2,0),"")&IF(COUNTIF(JFP!$G:$G,CALENDRIER!H12),Pont," ")) | J12: =J11+1 -> 42131 | K12: =IF(J12=""," ",IFERROR(VLOOKUP(J12,JFP!$D:$E,2,0),"")&IF(COUNTIF(JFP!$G:$G,CALENDRIER!J12),Pont," ")) | L12: =L11+1 -> 42162 | M12: =IF(L12=""," ",IFERROR(VLOOKUP(L12,JFP!$D:$E,2,0),"")&IF(COUNTIF(JFP!$G:$G,CALENDRIER!L12),Pont," "))
B13: =B12+1 -> 42012 | C13: =IF(B13=""," ",IFERROR(VLOOKUP(B13,JFP!$D:$E,2,0),"")&IF(COUNTIF(JFP!$G:$G,CALENDRIER!B13),Pont," ")) | D13: =D12+1 -> 42043 | E13: =IF(D13=""," ",IFERROR(VLOOKUP(D13,JFP!$D:$E,2,0),"")&IF(COUNTIF(JFP!$G:$G,CALENDRIER!D13),Pont," ")) | F13: =F12+1 -> 42071 | G13: =IF(F13=""," ",IFERROR(VLOOKUP(F13,JFP!$D:$E,2,0),"")&IF(COUNTIF(JFP!$G:$G,CALENDRIER!F13),Pont," ")) | H13: =H12+1 -> 42102 | I13: =IF(H13=""," ",IFERROR(VLOOKUP(H13,JFP!$D:$E,2,0),"")&IF(COUNTIF(JFP!$G:$G,CALENDRIER!H13),Pont," ")) | J13: =J12+1 -> 42132 | K13: =IF(J13=""," ",IFERROR(VLOOKUP(J13,JFP!$D:$E,2,0),"")&IF(COUNTIF(JFP!$G:$G,CALENDRIER!J13),Pont," ")) -> Victoire de 1945 | L13: =L12+1 -> 42163 | M13: =IF(L13=""," ",IFERROR(VLOOKUP(L13,JFP!$D:$E,2,0),"")&IF(COUNTIF(JFP!$G:$G,CALENDRIER!L13),Pont," "))
B14: =B13+1 -> 42013 | C14: =IF(B14=""," ",IFERROR(VLOOKUP(B14,JFP!$D:$E,2,0),"")&IF(COUNTIF(JFP!$G:$G,CALENDRIER!B14),Pont," ")) | D14: =D13+1 -> 42044 | E14: =IF(D14=""," ",IFERROR(VLOOKUP(D14,JFP!$D:$E,2,0),"")&IF(COUNTIF(JFP!$G:$G,CALENDRIER!D14),Pont," ")) | F14: =F13+1 -> 42072 | G14: =IF(F14=""," ",IFERROR(VLOOKUP(F14,JFP!$D:$E,2,0),"")&IF(COUNTIF(JFP!$G:$G,CALENDRIER!F14),Pont," ")) | H14: =H13+1 -> 42103 | I14: =IF(H14=""," ",IFERROR(VLOOKUP(H14,JFP!$D:$E,2,0),"")&IF(COUNTIF(JFP!$G:$G,CALENDRIER!H14),Pont," ")) | J14: =J13+1 -> 42133 | K14: =IF(J14=""," ",IFERROR(VLOOKUP(J14,JFP!$D:$E,2,0),"")&IF(COUNTIF(JFP!$G:$G,CALENDRIER!J14),Pont," ")) | L14: =L13+1 -> 42164 | M14: =IF(L14=""," ",IFERROR(VLOOKUP(L14,JFP!$D:$E,2,0),"")&IF(COUNTIF(JFP!$G:$G,CALENDRIER!L14),Pont," "))
B15: =B14+1 -> 42014 | C15: =IF(B15=""," ",IFERROR(VLOOKUP(B15,JFP!$D:$E,2,0),"")&IF(COUNTIF(JFP!$G:$G,CALENDRIER!B15),Pont," ")) | D15: =D14+1 -> 42045 | E15: =IF(D15=""," ",IFERROR(VLOOKUP(D15,JFP!$D:$E,2,0),"")&IF(COUNTIF(JFP!$G:$G,CALENDRIER!D15),Pont," ")) | F15: =F14+1 -> 42073 | G15: =IF(F15=""," ",IFERROR(VLOOKUP(F15,JFP!$D:$E,2,0),"")&IF(COUNTIF(JFP!$G:$G,CALENDRIER!F15),Pont," ")) | H15: =H14+1 -> 42104 | I15: =IF(H15=""," ",IFERROR(VLOOKUP(H15,JFP!$D:$E,2,0),"")&IF(COUNTIF(JFP!$G:$G,CALENDRIER!H15),Pont," ")) | J15: =J14+1 -> 42134 | K15: =IF(J15=""," ",IFERROR(VLOOKUP(J15,JFP!$D:$E,2,0),"")&IF(COUNTIF(JFP!$G:$G,CALENDRIER!J15),Pont," ")) | L15: =L14+1 -> 42165 | M15: =IF(L15=""," ",IFERROR(VLOOKUP(L15,JFP!$D:$E,2,0),"")&IF(COUNTIF(JFP!$G:$G,CALENDRIER!L15),Pont," "))
B16: =B15+1 -> 42015 | C16: =IF(B16=""," ",IFERROR(VLOOKUP(B16,JFP!$D:$E,2,0),"")&IF(COUNTIF(JFP!$G:$G,CALENDRIER!B16),Pont," ")) | D16: =D15+1 -> 42046 | E16: =IF(D16=""," ",IFERROR(VLOOKUP(D16,JFP!$D:$E,2,0),"")&IF(COUNTIF(JFP!$G:$G,CALENDRIER!D16),Pont," ")) | F16: =F15+1 -> 42074 | G16: =IF(F16=""," ",IFERROR(VLOOKUP(F16,JFP!$D:$E,2,0),"")&IF(COUNTIF(JFP!$G:$G,CALENDRIER!F16),Pont," ")) | H16: =H15+1 -> 42105 | I16: =IF(H16=""," ",IFERROR(VLOOKUP(H16,JFP!$D:$E,2,0),"")&IF(COUNTIF(JFP!$G:$G,CALENDRIER!H16),Pont," ")) | J16: =J15+1 -> 42135 | K16: =IF(J16=""," ",IFERROR(VLOOKUP(J16,JFP!$D:$E,2,0),"")&IF(COUNTIF(JFP!$G:$G,CALENDRIER!J16),Pont," ")) | L16: =L15+1 -> 42166 | M16: =IF(L16=""," ",IFERROR(VLOOKUP(L16,JFP!$D:$E,2,0),"")&IF(COUNTIF(JFP!$G:$G,CALENDRIER!L16),Pont," "))
B17: =B16+1 -> 42016 | C17: =IF(B17=""," ",IFERROR(VLOOKUP(B17,JFP!$D:$E,2,0),"")&IF(COUNTIF(JFP!$G:$G,CALENDRIER!B17),Pont," ")) | D17: =D16+1 -> 42047 | E17: =IF(D17=""," ",IFERROR(VLOOKUP(D17,JFP!$D:$E,2,0),"")&IF(COUNTIF(JFP!$G:$G,CALENDRIER!D17),Pont," ")) | F17: =F16+1 -> 42075 | G17: =IF(F17=""," ",IFERROR(VLOOKUP(F17,JFP!$D:$E,2,0),"")&IF(COUNTIF(JFP!$G:$G,CALENDRIER!F17),Pont," ")) | H17: =H16+1 -> 42106 | I17: =IF(H17=""," ",IFERROR(VLOOKUP(H17,JFP!$D:$E,2,0),"")&IF(COUNTIF(JFP!$G:$G,CALENDRIER!H17),Pont," ")) | J17: =J16+1 -> 42136 | K17: =IF(J17=""," ",IFERROR(VLOOKUP(J17,JFP!$D:$E,2,0),"")&IF(COUNTIF(JFP!$G:$G,CALENDRIER!J17),Pont," ")) | L17: =L16+1 -> 42167 | M17: =IF(L17=""," ",IFERROR(VLOOKUP(L17,JFP!$D:$E,2,0),"")&IF(COUNTIF(JFP!$G:$G,CALENDRIER!L17),Pont," "))
B18: =B17+1 -> 42017 | C18: =IF(B18=""," ",IFERROR(VLOOKUP(B18,JFP!$D:$E,2,0),"")&IF(COUNTIF(JFP!$G:$G,CALENDRIER!B18),Pont," ")) | D18: =D17+1 -> 42048 | E18: =IF(D18=""," ",IFERROR(VLOOKUP(D18,JFP!$D:$E,2,0),"")&IF(COUNTIF(JFP!$G:$G,CALENDRIER!D18),Pont," ")) | F18: =F17+1 -> 42076 | G18: =IF(F18=""," ",IFERROR(VLOOKUP(F18,JFP!$D:$E,2,0),"")&IF(COUNTIF(JFP!$G:$G,CALENDRIER!F18),Pont," ")) | H18: =H17+1 -> 42107 | I18: =IF(H18=""," ",IFERROR(VLOOKUP(H18,JFP!$D:$E,2,0),"")&IF(COUNTIF(JFP!$G:$G,CALENDRIER!H18),Pont," ")) | J18: =J17+1 -> 42137 | K18: =IF(J18=""," ",IFERROR(VLOOKUP(J18,JFP!$D:$E,2,0),"")&IF(COUNTIF(JFP!$G:$G,CALENDRIER!J18),Pont," ")) | L18: =L17+1 -> 42168 | M18: =IF(L18=""," ",IFERROR(VLOOKUP(L18,JFP!$D:$E,2,0),"")&IF(COUNTIF(JFP!$G:$G,CALENDRIER!L18),Pont," "))
... B33: =B32+1 -> 42032 | C33: =IF(B33=""," ",IFERROR(VLOOKUP(B33,JFP!$D:$E,2,0),"")&IF(COUNTIF(JFP!$G:$G,CALENDRIER!B33),Pont," ")) | D33: =D32+1 -> 42063 | E33: =IF(D33=""," ",IFERROR(VLOOKUP(D33,JFP!$D:$E,2,0),"")&IF(COUNTIF(JFP!$G:$G,CALENDRIER!D33),Pont," ")) | F33: =F32+1 -> 42091 | G33: =IF(F33=""," ",IFERROR(VLOOKUP(F33,JFP!$D:$E,2,0),"")&IF(COUNTIF(JFP!$G:$G,CALENDRIER!F33),Pont," ")) | H33: =H32+1 -> 42122 | I33: =IF(H33=""," ",IFERROR(VLOOKUP(H33,JFP!$D:$E,2,0),"")&IF(COUNTIF(JFP!$G:$G,CALENDRIER!H33),Pont," ")) | J33: =J32+1 -> 42152 | K33: =IF(J33=""," ",IFERROR(VLOOKUP(J33,JFP!$D:$E,2,0),"")&IF(COUNTIF(JFP!$G:$G,CALENDRIER!J33),Pont," ")) | L33: =L32+1 -> 42183 | M33: =IF(L33=""," ",IFERROR(VLOOKUP(L33,JFP!$D:$E,2,0),"")&IF(COUNTIF(JFP!$G:$G,CALENDRIER!L33),Pont," "))
B34: =B33+1 -> 42033 | C34: =IF(B34=""," ",IFERROR(VLOOKUP(B34,JFP!$D:$E,2,0),"")&IF(COUNTIF(JFP!$G:$G,CALENDRIER!B34),Pont," ")) | D34: =IF(DAY(D33+1)=1,"",D33+1) | E34: =IF(D34=""," ",IFERROR(VLOOKUP(D34,JFP!$D:$E,2,0),"")&IF(COUNTIF(JFP!$G:$G,CALENDRIER!D34),Pont," ")) | F34: =F33+1 -> 42092 | G34: =IF(F34=""," ",IFERROR(VLOOKUP(F34,JFP!$D:$E,2,0),"")&IF(COUNTIF(JFP!$G:$G,CALENDRIER!F34),Pont," ")) | H34: =H33+1 -> 42123 | I34: =IF(H34=""," ",IFERROR(VLOOKUP(H34,JFP!$D:$E,2,0),"")&IF(COUNTIF(JFP!$G:$G,CALENDRIER!H34),Pont," ")) | J34: =J33+1 -> 42153 | K34: =IF(J34=""," ",IFERROR(VLOOKUP(J34,JFP!$D:$E,2,0),"")&IF(COUNTIF(JFP!$G:$G,CALENDRIER!J34),Pont," ")) | L34: =L33+1 -> 42184 | M34: =IF(L34=""," ",IFERROR(VLOOKUP(L34,JFP!$D:$E,2,0),"")&IF(COUNTIF(JFP!$G:$G,CALENDRIER!L34),Pont," "))
B35: =B34+1 -> 42034 | C35: =IF(B35=""," ",IFERROR(VLOOKUP(B35,JFP!$D:$E,2,0),"")&IF(COUNTIF(JFP!$G:$G,CALENDRIER!B35),Pont," ")) | F35: =F34+1 -> 42093 | G35: =IF(F35=""," ",IFERROR(VLOOKUP(F35,JFP!$D:$E,2,0),"")&IF(COUNTIF(JFP!$G:$G,CALENDRIER!F35),Pont," ")) | H35: =H34+1 -> 42124 | I35: =IF(H35=""," ",IFERROR(VLOOKUP(H35,JFP!$D:$E,2,0),"")&IF(COUNTIF(JFP!$G:$G,CALENDRIER!H35),Pont," ")) | J35: =J34+1 -> 42154 | K35: =IF(J35=""," ",IFERROR(VLOOKUP(J35,JFP!$D:$E,2,0),"")&IF(COUNTIF(JFP!$G:$G,CALENDRIER!J35),Pont," ")) | L35: =L34+1 -> 42185 | M35: =IF(L35=""," ",IFERROR(VLOOKUP(L35,JFP!$D:$E,2,0),"")&IF(COUNTIF(JFP!$G:$G,CALENDRIER!L35),Pont," "))
B36: =B35+1 -> 42035 | C36: =IF(B36=""," ",IFERROR(VLOOKUP(B36,JFP!$D:$E,2,0),"")&IF(COUNTIF(JFP!$G:$G,CALENDRIER!B36),Pont," ")) | F36: =F35+1 -> 42094 | G36: =IF(F36=""," ",IFERROR(VLOOKUP(F36,JFP!$D:$E,2,0),"")&IF(COUNTIF(JFP!$G:$G,CALENDRIER!F36),Pont," ")) | J36: =J35+1 -> 42155 | K36: =IF(J36=""," ",IFERROR(VLOOKUP(J36,JFP!$D:$E,2,0),"")&IF(COUNTIF(JFP!$G:$G,CALENDRIER!J36),Pont," "))
B40: 7 | D40: 8 | F40: 9 | H40: 10 | J40: 11 | L40: 12
B41: =DATE($D$1,B40,1) -> 42186 | D41: =DATE($D$1,D40,1) -> 42217 | F41: =DATE($D$1,F40,1) -> 42248 | H41: =DATE($D$1,H40,1) -> 42278 | J41: =DATE($D$1,J40,1) -> 42309 | L41: =DATE($D$1,L40,1) -> 42339
B42: =+B41 -> 42186 | C42: =IF(B42=""," ",IFERROR(VLOOKUP(B42,JFP!$D:$E,2,0),"")&IF(COUNTIF(JFP!$G:$G,CALENDRIER!B42),Pont," ")) | D42: =+D41 -> 42217 | E42: =IF(D42=""," ",IFERROR(VLOOKUP(D42,JFP!$D:$E,2,0),"")&IF(COUNTIF(JFP!$G:$G,CALENDRIER!D42),Pont," ")) | F42: =+F41 -> 42248 | G42: =IF(F42=""," ",IFERROR(VLOOKUP(F42,JFP!$D:$E,2,0),"")&IF(COUNTIF(JFP!$G:$G,CALENDRIER!F42),Pont," ")) | H42: =+H41 -> 42278 | I42: =IF(H42=""," ",IFERROR(VLOOKUP(H42,JFP!$D:$E,2,0),"")&IF(COUNTIF(JFP!$G:$G,CALENDRIER!H42),Pont," ")) | J42: =+J41 -> 42309 | K42: =IF(J42=""," ",IFERROR(VLOOKUP(J42,JFP!$D:$E,2,0),"")&IF(COUNTIF(JFP!$G:$G,CALENDRIER!J42),Pont," ")) -> Toussaint | L42: =+L41 -> 42339 | M42: =IF(L42=""," ",IFERROR(VLOOKUP(L42,JFP!$D:$E,2,0),"")&IF(COUNTIF(JFP!$G:$G,CALENDRIER!L42),Pont," "))
B43: =B42+1 -> 42187 | C43: =IF(B43=""," ",IFERROR(VLOOKUP(B43,JFP!$D:$E,2,0),"")&IF(COUNTIF(JFP!$G:$G,CALENDRIER!B43),Pont," ")) | D43: =D42+1 -> 42218 | E43: =IF(D43=""," ",IFERROR(VLOOKUP(D43,JFP!$D:$E,2,0),"")&IF(COUNTIF(JFP!$G:$G,CALENDRIER!D43),Pont," ")) | F43: =F42+1 -> 42249 | G43: =IF(F43=""," ",IFERROR(VLOOKUP(F43,JFP!$D:$E,2,0),"")&IF(COUNTIF(JFP!$G:$G,CALENDRIER!F43),Pont," ")) | H43: =H42+1 -> 42279 | I43: =IF(H43=""," ",IFERROR(VLOOKUP(H43,JFP!$D:$E,2,0),"")&IF(COUNTIF(JFP!$G:$G,CALENDRIER!H43),Pont," ")) | J43: =J42+1 -> 42310 | K43: =IF(J43=""," ",IFERROR(VLOOKUP(J43,JFP!$D:$E,2,0),"")&IF(COUNTIF(JFP!$G:$G,CALENDRIER!J43),Pont," ")) | L43: =L42+1 -> 42340 | M43: =IF(L43=""," ",IFERROR(VLOOKUP(L43,JFP!$D:$E,2,0),"")&IF(COUNTIF(JFP!$G:$G,CALENDRIER!L43),Pont," "))
B44: =B43+1 -> 42188 | C44: =IF(B44=""," ",IFERROR(VLOOKUP(B44,JFP!$D:$E,2,0),"")&IF(COUNTIF(JFP!$G:$G,CALENDRIER!B44),Pont," ")) | D44: =D43+1 -> 42219 | E44: =IF(D44=""," ",IFERROR(VLOOKUP(D44,JFP!$D:$E,2,0),"")&IF(COUNTIF(JFP!$G:$G,CALENDRIER!D44),Pont," ")) | F44: =F43+1 -> 42250 | G44: =IF(F44=""," ",IFERROR(VLOOKUP(F44,JFP!$D:$E,2,0),"")&IF(COUNTIF(JFP!$G:$G,CALENDRIER!F44),Pont," ")) | H44: =H43+1 -> 42280 | I44: =IF(H44=""," ",IFERROR(VLOOKUP(H44,JFP!$D:$E,2,0),"")&IF(COUNTIF(JFP!$G:$G,CALENDRIER!H44),Pont," ")) | J44: =J43+1 -> 42311 | K44: =IF(J44=""," ",IFERROR(VLOOKUP(J44,JFP!$D:$E,2,0),"")&IF(COUNTIF(JFP!$G:$G,CALENDRIER!J44),Pont," ")) | L44: =L43+1 -> 42341 | M44: =IF(L44=""," ",IFERROR(VLOOKUP(L44,JFP!$D:$E,2,0),"")&IF(COUNTIF(JFP!$G:$G,CALENDRIER!L44),Pont," "))
B45: =B44+1 -> 42189 | C45: =IF(B45=""," ",IFERROR(VLOOKUP(B45,JFP!$D:$E,2,0),"")&IF(COUNTIF(JFP!$G:$G,CALENDRIER!B45),Pont," ")) | D45: =D44+1 -> 42220 | E45: =IF(D45=""," ",IFERROR(VLOOKUP(D45,JFP!$D:$E,2,0),"")&IF(COUNTIF(JFP!$G:$G,CALENDRIER!D45),Pont," ")) | F45: =F44+1 -> 42251 | G45: =IF(F45=""," ",IFERROR(VLOOKUP(F45,JFP!$D:$E,2,0),"")&IF(COUNTIF(JFP!$G:$G,CALENDRIER!F45),Pont," ")) | H45: =H44+1 -> 42281 | I45: =IF(H45=""," ",IFERROR(VLOOKUP(H45,JFP!$D:$E,2,0),"")&IF(COUNTIF(JFP!$G:$G,CALENDRIER!H45),Pont," ")) | J45: =J44+1 -> 42312 | K45: =IF(J45=""," ",IFERROR(VLOOKUP(J45,JFP!$D:$E,2,0),"")&IF(COUNTIF(JFP!$G:$G,CALENDRIER!J45),Pont," ")) | L45: =L44+1 -> 42342 | M45: =IF(L45=""," ",IFERROR(VLOOKUP(L45,JFP!$D:$E,2,0),"")&IF(COUNTIF(JFP!$G:$G,CALENDRIER!L45),Pont," "))
B46: =B45+1 -> 42190 | C46: =IF(B46=""," ",IFERROR(VLOOKUP(B46,JFP!$D:$E,2,0),"")&IF(COUNTIF(JFP!$G:$G,CALENDRIER!B46),Pont," ")) | D46: =D45+1 -> 42221 | E46: =IF(D46=""," ",IFERROR(VLOOKUP(D46,JFP!$D:$E,2,0),"")&IF(COUNTIF(JFP!$G:$G,CALENDRIER!D46),Pont," ")) | F46: =F45+1 -> 42252 | G46: =IF(F46=""," ",IFERROR(VLOOKUP(F46,JFP!$D:$E,2,0),"")&IF(COUNTIF(JFP!$G:$G,CALENDRIER!F46),Pont," ")) | H46: =H45+1 -> 42282 | I46: =IF(H46=""," ",IFERROR(VLOOKUP(H46,JFP!$D:$E,2,0),"")&IF(COUNTIF(JFP!$G:$G,CALENDRIER!H46),Pont," ")) | J46: =J45+1 -> 42313 | K46: =IF(J46=""," ",IFERROR(VLOOKUP(J46,JFP!$D:$E,2,0),"")&IF(COUNTIF(JFP!$G:$G,CALENDRIER!J46),Pont," ")) | L46: =L45+1 -> 42343 | M46: =IF(L46=""," ",IFERROR(VLOOKUP(L46,JFP!$D:$E,2,0),"")&IF(COUNTIF(JFP!$G:$G,CALENDRIER!L46),Pont," "))
B47: =B46+1 -> 42191 | C47: =IF(B47=""," ",IFERROR(VLOOKUP(B47,JFP!$D:$E,2,0),"")&IF(COUNTIF(JFP!$G:$G,CALENDRIER!B47),Pont," ")) | D47: =D46+1 -> 42222 | E47: =IF(D47=""," ",IFERROR(VLOOKUP(D47,JFP!$D:$E,2,0),"")&IF(COUNTIF(JFP!$G:$G,CALENDRIER!D47),Pont," ")) | F47: =F46+1 -> 42253 | G47: =IF(F47=""," ",IFERROR(VLOOKUP(F47,JFP!$D:$E,2,0),"")&IF(COUNTIF(JFP!$G:$G,CALENDRIER!F47),Pont," ")) | H47: =H46+1 -> 42283 | I47: =IF(H47=""," ",IFERROR(VLOOKUP(H47,JFP!$D:$E,2,0),"")&IF(COUNTIF(JFP!$G:$G,CALENDRIER!H47),Pont," ")) | J47: =J46+1 -> 42314 | K47: =IF(J47=""," ",IFERROR(VLOOKUP(J47,JFP!$D:$E,2,0),"")&IF(COUNTIF(JFP!$G:$G,CALENDRIER!J47),Pont," ")) | L47: =L46+1 -> 42344 | M47: =IF(L47=""," ",IFERROR(VLOOKUP(L47,JFP!$D:$E,2,0),"")&IF(COUNTIF(JFP!$G:$G,CALENDRIER!L47),Pont," "))
B48: =B47+1 -> 42192 | C48: =IF(B48=""," ",IFERROR(VLOOKUP(B48,JFP!$D:$E,2,0),"")&IF(COUNTIF(JFP!$G:$G,CALENDRIER!B48),Pont," ")) | D48: =D47+1 -> 42223 | E48: =IF(D48=""," ",IFERROR(VLOOKUP(D48,JFP!$D:$E,2,0),"")&IF(COUNTIF(JFP!$G:$G,CALENDRIER!D48),Pont," ")) | F48: =F47+1 -> 42254 | G48: =IF(F48=""," ",IFERROR(VLOOKUP(F48,JFP!$D:$E,2,0),"")&IF(COUNTIF(JFP!$G:$G,CALENDRIER!F48),Pont," ")) | H48: =H47+1 -> 42284 | I48: =IF(H48=""," ",IFERROR(VLOOKUP(H48,JFP!$D:$E,2,0),"")&IF(COUNTIF(JFP!$G:$G,CALENDRIER!H48),Pont," ")) | J48: =J47+1 -> 42315 | K48: =IF(J48=""," ",IFERROR(VLOOKUP(J48,JFP!$D:$E,2,0),"")&IF(COUNTIF(JFP!$G:$G,CALENDRIER!J48),Pont," ")) | L48: =L47+1 -> 42345 | M48: =IF(L48=""," ",IFERROR(VLOOKUP(L48,JFP!$D:$E,2,0),"")&IF(COUNTIF(JFP!$G:$G,CALENDRIER!L48),Pont," "))
B49: =B48+1 -> 42193 | C49: =IF(B49=""," ",IFERROR(VLOOKUP(B49,JFP!$D:$E,2,0),"")&IF(COUNTIF(JFP!$G:$G,CALENDRIER!B49),Pont," ")) | D49: =D48+1 -> 42224 | E49: =IF(D49=""," ",IFERROR(VLOOKUP(D49,JFP!$D:$E,2,0),"")&IF(COUNTIF(JFP!$G:$G,CALENDRIER!D49),Pont," ")) | F49: =F48+1 -> 42255 | G49: =IF(F49=""," ",IFERROR(VLOOKUP(F49,JFP!$D:$E,2,0),"")&IF(COUNTIF(JFP!$G:$G,CALENDRIER!F49),Pont," ")) | H49: =H48+1 -> 42285 | I49: =IF(H49=""," ",IFERROR(VLOOKUP(H49,JFP!$D:$E,2,0),"")&IF(COUNTIF(JFP!$G:$G,CALENDRIER!H49),Pont," ")) | J49: =J48+1 -> 42316 | K49: =IF(J49=""," ",IFERROR(VLOOKUP(J49,JFP!$D:$E,2,0),"")&IF(COUNTIF(JFP!$G:$G,CALENDRIER!J49),Pont," ")) | L49: =L48+1 -> 42346 | M49: =IF(L49=""," ",IFERROR(VLOOKUP(L49,JFP!$D:$E,2,0),"")&IF(COUNTIF(JFP!$G:$G,CALENDRIER!L49),Pont," "))
B50: =B49+1 -> 42194 | C50: =IF(B50=""," ",IFERROR(VLOOKUP(B50,JFP!$D:$E,2,0),"")&IF(COUNTIF(JFP!$G:$G,CALENDRIER!B50),Pont," ")) | D50: =D49+1 -> 42225 | E50: =IF(D50=""," ",IFERROR(VLOOKUP(D50,JFP!$D:$E,2,0),"")&IF(COUNTIF(JFP!$G:$G,CALENDRIER!D50),Pont," ")) | F50: =F49+1 -> 42256 | G50: =IF(F50=""," ",IFERROR(VLOOKUP(F50,JFP!$D:$E,2,0),"")&IF(COUNTIF(JFP!$G:$G,CALENDRIER!F50),Pont," ")) | H50: =H49+1 -> 42286 | I50: =IF(H50=""," ",IFERROR(VLOOKUP(H50,JFP!$D:$E,2,0),"")&IF(COUNTIF(JFP!$G:$G,CALENDRIER!H50),Pont," ")) | J50: =J49+1 -> 42317 | K50: =IF(J50=""," ",IFERROR(VLOOKUP(J50,JFP!$D:$E,2,0),"")&IF(COUNTIF(JFP!$G:$G,CALENDRIER!J50),Pont," ")) | L50: =L49+1 -> 42347 | M50: =IF(L50=""," ",IFERROR(VLOOKUP(L50,JFP!$D:$E,2,0),"")&IF(COUNTIF(JFP!$G:$G,CALENDRIER!L50),Pont," "))
B51: =B50+1 -> 42195 | C51: =IF(B51=""," ",IFERROR(VLOOKUP(B51,JFP!$D:$E,2,0),"")&IF(COUNTIF(JFP!$G:$G,CALENDRIER!B51),Pont," ")) | D51: =D50+1 -> 42226 | E51: =IF(D51=""," ",IFERROR(VLOOKUP(D51,JFP!$D:$E,2,0),"")&IF(COUNTIF(JFP!$G:$G,CALENDRIER!D51),Pont," ")) | F51: =F50+1 -> 42257 | G51: =IF(F51=""," ",IFERROR(VLOOKUP(F51,JFP!$D:$E,2,0),"")&IF(COUNTIF(JFP!$G:$G,CALENDRIER!F51),Pont," ")) | H51: =H50+1 -> 42287 | I51: =IF(H51=""," ",IFERROR(VLOOKUP(H51,JFP!$D:$E,2,0),"")&IF(COUNTIF(JFP!$G:$G,CALENDRIER!H51),Pont," ")) | J51: =J50+1 -> 42318 | K51: =IF(J51=""," ",IFERROR(VLOOKUP(J51,JFP!$D:$E,2,0),"")&IF(COUNTIF(JFP!$G:$G,CALENDRIER!J51),Pont," ")) | L51: =L50+1 -> 42348 | M51: =IF(L51=""," ",IFERROR(VLOOKUP(L51,JFP!$D:$E,2,0),"")&IF(COUNTIF(JFP!$G:$G,CALENDRIER!L51),Pont," "))
B52: =B51+1 -> 42196 | C52: =IF(B52=""," ",IFERROR(VLOOKUP(B52,JFP!$D:$E,2,0),"")&IF(COUNTIF(JFP!$G:$G,CALENDRIER!B52),Pont," ")) | D52: =D51+1 -> 42227 | E52: =IF(D52=""," ",IFERROR(VLOOKUP(D52,JFP!$D:$E,2,0),"")&IF(COUNTIF(JFP!$G:$G,CALENDRIER!D52),Pont," ")) | F52: =F51+1 -> 42258 | G52: =IF(F52=""," ",IFERROR(VLOOKUP(F52,JFP!$D:$E,2,0),"")&IF(COUNTIF(JFP!$G:$G,CALENDRIER!F52),Pont," ")) | H52: =H51+1 -> 42288 | I52: =IF(H52=""," ",IFERROR(VLOOKUP(H52,JFP!$D:$E,2,0),"")&IF(COUNTIF(JFP!$G:$G,CALENDRIER!H52),Pont," ")) | J52: =J51+1 -> 42319 | K52: =IF(J52=""," ",IFERROR(VLOOKUP(J52,JFP!$D:$E,2,0),"")&IF(COUNTIF(JFP!$G:$G,CALENDRIER!J52),Pont," ")) -> Armistice | L52: =L51+1 -> 42349 | M52: =IF(L52=""," ",IFERROR(VLOOKUP(L52,JFP!$D:$E,2,0),"")&IF(COUNTIF(JFP!$G:$G,CALENDRIER!L52),Pont," "))
B53: =B52+1 -> 42197 | C53: =IF(B53=""," ",IFERROR(VLOOKUP(B53,JFP!$D:$E,2,0),"")&IF(COUNTIF(JFP!$G:$G,CALENDRIER!B53),Pont," ")) | D53: =D52+1 -> 42228 | E53: =IF(D53=""," ",IFERROR(VLOOKUP(D53,JFP!$D:$E,2,0),"")&IF(COUNTIF(JFP!$G:$G,CALENDRIER!D53),Pont," ")) | F53: =F52+1 -> 42259 | G53: =IF(F53=""," ",IFERROR(VLOOKUP(F53,JFP!$D:$E,2,0),"")&IF(COUNTIF(JFP!$G:$G,CALENDRIER!F53),Pont," ")) | H53: =H52+1 -> 42289 | I53: =IF(H53=""," ",IFERROR(VLOOKUP(H53,JFP!$D:$E,2,0),"")&IF(COUNTIF(JFP!$G:$G,CALENDRIER!H53),Pont," ")) | J53: =J52+1 -> 42320 | K53: =IF(J53=""," ",IFERROR(VLOOKUP(J53,JFP!$D:$E,2,0),"")&IF(COUNTIF(JFP!$G:$G,CALENDRIER!J53),Pont," ")) | L53: =L52+1 -> 42350 | M53: =IF(L53=""," ",IFERROR(VLOOKUP(L53,JFP!$D:$E,2,0),"")&IF(COUNTIF(JFP!$G:$G,CALENDRIER!L53),Pont," "))
B54: =B53+1 -> 42198 | C54: =IF(B54=""," ",IFERROR(VLOOKUP(B54,JFP!$D:$E,2,0),"")&IF(COUNTIF(JFP!$G:$G,CALENDRIER!B54),Pont," ")) -> Pont | D54: =D53+1 -> 42229 | E54: =IF(D54=""," ",IFERROR(VLOOKUP(D54,JFP!$D:$E,2,0),"")&IF(COUNTIF(JFP!$G:$G,CALENDRIER!D54),Pont," ")) | F54: =F53+1 -> 42260 | G54: =IF(F54=""," ",IFERROR(VLOOKUP(F54,JFP!$D:$E,2,0),"")&IF(COUNTIF(JFP!$G:$G,CALENDRIER!F54),Pont," ")) | H54: =H53+1 -> 42290 | I54: =IF(H54=""," ",IFERROR(VLOOKUP(H54,JFP!$D:$E,2,0),"")&IF(COUNTIF(JFP!$G:$G,CALENDRIER!H54),Pont," ")) | J54: =J53+1 -> 42321 | K54: =IF(J54=""," ",IFERROR(VLOOKUP(J54,JFP!$D:$E,2,0),"")&IF(COUNTIF(JFP!$G:$G,CALENDRIER!J54),Pont," ")) | L54: =L53+1 -> 42351 | M54: =IF(L54=""," ",IFERROR(VLOOKUP(L54,JFP!$D:$E,2,0),"")&IF(COUNTIF(JFP!$G:$G,CALENDRIER!L54),Pont," "))
... B71: =B70+1 -> 42215 | C71: =IF(B71=""," ",IFERROR(VLOOKUP(B71,JFP!$D:$E,2,0),"")&IF(COUNTIF(JFP!$G:$G,CALENDRIER!B71),Pont," ")) | D71: =D70+1 -> 42246 | E71: =IF(D71=""," ",IFERROR(VLOOKUP(D71,JFP!$D:$E,2,0),"")&IF(COUNTIF(JFP!$G:$G,CALENDRIER!D71),Pont," ")) | F71: =F70+1 -> 42277 | G71: =IF(F71=""," ",IFERROR(VLOOKUP(F71,JFP!$D:$E,2,0),"")&IF(COUNTIF(JFP!$G:$G,CALENDRIER!F71),Pont," ")) | H71: =H70+1 -> 42307 | I71: =IF(H71=""," ",IFERROR(VLOOKUP(H71,JFP!$D:$E,2,0),"")&IF(COUNTIF(JFP!$G:$G,CALENDRIER!H71),Pont," ")) | J71: =J70+1 -> 42338 | K71: =IF(J71=""," ",IFERROR(VLOOKUP(J71,JFP!$D:$E,2,0),"")&IF(COUNTIF(JFP!$G:$G,CALENDRIER!J71),Pont," ")) | L71: =L70+1 -> 42368 | M71: =IF(L71=""," ",IFERROR(VLOOKUP(L71,JFP!$D:$E,2,0),"")&IF(COUNTIF(JFP!$G:$G,CALENDRIER!L71),Pont," "))
B72: =B71+1 -> 42216 | C72: =IF(B72=""," ",IFERROR(VLOOKUP(B72,JFP!$D:$E,2,0),"")&IF(COUNTIF(JFP!$G:$G,CALENDRIER!B72),Pont," ")) | D72: =D71+1 -> 42247 | E72: =IF(D72=""," ",IFERROR(VLOOKUP(D72,JFP!$D:$E,2,0),"")&IF(COUNTIF(JFP!$G:$G,CALENDRIER!D72),Pont," ")) | H72: =H71+1 -> 42308 | I72: =IF(H72=""," ",IFERROR(VLOOKUP(H72,JFP!$D:$E,2,0),"")&IF(COUNTIF(JFP!$G:$G,CALENDRIER!H72),Pont," ")) | L72: =L71+1 -> 42369 | M72: =IF(L72=""," ",IFERROR(VLOOKUP(L72,JFP!$D:$E,2,0),"")&IF(COUNTIF(JFP!$G:$G,CALENDRIER!L72),Pont," "))
