Workbook
Name ISFOXLabelingDefaultPosition: 3
Name SEMAINE: #REF!

Sheet Feuil1
A1: 1 | C1: VK
A2: 2 | C2: VK BMW
A3: 3 | C3: VK Crimp 2
A4: 4 | C4: VK-Crimp
A5: 5 | C5: VK-Lambo
A6: 6 | C6: VK-Usch
A7: 7 | C7: VK-Verd
A8: 8
A9: 9
A10: 10
A11: 11
A12: 12
A13: 13
A14: 14
A15: 15
A16: 16
A17: 17
A18: 18
A19: 19
... A52: 52

Sheet Sheet1
A1: SEMAINE | B1: JOUR | C1: CLASSE | D1: Groupes de production | E1: Centre de travail | F1: Poste | G1: Opérateur | H1: #peprNrofIndirectPresentpersons | I1: Opérateurs abscents | J1: Minutes de production | K1: Temps de travail | L1: PP | M1: PP(S) m DT | N1: Temps d'arrêt validés | O1: Temps d'arrêt ouverts | P1: #peprNoneffrelevanttimepaymin | Q1: PP p DT | R1: PP(S) | S1: Qte visee par poste | T1: nombre de pièces produites | U1: #peprCorrmintesting | V1: #peprNrofcavityerrors | W1: #peprNrofcavityerrorsMalus | X1: #peprCorrminrework | Y1: #peprNrofreworks | Z1: #peprNrofreworksMalus
A2: 2 | B2: Lundi | C2: =IF(MID(D2,4,2)="BM","VK BMW",IF(MID(D2,9,1)="2","VK Crimp 2",IF(MID(D2,1,9)="VK-CrimpA","VK-Crimp",IF(MID(D2,1,9)="VK-CrimpB","VK-Crimp",IF(MID(D2,1,9)="VK-CrimpC","VK-Crimp",IF(MID(D2,4,1)="L","VK-Lambo",IF(MID(D2,4,1)="U","VK-Usch",IF(MID(D2,4,1)="V","VK-Verd",IF(D2="SUM","VK",IF(D2="TARGET VK","VK",IF(D2="TARGET BMW","VK BMW",IF(D2="TARGET VK Crimp 2","VK Crimp 2",IF(D2="TARGET VK-Crimp","VK-Crimp",IF(D2="TARGET VK-Lambo","VK-Lambo",IF(D2="TARGET VK-Usch","VK-Usch",IF(D2="TARGET VK-Verd","VK-Verd",FALSE)))))))))))))))) -> VK BMW | D2: VK-BMW-A | E2: VK-BX8 VK-BX8 | F2: A | G2: 17 | H2: 1 | I2: 0 | J2: 7776,43 | K2: 7905 | L2: 98.37 | M2: 98,37 | N2: 0 | O2: 60 | P2: 0 | Q2: 98,37 | R2: 98,37 | T2: 0 | U2: 0 | V2: 0 | W2: 0 | X2: 0 | Y2: 0 | Z2: 0
A3: 2 | B3: Lundi | C3: =IF(MID(D3,4,2)="BM","VK BMW",IF(MID(D3,9,1)="2","VK Crimp 2",IF(MID(D3,1,9)="VK-CrimpA","VK-Crimp",IF(MID(D3,1,9)="VK-CrimpB","VK-Crimp",IF(MID(D3,1,9)="VK-CrimpC","VK-Crimp",IF(MID(D3,4,1)="L","VK-Lambo",IF(MID(D3,4,1)="U","VK-Usch",IF(MID(D3,4,1)="V","VK-Verd",IF(D3="SUM","VK",IF(D3="TARGET VK","VK",IF(D3="TARGET BMW","VK BMW",IF(D3="TARGET VK Crimp 2","VK Crimp 2",IF(D3="TARGET VK-Crimp","VK-Crimp",IF(D3="TARGET VK-Lambo","VK-Lambo",IF(D3="TARGET VK-Usch","VK-Usch",IF(D3="TARGET VK-Verd","VK-Verd",FALSE)))))))))))))))) -> VK BMW | D3: VK-BMW-B | E3: VK-BX8 VK-BX8 | F3: B | G3: 13 | H3: 0 | I3: 1 | J3: 5375,12 | K3: 6045 | L3: 88.92 | M3: 88,92 | N3: 0 | O3: 0 | P3: 0 | Q3: 88,92 | R3: 88,92 | T3: 0 | U3: 0 | V3: 0 | W3: 0 | X3: 0 | Y3: 0 | Z3: 0
A4: 2 | B4: Lundi | C4: =IF(MID(D4,4,2)="BM","VK BMW",IF(MID(D4,9,1)="2","VK Crimp 2",IF(MID(D4,1,9)="VK-CrimpA","VK-Crimp",IF(MID(D4,1,9)="VK-CrimpB","VK-Crimp",IF(MID(D4,1,9)="VK-CrimpC","VK-Crimp",IF(MID(D4,4,1)="L","VK-Lambo",IF(MID(D4,4,1)="U","VK-Usch",IF(MID(D4,4,1)="V","VK-Verd",IF(D4="SUM","VK",IF(D4="TARGET VK","VK",IF(D4="TARGET BMW","VK BMW",IF(D4="TARGET VK Crimp 2","VK Crimp 2",IF(D4="TARGET VK-Crimp","VK-Crimp",IF(D4="TARGET VK-Lambo","VK-Lambo",IF(D4="TARGET VK-Usch","VK-Usch",IF(D4="TARGET VK-Verd","VK-Verd",FALSE)))))))))))))))) -> VK Crimp 2 | D4: VK-Crimp2A | E4: VK-Crimp2 VK-Crimp 2 shifts | F4: A | G4: 2 | H4: 0 | I4: 11 | J4: 585 | K4: 930 | L4: 62.9 | M4: 62,9 | N4: 0 | O4: 0 | P4: 0 | Q4: 62,9 | R4: 62,9 | T4: 0 | U4: 0 | V4: 0 | W4: 0 | X4: 0 | Y4: 0 | Z4: 0
A5: 2 | B5: Lundi | C5: =IF(MID(D5,4,2)="BM","VK BMW",IF(MID(D5,9,1)="2","VK Crimp 2",IF(MID(D5,1,9)="VK-CrimpA","VK-Crimp",IF(MID(D5,1,9)="VK-CrimpB","VK-Crimp",IF(MID(D5,1,9)="VK-CrimpC","VK-Crimp",IF(MID(D5,4,1)="L","VK-Lambo",IF(MID(D5,4,1)="U","VK-Usch",IF(MID(D5,4,1)="V","VK-Verd",IF(D5="SUM","VK",IF(D5="TARGET VK","VK",IF(D5="TARGET BMW","VK BMW",IF(D5="TARGET VK Crimp 2","VK Crimp 2",IF(D5="TARGET VK-Crimp","VK-Crimp",IF(D5="TARGET VK-Lambo","VK-Lambo",IF(D5="TARGET VK-Usch","VK-Usch",IF(D5="TARGET VK-Verd","VK-Verd",FALSE)))))))))))))))) -> VK Crimp 2 | D5: VK-Crimp2B | E5: VK-Crimp2 VK-Crimp 2 shifts | F5: B | G5: 11 | H5: 0 | I5: 4 | J5: 3864,38 | K5: 5115 | L5: 75.55 | M5: 75,55 | N5: 0 | O5: 0 | P5: 0 | Q5: 75,55 | R5: 75,55 | T5: 0 | U5: 0 | V5: 0 | W5: 0 | X5: 0 | Y5: 0 | Z5: 0
A6: 2 | B6: Lundi | C6: =IF(MID(D6,4,2)="BM","VK BMW",IF(MID(D6,9,1)="2","VK Crimp 2",IF(MID(D6,1,9)="VK-CrimpA","VK-Crimp",IF(MID(D6,1,9)="VK-CrimpB","VK-Crimp",IF(MID(D6,1,9)="VK-CrimpC","VK-Crimp",IF(MID(D6,4,1)="L","VK-Lambo",IF(MID(D6,4,1)="U","VK-Usch",IF(MID(D6,4,1)="V","VK-Verd",IF(D6="SUM","VK",IF(D6="TARGET VK","VK",IF(D6="TARGET BMW","VK BMW",IF(D6="TARGET VK Crimp 2","VK Crimp 2",IF(D6="TARGET VK-Crimp","VK-Crimp",IF(D6="TARGET VK-Lambo","VK-Lambo",IF(D6="TARGET VK-Usch","VK-Usch",IF(D6="TARGET VK-Verd","VK-Verd",FALSE)))))))))))))))) -> VK-Crimp | D6: VK-CrimpA | E6: VK-Crimp VK-Crimp | F6: A | G6: 16 | H6: 0 | I6: 2 | J6: 6551,6 | K6: 7440 | L6: 88.06 | M6: 88,06 | N6: 0 | O6: 240 | P6: 0 | Q6: 88,06 | R6: 88,06 | T6: 0 | U6: 0 | V6: 0 | W6: 0 | X6: 0 | Y6: 0 | Z6: 0
A7: 2 | B7: Lundi | C7: =IF(MID(D7,4,2)="BM","VK BMW",IF(MID(D7,9,1)="2","VK Crimp 2",IF(MID(D7,1,9)="VK-CrimpA","VK-Crimp",IF(MID(D7,1,9)="VK-CrimpB","VK-Crimp",IF(MID(D7,1,9)="VK-CrimpC","VK-Crimp",IF(MID(D7,4,1)="L","VK-Lambo",IF(MID(D7,4,1)="U","VK-Usch",IF(MID(D7,4,1)="V","VK-Verd",IF(D7="SUM","VK",IF(D7="TARGET VK","VK",IF(D7="TARGET BMW","VK BMW",IF(D7="TARGET VK Crimp 2","VK Crimp 2",IF(D7="TARGET VK-Crimp","VK-Crimp",IF(D7="TARGET VK-Lambo","VK-Lambo",IF(D7="TARGET VK-Usch","VK-Usch",IF(D7="TARGET VK-Verd","VK-Verd",FALSE)))))))))))))))) -> VK-Crimp | D7: VK-CrimpB | E7: VK-Crimp VK-Crimp | F7: B | G7: 12 | H7: 0 | I7: 4 | J7: 4020,45 | K7: 5580 | L7: 72.05 | M7: 72,05 | N7: 0 | O7: 0 | P7: 0 | Q7: 72,05 | R7: 72,05 | T7: 0 | U7: 0 | V7: 0 | W7: 0 | X7: 0 | Y7: 0 | Z7: 0
A8: 2 | B8: Lundi | C8: =IF(MID(D8,4,2)="BM","VK BMW",IF(MID(D8,9,1)="2","VK Crimp 2",IF(MID(D8,1,9)="VK-CrimpA","VK-Crimp",IF(MID(D8,1,9)="VK-CrimpB","VK-Crimp",IF(MID(D8,1,9)="VK-CrimpC","VK-Crimp",IF(MID(D8,4,1)="L","VK-Lambo",IF(MID(D8,4,1)="U","VK-Usch",IF(MID(D8,4,1)="V","VK-Verd",IF(D8="SUM","VK",IF(D8="TARGET VK","VK",IF(D8="TARGET BMW","VK BMW",IF(D8="TARGET VK Crimp 2","VK Crimp 2",IF(D8="TARGET VK-Crimp","VK-Crimp",IF(D8="TARGET VK-Lambo","VK-Lambo",IF(D8="TARGET VK-Usch","VK-Usch",IF(D8="TARGET VK-Verd","VK-Verd",FALSE)))))))))))))))) -> VK-Crimp | D8: VK-CrimpC | E8: VK-Crimp VK-Crimp | F8: C | G8: 23 | H8: 0 | I8: 12 | J8: 8768,91 | K8: 10695 | L8: 81.99 | M8: 81,99 | N8: 0 | O8: 0 | P8: 0 | Q8: 81,99 | R8: 81,99 | T8: 0 | U8: 0 | V8: 0 | W8: 0 | X8: 0 | Y8: 0 | Z8: 0
A9: 2 | B9: Lundi | C9: =IF(MID(D9,4,2)="BM","VK BMW",IF(MID(D9,9,1)="2","VK Crimp 2",IF(MID(D9,1,9)="VK-CrimpA","VK-Crimp",IF(MID(D9,1,9)="VK-CrimpB","VK-Crimp",IF(MID(D9,1,9)="VK-CrimpC","VK-Crimp",IF(MID(D9,4,1)="L","VK-Lambo",IF(MID(D9,4,1)="U","VK-Usch",IF(MID(D9,4,1)="V","VK-Verd",IF(D9="SUM","VK",IF(D9="TARGET VK","VK",IF(D9="TARGET BMW","VK BMW",IF(D9="TARGET VK Crimp 2","VK Crimp 2",IF(D9="TARGET VK-Crimp","VK-Crimp",IF(D9="TARGET VK-Lambo","VK-Lambo",IF(D9="TARGET VK-Usch","VK-Usch",IF(D9="TARGET VK-Verd","VK-Verd",FALSE)))))))))))))))) -> VK-Lambo | D9: VK-LamboA | E9: VK-Lambo VK-Lambo | F9: A | G9: 7,31 | H9: 1 | I9: 1,69 | J9: 3044,665 | K9: 3400 | L9: 89.55 | M9: 89,55 | N9: 0 | O9: 0 | P9: 0 | Q9: 89,55 | R9: 89,55 | T9: 0 | U9: 0 | V9: 0 | W9: 0 | X9: 0 | Y9: 0 | Z9: 0
A10: 2 | B10: Lundi | C10: =IF(MID(D10,4,2)="BM","VK BMW",IF(MID(D10,9,1)="2","VK Crimp 2",IF(MID(D10,1,9)="VK-CrimpA","VK-Crimp",IF(MID(D10,1,9)="VK-CrimpB","VK-Crimp",IF(MID(D10,1,9)="VK-CrimpC","VK-Crimp",IF(MID(D10,4,1)="L","VK-Lambo",IF(MID(D10,4,1)="U","VK-Usch",IF(MID(D10,4,1)="V","VK-Verd",IF(D10="SUM","VK",IF(D10="TARGET VK","VK",IF(D10="TARGET BMW","VK BMW",IF(D10="TARGET VK Crimp 2","VK Crimp 2",IF(D10="TARGET VK-Crimp","VK-Crimp",IF(D10="TARGET VK-Lambo","VK-Lambo",IF(D10="TARGET VK-Usch","VK-Usch",IF(D10="TARGET VK-Verd","VK-Verd",FALSE)))))))))))))))) -> VK-Lambo | D10: VK-LamboB | E10: VK-Lambo VK-Lambo | F10: B | G10: 8,52 | H10: 1 | I10: 5,47 | J10: 3391,545 | K10: 3964 | L10: 85.56 | M10: 85,56 | N10: 0 | O10: 0 | P10: 0 | Q10: 85,56 | R10: 85,56 | T10: 0 | U10: 0 | V10: 0 | W10: 0 | X10: 0 | Y10: 0 | Z10: 0
A11: 2 | B11: Lundi | C11: =IF(MID(D11,4,2)="BM","VK BMW",IF(MID(D11,9,1)="2","VK Crimp 2",IF(MID(D11,1,9)="VK-CrimpA","VK-Crimp",IF(MID(D11,1,9)="VK-CrimpB","VK-Crimp",IF(MID(D11,1,9)="VK-CrimpC","VK-Crimp",IF(MID(D11,4,1)="L","VK-Lambo",IF(MID(D11,4,1)="U","VK-Usch",IF(MID(D11,4,1)="V","VK-Verd",IF(D11="SUM","VK",IF(D11="TARGET VK","VK",IF(D11="TARGET BMW","VK BMW",IF(D11="TARGET VK Crimp 2","VK Crimp 2",IF(D11="TARGET VK-Crimp","VK-Crimp",IF(D11="TARGET VK-Lambo","VK-Lambo",IF(D11="TARGET VK-Usch","VK-Usch",IF(D11="TARGET VK-Verd","VK-Verd",FALSE)))))))))))))))) -> VK-Usch | D11: VK-UschA | E11: VK-Usch VK-Uschall | F11: A | G11: 28 | H11: 1 | I11: 4 | J11: 12667,93 | K11: 13020 | L11: 97.3 | M11: 97,3 | N11: 0 | O11: 300 | P11: 0 | Q11: 97,3 | R11: 97,3 | T11: 0 | U11: 0 | V11: 0 | W11: 0 | X11: 0 | Y11: 0 | Z11: 0
A12: 2 | B12: Lundi | C12: =IF(MID(D12,4,2)="BM","VK BMW",IF(MID(D12,9,1)="2","VK Crimp 2",IF(MID(D12,1,9)="VK-CrimpA","VK-Crimp",IF(MID(D12,1,9)="VK-CrimpB","VK-Crimp",IF(MID(D12,1,9)="VK-CrimpC","VK-Crimp",IF(MID(D12,4,1)="L","VK-Lambo",IF(MID(D12,4,1)="U","VK-Usch",IF(MID(D12,4,1)="V","VK-Verd",IF(D12="SUM","VK",IF(D12="TARGET VK","VK",IF(D12="TARGET BMW","VK BMW",IF(D12="TARGET VK Crimp 2","VK Crimp 2",IF(D12="TARGET VK-Crimp","VK-Crimp",IF(D12="TARGET VK-Lambo","VK-Lambo",IF(D12="TARGET VK-Usch","VK-Usch",IF(D12="TARGET VK-Verd","VK-Verd",FALSE)))))))))))))))) -> VK-Usch | D12: VK-UschB | E12: VK-Usch VK-Uschall | F12: B | G12: 11 | H12: 0 | I12: 19 | J12: 5304,35 | K12: 5115 | L12: 103.7 | M12: 103,7 | N12: 0 | O12: 0 | P12: 0 | Q12: 103,7 | R12: 103,7 | T12: 0 | U12: 0 | V12: 0 | W12: 0 | X12: 0 | Y12: 0 | Z12: 0
A13: 2 | B13: Lundi | C13: =IF(MID(D13,4,2)="BM","VK BMW",IF(MID(D13,9,1)="2","VK Crimp 2",IF(MID(D13,1,9)="VK-CrimpA","VK-Crimp",IF(MID(D13,1,9)="VK-CrimpB","VK-Crimp",IF(MID(D13,1,9)="VK-CrimpC","VK-Crimp",IF(MID(D13,4,1)="L","VK-Lambo",IF(MID(D13,4,1)="U","VK-Usch",IF(MID(D13,4,1)="V","VK-Verd",IF(D13="SUM","VK",IF(D13="TARGET VK","VK",IF(D13="TARGET BMW","VK BMW",IF(D13="TARGET VK Crimp 2","VK Crimp 2",IF(D13="TARGET VK-Crimp","VK-Crimp",IF(D13="TARGET VK-Lambo","VK-Lambo",IF(D13="TARGET VK-Usch","VK-Usch",IF(D13="TARGET VK-Verd","VK-Verd",FALSE)))))))))))))))) -> VK-Usch | D13: VK-UschC | E13: VK-Usch VK-Uschall | F13: C | G13: 21 | H13: 0 | I13: 18 | J13: 8655,375 | K13: 9765 | L13: 88.64 | M13: 88,64 | N13: 0 | O13: 0 | P13: 0 | Q13: 88,64 | R13: 88,64 | T13: 0 | U13: 0 | V13: 0 | W13: 0 | X13: 0 | Y13: 0 | Z13: 0
... A16: 2 | B16: Lundi | C16: =IF(MID(D16,4,2)="BM","VK BMW",IF(MID(D16,9,1)="2","VK Crimp 2",IF(MID(D16,1,9)="VK-CrimpA","VK-Crimp",IF(MID(D16,1,9)="VK-CrimpB","VK-Crimp",IF(MID(D16,1,9)="VK-CrimpC","VK-Crimp",IF(MID(D16,4,1)="L","VK-Lambo",IF(MID(D16,4,1)="U","VK-Usch",IF(MID(D16,4,1)="V","VK-Verd",IF(D16="SUM","VK",IF(D16="TARGET VK","VK",IF(D16="TARGET BMW","VK BMW",IF(D16="TARGET VK Crimp 2","VK Crimp 2",IF(D16="TARGET VK-Crimp","VK-Crimp",IF(D16="TARGET VK-Lambo","VK-Lambo",IF(D16="TARGET VK-Usch","VK-Usch",IF(D16="TARGET VK-Verd","VK-Verd",FALSE)))))))))))))))) -> VK-Verd | D16: VK-VerdC | E16: VK-Verd VK- Verdrillen | F16: C | G16: 5 | H16: 0 | I16: 7 | J16: 1390,95 | K16: 2325 | L16: 59.83 | M16: 59,83 | N16: 0 | O16: 0 | P16: 0 | Q16: 59,83 | R16: 59,83 | T16: 0 | U16: 0 | V16: 0 | W16: 0 | X16: 0 | Y16: 0 | Z16: 0
A17: 2 | B17: Lundi | C17: =IF(MID(D17,4,2)="BM","VK BMW",IF(MID(D17,9,1)="2","VK Crimp 2",IF(MID(D17,1,9)="VK-CrimpA","VK-Crimp",IF(MID(D17,1,9)="VK-CrimpB","VK-Crimp",IF(MID(D17,1,9)="VK-CrimpC","VK-Crimp",IF(MID(D17,4,1)="L","VK-Lambo",IF(MID(D17,4,1)="U","VK-Usch",IF(MID(D17,4,1)="V","VK-Verd",IF(D17="SUM","VK",IF(D17="TARGET VK","VK",IF(D17="TARGET BMW","VK BMW",IF(D17="TARGET VK Crimp 2","VK Crimp 2",IF(D17="TARGET VK-Crimp","VK-Crimp",IF(D17="TARGET VK-Lambo","VK-Lambo",IF(D17="TARGET VK-Usch","VK-Usch",IF(D17="TARGET VK-Verd","VK-Verd",FALSE)))))))))))))))) -> VK | D17: SUM | G17: 200,84 | H17: 4 | I17: 92,16 | J17: 80872,83 | K17: 93389 | L17: 86.6 | M17: 86,6 | N17: 0 | O17: 780 | P17: 0 | Q17: 86,6 | R17: 86,6 | T17: 0 | U17: 0 | V17: 0 | W17: 0 | X17: 0 | Y17: 0 | Z17: 0
A18: 2 | B18: Lundi | C18: =IF(MID(D18,4,2)="BM","VK BMW",IF(MID(D18,9,1)="2","VK Crimp 2",IF(MID(D18,1,9)="VK-CrimpA","VK-Crimp",IF(MID(D18,1,9)="VK-CrimpB","VK-Crimp",IF(MID(D18,1,9)="VK-CrimpC","VK-Crimp",IF(MID(D18,4,1)="L","VK-Lambo",IF(MID(D18,4,1)="U","VK-Usch",IF(MID(D18,4,1)="V","VK-Verd",IF(D18="SUM","VK",IF(D18="TARGET VK","VK",IF(D18="TARGET BMW","VK BMW",IF(D18="TARGET VK Crimp 2","VK Crimp 2",IF(D18="TARGET VK-Crimp","VK-Crimp",IF(D18="TARGET VK-Lambo","VK-Lambo",IF(D18="TARGET VK-Usch","VK-Usch",IF(D18="TARGET VK-Verd","VK-Verd",FALSE)))))))))))))))) -> FALSE | D18: AVG | G18: 13,39 | H18: 0,27 | I18: 6,14
A19: 2 | B19: Lundi | C19: =IF(MID(D19,4,2)="BM","VK BMW",IF(MID(D19,9,1)="2","VK Crimp 2",IF(MID(D19,1,9)="VK-CrimpA","VK-Crimp",IF(MID(D19,1,9)="VK-CrimpB","VK-Crimp",IF(MID(D19,1,9)="VK-CrimpC","VK-Crimp",IF(MID(D19,4,1)="L","VK-Lambo",IF(MID(D19,4,1)="U","VK-Usch",IF(MID(D19,4,1)="V","VK-Verd",IF(D19="SUM","VK",IF(D19="TARGET VK","VK",IF(D19="TARGET BMW","VK BMW",IF(D19="TARGET VK Crimp 2","VK Crimp 2",IF(D19="TARGET VK-Crimp","VK-Crimp",IF(D19="TARGET VK-Lambo","VK-Lambo",IF(D19="TARGET VK-Usch","VK-Usch",IF(D19="TARGET VK-Verd","VK-Verd",FALSE)))))))))))))))) -> VK | D19: TARGET VK | L19: 100
A20: 2 | B20: Lundi | C20: =IF(MID(D20,4,2)="BM","VK BMW",IF(MID(D20,9,1)="2","VK Crimp 2",IF(MID(D20,1,9)="VK-CrimpA","VK-Crimp",IF(MID(D20,1,9)="VK-CrimpB","VK-Crimp",IF(MID(D20,1,9)="VK-CrimpC","VK-Crimp",IF(MID(D20,4,1)="L","VK-Lambo",IF(MID(D20,4,1)="U","VK-Usch",IF(MID(D20,4,1)="V","VK-Verd",IF(D20="SUM","VK",IF(D20="TARGET VK","VK",IF(D20="TARGET BMW","VK BMW",IF(D20="TARGET VK Crimp 2","VK Crimp 2",IF(D20="TARGET VK-Crimp","VK-Crimp",IF(D20="TARGET VK-Lambo","VK-Lambo",IF(D20="TARGET VK-Usch","VK-Usch",IF(D20="TARGET VK-Verd","VK-Verd",FALSE)))))))))))))))) -> VK BMW | D20: TARGET BMW | L20: 100
A21: 2 | B21: Lundi | C21: =IF(MID(D21,4,2)="BM","VK BMW",IF(MID(D21,9,1)="2","VK Crimp 2",IF(MID(D21,1,9)="VK-CrimpA","VK-Crimp",IF(MID(D21,1,9)="VK-CrimpB","VK-Crimp",IF(MID(D21,1,9)="VK-CrimpC","VK-Crimp",IF(MID(D21,4,1)="L","VK-Lambo",IF(MID(D21,4,1)="U","VK-Usch",IF(MID(D21,4,1)="V","VK-Verd",IF(D21="SUM","VK",IF(D21="TARGET VK","VK",IF(D21="TARGET BMW","VK BMW",IF(D21="TARGET VK Crimp 2","VK Crimp 2",IF(D21="TARGET VK-Crimp","VK-Crimp",IF(D21="TARGET VK-Lambo","VK-Lambo",IF(D21="TARGET VK-Usch","VK-Usch",IF(D21="TARGET VK-Verd","VK-Verd",FALSE)))))))))))))))) -> VK Crimp 2 | D21: TARGET VK Crimp 2 | L21: 100
A22: 2 | B22: Lundi | C22: =IF(MID(D22,4,2)="BM","VK BMW",IF(MID(D22,9,1)="2","VK Crimp 2",IF(MID(D22,1,9)="VK-CrimpA","VK-Crimp",IF(MID(D22,1,9)="VK-CrimpB","VK-Crimp",IF(MID(D22,1,9)="VK-CrimpC","VK-Crimp",IF(MID(D22,4,1)="L","VK-Lambo",IF(MID(D22,4,1)="U","VK-Usch",IF(MID(D22,4,1)="V","VK-Verd",IF(D22="SUM","VK",IF(D22="TARGET VK","VK",IF(D22="TARGET BMW","VK BMW",IF(D22="TARGET VK Crimp 2","VK Crimp 2",IF(D22="TARGET VK-Crimp","VK-Crimp",IF(D22="TARGET VK-Lambo","VK-Lambo",IF(D22="TARGET VK-Usch","VK-Usch",IF(D22="TARGET VK-Verd","VK-Verd",FALSE)))))))))))))))) -> VK-Crimp | D22: TARGET VK-Crimp | L22: 100
A23: 2 | B23: Lundi | C23: =IF(MID(D23,4,2)="BM","VK BMW",IF(MID(D23,9,1)="2","VK Crimp 2",IF(MID(D23,1,9)="VK-CrimpA","VK-Crimp",IF(MID(D23,1,9)="VK-CrimpB","VK-Crimp",IF(MID(D23,1,9)="VK-CrimpC","VK-Crimp",IF(MID(D23,4,1)="L","VK-Lambo",IF(MID(D23,4,1)="U","VK-Usch",IF(MID(D23,4,1)="V","VK-Verd",IF(D23="SUM","VK",IF(D23="TARGET VK","VK",IF(D23="TARGET BMW","VK BMW",IF(D23="TARGET VK Crimp 2","VK Crimp 2",IF(D23="TARGET VK-Crimp","VK-Crimp",IF(D23="TARGET VK-Lambo","VK-Lambo",IF(D23="TARGET VK-Usch","VK-Usch",IF(D23="TARGET VK-Verd","VK-Verd",FALSE)))))))))))))))) -> VK-Lambo | D23: TARGET VK-Lambo | L23: 100
A24: 2 | B24: Lundi | C24: =IF(MID(D24,4,2)="BM","VK BMW",IF(MID(D24,9,1)="2","VK Crimp 2",IF(MID(D24,1,9)="VK-CrimpA","VK-Crimp",IF(MID(D24,1,9)="VK-CrimpB","VK-Crimp",IF(MID(D24,1,9)="VK-CrimpC","VK-Crimp",IF(MID(D24,4,1)="L","VK-Lambo",IF(MID(D24,4,1)="U","VK-Usch",IF(MID(D24,4,1)="V","VK-Verd",IF(D24="SUM","VK",IF(D24="TARGET VK","VK",IF(D24="TARGET BMW","VK BMW",IF(D24="TARGET VK Crimp 2","VK Crimp 2",IF(D24="TARGET VK-Crimp","VK-Crimp",IF(D24="TARGET VK-Lambo","VK-Lambo",IF(D24="TARGET VK-Usch","VK-Usch",IF(D24="TARGET VK-Verd","VK-Verd",FALSE)))))))))))))))) -> VK-Usch | D24: TARGET VK-Usch | L24: 100
A25: 2 | B25: Lundi | C25: =IF(MID(D25,4,2)="BM","VK BMW",IF(MID(D25,9,1)="2","VK Crimp 2",IF(MID(D25,1,9)="VK-CrimpA","VK-Crimp",IF(MID(D25,1,9)="VK-CrimpB","VK-Crimp",IF(MID(D25,1,9)="VK-CrimpC","VK-Crimp",IF(MID(D25,4,1)="L","VK-Lambo",IF(MID(D25,4,1)="U","VK-Usch",IF(MID(D25,4,1)="V","VK-Verd",IF(D25="SUM","VK",IF(D25="TARGET VK","VK",IF(D25="TARGET BMW","VK BMW",IF(D25="TARGET VK Crimp 2","VK Crimp 2",IF(D25="TARGET VK-Crimp","VK-Crimp",IF(D25="TARGET VK-Lambo","VK-Lambo",IF(D25="TARGET VK-Usch","VK-Usch",IF(D25="TARGET VK-Verd","VK-Verd",FALSE)))))))))))))))) -> VK-Verd | D25: TARGET VK-Verd | L25: 100
A26: 2 | B26: Mardi | C26: =IF(MID(D26,4,2)="BM","VK BMW",IF(MID(D26,9,1)="2","VK Crimp 2",IF(MID(D26,1,9)="VK-CrimpA","VK-Crimp",IF(MID(D26,1,9)="VK-CrimpB","VK-Crimp",IF(MID(D26,1,9)="VK-CrimpC","VK-Crimp",IF(MID(D26,4,1)="L","VK-Lambo",IF(MID(D26,4,1)="U","VK-Usch",IF(MID(D26,4,1)="V","VK-Verd",IF(D26="SUM","VK",IF(D26="TARGET VK","VK",IF(D26="TARGET BMW","VK BMW",IF(D26="TARGET VK Crimp 2","VK Crimp 2",IF(D26="TARGET VK-Crimp","VK-Crimp",IF(D26="TARGET VK-Lambo","VK-Lambo",IF(D26="TARGET VK-Usch","VK-Usch",IF(D26="TARGET VK-Verd","VK-Verd",FALSE)))))))))))))))) -> VK BMW | D26: VK-BMW-A | E26: VK-BX8 VK-BX8 | F26: A | G26: 15 | H26: 0 | I26: 2 | J26: 5650,74 | K26: 6975 | L26: 81.01 | M26: 81,01 | N26: 0 | O26: 0 | P26: 0 | Q26: 81,01 | R26: 81,01 | T26: 0 | U26: 0 | V26: 0 | W26: 0 | X26: 0 | Y26: 0 | Z26: 0
A27: 2 | B27: Mardi | C27: =IF(MID(D27,4,2)="BM","VK BMW",IF(MID(D27,9,1)="2","VK Crimp 2",IF(MID(D27,1,9)="VK-CrimpA","VK-Crimp",IF(MID(D27,1,9)="VK-CrimpB","VK-Crimp",IF(MID(D27,1,9)="VK-CrimpC","VK-Crimp",IF(MID(D27,4,1)="L","VK-Lambo",IF(MID(D27,4,1)="U","VK-Usch",IF(MID(D27,4,1)="V","VK-Verd",IF(D27="SUM","VK",IF(D27="TARGET VK","VK",IF(D27="TARGET BMW","VK BMW",IF(D27="TARGET VK Crimp 2","VK Crimp 2",IF(D27="TARGET VK-Crimp","VK-Crimp",IF(D27="TARGET VK-Lambo","VK-Lambo",IF(D27="TARGET VK-Usch","VK-Usch",IF(D27="TARGET VK-Verd","VK-Verd",FALSE)))))))))))))))) -> VK BMW | D27: VK-BMW-B | E27: VK-BX8 VK-BX8 | F27: B | G27: 10 | H27: 0 | I27: 4 | J27: 3985,55 | K27: 4650 | L27: 85.71 | M27: 85,71 | N27: 0 | O27: 0 | P27: 0 | Q27: 85,71 | R27: 85,71 | T27: 0 | U27: 0 | V27: 0 | W27: 0 | X27: 0 | Y27: 0 | Z27: 0
A28: 2 | B28: Mardi | C28: =IF(MID(D28,4,2)="BM","VK BMW",IF(MID(D28,9,1)="2","VK Crimp 2",IF(MID(D28,1,9)="VK-CrimpA","VK-Crimp",IF(MID(D28,1,9)="VK-CrimpB","VK-Crimp",IF(MID(D28,1,9)="VK-CrimpC","VK-Crimp",IF(MID(D28,4,1)="L","VK-Lambo",IF(MID(D28,4,1)="U","VK-Usch",IF(MID(D28,4,1)="V","VK-Verd",IF(D28="SUM","VK",IF(D28="TARGET VK","VK",IF(D28="TARGET BMW","VK BMW",IF(D28="TARGET VK Crimp 2","VK Crimp 2",IF(D28="TARGET VK-Crimp","VK-Crimp",IF(D28="TARGET VK-Lambo","VK-Lambo",IF(D28="TARGET VK-Usch","VK-Usch",IF(D28="TARGET VK-Verd","VK-Verd",FALSE)))))))))))))))) -> VK BMW | D28: VK-BMW-C | E28: VK-BX8 VK-BX8 | F28: C | G28: 8 | H28: 0 | I28: 6 | J28: 4089,3 | K28: 3720 | L28: 109.93 | M28: 109,93 | N28: 0 | O28: 0 | P28: 0 | Q28: 109,93 | R28: 109,93 | T28: 0 | U28: 0 | V28: 0 | W28: 0 | X28: 0 | Y28: 0 | Z28: 0
A29: 2 | B29: Mardi | C29: =IF(MID(D29,4,2)="BM","VK BMW",IF(MID(D29,9,1)="2","VK Crimp 2",IF(MID(D29,1,9)="VK-CrimpA","VK-Crimp",IF(MID(D29,1,9)="VK-CrimpB","VK-Crimp",IF(MID(D29,1,9)="VK-CrimpC","VK-Crimp",IF(MID(D29,4,1)="L","VK-Lambo",IF(MID(D29,4,1)="U","VK-Usch",IF(MID(D29,4,1)="V","VK-Verd",IF(D29="SUM","VK",IF(D29="TARGET VK","VK",IF(D29="TARGET BMW","VK BMW",IF(D29="TARGET VK Crimp 2","VK Crimp 2",IF(D29="TARGET VK-Crimp","VK-Crimp",IF(D29="TARGET VK-Lambo","VK-Lambo",IF(D29="TARGET VK-Usch","VK-Usch",IF(D29="TARGET VK-Verd","VK-Verd",FALSE)))))))))))))))) -> VK Crimp 2 | D29: VK-Crimp2A | E29: VK-Crimp2 VK-Crimp 2 shifts | F29: A | G29: 4 | H29: 0 | I29: 5 | J29: 1525,5 | K29: 1860 | L29: 82.02 | M29: 82,02 | N29: 0 | O29: 0 | P29: 0 | Q29: 82,02 | R29: 82,02 | T29: 0 | U29: 0 | V29: 0 | W29: 0 | X29: 0 | Y29: 0 | Z29: 0
A30: 2 | B30: Mardi | C30: =IF(MID(D30,4,2)="BM","VK BMW",IF(MID(D30,9,1)="2","VK Crimp 2",IF(MID(D30,1,9)="VK-CrimpA","VK-Crimp",IF(MID(D30,1,9)="VK-CrimpB","VK-Crimp",IF(MID(D30,1,9)="VK-CrimpC","VK-Crimp",IF(MID(D30,4,1)="L","VK-Lambo",IF(MID(D30,4,1)="U","VK-Usch",IF(MID(D30,4,1)="V","VK-Verd",IF(D30="SUM","VK",IF(D30="TARGET VK","VK",IF(D30="TARGET BMW","VK BMW",IF(D30="TARGET VK Crimp 2","VK Crimp 2",IF(D30="TARGET VK-Crimp","VK-Crimp",IF(D30="TARGET VK-Lambo","VK-Lambo",IF(D30="TARGET VK-Usch","VK-Usch",IF(D30="TARGET VK-Verd","VK-Verd",FALSE)))))))))))))))) -> VK-Crimp | D30: VK-CrimpA | E30: VK-Crimp VK-Crimp | F30: A | G30: 22 | H30: 0 | I30: 1 | J30: 9402,11 | K30: 10230 | L30: 91.91 | M30: 91,91 | N30: 0 | O30: 0 | P30: 0 | Q30: 91,91 | R30: 91,91 | T30: 0 | U30: 0 | V30: 0 | W30: 0 | X30: 0 | Y30: 0 | Z30: 0
A31: 2 | B31: Mardi | C31: =IF(MID(D31,4,2)="BM","VK BMW",IF(MID(D31,9,1)="2","VK Crimp 2",IF(MID(D31,1,9)="VK-CrimpA","VK-Crimp",IF(MID(D31,1,9)="VK-CrimpB","VK-Crimp",IF(MID(D31,1,9)="VK-CrimpC","VK-Crimp",IF(MID(D31,4,1)="L","VK-Lambo",IF(MID(D31,4,1)="U","VK-Usch",IF(MID(D31,4,1)="V","VK-Verd",IF(D31="SUM","VK",IF(D31="TARGET VK","VK",IF(D31="TARGET BMW","VK BMW",IF(D31="TARGET VK Crimp 2","VK Crimp 2",IF(D31="TARGET VK-Crimp","VK-Crimp",IF(D31="TARGET VK-Lambo","VK-Lambo",IF(D31="TARGET VK-Usch","VK-Usch",IF(D31="TARGET VK-Verd","VK-Verd",FALSE)))))))))))))))) -> VK-Crimp | D31: VK-CrimpB | E31: VK-Crimp VK-Crimp | F31: B | G31: 11 | H31: 0 | I31: 6 | J31: 4024,82 | K31: 5115 | L31: 78.69 | M31: 78,69 | N31: 0 | O31: 0 | P31: 0 | Q31: 78,69 | R31: 78,69 | T31: 0 | U31: 0 | V31: 0 | W31: 0 | X31: 0 | Y31: 0 | Z31: 0
A32: 2 | B32: Mardi | C32: =IF(MID(D32,4,2)="BM","VK BMW",IF(MID(D32,9,1)="2","VK Crimp 2",IF(MID(D32,1,9)="VK-CrimpA","VK-Crimp",IF(MID(D32,1,9)="VK-CrimpB","VK-Crimp",IF(MID(D32,1,9)="VK-CrimpC","VK-Crimp",IF(MID(D32,4,1)="L","VK-Lambo",IF(MID(D32,4,1)="U","VK-Usch",IF(MID(D32,4,1)="V","VK-Verd",IF(D32="SUM","VK",IF(D32="TARGET VK","VK",IF(D32="TARGET BMW","VK BMW",IF(D32="TARGET VK Crimp 2","VK Crimp 2",IF(D32="TARGET VK-Crimp","VK-Crimp",IF(D32="TARGET VK-Lambo","VK-Lambo",IF(D32="TARGET VK-Usch","VK-Usch",IF(D32="TARGET VK-Verd","VK-Verd",FALSE)))))))))))))))) -> VK-Crimp | D32: VK-CrimpC | E32: VK-Crimp VK-Crimp | F32: C | G32: 21 | H32: 0 | I32: 11 | J32: 8007,296 | K32: 9765 | L32: 82 | M32: 82 | N32: 0 | O32: 0 | P32: 0 | Q32: 82 | R32: 82 | T32: 0 | U32: 0 | V32: 0 | W32: 0 | X32: 0 | Y32: 0 | Z32: 0
A33: 2 | B33: Mardi | C33: =IF(MID(D33,4,2)="BM","VK BMW",IF(MID(D33,9,1)="2","VK Crimp 2",IF(MID(D33,1,9)="VK-CrimpA","VK-Crimp",IF(MID(D33,1,9)="VK-CrimpB","VK-Crimp",IF(MID(D33,1,9)="VK-CrimpC","VK-Crimp",IF(MID(D33,4,1)="L","VK-Lambo",IF(MID(D33,4,1)="U","VK-Usch",IF(MID(D33,4,1)="V","VK-Verd",IF(D33="SUM","VK",IF(D33="TARGET VK","VK",IF(D33="TARGET BMW","VK BMW",IF(D33="TARGET VK Crimp 2","VK Crimp 2",IF(D33="TARGET VK-Crimp","VK-Crimp",IF(D33="TARGET VK-Lambo","VK-Lambo",IF(D33="TARGET VK-Usch","VK-Usch",IF(D33="TARGET VK-Verd","VK-Verd",FALSE)))))))))))))))) -> VK-Lambo | D33: VK-LamboA | E33: VK-Lambo VK-Lambo | F33: A | G33: 4 | H33: 1 | I33: 6 | J33: 1351,07 | K33: 1860 | L33: 72.64 | M33: 72,64 | N33: 0 | O33: 0 | P33: 0 | Q33: 72,64 | R33: 72,64 | T33: 0 | U33: 0 | V33: 0 | W33: 0 | X33: 0 | Y33: 0 | Z33: 0
A34: 2 | B34: Mardi | C34: =IF(MID(D34,4,2)="BM","VK BMW",IF(MID(D34,9,1)="2","VK Crimp 2",IF(MID(D34,1,9)="VK-CrimpA","VK-Crimp",IF(MID(D34,1,9)="VK-CrimpB","VK-Crimp",IF(MID(D34,1,9)="VK-CrimpC","VK-Crimp",IF(MID(D34,4,1)="L","VK-Lambo",IF(MID(D34,4,1)="U","VK-Usch",IF(MID(D34,4,1)="V","VK-Verd",IF(D34="SUM","VK",IF(D34="TARGET VK","VK",IF(D34="TARGET BMW","VK BMW",IF(D34="TARGET VK Crimp 2","VK Crimp 2",IF(D34="TARGET VK-Crimp","VK-Crimp",IF(D34="TARGET VK-Lambo","VK-Lambo",IF(D34="TARGET VK-Usch","VK-Usch",IF(D34="TARGET VK-Verd","VK-Verd",FALSE)))))))))))))))) -> VK-Lambo | D34: VK-LamboB | E34: VK-Lambo VK-Lambo | F34: B | G34: 10 | H34: 1 | I34: 4 | J34: 2959,92 | K34: 4650 | L34: 63.65 | M34: 63,65 | N34: 0 | O34: 0 | P34: 0 | Q34: 63,65 | R34: 63,65 | T34: 0 | U34: 0 | V34: 0 | W34: 0 | X34: 0 | Y34: 0 | Z34: 0
A35: 2 | B35: Mardi | C35: =IF(MID(D35,4,2)="BM","VK BMW",IF(MID(D35,9,1)="2","VK Crimp 2",IF(MID(D35,1,9)="VK-CrimpA","VK-Crimp",IF(MID(D35,1,9)="VK-CrimpB","VK-Crimp",IF(MID(D35,1,9)="VK-CrimpC","VK-Crimp",IF(MID(D35,4,1)="L","VK-Lambo",IF(MID(D35,4,1)="U","VK-Usch",IF(MID(D35,4,1)="V","VK-Verd",IF(D35="SUM","VK",IF(D35="TARGET VK","VK",IF(D35="TARGET BMW","VK BMW",IF(D35="TARGET VK Crimp 2","VK Crimp 2",IF(D35="TARGET VK-Crimp","VK-Crimp",IF(D35="TARGET VK-Lambo","VK-Lambo",IF(D35="TARGET VK-Usch","VK-Usch",IF(D35="TARGET VK-Verd","VK-Verd",FALSE)))))))))))))))) -> VK-Usch | D35: VK-UschA | E35: VK-Usch VK-Uschall | F35: A | G35: 19 | H35: 1 | I35: 15 | J35: 9968,54 | K35: 8835 | L35: 112.83 | M35: 112,83 | N35: 0 | O35: 0 | P35: 0 | Q35: 112,83 | R35: 112,83 | T35: 0 | U35: 0 | V35: 0 | W35: 0 | X35: 0 | Y35: 0 | Z35: 0
A36: 2 | B36: Mardi | C36: =IF(MID(D36,4,2)="BM","VK BMW",IF(MID(D36,9,1)="2","VK Crimp 2",IF(MID(D36,1,9)="VK-CrimpA","VK-Crimp",IF(MID(D36,1,9)="VK-CrimpB","VK-Crimp",IF(MID(D36,1,9)="VK-CrimpC","VK-Crimp",IF(MID(D36,4,1)="L","VK-Lambo",IF(MID(D36,4,1)="U","VK-Usch",IF(MID(D36,4,1)="V","VK-Verd",IF(D36="SUM","VK",IF(D36="TARGET VK","VK",IF(D36="TARGET BMW","VK BMW",IF(D36="TARGET VK Crimp 2","VK Crimp 2",IF(D36="TARGET VK-Crimp","VK-Crimp",IF(D36="TARGET VK-Lambo","VK-Lambo",IF(D36="TARGET VK-Usch","VK-Usch",IF(D36="TARGET VK-Verd","VK-Verd",FALSE)))))))))))))))) -> VK-Usch | D36: VK-UschB | E36: VK-Usch VK-Uschall | F36: B | G36: 15 | H36: 0 | I36: 17 | J36: 7517,79 | K36: 6975 | L36: 107.78 | M36: 107,78 | N36: 0 | O36: 0 | P36: 0 | Q36: 107,78 | R36: 107,78 | T36: 0 | U36: 0 | V36: 0 | W36: 0 | X36: 0 | Y36: 0 | Z36: 0
A37: 2 | B37: Mardi | C37: =IF(MID(D37,4,2)="BM","VK BMW",IF(MID(D37,9,1)="2","VK Crimp 2",IF(MID(D37,1,9)="VK-CrimpA","VK-Crimp",IF(MID(D37,1,9)="VK-CrimpB","VK-Crimp",IF(MID(D37,1,9)="VK-CrimpC","VK-Crimp",IF(MID(D37,4,1)="L","VK-Lambo",IF(MID(D37,4,1)="U","VK-Usch",IF(MID(D37,4,1)="V","VK-Verd",IF(D37="SUM","VK",IF(D37="TARGET VK","VK",IF(D37="TARGET BMW","VK BMW",IF(D37="TARGET VK Crimp 2","VK Crimp 2",IF(D37="TARGET VK-Crimp","VK-Crimp",IF(D37="TARGET VK-Lambo","VK-Lambo",IF(D37="TARGET VK-Usch","VK-Usch",IF(D37="TARGET VK-Verd","VK-Verd",FALSE)))))))))))))))) -> VK-Usch | D37: VK-UschC | E37: VK-Usch VK-Uschall | F37: C | G37: 15 | H37: 0 | I37: 14 | J37: 6129,703 | K37: 6975 | L37: 87.88 | M37: 87,88 | N37: 0 | O37: 0 | P37: 0 | Q37: 87,88 | R37: 87,88 | T37: 0 | U37: 0 | V37: 0 | W37: 0 | X37: 0 | Y37: 0 | Z37: 0
... A40: 2 | B40: Mardi | C40: =IF(MID(D40,4,2)="BM","VK BMW",IF(MID(D40,9,1)="2","VK Crimp 2",IF(MID(D40,1,9)="VK-CrimpA","VK-Crimp",IF(MID(D40,1,9)="VK-CrimpB","VK-Crimp",IF(MID(D40,1,9)="VK-CrimpC","VK-Crimp",IF(MID(D40,4,1)="L","VK-Lambo",IF(MID(D40,4,1)="U","VK-Usch",IF(MID(D40,4,1)="V","VK-Verd",IF(D40="SUM","VK",IF(D40="TARGET VK","VK",IF(D40="TARGET BMW","VK BMW",IF(D40="TARGET VK Crimp 2","VK Crimp 2",IF(D40="TARGET VK-Crimp","VK-Crimp",IF(D40="TARGET VK-Lambo","VK-Lambo",IF(D40="TARGET VK-Usch","VK-Usch",IF(D40="TARGET VK-Verd","VK-Verd",FALSE)))))))))))))))) -> VK-Verd | D40: VK-VerdC | E40: VK-Verd VK- Verdrillen | F40: C | G40: 8 | H40: 0 | I40: 4 | J40: 2508,32 | K40: 3720 | L40: 67.43 | M40: 67,43 | N40: 0 | O40: 0 | P40: 0 | Q40: 67,43 | R40: 67,43 | T40: 0 | U40: 0 | V40: 0 | W40: 0 | X40: 0 | Y40: 0 | Z40: 0
A41: 2 | B41: Mardi | C41: =IF(MID(D41,4,2)="BM","VK BMW",IF(MID(D41,9,1)="2","VK Crimp 2",IF(MID(D41,1,9)="VK-CrimpA","VK-Crimp",IF(MID(D41,1,9)="VK-CrimpB","VK-Crimp",IF(MID(D41,1,9)="VK-CrimpC","VK-Crimp",IF(MID(D41,4,1)="L","VK-Lambo",IF(MID(D41,4,1)="U","VK-Usch",IF(MID(D41,4,1)="V","VK-Verd",IF(D41="SUM","VK",IF(D41="TARGET VK","VK",IF(D41="TARGET BMW","VK BMW",IF(D41="TARGET VK Crimp 2","VK Crimp 2",IF(D41="TARGET VK-Crimp","VK-Crimp",IF(D41="TARGET VK-Lambo","VK-Lambo",IF(D41="TARGET VK-Usch","VK-Usch",IF(D41="TARGET VK-Verd","VK-Verd",FALSE)))))))))))))))) -> VK | D41: SUM | G41: 182 | H41: 3 | I41: 103 | J41: 75196,74 | K41: 84630 | L41: 88.85 | M41: 88,85 | N41: 0 | O41: 0 | P41: 0 | Q41: 88,85 | R41: 88,85 | T41: 0 | U41: 0 | V41: 0 | W41: 0 | X41: 0 | Y41: 0 | Z41: 0
A42: 2 | B42: Mardi | C42: =IF(MID(D42,4,2)="BM","VK BMW",IF(MID(D42,9,1)="2","VK Crimp 2",IF(MID(D42,1,9)="VK-CrimpA","VK-Crimp",IF(MID(D42,1,9)="VK-CrimpB","VK-Crimp",IF(MID(D42,1,9)="VK-CrimpC","VK-Crimp",IF(MID(D42,4,1)="L","VK-Lambo",IF(MID(D42,4,1)="U","VK-Usch",IF(MID(D42,4,1)="V","VK-Verd",IF(D42="SUM","VK",IF(D42="TARGET VK","VK",IF(D42="TARGET BMW","VK BMW",IF(D42="TARGET VK Crimp 2","VK Crimp 2",IF(D42="TARGET VK-Crimp","VK-Crimp",IF(D42="TARGET VK-Lambo","VK-Lambo",IF(D42="TARGET VK-Usch","VK-Usch",IF(D42="TARGET VK-Verd","VK-Verd",FALSE)))))))))))))))) -> FALSE | D42: AVG | G42: 12,13 | H42: 0,2 | I42: 6,87
A43: 2 | B43: Mardi | C43: =IF(MID(D43,4,2)="BM","VK BMW",IF(MID(D43,9,1)="2","VK Crimp 2",IF(MID(D43,1,9)="VK-CrimpA","VK-Crimp",IF(MID(D43,1,9)="VK-CrimpB","VK-Crimp",IF(MID(D43,1,9)="VK-CrimpC","VK-Crimp",IF(MID(D43,4,1)="L","VK-Lambo",IF(MID(D43,4,1)="U","VK-Usch",IF(MID(D43,4,1)="V","VK-Verd",IF(D43="SUM","VK",IF(D43="TARGET VK","VK",IF(D43="TARGET BMW","VK BMW",IF(D43="TARGET VK Crimp 2","VK Crimp 2",IF(D43="TARGET VK-Crimp","VK-Crimp",IF(D43="TARGET VK-Lambo","VK-Lambo",IF(D43="TARGET VK-Usch","VK-Usch",IF(D43="TARGET VK-Verd","VK-Verd",FALSE)))))))))))))))) -> VK | D43: TARGET VK | L43: 100
A44: 2 | B44: Mardi | C44: =IF(MID(D44,4,2)="BM","VK BMW",IF(MID(D44,9,1)="2","VK Crimp 2",IF(MID(D44,1,9)="VK-CrimpA","VK-Crimp",IF(MID(D44,1,9)="VK-CrimpB","VK-Crimp",IF(MID(D44,1,9)="VK-CrimpC","VK-Crimp",IF(MID(D44,4,1)="L","VK-Lambo",IF(MID(D44,4,1)="U","VK-Usch",IF(MID(D44,4,1)="V","VK-Verd",IF(D44="SUM","VK",IF(D44="TARGET VK","VK",IF(D44="TARGET BMW","VK BMW",IF(D44="TARGET VK Crimp 2","VK Crimp 2",IF(D44="TARGET VK-Crimp","VK-Crimp",IF(D44="TARGET VK-Lambo","VK-Lambo",IF(D44="TARGET VK-Usch","VK-Usch",IF(D44="TARGET VK-Verd","VK-Verd",FALSE)))))))))))))))) -> VK BMW | D44: TARGET BMW | L44: 100
...

Sheet TCD
A3: Étiquettes de lignes | B3: Somme de PP
A4: 2 | B4: 10626.42
A5: Lundi | B5: 2035.72
A6: VK | B6: 186.6
B7: 86.6
A8: (vide) | B8: 100
A9: VK BMW | B9: 287.29
A10: A | B10: 98.37
A11: B | B11: 88.92
A12: (vide) | B12: 100
A13: VK Crimp 2 | B13: 238.45
A14: A | B14: 62.9
A15: B | B15: 75.55
A16: (vide) | B16: 100
A17: VK-Crimp | B17: 342.1
A18: A | B18: 88.06
A19: B | B19: 72.05
... A35: (vide) | B35: 100
A36: FAUX
A38: Mardi | B38: 2086.87
A39: VK | B39: 188.85
B40: 88.85
A41: (vide) | B41: 100
A42: VK BMW | B42: 376.65
A43: A | B43: 81.01
A44: B | B44: 85.71
A45: C | B45: 109.93
A46: (vide) | B46: 100
A47: VK Crimp 2 | B47: 182.02
A48: A | B48: 82.02
A49: (vide) | B49: 100
A50: VK-Crimp | B50: 352.6
A51: A | B51: 91.91
A52: B | B52: 78.69
... A68: (vide) | B68: 100
A69: FAUX
A71: Mercredi | B71: 2173.35
A72: VK | B72: 191.27
B73: 91.27
A74: (vide) | B74: 100
...

Sheet Résultat
A1: SEMAINE | B1: 6
A3: CLASSE | B3: VK BMW
B5: A | C5: B | D5: C
A6: Lundi | B6: =IFERROR(GETPIVOTDATA("PP",TCD!$A$3,"SEMAINE",$B$1,"JOUR",$A6,"CLASSE",$B$3,"Poste",B$5),"?") -> 102 | C6: =IFERROR(GETPIVOTDATA("PP",TCD!$A$3,"SEMAINE",$B$1,"JOUR",$A6,"CLASSE",$B$3,"Poste",C$5),"?") -> 108.41 | D6: =IFERROR(GETPIVOTDATA("PP",TCD!$A$3,"SEMAINE",$B$1,"JOUR",$A6,"CLASSE",$B$3,"Poste",D$5),"?") -> 93.23
A7: Mardi | B7: =IFERROR(GETPIVOTDATA("PP",TCD!$A$3,"SEMAINE",$B$1,"JOUR",$A7,"CLASSE",$B$3,"Poste",B$5),"?") -> 100.97 | C7: =IFERROR(GETPIVOTDATA("PP",TCD!$A$3,"SEMAINE",$B$1,"JOUR",$A7,"CLASSE",$B$3,"Poste",C$5),"?") -> 111.05 | D7: =IFERROR(GETPIVOTDATA("PP",TCD!$A$3,"SEMAINE",$B$1,"JOUR",$A7,"CLASSE",$B$3,"Poste",D$5),"?") -> 106.79
A8: Mercredi | B8: =IFERROR(GETPIVOTDATA("PP",TCD!$A$3,"SEMAINE",$B$1,"JOUR",$A8,"CLASSE",$B$3,"Poste",B$5),"?") -> 100.43 | C8: =IFERROR(GETPIVOTDATA("PP",TCD!$A$3,"SEMAINE",$B$1,"JOUR",$A8,"CLASSE",$B$3,"Poste",C$5),"?") -> 107.5 | D8: =IFERROR(GETPIVOTDATA("PP",TCD!$A$3,"SEMAINE",$B$1,"JOUR",$A8,"CLASSE",$B$3,"Poste",D$5),"?") -> 108.59
A9: Jeudi | B9: =IFERROR(GETPIVOTDATA("PP",TCD!$A$3,"SEMAINE",$B$1,"JOUR",$A9,"CLASSE",$B$3,"Poste",B$5),"?") -> 105 | C9: =IFERROR(GETPIVOTDATA("PP",TCD!$A$3,"SEMAINE",$B$1,"JOUR",$A9,"CLASSE",$B$3,"Poste",C$5),"?") -> 98.6 | D9: =IFERROR(GETPIVOTDATA("PP",TCD!$A$3,"SEMAINE",$B$1,"JOUR",$A9,"CLASSE",$B$3,"Poste",D$5),"?") -> 114.04
A10: Vendredi | B10: =IFERROR(GETPIVOTDATA("PP",TCD!$A$3,"SEMAINE",$B$1,"JOUR",$A10,"CLASSE",$B$3,"Poste",B$5),"?") -> 104.81 | C10: =IFERROR(GETPIVOTDATA("PP",TCD!$A$3,"SEMAINE",$B$1,"JOUR",$A10,"CLASSE",$B$3,"Poste",C$5),"?") -> 106.68 | D10: =IFERROR(GETPIVOTDATA("PP",TCD!$A$3,"SEMAINE",$B$1,"JOUR",$A10,"CLASSE",$B$3,"Poste",D$5),"?") -> 104.89

Sheet DASHBOARD
A1: SEMAINE | B1: 6
A2: CLASSE | B2: VK
A4: Moyenne de PP | B4: Étiquettes de colonnes
A5: Étiquettes de lignes | B5: SUM | C5: TARGET VK | D5: Total général
A6: Lundi | B6: 90.52 | C6: 100 | D6: 95.26
A7: Mardi | B7: 96.88 | C7: 100 | D7: 98.44
A8: Mercredi | B8: 101.07 | C8: 100 | D8: 100.535
A9: Jeudi | B9: 100.83 | C9: 100 | D9: 100.415
A10: Vendredi | B10: 95.13 | C10: 100 | D10: 97.565
A11: Total général | B11: 96.886 | C11: 100 | D11: 98.443
