Workbook
Name ISFOXLabelingDefaultPosition: 3
Name SEMAINE: #REF!

Sheet Feuil1
A1: 1 | C1: VK
A2: 2 | C2: VK BMW
A3: 3 | C3: VK Crimp 2
A4: 4 | C4: VK-Crimp
A5: 5 | C5: VK-Lambo
A6: 6 | C6: VK-Usch
A7: 7 | C7: VK-Verd
A8: 8
A9: 9
A10: 10
A11: 11
A12: 12
A13: 13
A14: 14
A15: 15
A16: 16
A17: 17
A18: 18
A19: 19
... A52: 52

Sheet Sheet1
A1: SEMAINE | B1: JOUR | C1: CLASSE | D1: Groupes de production | E1: Centre de travail | F1: Poste | G1: Opérateur | H1: #peprNrofIndirectPresentpersons | I1: Opérateurs abscents | J1: Minutes de production | K1: Temps de travail | L1: PP | M1: PP(S) m DT | N1: Temps d'arrêt validés | O1: Temps d'arrêt ouverts | P1: #peprNoneffrelevanttimepaymin | Q1: PP p DT | R1: PP(S) | S1: Qte visee par poste | T1: nombre de pièces produites | U1: #peprCorrmintesting | V1: #peprNrofcavityerrors | W1: #peprNrofcavityerrorsMalus | X1: #peprCorrminrework | Y1: #peprNrofreworks | Z1: #peprNrofreworksMalus
A2: 2 | B2: Lundi | C2: =IF(MID(D2,4,2)="BM","VK BMW",IF(MID(D2,9,1)="2","VK Crimp 2",IF(MID(D2,1,9)="VK-CrimpA","VK-Crimp",IF(MID(D2,1,9)="VK-CrimpB","VK-Crimp",IF(MID(D2,1,9)="VK-CrimpC","VK-Crimp",IF(MID(D2,4,1)="L","VK-Lambo",IF(MID(D2,4,1)="U","VK-Usch",IF(MID(D2,4,1)="V","VK-Verd",IF(D2="SUM","VK",IF(D2="TARGET VK","VK",IF(D2="TARGET BMW","VK BMW",IF(D2="TARGET VK Crimp 2","VK Crimp 2",IF(D2="TARGET VK-Crimp","VK-Crimp",IF(D2="TARGET VK-Lambo","VK-Lambo",IF(D2="TARGET VK-Usch","VK-Usch",IF(D2="TARGET VK-Verd","VK-Verd",FALSE)))))))))))))))) -> VK BMW | D2: VK-BMW-A | E2: VK-BX8 VK-BX8 | F2: A | G2: 17 | H2: 1 | I2: 0 | J2: 7776,43 | K2: 7905 | L2: 98.37 | M2: 98,37 | N2: 0 | O2: 60 | P2: 0 | Q2: 98,37 | R2: 98,37 | T2: 0 | U2: 0 | V2: 0 | W2: 0 | X2: 0 | Y2: 0 | Z2: 0
A3: 2 | B3: Lundi | C3: =IF(MID(D3,4,2)="BM","VK BMW",IF(MID(D3,9,1)="2","VK Crimp 2",IF(MID(D3,1,9)="VK-CrimpA","VK-Crimp",IF(MID(D3,1,9)="VK-CrimpB","VK-Crimp",IF(MID(D3,1,9)="VK-CrimpC","VK-Crimp",IF(MID(D3,4,1)="L","VK-Lambo",IF(MID(D3,4,1)="U","VK-Usch",IF(MID(D3,4,1)="V","VK-Verd",IF(D3="SUM","VK",IF(D3="TARGET VK","VK",IF(D3="TARGET BMW","VK BMW",IF(D3="TARGET VK Crimp 2","VK Crimp 2",IF(D3="TARGET VK-Crimp","VK-Crimp",IF(D3="TARGET VK-Lambo","VK-Lambo",IF(D3="TARGET VK-Usch","VK-Usch",IF(D3="TARGET VK-Verd","VK-Verd",FALSE)))))))))))))))) -> VK BMW | D3: VK-BMW-B | E3: VK-BX8 VK-BX8 | F3: B | G3: 13 | H3: 0 | I3: 1 | J3: 5375,12 | K3: 6045 | L3: 88.92 | M3: 88,92 | N3: 0 | O3: 0 | P3: 0 | Q3: 88,92 | R3: 88,92 | T3: 0 | U3: 0 | V3: 0 | W3: 0 | X3: 0 | Y3: 0 | Z3: 0
A4: 2 | B4: Lundi | C4: =IF(MID(D4,4,2)="BM","VK BMW",IF(MID(D4,9,1)="2","VK Crimp 2",IF(MID(D4,1,9)="VK-CrimpA","VK-Crimp",IF(MID(D4,1,9)="VK-CrimpB","VK-Crimp",IF(MID(D4,1,9)="VK-CrimpC","VK-Crimp",IF(MID(D4,4,1)="L","VK-Lambo",IF(MID(D4,4,1)="U","VK-Usch",IF(MID(D4,4,1)="V","VK-Verd",IF(D4="SUM","VK",IF(D4="TARGET VK","VK",IF(D4="TARGET BMW","VK BMW",IF(D4="TARGET VK Crimp 2","VK Crimp 2",IF(D4="TARGET VK-Crimp","VK-Crimp",IF(D4="TARGET VK-Lambo","VK-Lambo",IF(D4="TARGET VK-Usch","VK-Usch",IF(D4="TARGET VK-Verd","VK-Verd",FALSE)))))))))))))))) -> VK Crimp 2 | D4: VK-Crimp2A | E4: VK-Crimp2 VK-Crimp 2 shifts | F4: A | G4: 2 | H4: 0 | I4: 11 | J4: 585 | K4: 930 | L4: 62.9 | M4: 62,9 | N4: 0 | O4: 0 | P4: 0 | Q4: 62,9 | R4: 62,9 | T4: 0 | U4: 0 | V4: 0 | W4: 0 | X4: 0 | Y4: 0 | Z4: 0
A5: 2 | B5: Lundi | C5: =IF(MID(D5,4,2)="BM","VK BMW",IF(MID(D5,9,1)="2","VK Crimp 2",IF(MID(D5,1,9)="VK-CrimpA","VK-Crimp",IF(MID(D5,1,9)="VK-CrimpB","VK-Crimp",IF(MID(D5,1,9)="VK-CrimpC","VK-Crimp",IF(MID(D5,4,1)="L","VK-Lambo",IF(MID(D5,4,1)="U","VK-Usch",IF(MID(D5,4,1)="V","VK-Verd",IF(D5="SUM","VK",IF(D5="TARGET VK","VK",IF(D5="TARGET BMW","VK BMW",IF(D5="TARGET VK Crimp 2","VK Crimp 2",IF(D5="TARGET VK-Crimp","VK-Crimp",IF(D5="TARGET VK-Lambo","VK-Lambo",IF(D5="TARGET VK-Usch","VK-Usch",IF(D5="TARGET VK-Verd","VK-Verd",FALSE)))))))))))))))) -> VK Crimp 2 | D5: VK-Crimp2B | E5: VK-Crimp2 VK-Crimp 2 shifts | F5: B | G5: 11 | H5: 0 | I5: 4 | J5: 3864,38 | K5: 5115 | L5: 75.55 | M5: 75,55 | N5: 0 | O5: 0 | P5: 0 | Q5: 75,55 | R5: 75,55 | T5: 0 | U5: 0 | V5: 0 | W5: 0 | X5: 0 | Y5: 0 | Z5: 0
A6: 2 | B6: Lundi | C6: =IF(MID(D6,4,2)="BM","VK BMW",IF(MID(D6,9,1)="2","VK Crimp 2",IF(MID(D6,1,9)="VK-CrimpA","VK-Crimp",IF(MID(D6,1,9)="VK-CrimpB","VK-Crimp",IF(MID(D6,1,9)="VK-CrimpC","VK-Crimp",IF(MID(D6,4,1)="L","VK-Lambo",IF(MID(D6,4,1)="U","VK-Usch",IF(MID(D6,4,1)="V","VK-Verd",IF(D6="SUM","VK",IF(D6="TARGET VK","VK",IF(D6="TARGET BMW","VK BMW",IF(D6="TARGET VK Crimp 2","VK Crimp 2",IF(D6="TARGET VK-Crimp","VK-Crimp",IF(D6="TARGET VK-Lambo","VK-Lambo",IF(D6="TARGET VK-Usch","VK-Usch",IF(D6="TARGET VK-Verd","VK-Verd",FALSE)))))))))))))))) -> VK-Crimp | D6: VK-CrimpA | E6: VK-Crimp VK-Crimp | F6: A | G6: 16 | H6: 0 | I6: 2 | J6: 6551,6 | K6: 7440 | L6: 88.06 | M6: 88,06 | N6: 0 | O6: 240 | P6: 0 | Q6: 88,06 | R6: 88,06 | T6: 0 | U6: 0 | V6: 0 | W6: 0 | X6: 0 | Y6: 0 | Z6: 0
A7: 2 | B7: Lundi | C7: =IF(MID(D7,4,2)="BM","VK BMW",IF(MID(D7,9,1)="2","VK Crimp 2",IF(MID(D7,1,9)="VK-CrimpA","VK-Crimp",IF(MID(D7,1,9)="VK-CrimpB","VK-Crimp",IF(MID(D7,1,9)="VK-CrimpC","VK-Crimp",IF(MID(D7,4,1)="L","VK-Lambo",IF(MID(D7,4,1)="U","VK-Usch",IF(MID(D7,4,1)="V","VK-Verd",IF(D7="SUM","VK",IF(D7="TARGET VK","VK",IF(D7="TARGET BMW","VK BMW",IF(D7="TARGET VK Crimp 2","VK Crimp 2",IF(D7="TARGET VK-Crimp","VK-Crimp",IF(D7="TARGET VK-Lambo","VK-Lambo",IF(D7="TARGET VK-Usch","VK-Usch",IF(D7="TARGET VK-Verd","VK-Verd",FALSE)))))))))))))))) -> VK-Crimp | D7: VK-CrimpB | E7: VK-Crimp VK-Crimp | F7: B | G7: 12 | H7: 0 | I7: 4 | J7: 4020,45 | K7: 5580 | L7: 72.05 | M7: 72,05 | N7: 0 | O7: 0 | P7: 0 | Q7: 72,05 | R7: 72,05 | T7: 0 | U7: 0 | V7: 0 | W7: 0 | X7: 0 | Y7: 0 | Z7: 0
A8: 2 | B8: Lundi | C8: =IF(MID(D8,4,2)="BM","VK BMW",IF(MID(D8,9,1)="2","VK Crimp 2",IF(MID(D8,1,9)="VK-CrimpA","VK-Crimp",IF(MID(D8,1,9)="VK-CrimpB","VK-Crimp",IF(MID(D8,1,9)="VK-CrimpC","VK-Crimp",IF(MID(D8,4,1)="L","VK-Lambo",IF(MID(D8,4,1)="U","VK-Usch",IF(MID(D8,4,1)="V","VK-Verd",IF(D8="SUM","VK",IF(D8="TARGET VK","VK",IF(D8="TARGET BMW","VK BMW",IF(D8="TARGET VK Crimp 2","VK Crimp 2",IF(D8="TARGET VK-Crimp","VK-Crimp",IF(D8="TARGET VK-Lambo","VK-Lambo",IF(D8="TARGET VK-Usch","VK-Usch",IF(D8="TARGET VK-Verd","VK-Verd",FALSE)))))))))))))))) -> VK-Crimp | D8: VK-CrimpC | E8: VK-Crimp VK-Crimp | F8: C | G8: 23 | H8: 0 | I8: 12 | J8: 8768,91 | K8: 10695 | L8: 81.99 | M8: 81,99 | N8: 0 | O8: 0 | P8: 0 | Q8: 81,99 | R8: 81,99 | T8: 0 | U8: 0 | V8: 0 | W8: 0 | X8: 0 | Y8: 0 | Z8: 0
A9: 2 | B9: Lundi | C9: =IF(MID(D9,4,2)="BM","VK BMW",IF(MID(D9,9,1)="2","VK Crimp 2",IF(MID(D9,1,9)="VK-CrimpA","VK-Crimp",IF(MID(D9,1,9)="VK-CrimpB","VK-Crimp",IF(MID(D9,1,9)="VK-CrimpC","VK-Crimp",IF(MID(D9,4,1)="L","VK-Lambo",IF(MID(D9,4,1)="U","VK-Usch",IF(MID(D9,4,1)="V","VK-Verd",IF(D9="SUM","VK",IF(D9="TARGET VK","VK",IF(D9="TARGET BMW","VK BMW",IF(D9="TARGET VK Crimp 2","VK Crimp 2",IF(D9="TARGET VK-Crimp","VK-Crimp",IF(D9="TARGET VK-Lambo","VK-Lambo",IF(D9="TARGET VK-Usch","VK-Usch",IF(D9="TARGET VK-Verd","VK-Verd",FALSE)))))))))))))))) -> VK-Lambo | D9: VK-LamboA | E9: VK-Lambo VK-Lambo | F9: A | G9: 7,31 | H9: 1 | I9: 1,69 | J9: 3044,665 | K9: 3400 | L9: 89.55 | M9: 89,55 | N9: 0 | O9: 0 | P9: 0 | Q9: 89,55 | R9: 89,55 | T9: 0 | U9: 0 | V9: 0 | W9: 0 | X9: 0 | Y9: 0 | Z9: 0
A10: 2 | B10: Lundi | C10: =IF(MID(D10,4,2)="BM","VK BMW",IF(MID(D10,9,1)="2","VK Crimp 2",IF(MID(D10,1,9)="VK-CrimpA","VK-Crimp",IF(MID(D10,1,9)="VK-CrimpB","VK-Crimp",IF(MID(D10,1,9)="VK-CrimpC","VK-Crimp",IF(MID(D10,4,1)="L","VK-Lambo",IF(MID(D10,4,1)="U","VK-Usch",IF(MID(D10,4,1)="V","VK-Verd",IF(D10="SUM","VK",IF(D10="TARGET VK","VK",IF(D10="TARGET BMW","VK BMW",IF(D10="TARGET VK Crimp 2","VK Crimp 2",IF(D10="TARGET VK-Crimp","VK-Crimp",IF(D10="TARGET VK-Lambo","VK-Lambo",IF(D10="TARGET VK-Usch","VK-Usch",IF(D10="TARGET VK-Verd","VK-Verd",FALSE)))))))))))))))) -> VK-Lambo | D10: VK-LamboB | E10: VK-Lambo VK-Lambo | F10: B | G10: 8,52 | H10: 1 | I10: 5,47 | J10: 3391,545 | K10: 3964 | L10: 85.56 | M10: 85,56 | N10: 0 | O10: 0 | P10: 0 | Q10: 85,56 | R10: 85,56 | T10: 0 | U10: 0 | V10: 0 | W10: 0 | X10: 0 | Y10: 0 | Z10: 0
A11: 2 | B11: Lundi | C11: =IF(MID(D11,4,2)="BM","VK BMW",IF(MID(D11,9,1)="2","VK Crimp 2",IF(MID(D11,1,9)="VK-CrimpA","VK-Crimp",IF(MID(D11,1,9)="VK-CrimpB","VK-Crimp",IF(MID(D11,1,9)="VK-CrimpC","VK-Crimp",IF(MID(D11,4,1)="L","VK-Lambo",IF(MID(D11,4,1)="U","VK-Usch",IF(MID(D11,4,1)="V","VK-Verd",IF(D11="SUM","VK",IF(D11="TARGET VK","VK",IF(D11="TARGET BMW","VK BMW",IF(D11="TARGET VK Crimp 2","VK Crimp 2",IF(D11="TARGET VK-Crimp","VK-Crimp",IF(D11="TARGET VK-Lambo","VK-Lambo",IF(D11="TARGET VK-Usch","VK-Usch",IF(D11="TARGET VK-Verd","VK-Verd",FALSE)))))))))))))))) -> VK-Usch | D11: VK-UschA | E11: VK-Usch VK-Uschall | F11: A | G11: 28 | H11: 1 | I11: 4 | J11: 12667,93 | K11: 13020 | L11: 97.3 | M11: 97,3 | N11: 0 | O11: 300 | P11: 0 | Q11: 97,3 | R11: 97,3 | T11: 0 | U11: 0 | V11: 0 | W11: 0 | X11: 0 | Y11: 0 | Z11: 0
A12: 2 | B12: Lundi | C12: =IF(MID(D12,4,2)="BM","VK BMW",IF(MID(D12,9,1)="2","VK Crimp 2",IF(MID(D12,1,9)="VK-CrimpA","VK-Crimp",IF(MID(D12,1,9)="VK-CrimpB","VK-Crimp",IF(MID(D12,1,9)="VK-CrimpC","VK-Crimp",IF(MID(D12,4,1)="L","VK-Lambo",IF(MID(D12,4,1)="U","VK-Usch",IF(MID(D12,4,1)="V","VK-Verd",IF(D12="SUM","VK",IF(D12="TARGET VK","VK",IF(D12="TARGET BMW","VK BMW",IF(D12="TARGET VK Crimp 2","VK Crimp 2",IF(D12="TARGET VK-Crimp","VK-Crimp",IF(D12="TARGET VK-Lambo","VK-Lambo",IF(D12="TARGET VK-Usch","VK-Usch",IF(D12="TARGET VK-Verd","VK-Verd",FALSE)))))))))))))))) -> VK-Usch | D12: VK-UschB | E12: VK-Usch VK-Uschall | F12: B | G12: 11 | H12: 0 | I12: 19 | J12: 5304,35 | K12: 5115 | L12: 103.7 | M12: 103,7 | N12: 0 | O12: 0 | P12: 0 | Q12: 103,7 | R12: 103,7 | T12: 0 | U12: 0 | V12: 0 | W12: 0 | X12: 0 | Y12: 0 | Z12: 0
A13: 2 | B13: Lundi | C13: =IF(MID(D13,4,2)="BM","VK BMW",IF(MID(D13,9,1)="2","VK Crimp 2",IF(MID(D13,1,9)="VK-CrimpA","VK-Crimp",IF(MID(D13,1,9)="VK-CrimpB","VK-Crimp",IF(MID(D13,1,9)="VK-CrimpC","VK-Crimp",IF(MID(D13,4,1)="L","VK-Lambo",IF(MID(D13,4,1)="U","VK-Usch",IF(MID(D13,4,1)="V","VK-Verd",IF(D13="SUM","VK",IF(D13="TARGET VK","VK",IF(D13="TARGET BMW","VK BMW",IF(D13="TARGET VK Crimp 2","VK Crimp 2",IF(D13="TARGET VK-Crimp","VK-Crimp",IF(D13="TARGET VK-Lambo","VK-Lambo",IF(D13="TARGET VK-Usch","VK-Usch",IF(D13="TARGET VK-Verd","VK-Verd",FALSE)))))))))))))))) -> VK-Usch | D13: VK-UschC | E13: VK-Usch VK-Uschall | F13: C | G13: 21 | H13: 0 | I13: 18 | J13: 8655,375 | K13: 9765 | L13: 88.64 | M13: 88,64 | N13: 0 | O13: 0 | P13: 0 | Q13: 88,64 | R13: 88,64 | T13: 0 | U13: 0 | V13: 0 | W13: 0 | X13: 0 | Y13: 0 | Z13: 0
... A16: 2 | B16: Lundi | C16: =IF(MID(D16,4,2)="BM","VK BMW",IF(MID(D16,9,1)="2","VK Crimp 2",IF(MID(D16,1,9)="VK-CrimpA","VK-Crimp",IF(MID(D16,1,9)="VK-CrimpB","VK-Crimp",IF(MID(D16,1,9)="VK-CrimpC","VK-Crimp",IF(MID(D16,4,1)="L","VK-Lambo",IF(MID(D16,4,1)="U","VK-Usch",IF(MID(D16,4,1)="V","VK-Verd",IF(D16="SUM","VK",IF(D16="TARGET VK","VK",IF(D16="TARGET BMW","VK BMW",IF(D16="TARGET VK Crimp 2","VK Crimp 2",IF(D16="TARGET VK-Crimp","VK-Crimp",IF(D16="TARGET VK-Lambo","VK-Lambo",IF(D16="TARGET VK-Usch","VK-Usch",IF(D16="TARGET VK-Verd","VK-Verd",FALSE)))))))))))))))) -> VK-Verd | D16: VK-VerdC | E16: VK-Verd VK- Verdrillen | F16: C | G16: 5 | H16: 0 | I16: 7 | J16: 1390,95 | K16: 2325 | L16: 59.83 | M16: 59,83 | N16: 0 | O16: 0 | P16: 0 | Q16: 59,83 | R16: 59,83 | T16: 0 | U16: 0 | V16: 0 | W16: 0 | X16: 0 | Y16: 0 | Z16: 0
A17: 2 | B17: Lundi | C17: =IF(MID(D17,4,2)="BM","VK BMW",IF(MID(D17,9,1)="2","VK Crimp 2",IF(MID(D17,1,9)="VK-CrimpA","VK-Crimp",IF(MID(D17,1,9)="VK-CrimpB","VK-Crimp",IF(MID(D17,1,9)="VK-CrimpC","VK-Crimp",IF(MID(D17,4,1)="L","VK-Lambo",IF(MID(D17,4,1)="U","VK-Usch",IF(MID(D17,4,1)="V","VK-Verd",IF(D17="SUM","VK",IF(D17="TARGET VK","VK",IF(D17="TARGET BMW","VK BMW",IF(D17="TARGET VK Crimp 2","VK Crimp 2",IF(D17="TARGET VK-Crimp","VK-Crimp",IF(D17="TARGET VK-Lambo","VK-Lambo",IF(D17="TARGET VK-Usch","VK-Usch",IF(D17="TARGET VK-Verd","VK-Verd",FALSE)))))))))))))))) -> VK | D17: SUM | G17: 200,84 | H17: 4 | I17: 92,16 | J17: 80872,83 | K17: 93389 | L17: 86.6 | M17: 86,6 | N17: 0 | O17: 780 | P17: 0 | Q17: 86,6 | R17: 86,6 | T17: 0 | U17: 0 | V17: 0 | W17: 0 | X17: 0 | Y17: 0 | Z17: 0
A18: 2 | B18: Lundi | C18: =IF(MID(D18,4,2)="BM","VK BMW",IF(MID(D18,9,1)="2","VK Crimp 2",IF(MID(D18,1,9)="VK-CrimpA","VK-Crimp",IF(MID(D18,1,9)="VK-CrimpB","VK-Crimp",IF(MID(D18,1,9)="VK-CrimpC","VK-Crimp",IF(MID(D18,4,1)="L","VK-Lambo",IF(MID(D18,4,1)="U","VK-Usch",IF(MID(D18,4,1)="V","VK-Verd",IF(D18="SUM","VK",IF(D18="TARGET VK","VK",IF(D18="TARGET BMW","VK BMW",IF(D18="TARGET VK Crimp 2","VK Crimp 2",IF(D18="TARGET VK-Crimp","VK-Crimp",IF(D18="TARGET VK-Lambo","VK-Lambo",IF(D18="TARGET VK-Usch","VK-Usch",IF(D18="TARGET VK-Verd","VK-Verd",FALSE)))))))))))))))) -> FALSE | D18: AVG | G18: 13,39 | H18: 0,27 | I18: 6,14
A19: 2 | B19: Lundi | C19: =IF(MID(D19,4,2)="BM","VK BMW",IF(MID(D19,9,1)="2","VK Crimp 2",IF(MID(D19,1,9)="VK-CrimpA","VK-Crimp",IF(MID(D19,1,9)="VK-CrimpB","VK-Crimp",IF(MID(D19,1,9)="VK-CrimpC","VK-Crimp",IF(MID(D19,4,1)="L","VK-Lambo",IF(MID(D19,4,1)="U","VK-Usch",IF(MID(D19,4,1)="V","VK-Verd",IF(D19="SUM","VK",IF(D19="TARGET VK","VK",IF(D19="TARGET BMW","VK BMW",IF(D19="TARGET VK Crimp 2","VK Crimp 2",IF(D19="TARGET VK-Crimp","VK-Crimp",IF(D19="TARGET VK-Lambo","VK-Lambo",IF(D19="TARGET VK-Usch","VK-Usch",IF(D19="TARGET VK-Verd","VK-Verd",FALSE)))))))))))))))) -> VK | D19: TARGET VK | L19: 100
A20: 2 | B20: Lundi | C20: =IF(MID(D20,4,2)="BM","VK BMW",IF(MID(D20,9,1)="2","VK Crimp 2",IF(MID(D20,1,9)="VK-CrimpA","VK-Crimp",IF(MID(D20,1,9)="VK-CrimpB","VK-Crimp",IF(MID(D20,1,9)="VK-CrimpC","VK-Crimp",IF(MID(D20,4,1)="L","VK-Lambo",IF(MID(D20,4,1)="U","VK-Usch",IF(MID(D20,4,1)="V","VK-Verd",IF(D20="SUM","VK",IF(D20="TARGET VK","VK",IF(D20="TARGET BMW","VK BMW",IF(D20="TARGET VK Crimp 2","VK Crimp 2",IF(D20="TARGET VK-Crimp","VK-Crimp",IF(D20="TARGET VK-Lambo","VK-Lambo",IF(D20="TARGET VK-Usch","VK-Usch",IF(D20="TARGET VK-Verd","VK-Verd",FALSE)))))))))))))))) -> VK BMW | D20: TARGET BMW | L20: 100
A21: 2 | B21: Lundi | C21: =IF(MID(D21,4,2)="BM","VK BMW",IF(MID(D21,9,1)="2","VK Crimp 2",IF(MID(D21,1,9)="VK-CrimpA","VK-Crimp",IF(MID(D21,1,9)="VK-CrimpB","VK-Crimp",IF(MID(D21,1,9)="VK-CrimpC","VK-Crimp",IF(MID(D21,4,1)="L","VK-Lambo",IF(MID(D21,4,1)="U","VK-Usch",IF(MID(D21,4,1)="V","VK-Verd",IF(D21="SUM","VK",IF(D21="TARGET VK","VK",IF(D21="TARGET BMW","VK BMW",IF(D21="TARGET VK Crimp 2","VK Crimp 2",IF(D21="TARGET VK-Crimp","VK-Crimp",IF(D21="TARGET VK-Lambo","VK-Lambo",IF(D21="TARGET VK-Usch","VK-Usch",IF(D21="TARGET VK-Verd","VK-Verd",FALSE)))))))))))))))) -> VK Crimp 2 | D21: TARGET VK Crimp 2 | L21: 100
A22: 2 | B22: Lundi | C22: =IF(MID(D22,4,2)="BM","VK BMW",IF(MID(D22,9,1)="2","VK Crimp 2",IF(MID(D22,1,9)="VK-CrimpA","VK-Crimp",IF(MID(D22,1,9)="VK-CrimpB","VK-Crimp",IF(MID(D22,1,9)="VK-CrimpC","VK-Crimp",IF(MID(D22,4,1)="L","VK-Lambo",IF(MID(D22,4,1)="U","VK-Usch",IF(MID(D22,4,1)="V","VK-Verd",IF(D22="SUM","VK",IF(D22="TARGET VK","VK",IF(D22="TARGET BMW","VK BMW",IF(D22="TARGET VK Crimp 2","VK Crimp 2",IF(D22="TARGET VK-Crimp","VK-Crimp",IF(D22="TARGET VK-Lambo","VK-Lambo",IF(D22="TARGET VK-Usch","VK-Usch",IF(D22="TARGET VK-Verd","VK-Verd",FALSE)))))))))))))))) -> VK-Crimp | D22: TARGET VK-Crimp | L22: 100
A23: 2 | B23: Lundi | C23: =IF(MID(D23,4,2)="BM","VK BMW",IF(MID(D23,9,1)="2","VK Crimp 2",IF(MID(D23,1,9)="VK-CrimpA","VK-Crimp",IF(MID(D23,1,9)="VK-CrimpB","VK-Crimp",IF(MID(D23,1,9)="VK-CrimpC","VK-Crimp",IF(MID(D23,4,1)="L","VK-Lambo",IF(MID(D23,4,1)="U","VK-Usch",IF(MID(D23,4,1)="V","VK-Verd",IF(D23="SUM","VK",IF(D23="TARGET VK","VK",IF(D23="TARGET BMW","VK BMW",IF(D23="TARGET VK Crimp 2","VK Crimp 2",IF(D23="TARGET VK-Crimp","VK-Crimp",IF(D23="TARGET VK-Lambo","VK-Lambo",IF(D23="TARGET VK-Usch","VK-Usch",IF(D23="TARGET VK-Verd","VK-Verd",FALSE)))))))))))))))) -> VK-Lambo | D23: TARGET VK-Lambo | L23: 100
A24: 2 | B24: Lundi | C24: =IF(MID(D24,4,2)="BM","VK BMW",IF(MID(D24,9,1)="2","VK Crimp 2",IF(MID(D24,1,9)="VK-CrimpA","VK-Crimp",IF(MID(D24,1,9)="VK-CrimpB","VK-Crimp",IF(MID(D24,1,9)="VK-CrimpC","VK-Crimp",IF(MID(D24,4,1)="L","VK-Lambo",IF(MID(D24,4,1)="U","VK-Usch",IF(MID(D24,4,1)="V","VK-Verd",IF(D24="SUM","VK",IF(D24="TARGET VK","VK",IF(D24="TARGET BMW","VK BMW",IF(D24="TARGET VK Crimp 2","VK Crimp 2",IF(D24="TARGET VK-Crimp","VK-Crimp",IF(D24="TARGET VK-Lambo","VK-Lambo",IF(D24="TARGET VK-Usch","VK-Usch",IF(D24="TARGET VK-Verd","VK-Verd",FALSE)))))))))))))))) -> VK-Usch | D24: TARGET VK-Usch | L24: 100
A25: 2 | B25: Lundi | C25: =IF(MID(D25,4,2)="BM","VK BMW",IF(MID(D25,9,1)="2","VK Crimp 2",IF(MID(D25,1,9)="VK-CrimpA","VK-Crimp",IF(MID(D25,1,9)="VK-CrimpB","VK-Crimp",IF(MID(D25,1,9)="VK-CrimpC","VK-Crimp",IF(MID(D25,4,1)="L","VK-Lambo",IF(MID(D25,4,1)="U","VK-Usch",IF(MID(D25,4,1)="V","VK-Verd",IF(D25="SUM","VK",IF(D25="TARGET VK","VK",IF(D25="TARGET BMW","VK BMW",IF(D25="TARGET VK Crimp 2","VK Crimp 2",IF(D25="TARGET VK-Crimp","VK-Crimp",IF(D25="TARGET VK-Lambo","VK-Lambo",IF(D25="TARGET VK-Usch","VK-Usch",IF(D25="TARGET VK-Verd","VK-Verd",FALSE)))))))))))))))) -> VK-Verd | D25: TARGET VK-Verd | L25: 100
A26: 2 | B26: Mardi | C26: =IF(MID(D26,4,2)="BM","VK BMW",IF(MID(D26,9,1)="2","VK Crimp 2",IF(MID(D26,1,9)="VK-CrimpA","VK-Crimp",IF(MID(D26,1,9)="VK-CrimpB","VK-Crimp",IF(MID(D26,1,9)="VK-CrimpC","VK-Crimp",IF(MID(D26,4,1)="L","VK-Lambo",IF(MID(D26,4,1)="U","VK-Usch",IF(MID(D26,4,1)="V","VK-Verd",IF(D26="SUM","VK",IF(D26="TARGET VK","VK",IF(D26="TARGET BMW","VK BMW",IF(D26="TARGET VK Crimp 2","VK Crimp 2",IF(D26="TARGET VK-Crimp","VK-Crimp",IF(D26="TARGET VK-Lambo","VK-Lambo",IF(D26="TARGET VK-Usch","VK-Usch",IF(D26="TARGET VK-Verd","VK-Verd",FALSE)))))))))))))))) -> VK BMW | D26: VK-BMW-A | E26: VK-BX8 VK-BX8 | F26: A | G26: 15 | H26: 0 | I26: 2 | J26: 5650,74 | K26: 6975 | L26: 81.01 | M26: 81,01 | N26: 0 | O26: 0 | P26: 0 | Q26: 81,01 | R26: 81,01 | T26: 0 | U26: 0 | V26: 0 | W26: 0 | X26: 0 | Y26: 0 | Z26: 0
A27: 2 | B27: Mardi | C27: =IF(MID(D27,4,2)="BM","VK BMW",IF(MID(D27,9,1)="2","VK Crimp 2",IF(MID(D27,1,9)="VK-CrimpA","VK-Crimp",IF(MID(D27,1,9)="VK-CrimpB","VK-Crimp",IF(MID(D27,1,9)="VK-CrimpC","VK-Crimp",IF(MID(D27,4,1)="L","VK-Lambo",IF(MID(D27,4,1)="U","VK-Usch",IF(MID(D27,4,1)="V","VK-Verd",IF(D27="SUM","VK",IF(D27="TARGET VK","VK",IF(D27="TARGET BMW","VK BMW",IF(D27="TARGET VK Crimp 2","VK Crimp 2",IF(D27="TARGET VK-Crimp","VK-Crimp",IF(D27="TARGET VK-Lambo","VK-Lambo",IF(D27="TARGET VK-Usch","VK-Usch",IF(D27="TARGET VK-Verd","VK-Verd",FALSE)))))))))))))))) -> VK BMW | D27: VK-BMW-B | E27: VK-BX8 VK-BX8 | F27: B | G27: 10 | H27: 0 | I27: 4 | J27: 3985,55 | K27: 4650 | L27: 85.71 | M27: 85,71 | N27: 0 | O27: 0 | P27: 0 | Q27: 85,71 | R27: 85,71 | T27: 0 | U27: 0 | V27: 0 | W27: 0 | X27: 0 | Y27: 0 | Z27: 0
A28: 2 | B28: Mardi | C28: =IF(MID(D28,4,2)="BM","VK BMW",IF(MID(D28,9,1)="2","VK Crimp 2",IF(MID(D28,1,9)="VK-CrimpA","VK-Crimp",IF(MID(D28,1,9)="VK-CrimpB","VK-Crimp",IF(MID(D28,1,9)="VK-CrimpC","VK-Crimp",IF(MID(D28,4,1)="L","VK-Lambo",IF(MID(D28,4,1)="U","VK-Usch",IF(MID(D28,4,1)="V","VK-Verd",IF(D28="SUM","VK",IF(D28="TARGET VK","VK",IF(D28="TARGET BMW","VK BMW",IF(D28="TARGET VK Crimp 2","VK Crimp 2",IF(D28="TARGET VK-Crimp","VK-Crimp",IF(D28="TARGET VK-Lambo","VK-Lambo",IF(D28="TARGET VK-Usch","VK-Usch",IF(D28="TARGET VK-Verd","VK-Verd",FALSE)))))))))))))))) -> VK BMW | D28: VK-BMW-C | E28: VK-BX8 VK-BX8 | F28: C | G28: 8 | H28: 0 | I28: 6 | J28: 4089,3 | K28: 3720 | L28: 109.93 | M28: 109,93 | N28: 0 | O28: 0 | P28: 0 | Q28: 109,93 | R28: 109,93 | T28: 0 | U28: 0 | V28: 0 | W28: 0 | X28: 0 | Y28: 0 | Z28: 0
A29: 2 | B29: Mardi | C29: =IF(MID(D29,4,2)="BM","VK BMW",IF(MID(D29,9,1)="2","VK Crimp 2",IF(MID(D29,1,9)="VK-CrimpA","VK-Crimp",IF(MID(D29,1,9)="VK-CrimpB","VK-Crimp",IF(MID(D29,1,9)="VK-CrimpC","VK-Crimp",IF(MID(D29,4,1)="L","VK-Lambo",IF(MID(D29,4,1)="U","VK-Usch",IF(MID(D29,4,1)="V","VK-Verd",IF(D29="SUM","VK",IF(D29="TARGET VK","VK",IF(D29="TARGET BMW","VK BMW",IF(D29="TARGET VK Crimp 2","VK Crimp 2",IF(D29="TARGET VK-Crimp","VK-Crimp",IF(D29="TARGET VK-Lambo","VK-Lambo",IF(D29="TARGET VK-Usch","VK-Usch",IF(D29="TARGET VK-Verd","VK-Verd",FALSE)))))))))))))))) -> VK Crimp 2 | D29: VK-Crimp2A | E29: VK-Crimp2 VK-Crimp 2 shifts | F29: A | G29: 4 | H29: 0 | I29: 5 | J29: 1525,5 | K29: 1860 | L29: 82.02 | M29: 82,02 | N29: 0 | O29: 0 | P29: 0 | Q29: 82,02 | R29: 82,02 | T29: 0 | U29: 0 | V29: 0 | W29: 0 | X29: 0 | Y29: 0 | Z29: 0
A30: 2 | B30: Mardi | C30: =IF(MID(D30,4,2)="BM","VK BMW",IF(MID(D30,9,1)="2","VK Crimp 2",IF(MID(D30,1,9)="VK-CrimpA","VK-Crimp",IF(MID(D30,1,9)="VK-CrimpB","VK-Crimp",IF(MID(D30,1,9)="VK-CrimpC","VK-Crimp",IF(MID(D30,4,1)="L","VK-Lambo",IF(MID(D30,4,1)="U","VK-Usch",IF(MID(D30,4,1)="V","VK-Verd",IF(D30="SUM","VK",IF(D30="TARGET VK","VK",IF(D30="TARGET BMW","VK BMW",IF(D30="TARGET VK Crimp 2","VK Crimp 2",IF(D30="TARGET VK-Crimp","VK-Crimp",IF(D30="TARGET VK-Lambo","VK-Lambo",IF(D30="TARGET VK-Usch","VK-Usch",IF(D30="TARGET VK-Verd","VK-Verd",FALSE)))))))))))))))) -> VK-Crimp | D30: VK-CrimpA | E30: VK-Crimp VK-Crimp | F30: A | G30: 22 | H30: 0 | I30: 1 | J30: 9402,11 | K30: 10230 | L30: 91.91 | M30: 91,91 | N30: 0 | O30: 0 | P30: 0 | Q30: 91,91 | R30: 91,91 | T30: 0 | U30: 0 | V30: 0 | W30: 0 | X30: 0 | Y30: 0 | Z30: 0
A31: 2 | B31: Mardi | C31: =IF(MID(D31,4,2)="BM","VK BMW",IF(MID(D31,9,1)="2","VK Crimp 2",IF(MID(D31,1,9)="VK-CrimpA","VK-Crimp",IF(MID(D31,1,9)="VK-CrimpB","VK-Crimp",IF(MID(D31,1,9)="VK-CrimpC","VK-Crimp",IF(MID(D31,4,1)="L","VK-Lambo",IF(MID(D31,4,1)="U","VK-Usch",IF(MID(D31,4,1)="V","VK-Verd",IF(D31="SUM","VK",IF(D31="TARGET VK","VK",IF(D31="TARGET BMW","VK BMW",IF(D31="TARGET VK Crimp 2","VK Crimp 2",IF(D31="TARGET VK-Crimp","VK-Crimp",IF(D31="TARGET VK-Lambo","VK-Lambo",IF(D31="TARGET VK-Usch","VK-Usch",IF(D31="TARGET VK-Verd","VK-Verd",FALSE)))))))))))))))) -> VK-Crimp | D31: VK-CrimpB | E31: VK-Crimp VK-Crimp | F31: B | G31: 11 | H31: 0 | I31: 6 | J31: 4024,82 | K31: 5115 | L31: 78.69 | M31: 78,69 | N31: 0 | O31: 0 | P31: 0 | Q31: 78,69 | R31: 78,69 | T31: 0 | U31: 0 | V31: 0 | W31: 0 | X31: 0 | Y31: 0 | Z31: 0
A32: 2 | B32: Mardi | C32: =IF(MID(D32,4,2)="BM","VK BMW",IF(MID(D32,9,1)="2","VK Crimp 2",IF(MID(D32,1,9)="VK-CrimpA","VK-Crimp",IF(MID(D32,1,9)="VK-CrimpB","VK-Crimp",IF(MID(D32,1,9)="VK-CrimpC","VK-Crimp",IF(MID(D32,4,1)="L","VK-Lambo",IF(MID(D32,4,1)="U","VK-Usch",IF(MID(D32,4,1)="V","VK-Verd",IF(D32="SUM","VK",IF(D32="TARGET VK","VK",IF(D32="TARGET BMW","VK BMW",IF(D32="TARGET VK Crimp 2","VK Crimp 2",IF(D32="TARGET VK-Crimp","VK-Crimp",IF(D32="TARGET VK-Lambo","VK-Lambo",IF(D32="TARGET VK-Usch","VK-Usch",IF(D32="TARGET VK-Verd","VK-Verd",FALSE)))))))))))))))) -> VK-Crimp | D32: VK-CrimpC | E32: VK-Crimp VK-Crimp | F32: C | G32: 21 | H32: 0 | I32: 11 | J32: 8007,296 | K32: 9765 | L32: 82 | M32: 82 | N32: 0 | O32: 0 | P32: 0 | Q32: 82 | R32: 82 | T32: 0 | U32: 0 | V32: 0 | W32: 0 | X32: 0 | Y32: 0 | Z32: 0
A33: 2 | B33: Mardi | C33: =IF(MID(D33,4,2)="BM","VK BMW",IF(MID(D33,9,1)="2","VK Crimp 2",IF(MID(D33,1,9)="VK-CrimpA","VK-Crimp",IF(MID(D33,1,9)="VK-CrimpB","VK-Crimp",IF(MID(D33,1,9)="VK-CrimpC","VK-Crimp",IF(MID(D33,4,1)="L","VK-Lambo",IF(MID(D33,4,1)="U","VK-Usch",IF(MID(D33,4,1)="V","VK-Verd",IF(D33="SUM","VK",IF(D33="TARGET VK","VK",IF(D33="TARGET BMW","VK BMW",IF(D33="TARGET VK Crimp 2","VK Crimp 2",IF(D33="TARGET VK-Crimp","VK-Crimp",IF(D33="TARGET VK-Lambo","VK-Lambo",IF(D33="TARGET VK-Usch","VK-Usch",IF(D33="TARGET VK-Verd","VK-Verd",FALSE)))))))))))))))) -> VK-Lambo | D33: VK-LamboA | E33: VK-Lambo VK-Lambo | F33: A | G33: 4 | H33: 1 | I33: 6 | J33: 1351,07 | K33: 1860 | L33: 72.64 | M33: 72,64 | N33: 0 | O33: 0 | P33: 0 | Q33: 72,64 | R33: 72,64 | T33: 0 | U33: 0 | V33: 0 | W33: 0 | X33: 0 | Y33: 0 | Z33: 0
A34: 2 | B34: Mardi | C34: =IF(MID(D34,4,2)="BM","VK BMW",IF(MID(D34,9,1)="2","VK Crimp 2",IF(MID(D34,1,9)="VK-CrimpA","VK-Crimp",IF(MID(D34,1,9)="VK-CrimpB","VK-Crimp",IF(MID(D34,1,9)="VK-CrimpC","VK-Crimp",IF(MID(D34,4,1)="L","VK-Lambo",IF(MID(D34,4,1)="U","VK-Usch",IF(MID(D34,4,1)="V","VK-Verd",IF(D34="SUM","VK",IF(D34="TARGET VK","VK",IF(D34="TARGET BMW","VK BMW",IF(D34="TARGET VK Crimp 2","VK Crimp 2",IF(D34="TARGET VK-Crimp","VK-Crimp",IF(D34="TARGET VK-Lambo","VK-Lambo",IF(D34="TARGET VK-Usch","VK-Usch",IF(D34="TARGET VK-Verd","VK-Verd",FALSE)))))))))))))))) -> VK-Lambo | D34: VK-LamboB | E34: VK-Lambo VK-Lambo | F34: B | G34: 10 | H34: 1 | I34: 4 | J34: 2959,92 | K34: 4650 | L34: 63.65 | M34: 63,65 | N34: 0 | O34: 0 | P34: 0 | Q34: 63,65 | R34: 63,65 | T34: 0 | U34: 0 | V34: 0 | W34: 0 | X34: 0 | Y34: 0 | Z34: 0
A35: 2 | B35: Mardi | C35: =IF(MID(D35,4,2)="BM","VK BMW",IF(MID(D35,9,1)="2","VK Crimp 2",IF(MID(D35,1,9)="VK-CrimpA","VK-Crimp",IF(MID(D35,1,9)="VK-CrimpB","VK-Crimp",IF(MID(D35,1,9)="VK-CrimpC","VK-Crimp",IF(MID(D35,4,1)="L","VK-Lambo",IF(MID(D35,4,1)="U","VK-Usch",IF(MID(D35,4,1)="V","VK-Verd",IF(D35="SUM","VK",IF(D35="TARGET VK","VK",IF(D35="TARGET BMW","VK BMW",IF(D35="TARGET VK Crimp 2","VK Crimp 2",IF(D35="TARGET VK-Crimp","VK-Crimp",IF(D35="TARGET VK-Lambo","VK-Lambo",IF(D35="TARGET VK-Usch","VK-Usch",IF(D35="TARGET VK-Verd","VK-Verd",FALSE)))))))))))))))) -> VK-Usch | D35: VK-UschA | E35: VK-Usch VK-Uschall | F35: A | G35: 19 | H35: 1 | I35: 15 | J35: 9968,54 | K35: 8835 | L35: 112.83 | M35: 112,83 | N35: 0 | O35: 0 | P35: 0 | Q35: 112,83 | R35: 112,83 | T35: 0 | U35: 0 | V35: 0 | W35: 0 | X35: 0 | Y35: 0 | Z35: 0
A36: 2 | B36: Mardi | C36: =IF(MID(D36,4,2)="BM","VK BMW",IF(MID(D36,9,1)="2","VK Crimp 2",IF(MID(D36,1,9)="VK-CrimpA","VK-Crimp",IF(MID(D36,1,9)="VK-CrimpB","VK-Crimp",IF(MID(D36,1,9)="VK-CrimpC","VK-Crimp",IF(MID(D36,4,1)="L","VK-Lambo",IF(MID(D36,4,1)="U","VK-Usch",IF(MID(D36,4,1)="V","VK-Verd",IF(D36="SUM","VK",IF(D36="TARGET VK","VK",IF(D36="TARGET BMW","VK BMW",IF(D36="TARGET VK Crimp 2","VK Crimp 2",IF(D36="TARGET VK-Crimp","VK-Crimp",IF(D36="TARGET VK-Lambo","VK-Lambo",IF(D36="TARGET VK-Usch","VK-Usch",IF(D36="TARGET VK-Verd","VK-Verd",FALSE)))))))))))))))) -> VK-Usch | D36: VK-UschB | E36: VK-Usch VK-Uschall | F36: B | G36: 15 | H36: 0 | I36: 17 | J36: 7517,79 | K36: 6975 | L36: 107.78 | M36: 107,78 | N36: 0 | O36: 0 | P36: 0 | Q36: 107,78 | R36: 107,78 | T36: 0 | U36: 0 | V36: 0 | W36: 0 | X36: 0 | Y36: 0 | Z36: 0
A37: 2 | B37: Mardi | C37: =IF(MID(D37,4,2)="BM","VK BMW",IF(MID(D37,9,1)="2","VK Crimp 2",IF(MID(D37,1,9)="VK-CrimpA","VK-Crimp",IF(MID(D37,1,9)="VK-CrimpB","VK-Crimp",IF(MID(D37,1,9)="VK-CrimpC","VK-Crimp",IF(MID(D37,4,1)="L","VK-Lambo",IF(MID(D37,4,1)="U","VK-Usch",IF(MID(D37,4,1)="V","VK-Verd",IF(D37="SUM","VK",IF(D37="TARGET VK","VK",IF(D37="TARGET BMW","VK BMW",IF(D37="TARGET VK Crimp 2","VK Crimp 2",IF(D37="TARGET VK-Crimp","VK-Crimp",IF(D37="TARGET VK-Lambo","VK-Lambo",IF(D37="TARGET VK-Usch","VK-Usch",IF(D37="TARGET VK-Verd","VK-Verd",FALSE)))))))))))))))) -> VK-Usch | D37: VK-UschC | E37: VK-Usch VK-Uschall | F37: C | G37: 15 | H37: 0 | I37: 14 | J37: 6129,703 | K37: 6975 | L37: 87.88 | M37: 87,88 | N37: 0 | O37: 0 | P37: 0 | Q37: 87,88 | R37: 87,88 | T37: 0 | U37: 0 | V37: 0 | W37: 0 | X37: 0 | Y37: 0 | Z37: 0
... A40: 2 | B40: Mardi | C40: =IF(MID(D40,4,2)="BM","VK BMW",IF(MID(D40,9,1)="2","VK Crimp 2",IF(MID(D40,1,9)="VK-CrimpA","VK-Crimp",IF(MID(D40,1,9)="VK-CrimpB","VK-Crimp",IF(MID(D40,1,9)="VK-CrimpC","VK-Crimp",IF(MID(D40,4,1)="L","VK-Lambo",IF(MID(D40,4,1)="U","VK-Usch",IF(MID(D40,4,1)="V","VK-Verd",IF(D40="SUM","VK",IF(D40="TARGET VK","VK",IF(D40="TARGET BMW","VK BMW",IF(D40="TARGET VK Crimp 2","VK Crimp 2",IF(D40="TARGET VK-Crimp","VK-Crimp",IF(D40="TARGET VK-Lambo","VK-Lambo",IF(D40="TARGET VK-Usch","VK-Usch",IF(D40="TARGET VK-Verd","VK-Verd",FALSE)))))))))))))))) -> VK-Verd | D40: VK-VerdC | E40: VK-Verd VK- Verdrillen | F40: C | G40: 8 | H40: 0 | I40: 4 | J40: 2508,32 | K40: 3720 | L40: 67.43 | M40: 67,43 | N40: 0 | O40: 0 | P40: 0 | Q40: 67,43 | R40: 67,43 | T40: 0 | U40: 0 | V40: 0 | W40: 0 | X40: 0 | Y40: 0 | Z40: 0
A41: 2 | B41: Mardi | C41: =IF(MID(D41,4,2)="BM","VK BMW",IF(MID(D41,9,1)="2","VK Crimp 2",IF(MID(D41,1,9)="VK-CrimpA","VK-Crimp",IF(MID(D41,1,9)="VK-CrimpB","VK-Crimp",IF(MID(D41,1,9)="VK-CrimpC","VK-Crimp",IF(MID(D41,4,1)="L","VK-Lambo",IF(MID(D41,4,1)="U","VK-Usch",IF(MID(D41,4,1)="V","VK-Verd",IF(D41="SUM","VK",IF(D41="TARGET VK","VK",IF(D41="TARGET BMW","VK BMW",IF(D41="TARGET VK Crimp 2","VK Crimp 2",IF(D41="TARGET VK-Crimp","VK-Crimp",IF(D41="TARGET VK-Lambo","VK-Lambo",IF(D41="TARGET VK-Usch","VK-Usch",IF(D41="TARGET VK-Verd","VK-Verd",FALSE)))))))))))))))) -> VK | D41: SUM | G41: 182 | H41: 3 | I41: 103 | J41: 75196,74 | K41: 84630 | L41: 88.85 | M41: 88,85 | N41: 0 | O41: 0 | P41: 0 | Q41: 88,85 | R41: 88,85 | T41: 0 | U41: 0 | V41: 0 | W41: 0 | X41: 0 | Y41: 0 | Z41: 0
A42: 2 | B42: Mardi | C42: =IF(MID(D42,4,2)="BM","VK BMW",IF(MID(D42,9,1)="2","VK Crimp 2",IF(MID(D42,1,9)="VK-CrimpA","VK-Crimp",IF(MID(D42,1,9)="VK-CrimpB","VK-Crimp",IF(MID(D42,1,9)="VK-CrimpC","VK-Crimp",IF(MID(D42,4,1)="L","VK-Lambo",IF(MID(D42,4,1)="U","VK-Usch",IF(MID(D42,4,1)="V","VK-Verd",IF(D42="SUM","VK",IF(D42="TARGET VK","VK",IF(D42="TARGET BMW","VK BMW",IF(D42="TARGET VK Crimp 2","VK Crimp 2",IF(D42="TARGET VK-Crimp","VK-Crimp",IF(D42="TARGET VK-Lambo","VK-Lambo",IF(D42="TARGET VK-Usch","VK-Usch",IF(D42="TARGET VK-Verd","VK-Verd",FALSE)))))))))))))))) -> FALSE | D42: AVG | G42: 12,13 | H42: 0,2 | I42: 6,87
A43: 2 | B43: Mardi | C43: =IF(MID(D43,4,2)="BM","VK BMW",IF(MID(D43,9,1)="2","VK Crimp 2",IF(MID(D43,1,9)="VK-CrimpA","VK-Crimp",IF(MID(D43,1,9)="VK-CrimpB","VK-Crimp",IF(MID(D43,1,9)="VK-CrimpC","VK-Crimp",IF(MID(D43,4,1)="L","VK-Lambo",IF(MID(D43,4,1)="U","VK-Usch",IF(MID(D43,4,1)="V","VK-Verd",IF(D43="SUM","VK",IF(D43="TARGET VK","VK",IF(D43="TARGET BMW","VK BMW",IF(D43="TARGET VK Crimp 2","VK Crimp 2",IF(D43="TARGET VK-Crimp","VK-Crimp",IF(D43="TARGET VK-Lambo","VK-Lambo",IF(D43="TARGET VK-Usch","VK-Usch",IF(D43="TARGET VK-Verd","VK-Verd",FALSE)))))))))))))))) -> VK | D43: TARGET VK | L43: 100
A44: 2 | B44: Mardi | C44: =IF(MID(D44,4,2)="BM","VK BMW",IF(MID(D44,9,1)="2","VK Crimp 2",IF(MID(D44,1,9)="VK-CrimpA","VK-Crimp",IF(MID(D44,1,9)="VK-CrimpB","VK-Crimp",IF(MID(D44,1,9)="VK-CrimpC","VK-Crimp",IF(MID(D44,4,1)="L","VK-Lambo",IF(MID(D44,4,1)="U","VK-Usch",IF(MID(D44,4,1)="V","VK-Verd",IF(D44="SUM","VK",IF(D44="TARGET VK","VK",IF(D44="TARGET BMW","VK BMW",IF(D44="TARGET VK Crimp 2","VK Crimp 2",IF(D44="TARGET VK-Crimp","VK-Crimp",IF(D44="TARGET VK-Lambo","VK-Lambo",IF(D44="TARGET VK-Usch","VK-Usch",IF(D44="TARGET VK-Verd","VK-Verd",FALSE)))))))))))))))) -> VK BMW | D44: TARGET BMW | L44: 100
A45: 2 | B45: Mardi | C45: =IF(MID(D45,4,2)="BM","VK BMW",IF(MID(D45,9,1)="2","VK Crimp 2",IF(MID(D45,1,9)="VK-CrimpA","VK-Crimp",IF(MID(D45,1,9)="VK-CrimpB","VK-Crimp",IF(MID(D45,1,9)="VK-CrimpC","VK-Crimp",IF(MID(D45,4,1)="L","VK-Lambo",IF(MID(D45,4,1)="U","VK-Usch",IF(MID(D45,4,1)="V","VK-Verd",IF(D45="SUM","VK",IF(D45="TARGET VK","VK",IF(D45="TARGET BMW","VK BMW",IF(D45="TARGET VK Crimp 2","VK Crimp 2",IF(D45="TARGET VK-Crimp","VK-Crimp",IF(D45="TARGET VK-Lambo","VK-Lambo",IF(D45="TARGET VK-Usch","VK-Usch",IF(D45="TARGET VK-Verd","VK-Verd",FALSE)))))))))))))))) -> VK Crimp 2 | D45: TARGET VK Crimp 2 | L45: 100
A46: 2 | B46: Mardi | C46: =IF(MID(D46,4,2)="BM","VK BMW",IF(MID(D46,9,1)="2","VK Crimp 2",IF(MID(D46,1,9)="VK-CrimpA","VK-Crimp",IF(MID(D46,1,9)="VK-CrimpB","VK-Crimp",IF(MID(D46,1,9)="VK-CrimpC","VK-Crimp",IF(MID(D46,4,1)="L","VK-Lambo",IF(MID(D46,4,1)="U","VK-Usch",IF(MID(D46,4,1)="V","VK-Verd",IF(D46="SUM","VK",IF(D46="TARGET VK","VK",IF(D46="TARGET BMW","VK BMW",IF(D46="TARGET VK Crimp 2","VK Crimp 2",IF(D46="TARGET VK-Crimp","VK-Crimp",IF(D46="TARGET VK-Lambo","VK-Lambo",IF(D46="TARGET VK-Usch","VK-Usch",IF(D46="TARGET VK-Verd","VK-Verd",FALSE)))))))))))))))) -> VK-Crimp | D46: TARGET VK-Crimp | L46: 100
A47: 2 | B47: Mardi | C47: =IF(MID(D47,4,2)="BM","VK BMW",IF(MID(D47,9,1)="2","VK Crimp 2",IF(MID(D47,1,9)="VK-CrimpA","VK-Crimp",IF(MID(D47,1,9)="VK-CrimpB","VK-Crimp",IF(MID(D47,1,9)="VK-CrimpC","VK-Crimp",IF(MID(D47,4,1)="L","VK-Lambo",IF(MID(D47,4,1)="U","VK-Usch",IF(MID(D47,4,1)="V","VK-Verd",IF(D47="SUM","VK",IF(D47="TARGET VK","VK",IF(D47="TARGET BMW","VK BMW",IF(D47="TARGET VK Crimp 2","VK Crimp 2",IF(D47="TARGET VK-Crimp","VK-Crimp",IF(D47="TARGET VK-Lambo","VK-Lambo",IF(D47="TARGET VK-Usch","VK-Usch",IF(D47="TARGET VK-Verd","VK-Verd",FALSE)))))))))))))))) -> VK-Lambo | D47: TARGET VK-Lambo | L47: 100
A48: 2 | B48: Mardi | C48: =IF(MID(D48,4,2)="BM","VK BMW",IF(MID(D48,9,1)="2","VK Crimp 2",IF(MID(D48,1,9)="VK-CrimpA","VK-Crimp",IF(MID(D48,1,9)="VK-CrimpB","VK-Crimp",IF(MID(D48,1,9)="VK-CrimpC","VK-Crimp",IF(MID(D48,4,1)="L","VK-Lambo",IF(MID(D48,4,1)="U","VK-Usch",IF(MID(D48,4,1)="V","VK-Verd",IF(D48="SUM","VK",IF(D48="TARGET VK","VK",IF(D48="TARGET BMW","VK BMW",IF(D48="TARGET VK Crimp 2","VK Crimp 2",IF(D48="TARGET VK-Crimp","VK-Crimp",IF(D48="TARGET VK-Lambo","VK-Lambo",IF(D48="TARGET VK-Usch","VK-Usch",IF(D48="TARGET VK-Verd","VK-Verd",FALSE)))))))))))))))) -> VK-Usch | D48: TARGET VK-Usch | L48: 100
A49: 2 | B49: Mardi | C49: =IF(MID(D49,4,2)="BM","VK BMW",IF(MID(D49,9,1)="2","VK Crimp 2",IF(MID(D49,1,9)="VK-CrimpA","VK-Crimp",IF(MID(D49,1,9)="VK-CrimpB","VK-Crimp",IF(MID(D49,1,9)="VK-CrimpC","VK-Crimp",IF(MID(D49,4,1)="L","VK-Lambo",IF(MID(D49,4,1)="U","VK-Usch",IF(MID(D49,4,1)="V","VK-Verd",IF(D49="SUM","VK",IF(D49="TARGET VK","VK",IF(D49="TARGET BMW","VK BMW",IF(D49="TARGET VK Crimp 2","VK Crimp 2",IF(D49="TARGET VK-Crimp","VK-Crimp",IF(D49="TARGET VK-Lambo","VK-Lambo",IF(D49="TARGET VK-Usch","VK-Usch",IF(D49="TARGET VK-Verd","VK-Verd",FALSE)))))))))))))))) -> VK-Verd | D49: TARGET VK-Verd | L49: 100
A50: 2 | B50: Mercredi | C50: =IF(MID(D50,4,2)="BM","VK BMW",IF(MID(D50,9,1)="2","VK Crimp 2",IF(MID(D50,1,9)="VK-CrimpA","VK-Crimp",IF(MID(D50,1,9)="VK-CrimpB","VK-Crimp",IF(MID(D50,1,9)="VK-CrimpC","VK-Crimp",IF(MID(D50,4,1)="L","VK-Lambo",IF(MID(D50,4,1)="U","VK-Usch",IF(MID(D50,4,1)="V","VK-Verd",IF(D50="SUM","VK",IF(D50="TARGET VK","VK",IF(D50="TARGET BMW","VK BMW",IF(D50="TARGET VK Crimp 2","VK Crimp 2",IF(D50="TARGET VK-Crimp","VK-Crimp",IF(D50="TARGET VK-Lambo","VK-Lambo",IF(D50="TARGET VK-Usch","VK-Usch",IF(D50="TARGET VK-Verd","VK-Verd",FALSE)))))))))))))))) -> VK BMW | D50: VK-BMW-A | E50: VK-BX8 VK-BX8 | F50: A | G50: 13 | H50: 0 | I50: 4 | J50: 5271,49 | K50: 6045 | L50: 87.2 | M50: 87,2 | N50: 0 | O50: 0 | P50: 0 | Q50: 87,2 | R50: 87,2 | T50: 0 | U50: 0 | V50: 0 | W50: 0 | X50: 0 | Y50: 0 | Z50: 0
A51: 2 | B51: Mercredi | C51: =IF(MID(D51,4,2)="BM","VK BMW",IF(MID(D51,9,1)="2","VK Crimp 2",IF(MID(D51,1,9)="VK-CrimpA","VK-Crimp",IF(MID(D51,1,9)="VK-CrimpB","VK-Crimp",IF(MID(D51,1,9)="VK-CrimpC","VK-Crimp",IF(MID(D51,4,1)="L","VK-Lambo",IF(MID(D51,4,1)="U","VK-Usch",IF(MID(D51,4,1)="V","VK-Verd",IF(D51="SUM","VK",IF(D51="TARGET VK","VK",IF(D51="TARGET BMW","VK BMW",IF(D51="TARGET VK Crimp 2","VK Crimp 2",IF(D51="TARGET VK-Crimp","VK-Crimp",IF(D51="TARGET VK-Lambo","VK-Lambo",IF(D51="TARGET VK-Usch","VK-Usch",IF(D51="TARGET VK-Verd","VK-Verd",FALSE)))))))))))))))) -> VK BMW | D51: VK-BMW-B | E51: VK-BX8 VK-BX8 | F51: B | G51: 12 | H51: 0 | I51: 2 | J51: 6274,03 | K51: 5580 | L51: 112.44 | M51: 112,44 | N51: 0 | O51: 0 | P51: 0 | Q51: 112,44 | R51: 112,44 | T51: 0 | U51: 0 | V51: 0 | W51: 0 | X51: 0 | Y51: 0 | Z51: 0
A52: 2 | B52: Mercredi | C52: =IF(MID(D52,4,2)="BM","VK BMW",IF(MID(D52,9,1)="2","VK Crimp 2",IF(MID(D52,1,9)="VK-CrimpA","VK-Crimp",IF(MID(D52,1,9)="VK-CrimpB","VK-Crimp",IF(MID(D52,1,9)="VK-CrimpC","VK-Crimp",IF(MID(D52,4,1)="L","VK-Lambo",IF(MID(D52,4,1)="U","VK-Usch",IF(MID(D52,4,1)="V","VK-Verd",IF(D52="SUM","VK",IF(D52="TARGET VK","VK",IF(D52="TARGET BMW","VK BMW",IF(D52="TARGET VK Crimp 2","VK Crimp 2",IF(D52="TARGET VK-Crimp","VK-Crimp",IF(D52="TARGET VK-Lambo","VK-Lambo",IF(D52="TARGET VK-Usch","VK-Usch",IF(D52="TARGET VK-Verd","VK-Verd",FALSE)))))))))))))))) -> VK BMW | D52: VK-BMW-C | E52: VK-BX8 VK-BX8 | F52: C | G52: 14 | H52: 0 | I52: 10 | J52: 6154,61 | K52: 6510 | L52: 94.54 | M52: 94,54 | N52: 0 | O52: 0 | P52: 0 | Q52: 94,54 | R52: 94,54 | T52: 0 | U52: 0 | V52: 0 | W52: 0 | X52: 0 | Y52: 0 | Z52: 0
A53: 2 | B53: Mercredi | C53: =IF(MID(D53,4,2)="BM","VK BMW",IF(MID(D53,9,1)="2","VK Crimp 2",IF(MID(D53,1,9)="VK-CrimpA","VK-Crimp",IF(MID(D53,1,9)="VK-CrimpB","VK-Crimp",IF(MID(D53,1,9)="VK-CrimpC","VK-Crimp",IF(MID(D53,4,1)="L","VK-Lambo",IF(MID(D53,4,1)="U","VK-Usch",IF(MID(D53,4,1)="V","VK-Verd",IF(D53="SUM","VK",IF(D53="TARGET VK","VK",IF(D53="TARGET BMW","VK BMW",IF(D53="TARGET VK Crimp 2","VK Crimp 2",IF(D53="TARGET VK-Crimp","VK-Crimp",IF(D53="TARGET VK-Lambo","VK-Lambo",IF(D53="TARGET VK-Usch","VK-Usch",IF(D53="TARGET VK-Verd","VK-Verd",FALSE)))))))))))))))) -> VK Crimp 2 | D53: VK-Crimp2A | E53: VK-Crimp2 VK-Crimp 2 shifts | F53: A | G53: 7 | H53: 0 | I53: 5 | J53: 547,5 | K53: 3255 | L53: 16.82 | M53: 16,82 | N53: 0 | O53: 0 | P53: 0 | Q53: 16,82 | R53: 16,82 | T53: 0 | U53: 0 | V53: 0 | W53: 0 | X53: 0 | Y53: 0 | Z53: 0
A54: 2 | B54: Mercredi | C54: =IF(MID(D54,4,2)="BM","VK BMW",IF(MID(D54,9,1)="2","VK Crimp 2",IF(MID(D54,1,9)="VK-CrimpA","VK-Crimp",IF(MID(D54,1,9)="VK-CrimpB","VK-Crimp",IF(MID(D54,1,9)="VK-CrimpC","VK-Crimp",IF(MID(D54,4,1)="L","VK-Lambo",IF(MID(D54,4,1)="U","VK-Usch",IF(MID(D54,4,1)="V","VK-Verd",IF(D54="SUM","VK",IF(D54="TARGET VK","VK",IF(D54="TARGET BMW","VK BMW",IF(D54="TARGET VK Crimp 2","VK Crimp 2",IF(D54="TARGET VK-Crimp","VK-Crimp",IF(D54="TARGET VK-Lambo","VK-Lambo",IF(D54="TARGET VK-Usch","VK-Usch",IF(D54="TARGET VK-Verd","VK-Verd",FALSE)))))))))))))))) -> VK Crimp 2 | D54: VK-Crimp2B | E54: VK-Crimp2 VK-Crimp 2 shifts | F54: B | G54: 2 | H54: 0 | I54: 8 | J54: 1107,78 | K54: 930 | L54: 119.12 | M54: 119,12 | N54: 0 | O54: 0 | P54: 0 | Q54: 119,12 | R54: 119,12 | T54: 0 | U54: 0 | V54: 0 | W54: 0 | X54: 0 | Y54: 0 | Z54: 0
A55: 2 | B55: Mercredi | C55: =IF(MID(D55,4,2)="BM","VK BMW",IF(MID(D55,9,1)="2","VK Crimp 2",IF(MID(D55,1,9)="VK-CrimpA","VK-Crimp",IF(MID(D55,1,9)="VK-CrimpB","VK-Crimp",IF(MID(D55,1,9)="VK-CrimpC","VK-Crimp",IF(MID(D55,4,1)="L","VK-Lambo",IF(MID(D55,4,1)="U","VK-Usch",IF(MID(D55,4,1)="V","VK-Verd",IF(D55="SUM","VK",IF(D55="TARGET VK","VK",IF(D55="TARGET BMW","VK BMW",IF(D55="TARGET VK Crimp 2","VK Crimp 2",IF(D55="TARGET VK-Crimp","VK-Crimp",IF(D55="TARGET VK-Lambo","VK-Lambo",IF(D55="TARGET VK-Usch","VK-Usch",IF(D55="TARGET VK-Verd","VK-Verd",FALSE)))))))))))))))) -> VK-Crimp | D55: VK-CrimpA | E55: VK-Crimp VK-Crimp | F55: A | G55: 20 | H55: 0 | I55: 1 | J55: 9073,01 | K55: 9300 | L55: 97.56 | M55: 97,56 | N55: 0 | O55: 0 | P55: 0 | Q55: 97,56 | R55: 97,56 | T55: 0 | U55: 0 | V55: 0 | W55: 0 | X55: 0 | Y55: 0 | Z55: 0
A56: 2 | B56: Mercredi | C56: =IF(MID(D56,4,2)="BM","VK BMW",IF(MID(D56,9,1)="2","VK Crimp 2",IF(MID(D56,1,9)="VK-CrimpA","VK-Crimp",IF(MID(D56,1,9)="VK-CrimpB","VK-Crimp",IF(MID(D56,1,9)="VK-CrimpC","VK-Crimp",IF(MID(D56,4,1)="L","VK-Lambo",IF(MID(D56,4,1)="U","VK-Usch",IF(MID(D56,4,1)="V","VK-Verd",IF(D56="SUM","VK",IF(D56="TARGET VK","VK",IF(D56="TARGET BMW","VK BMW",IF(D56="TARGET VK Crimp 2","VK Crimp 2",IF(D56="TARGET VK-Crimp","VK-Crimp",IF(D56="TARGET VK-Lambo","VK-Lambo",IF(D56="TARGET VK-Usch","VK-Usch",IF(D56="TARGET VK-Verd","VK-Verd",FALSE)))))))))))))))) -> VK-Crimp | D56: VK-CrimpB | E56: VK-Crimp VK-Crimp | F56: B | G56: 11 | H56: 0 | I56: 7 | J56: 3797,1 | K56: 5115 | L56: 74.23 | M56: 74,23 | N56: 0 | O56: 0 | P56: 0 | Q56: 74,23 | R56: 74,23 | T56: 0 | U56: 0 | V56: 0 | W56: 0 | X56: 0 | Y56: 0 | Z56: 0
A57: 2 | B57: Mercredi | C57: =IF(MID(D57,4,2)="BM","VK BMW",IF(MID(D57,9,1)="2","VK Crimp 2",IF(MID(D57,1,9)="VK-CrimpA","VK-Crimp",IF(MID(D57,1,9)="VK-CrimpB","VK-Crimp",IF(MID(D57,1,9)="VK-CrimpC","VK-Crimp",IF(MID(D57,4,1)="L","VK-Lambo",IF(MID(D57,4,1)="U","VK-Usch",IF(MID(D57,4,1)="V","VK-Verd",IF(D57="SUM","VK",IF(D57="TARGET VK","VK",IF(D57="TARGET BMW","VK BMW",IF(D57="TARGET VK Crimp 2","VK Crimp 2",IF(D57="TARGET VK-Crimp","VK-Crimp",IF(D57="TARGET VK-Lambo","VK-Lambo",IF(D57="TARGET VK-Usch","VK-Usch",IF(D57="TARGET VK-Verd","VK-Verd",FALSE)))))))))))))))) -> VK-Crimp | D57: VK-CrimpC | E57: VK-Crimp VK-Crimp | F57: C | G57: 22 | H57: 1 | I57: 8 | J57: 10407,4 | K57: 10230 | L57: 101.73 | M57: 101,73 | N57: 0 | O57: 0 | P57: 0 | Q57: 101,73 | R57: 101,73 | T57: 0 | U57: 0 | V57: 0 | W57: 0 | X57: 0 | Y57: 0 | Z57: 0
A58: 2 | B58: Mercredi | C58: =IF(MID(D58,4,2)="BM","VK BMW",IF(MID(D58,9,1)="2","VK Crimp 2",IF(MID(D58,1,9)="VK-CrimpA","VK-Crimp",IF(MID(D58,1,9)="VK-CrimpB","VK-Crimp",IF(MID(D58,1,9)="VK-CrimpC","VK-Crimp",IF(MID(D58,4,1)="L","VK-Lambo",IF(MID(D58,4,1)="U","VK-Usch",IF(MID(D58,4,1)="V","VK-Verd",IF(D58="SUM","VK",IF(D58="TARGET VK","VK",IF(D58="TARGET BMW","VK BMW",IF(D58="TARGET VK Crimp 2","VK Crimp 2",IF(D58="TARGET VK-Crimp","VK-Crimp",IF(D58="TARGET VK-Lambo","VK-Lambo",IF(D58="TARGET VK-Usch","VK-Usch",IF(D58="TARGET VK-Verd","VK-Verd",FALSE)))))))))))))))) -> VK-Lambo | D58: VK-LamboA | E58: VK-Lambo VK-Lambo | F58: A | G58: 3 | H58: 1 | I58: 7 | J58: 914,7 | K58: 1395 | L58: 65.57 | M58: 65,57 | N58: 0 | O58: 0 | P58: 0 | Q58: 65,57 | R58: 65,57 | T58: 0 | U58: 0 | V58: 0 | W58: 0 | X58: 0 | Y58: 0 | Z58: 0
A59: 2 | B59: Mercredi | C59: =IF(MID(D59,4,2)="BM","VK BMW",IF(MID(D59,9,1)="2","VK Crimp 2",IF(MID(D59,1,9)="VK-CrimpA","VK-Crimp",IF(MID(D59,1,9)="VK-CrimpB","VK-Crimp",IF(MID(D59,1,9)="VK-CrimpC","VK-Crimp",IF(MID(D59,4,1)="L","VK-Lambo",IF(MID(D59,4,1)="U","VK-Usch",IF(MID(D59,4,1)="V","VK-Verd",IF(D59="SUM","VK",IF(D59="TARGET VK","VK",IF(D59="TARGET BMW","VK BMW",IF(D59="TARGET VK Crimp 2","VK Crimp 2",IF(D59="TARGET VK-Crimp","VK-Crimp",IF(D59="TARGET VK-Lambo","VK-Lambo",IF(D59="TARGET VK-Usch","VK-Usch",IF(D59="TARGET VK-Verd","VK-Verd",FALSE)))))))))))))))) -> VK-Lambo | D59: VK-LamboB | E59: VK-Lambo VK-Lambo | F59: B | G59: 5,37 | H59: 1 | I59: 6,63 | J59: 2057,379 | K59: 2499 | L59: 82.33 | M59: 82,33 | N59: 0 | O59: 0 | P59: 0 | Q59: 82,33 | R59: 82,33 | T59: 0 | U59: 0 | V59: 0 | W59: 0 | X59: 0 | Y59: 0 | Z59: 0
A60: 2 | B60: Mercredi | C60: =IF(MID(D60,4,2)="BM","VK BMW",IF(MID(D60,9,1)="2","VK Crimp 2",IF(MID(D60,1,9)="VK-CrimpA","VK-Crimp",IF(MID(D60,1,9)="VK-CrimpB","VK-Crimp",IF(MID(D60,1,9)="VK-CrimpC","VK-Crimp",IF(MID(D60,4,1)="L","VK-Lambo",IF(MID(D60,4,1)="U","VK-Usch",IF(MID(D60,4,1)="V","VK-Verd",IF(D60="SUM","VK",IF(D60="TARGET VK","VK",IF(D60="TARGET BMW","VK BMW",IF(D60="TARGET VK Crimp 2","VK Crimp 2",IF(D60="TARGET VK-Crimp","VK-Crimp",IF(D60="TARGET VK-Lambo","VK-Lambo",IF(D60="TARGET VK-Usch","VK-Usch",IF(D60="TARGET VK-Verd","VK-Verd",FALSE)))))))))))))))) -> VK-Usch | D60: VK-UschA | E60: VK-Usch VK-Uschall | F60: A | G60: 18 | H60: 0 | I60: 18 | J60: 8605,22 | K60: 8370 | L60: 102.81 | M60: 102,81 | N60: 0 | O60: 300 | P60: 0 | Q60: 102,81 | R60: 102,81 | T60: 0 | U60: 0 | V60: 0 | W60: 0 | X60: 0 | Y60: 0 | Z60: 0
A61: 2 | B61: Mercredi | C61: =IF(MID(D61,4,2)="BM","VK BMW",IF(MID(D61,9,1)="2","VK Crimp 2",IF(MID(D61,1,9)="VK-CrimpA","VK-Crimp",IF(MID(D61,1,9)="VK-CrimpB","VK-Crimp",IF(MID(D61,1,9)="VK-CrimpC","VK-Crimp",IF(MID(D61,4,1)="L","VK-Lambo",IF(MID(D61,4,1)="U","VK-Usch",IF(MID(D61,4,1)="V","VK-Verd",IF(D61="SUM","VK",IF(D61="TARGET VK","VK",IF(D61="TARGET BMW","VK BMW",IF(D61="TARGET VK Crimp 2","VK Crimp 2",IF(D61="TARGET VK-Crimp","VK-Crimp",IF(D61="TARGET VK-Lambo","VK-Lambo",IF(D61="TARGET VK-Usch","VK-Usch",IF(D61="TARGET VK-Verd","VK-Verd",FALSE)))))))))))))))) -> VK-Usch | D61: VK-UschB | E61: VK-Usch VK-Uschall | F61: B | G61: 15,62 | H61: 0 | I61: 14,69 | J61: 7697,595 | K61: 7265 | L61: 105.95 | M61: 105,95 | N61: 0 | O61: 0 | P61: 0 | Q61: 105,95 | R61: 105,95 | T61: 0 | U61: 0 | V61: 0 | W61: 0 | X61: 0 | Y61: 0 | Z61: 0
... A65: 2 | B65: Mercredi | C65: =IF(MID(D65,4,2)="BM","VK BMW",IF(MID(D65,9,1)="2","VK Crimp 2",IF(MID(D65,1,9)="VK-CrimpA","VK-Crimp",IF(MID(D65,1,9)="VK-CrimpB","VK-Crimp",IF(MID(D65,1,9)="VK-CrimpC","VK-Crimp",IF(MID(D65,4,1)="L","VK-Lambo",IF(MID(D65,4,1)="U","VK-Usch",IF(MID(D65,4,1)="V","VK-Verd",IF(D65="SUM","VK",IF(D65="TARGET VK","VK",IF(D65="TARGET BMW","VK BMW",IF(D65="TARGET VK Crimp 2","VK Crimp 2",IF(D65="TARGET VK-Crimp","VK-Crimp",IF(D65="TARGET VK-Lambo","VK-Lambo",IF(D65="TARGET VK-Usch","VK-Usch",IF(D65="TARGET VK-Verd","VK-Verd",FALSE)))))))))))))))) -> VK-Verd | D65: VK-VerdC | E65: VK-Verd VK- Verdrillen | F65: C | G65: 6 | H65: 1 | I65: 1 | J65: 1663,486 | K65: 2790 | L65: 59.62 | M65: 59,62 | N65: 0 | O65: 0 | P65: 0 | Q65: 59,62 | R65: 59,62 | T65: 0 | U65: 0 | V65: 0 | W65: 0 | X65: 0 | Y65: 0 | Z65: 0
A66: 2 | B66: Mercredi | C66: =IF(MID(D66,4,2)="BM","VK BMW",IF(MID(D66,9,1)="2","VK Crimp 2",IF(MID(D66,1,9)="VK-CrimpA","VK-Crimp",IF(MID(D66,1,9)="VK-CrimpB","VK-Crimp",IF(MID(D66,1,9)="VK-CrimpC","VK-Crimp",IF(MID(D66,4,1)="L","VK-Lambo",IF(MID(D66,4,1)="U","VK-Usch",IF(MID(D66,4,1)="V","VK-Verd",IF(D66="SUM","VK",IF(D66="TARGET VK","VK",IF(D66="TARGET BMW","VK BMW",IF(D66="TARGET VK Crimp 2","VK Crimp 2",IF(D66="TARGET VK-Crimp","VK-Crimp",IF(D66="TARGET VK-Lambo","VK-Lambo",IF(D66="TARGET VK-Usch","VK-Usch",IF(D66="TARGET VK-Verd","VK-Verd",FALSE)))))))))))))))) -> VK | D66: SUM | G66: 184 | H66: 4 | I66: 113,31 | J66: 78093,98 | K66: 85559 | L66: 91.27 | M66: 91,27 | N66: 0 | O66: 360 | P66: 0 | Q66: 91,27 | R66: 91,27 | T66: 0 | U66: 0 | V66: 0 | W66: 0 | X66: 0 | Y66: 0 | Z66: 0
A67: 2 | B67: Mercredi | C67: =IF(MID(D67,4,2)="BM","VK BMW",IF(MID(D67,9,1)="2","VK Crimp 2",IF(MID(D67,1,9)="VK-CrimpA","VK-Crimp",IF(MID(D67,1,9)="VK-CrimpB","VK-Crimp",IF(MID(D67,1,9)="VK-CrimpC","VK-Crimp",IF(MID(D67,4,1)="L","VK-Lambo",IF(MID(D67,4,1)="U","VK-Usch",IF(MID(D67,4,1)="V","VK-Verd",IF(D67="SUM","VK",IF(D67="TARGET VK","VK",IF(D67="TARGET BMW","VK BMW",IF(D67="TARGET VK Crimp 2","VK Crimp 2",IF(D67="TARGET VK-Crimp","VK-Crimp",IF(D67="TARGET VK-Lambo","VK-Lambo",IF(D67="TARGET VK-Usch","VK-Usch",IF(D67="TARGET VK-Verd","VK-Verd",FALSE)))))))))))))))) -> FALSE | D67: AVG | G67: 11,5 | H67: 0,25 | I67: 7,08
A68: 2 | B68: Mercredi | C68: =IF(MID(D68,4,2)="BM","VK BMW",IF(MID(D68,9,1)="2","VK Crimp 2",IF(MID(D68,1,9)="VK-CrimpA","VK-Crimp",IF(MID(D68,1,9)="VK-CrimpB","VK-Crimp",IF(MID(D68,1,9)="VK-CrimpC","VK-Crimp",IF(MID(D68,4,1)="L","VK-Lambo",IF(MID(D68,4,1)="U","VK-Usch",IF(MID(D68,4,1)="V","VK-Verd",IF(D68="SUM","VK",IF(D68="TARGET VK","VK",IF(D68="TARGET BMW","VK BMW",IF(D68="TARGET VK Crimp 2","VK Crimp 2",IF(D68="TARGET VK-Crimp","VK-Crimp",IF(D68="TARGET VK-Lambo","VK-Lambo",IF(D68="TARGET VK-Usch","VK-Usch",IF(D68="TARGET VK-Verd","VK-Verd",FALSE)))))))))))))))) -> VK | D68: TARGET VK | L68: 100
A69: 2 | B69: Mercredi | C69: =IF(MID(D69,4,2)="BM","VK BMW",IF(MID(D69,9,1)="2","VK Crimp 2",IF(MID(D69,1,9)="VK-CrimpA","VK-Crimp",IF(MID(D69,1,9)="VK-CrimpB","VK-Crimp",IF(MID(D69,1,9)="VK-CrimpC","VK-Crimp",IF(MID(D69,4,1)="L","VK-Lambo",IF(MID(D69,4,1)="U","VK-Usch",IF(MID(D69,4,1)="V","VK-Verd",IF(D69="SUM","VK",IF(D69="TARGET VK","VK",IF(D69="TARGET BMW","VK BMW",IF(D69="TARGET VK Crimp 2","VK Crimp 2",IF(D69="TARGET VK-Crimp","VK-Crimp",IF(D69="TARGET VK-Lambo","VK-Lambo",IF(D69="TARGET VK-Usch","VK-Usch",IF(D69="TARGET VK-Verd","VK-Verd",FALSE)))))))))))))))) -> VK BMW | D69: TARGET BMW | L69: 100
A70: 2 | B70: Mercredi | C70: =IF(MID(D70,4,2)="BM","VK BMW",IF(MID(D70,9,1)="2","VK Crimp 2",IF(MID(D70,1,9)="VK-CrimpA","VK-Crimp",IF(MID(D70,1,9)="VK-CrimpB","VK-Crimp",IF(MID(D70,1,9)="VK-CrimpC","VK-Crimp",IF(MID(D70,4,1)="L","VK-Lambo",IF(MID(D70,4,1)="U","VK-Usch",IF(MID(D70,4,1)="V","VK-Verd",IF(D70="SUM","VK",IF(D70="TARGET VK","VK",IF(D70="TARGET BMW","VK BMW",IF(D70="TARGET VK Crimp 2","VK Crimp 2",IF(D70="TARGET VK-Crimp","VK-Crimp",IF(D70="TARGET VK-Lambo","VK-Lambo",IF(D70="TARGET VK-Usch","VK-Usch",IF(D70="TARGET VK-Verd","VK-Verd",FALSE)))))))))))))))) -> VK Crimp 2 | D70: TARGET VK Crimp 2 | L70: 100
A71: 2 | B71: Mercredi | C71: =IF(MID(D71,4,2)="BM","VK BMW",IF(MID(D71,9,1)="2","VK Crimp 2",IF(MID(D71,1,9)="VK-CrimpA","VK-Crimp",IF(MID(D71,1,9)="VK-CrimpB","VK-Crimp",IF(MID(D71,1,9)="VK-CrimpC","VK-Crimp",IF(MID(D71,4,1)="L","VK-Lambo",IF(MID(D71,4,1)="U","VK-Usch",IF(MID(D71,4,1)="V","VK-Verd",IF(D71="SUM","VK",IF(D71="TARGET VK","VK",IF(D71="TARGET BMW","VK BMW",IF(D71="TARGET VK Crimp 2","VK Crimp 2",IF(D71="TARGET VK-Crimp","VK-Crimp",IF(D71="TARGET VK-Lambo","VK-Lambo",IF(D71="TARGET VK-Usch","VK-Usch",IF(D71="TARGET VK-Verd","VK-Verd",FALSE)))))))))))))))) -> VK-Crimp | D71: TARGET VK-Crimp | L71: 100
A72: 2 | B72: Mercredi | C72: =IF(MID(D72,4,2)="BM","VK BMW",IF(MID(D72,9,1)="2","VK Crimp 2",IF(MID(D72,1,9)="VK-CrimpA","VK-Crimp",IF(MID(D72,1,9)="VK-CrimpB","VK-Crimp",IF(MID(D72,1,9)="VK-CrimpC","VK-Crimp",IF(MID(D72,4,1)="L","VK-Lambo",IF(MID(D72,4,1)="U","VK-Usch",IF(MID(D72,4,1)="V","VK-Verd",IF(D72="SUM","VK",IF(D72="TARGET VK","VK",IF(D72="TARGET BMW","VK BMW",IF(D72="TARGET VK Crimp 2","VK Crimp 2",IF(D72="TARGET VK-Crimp","VK-Crimp",IF(D72="TARGET VK-Lambo","VK-Lambo",IF(D72="TARGET VK-Usch","VK-Usch",IF(D72="TARGET VK-Verd","VK-Verd",FALSE)))))))))))))))) -> VK-Lambo | D72: TARGET VK-Lambo | L72: 100
A73: 2 | B73: Mercredi | C73: =IF(MID(D73,4,2)="BM","VK BMW",IF(MID(D73,9,1)="2","VK Crimp 2",IF(MID(D73,1,9)="VK-CrimpA","VK-Crimp",IF(MID(D73,1,9)="VK-CrimpB","VK-Crimp",IF(MID(D73,1,9)="VK-CrimpC","VK-Crimp",IF(MID(D73,4,1)="L","VK-Lambo",IF(MID(D73,4,1)="U","VK-Usch",IF(MID(D73,4,1)="V","VK-Verd",IF(D73="SUM","VK",IF(D73="TARGET VK","VK",IF(D73="TARGET BMW","VK BMW",IF(D73="TARGET VK Crimp 2","VK Crimp 2",IF(D73="TARGET VK-Crimp","VK-Crimp",IF(D73="TARGET VK-Lambo","VK-Lambo",IF(D73="TARGET VK-Usch","VK-Usch",IF(D73="TARGET VK-Verd","VK-Verd",FALSE)))))))))))))))) -> VK-Usch | D73: TARGET VK-Usch | L73: 100
A74: 2 | B74: Mercredi | C74: =IF(MID(D74,4,2)="BM","VK BMW",IF(MID(D74,9,1)="2","VK Crimp 2",IF(MID(D74,1,9)="VK-CrimpA","VK-Crimp",IF(MID(D74,1,9)="VK-CrimpB","VK-Crimp",IF(MID(D74,1,9)="VK-CrimpC","VK-Crimp",IF(MID(D74,4,1)="L","VK-Lambo",IF(MID(D74,4,1)="U","VK-Usch",IF(MID(D74,4,1)="V","VK-Verd",IF(D74="SUM","VK",IF(D74="TARGET VK","VK",IF(D74="TARGET BMW","VK BMW",IF(D74="TARGET VK Crimp 2","VK Crimp 2",IF(D74="TARGET VK-Crimp","VK-Crimp",IF(D74="TARGET VK-Lambo","VK-Lambo",IF(D74="TARGET VK-Usch","VK-Usch",IF(D74="TARGET VK-Verd","VK-Verd",FALSE)))))))))))))))) -> VK-Verd | D74: TARGET VK-Verd | L74: 100
A75: 2 | B75: Jeudi | C75: =IF(MID(D75,4,2)="BM","VK BMW",IF(MID(D75,9,1)="2","VK Crimp 2",IF(MID(D75,1,9)="VK-CrimpA","VK-Crimp",IF(MID(D75,1,9)="VK-CrimpB","VK-Crimp",IF(MID(D75,1,9)="VK-CrimpC","VK-Crimp",IF(MID(D75,4,1)="L","VK-Lambo",IF(MID(D75,4,1)="U","VK-Usch",IF(MID(D75,4,1)="V","VK-Verd",IF(D75="SUM","VK",IF(D75="TARGET VK","VK",IF(D75="TARGET BMW","VK BMW",IF(D75="TARGET VK Crimp 2","VK Crimp 2",IF(D75="TARGET VK-Crimp","VK-Crimp",IF(D75="TARGET VK-Lambo","VK-Lambo",IF(D75="TARGET VK-Usch","VK-Usch",IF(D75="TARGET VK-Verd","VK-Verd",FALSE)))))))))))))))) -> VK BMW | D75: VK-BMW-A | E75: VK-BX8 VK-BX8 | F75: A | G75: 11 | H75: 0 | I75: 3 | J75: 5042,58 | K75: 5115 | L75: 98.58 | M75: 98,58 | N75: 0 | O75: 0 | P75: 0 | Q75: 98,58 | R75: 98,58 | T75: 0 | U75: 0 | V75: 0 | W75: 0 | X75: 0 | Y75: 0 | Z75: 0
A76: 2 | B76: Jeudi | C76: =IF(MID(D76,4,2)="BM","VK BMW",IF(MID(D76,9,1)="2","VK Crimp 2",IF(MID(D76,1,9)="VK-CrimpA","VK-Crimp",IF(MID(D76,1,9)="VK-CrimpB","VK-Crimp",IF(MID(D76,1,9)="VK-CrimpC","VK-Crimp",IF(MID(D76,4,1)="L","VK-Lambo",IF(MID(D76,4,1)="U","VK-Usch",IF(MID(D76,4,1)="V","VK-Verd",IF(D76="SUM","VK",IF(D76="TARGET VK","VK",IF(D76="TARGET BMW","VK BMW",IF(D76="TARGET VK Crimp 2","VK Crimp 2",IF(D76="TARGET VK-Crimp","VK-Crimp",IF(D76="TARGET VK-Lambo","VK-Lambo",IF(D76="TARGET VK-Usch","VK-Usch",IF(D76="TARGET VK-Verd","VK-Verd",FALSE)))))))))))))))) -> VK BMW | D76: VK-BMW-B | E76: VK-BX8 VK-BX8 | F76: B | G76: 12,31 | H76: 0 | I76: 1,69 | J76: 6620,56 | K76: 5725 | L76: 115.64 | M76: 115,64 | N76: 0 | O76: 0 | P76: 0 | Q76: 115,64 | R76: 115,64 | T76: 0 | U76: 0 | V76: 0 | W76: 0 | X76: 0 | Y76: 0 | Z76: 0
A77: 2 | B77: Jeudi | C77: =IF(MID(D77,4,2)="BM","VK BMW",IF(MID(D77,9,1)="2","VK Crimp 2",IF(MID(D77,1,9)="VK-CrimpA","VK-Crimp",IF(MID(D77,1,9)="VK-CrimpB","VK-Crimp",IF(MID(D77,1,9)="VK-CrimpC","VK-Crimp",IF(MID(D77,4,1)="L","VK-Lambo",IF(MID(D77,4,1)="U","VK-Usch",IF(MID(D77,4,1)="V","VK-Verd",IF(D77="SUM","VK",IF(D77="TARGET VK","VK",IF(D77="TARGET BMW","VK BMW",IF(D77="TARGET VK Crimp 2","VK Crimp 2",IF(D77="TARGET VK-Crimp","VK-Crimp",IF(D77="TARGET VK-Lambo","VK-Lambo",IF(D77="TARGET VK-Usch","VK-Usch",IF(D77="TARGET VK-Verd","VK-Verd",FALSE)))))))))))))))) -> VK BMW | D77: VK-BMW-C | E77: VK-BX8 VK-BX8 | F77: C | G77: 15 | H77: 0 | I77: 8 | J77: 7755,96 | K77: 6975 | L77: 111.2 | M77: 111,2 | N77: 0 | O77: 0 | P77: 0 | Q77: 111,2 | R77: 111,2 | T77: 0 | U77: 0 | V77: 0 | W77: 0 | X77: 0 | Y77: 0 | Z77: 0
A78: 2 | B78: Jeudi | C78: =IF(MID(D78,4,2)="BM","VK BMW",IF(MID(D78,9,1)="2","VK Crimp 2",IF(MID(D78,1,9)="VK-CrimpA","VK-Crimp",IF(MID(D78,1,9)="VK-CrimpB","VK-Crimp",IF(MID(D78,1,9)="VK-CrimpC","VK-Crimp",IF(MID(D78,4,1)="L","VK-Lambo",IF(MID(D78,4,1)="U","VK-Usch",IF(MID(D78,4,1)="V","VK-Verd",IF(D78="SUM","VK",IF(D78="TARGET VK","VK",IF(D78="TARGET BMW","VK BMW",IF(D78="TARGET VK Crimp 2","VK Crimp 2",IF(D78="TARGET VK-Crimp","VK-Crimp",IF(D78="TARGET VK-Lambo","VK-Lambo",IF(D78="TARGET VK-Usch","VK-Usch",IF(D78="TARGET VK-Verd","VK-Verd",FALSE)))))))))))))))) -> VK Crimp 2 | D78: VK-Crimp2A | E78: VK-Crimp2 VK-Crimp 2 shifts | F78: A | G78: 2,31 | H78: 0 | I78: 9,69 | J78: 578 | K78: 1075 | L78: 53.77 | M78: 53,77 | N78: 0 | O78: 0 | P78: 0 | Q78: 53,77 | R78: 53,77 | T78: 0 | U78: 0 | V78: 0 | W78: 0 | X78: 0 | Y78: 0 | Z78: 0
A79: 2 | B79: Jeudi | C79: =IF(MID(D79,4,2)="BM","VK BMW",IF(MID(D79,9,1)="2","VK Crimp 2",IF(MID(D79,1,9)="VK-CrimpA","VK-Crimp",IF(MID(D79,1,9)="VK-CrimpB","VK-Crimp",IF(MID(D79,1,9)="VK-CrimpC","VK-Crimp",IF(MID(D79,4,1)="L","VK-Lambo",IF(MID(D79,4,1)="U","VK-Usch",IF(MID(D79,4,1)="V","VK-Verd",IF(D79="SUM","VK",IF(D79="TARGET VK","VK",IF(D79="TARGET BMW","VK BMW",IF(D79="TARGET VK Crimp 2","VK Crimp 2",IF(D79="TARGET VK-Crimp","VK-Crimp",IF(D79="TARGET VK-Lambo","VK-Lambo",IF(D79="TARGET VK-Usch","VK-Usch",IF(D79="TARGET VK-Verd","VK-Verd",FALSE)))))))))))))))) -> VK-Crimp | D79: VK-CrimpA | E79: VK-Crimp VK-Crimp | F79: A | G79: 22,25 | H79: 0 | I79: 1,13 | J79: 10175,65 | K79: 10346 | L79: 98.35 | M79: 98,35 | N79: 0 | O79: 0 | P79: 0 | Q79: 98,35 | R79: 98,35 | T79: 0 | U79: 0 | V79: 0 | W79: 0 | X79: 0 | Y79: 0 | Z79: 0
A80: 2 | B80: Jeudi | C80: =IF(MID(D80,4,2)="BM","VK BMW",IF(MID(D80,9,1)="2","VK Crimp 2",IF(MID(D80,1,9)="VK-CrimpA","VK-Crimp",IF(MID(D80,1,9)="VK-CrimpB","VK-Crimp",IF(MID(D80,1,9)="VK-CrimpC","VK-Crimp",IF(MID(D80,4,1)="L","VK-Lambo",IF(MID(D80,4,1)="U","VK-Usch",IF(MID(D80,4,1)="V","VK-Verd",IF(D80="SUM","VK",IF(D80="TARGET VK","VK",IF(D80="TARGET BMW","VK BMW",IF(D80="TARGET VK Crimp 2","VK Crimp 2",IF(D80="TARGET VK-Crimp","VK-Crimp",IF(D80="TARGET VK-Lambo","VK-Lambo",IF(D80="TARGET VK-Usch","VK-Usch",IF(D80="TARGET VK-Verd","VK-Verd",FALSE)))))))))))))))) -> VK-Crimp | D80: VK-CrimpB | E80: VK-Crimp VK-Crimp | F80: B | G80: 10 | H80: 0 | I80: 7 | J80: 5052,7 | K80: 4650 | L80: 108.66 | M80: 108,66 | N80: 0 | O80: 0 | P80: 0 | Q80: 108,66 | R80: 108,66 | T80: 0 | U80: 0 | V80: 0 | W80: 0 | X80: 0 | Y80: 0 | Z80: 0
A81: 2 | B81: Jeudi | C81: =IF(MID(D81,4,2)="BM","VK BMW",IF(MID(D81,9,1)="2","VK Crimp 2",IF(MID(D81,1,9)="VK-CrimpA","VK-Crimp",IF(MID(D81,1,9)="VK-CrimpB","VK-Crimp",IF(MID(D81,1,9)="VK-CrimpC","VK-Crimp",IF(MID(D81,4,1)="L","VK-Lambo",IF(MID(D81,4,1)="U","VK-Usch",IF(MID(D81,4,1)="V","VK-Verd",IF(D81="SUM","VK",IF(D81="TARGET VK","VK",IF(D81="TARGET BMW","VK BMW",IF(D81="TARGET VK Crimp 2","VK Crimp 2",IF(D81="TARGET VK-Crimp","VK-Crimp",IF(D81="TARGET VK-Lambo","VK-Lambo",IF(D81="TARGET VK-Usch","VK-Usch",IF(D81="TARGET VK-Verd","VK-Verd",FALSE)))))))))))))))) -> VK-Crimp | D81: VK-CrimpC | E81: VK-Crimp VK-Crimp | F81: C | G81: 19 | H81: 0 | I81: 1 | J81: 8363,89 | K81: 8835 | L81: 94.67 | M81: 94,67 | N81: 0 | O81: 0 | P81: 0 | Q81: 94,67 | R81: 94,67 | T81: 0 | U81: 0 | V81: 0 | W81: 0 | X81: 0 | Y81: 0 | Z81: 0
A82: 2 | B82: Jeudi | C82: =IF(MID(D82,4,2)="BM","VK BMW",IF(MID(D82,9,1)="2","VK Crimp 2",IF(MID(D82,1,9)="VK-CrimpA","VK-Crimp",IF(MID(D82,1,9)="VK-CrimpB","VK-Crimp",IF(MID(D82,1,9)="VK-CrimpC","VK-Crimp",IF(MID(D82,4,1)="L","VK-Lambo",IF(MID(D82,4,1)="U","VK-Usch",IF(MID(D82,4,1)="V","VK-Verd",IF(D82="SUM","VK",IF(D82="TARGET VK","VK",IF(D82="TARGET BMW","VK BMW",IF(D82="TARGET VK Crimp 2","VK Crimp 2",IF(D82="TARGET VK-Crimp","VK-Crimp",IF(D82="TARGET VK-Lambo","VK-Lambo",IF(D82="TARGET VK-Usch","VK-Usch",IF(D82="TARGET VK-Verd","VK-Verd",FALSE)))))))))))))))) -> VK-Lambo | D82: VK-LamboA | E82: VK-Lambo VK-Lambo | F82: A | G82: 4 | H82: 1 | I82: 6 | J82: 1910,835 | K82: 1860 | L82: 102.73 | M82: 102,73 | N82: 0 | O82: 0 | P82: 0 | Q82: 102,73 | R82: 102,73 | T82: 0 | U82: 0 | V82: 0 | W82: 0 | X82: 0 | Y82: 0 | Z82: 0
A83: 2 | B83: Jeudi | C83: =IF(MID(D83,4,2)="BM","VK BMW",IF(MID(D83,9,1)="2","VK Crimp 2",IF(MID(D83,1,9)="VK-CrimpA","VK-Crimp",IF(MID(D83,1,9)="VK-CrimpB","VK-Crimp",IF(MID(D83,1,9)="VK-CrimpC","VK-Crimp",IF(MID(D83,4,1)="L","VK-Lambo",IF(MID(D83,4,1)="U","VK-Usch",IF(MID(D83,4,1)="V","VK-Verd",IF(D83="SUM","VK",IF(D83="TARGET VK","VK",IF(D83="TARGET BMW","VK BMW",IF(D83="TARGET VK Crimp 2","VK Crimp 2",IF(D83="TARGET VK-Crimp","VK-Crimp",IF(D83="TARGET VK-Lambo","VK-Lambo",IF(D83="TARGET VK-Usch","VK-Usch",IF(D83="TARGET VK-Verd","VK-Verd",FALSE)))))))))))))))) -> VK-Lambo | D83: VK-LamboB | E83: VK-Lambo VK-Lambo | F83: B | G83: 5,37 | H83: 1 | I83: 6,63 | J83: 2064,22 | K83: 2499 | L83: 82.6 | M83: 82,6 | N83: 0 | O83: 0 | P83: 0 | Q83: 82,6 | R83: 82,6 | T83: 0 | U83: 0 | V83: 0 | W83: 0 | X83: 0 | Y83: 0 | Z83: 0
A84: 2 | B84: Jeudi | C84: =IF(MID(D84,4,2)="BM","VK BMW",IF(MID(D84,9,1)="2","VK Crimp 2",IF(MID(D84,1,9)="VK-CrimpA","VK-Crimp",IF(MID(D84,1,9)="VK-CrimpB","VK-Crimp",IF(MID(D84,1,9)="VK-CrimpC","VK-Crimp",IF(MID(D84,4,1)="L","VK-Lambo",IF(MID(D84,4,1)="U","VK-Usch",IF(MID(D84,4,1)="V","VK-Verd",IF(D84="SUM","VK",IF(D84="TARGET VK","VK",IF(D84="TARGET BMW","VK BMW",IF(D84="TARGET VK Crimp 2","VK Crimp 2",IF(D84="TARGET VK-Crimp","VK-Crimp",IF(D84="TARGET VK-Lambo","VK-Lambo",IF(D84="TARGET VK-Usch","VK-Usch",IF(D84="TARGET VK-Verd","VK-Verd",FALSE)))))))))))))))) -> VK-Usch | D84: VK-UschA | E84: VK-Usch VK-Uschall | F84: A | G84: 20 | H84: 1 | I84: 15 | J84: 9842,14 | K84: 9300 | L84: 105.83 | M84: 105,83 | N84: 0 | O84: 300 | P84: 0 | Q84: 105,83 | R84: 105,83 | T84: 0 | U84: 0 | V84: 0 | W84: 0 | X84: 0 | Y84: 0 | Z84: 0
A85: 2 | B85: Jeudi | C85: =IF(MID(D85,4,2)="BM","VK BMW",IF(MID(D85,9,1)="2","VK Crimp 2",IF(MID(D85,1,9)="VK-CrimpA","VK-Crimp",IF(MID(D85,1,9)="VK-CrimpB","VK-Crimp",IF(MID(D85,1,9)="VK-CrimpC","VK-Crimp",IF(MID(D85,4,1)="L","VK-Lambo",IF(MID(D85,4,1)="U","VK-Usch",IF(MID(D85,4,1)="V","VK-Verd",IF(D85="SUM","VK",IF(D85="TARGET VK","VK",IF(D85="TARGET BMW","VK BMW",IF(D85="TARGET VK Crimp 2","VK Crimp 2",IF(D85="TARGET VK-Crimp","VK-Crimp",IF(D85="TARGET VK-Lambo","VK-Lambo",IF(D85="TARGET VK-Usch","VK-Usch",IF(D85="TARGET VK-Verd","VK-Verd",FALSE)))))))))))))))) -> VK-Usch | D85: VK-UschB | E85: VK-Usch VK-Uschall | F85: B | G85: 16 | H85: 0 | I85: 14 | J85: 8277,93 | K85: 7440 | L85: 111.26 | M85: 111,26 | N85: 0 | O85: 0 | P85: 0 | Q85: 111,26 | R85: 111,26 | T85: 0 | U85: 0 | V85: 0 | W85: 0 | X85: 0 | Y85: 0 | Z85: 0
A86: 2 | B86: Jeudi | C86: =IF(MID(D86,4,2)="BM","VK BMW",IF(MID(D86,9,1)="2","VK Crimp 2",IF(MID(D86,1,9)="VK-CrimpA","VK-Crimp",IF(MID(D86,1,9)="VK-CrimpB","VK-Crimp",IF(MID(D86,1,9)="VK-CrimpC","VK-Crimp",IF(MID(D86,4,1)="L","VK-Lambo",IF(MID(D86,4,1)="U","VK-Usch",IF(MID(D86,4,1)="V","VK-Verd",IF(D86="SUM","VK",IF(D86="TARGET VK","VK",IF(D86="TARGET BMW","VK BMW",IF(D86="TARGET VK Crimp 2","VK Crimp 2",IF(D86="TARGET VK-Crimp","VK-Crimp",IF(D86="TARGET VK-Lambo","VK-Lambo",IF(D86="TARGET VK-Usch","VK-Usch",IF(D86="TARGET VK-Verd","VK-Verd",FALSE)))))))))))))))) -> VK-Usch | D86: VK-UschC | E86: VK-Usch VK-Uschall | F86: C | G86: 15 | H86: 0 | I86: 10 | J86: 6064,06 | K86: 6975 | L86: 86.94 | M86: 86,94 | N86: 0 | O86: 0 | P86: 0 | Q86: 86,94 | R86: 86,94 | T86: 0 | U86: 0 | V86: 0 | W86: 0 | X86: 0 | Y86: 0 | Z86: 0
... A89: 2 | B89: Jeudi | C89: =IF(MID(D89,4,2)="BM","VK BMW",IF(MID(D89,9,1)="2","VK Crimp 2",IF(MID(D89,1,9)="VK-CrimpA","VK-Crimp",IF(MID(D89,1,9)="VK-CrimpB","VK-Crimp",IF(MID(D89,1,9)="VK-CrimpC","VK-Crimp",IF(MID(D89,4,1)="L","VK-Lambo",IF(MID(D89,4,1)="U","VK-Usch",IF(MID(D89,4,1)="V","VK-Verd",IF(D89="SUM","VK",IF(D89="TARGET VK","VK",IF(D89="TARGET BMW","VK BMW",IF(D89="TARGET VK Crimp 2","VK Crimp 2",IF(D89="TARGET VK-Crimp","VK-Crimp",IF(D89="TARGET VK-Lambo","VK-Lambo",IF(D89="TARGET VK-Usch","VK-Usch",IF(D89="TARGET VK-Verd","VK-Verd",FALSE)))))))))))))))) -> VK-Verd | D89: VK-VerdC | E89: VK-Verd VK- Verdrillen | F89: C | G89: 9 | H89: 0 | I89: 10 | J89: 4377,233 | K89: 4185 | L89: 104.59 | M89: 104,59 | N89: 0 | O89: 0 | P89: 0 | Q89: 104,59 | R89: 104,59 | T89: 0 | U89: 0 | V89: 0 | W89: 0 | X89: 0 | Y89: 0 | Z89: 0
A90: 2 | B90: Jeudi | C90: =IF(MID(D90,4,2)="BM","VK BMW",IF(MID(D90,9,1)="2","VK Crimp 2",IF(MID(D90,1,9)="VK-CrimpA","VK-Crimp",IF(MID(D90,1,9)="VK-CrimpB","VK-Crimp",IF(MID(D90,1,9)="VK-CrimpC","VK-Crimp",IF(MID(D90,4,1)="L","VK-Lambo",IF(MID(D90,4,1)="U","VK-Usch",IF(MID(D90,4,1)="V","VK-Verd",IF(D90="SUM","VK",IF(D90="TARGET VK","VK",IF(D90="TARGET BMW","VK BMW",IF(D90="TARGET VK Crimp 2","VK Crimp 2",IF(D90="TARGET VK-Crimp","VK-Crimp",IF(D90="TARGET VK-Lambo","VK-Lambo",IF(D90="TARGET VK-Usch","VK-Usch",IF(D90="TARGET VK-Verd","VK-Verd",FALSE)))))))))))))))) -> VK | D90: SUM | G90: 178,25 | H90: 3 | I90: 104,13 | J90: 83702,56 | K90: 82885 | L90: 100.99 | M90: 100,99 | N90: 0 | O90: 600 | P90: 0 | Q90: 100,99 | R90: 100,99 | T90: 0 | U90: 0 | V90: 0 | W90: 0 | X90: 0 | Y90: 0 | Z90: 0
A91: 2 | B91: Jeudi | C91: =IF(MID(D91,4,2)="BM","VK BMW",IF(MID(D91,9,1)="2","VK Crimp 2",IF(MID(D91,1,9)="VK-CrimpA","VK-Crimp",IF(MID(D91,1,9)="VK-CrimpB","VK-Crimp",IF(MID(D91,1,9)="VK-CrimpC","VK-Crimp",IF(MID(D91,4,1)="L","VK-Lambo",IF(MID(D91,4,1)="U","VK-Usch",IF(MID(D91,4,1)="V","VK-Verd",IF(D91="SUM","VK",IF(D91="TARGET VK","VK",IF(D91="TARGET BMW","VK BMW",IF(D91="TARGET VK Crimp 2","VK Crimp 2",IF(D91="TARGET VK-Crimp","VK-Crimp",IF(D91="TARGET VK-Lambo","VK-Lambo",IF(D91="TARGET VK-Usch","VK-Usch",IF(D91="TARGET VK-Verd","VK-Verd",FALSE)))))))))))))))) -> FALSE | D91: AVG | G91: 11,88 | H91: 0,2 | I91: 6,94
A92: 2 | B92: Jeudi | C92: =IF(MID(D92,4,2)="BM","VK BMW",IF(MID(D92,9,1)="2","VK Crimp 2",IF(MID(D92,1,9)="VK-CrimpA","VK-Crimp",IF(MID(D92,1,9)="VK-CrimpB","VK-Crimp",IF(MID(D92,1,9)="VK-CrimpC","VK-Crimp",IF(MID(D92,4,1)="L","VK-Lambo",IF(MID(D92,4,1)="U","VK-Usch",IF(MID(D92,4,1)="V","VK-Verd",IF(D92="SUM","VK",IF(D92="TARGET VK","VK",IF(D92="TARGET BMW","VK BMW",IF(D92="TARGET VK Crimp 2","VK Crimp 2",IF(D92="TARGET VK-Crimp","VK-Crimp",IF(D92="TARGET VK-Lambo","VK-Lambo",IF(D92="TARGET VK-Usch","VK-Usch",IF(D92="TARGET VK-Verd","VK-Verd",FALSE)))))))))))))))) -> VK | D92: TARGET VK | L92: 100
A93: 2 | B93: Jeudi | C93: =IF(MID(D93,4,2)="BM","VK BMW",IF(MID(D93,9,1)="2","VK Crimp 2",IF(MID(D93,1,9)="VK-CrimpA","VK-Crimp",IF(MID(D93,1,9)="VK-CrimpB","VK-Crimp",IF(MID(D93,1,9)="VK-CrimpC","VK-Crimp",IF(MID(D93,4,1)="L","VK-Lambo",IF(MID(D93,4,1)="U","VK-Usch",IF(MID(D93,4,1)="V","VK-Verd",IF(D93="SUM","VK",IF(D93="TARGET VK","VK",IF(D93="TARGET BMW","VK BMW",IF(D93="TARGET VK Crimp 2","VK Crimp 2",IF(D93="TARGET VK-Crimp","VK-Crimp",IF(D93="TARGET VK-Lambo","VK-Lambo",IF(D93="TARGET VK-Usch","VK-Usch",IF(D93="TARGET VK-Verd","VK-Verd",FALSE)))))))))))))))) -> VK BMW | D93: TARGET BMW | L93: 100
A94: 2 | B94: Jeudi | C94: =IF(MID(D94,4,2)="BM","VK BMW",IF(MID(D94,9,1)="2","VK Crimp 2",IF(MID(D94,1,9)="VK-CrimpA","VK-Crimp",IF(MID(D94,1,9)="VK-CrimpB","VK-Crimp",IF(MID(D94,1,9)="VK-CrimpC","VK-Crimp",IF(MID(D94,4,1)="L","VK-Lambo",IF(MID(D94,4,1)="U","VK-Usch",IF(MID(D94,4,1)="V","VK-Verd",IF(D94="SUM","VK",IF(D94="TARGET VK","VK",IF(D94="TARGET BMW","VK BMW",IF(D94="TARGET VK Crimp 2","VK Crimp 2",IF(D94="TARGET VK-Crimp","VK-Crimp",IF(D94="TARGET VK-Lambo","VK-Lambo",IF(D94="TARGET VK-Usch","VK-Usch",IF(D94="TARGET VK-Verd","VK-Verd",FALSE)))))))))))))))) -> VK Crimp 2 | D94: TARGET VK Crimp 2 | L94: 100
A95: 2 | B95: Jeudi | C95: =IF(MID(D95,4,2)="BM","VK BMW",IF(MID(D95,9,1)="2","VK Crimp 2",IF(MID(D95,1,9)="VK-CrimpA","VK-Crimp",IF(MID(D95,1,9)="VK-CrimpB","VK-Crimp",IF(MID(D95,1,9)="VK-CrimpC","VK-Crimp",IF(MID(D95,4,1)="L","VK-Lambo",IF(MID(D95,4,1)="U","VK-Usch",IF(MID(D95,4,1)="V","VK-Verd",IF(D95="SUM","VK",IF(D95="TARGET VK","VK",IF(D95="TARGET BMW","VK BMW",IF(D95="TARGET VK Crimp 2","VK Crimp 2",IF(D95="TARGET VK-Crimp","VK-Crimp",IF(D95="TARGET VK-Lambo","VK-Lambo",IF(D95="TARGET VK-Usch","VK-Usch",IF(D95="TARGET VK-Verd","VK-Verd",FALSE)))))))))))))))) -> VK-Crimp | D95: TARGET VK-Crimp | L95: 100
A96: 2 | B96: Jeudi | C96: =IF(MID(D96,4,2)="BM","VK BMW",IF(MID(D96,9,1)="2","VK Crimp 2",IF(MID(D96,1,9)="VK-CrimpA","VK-Crimp",IF(MID(D96,1,9)="VK-CrimpB","VK-Crimp",IF(MID(D96,1,9)="VK-CrimpC","VK-Crimp",IF(MID(D96,4,1)="L","VK-Lambo",IF(MID(D96,4,1)="U","VK-Usch",IF(MID(D96,4,1)="V","VK-Verd",IF(D96="SUM","VK",IF(D96="TARGET VK","VK",IF(D96="TARGET BMW","VK BMW",IF(D96="TARGET VK Crimp 2","VK Crimp 2",IF(D96="TARGET VK-Crimp","VK-Crimp",IF(D96="TARGET VK-Lambo","VK-Lambo",IF(D96="TARGET VK-Usch","VK-Usch",IF(D96="TARGET VK-Verd","VK-Verd",FALSE)))))))))))))))) -> VK-Lambo | D96: TARGET VK-Lambo | L96: 100
A97: 2 | B97: Jeudi | C97: =IF(MID(D97,4,2)="BM","VK BMW",IF(MID(D97,9,1)="2","VK Crimp 2",IF(MID(D97,1,9)="VK-CrimpA","VK-Crimp",IF(MID(D97,1,9)="VK-CrimpB","VK-Crimp",IF(MID(D97,1,9)="VK-CrimpC","VK-Crimp",IF(MID(D97,4,1)="L","VK-Lambo",IF(MID(D97,4,1)="U","VK-Usch",IF(MID(D97,4,1)="V","VK-Verd",IF(D97="SUM","VK",IF(D97="TARGET VK","VK",IF(D97="TARGET BMW","VK BMW",IF(D97="TARGET VK Crimp 2","VK Crimp 2",IF(D97="TARGET VK-Crimp","VK-Crimp",IF(D97="TARGET VK-Lambo","VK-Lambo",IF(D97="TARGET VK-Usch","VK-Usch",IF(D97="TARGET VK-Verd","VK-Verd",FALSE)))))))))))))))) -> VK-Usch | D97: TARGET VK-Usch | L97: 100
A98: 2 | B98: Jeudi | C98: =IF(MID(D98,4,2)="BM","VK BMW",IF(MID(D98,9,1)="2","VK Crimp 2",IF(MID(D98,1,9)="VK-CrimpA","VK-Crimp",IF(MID(D98,1,9)="VK-CrimpB","VK-Crimp",IF(MID(D98,1,9)="VK-CrimpC","VK-Crimp",IF(MID(D98,4,1)="L","VK-Lambo",IF(MID(D98,4,1)="U","VK-Usch",IF(MID(D98,4,1)="V","VK-Verd",IF(D98="SUM","VK",IF(D98="TARGET VK","VK",IF(D98="TARGET BMW","VK BMW",IF(D98="TARGET VK Crimp 2","VK Crimp 2",IF(D98="TARGET VK-Crimp","VK-Crimp",IF(D98="TARGET VK-Lambo","VK-Lambo",IF(D98="TARGET VK-Usch","VK-Usch",IF(D98="TARGET VK-Verd","VK-Verd",FALSE)))))))))))))))) -> VK-Verd | D98: TARGET VK-Verd | L98: 100
A99: 2 | B99: Vendredi | C99: =IF(MID(D99,4,2)="BM","VK BMW",IF(MID(D99,9,1)="2","VK Crimp 2",IF(MID(D99,1,9)="VK-CrimpA","VK-Crimp",IF(MID(D99,1,9)="VK-CrimpB","VK-Crimp",IF(MID(D99,1,9)="VK-CrimpC","VK-Crimp",IF(MID(D99,4,1)="L","VK-Lambo",IF(MID(D99,4,1)="U","VK-Usch",IF(MID(D99,4,1)="V","VK-Verd",IF(D99="SUM","VK",IF(D99="TARGET VK","VK",IF(D99="TARGET BMW","VK BMW",IF(D99="TARGET VK Crimp 2","VK Crimp 2",IF(D99="TARGET VK-Crimp","VK-Crimp",IF(D99="TARGET VK-Lambo","VK-Lambo",IF(D99="TARGET VK-Usch","VK-Usch",IF(D99="TARGET VK-Verd","VK-Verd",FALSE)))))))))))))))) -> VK BMW | D99: VK-BMW-A | E99: VK-BX8 VK-BX8 | F99: A | G99: 13 | H99: 0 | I99: 4 | J99: 5964,215 | K99: 6045 | L99: 98.66 | M99: 98,66 | N99: 0 | O99: 0 | P99: 0 | Q99: 98,66 | R99: 98,66 | T99: 0 | U99: 0 | V99: 0 | W99: 0 | X99: 0 | Y99: 0 | Z99: 0
A100: 2 | B100: Vendredi | C100: =IF(MID(D100,4,2)="BM","VK BMW",IF(MID(D100,9,1)="2","VK Crimp 2",IF(MID(D100,1,9)="VK-CrimpA","VK-Crimp",IF(MID(D100,1,9)="VK-CrimpB","VK-Crimp",IF(MID(D100,1,9)="VK-CrimpC","VK-Crimp",IF(MID(D100,4,1)="L","VK-Lambo",IF(MID(D100,4,1)="U","VK-Usch",IF(MID(D100,4,1)="V","VK-Verd",IF(D100="SUM","VK",IF(D100="TARGET VK","VK",IF(D100="TARGET BMW","VK BMW",IF(D100="TARGET VK Crimp 2","VK Crimp 2",IF(D100="TARGET VK-Crimp","VK-Crimp",IF(D100="TARGET VK-Lambo","VK-Lambo",IF(D100="TARGET VK-Usch","VK-Usch",IF(D100="TARGET VK-Verd","VK-Verd",FALSE)))))))))))))))) -> VK BMW | D100: VK-BMW-B | E100: VK-BX8 VK-BX8 | F100: B | G100: 9 | H100: 0 | I100: 5 | J100: 4174,75 | K100: 4185 | L100: 99.76 | M100: 99,76 | N100: 0 | O100: 0 | P100: 0 | Q100: 99,76 | R100: 99,76 | T100: 0 | U100: 0 | V100: 0 | W100: 0 | X100: 0 | Y100: 0 | Z100: 0
A101: 2 | B101: Vendredi | C101: =IF(MID(D101,4,2)="BM","VK BMW",IF(MID(D101,9,1)="2","VK Crimp 2",IF(MID(D101,1,9)="VK-CrimpA","VK-Crimp",IF(MID(D101,1,9)="VK-CrimpB","VK-Crimp",IF(MID(D101,1,9)="VK-CrimpC","VK-Crimp",IF(MID(D101,4,1)="L","VK-Lambo",IF(MID(D101,4,1)="U","VK-Usch",IF(MID(D101,4,1)="V","VK-Verd",IF(D101="SUM","VK",IF(D101="TARGET VK","VK",IF(D101="TARGET BMW","VK BMW",IF(D101="TARGET VK Crimp 2","VK Crimp 2",IF(D101="TARGET VK-Crimp","VK-Crimp",IF(D101="TARGET VK-Lambo","VK-Lambo",IF(D101="TARGET VK-Usch","VK-Usch",IF(D101="TARGET VK-Verd","VK-Verd",FALSE)))))))))))))))) -> VK BMW | D101: VK-BMW-C | E101: VK-BX8 VK-BX8 | F101: C | G101: 10 | H101: 0 | I101: 13 | J101: 4907,48 | K101: 4650 | L101: 105.54 | M101: 105,54 | N101: 0 | O101: 0 | P101: 0 | Q101: 105,54 | R101: 105,54 | T101: 0 | U101: 0 | V101: 0 | W101: 0 | X101: 0 | Y101: 0 | Z101: 0
A102: 2 | B102: Vendredi | C102: =IF(MID(D102,4,2)="BM","VK BMW",IF(MID(D102,9,1)="2","VK Crimp 2",IF(MID(D102,1,9)="VK-CrimpA","VK-Crimp",IF(MID(D102,1,9)="VK-CrimpB","VK-Crimp",IF(MID(D102,1,9)="VK-CrimpC","VK-Crimp",IF(MID(D102,4,1)="L","VK-Lambo",IF(MID(D102,4,1)="U","VK-Usch",IF(MID(D102,4,1)="V","VK-Verd",IF(D102="SUM","VK",IF(D102="TARGET VK","VK",IF(D102="TARGET BMW","VK BMW",IF(D102="TARGET VK Crimp 2","VK Crimp 2",IF(D102="TARGET VK-Crimp","VK-Crimp",IF(D102="TARGET VK-Lambo","VK-Lambo",IF(D102="TARGET VK-Usch","VK-Usch",IF(D102="TARGET VK-Verd","VK-Verd",FALSE)))))))))))))))) -> VK-Crimp | D102: VK-CrimpA | E102: VK-Crimp VK-Crimp | F102: A | G102: 22 | H102: 0 | I102: 1 | J102: 9336,1 | K102: 10230 | L102: 91.26 | M102: 91,26 | N102: 0 | O102: 0 | P102: 0 | Q102: 91,26 | R102: 91,26 | T102: 0 | U102: 0 | V102: 0 | W102: 0 | X102: 0 | Y102: 0 | Z102: 0
A103: 2 | B103: Vendredi | C103: =IF(MID(D103,4,2)="BM","VK BMW",IF(MID(D103,9,1)="2","VK Crimp 2",IF(MID(D103,1,9)="VK-CrimpA","VK-Crimp",IF(MID(D103,1,9)="VK-CrimpB","VK-Crimp",IF(MID(D103,1,9)="VK-CrimpC","VK-Crimp",IF(MID(D103,4,1)="L","VK-Lambo",IF(MID(D103,4,1)="U","VK-Usch",IF(MID(D103,4,1)="V","VK-Verd",IF(D103="SUM","VK",IF(D103="TARGET VK","VK",IF(D103="TARGET BMW","VK BMW",IF(D103="TARGET VK Crimp 2","VK Crimp 2",IF(D103="TARGET VK-Crimp","VK-Crimp",IF(D103="TARGET VK-Lambo","VK-Lambo",IF(D103="TARGET VK-Usch","VK-Usch",IF(D103="TARGET VK-Verd","VK-Verd",FALSE)))))))))))))))) -> VK-Crimp | D103: VK-CrimpB | E103: VK-Crimp VK-Crimp | F103: B | G103: 14 | H103: 0 | I103: 4 | J103: 5424,15 | K103: 6510 | L103: 83.32 | M103: 83,32 | N103: 0 | O103: 0 | P103: 0 | Q103: 83,32 | R103: 83,32 | T103: 0 | U103: 0 | V103: 0 | W103: 0 | X103: 0 | Y103: 0 | Z103: 0
A104: 2 | B104: Vendredi | C104: =IF(MID(D104,4,2)="BM","VK BMW",IF(MID(D104,9,1)="2","VK Crimp 2",IF(MID(D104,1,9)="VK-CrimpA","VK-Crimp",IF(MID(D104,1,9)="VK-CrimpB","VK-Crimp",IF(MID(D104,1,9)="VK-CrimpC","VK-Crimp",IF(MID(D104,4,1)="L","VK-Lambo",IF(MID(D104,4,1)="U","VK-Usch",IF(MID(D104,4,1)="V","VK-Verd",IF(D104="SUM","VK",IF(D104="TARGET VK","VK",IF(D104="TARGET BMW","VK BMW",IF(D104="TARGET VK Crimp 2","VK Crimp 2",IF(D104="TARGET VK-Crimp","VK-Crimp",IF(D104="TARGET VK-Lambo","VK-Lambo",IF(D104="TARGET VK-Usch","VK-Usch",IF(D104="TARGET VK-Verd","VK-Verd",FALSE)))))))))))))))) -> VK-Crimp | D104: VK-CrimpC | E104: VK-Crimp VK-Crimp | F104: C | G104: 17 | H104: 0 | I104: 3 | J104: 5882,35 | K104: 7905 | L104: 74.41 | M104: 74,41 | N104: 0 | O104: 0 | P104: 0 | Q104: 74,41 | R104: 74,41 | T104: 0 | U104: 0 | V104: 0 | W104: 0 | X104: 0 | Y104: 0 | Z104: 0
A105: 2 | B105: Vendredi | C105: =IF(MID(D105,4,2)="BM","VK BMW",IF(MID(D105,9,1)="2","VK Crimp 2",IF(MID(D105,1,9)="VK-CrimpA","VK-Crimp",IF(MID(D105,1,9)="VK-CrimpB","VK-Crimp",IF(MID(D105,1,9)="VK-CrimpC","VK-Crimp",IF(MID(D105,4,1)="L","VK-Lambo",IF(MID(D105,4,1)="U","VK-Usch",IF(MID(D105,4,1)="V","VK-Verd",IF(D105="SUM","VK",IF(D105="TARGET VK","VK",IF(D105="TARGET BMW","VK BMW",IF(D105="TARGET VK Crimp 2","VK Crimp 2",IF(D105="TARGET VK-Crimp","VK-Crimp",IF(D105="TARGET VK-Lambo","VK-Lambo",IF(D105="TARGET VK-Usch","VK-Usch",IF(D105="TARGET VK-Verd","VK-Verd",FALSE)))))))))))))))) -> VK-Lambo | D105: VK-LamboA | E105: VK-Lambo VK-Lambo | F105: A | G105: 2,31 | H105: 1 | I105: 7,69 | J105: 817,956 | K105: 1075 | L105: 76.09 | M105: 76,09 | N105: 0 | O105: 0 | P105: 0 | Q105: 76,09 | R105: 76,09 | T105: 0 | U105: 0 | V105: 0 | W105: 0 | X105: 0 | Y105: 0 | Z105: 0
A106: 2 | B106: Vendredi | C106: =IF(MID(D106,4,2)="BM","VK BMW",IF(MID(D106,9,1)="2","VK Crimp 2",IF(MID(D106,1,9)="VK-CrimpA","VK-Crimp",IF(MID(D106,1,9)="VK-CrimpB","VK-Crimp",IF(MID(D106,1,9)="VK-CrimpC","VK-Crimp",IF(MID(D106,4,1)="L","VK-Lambo",IF(MID(D106,4,1)="U","VK-Usch",IF(MID(D106,4,1)="V","VK-Verd",IF(D106="SUM","VK",IF(D106="TARGET VK","VK",IF(D106="TARGET BMW","VK BMW",IF(D106="TARGET VK Crimp 2","VK Crimp 2",IF(D106="TARGET VK-Crimp","VK-Crimp",IF(D106="TARGET VK-Lambo","VK-Lambo",IF(D106="TARGET VK-Usch","VK-Usch",IF(D106="TARGET VK-Verd","VK-Verd",FALSE)))))))))))))))) -> VK-Lambo | D106: VK-LamboB | E106: VK-Lambo VK-Lambo | F106: B | G106: 6 | H106: 1 | I106: 6 | J106: 2641,782 | K106: 2790 | L106: 94.69 | M106: 94,69 | N106: 0 | O106: 0 | P106: 0 | Q106: 94,69 | R106: 94,69 | T106: 0 | U106: 0 | V106: 0 | W106: 0 | X106: 0 | Y106: 0 | Z106: 0
A107: 2 | B107: Vendredi | C107: =IF(MID(D107,4,2)="BM","VK BMW",IF(MID(D107,9,1)="2","VK Crimp 2",IF(MID(D107,1,9)="VK-CrimpA","VK-Crimp",IF(MID(D107,1,9)="VK-CrimpB","VK-Crimp",IF(MID(D107,1,9)="VK-CrimpC","VK-Crimp",IF(MID(D107,4,1)="L","VK-Lambo",IF(MID(D107,4,1)="U","VK-Usch",IF(MID(D107,4,1)="V","VK-Verd",IF(D107="SUM","VK",IF(D107="TARGET VK","VK",IF(D107="TARGET BMW","VK BMW",IF(D107="TARGET VK Crimp 2","VK Crimp 2",IF(D107="TARGET VK-Crimp","VK-Crimp",IF(D107="TARGET VK-Lambo","VK-Lambo",IF(D107="TARGET VK-Usch","VK-Usch",IF(D107="TARGET VK-Verd","VK-Verd",FALSE)))))))))))))))) -> VK-Usch | D107: VK-UschA | E107: VK-Usch VK-Uschall | F107: A | G107: 23 | H107: 1 | I107: 13 | J107: 10170,93 | K107: 10695 | L107: 95.1 | M107: 95,1 | N107: 0 | O107: 300 | P107: 0 | Q107: 95,1 | R107: 95,1 | T107: 0 | U107: 0 | V107: 0 | W107: 0 | X107: 0 | Y107: 0 | Z107: 0
A108: 2 | B108: Vendredi | C108: =IF(MID(D108,4,2)="BM","VK BMW",IF(MID(D108,9,1)="2","VK Crimp 2",IF(MID(D108,1,9)="VK-CrimpA","VK-Crimp",IF(MID(D108,1,9)="VK-CrimpB","VK-Crimp",IF(MID(D108,1,9)="VK-CrimpC","VK-Crimp",IF(MID(D108,4,1)="L","VK-Lambo",IF(MID(D108,4,1)="U","VK-Usch",IF(MID(D108,4,1)="V","VK-Verd",IF(D108="SUM","VK",IF(D108="TARGET VK","VK",IF(D108="TARGET BMW","VK BMW",IF(D108="TARGET VK Crimp 2","VK Crimp 2",IF(D108="TARGET VK-Crimp","VK-Crimp",IF(D108="TARGET VK-Lambo","VK-Lambo",IF(D108="TARGET VK-Usch","VK-Usch",IF(D108="TARGET VK-Verd","VK-Verd",FALSE)))))))))))))))) -> VK-Usch | D108: VK-UschB | E108: VK-Usch VK-Uschall | F108: B | G108: 14 | H108: 0 | I108: 15 | J108: 6876,665 | K108: 6510 | L108: 105.63 | M108: 105,63 | N108: 0 | O108: 0 | P108: 0 | Q108: 105,63 | R108: 105,63 | T108: 0 | U108: 0 | V108: 0 | W108: 0 | X108: 0 | Y108: 0 | Z108: 0
A109: 2 | B109: Vendredi | C109: =IF(MID(D109,4,2)="BM","VK BMW",IF(MID(D109,9,1)="2","VK Crimp 2",IF(MID(D109,1,9)="VK-CrimpA","VK-Crimp",IF(MID(D109,1,9)="VK-CrimpB","VK-Crimp",IF(MID(D109,1,9)="VK-CrimpC","VK-Crimp",IF(MID(D109,4,1)="L","VK-Lambo",IF(MID(D109,4,1)="U","VK-Usch",IF(MID(D109,4,1)="V","VK-Verd",IF(D109="SUM","VK",IF(D109="TARGET VK","VK",IF(D109="TARGET BMW","VK BMW",IF(D109="TARGET VK Crimp 2","VK Crimp 2",IF(D109="TARGET VK-Crimp","VK-Crimp",IF(D109="TARGET VK-Lambo","VK-Lambo",IF(D109="TARGET VK-Usch","VK-Usch",IF(D109="TARGET VK-Verd","VK-Verd",FALSE)))))))))))))))) -> VK-Usch | D109: VK-UschC | E109: VK-Usch VK-Uschall | F109: C | G109: 10 | H109: 0 | I109: 15 | J109: 4498,83 | K109: 4650 | L109: 96.75 | M109: 96,75 | N109: 0 | O109: 0 | P109: 0 | Q109: 96,75 | R109: 96,75 | T109: 0 | U109: 0 | V109: 0 | W109: 0 | X109: 0 | Y109: 0 | Z109: 0
...

Sheet TCD
A3: Étiquettes de lignes | B3: Somme de PP
A4: 2 | B4: 10626.42
A5: Lundi | B5: 2035.72
A6: VK | B6: 186.6
B7: 86.6
A8: (vide) | B8: 100
A9: VK BMW | B9: 287.29
A10: A | B10: 98.37
A11: B | B11: 88.92
A12: (vide) | B12: 100
A13: VK Crimp 2 | B13: 238.45
A14: A | B14: 62.9
A15: B | B15: 75.55
A16: (vide) | B16: 100
A17: VK-Crimp | B17: 342.1
A18: A | B18: 88.06
A19: B | B19: 72.05
... A35: (vide) | B35: 100
A36: FAUX
A38: Mardi | B38: 2086.87
A39: VK | B39: 188.85
B40: 88.85
A41: (vide) | B41: 100
A42: VK BMW | B42: 376.65
A43: A | B43: 81.01
A44: B | B44: 85.71
A45: C | B45: 109.93
A46: (vide) | B46: 100
A47: VK Crimp 2 | B47: 182.02
A48: A | B48: 82.02
A49: (vide) | B49: 100
A50: VK-Crimp | B50: 352.6
A51: A | B51: 91.91
A52: B | B52: 78.69
... A68: (vide) | B68: 100
A69: FAUX
A71: Mercredi | B71: 2173.35
A72: VK | B72: 191.27
B73: 91.27
A74: (vide) | B74: 100
A75: VK BMW | B75: 394.18
A76: A | B76: 87.2
A77: B | B77: 112.44
A78: C | B78: 94.54
A79: (vide) | B79: 100
A80: VK Crimp 2 | B80: 235.94
A81: A | B81: 16.82
A82: B | B82: 119.12
A83: (vide) | B83: 100
A84: VK-Crimp | B84: 373.52
A85: A | B85: 97.56
... A102: (vide) | B102: 100
A103: FAUX
A105: Jeudi | B105: 2266.71
A106: VK | B106: 200.99
B107: 100.99
A108: (vide) | B108: 100
A109: VK BMW | B109: 425.42
A110: A | B110: 98.58
A111: B | B111: 115.64
A112: C | B112: 111.2
A113: (vide) | B113: 100
A114: VK Crimp 2 | B114: 153.77
A115: A | B115: 53.77
A116: (vide) | B116: 100
A117: VK-Crimp | B117: 401.68
A118: A | B118: 98.35
A119: B | B119: 108.66
... A135: (vide) | B135: 100
A136: FAUX
A138: Vendredi | B138: 2063.77
A139: VK | B139: 191.28
B140: 91.28
A141: (vide) | B141: 100
A142: VK BMW | B142: 403.96
A143: A | B143: 98.66
A144: B | B144: 99.76
A145: C | B145: 105.54
A146: (vide) | B146: 100
A147: VK Crimp 2 | B147: 100
A148: (vide) | B148: 100
A149: VK-Crimp | B149: 348.99
A150: A | B150: 91.26
A151: B | B151: 83.32
A152: C | B152: 74.41
... A167: (vide) | B167: 100
A168: FAUX
A170: 3 | B170: 9105.68
A171: Mardi | B171: 2252.49
A172: VK | B172: 195.91
B173: 95.91
A174: (vide) | B174: 100
A175: VK BMW | B175: 392.27
A176: A | B176: 92.64
A177: B | B177: 99.61
A178: C | B178: 100.02
A179: (vide) | B179: 100
A180: VK Crimp 2 | B180: 278.78
A181: A | B181: 96.75
A182: B | B182: 82.03
...

Sheet Résultat
A1: SEMAINE | B1: 6
A3: CLASSE | B3: VK BMW
B5: A | C5: B | D5: C
A6: Lundi | B6: =IFERROR(GETPIVOTDATA("PP",TCD!$A$3,"SEMAINE",$B$1,"JOUR",$A6,"CLASSE",$B$3,"Poste",B$5),"?") -> 102 | C6: =IFERROR(GETPIVOTDATA("PP",TCD!$A$3,"SEMAINE",$B$1,"JOUR",$A6,"CLASSE",$B$3,"Poste",C$5),"?") -> 108.41 | D6: =IFERROR(GETPIVOTDATA("PP",TCD!$A$3,"SEMAINE",$B$1,"JOUR",$A6,"CLASSE",$B$3,"Poste",D$5),"?") -> 93.23
A7: Mardi | B7: =IFERROR(GETPIVOTDATA("PP",TCD!$A$3,"SEMAINE",$B$1,"JOUR",$A7,"CLASSE",$B$3,"Poste",B$5),"?") -> 100.97 | C7: =IFERROR(GETPIVOTDATA("PP",TCD!$A$3,"SEMAINE",$B$1,"JOUR",$A7,"CLASSE",$B$3,"Poste",C$5),"?") -> 111.05 | D7: =IFERROR(GETPIVOTDATA("PP",TCD!$A$3,"SEMAINE",$B$1,"JOUR",$A7,"CLASSE",$B$3,"Poste",D$5),"?") -> 106.79
A8: Mercredi | B8: =IFERROR(GETPIVOTDATA("PP",TCD!$A$3,"SEMAINE",$B$1,"JOUR",$A8,"CLASSE",$B$3,"Poste",B$5),"?") -> 100.43 | C8: =IFERROR(GETPIVOTDATA("PP",TCD!$A$3,"SEMAINE",$B$1,"JOUR",$A8,"CLASSE",$B$3,"Poste",C$5),"?") -> 107.5 | D8: =IFERROR(GETPIVOTDATA("PP",TCD!$A$3,"SEMAINE",$B$1,"JOUR",$A8,"CLASSE",$B$3,"Poste",D$5),"?") -> 108.59
A9: Jeudi | B9: =IFERROR(GETPIVOTDATA("PP",TCD!$A$3,"SEMAINE",$B$1,"JOUR",$A9,"CLASSE",$B$3,"Poste",B$5),"?") -> 105 | C9: =IFERROR(GETPIVOTDATA("PP",TCD!$A$3,"SEMAINE",$B$1,"JOUR",$A9,"CLASSE",$B$3,"Poste",C$5),"?") -> 98.6 | D9: =IFERROR(GETPIVOTDATA("PP",TCD!$A$3,"SEMAINE",$B$1,"JOUR",$A9,"CLASSE",$B$3,"Poste",D$5),"?") -> 114.04
A10: Vendredi | B10: =IFERROR(GETPIVOTDATA("PP",TCD!$A$3,"SEMAINE",$B$1,"JOUR",$A10,"CLASSE",$B$3,"Poste",B$5),"?") -> 104.81 | C10: =IFERROR(GETPIVOTDATA("PP",TCD!$A$3,"SEMAINE",$B$1,"JOUR",$A10,"CLASSE",$B$3,"Poste",C$5),"?") -> 106.68 | D10: =IFERROR(GETPIVOTDATA("PP",TCD!$A$3,"SEMAINE",$B$1,"JOUR",$A10,"CLASSE",$B$3,"Poste",D$5),"?") -> 104.89

Sheet DASHBOARD
A1: SEMAINE | B1: 6
A2: CLASSE | B2: VK
A4: Moyenne de PP | B4: Étiquettes de colonnes
A5: Étiquettes de lignes | B5: SUM | C5: TARGET VK | D5: Total général
A6: Lundi | B6: 90.52 | C6: 100 | D6: 95.26
A7: Mardi | B7: 96.88 | C7: 100 | D7: 98.44
A8: Mercredi | B8: 101.07 | C8: 100 | D8: 100.535
A9: Jeudi | B9: 100.83 | C9: 100 | D9: 100.415
A10: Vendredi | B10: 95.13 | C10: 100 | D10: 97.565
A11: Total général | B11: 96.886 | C11: 100 | D11: 98.443
