Workbook

Sheet tableau
A1: Annee | B1: Mois | C1: Jour | D1: Heure | E1: Minute | F1: Seconde | G1: Date | H1: Temps | I1: Date_nuit | J1: X | K1: Y | L1: Heure coucher | M1: temps écoulé après coucher | N1: Heure lever | O1: temps avant lever | P1: temps critère lever en fonction de l'heure de coucher | Q1: O>=P
A2: 2017 | B2: 8 | C2: 9 | D2: 20 | E2: 2 | F2: 04 | G2: 42956 | H2: 0.83476852 | I2: 42956 | J2: 5.71 | K2: 13.73 | L2: 0.80555556 | M2: =MOD(Tableau1[[#This Row],[Temps]]-Tableau1[[#This Row],[Heure coucher]],1) -> 0.029212963 | N2: 0.20208333 | O2: =1-Tableau1[[#This Row],[Temps]]+Tableau1[[#This Row],[Heure lever]] -> 0.36731481 | P2: =1-Tableau1[[#This Row],[Heure coucher]]+Tableau1[[#This Row],[Heure lever]]-VLOOKUP(CHOOSE(Tableau1[[#This Row],[Mois]],"Janvier","Février","Mars","Avril","Mais","Juin","Juillet","Août","Septembre","Octobre","Novembre","Décembre"),Synthèse!$B$4:$E$12,4,FALSE) -> 0.27152778 | Q2: =IFERROR(Tableau1[[#This Row],[temps avant lever]]>=Tableau1[[#This Row],[temps critère lever en fonction de l''heure de coucher]],0) -> TRUE
A3: 2017 | B3: 8 | C3: 12 | D3: 20 | E3: 21 | F3: 34 | G3: 42959 | H3: 0.84831019 | I3: 42959 | J3: 4.8000002 | K3: 17.299999 | L3: 0.80208333 | M3: =MOD(Tableau1[[#This Row],[Temps]]-Tableau1[[#This Row],[Heure coucher]],1) -> 0.046226852 | N3: 0.20486111 | O3: =1-Tableau1[[#This Row],[Temps]]+Tableau1[[#This Row],[Heure lever]] -> 0.35655093 | P3: =1-Tableau1[[#This Row],[Heure coucher]]+Tableau1[[#This Row],[Heure lever]]-VLOOKUP(CHOOSE(Tableau1[[#This Row],[Mois]],"Janvier","Février","Mars","Avril","Mais","Juin","Juillet","Août","Septembre","Octobre","Novembre","Décembre"),Synthèse!$B$4:$E$12,4,FALSE) -> 0.27777778 | Q3: =IFERROR(Tableau1[[#This Row],[temps avant lever]]>=Tableau1[[#This Row],[temps critère lever en fonction de l''heure de coucher]],0) -> TRUE
A4: 2017 | B4: 8 | C4: 13 | D4: 3 | E4: 51 | F4: 35 | G4: 42960 | H4: 0.16082176 | I4: 42959 | J4: 1.46 | K4: 16.4 | L4: 0.80208333 | M4: =MOD(Tableau1[[#This Row],[Temps]]-Tableau1[[#This Row],[Heure coucher]],1) -> 0.35873843 | N4: 0.20486111 | O4: =1-Tableau1[[#This Row],[Temps]]+Tableau1[[#This Row],[Heure lever]] -> 1.0440394 | P4: =1-Tableau1[[#This Row],[Heure coucher]]+Tableau1[[#This Row],[Heure lever]]-VLOOKUP(CHOOSE(Tableau1[[#This Row],[Mois]],"Janvier","Février","Mars","Avril","Mais","Juin","Juillet","Août","Septembre","Octobre","Novembre","Décembre"),Synthèse!$B$4:$E$12,4,FALSE) -> 0.27777778 | Q4: =IFERROR(Tableau1[[#This Row],[temps avant lever]]>=Tableau1[[#This Row],[temps critère lever en fonction de l''heure de coucher]],0) -> TRUE
A5: 2017 | B5: 8 | C5: 13 | D5: 4 | E5: 15 | F5: 23 | G5: 42960 | H5: 0.17734954 | I5: 42959 | J5: 0.0099999998 | K5: 16.49 | L5: 0.80208333 | M5: =MOD(Tableau1[[#This Row],[Temps]]-Tableau1[[#This Row],[Heure coucher]],1) -> 0.3752662 | N5: 0.20486111 | O5: =1-Tableau1[[#This Row],[Temps]]+Tableau1[[#This Row],[Heure lever]] -> 1.0275116 | P5: =1-Tableau1[[#This Row],[Heure coucher]]+Tableau1[[#This Row],[Heure lever]]-VLOOKUP(CHOOSE(Tableau1[[#This Row],[Mois]],"Janvier","Février","Mars","Avril","Mais","Juin","Juillet","Août","Septembre","Octobre","Novembre","Décembre"),Synthèse!$B$4:$E$12,4,FALSE) -> 0.27777778 | Q5: =IFERROR(Tableau1[[#This Row],[temps avant lever]]>=Tableau1[[#This Row],[temps critère lever en fonction de l''heure de coucher]],0) -> TRUE
A6: 2017 | B6: 8 | C6: 13 | D6: 19 | E6: 31 | F6: 41 | G6: 42960 | H6: 0.81366898 | I6: 42960 | J6: 4.3200002 | K6: 20.73 | L6: 0.80069444 | M6: =MOD(Tableau1[[#This Row],[Temps]]-Tableau1[[#This Row],[Heure coucher]],1) -> 0.012974537 | N6: 0.20555556 | O6: =1-Tableau1[[#This Row],[Temps]]+Tableau1[[#This Row],[Heure lever]] -> 0.39188657 | P6: =1-Tableau1[[#This Row],[Heure coucher]]+Tableau1[[#This Row],[Heure lever]]-VLOOKUP(CHOOSE(Tableau1[[#This Row],[Mois]],"Janvier","Février","Mars","Avril","Mais","Juin","Juillet","Août","Septembre","Octobre","Novembre","Décembre"),Synthèse!$B$4:$E$12,4,FALSE) -> 0.27986111 | Q6: =IFERROR(Tableau1[[#This Row],[temps avant lever]]>=Tableau1[[#This Row],[temps critère lever en fonction de l''heure de coucher]],0) -> TRUE
A7: 2017 | B7: 8 | C7: 13 | D7: 19 | E7: 57 | F7: 52 | G7: 42960 | H7: 0.83185185 | I7: 42960 | J7: 5.4400001 | K7: 19.610001 | L7: 0.80069444 | M7: =MOD(Tableau1[[#This Row],[Temps]]-Tableau1[[#This Row],[Heure coucher]],1) -> 0.031157407 | N7: 0.20555556 | O7: =1-Tableau1[[#This Row],[Temps]]+Tableau1[[#This Row],[Heure lever]] -> 0.3737037 | P7: =1-Tableau1[[#This Row],[Heure coucher]]+Tableau1[[#This Row],[Heure lever]]-VLOOKUP(CHOOSE(Tableau1[[#This Row],[Mois]],"Janvier","Février","Mars","Avril","Mais","Juin","Juillet","Août","Septembre","Octobre","Novembre","Décembre"),Synthèse!$B$4:$E$12,4,FALSE) -> 0.27986111 | Q7: =IFERROR(Tableau1[[#This Row],[temps avant lever]]>=Tableau1[[#This Row],[temps critère lever en fonction de l''heure de coucher]],0) -> TRUE
A8: 2017 | B8: 8 | C8: 13 | D8: 20 | E8: 2 | F8: 38 | G8: 42960 | H8: 0.83516204 | I8: 42960 | J8: 5.4400001 | K8: 19.610001 | L8: 0.80069444 | M8: =MOD(Tableau1[[#This Row],[Temps]]-Tableau1[[#This Row],[Heure coucher]],1) -> 0.034467593 | N8: 0.20555556 | O8: =1-Tableau1[[#This Row],[Temps]]+Tableau1[[#This Row],[Heure lever]] -> 0.37039352 | P8: =1-Tableau1[[#This Row],[Heure coucher]]+Tableau1[[#This Row],[Heure lever]]-VLOOKUP(CHOOSE(Tableau1[[#This Row],[Mois]],"Janvier","Février","Mars","Avril","Mais","Juin","Juillet","Août","Septembre","Octobre","Novembre","Décembre"),Synthèse!$B$4:$E$12,4,FALSE) -> 0.27986111 | Q8: =IFERROR(Tableau1[[#This Row],[temps avant lever]]>=Tableau1[[#This Row],[temps critère lever en fonction de l''heure de coucher]],0) -> TRUE
A9: 2017 | B9: 8 | C9: 13 | D9: 20 | E9: 5 | F9: 17 | G9: 42960 | H9: 0.83700231 | I9: 42960 | J9: 5.4400001 | K9: 19.610001 | L9: 0.80069444 | M9: =MOD(Tableau1[[#This Row],[Temps]]-Tableau1[[#This Row],[Heure coucher]],1) -> 0.03630787 | N9: 0.20555556 | O9: =1-Tableau1[[#This Row],[Temps]]+Tableau1[[#This Row],[Heure lever]] -> 0.36855324 | P9: =1-Tableau1[[#This Row],[Heure coucher]]+Tableau1[[#This Row],[Heure lever]]-VLOOKUP(CHOOSE(Tableau1[[#This Row],[Mois]],"Janvier","Février","Mars","Avril","Mais","Juin","Juillet","Août","Septembre","Octobre","Novembre","Décembre"),Synthèse!$B$4:$E$12,4,FALSE) -> 0.27986111 | Q9: =IFERROR(Tableau1[[#This Row],[temps avant lever]]>=Tableau1[[#This Row],[temps critère lever en fonction de l''heure de coucher]],0) -> TRUE
A10: 2017 | B10: 8 | C10: 13 | D10: 20 | E10: 8 | F10: 32 | G10: 42960 | H10: 0.83925926 | I10: 42960 | J10: 5.0300002 | K10: 19.52 | L10: 0.80069444 | M10: =MOD(Tableau1[[#This Row],[Temps]]-Tableau1[[#This Row],[Heure coucher]],1) -> 0.038564815 | N10: 0.20555556 | O10: =1-Tableau1[[#This Row],[Temps]]+Tableau1[[#This Row],[Heure lever]] -> 0.3662963 | P10: =1-Tableau1[[#This Row],[Heure coucher]]+Tableau1[[#This Row],[Heure lever]]-VLOOKUP(CHOOSE(Tableau1[[#This Row],[Mois]],"Janvier","Février","Mars","Avril","Mais","Juin","Juillet","Août","Septembre","Octobre","Novembre","Décembre"),Synthèse!$B$4:$E$12,4,FALSE) -> 0.27986111 | Q10: =IFERROR(Tableau1[[#This Row],[temps avant lever]]>=Tableau1[[#This Row],[temps critère lever en fonction de l''heure de coucher]],0) -> TRUE
A11: 2017 | B11: 8 | C11: 13 | D11: 20 | E11: 10 | F11: 16 | G11: 42960 | H11: 0.84046296 | I11: 42960 | J11: 5.0300002 | K11: 19.52 | L11: 0.80069444 | M11: =MOD(Tableau1[[#This Row],[Temps]]-Tableau1[[#This Row],[Heure coucher]],1) -> 0.039768519 | N11: 0.20555556 | O11: =1-Tableau1[[#This Row],[Temps]]+Tableau1[[#This Row],[Heure lever]] -> 0.36509259 | P11: =1-Tableau1[[#This Row],[Heure coucher]]+Tableau1[[#This Row],[Heure lever]]-VLOOKUP(CHOOSE(Tableau1[[#This Row],[Mois]],"Janvier","Février","Mars","Avril","Mais","Juin","Juillet","Août","Septembre","Octobre","Novembre","Décembre"),Synthèse!$B$4:$E$12,4,FALSE) -> 0.27986111 | Q11: =IFERROR(Tableau1[[#This Row],[temps avant lever]]>=Tableau1[[#This Row],[temps critère lever en fonction de l''heure de coucher]],0) -> TRUE
A12: 2017 | B12: 8 | C12: 13 | D12: 20 | E12: 11 | F12: 50 | G12: 42960 | H12: 0.84155093 | I12: 42960 | J12: 5.0300002 | K12: 19.52 | L12: 0.80069444 | M12: =MOD(Tableau1[[#This Row],[Temps]]-Tableau1[[#This Row],[Heure coucher]],1) -> 0.040856481 | N12: 0.20555556 | O12: =1-Tableau1[[#This Row],[Temps]]+Tableau1[[#This Row],[Heure lever]] -> 0.36400463 | P12: =1-Tableau1[[#This Row],[Heure coucher]]+Tableau1[[#This Row],[Heure lever]]-VLOOKUP(CHOOSE(Tableau1[[#This Row],[Mois]],"Janvier","Février","Mars","Avril","Mais","Juin","Juillet","Août","Septembre","Octobre","Novembre","Décembre"),Synthèse!$B$4:$E$12,4,FALSE) -> 0.27986111 | Q12: =IFERROR(Tableau1[[#This Row],[temps avant lever]]>=Tableau1[[#This Row],[temps critère lever en fonction de l''heure de coucher]],0) -> TRUE
A13: 2017 | B13: 8 | C13: 13 | D13: 20 | E13: 12 | F13: 26 | G13: 42960 | H13: 0.84196759 | I13: 42960 | J13: 5.0300002 | K13: 19.52 | L13: 0.80069444 | M13: =MOD(Tableau1[[#This Row],[Temps]]-Tableau1[[#This Row],[Heure coucher]],1) -> 0.041273148 | N13: 0.20555556 | O13: =1-Tableau1[[#This Row],[Temps]]+Tableau1[[#This Row],[Heure lever]] -> 0.36358796 | P13: =1-Tableau1[[#This Row],[Heure coucher]]+Tableau1[[#This Row],[Heure lever]]-VLOOKUP(CHOOSE(Tableau1[[#This Row],[Mois]],"Janvier","Février","Mars","Avril","Mais","Juin","Juillet","Août","Septembre","Octobre","Novembre","Décembre"),Synthèse!$B$4:$E$12,4,FALSE) -> 0.27986111 | Q13: =IFERROR(Tableau1[[#This Row],[temps avant lever]]>=Tableau1[[#This Row],[temps critère lever en fonction de l''heure de coucher]],0) -> TRUE
... A1383: 2018 | B1383: 7 | C1383: 23 | D1383: 21 | E1383: 34 | F1383: 38 | G1383: 43304 | H1383: 0.89905093 | I1383: 43304 | J1383: 4.2833328 | K1383: 22.29421 | L1383: 0.82083333 | M1383: =MOD(Tableau1[[#This Row],[Temps]]-Tableau1[[#This Row],[Heure coucher]],1) -> 0.078217593 | N1383: 0.18819444 | O1383: =1-Tableau1[[#This Row],[Temps]]+Tableau1[[#This Row],[Heure lever]] -> 0.28914352 | P1383: =1-Tableau1[[#This Row],[Heure coucher]]+Tableau1[[#This Row],[Heure lever]]-VLOOKUP(CHOOSE(Tableau1[[#This Row],[Mois]],"Janvier","Février","Mars","Avril","Mais","Juin","Juillet","Août","Septembre","Octobre","Novembre","Décembre"),Synthèse!$B$4:$E$12,4,FALSE) -> 0.36736111 | Q1383: =IFERROR(Tableau1[[#This Row],[temps avant lever]]>=Tableau1[[#This Row],[temps critère lever en fonction de l''heure de coucher]],0) -> FALSE

Sheet Synthèse
H1: SOMMEPROD
B2: Mois | C2: Nbr de données / mois | D2: Critères | H2: Nbr de données / mois sans critères lever soleil | I2: Nbr de données / mois avec Critère lever soleil
D3: Les XX heures après le Coucher du soleil | E3: Les XX heures avant le Lever du soleil | F3: X inférieur à | G3: Y supérieur à
B4: Mars | C4: =COUNTIF(tableau!B:B,3) -> 1 | D4: 0 | E4: 0 | F4: 8 | G4: 10 | H4: =SUMPRODUCT((Tableau1[Mois]=(MONTH(1&B4)))*(Tableau1[temps écoulé après coucher]<=D4)*(Tableau1[X]<=F4)*(Tableau1[Y]>=G4)) -> 0 | I4: =SUMPRODUCT((Tableau1[Mois]=(MONTH(1&B4)))*((Tableau1[temps écoulé après coucher]<=D4)+(Tableau1[O>=P]))*(Tableau1[X]<=F4)*(Tableau1[Date_nuit]>=G4)) -> 0
B5: Avril | C5: =COUNTIF(tableau!B:B,4) -> 23 | D5: 0.16666667 | E5: 0.083333333 | F5: 8 | G5: 9 | H5: =SUMPRODUCT((Tableau1[Mois]=(MONTH(1&B5)))*(Tableau1[temps écoulé après coucher]<=D5)*(Tableau1[X]<=F5)*(Tableau1[Y]>=G5)) -> 19 | I5: =SUMPRODUCT((Tableau1[Mois]=(MONTH(1&B5)))*((Tableau1[temps écoulé après coucher]<=D5)+(Tableau1[O>=P]))*(Tableau1[X]<=F5)*(Tableau1[Date_nuit]>=G5)) -> 39
B6: Mai | C6: =COUNTIF(tableau!B:B,5) -> 112 | D6: 0.20833333 | E6: 0 | F6: 8 | G6: 9 | H6: =SUMPRODUCT((Tableau1[Mois]=(MONTH(1&B6)))*(Tableau1[temps écoulé après coucher]<=D6)*(Tableau1[X]<=F6)*(Tableau1[Y]>=G6)) -> 91 | I6: =SUMPRODUCT((Tableau1[Mois]=(MONTH(1&B6)))*((Tableau1[temps écoulé après coucher]<=D6)+(Tableau1[O>=P]))*(Tableau1[X]<=F6)*(Tableau1[Date_nuit]>=G6)) -> 92
B7: Juin | C7: =COUNTIF(tableau!B:B,6) -> 68 | D7: 0.27083333 | E7: 0 | F7: 8 | G7: 10 | H7: =SUMPRODUCT((Tableau1[Mois]=(MONTH(1&B7)))*(Tableau1[temps écoulé après coucher]<=D7)*(Tableau1[X]<=F7)*(Tableau1[Y]>=G7)) -> 54 | I7: =SUMPRODUCT((Tableau1[Mois]=(MONTH(1&B7)))*((Tableau1[temps écoulé après coucher]<=D7)+(Tableau1[O>=P]))*(Tableau1[X]<=F7)*(Tableau1[Date_nuit]>=G7)) -> 80
B8: Juillet | C8: =COUNTIF(tableau!B:B,7) -> 158 | D8: 0.27083333 | E8: 0 | F8: 8 | G8: 10 | H8: =SUMPRODUCT((Tableau1[Mois]=(MONTH(1&B8)))*(Tableau1[temps écoulé après coucher]<=D8)*(Tableau1[X]<=F8)*(Tableau1[Y]>=G8)) -> 121 | I8: =SUMPRODUCT((Tableau1[Mois]=(MONTH(1&B8)))*((Tableau1[temps écoulé après coucher]<=D8)+(Tableau1[O>=P]))*(Tableau1[X]<=F8)*(Tableau1[Date_nuit]>=G8)) -> 183
B9: Août | C9: =COUNTIF(tableau!B:B,8) -> 198 | D9: 0.27083333 | E9: 0.125 | F9: 8 | G9: 10 | H9: =SUMPRODUCT((Tableau1[Mois]=(MONTH(1&B9)))*(Tableau1[temps écoulé après coucher]<=D9)*(Tableau1[X]<=F9)*(Tableau1[Y]>=G9)) -> 174 | I9: =SUMPRODUCT((Tableau1[Mois]=(MONTH(1&B9)))*((Tableau1[temps écoulé après coucher]<=D9)+(Tableau1[O>=P]))*(Tableau1[X]<=F9)*(Tableau1[Date_nuit]>=G9)) -> 354
B10: Septembre | C10: =COUNTIF(tableau!B:B,9) -> 535 | D10: 0.29166667 | E10: 0.10416667 | F10: 8 | G10: 10 | H10: =SUMPRODUCT((Tableau1[Mois]=(MONTH(1&B10)))*(Tableau1[temps écoulé après coucher]<=D10)*(Tableau1[X]<=F10)*(Tableau1[Y]>=G10)) -> 483 | I10: =SUMPRODUCT((Tableau1[Mois]=(MONTH(1&B10)))*((Tableau1[temps écoulé après coucher]<=D10)+(Tableau1[O>=P]))*(Tableau1[X]<=F10)*(Tableau1[Date_nuit]>=G10)) -> 774
B11: Octobre | C11: =COUNTIF(tableau!B:B,10) -> 274 | D11: 0.27083333 | E11: 0.083333333 | F11: 8 | G11: 10 | H11: =SUMPRODUCT((Tableau1[Mois]=(MONTH(1&B11)))*(Tableau1[temps écoulé après coucher]<=D11)*(Tableau1[X]<=F11)*(Tableau1[Y]>=G11)) -> 244 | I11: =SUMPRODUCT((Tableau1[Mois]=(MONTH(1&B11)))*((Tableau1[temps écoulé après coucher]<=D11)+(Tableau1[O>=P]))*(Tableau1[X]<=F11)*(Tableau1[Date_nuit]>=G11)) -> 400
B12: Novembre | C12: =COUNTIF(tableau!B:B,11) -> 13 | D12: 0 | E12: 0 | F12: 8 | G12: 10 | H12: =SUMPRODUCT((Tableau1[Mois]=(MONTH(1&B12)))*(Tableau1[temps écoulé après coucher]<=D12)*(Tableau1[X]<=F12)*(Tableau1[Y]>=G12)) -> 0 | I12: =SUMPRODUCT((Tableau1[Mois]=(MONTH(1&B12)))*((Tableau1[temps écoulé après coucher]<=D12)+(Tableau1[O>=P]))*(Tableau1[X]<=F12)*(Tableau1[Date_nuit]>=G12)) -> 2
B13: Total | C13: =SUM(C4:C12) -> 1382 | H13: =SUM(H4:H12) -> 1186 | I13: =SUM(I4:I12) -> 1924
