Workbook

Sheet Sheet1
B1: semaine 46 | F1: semaine 47 | J1: Semaine 48 | N1: Semaine 49
A2: SECTEUR | C2: retard (10/11) | D2: 41960 | E2: prévu | F2: réalisé S-1 | G2: retard (17/11) | H2: 41967 | I2: prévu | J2: réalisé S-1 | K2: retard (24/11) | L2: 41974 | M2: prévu | N2: réalisé S-1 | O2: retard (01/12) | P2: 41981 | Q2: prévu
A3: 1 | C3: 61.5 | D3: 61.5 | E3: =C3-D3 -> 0 | F3: =D3-G3 -> 0 | G3: 61.5 | H3: 61.5 | I3: =G3-H3 -> 0 | J3: =H3-K3 -> 2.05 | K3: 59.45 | L3: 59.45 | M3: =K3-L3 -> 0 | N3: =L3-O3 -> -0.05 | O3: 59.5 | P3: 61.55 | Q3: =O3-P3 -> -2.05
A4: 2 | C4: 73.65 | D4: 86.34 | E4: =C4-D4 -> -12.69 | F4: =D4-G4 -> 7.6 | G4: 78.74 | H4: 82.79 | I4: =G4-H4 -> -4.05 | J4: =H4-K4 -> 5.9 | K4: 76.89 | L4: 108.84 | M4: =K4-L4 -> -31.95 | N4: =L4-O4 -> 33.97 | O4: 74.87 | P4: 80.19 | Q4: =O4-P4 -> -5.32
A5: 3 | C5: 33.9 | D5: 33.9 | E5: =C5-D5 -> 0 | F5: =D5-G5 -> 0 | G5: 33.9 | H5: 33.9 | I5: =G5-H5 -> 0 | J5: =H5-K5 -> 10.03 | K5: 23.87 | L5: 23.87 | M5: =K5-L5 -> 0 | N5: =L5-O5 -> -2.15 | O5: 26.02 | P5: 26.02 | Q5: =O5-P5 -> 0
A6: 4 | C6: 19.3 | D6: 19.3 | E6: =C6-D6 -> 0 | F6: =D6-G6 -> 0 | G6: 19.3 | H6: 21.25 | I6: =G6-H6 -> -1.95 | J6: =H6-K6 -> 0 | K6: 21.25 | L6: 21.25 | M6: =K6-L6 -> 0 | N6: =L6-O6 -> 6.3 | O6: 14.95 | P6: 14.95 | Q6: =O6-P6 -> 0
A7: 5 | C7: 27.5 | D7: 27.5 | E7: =C7-D7 -> 0 | F7: =D7-G7 -> 0 | G7: 27.5 | H7: 29.3 | I7: =G7-H7 -> -1.8 | J7: =H7-K7 -> 1.25 | K7: 28.05 | L7: 28.05 | M7: =K7-L7 -> 0 | N7: =L7-O7 -> 0 | O7: 28.05 | P7: 30.1 | Q7: =O7-P7 -> -2.05
A8: 6 | C8: 83.44 | D8: 88.44 | E8: =C8-D8 -> -5 | F8: =D8-G8 -> 5.55 | G8: 82.89 | H8: 90.89 | I8: =G8-H8 -> -8 | J8: =H8-K8 -> 13.65 | K8: 77.24 | L8: 86.94 | M8: =K8-L8 -> -9.7 | N8: =L8-O8 -> 1.9 | O8: 85.04 | P8: 100.19 | Q8: =O8-P8 -> -15.15
A9: 7 | C9: 50.4 | D9: 50.4 | E9: =C9-D9 -> 0 | F9: =D9-G9 -> 0 | G9: 50.4 | H9: 50.4 | I9: =G9-H9 -> 0 | J9: =H9-K9 -> 2.55 | K9: 47.85 | L9: 49.2 | M9: =K9-L9 -> -1.35 | N9: =L9-O9 -> 2.05 | O9: 47.15 | P9: 48.85 | Q9: =O9-P9 -> -1.7
A10: 8 | C10: 47.95 | D10: 59.5 | E10: =C10-D10 -> -11.55 | F10: =D10-G10 -> 12.8 | G10: 46.7 | H10: 66.55 | I10: =G10-H10 -> -19.85 | J10: =H10-K10 -> 16.55 | K10: 50 | L10: 57.8 | M10: =K10-L10 -> -7.8 | N10: =L10-O10 -> 7.55 | O10: 50.25 | P10: 76.6 | Q10: =O10-P10 -> -26.35
A11: 9 | C11: 97.17 | D11: 97.57 | E11: =C11-D11 -> -0.4 | F11: =D11-G11 -> 0 | G11: 97.57 | H11: 98.57 | I11: =G11-H11 -> -1 | J11: =H11-K11 -> 37.92 | K11: 60.65 | L11: 60.65 | M11: =K11-L11 -> 0 | N11: =L11-O11 -> 0 | O11: 60.65 | P11: 60.65 | Q11: =O11-P11 -> 0
A12: 10 | C12: 1.8 | D12: 1.8 | E12: =C12-D12 -> 0 | F12: =D12-G12 -> -0.3 | G12: 2.1 | H12: 2.1 | I12: =G12-H12 -> 0 | J12: =H12-K12 -> -1.8 | K12: 3.9 | L12: 6.9 | M12: =K12-L12 -> -3 | N12: =L12-O12 -> 0 | O12: 6.9 | P12: 6.9 | Q12: =O12-P12 -> 0
A13: 11 | C13: 100.66 | D13: 100.66 | E13: =C13-D13 -> 0 | F13: =D13-G13 -> 4.1 | G13: 96.56 | H13: 97.76 | I13: =G13-H13 -> -1.2 | J13: =H13-K13 -> 4.5 | K13: 93.26 | L13: 100.71 | M13: =K13-L13 -> -7.45 | N13: =L13-O13 -> 1.3 | O13: 99.41 | P13: 99.41 | Q13: =O13-P13 -> 0
A14: 12 | C14: 24.45 | D14: 24.45 | E14: =C14-D14 -> 0 | F14: =D14-G14 -> 12 | G14: 12.45 | H14: 12.45 | I14: =G14-H14 -> 0 | J14: =H14-K14 -> 0 | K14: 12.45 | L14: 12.75 | M14: =K14-L14 -> -0.3 | N14: =L14-O14 -> 0 | O14: 12.75 | P14: 17.25 | Q14: =O14-P14 -> -4.5
... A20: 18 | C20: 12.25 | D20: 12.25 | E20: =C20-D20 -> 0 | F20: =D20-G20 -> 0 | G20: 12.25 | H20: 12.25 | I20: =G20-H20 -> 0 | J20: =H20-K20 -> 0 | K20: 12.25 | L20: 12.25 | M20: =K20-L20 -> 0 | N20: =L20-O20 -> 0 | O20: 12.25 | P20: 12.25 | Q20: =O20-P20 -> 0
A21: TOTAL | C21: =SUM(C3:C20) -> 705.52 | D21: =SUM(D3:D20) -> 748.31 | E21: =(C21-D21)*(-1) -> 42.79 | F21: =D21-G21 -> 68.35 | G21: =SUM(G3:G20) -> 679.96 | H21: =SUM(H3:H20) -> 744.66 | I21: =(G21-H21)*(-1) -> 64.7 | J21: =H21-K21 -> 113.55 | K21: =SUM(K3:K20) -> 631.11 | L21: =SUM(L3:L20) -> 704.91 | M21: =(K21-L21)*(-1) -> 73.8 | N21: =L21-O21 -> 71.42 | O21: =SUM(O3:O20) -> 633.49 | P21: =SUM(P3:P20) -> 712.26 | Q21: =(O21-P21)*(-1) -> 78.77

Sheet recap
A1: semaine | B1: valeur retard
A2: =OFFSET(Sheet1!$B$1,,4*(ROW()-2)) -> semaine 46 | B2: =OFFSET(Sheet1!$C$1,COUNTA(Sheet1!$A:$A),4*(ROW()-2)) -> 705.52
A3: =OFFSET(Sheet1!$B$1,,4*(ROW()-2)) -> semaine 47 | B3: =OFFSET(Sheet1!$C$1,COUNTA(Sheet1!$A:$A),4*(ROW()-2)) -> 679.96
A4: =OFFSET(Sheet1!$B$1,,4*(ROW()-2)) -> Semaine 48 | B4: =OFFSET(Sheet1!$C$1,COUNTA(Sheet1!$A:$A),4*(ROW()-2)) -> 631.11
A5: =OFFSET(Sheet1!$B$1,,4*(ROW()-2)) -> Semaine 49 | B5: =OFFSET(Sheet1!$C$1,COUNTA(Sheet1!$A:$A),4*(ROW()-2)) -> 633.49
