Workbook
Name Sites: OFFSET(Feuil2!$B$1,1,,COUNTIF(Feuil2!$B:$B,"><"))

Sheet Feuil1
B6: UT1 | C6: Risque 1 | D6: Commentaire 1
C7: Risque 2 | D7: Commentaire 2
C8: Risque 3 | D8: Commentaire 3
C9: Risque 4 | D9: Commentaire 4 | G9: UT :
B10: UT2 | C10: Risque 5 | D10: Commentaire 5
C11: Risque 6 | D11: Commentaire 6 | G11: Risque : | I11: Commentaire :
C12: Risque 7 | D12: Commentaire 7
C13: Risque 8 | D13: Commentaire 8
B14: UT3 | C14: Risque 9 | D14: Commentaire 9
C15: Risque 10 | D15: Commentaire 10
C16: Risque 11 | D16: Commentaire 11
C17: Risque 12 | D17: Commentaire 12

Sheet Feuil2
A1: =IF(Feuil1!B1="","",Feuil1!B1)
A2: =IF(Feuil1!B2="","",Feuil1!B2) | B2: {=INDEX(A$2:A$18,MATCH(MIN(IF(COUNTIF(B$1:B1,A$2:A$18)=0,COUNTIF(A$2:A$18,"<"&A$2:A$18))),COUNTIF(A$2:A$18,"<"&A$2:A$18),0))} -> UT1
A3: =IF(Feuil1!B3="","",Feuil1!B3) | B3: {=INDEX(A$2:A$18,MATCH(MIN(IF(COUNTIF(B$1:B2,A$2:A$18)=0,COUNTIF(A$2:A$18,"<"&A$2:A$18))),COUNTIF(A$2:A$18,"<"&A$2:A$18),0))} -> UT2
A4: =IF(Feuil1!B4="","",Feuil1!B4) | B4: {=INDEX(A$2:A$18,MATCH(MIN(IF(COUNTIF(B$1:B3,A$2:A$18)=0,COUNTIF(A$2:A$18,"<"&A$2:A$18))),COUNTIF(A$2:A$18,"<"&A$2:A$18),0))} -> UT3
A5: =IF(Feuil1!B5="","",Feuil1!B5) | B5: {=INDEX(A$2:A$18,MATCH(MIN(IF(COUNTIF(B$1:B4,A$2:A$18)=0,COUNTIF(A$2:A$18,"<"&A$2:A$18))),COUNTIF(A$2:A$18,"<"&A$2:A$18),0))}
A6: =IF(Feuil1!B6="","",Feuil1!B6) -> UT1 | B6: {=INDEX(A$2:A$18,MATCH(MIN(IF(COUNTIF(B$1:B5,A$2:A$18)=0,COUNTIF(A$2:A$18,"<"&A$2:A$18))),COUNTIF(A$2:A$18,"<"&A$2:A$18),0))}
A7: =IF(Feuil1!B7="","",Feuil1!B7) | B7: {=INDEX(A$2:A$18,MATCH(MIN(IF(COUNTIF(B$1:B6,A$2:A$18)=0,COUNTIF(A$2:A$18,"<"&A$2:A$18))),COUNTIF(A$2:A$18,"<"&A$2:A$18),0))}
A8: =IF(Feuil1!B8="","",Feuil1!B8) | B8: {=INDEX(A$2:A$18,MATCH(MIN(IF(COUNTIF(B$1:B7,A$2:A$18)=0,COUNTIF(A$2:A$18,"<"&A$2:A$18))),COUNTIF(A$2:A$18,"<"&A$2:A$18),0))}
A9: =IF(Feuil1!B9="","",Feuil1!B9) | B9: {=INDEX(A$2:A$18,MATCH(MIN(IF(COUNTIF(B$1:B8,A$2:A$18)=0,COUNTIF(A$2:A$18,"<"&A$2:A$18))),COUNTIF(A$2:A$18,"<"&A$2:A$18),0))}
A10: =IF(Feuil1!B10="","",Feuil1!B10) -> UT2 | B10: {=INDEX(A$2:A$18,MATCH(MIN(IF(COUNTIF(B$1:B9,A$2:A$18)=0,COUNTIF(A$2:A$18,"<"&A$2:A$18))),COUNTIF(A$2:A$18,"<"&A$2:A$18),0))}
A11: =IF(Feuil1!B11="","",Feuil1!B11) | B11: {=INDEX(A$2:A$18,MATCH(MIN(IF(COUNTIF(B$1:B10,A$2:A$18)=0,COUNTIF(A$2:A$18,"<"&A$2:A$18))),COUNTIF(A$2:A$18,"<"&A$2:A$18),0))}
A12: =IF(Feuil1!B12="","",Feuil1!B12) | B12: {=INDEX(A$2:A$18,MATCH(MIN(IF(COUNTIF(B$1:B11,A$2:A$18)=0,COUNTIF(A$2:A$18,"<"&A$2:A$18))),COUNTIF(A$2:A$18,"<"&A$2:A$18),0))}
A13: =IF(Feuil1!B13="","",Feuil1!B13) | B13: {=INDEX(A$2:A$18,MATCH(MIN(IF(COUNTIF(B$1:B12,A$2:A$18)=0,COUNTIF(A$2:A$18,"<"&A$2:A$18))),COUNTIF(A$2:A$18,"<"&A$2:A$18),0))}
... A26: =IF(Feuil1!B26="","",Feuil1!B26) | B26: {=INDEX(A$2:A$18,MATCH(MIN(IF(COUNTIF(B$1:B25,A$2:A$18)=0,COUNTIF(A$2:A$18,"<"&A$2:A$18))),COUNTIF(A$2:A$18,"<"&A$2:A$18),0))}

Sheet Feuil3
