Workbook
Name NomsOnglets: SOMMAIRE!$B$1
Name TousLesOnglets: OFFSET(NomsOnglets,1,,COUNTA('MATRICE code clts'!B:B)-1)

Sheet Feuil1
B2: Nom du client
B5: Code client
B9: C.AFFAIRE
B12: listes articles
B13: code article | C13: produits

Sheet SOMMAIRE
A1: =MID(CELL("filename",B1),FIND("[",CELL("filename",B1)),SUM(FIND({"[";"]"},CELL("filename",B1))*{-1;1})+1) -> [fichier teste.xlsx] | B1: Nom Onglet | C1: Lien vers onglet
B2: 381-CHEEZWHSE | C2: =HYPERLINK($A$1&"'"&B2&"'!A1",">>>") -> >>>
B3: 452-BRADBURRY | C3: =HYPERLINK($A$1&"'"&B3&"'!A1",">>>") -> >>>
B4: 377-FOZZY | C4: =HYPERLINK($A$1&"'"&B4&"'!A1",">>>") -> >>>
B5: 323-BOUTER CHEESE | C5: =HYPERLINK($A$1&"'"&B5&"'!A1",">>>") -> >>>
B6: 420..UHRENHOLT | C6: =HYPERLINK($A$1&"'"&B6&"'!A1",">>>") -> >>>
B7: 529-RUWISCH | C7: =HYPERLINK($A$1&"'"&B7&"'!A1",">>>") -> >>>
B8: 480-KAASIMPORT DUPONT | C8: =HYPERLINK($A$1&"'"&B8&"'!A1",">>>") -> >>>
B9: 371-ZIJERVELD | C9: =HYPERLINK($A$1&"'"&B9&"'!A1",">>>") -> >>>
B10: 379-ATALANTA | C10: =HYPERLINK($A$1&"'"&B10&"'!A1",">>>") -> >>>
B11: 539- BIO TROPIC | C11: =HYPERLINK($A$1&"'"&B11&"'!A1",">>>") -> >>>
B12: 448-KOSTADINOV | C12: =HYPERLINK($A$1&"'"&B12&"'!A1",">>>") -> >>>
B13: 570-571-REWE | C13: =HYPERLINK($A$1&"'"&B13&"'!A1",">>>") -> >>>
... B15: 278- SCAPALSACE | C15: =HYPERLINK($A$1&"'"&B15&"'!A1",">>>") -> >>>

Sheet RECAP
A2: 381-CHEEZWHSE
H4: =OFFSET(INDIRECT("'"&$A$2&"'!A1"),ROW()-1,COLUMN()-1) -> Prix de vente 2016
A5: =OFFSET(INDIRECT("'"&$A$2&"'!A1"),ROW()-1,COLUMN()-1) -> CODE CLT | B5: =OFFSET(INDIRECT("'"&$A$2&"'!A1"),ROW()-1,COLUMN()-1) -> CA 2016 | C5: =OFFSET(INDIRECT("'"&$A$2&"'!A1"),ROW()-1,COLUMN()-1) -> CA 2015 | D5: =OFFSET(INDIRECT("'"&$A$2&"'!A1"),ROW()-1,COLUMN()-1) -> CA/ article | E5: =OFFSET(INDIRECT("'"&$A$2&"'!A1"),ROW()-1,COLUMN()-1) -> % CA/article | F5: =OFFSET(INDIRECT("'"&$A$2&"'!A1"),ROW()-1,COLUMN()-1) -> code article | G5: =OFFSET(INDIRECT("'"&$A$2&"'!A1"),ROW()-1,COLUMN()-1) -> designation | H5: =OFFSET(INDIRECT("'"&$A$2&"'!A1"),ROW()-1,COLUMN()-1) -> Prix de vente a l'unité | ... P5: =OFFSET(INDIRECT("'"&$A$2&"'!A1"),ROW()-1,COLUMN()-1) -> 0
A6: =OFFSET(INDIRECT("'"&$A$2&"'!A1"),ROW()-1,COLUMN()-1) -> 000381 | B6: =OFFSET(INDIRECT("'"&$A$2&"'!A1"),ROW()-1,COLUMN()-1) -> 718630.43 | C6: =OFFSET(INDIRECT("'"&$A$2&"'!A1"),ROW()-1,COLUMN()-1) -> 862372.68 | D6: =OFFSET(INDIRECT("'"&$A$2&"'!A1"),ROW()-1,COLUMN()-1) -> 11024 | E6: =OFFSET(INDIRECT("'"&$A$2&"'!A1"),ROW()-1,COLUMN()-1) -> 0.015340291 | F6: =OFFSET(INDIRECT("'"&$A$2&"'!A1"),ROW()-1,COLUMN()-1) -> 2303 | G6: =OFFSET(INDIRECT("'"&$A$2&"'!A1"),ROW()-1,COLUMN()-1) -> BRIE 1 KG 60% TOUR DE MARZE X 1 SANS DLUO | H6: =OFFSET(INDIRECT("'"&$A$2&"'!A1"),ROW()-1,COLUMN()-1) -> 5.3 | ... P6: =OFFSET(INDIRECT("'"&$A$2&"'!A1"),ROW()-1,COLUMN()-1) -> 0
A7: =OFFSET(INDIRECT("'"&$A$2&"'!A1"),ROW()-1,COLUMN()-1) -> 0 | B7: =OFFSET(INDIRECT("'"&$A$2&"'!A1"),ROW()-1,COLUMN()-1) -> -0.16668229 | C7: =OFFSET(INDIRECT("'"&$A$2&"'!A1"),ROW()-1,COLUMN()-1) -> 0 | D7: =OFFSET(INDIRECT("'"&$A$2&"'!A1"),ROW()-1,COLUMN()-1) -> 46390.56 | E7: =OFFSET(INDIRECT("'"&$A$2&"'!A1"),ROW()-1,COLUMN()-1) -> 0.064554127 | F7: =OFFSET(INDIRECT("'"&$A$2&"'!A1"),ROW()-1,COLUMN()-1) -> 2323 | G7: =OFFSET(INDIRECT("'"&$A$2&"'!A1"),ROW()-1,COLUMN()-1) -> BRIE 1 KG 60% NOTRE DAME X2 SANS DLUO | H7: =OFFSET(INDIRECT("'"&$A$2&"'!A1"),ROW()-1,COLUMN()-1) -> 5.08 | ... P7: =OFFSET(INDIRECT("'"&$A$2&"'!A1"),ROW()-1,COLUMN()-1) -> 0
A8: =OFFSET(INDIRECT("'"&$A$2&"'!A1"),ROW()-1,COLUMN()-1) -> 0 | B8: =OFFSET(INDIRECT("'"&$A$2&"'!A1"),ROW()-1,COLUMN()-1) -> 0 | C8: =OFFSET(INDIRECT("'"&$A$2&"'!A1"),ROW()-1,COLUMN()-1) -> 0 | D8: =OFFSET(INDIRECT("'"&$A$2&"'!A1"),ROW()-1,COLUMN()-1) -> 296153.08 | E8: =OFFSET(INDIRECT("'"&$A$2&"'!A1"),ROW()-1,COLUMN()-1) -> 0.41210763 | F8: =OFFSET(INDIRECT("'"&$A$2&"'!A1"),ROW()-1,COLUMN()-1) -> 2407 | G8: =OFFSET(INDIRECT("'"&$A$2&"'!A1"),ROW()-1,COLUMN()-1) -> BRIE 3 KG 60% NOTRE DAME SANS DLUO | H8: =OFFSET(INDIRECT("'"&$A$2&"'!A1"),ROW()-1,COLUMN()-1) -> 4.85 | ... P8: =OFFSET(INDIRECT("'"&$A$2&"'!A1"),ROW()-1,COLUMN()-1) -> 0
A9: =OFFSET(INDIRECT("'"&$A$2&"'!A1"),ROW()-1,COLUMN()-1) -> 0 | B9: =OFFSET(INDIRECT("'"&$A$2&"'!A1"),ROW()-1,COLUMN()-1) -> 0 | C9: =OFFSET(INDIRECT("'"&$A$2&"'!A1"),ROW()-1,COLUMN()-1) -> 0 | D9: =OFFSET(INDIRECT("'"&$A$2&"'!A1"),ROW()-1,COLUMN()-1) -> 273418.13 | E9: =OFFSET(INDIRECT("'"&$A$2&"'!A1"),ROW()-1,COLUMN()-1) -> 0.38047113 | F9: =OFFSET(INDIRECT("'"&$A$2&"'!A1"),ROW()-1,COLUMN()-1) -> 2408 | G9: =OFFSET(INDIRECT("'"&$A$2&"'!A1"),ROW()-1,COLUMN()-1) -> BRIE 3 KG 60% TOUR DE MARZE SANS DLUO ( Couvercle ) | H9: =OFFSET(INDIRECT("'"&$A$2&"'!A1"),ROW()-1,COLUMN()-1) -> 4.87 | ... P9: =OFFSET(INDIRECT("'"&$A$2&"'!A1"),ROW()-1,COLUMN()-1) -> 0
A10: =OFFSET(INDIRECT("'"&$A$2&"'!A1"),ROW()-1,COLUMN()-1) -> 0 | B10: =OFFSET(INDIRECT("'"&$A$2&"'!A1"),ROW()-1,COLUMN()-1) -> 0 | C10: =OFFSET(INDIRECT("'"&$A$2&"'!A1"),ROW()-1,COLUMN()-1) -> 0 | D10: =OFFSET(INDIRECT("'"&$A$2&"'!A1"),ROW()-1,COLUMN()-1) -> 81853.2 | E10: =OFFSET(INDIRECT("'"&$A$2&"'!A1"),ROW()-1,COLUMN()-1) -> 0.11390166 | F10: =OFFSET(INDIRECT("'"&$A$2&"'!A1"),ROW()-1,COLUMN()-1) -> 4016 | G10: =OFFSET(INDIRECT("'"&$A$2&"'!A1"),ROW()-1,COLUMN()-1) -> CAMEMBERT USA | H10: =OFFSET(INDIRECT("'"&$A$2&"'!A1"),ROW()-1,COLUMN()-1) -> 1.17 | ... P10: =OFFSET(INDIRECT("'"&$A$2&"'!A1"),ROW()-1,COLUMN()-1) -> 0
A11: =OFFSET(INDIRECT("'"&$A$2&"'!A1"),ROW()-1,COLUMN()-1) -> 0 | B11: =OFFSET(INDIRECT("'"&$A$2&"'!A1"),ROW()-1,COLUMN()-1) -> 0 | C11: =OFFSET(INDIRECT("'"&$A$2&"'!A1"),ROW()-1,COLUMN()-1) -> 0 | D11: =OFFSET(INDIRECT("'"&$A$2&"'!A1"),ROW()-1,COLUMN()-1) -> 9791.46 | E11: =OFFSET(INDIRECT("'"&$A$2&"'!A1"),ROW()-1,COLUMN()-1) -> 0.013625168 | F11: =OFFSET(INDIRECT("'"&$A$2&"'!A1"),ROW()-1,COLUMN()-1) -> 2205 | G11: =OFFSET(INDIRECT("'"&$A$2&"'!A1"),ROW()-1,COLUMN()-1) -> BRIE 16 ONCES ARC DE TRIOMPHE X 6 | H11: =OFFSET(INDIRECT("'"&$A$2&"'!A1"),ROW()-1,COLUMN()-1) -> 2.66 | ... P11: =OFFSET(INDIRECT("'"&$A$2&"'!A1"),ROW()-1,COLUMN()-1) -> 0
A12: =OFFSET(INDIRECT("'"&$A$2&"'!A1"),ROW()-1,COLUMN()-1) -> 0 | B12: =OFFSET(INDIRECT("'"&$A$2&"'!A1"),ROW()-1,COLUMN()-1) -> 0 | C12: =OFFSET(INDIRECT("'"&$A$2&"'!A1"),ROW()-1,COLUMN()-1) -> 0 | D12: =OFFSET(INDIRECT("'"&$A$2&"'!A1"),ROW()-1,COLUMN()-1) -> 0 | E12: =OFFSET(INDIRECT("'"&$A$2&"'!A1"),ROW()-1,COLUMN()-1) -> 0 | F12: =OFFSET(INDIRECT("'"&$A$2&"'!A1"),ROW()-1,COLUMN()-1) -> 0 | G12: =OFFSET(INDIRECT("'"&$A$2&"'!A1"),ROW()-1,COLUMN()-1) -> 0 | H12: =OFFSET(INDIRECT("'"&$A$2&"'!A1"),ROW()-1,COLUMN()-1) -> 0 | ... P12: =OFFSET(INDIRECT("'"&$A$2&"'!A1"),ROW()-1,COLUMN()-1) -> 0
A13: =OFFSET(INDIRECT("'"&$A$2&"'!A1"),ROW()-1,COLUMN()-1) -> 0 | B13: =OFFSET(INDIRECT("'"&$A$2&"'!A1"),ROW()-1,COLUMN()-1) -> 0 | C13: =OFFSET(INDIRECT("'"&$A$2&"'!A1"),ROW()-1,COLUMN()-1) -> 0 | D13: =OFFSET(INDIRECT("'"&$A$2&"'!A1"),ROW()-1,COLUMN()-1) -> 0 | E13: =OFFSET(INDIRECT("'"&$A$2&"'!A1"),ROW()-1,COLUMN()-1) -> 0 | F13: =OFFSET(INDIRECT("'"&$A$2&"'!A1"),ROW()-1,COLUMN()-1) -> 0 | G13: =OFFSET(INDIRECT("'"&$A$2&"'!A1"),ROW()-1,COLUMN()-1) -> 0 | H13: =OFFSET(INDIRECT("'"&$A$2&"'!A1"),ROW()-1,COLUMN()-1) -> 0 | ... P13: =OFFSET(INDIRECT("'"&$A$2&"'!A1"),ROW()-1,COLUMN()-1) -> 0
A14: =OFFSET(INDIRECT("'"&$A$2&"'!A1"),ROW()-1,COLUMN()-1) -> 0 | B14: =OFFSET(INDIRECT("'"&$A$2&"'!A1"),ROW()-1,COLUMN()-1) -> 0 | C14: =OFFSET(INDIRECT("'"&$A$2&"'!A1"),ROW()-1,COLUMN()-1) -> 0 | D14: =OFFSET(INDIRECT("'"&$A$2&"'!A1"),ROW()-1,COLUMN()-1) -> 0 | E14: =OFFSET(INDIRECT("'"&$A$2&"'!A1"),ROW()-1,COLUMN()-1) -> 0 | F14: =OFFSET(INDIRECT("'"&$A$2&"'!A1"),ROW()-1,COLUMN()-1) -> 0 | G14: =OFFSET(INDIRECT("'"&$A$2&"'!A1"),ROW()-1,COLUMN()-1) -> 0 | H14: =OFFSET(INDIRECT("'"&$A$2&"'!A1"),ROW()-1,COLUMN()-1) -> 0 | ... P14: =OFFSET(INDIRECT("'"&$A$2&"'!A1"),ROW()-1,COLUMN()-1) -> 0
A15: =OFFSET(INDIRECT("'"&$A$2&"'!A1"),ROW()-1,COLUMN()-1) -> 0 | B15: =OFFSET(INDIRECT("'"&$A$2&"'!A1"),ROW()-1,COLUMN()-1) -> 0 | C15: =OFFSET(INDIRECT("'"&$A$2&"'!A1"),ROW()-1,COLUMN()-1) -> 0 | D15: =OFFSET(INDIRECT("'"&$A$2&"'!A1"),ROW()-1,COLUMN()-1) -> 0 | E15: =OFFSET(INDIRECT("'"&$A$2&"'!A1"),ROW()-1,COLUMN()-1) -> 0 | F15: =OFFSET(INDIRECT("'"&$A$2&"'!A1"),ROW()-1,COLUMN()-1) -> 0 | G15: =OFFSET(INDIRECT("'"&$A$2&"'!A1"),ROW()-1,COLUMN()-1) -> 0 | H15: =OFFSET(INDIRECT("'"&$A$2&"'!A1"),ROW()-1,COLUMN()-1) -> 0 | ... P15: =OFFSET(INDIRECT("'"&$A$2&"'!A1"),ROW()-1,COLUMN()-1) -> 0
A16: =OFFSET(INDIRECT("'"&$A$2&"'!A1"),ROW()-1,COLUMN()-1) -> 0 | B16: =OFFSET(INDIRECT("'"&$A$2&"'!A1"),ROW()-1,COLUMN()-1) -> 0 | C16: =OFFSET(INDIRECT("'"&$A$2&"'!A1"),ROW()-1,COLUMN()-1) -> 0 | D16: =OFFSET(INDIRECT("'"&$A$2&"'!A1"),ROW()-1,COLUMN()-1) -> 0 | E16: =OFFSET(INDIRECT("'"&$A$2&"'!A1"),ROW()-1,COLUMN()-1) -> 0 | F16: =OFFSET(INDIRECT("'"&$A$2&"'!A1"),ROW()-1,COLUMN()-1) -> 0 | G16: =OFFSET(INDIRECT("'"&$A$2&"'!A1"),ROW()-1,COLUMN()-1) -> 0 | H16: =OFFSET(INDIRECT("'"&$A$2&"'!A1"),ROW()-1,COLUMN()-1) -> 0 | ... P16: =OFFSET(INDIRECT("'"&$A$2&"'!A1"),ROW()-1,COLUMN()-1) -> 0
... A50: =OFFSET(INDIRECT("'"&$A$2&"'!A1"),ROW()-1,COLUMN()-1) -> 0 | B50: =OFFSET(INDIRECT("'"&$A$2&"'!A1"),ROW()-1,COLUMN()-1) -> 0 | C50: =OFFSET(INDIRECT("'"&$A$2&"'!A1"),ROW()-1,COLUMN()-1) -> 0 | D50: =OFFSET(INDIRECT("'"&$A$2&"'!A1"),ROW()-1,COLUMN()-1) -> 0 | E50: =OFFSET(INDIRECT("'"&$A$2&"'!A1"),ROW()-1,COLUMN()-1) -> 0 | F50: =OFFSET(INDIRECT("'"&$A$2&"'!A1"),ROW()-1,COLUMN()-1) -> 0 | G50: =OFFSET(INDIRECT("'"&$A$2&"'!A1"),ROW()-1,COLUMN()-1) -> 0 | H50: =OFFSET(INDIRECT("'"&$A$2&"'!A1"),ROW()-1,COLUMN()-1) -> 0 | ... P50: =OFFSET(INDIRECT("'"&$A$2&"'!A1"),ROW()-1,COLUMN()-1) -> 0

Sheet MODEL
A2: =LOOKUP(A6,'MATRICE code clts'!$A$2:$B$490) -> #N/A
G4: Prix de vente 2016
A5: CODE CLT | B5: CA 2016 | C5: CA/ article | D5: % CA/article | E5: code article | F5: designation | G5: Prix de vente a l'unité | H5: Prix vente au kg | I5: remise | J5: Prix moyen 2016 | K5: PRIX 2017 | L5: commentaires
B6: =SUM(C6:C14) -> 0 | D6: =(C6/$B$6) -> #DIV/0! | F6: =LOOKUP(E6,'MATRICE code articles'!$A$2:$B$489) -> #N/A
D7: =(C7/$B$6) -> #DIV/0! | F7: =LOOKUP(E7,'MATRICE code articles'!$A$2:$B$489) -> #N/A
D8: =(C8/$B$6) -> #DIV/0! | F8: =LOOKUP(E8,'MATRICE code articles'!$A$2:$B$489) -> #N/A
D9: =(C9/$B$6) -> #DIV/0! | F9: =LOOKUP(E9,'MATRICE code articles'!$A$2:$B$489) -> #N/A
D10: =(C10/$B$6) -> #DIV/0! | F10: =LOOKUP(E10,'MATRICE code articles'!$A$2:$B$489) -> #N/A
D11: =(C11/$B$6) -> #DIV/0! | F11: =LOOKUP(E11,'MATRICE code articles'!$A$2:$B$489) -> #N/A
D12: =(C12/$B$6) -> #DIV/0! | F12: =LOOKUP(E12,'MATRICE code articles'!$A$2:$B$489) -> #N/A
D13: =(C13/$B$6) -> #DIV/0! | F13: =LOOKUP(E13,'MATRICE code articles'!$A$2:$B$489) -> #N/A
D14: =(C14/$B$6) -> #DIV/0! | F14: =LOOKUP(E14,'MATRICE code articles'!$A$2:$B$489) -> #N/A

Sheet MATRICE code articles
A1: CODE ARTICLE | B1: DESIGNATION
A2: 1000 | B2: ROGNURE
A3: 1100 | B3: EMMENTAL GRAND CRU BLANC
A4: 1101 | B4: EMMENTAL GRAND CRU MEULE
A5: 1102 | B5: EMMENTAL GRAND CRU 1/8EME MEULE
A6: 1103 | B6: EMMENTAL GRAND CRU 1/12EME MEULE
A7: 1104 | B7: EMMENTAL GRAND CRU 1/4 MEULE
A8: 1200 | B8: EMMENTAL BLANC
A9: 1201 | B9: EMMENTAL EST CENTRAL
A10: 1202 | B10: EMMENTAL EST CENTRAL 1/8EME MEULE
A11: 1203 | B11: EMMENTAL FONTE
A12: 1204 | B12: DECHETS EMMENTAL
A13: 1205 | B13: EMMENTAL RAPE
A14: 1206 | B14: EMMENTAL BLANC
A15: 1207
A16: 1300
A17: 1301 | B17: GRUYERE BLANC
A18: 1302 | B18: GRUYERE MEULE
A19: 1303 | B19: GRUYERE FONTE
A20: 1304 | B20: FRANSK BRIE X6
A21: 1305 | B21: GRUYERE BLOC 2.5 KG X 4
A22: 1306 | B22: GRUYERE 1/4 MEULE
A23: 1307 | B23: DECHETS GRUYERE
A24: 1308 | B24: GRUYERE 1/12 MEULE
A25: 1309 | B25: GRUYERE RAPR 5 X 5 KG
A26: 2000 | B26: BRIE 1 KG 50% NU
A27: 2001 | B27: BRIE 1 KG 50% PC X 4
A28: 2002 | B28: BRIE 1 KG 50% PC X 2
... A423: 5002 | B423: METTON PRESURE

Sheet MATRICE code clts
A1: code client | B1: CLIENT
A2: 000008 | B2: SERDIS
A3: 000015 | B3: SARL AESDISTRI
A4: 000021 | B4: PRODILAC S.N.C
A5: 000032 | B5: MME GALLET EMMANUELLE
A6: 000036 | B6: S T F E TRANSPORT LANGRES
A7: 000039 | B7: ETS TOUFRAIS
A8: 000047 | B8: ETS FROMAGES DE France
A9: 000053 | B9: FROMAGERIE MAURON
A10: 000056 | B10: LA FERME DES VIKINGS
A11: 000063 | B11: SOCALAIT
A12: 000067 | B12: STE DOMAFRAIS
... A257: 420T | B257: UHRENHOLT A/S - Turquie

Sheet 381-CHEEZWHSE
A2: =LOOKUP(A6,'MATRICE code clts'!A2:$B257) -> CHEEZWHSE.COM
H4: Prix de vente 2016
A5: CODE CLT | B5: CA 2016 | C5: CA 2015 | D5: CA/ article | E5: % CA/article | F5: code article | G5: designation | H5: Prix de vente a l'unité | I5: Prix vente au kg | J5: Prix moyen 2016 | K5: TARIF 2017 | L5: PRIX MOYEN 2015 | M5: COMMENTAIRES
A6: 000381 | B6: 718630.43 | C6: 862372.68 | D6: 11024 | E6: =(D6/B6) -> 0.015340291 | F6: 2303 | G6: =LOOKUP(F6,'MATRICE code articles'!A2:B423) -> BRIE 1 KG 60% TOUR DE MARZE X 1 SANS DLUO | H6: 5.3 | J6: 5.3 | L6: 5.28
B7: =-(C6-B6)/C6 -> -0.16668229 | D7: 46390.56 | E7: =(D7/$B$6) -> 0.064554127 | F7: 2323 | G7: =LOOKUP(F7,'MATRICE code articles'!A3:B424) -> BRIE 1 KG 60% NOTRE DAME X2 SANS DLUO | H7: 5.08 | J7: 5.07 | L7: 5.06
D8: 296153.08 | E8: =(D8/$B$6) -> 0.41210763 | F8: 2407 | G8: =LOOKUP(F8,'MATRICE code articles'!A4:B425) -> BRIE 3 KG 60% NOTRE DAME SANS DLUO | H8: 4.85 | J8: 4.84 | L8: 4.84
D9: 273418.13 | E9: =(D9/$B$6) -> 0.38047113 | F9: 2408 | G9: =LOOKUP(F9,'MATRICE code articles'!A5:B426) -> BRIE 3 KG 60% TOUR DE MARZE SANS DLUO ( Couvercle ) | H9: 4.87 | J9: 4.86 | L9: 4.86
D10: 81853.2 | E10: =(D10/$B$6) -> 0.11390166 | F10: 4016 | G10: =LOOKUP(F10,'MATRICE code articles'!A6:B427) -> CAMEMBERT USA | H10: 1.17 | J10: 1.17 | L10: 1.17
D11: 9791.46 | E11: =(D11/$B$6) -> 0.013625168 | F11: 2205 | G11: =LOOKUP(F11,'MATRICE code articles'!A7:B428) -> BRIE 16 ONCES ARC DE TRIOMPHE X 6 | H11: 2.66 | J11: 2.65 | L11: 2.65

Sheet 452-BRADBURRY
A2: =LOOKUP(A6,'MATRICE code clts'!A2:B257) -> BRADBURRY & SON LIMITED
H4: Prix de vente 2016 | L4: TARIF 2017 | M4: PRIX MOYEN 2015 | N4: COMMENTAIRES
A5: CODE CLT | B5: CA 2016 | C5: CA 2015 | D5: CA/ article | E5: % CA/article | F5: code article | G5: designation | H5: Prix de vente a l'unité | I5: Prix vente au kg | J5: remise | K5: Prix moyen 2016
A6: 000452 | B6: 592743.57 | C6: 868562.97 | D6: 13921.39 | E6: =(D6/$B$6) -> 0.023486362 | F6: 2201 | G6: =LOOKUP(F6,'MATRICE code articles'!A2:B423) -> BRIE 500 GRS PC X 6 | H6: 2.32 | K6: 2.3 | M6: 2.32
B7: =-(C6-B6)/C6 -> -0.31755832 | D7: 42113.18 | E7: =(D7/$B$6) -> 0.07104789 | F7: 2320 | G7: =LOOKUP(F7,'MATRICE code articles'!A3:B424) -> BRIE 1 KG 60% PC X 4 | H7: 4.27 | J7: -0.27 | K7: 3.48 | M7: 4.27
D8: 357822.4 | E8: =(D8/$B$6) -> 0.6036715 | F8: 2435 | G8: =LOOKUP(F8,'MATRICE code articles'!A4:B425) -> BRIE 3 KG 60% PC (ITALIEN) | H8: 4.19 | J8: -0.19 | K8: 4.08 | M8: 4.19
D9: 46264.88 | E9: =(D9/$B$6) -> 0.078052099 | F9: 2601 | G9: =LOOKUP(F9,'MATRICE code articles'!A5:B426) -> POINTE DE BRIE X6 | H9: 0.99 | K9: 0.98 | M9: 0.99
D10: 75622.5 | E10: =(D10/$B$6) -> 0.12758046 | F10: 2606 | G10: =LOOKUP(F10,'MATRICE code articles'!A6:B427) -> POINTE DE BRIE NEUTRE 180 GRS X 6 | H10: 0.99 | K10: 0.98 | M10: 0.98
D11: 37014 | E11: =(D11/$B$6) -> 0.062445216 | F11: 3201 | G11: =LOOKUP(F11,'MATRICE code articles'!A7:B428) -> MERLEMONT | H11: 1.55 | K11: 1.55 | M11: 1.55
D12: 19985.22 | E12: =(D12/$B$6) -> 0.033716469 | F12: 4401 | G12: =LOOKUP(F12,'MATRICE code articles'!A8:B429) -> PAVE VAL DE SAONE | H12: 4.75 | K12: 4.75 | M12: 4.75

Sheet 377-FOZZY
A1: =LOOKUP(A6,'MATRICE code clts'!A2:B257) -> FOZZY FOOD
G4: Prix de vente 2016 | K4: PRIX Applicatble 01/02/17
A5: CODE CLT | B5: CA 2016 | C5: CA/ article | D5: % CA/article | E5: code article | F5: designation | G5: Prix de vente a l'unité | H5: Prix vente au kg | I5: remise | J5: Prix moyen 2016
A6: 000377 | B6: 439945.21 | C6: 395163.86 | D6: =(C6/$B$6) -> 0.89821153 | E6: 2445 | F6: =LOOKUP(E6,'MATRICE code articles'!A2:B423) -> BRIE 3 KG 60% DIJON | H6: 4.01 | I6: -0.1 | J6: 3.89
C7: 29037.84 | D7: =(C7/$B$6) -> 0.06600331 | E7: 2601 | F7: =LOOKUP(E7,'MATRICE code articles'!A3:B424) -> POINTE DE BRIE X6 | H7: 1.84 | I7: -0.018 | J7: 1.07
C8: 15743.51 | D8: =(C8/$B$6) -> 0.035785161 | E8: 4001 | F8: =LOOKUP(E8,'MATRICE code articles'!A4:B425) -> CAMEMBERT VAL DE SAONE 240 GRS | H8: 1.55 | I8: -0.024 | J8: 1.13

Sheet 323-BOUTER CHEESE
A1: =LOOKUP(A6,'MATRICE code clts'!A2:B257) -> A-WARE BOUTER CHEESE
G4: Prix de vente 2016 | J4: PRIX Applicatble 01/02/17
A5: CODE CLT | B5: CA 2016 | C5: CA/ article | D5: % CA/article | E5: code article | F5: designation | G5: Prix de vente a l'unité | H5: Prix vente au kg | I5: Prix moyen 2016
A6: 000323 | B6: 373153.55 | C6: 371471.99 | D6: =(C6/$B$6) -> 0.99549365 | E6: 2450 | F6: =LOOKUP(E6,'MATRICE code articles'!A2:B423) -> BRIE COUPE 60% NEUTRE X1 | H6: 3.85 | I6: 3.88
C7: 1038 | D7: =(C7/$B$6) -> 0.0027816967 | E7: 3326 | F7: =LOOKUP(E7,'MATRICE code articles'!A3:B424) -> BOIS BLOND BOUTER | H7: 1.62 | I7: 1.62

Sheet 420..UHRENHOLT
A1: =LOOKUP(A19,'MATRICE code clts'!$A$2:$B$257) -> UHRENHOLT A/S -DK | C1: =LOOKUP(A24,'MATRICE code clts'!$A$2:$B$257) -> UHRENHOLT A/S -SUEDE | E1: =LOOKUP(A28,'MATRICE code clts'!$A$2:$B$257) -> UHRENHOLT A/S- EGYPTE | F1: =LOOKUP(A31,'MATRICE code clts'!$A$2:$B$257) -> UHRENHOLT A/S -ESTONIE | G1: =LOOKUP(A40,'MATRICE code clts'!$A$2:$B$257) -> UHRENHOLT A/S - SINGAPOUR | I1: =LOOKUP(A42,'MATRICE code clts'!$A$2:$B$257) -> UHRENHOLT A/S - Turquie
A2: =LOOKUP(A33,'MATRICE code clts'!$A$2:$B$257) -> UHRENHOLT A/S - Finlande | C2: =LOOKUP(A35,'MATRICE code clts'!$A$2:$B$257) -> UHRENHOLT A/S - Israël | E2: =LOOKUP(A37,'MATRICE code clts'!$A$2:$B$257) -> UHRENHOLT A/S - Norvège
D4: Prix de vente 2016
A5: ref Articles | B5: ca / ref | C5: % ca/ article | D5: Prix moyen 2016 | E5: Prix de vente a l'unité | F5: designation | G5: PRIX 2017 | H5: commentaires
B6: =SUM(B7:B14) -> 700640.38
A7: 2436 | B7: =C20+C29+C33+C35+C42 -> 172796.05 | C7: =(B7/$B$6) -> 0.24662588 | D7: 3.83 / 3.89 / 3.79 / 3.81 / 3.75 | E7: 3.75 | F7: =LOOKUP(A7,'MATRICE code articles'!A$2:$B$489) -> BRIE 3 KG 60% MON AMI
A8: 2454 | B8: =C22+C26 -> 34721.56 | C8: =(B8/$B$6) -> 0.049556893 | D8: 3.75 / 3.79 / | F8: =LOOKUP(A8,'MATRICE code articles'!A$2:$B$489) -> BRIE 3 KG 60% MON AMI
A9: 2220 | B9: =C19+C28+C31 -> 25545.6 | C9: =(B9/$B$6) -> 0.036460359 | D9: 2.15/ 2.62/ | F9: =LOOKUP(A9,'MATRICE code articles'!A$2:$B$489) -> BRIE 500 GRS 60% MON AMI
A10: 2352 | B10: =C24 -> 110110 | C10: =(B10/$B$6) -> 0.15715623 | D10: 4.03 | E10: 4 | F10: =LOOKUP(A10,'MATRICE code articles'!A$2:$B$489) -> BRIE 1 KG 60% MON AMI
A11: 2444 | B11: =C25+C21 -> 17694.38 | C11: =(B11/$B$6) -> 0.025254582 | D11: 3.89/3.84/ | F11: =LOOKUP(A11,'MATRICE code articles'!A$2:$B$489) -> BRIE 3 KG 60% MON AMI
A12: 2231 | B12: =C37 -> 248204.1 | C12: =(B12/$B$6) -> 0.3542532 | D12: 2.13 | E12: 2.05 | F12: =LOOKUP(A12,'MATRICE code articles'!A$2:$B$489) -> BRIE 500G 60 %*6 MON AMI
A13: 2448 | B13: =C38 -> 82597.49 | C13: =(B13/$B$6) -> 0.11788857 | D13: 3.8 | F13: =LOOKUP(A13,'MATRICE code articles'!A$2:$B$489) -> BRIE 3 KG 60% MON AMI SUEDE
A14: 2235 | B14: =C40 -> 8971.2 | C14: =(B14/$B$6) -> 0.012804286 | D14: 2.08 | F14: =LOOKUP(A14,'MATRICE code articles'!A$2:$B$489) -> BRIE 500G 60% *6 MON AMI
G17: Prix de vente 2016
A18: CODE CLT | B18: CA 2016 | C18: CA/ article | D18: % CA/article | E18: code article | F18: designation | G18: Prix de vente a l'unité | H18: Prix vente au kg | I18: remise | J18: Prix moyen 2016 | K18: PRIX 2017
A19: 000420 | B19: =SUM(C19:C22) -> 84589.05 | C19: 3715.2 | D19: =(C19/$B$19) -> 0.043920578 | E19: 2220 | F19: =LOOKUP(E19,'MATRICE code articles'!$A$2:$B$489) -> BRIE 500 GRS 60% MON AMI | J19: 2.15
C20: 38614.15 | D20: =(C20/$B$19) -> 0.45649112 | E20: 2436 | F20: =LOOKUP(E20,'MATRICE code articles'!$A$2:$B$489) -> BRIE 3 KG 60% MON AMI | G20: 3.75 | I20: -0.14 | J20: 3.83
C21: 10028.46 | D21: =(C21/$B$19) -> 0.11855506 | E21: 2444 | F21: =LOOKUP(E21,'MATRICE code articles'!$A$2:$B$489) -> BRIE 3 KG 60% MON AMI | J21: 3.89
C22: 32231.24 | D22: =(C22/$B$19) -> 0.38103324 | E22: 2454 | F22: =LOOKUP(E22,'MATRICE code articles'!$A$2:$B$489) -> BRIE 3 KG 60% MON AMI | J22: 3.79
A23: CODE CLT | C23: CA/ article | D23: % CA/article | E23: code article | F23: designation | G23: Prix de vente a l'unité | H23: Prix vente au kg | I23: remise | J23: Prix moyen 2016 | K23: PRIX 2017
A24: 000423 | B24: =SUM(C24:C26) -> 120266.24 | C24: 110110 | D24: =(C24/$B$24) -> 0.91555203 | E24: 2352 | F24: =LOOKUP(E24,'MATRICE code articles'!$A$2:$B$489) -> BRIE 1 KG 60% MON AMI | G24: 4 | I24: -0.1 | J24: 4.03
C25: 7665.92 | D25: =(C25/$B$24) -> 0.063741246 | E25: 2444 | F25: =LOOKUP(E25,'MATRICE code articles'!$A$2:$B$489) -> BRIE 3 KG 60% MON AMI | J25: 3.84
C26: 2490.32 | D26: =(C26/$B$24) -> 0.020706725 | E26: 2454 | F26: =LOOKUP(E26,'MATRICE code articles'!$A$2:$B$489) -> BRIE 3 KG 60% MON AMI | J26: 3.75
A27: CODE CLT | C27: CA/ article | D27: % CA/article | E27: code article | F27: designation | G27: Prix de vente a l'unité | H27: Prix vente au kg | I27: remise | J27: Prix moyen 2016 | K27: PRIX 2017
A28: 420E | B28: =SUM(C28:C29) -> 10195.76 | C28: 3715.2 | D28: =(C28/$B$28) -> 0.36438676 | E28: 2220 | F28: =LOOKUP(E28,'MATRICE code articles'!$A$2:$B$489) -> BRIE 500 GRS 60% MON AMI | J28: 2.15
C29: 6480.56 | D29: =(C29/$B$28) -> 0.63561324 | E29: 2436 | F29: =LOOKUP(E29,'MATRICE code articles'!$A$2:$B$489) -> BRIE 3 KG 60% MON AMI | G29: 3.75 | I29: -0.14 | J29: 3
A30: CODE CLT | C30: CA/ article | D30: % CA/article | E30: code article | F30: designation | G30: Prix de vente a l'unité | H30: Prix vente au kg | I30: remise | J30: Prix moyen 2016 | K30: PRIX 2017
A31: 420ES | B31: =SUM(C31:C31) -> 18115.2 | C31: 18115.2 | D31: =(C31/$B$31) -> 1 | E31: 2220 | F31: =LOOKUP(E31,'MATRICE code articles'!$A$2:$B$489) -> BRIE 500 GRS 60% MON AMI | J31: 2.62
A32: CODE CLT | C32: CA/ article | D32: % CA/article | E32: code article | F32: designation | G32: Prix de vente a l'unité | H32: Prix vente au kg | I32: remise | J32: Prix moyen 2016 | K32: PRIX 2017
A33: 420F | B33: =SUM(C33:C33) -> 59845.46 | C33: 59845.46 | D33: =(C33/$B$33) -> 1 | E33: 2436 | F33: =LOOKUP(E33,'MATRICE code articles'!$A$2:$B$489) -> BRIE 3 KG 60% MON AMI | G33: 3.75 | I33: -0.14 | J33: 3.79
A34: CODE CLT | C34: CA/ article | D34: % CA/article | E34: code article | F34: designation | G34: Prix de vente a l'unité | H34: Prix vente au kg | I34: remise | J34: Prix moyen 2016 | K34: PRIX 2017
A35: 420I | B35: =SUM(C35:C35) -> 65313.66 | C35: 65313.66 | D35: =(C35/$B$35) -> 1 | E35: 2436 | F35: =LOOKUP(E35,'MATRICE code articles'!$A$2:$B$489) -> BRIE 3 KG 60% MON AMI | G35: 3.75 | I35: -0.14 | J35: 3.81
A36: CODE CLT | C36: CA/ article | D36: % CA/article | E36: code article | F36: designation | G36: Prix de vente a l'unité | H36: Prix vente au kg | I36: remise | J36: Prix moyen 2016 | K36: PRIX 2017
A37: 420N | B37: =SUM(C37:C38) -> 330801.59 | C37: 248204.1 | D37: =(C37/$B$37) -> 0.75031109 | E37: 2231 | F37: =LOOKUP(E37,'MATRICE code articles'!$A$2:$B$489) -> BRIE 500G 60 %*6 MON AMI | G37: 2.05 | J37: 2.13
C38: 82597.49 | D38: =(C38/$B$37) -> 0.24968891 | E38: 2448 | F38: =LOOKUP(E38,'MATRICE code articles'!$A$2:$B$489) -> BRIE 3 KG 60% MON AMI SUEDE | J38: 3.8
A39: CODE CLT | C39: CA/ article | D39: % CA/article | E39: code article | F39: designation | G39: Prix de vente a l'unité | H39: Prix vente au kg | I39: remise | J39: Prix moyen 2016 | K39: PRIX 2017
A40: 420S | B40: =SUM(C40:C40) -> 8971.2 | C40: 8971.2 | D40: =(C40/$B$40) -> 1 | E40: 2235 | F40: =LOOKUP(E40,'MATRICE code articles'!$A$2:$B$489) -> BRIE 500G 60% *6 MON AMI | J40: 2.08
A41: CODE CLT | C41: CA/ article | D41: % CA/article | E41: code article | F41: designation | G41: Prix de vente a l'unité | H41: Prix vente au kg | I41: remise | J41: Prix moyen 2016 | K41: PRIX 2017
A42: 420T | B42: =SUM(C42:C42) -> 2542.22 | C42: 2542.22 | D42: =(C42/$B$42) -> 1 | E42: 2436 | F42: =LOOKUP(E42,'MATRICE code articles'!$A$2:$B$489) -> BRIE 3 KG 60% MON AMI | G42: 3.75 | I42: -0.14 | J42: 3.75

Sheet 529-RUWISCH
A1: =LOOKUP(A6,'MATRICE code clts'!A2:B257) -> RUWISCH & ZUCK
G4: Prix de vente 2016
A5: CODE CLT | B5: CA 2016 | C5: CA/ article | D5: % CA/article | E5: code article | F5: designation | G5: Prix de vente a l'unité | H5: Prix vente au kg | I5: remise | J5: Prix moyen 2016 | K5: PRIX 2017
A6: 000529 | B6: 325091.1 | C6: 36072.21 | D6: =(C6/$B$6) -> 0.11096031 | E6: 2002 | F6: =LOOKUP(E6,'MATRICE code articles'!A2:B423) -> BRIE 1 KG 50% PC X 2 | G6: 4.4 | I6: -0.2 | J6: 4.24
C7: 1856.4 | D7: =(C7/$B$6) -> 0.0057103993 | E7: 2201 | F7: =LOOKUP(E7,'MATRICE code articles'!A3:B424) -> BRIE 500 GRS PC X 6 | G7: 2.6 | J7: 2.6
C8: 181477.46 | D8: =(C8/$B$6) -> 0.55823571 | E8: 2321 | F8: =LOOKUP(E8,'MATRICE code articles'!A4:B425) -> BRIE 1 KG 60% PC X 2 | G8: 4.45 | I8: -0.2 | J8: 4.23
C9: 3837.16 | D9: =(C9/$B$6) -> 0.011803338 | E9: 2411 | F9: =LOOKUP(E9,'MATRICE code articles'!A5:B426) -> BRIE 3 KG 60% GOUPIL | G9: 4.37 | I9: -0.1 | J9: 4.24
C10: 13804.74 | D10: =(C10/$B$6) -> 0.04246422 | E10: 3110 | F10: =LOOKUP(E10,'MATRICE code articles'!A6:B427) -> ROCHOIS X6 ZUCK | G10: 1.59 | J10: 1.58
C11: 27038.11 | D11: =(C11/$B$6) -> 0.083170871 | E11: 3251 | F11: =LOOKUP(E11,'MATRICE code articles'!A7:B428) -> MERLEMONT COUPE | G11: 6.04 | J11: 5.96
C12: 228 | D12: =(C12/$B$6) -> 0.00070134187 | E12: 3301 | F12: =LOOKUP(E12,'MATRICE code articles'!A8:B429) -> BOIS BLOND 230 GRS | G12: 2.1 | I12: -0.2 | J12: 1.9
C13: 8232.7 | D13: =(C13/$B$6) -> 0.025324286 | E13: 3327 | F13: =LOOKUP(E13,'MATRICE code articles'!A9:B430) -> BOIS BLOND 230 G X 6 | G13: 2.1 | I13: -0.2 | J13: 1.89
C14: 17032.86 | D14: =(C14/$B$6) -> 0.052394114 | E14: 3508 | F14: =LOOKUP(E14,'MATRICE code articles'!A10:B431) -> CARREMEMBON X6 | G14: 1.59 | J14: 1.58
C15: 23058.18 | D15: =(C15/$B$6) -> 0.070928364 | E15: 3512 | F15: =LOOKUP(E15,'MATRICE code articles'!A11:B432) -> CARREMEMBON EXQUISIT 250GR X 6 | G15: 1.59 | J15: 1.59
C16: 4579.2 | D16: =(C16/$B$6) -> 0.014085898 | E16: 3513 | F16: =LOOKUP(E16,'MATRICE code articles'!A12:B433) -> CARREMEMBON EXQUISIT 250 G X 6 | G16: 1.59 | J16: 1.3
C17: 8854.08 | D17: =(C17/$B$6) -> 0.027235689 | E17: 4104 | F17: =LOOKUP(E17,'MATRICE code articles'!A13:B434) -> REGAL DES MOINES | G17: 1.27 | J17: 1.26
C18: -980 | D18: =(C18/$B$6) -> -0.0030145396 | E18: 2427 | F18: =LOOKUP(E18,'MATRICE code articles'!A14:B435) -> LOT FROMAGES DECLASSE

Sheet 480-KAASIMPORT DUPONT
A1: =LOOKUP(A6,'MATRICE code clts'!A2:B257) -> KAASIMPORT JAN DUPONT NV
A2: =LOOKUP(A7,'MATRICE code clts'!A3:B258) -> #N/A
A3: =LOOKUP(A8,'MATRICE code clts'!A4:B259) -> #N/A
G4: Prix de vente 2016
A5: CODE CLT | B5: CA 2016 | C5: CA/ article | D5: % CA/article | E5: code article | F5: designation | G5: Prix de vente a l'unité | H5: Prix vente au kg | I5: remise | J5: Prix moyen 2016 | K5: PRIX 2017
A6: 000480 | B6: =SUM(C6:C12) -> 284201.82 | C6: 87548.72 | D6: =(C6/$B$6) -> 0.30805123 | E6: 2001 | F6: =LOOKUP(E6,'MATRICE code articles'!A2:B423) -> BRIE 1 KG 50% PC X 4 | H6: 4.35 | I6: -0.03 | J6: 4.23
C7: 136330.14 | D7: =(C7/$B$6) -> 0.47969482 | E7: 2318 | F7: =LOOKUP(E7,'MATRICE code articles'!A3:B424) -> BRIE 1 KG 60% NEUTRE X 2 | H7: 4.3 | I7: -0.03 | J7: 4.18
C8: 20461.5 | D8: =(C8/$B$6) -> 0.071996372 | E8: 2419 | F8: =LOOKUP(E8,'MATRICE code articles'!A4:B425) -> BRIE 3 KG 60% NEUTRE | H8: 4.12 | I8: -0.04 | J8: 3.98
C9: 20286.51 | D9: =(C9/$B$6) -> 0.071380648 | E9: 3001 | F9: =LOOKUP(E9,'MATRICE code articles'!A5:B426) -> PAVE 3 PROVINCES | H9: 5.2 | I9: -0.15 | J9: 5.02
C10: 941.28 | D10: =(C10/$B$6) -> 0.0033120126 | E10: 3201 | F10: =LOOKUP(E10,'MATRICE code articles'!A6:B427) -> MERLEMONT | H10: 1.48 | J10: 1.48
C11: 14163.23 | D11: =(C11/$B$6) -> 0.049835114 | E11: 3251 | F11: =LOOKUP(E11,'MATRICE code articles'!A7:B428) -> MERLEMONT COUPE | H11: 5.3 | J11: 5.27
C12: 4470.44 | D12: =(C12/$B$6) -> 0.015729808 | E12: 4401 | F12: =LOOKUP(E12,'MATRICE code articles'!A8:B429) -> PAVE VAL DE SAONE | H12: 4.72 | I12: -0.04 | J12: 4.55

Sheet 371-ZIJERVELD
A1: =LOOKUP(A6,'MATRICE code clts'!A2:B257) -> ZIJERVELD
A2: =LOOKUP(A7,'MATRICE code clts'!A3:B258) -> #N/A
A3: =LOOKUP(A8,'MATRICE code clts'!A4:B259) -> #N/A
G4: Prix de vente 2016
A5: CODE CLT | B5: CA 2016 | C5: CA/ article | D5: % CA/article | E5: code article | F5: designation | G5: Prix de vente a l'unité | H5: Prix vente au kg | I5: remise | J5: Prix moyen 2016 | K5: PRIX 2017
A6: 000371 | B6: =SUM(C6:C13) -> 273843.45 | C6: 19992 | D6: =(C6/$B$6) -> 0.073005215 | E6: 2017 | F6: =LOOKUP(E6,'MATRICE code articles'!A2:B423) -> BRIE 1KG 50% C'REMOUGE BLANC BIO | G6: 6.8 | J6: 6.8
C7: 11064.4 | D7: =(C7/$B$6) -> 0.040404107 | E7: 2020 | F7: =LOOKUP(E7,'MATRICE code articles'!A3:B424) -> C'REMOUGE ROUGE | G7: 6.95 | J7: 6.95
C8: 20391.19 | D8: =(C8/$B$6) -> 0.074462946 | E8: 2108 | F8: =LOOKUP(E8,'MATRICE code articles'!A4:B425) -> BRIE 3 KG 50% NEUTRE | G8: 3.75 | J8: 3.83
C9: 55327.65 | D9: =(C9/$B$6) -> 0.20204117 | E9: 2419 | F9: =LOOKUP(E9,'MATRICE code articles'!A5:B426) -> BRIE 3 KG 60% NEUTRE | G9: 3.75 | J9: 3.75
C10: 72.96 | D10: =(C10/$B$6) -> 0.0002664296 | E10: 3201 | F10: =LOOKUP(E10,'MATRICE code articles'!A6:B427) -> MERLEMONT | G10: 1.52 | J10: 1.52
C11: 109368.45 | D11: =(C11/$B$6) -> 0.39938311 | E11: 4203 | F11: =LOOKUP(E11,'MATRICE code articles'!A7:B428) -> TOMME VAL DE SAONE 60% | G11: 4.6 | I11: -0.05 | J11: 4.4
C12: 3654.72 | D12: =(C12/$B$6) -> 0.013346019 | E12: 4301 | F12: =LOOKUP(E12,'MATRICE code articles'!A8:B429) -> COULOMMIER VAL DE SAONE | G12: 1.62 | J12: 1.62
C13: 53972.08 | D13: =(C13/$B$6) -> 0.197091 | E13: 4401 | F13: =LOOKUP(E13,'MATRICE code articles'!A9:B430) -> PAVE VAL DE SAONE | G13: 4.7 | I13: -0.06 | J13: 4.48

Sheet 379-ATALANTA
A1: =LOOKUP(A6,'MATRICE code clts'!A2:B257) -> ATALANTA CORPORATION
A2: =LOOKUP(A7,'MATRICE code clts'!A3:B258) -> #N/A
A3: =LOOKUP(A8,'MATRICE code clts'!A4:B259) -> #N/A
G4: Prix de vente 2016
A5: CODE CLT | B5: CA 2016 | C5: CA/ article | D5: % CA/article | E5: code article | F5: designation | G5: Prix de vente a l'unité | H5: Prix vente au kg | I5: remise | J5: Prix moyen 2016 | K5: PRIX 2017
A6: 000379 | B6: =SUM(C6:C11) -> 718630.43 | C6: 9791.46 | D6: =(C6/$B$6) -> 0.013625168 | E6: 2205 | F6: =LOOKUP(E6,'MATRICE code articles'!A2:B423) -> BRIE 16 ONCES ARC DE TRIOMPHE X 6 | H6: 2.66 | J6: 2.65
C7: 11024 | D7: =(C7/$B$6) -> 0.015340291 | E7: 2303 | F7: =LOOKUP(E7,'MATRICE code articles'!A3:B424) -> BRIE 1 KG 60% TOUR DE MARZE X 1 SANS DLUO | H7: 5.3 | J7: 5.3
C8: 46390.56 | D8: =(C8/$B$6) -> 0.064554127 | E8: 2323 | F8: =LOOKUP(E8,'MATRICE code articles'!A4:B425) -> BRIE 1 KG 60% NOTRE DAME X2 SANS DLUO | H8: 5.08 | J8: 5.07
C9: 296153.08 | D9: =(C9/$B$6) -> 0.41210763 | E9: 2407 | F9: =LOOKUP(E9,'MATRICE code articles'!A5:B426) -> BRIE 3 KG 60% NOTRE DAME SANS DLUO | H9: 4.85 | J9: 4.84
C10: 273418.13 | D10: =(C10/$B$6) -> 0.38047113 | E10: 2408 | F10: =LOOKUP(E10,'MATRICE code articles'!A6:B427) -> BRIE 3 KG 60% TOUR DE MARZE SANS DLUO ( Couvercle ) | H10: 4.87 | J10: 4.86
C11: 81853.2 | D11: =(C11/$B$6) -> 0.11390166 | E11: 4016 | F11: =LOOKUP(E11,'MATRICE code articles'!A7:B428) -> CAMEMBERT USA | H11: 1.17 | J11: 1.17

Sheet 539- BIO TROPIC
A1: =LOOKUP(A6,'MATRICE code clts'!A2:B257) -> BIO TROPIC Gellschaft zur
A2: =LOOKUP(A7,'MATRICE code clts'!A3:B258) -> #N/A
A3: =LOOKUP(A8,'MATRICE code clts'!A4:B259) -> #N/A
G4: Prix de vente 2016
A5: CODE CLT | B5: CA 2016 | C5: CA/ article | D5: % CA/article | E5: code article | F5: designation | G5: Prix de vente a l'unité | H5: Prix vente au kg | I5: remise | J5: Prix moyen 2016 | K5: PRIX 2017
A6: 000539 | B6: =SUM(C6:C8) -> 264165.3 | C6: 8001 | D6: =(C6/$B$6) -> 0.030287854 | E6: 2017 | F6: =LOOKUP(E6,'MATRICE code articles'!A2:B423) -> BRIE 1KG 50% C'REMOUGE BLANC BIO | J6: 6.3
C7: 68840.1 | D7: =(C7/$B$6) -> 0.26059479 | E7: 2023 | F7: =LOOKUP(E7,'MATRICE code articles'!A3:B424) -> C'REMOUGE ROUGE | J7: 6.28
C8: 187324.2 | D8: =(C8/$B$6) -> 0.70911736 | E8: 2024 | F8: =LOOKUP(E8,'MATRICE code articles'!A4:B425) -> BRIE 1 KG 50% C'REMOUGE BLANC BIO | J8: 6.3

Sheet 448-KOSTADINOV
A1: =LOOKUP(A6,'MATRICE code clts'!A2:B257) -> KOSTADINOV
A2: =LOOKUP(A7,'MATRICE code clts'!A3:B258) -> #N/A
A3: =LOOKUP(A8,'MATRICE code clts'!A4:B259) -> #N/A
G4: Prix de vente 2016
A5: CODE CLT | B5: CA 2016 | C5: CA/ article | D5: % CA/article | E5: code article | F5: designation | G5: Prix de vente a l'unité | H5: Prix vente au kg | I5: remise | J5: Prix moyen 2016 | K5: PRIX 2017
A6: 000448 | B6: =SUM(C6:C13) -> 220732.03 | C6: 949.63 | D6: =(C6/$B$6) -> 0.0043021849 | E6: 2321 | F6: =LOOKUP(E6,'MATRICE code articles'!A2:B423) -> BRIE 1 KG 60% PC X 2 | H6: 4.45 | J6: 4.32
C7: 23580.12 | D7: =(C7/$B$6) -> 0.10682691 | E7: 2359 | F7: =LOOKUP(E7,'MATRICE code articles'!A3:B424) -> BRIE 1 KG 60% HORECA | H7: 4.55 | J7: 4.44
C8: 43165.11 | D8: =(C8/$B$6) -> 0.19555436 | E8: 2410 | F8: =LOOKUP(E8,'MATRICE code articles'!A4:B425) -> BRIE 3 KG 60% TOUR DE MARZE | H8: 4.3 | J8: 4.17
C9: 39655.77 | D9: =(C9/$B$6) -> 0.17965571 | E9: 2440 | F9: =LOOKUP(E9,'MATRICE code articles'!A5:B426) -> BRIE 3 KG 60% PATURAGES COMTOIS | H9: 4.3 | J9: 4.16
C10: 93263.25 | D10: =(C10/$B$6) -> 0.42251797 | E10: 2441 | F10: =LOOKUP(E10,'MATRICE code articles'!A6:B427) -> BRIE COUPE 60% NEUTRE X1 | H10: 4.1 | J10: 3.96
C11: 10985.22 | D11: =(C11/$B$6) -> 0.049767222 | E11: 2601 | F11: =LOOKUP(E11,'MATRICE code articles'!A7:B428) -> POINTE DE BRIE X6 | H11: 0.95 | J11: 0.92
C12: 7811.76 | D12: =(C12/$B$6) -> 0.035390242 | E12: 4001 | F12: =LOOKUP(E12,'MATRICE code articles'!A8:B429) -> CAMEMBERT VAL DE SAONE 240 GRS | H12: 1.08 | J12: 1.05
C13: 1321.17 | D13: =(C13/$B$6) -> 0.0059854023 | E13: 4401 | F13: =LOOKUP(E13,'MATRICE code articles'!A9:B430) -> PAVE VAL DE SAONE | H13: 4.6 | J13: 4.48

Sheet 570-571-REWE
A1: =LOOKUP(A9,'MATRICE code clts'!A2:B257) -> FA REWE DORTMUND
A2: =LOOKUP(A13,'MATRICE code clts'!A3:B258) -> FA REWE WESEL
A3: =LOOKUP(A11,'MATRICE code clts'!A4:B259) -> #N/A
A5: total CA
A6: 2016 | B6: =B9+B13 -> 297005.53
G7: Prix de vente 2016
A8: CODE CLT | B8: CA 2016 | C8: CA/ article | D8: % CA/article | E8: code article | F8: designation | G8: Prix de vente a l'unité | H8: Prix vente au kg | I8: remise | J8: Prix moyen 2016 | K8: PRIX 2017
A9: 000571 | B9: =SUM(C9:C11) -> 208767.56 | C9: 190276.44 | D9: =(C9/$B$9) -> 0.91142724 | E9: 2103 | F9: =LOOKUP(E9,'MATRICE code articles'!A2:B423) -> BRIE 3 KG 50% PC | G9: 3.6 | I9: 0.6 | J9: 3.88
C10: 9763.52 | D10: =(C10/$B$9) -> 0.046767419 | E10: 2411 | F10: =LOOKUP(E10,'MATRICE code articles'!A3:B424) -> BRIE 3 KG 60% GOUPIL | G10: 4.2 | J10: 4.2
C11: 8727.6 | D11: =(C11/$B$9) -> 0.041805346 | E11: 4301 | F11: =LOOKUP(E11,'MATRICE code articles'!$A$2:$B$489) -> COULOMMIER VAL DE SAONE | G11: 1.4 | J11: 1.4
A12: CODE CLT | B12: CA 2016 | C12: CA/ article | D12: % CA/article | E12: code article | F12: designation
A13: 000570 | B13: =SUM(C13:C14) -> 88237.97 | C13: 87114.99 | D13: =(C13/$B$13) -> 0.98727328 | E13: 2103 | F13: =LOOKUP(E13,'MATRICE code articles'!$A$2:$B$489) -> BRIE 3 KG 50% PC | G13: 4.2 | J13: 3.82
C14: 1122.98 | D14: =(C14/$B$13) -> 0.012726721 | E14: 2411 | F14: =LOOKUP(E14,'MATRICE code articles'!$A$2:$B$489) -> BRIE 3 KG 60% GOUPIL | G14: 3.6 | I14: 0.6 | J14: 4.2

Sheet ITM
A1: =LOOKUP(A32,'MATRICE code clts'!A2:B257) -> ITM ALIMENTAIRE INTERNA.
G4: Prix de vente 2016
A5: CODE CLT | B5: CA 2016 | C5: CA/ article | D5: % CA/article | E5: code article | F5: designation | G5: Prix de vente a l'unité | H5: Prix vente au kg | I5: remise | J5: Prix moyen 2016 | K5: PRIX 2017 | L5: COMMENTAIRES
A6: TOTAL | B6: =SUM(B7:B24) -> 674790.07 | C6: =SUM(C7:C24) -> 674790.07
A7: =A32 -> 000069 | B7: =B32 -> 93671.61 | C7: =C32+C37+C50+C54+C58+C62+C65+C69+C71+C81+C85+C90+C94+C97+C104 -> 460651.71 | D7: =(C7/$B$6) -> 0.68265929 | E7: 2320 | F7: =LOOKUP(E7,'MATRICE code articles'!A$2:B$489) -> BRIE 1 KG 60% PC X 4 | J7: 4.35
A8: =A37 -> 000355 | B8: =B37 -> 65112 | C8: =C105+C100+C98+C95+C91+C86+C82+C72+C66+C63+C59+C55+C51+C47+C38+C33 -> 24899.16 | D8: =(C8/$B$6) -> 0.03689912 | E8: 2326 | F8: =LOOKUP(E8,'MATRICE code articles'!A$2:B$489) -> BRIE 1 KG 60% PC X 4 + 10% GRATUIT | J8: 4.35
A9: =A46 -> 000362 | B9: =B46 -> 44139.59 | C9: =C34+C39+C52+C73+C87+C106 -> 101747.92 | D9: =(C9/$B$6) -> 0.15078455 | E9: 2403 | F9: =LOOKUP(E9,'MATRICE code articles'!A$2:B$489) -> BRIE 3 KG 60% PC | J9: 1.42
A10: =A50 -> 000068 | B10: =B50 -> 84082.56 | C10: =C74 -> 1621.8 | D10: =(C10/$B$6) -> 0.0024034141 | E10: 3101 | F10: =LOOKUP(E10,'MATRICE code articles'!A$2:B$489) -> ROCHOIS | J10: 1.28
A11: =A54 -> 000071 | B11: =B54 -> 41607.32 | C11: =C40+C75+C88+C92 -> 10700.84 | D11: =(C11/$B$6) -> 0.015858028 | E11: 3201 | F11: =LOOKUP(E11,'MATRICE code articles'!A$2:B$489) -> MERLEMONT | J11: 1.33
A12: =A58 -> 000073 | B12: =B58 -> 6700.9 | C12: =C76+C41 -> 258 | D12: =(C12/$B$6) -> 0.00038234113 | E12: 3301 | F12: =LOOKUP(E12,'MATRICE code articles'!A$2:B$489) -> BOIS BLOND 230 GRS | J12: 1.25
A13: =A62 -> 000074 | B13: =B62 -> 24725.07 | C13: =C107+C102+C83+C67+C60+C56+C48+C35 -> 32879.47 | D13: =(C13/$B$6) -> 0.04872548 | E13: 3307 | F13: =LOOKUP(E13,'MATRICE code articles'!A$2:B$489) -> DOUCEUR SAONOISE 230 GRS | J13: 1.42
A14: =A65 -> 000077 | B14: =B65 -> 19214.78 | C14: =C46 -> 40709.26 | D14: =(C14/$B$6) -> 0.060328778 | E14: 3320 | F14: =LOOKUP(E14,'MATRICE code articles'!A$2:B$489) -> FONDANT CHAUD + BOUTEILLE 3.5 EUROS | J14: 4.35
A15: =A69 -> 000076 | B15: =B69 -> 29374.01 | C15: =C77+C42 -> 468 | D15: =(C15/$B$6) -> 0.00069354903 | E15: 4001 | F15: =LOOKUP(E15,'MATRICE code articles'!A$2:B$489) -> CAMEMBERT VAL DE SAONE 240 GRS | J15: 3 / 1.20 | L15: 355/357
A16: =A71 -> 000357 | B16: =B71 -> 62581.75 | C16: =C78+C43 -> 518.4 | D16: =(C16/$B$6) -> 0.00076823893 | E16: 4104 | F16: =LOOKUP(E16,'MATRICE code articles'!A$2:B$489) -> REGAL DES MOINES | J16: 2.64 / 1.20 | L16: 355/357
A17: =A81 -> 000180 | B17: =B81 -> 26739.93 | C17: =C79+C44 -> 335.51 | D17: =(C17/$B$6) -> 0.00049720649 | E17: 4401 | F17: =LOOKUP(E17,'MATRICE code articles'!A$2:B$489) -> PAVE VAL DE SAONE | J17: 3 / 4.60 | L17: 355/357
A18: =A85 -> 000358 | B18: =B85 -> 30165.12
A19: =A90 -> 000359 | B19: =B90 -> 23390.72
A20: =A94 -> 000365 | B20: =B94 -> 31010.68
A21: =A97 -> 000090 | B21: =B97 -> 9907.41
A22: =A100 -> 000092 | B22: =B100 -> 435.29
A23: =A102 -> 000368 | B23: =B102 -> 10195.2
A24: =A104 -> 000356 | B24: =B104 -> 71736.13
G29: Prix de vente 2016
A30: CODE CLT | B30: CA 2016 | C30: CA/ article | D30: % CA/article | E30: code article | F30: designation | G30: Prix de vente a l'unité | H30: Prix vente au kg | I30: remise | J30: Prix moyen 2016 | K30: PRIX 2017
A31: CODE CLT | B31: CA 2016 | C31: CA/ article | D31: % CA/article | E31: code article | F31: designation | G31: Prix de vente a l'unité | H31: Prix vente au kg | I31: remise | J31: Prix moyen 2016 | K31: PRIX 2017
A32: 000069 | B32: =SUM(C32:C35) -> 93671.61 | C32: 59113.75 | D32: =(C32/$B$32) -> 0.63107435 | E32: 2320 | F32: =LOOKUP(E32,'MATRICE code articles'!A25:B446) -> BRIE 1 KG 60% PC X 4 | J32: 4.35
C33: 539.77 | D33: =(C33/$B$32) -> 0.0057623649 | E33: 2326 | F33: =LOOKUP(E33,'MATRICE code articles'!A26:B447) -> BRIE 1 KG 60% PC X 4 + 10% GRATUIT | J33: 4.35
C34: 27272.29 | D34: =(C34/$B$32) -> 0.29114787 | E34: 2403 | F34: =LOOKUP(E34,'MATRICE code articles'!A27:B448) -> BRIE 3 KG 60% PC | J34: 3.81
C35: 6745.8 | D35: =(C35/$B$32) -> 0.072015416 | E35: 3307 | F35: =LOOKUP(E35,'MATRICE code articles'!A28:B449) -> DOUCEUR SAONOISE 230 GRS | J35: 1.42
A36: CODE CLT | B36: CA 2016 | C36: CA/ article | D36: % CA/article | E36: code article | F36: designation | G36: Prix de vente a l'unité | H36: Prix vente au kg | I36: remise | J36: Prix moyen 2016 | K36: PRIX 2017
A37: 000355 | B37: =SUM(C37:C44) -> 65112 | C37: 40674.44 | D37: =(C37/$B$37) -> 0.62468424 | E37: 2320 | F37: =LOOKUP(E37,'MATRICE code articles'!A$2:B$489) -> BRIE 1 KG 60% PC X 4 | J37: 4.35
C38: 5885.26 | D38: =(C38/$B$37) -> 0.090386718 | E38: 2326 | F38: =LOOKUP(E38,'MATRICE code articles'!A$2:B$489) -> BRIE 1 KG 60% PC X 4 + 10% GRATUIT | J38: 4.35
C39: 14118.86 | D39: =(C39/$B$37) -> 0.2168396 | E39: 2403 | F39: =LOOKUP(E39,'MATRICE code articles'!A$2:B$489) -> BRIE 3 KG 60% PC | J39: 3.81
C40: 4188.02 | D40: =(C40/$B$37) -> 0.064320248 | E40: 3201 | F40: =LOOKUP(E40,'MATRICE code articles'!A$2:B$489) -> MERLEMONT | J40: 1.33
C41: 18 | D41: =(C41/$B$37) -> 0.00027644674 | E41: 3301 | F41: =LOOKUP(E41,'MATRICE code articles'!A$2:B$489) -> BOIS BLOND 230 GRS | J41: 3
C42: 36 | D42: =(C42/$B$37) -> 0.00055289348 | E42: 4001 | F42: =LOOKUP(E42,'MATRICE code articles'!A$2:B$489) -> CAMEMBERT VAL DE SAONE 240 GRS | J42: 3
C43: 158.4 | D43: =(C43/$B$37) -> 0.0024327313 | E43: 4104 | F43: =LOOKUP(E43,'MATRICE code articles'!A$2:B$489) -> REGAL DES MOINES | J43: 2.64
C44: 33.02 | D44: =(C44/$B$37) -> 0.00050712618 | E44: 4401 | F44: =LOOKUP(E44,'MATRICE code articles'!A$2:B$489) -> PAVE VAL DE SAONE | J44: 3
A45: CODE CLT | B45: CA 2016 | C45: CA/ article | D45: % CA/article | E45: code article | F45: designation | G45: Prix de vente a l'unité | H45: Prix vente au kg | I45: remise | J45: Prix moyen 2016 | K45: PRIX 2017
A46: 000362 | B46: =SUM(C46:C48) -> 44139.59 | C46: 40709.26 | D46: =(C46/$B$46) -> 0.92228451 | E46: 3320 | F46: =LOOKUP(E46,'MATRICE code articles'!A$2:B$489) -> FONDANT CHAUD + BOUTEILLE 3.5 EUROS | J46: 4.35
...

Sheet 282-OUTREMER
A2: =LOOKUP(A6,'MATRICE code clts'!$A$2:$B$490) -> OUTREMER EXPORTATION
G4: Prix de vente 2016
A5: CODE CLT | B5: CA 2016 | C5: CA/ article | D5: % CA/article | E5: code article | F5: designation | G5: Prix de vente a l'unité | H5: Prix vente au kg | I5: remise | J5: Prix moyen 2016 | K5: PRIX 2017 | L5: commentaires
A6: 000282 | B6: =SUM(C6:C22) -> 154204.8 | C6: 30533 | D6: =(C6/$B$6) -> 0.19800292 | E6: 2001 | F6: =LOOKUP(E6,'MATRICE code articles'!$A$2:$B$489) -> BRIE 1 KG 50% PC X 4 | J6: 4.75
C7: 8522.4 | D7: =(C7/$B$6) -> 0.055266762 | E7: 2201 | F7: =LOOKUP(E7,'MATRICE code articles'!$A$2:$B$489) -> BRIE 500 GRS PC X 6 | J7: 2.68
C8: 1612.54 | D8: =(C8/$B$6) -> 0.010457132 | E8: 2403 | F8: =LOOKUP(E8,'MATRICE code articles'!$A$2:$B$489) -> BRIE 3 KG 60% PC | J8: 4.5
C9: 23742.63 | D9: =(C9/$B$6) -> 0.15396816 | E9: 2419 | F9: =LOOKUP(E9,'MATRICE code articles'!$A$2:$B$489) -> BRIE 3 KG 60% NEUTRE | J9: 4.45
C10: 1179.72 | D10: =(C10/$B$6) -> 0.0076503455 | E10: 2601 | F10: =LOOKUP(E10,'MATRICE code articles'!$A$2:$B$489) -> POINTE DE BRIE X6 | J10: 1.13
C11: 2353.65 | D11: =(C11/$B$6) -> 0.015263144 | E11: 3001 | F11: =LOOKUP(E11,'MATRICE code articles'!$A$2:$B$489) -> PAVE 3 PROVINCES | J11: 5.45
C12: 8386.56 | D12: =(C12/$B$6) -> 0.054385856 | E12: 3101 | F12: =LOOKUP(E12,'MATRICE code articles'!$A$2:$B$489) -> ROCHOIS | J12: 1.56
C13: 10707.84 | D13: =(C13/$B$6) -> 0.069439084 | E13: 3201 | F13: =LOOKUP(E13,'MATRICE code articles'!$A$2:$B$489) -> MERLEMONT | J13: 1.56
C14: 1236.42 | D14: =(C14/$B$6) -> 0.0080180383 | E14: 3251 | F14: =LOOKUP(E14,'MATRICE code articles'!$A$2:$B$489) -> MERLEMONT COUPE | J14: 5.25
C15: 9611.1 | D15: =(C15/$B$6) -> 0.062326854 | E15: 3301 | F15: =LOOKUP(E15,'MATRICE code articles'!$A$2:$B$489) -> BOIS BLOND 230 GRS | J15: 1.81
C16: 10758.24 | D16: =(C16/$B$6) -> 0.069765922 | E16: 3308 | F16: =LOOKUP(E16,'MATRICE code articles'!$A$2:$B$489) -> FONDANT CHAUD 300 GRS | J16: 2.48
C17: 6982.56 | D17: =(C17/$B$6) -> 0.045281081 | E17: 3502 | F17: =LOOKUP(E17,'MATRICE code articles'!$A$2:$B$489) -> CARREMEMBON | J17: 1.56
C18: 15631.2 | D18: =(C18/$B$6) -> 0.10136649 | E18: 4001 | F18: =LOOKUP(E18,'MATRICE code articles'!$A$2:$B$489) -> CAMEMBERT VAL DE SAONE 240 GRS | J18: 1.3
... C22: 571.08 | D22: =(C22/$B$6) -> 0.0037033867 | E22: 4401 | F22: =LOOKUP(E22,'MATRICE code articles'!$A$2:$B$489) -> PAVE VAL DE SAONE | J22: 5.15

Sheet 278- SCAPALSACE
A2: =LOOKUP(A6,'MATRICE code clts'!$A$2:$B$490) -> ETS SCAPALSACE
G4: Prix de vente 2016
A5: CODE CLT | B5: CA 2016 | C5: CA/ article | D5: % CA/article | E5: code article | F5: designation | G5: Prix de vente a l'unité | H5: Prix vente au kg | I5: remise | J5: Prix moyen 2016 | K5: PRIX 2017 | L5: commentaires
A6: 000278 | B6: =SUM(C6:C8) -> 112292.16 | C6: 82830.56 | D6: =(C6/$B$6) -> 0.7376344 | E6: 2001 | F6: =LOOKUP(E6,'MATRICE code articles'!A$2:$B$489) -> BRIE 1 KG 50% PC X 4 | G6: 4.532 | I6: -0.05 | J6: 4.51
C7: 17926.96 | D7: =(C7/$B$6) -> 0.1596457 | E7: 2403 | F7: =LOOKUP(E7,'MATRICE code articles'!A$2:$B$489) -> BRIE 3 KG 60% PC | G7: 3.813 | I7: -0.1 | J7: 4
C8: 11534.64 | D8: =(C8/$B$6) -> 0.1027199 | E8: 3201 | F8: =LOOKUP(E8,'MATRICE code articles'!A$2:$B$489) -> MERLEMONT | G8: 1.454 | I8: -0.05 | J8: 1.44

Sheet Feuil7
A2: =LOOKUP(A6,'MATRICE code clts'!$A$2:$B$490) -> #N/A
G4: Prix de vente 2016
A5: CODE CLT | B5: CA 2016 | C5: CA/ article | D5: % CA/article | E5: code article | F5: designation | G5: Prix de vente a l'unité | H5: Prix vente au kg | I5: remise | J5: Prix moyen 2016 | K5: PRIX 2017 | L5: commentaires
B6: =SUM(C6:C14) -> 0 | D6: =(C6/$B$6) -> #DIV/0! | F6: =LOOKUP(E6,'MATRICE code articles'!$A$2:$B$489) -> #N/A
D7: =(C7/$B$6) -> #DIV/0! | F7: =LOOKUP(E7,'MATRICE code articles'!$A$2:$B$489) -> #N/A
D8: =(C8/$B$6) -> #DIV/0! | F8: =LOOKUP(E8,'MATRICE code articles'!$A$2:$B$489) -> #N/A
D9: =(C9/$B$6) -> #DIV/0! | F9: =LOOKUP(E9,'MATRICE code articles'!$A$2:$B$489) -> #N/A
D10: =(C10/$B$6) -> #DIV/0! | F10: =LOOKUP(E10,'MATRICE code articles'!$A$2:$B$489) -> #N/A
D11: =(C11/$B$6) -> #DIV/0! | F11: =LOOKUP(E11,'MATRICE code articles'!$A$2:$B$489) -> #N/A
D12: =(C12/$B$6) -> #DIV/0! | F12: =LOOKUP(E12,'MATRICE code articles'!$A$2:$B$489) -> #N/A
D13: =(C13/$B$6) -> #DIV/0! | F13: =LOOKUP(E13,'MATRICE code articles'!$A$2:$B$489) -> #N/A
D14: =(C14/$B$6) -> #DIV/0! | F14: =LOOKUP(E14,'MATRICE code articles'!$A$2:$B$489) -> #N/A

Sheet Feuil8
A2: =LOOKUP(A6,'MATRICE code clts'!$A$2:$B$490) -> #N/A
G4: Prix de vente 2016
A5: CODE CLT | B5: CA 2016 | C5: CA/ article | D5: % CA/article | E5: code article | F5: designation | G5: Prix de vente a l'unité | H5: Prix vente au kg | I5: remise | J5: Prix moyen 2016 | K5: PRIX 2017 | L5: commentaires
B6: =SUM(C6:C14) -> 0 | D6: =(C6/$B$6) -> #DIV/0! | F6: =LOOKUP(E6,'MATRICE code articles'!$A$2:$B$489) -> #N/A
D7: =(C7/$B$6) -> #DIV/0! | F7: =LOOKUP(E7,'MATRICE code articles'!$A$2:$B$489) -> #N/A
D8: =(C8/$B$6) -> #DIV/0! | F8: =LOOKUP(E8,'MATRICE code articles'!$A$2:$B$489) -> #N/A
D9: =(C9/$B$6) -> #DIV/0! | F9: =LOOKUP(E9,'MATRICE code articles'!$A$2:$B$489) -> #N/A
D10: =(C10/$B$6) -> #DIV/0! | F10: =LOOKUP(E10,'MATRICE code articles'!$A$2:$B$489) -> #N/A
D11: =(C11/$B$6) -> #DIV/0! | F11: =LOOKUP(E11,'MATRICE code articles'!$A$2:$B$489) -> #N/A
D12: =(C12/$B$6) -> #DIV/0! | F12: =LOOKUP(E12,'MATRICE code articles'!$A$2:$B$489) -> #N/A
D13: =(C13/$B$6) -> #DIV/0! | F13: =LOOKUP(E13,'MATRICE code articles'!$A$2:$B$489) -> #N/A
D14: =(C14/$B$6) -> #DIV/0! | F14: =LOOKUP(E14,'MATRICE code articles'!$A$2:$B$489) -> #N/A

Sheet Feuil9
A2: =LOOKUP(A6,'MATRICE code clts'!$A$2:$B$490) -> #N/A
G4: Prix de vente 2016
A5: CODE CLT | B5: CA 2016 | C5: CA/ article | D5: % CA/article | E5: code article | F5: designation | G5: Prix de vente a l'unité | H5: Prix vente au kg | I5: remise | J5: Prix moyen 2016 | K5: PRIX 2017 | L5: commentaires
B6: =SUM(C6:C14) -> 0 | D6: =(C6/$B$6) -> #DIV/0! | F6: =LOOKUP(E6,'MATRICE code articles'!$A$2:$B$489) -> #N/A
D7: =(C7/$B$6) -> #DIV/0! | F7: =LOOKUP(E7,'MATRICE code articles'!$A$2:$B$489) -> #N/A
D8: =(C8/$B$6) -> #DIV/0! | F8: =LOOKUP(E8,'MATRICE code articles'!$A$2:$B$489) -> #N/A
D9: =(C9/$B$6) -> #DIV/0! | F9: =LOOKUP(E9,'MATRICE code articles'!$A$2:$B$489) -> #N/A
D10: =(C10/$B$6) -> #DIV/0! | F10: =LOOKUP(E10,'MATRICE code articles'!$A$2:$B$489) -> #N/A
D11: =(C11/$B$6) -> #DIV/0! | F11: =LOOKUP(E11,'MATRICE code articles'!$A$2:$B$489) -> #N/A
D12: =(C12/$B$6) -> #DIV/0! | F12: =LOOKUP(E12,'MATRICE code articles'!$A$2:$B$489) -> #N/A
D13: =(C13/$B$6) -> #DIV/0! | F13: =LOOKUP(E13,'MATRICE code articles'!$A$2:$B$489) -> #N/A
D14: =(C14/$B$6) -> #DIV/0! | F14: =LOOKUP(E14,'MATRICE code articles'!$A$2:$B$489) -> #N/A

Sheet Feuil10
A2: =LOOKUP(A6,'MATRICE code clts'!$A$2:$B$490) -> #N/A
G4: Prix de vente 2016
A5: CODE CLT | B5: CA 2016 | C5: CA/ article | D5: % CA/article | E5: code article | F5: designation | G5: Prix de vente a l'unité | H5: Prix vente au kg | I5: remise | J5: Prix moyen 2016 | K5: PRIX 2017 | L5: commentaires
B6: =SUM(C6:C14) -> 0 | D6: =(C6/$B$6) -> #DIV/0! | F6: =LOOKUP(E6,'MATRICE code articles'!$A$2:$B$489) -> #N/A
D7: =(C7/$B$6) -> #DIV/0! | F7: =LOOKUP(E7,'MATRICE code articles'!$A$2:$B$489) -> #N/A
D8: =(C8/$B$6) -> #DIV/0! | F8: =LOOKUP(E8,'MATRICE code articles'!$A$2:$B$489) -> #N/A
D9: =(C9/$B$6) -> #DIV/0! | F9: =LOOKUP(E9,'MATRICE code articles'!$A$2:$B$489) -> #N/A
D10: =(C10/$B$6) -> #DIV/0! | F10: =LOOKUP(E10,'MATRICE code articles'!$A$2:$B$489) -> #N/A
D11: =(C11/$B$6) -> #DIV/0! | F11: =LOOKUP(E11,'MATRICE code articles'!$A$2:$B$489) -> #N/A
D12: =(C12/$B$6) -> #DIV/0! | F12: =LOOKUP(E12,'MATRICE code articles'!$A$2:$B$489) -> #N/A
D13: =(C13/$B$6) -> #DIV/0! | F13: =LOOKUP(E13,'MATRICE code articles'!$A$2:$B$489) -> #N/A
D14: =(C14/$B$6) -> #DIV/0! | F14: =LOOKUP(E14,'MATRICE code articles'!$A$2:$B$489) -> #N/A
