Workbook
Name A: #REF!
Name FEMME: CROSS!$BD$5
Name HOMME: CROSS!$BD$4

Sheet MASTER
B3: =Championnats!$B$3 -> 43101 | C3: =Championnats!$B$55 -> 43133 | D3: =Championnats!$B$107 -> 43162 | E3: =Championnats!$B$159 -> 43194 | F3: =Championnats!$B$211 -> 43225 | G3: =Championnats!$B$263 -> 43257 | H3: =Championnats!$B$315 -> 43288 | I3: =Championnats!$B$367 -> 43320 | J3: =Championnats!$B$419 -> 43352 | K3: =Championnats!$B$471 -> 43383 | M3: Partitipations CROSS | N3: Partitipations CHAMPIONNATS | V3: MIN | W3: MAX | Y3: CROSS | Z3: CROSS
B4: 50 m
A5: =(Championnats!B$4) -> AAA LUC | B5: =SUM(Championnats!F4) -> 0 | C5: =SUM(Championnats!F56) -> 0 | D5: =SUM(Championnats!F108) -> 0 | E5: =SUM(Championnats!F160) -> 0 | F5: =SUM(Championnats!F212) -> 0 | G5: =SUM(Championnats!F264) -> 0 | H5: =SUM(Championnats!F316) -> 0 | I5: =SUM(Championnats!F368) -> 0 | J5: =SUM(Championnats!F420) -> 0 | K5: =SUM(Championnats!F472) -> 0 | M5: =CROSS!$M$4 -> 1 | N5: =SUM(Championnats!AD4,Championnats!AD56,Championnats!AD108,Championnats!AD160,Championnats!AD212,Championnats!AD264,Championnats!AD316,Championnats!AD368,Championnats!AD420,Championnats!AD472) -> 0 | O5: =SUM(N5+M5) -> 1 | V5: {=MIN(IF(B5:K5>0,B5:K5))} -> 0 | W5: =MAX(B5:K5) -> 0 | Y5: =SUM(CROSS!I4) -> 7.9672131 | Z5: =SUM(CROSS!J4) -> 0 | AA5: =SUM(B5,B58,B110,B162,B214,B266,B318,B370,B422,B474,B526,B578,B630,B682,B734,B786,B838,B890,B942) -> 0 | AB5: =SUM(C5,C58,C110,C162,C214,C266,C318,C370,C422,C474,C526,C578,C630,C682,C734,C786,C838,C890,C942) -> 0 | AC5: =SUM(D5,D58,D110,D162,D214,D266,D318,D370,D422,D474,D526,D578,D630,D682,D734,D786,D838,D890,D942) -> 0 | AD5: =SUM(E5,E58,E110,E162,E214,E266,E318,E370,E422,E474,E526,E578,E630,E682,E734,E786,E838,E890,E942) -> 0 | AE5: =SUM(F5,F58,F110,F162,F214,F266,F318,F370,F422,F474,F526,F578,F630,F682,F734,F786,F838,F890,F942) -> 0 | AF5: =SUM(G5,G58,G110,G162,G214,G266,G318,G370,G422,G474,G526,G578,G630,G682,G734,G786,G838,G890,G942) -> 0 | AG5: =SUM(H5,H58,H110,H162,H214,H266,H318,H370,H422,H474,H526,H578,H630,H682,H734,H786,H838,H890,H942) -> 0 | AH5: =SUM(I5,I58,I110,I162,I214,I266,I318,I370,I422,I474,I526,I578,I630,I682,I734,I786,I838,I890,I942) -> 0 | ... AJ5: =SUM(K5,K58,K110,K162,K214,K266,K318,K370,K422,K474,K526,K578,K630,K682,K734,K786,K838,K890,K942) -> 0 | AK5: =COUNTIF(AA5:AJ5,">0") -> 0 | AL5: =A5 -> AAA LUC
A6: =(Championnats!B$5) -> BBB isabelle | B6: =SUM(Championnats!F5) -> 0 | C6: =SUM(Championnats!F57) -> 0 | D6: =SUM(Championnats!F109) -> 0 | E6: =SUM(Championnats!F161) -> 0 | F6: =SUM(Championnats!F213) -> 0 | G6: =SUM(Championnats!F265) -> 0 | H6: =SUM(Championnats!F317) -> 0 | I6: =SUM(Championnats!F369) -> 0 | J6: =SUM(Championnats!F421) -> 0 | K6: =SUM(Championnats!F473) -> 0 | M6: =CROSS!$M$5 -> 1 | N6: =SUM(Championnats!AD5,Championnats!AD57,Championnats!AD109,Championnats!AD161,Championnats!AD213,Championnats!AD265,Championnats!AD317,Championnats!AD369,Championnats!AD421,Championnats!AD473) -> 0 | V6: {=MIN(IF(B6:K6>0,B6:K6))} -> 0 | W6: =MAX(B6:K6) -> 0 | Y6: =SUM(CROSS!I5) -> 6.7868853 | Z6: =SUM(CROSS!J5) -> 0 | AA6: =SUM(B6,B59,B111,B163,B215,B267,B319,B371,B423,B475,B527,B579,B631,B683,B735,B787,B839,B891,B943) -> 0 | AB6: =SUM(C6,C59,C111,C163,C215,C267,C319,C371,C423,C475,C527,C579,C631,C683,C735,C787,C839,C891,C943) -> 0 | AC6: =SUM(D6,D59,D111,D163,D215,D267,D319,D371,D423,D475,D527,D579,D631,D683,D735,D787,D839,D891,D943) -> 0 | AD6: =SUM(E6,E59,E111,E163,E215,E267,E319,E371,E423,E475,E527,E579,E631,E683,E735,E787,E839,E891,E943) -> 0 | AE6: =SUM(F6,F59,F111,F163,F215,F267,F319,F371,F423,F475,F527,F579,F631,F683,F735,F787,F839,F891,F943) -> 0 | AF6: =SUM(G6,G59,G111,G163,G215,G267,G319,G371,G423,G475,G527,G579,G631,G683,G735,G787,G839,G891,G943) -> 0 | AG6: =SUM(H6,H59,H111,H163,H215,H267,H319,H371,H423,H475,H527,H579,H631,H683,H735,H787,H839,H891,H943) -> 0 | AH6: =SUM(I6,I59,I111,I163,I215,I267,I319,I371,I423,I475,I527,I579,I631,I683,I735,I787,I839,I891,I943) -> 0 | ... AJ6: =SUM(K6,K59,K111,K163,K215,K267,K319,K371,K423,K475,K527,K579,K631,K683,K735,K787,K839,K891,K943) -> 0 | AK6: =COUNTIF(AA6:AJ6,">0") -> 0 | AL6: =A6 -> BBB isabelle
A7: =(Championnats!B$6) -> KJKLJDFKJG Agathe | B7: =SUM(Championnats!F6) -> 0 | C7: =SUM(Championnats!F58) -> 0 | D7: =SUM(Championnats!F110) -> 0 | E7: =SUM(Championnats!F162) -> 0 | F7: =SUM(Championnats!F214) -> 0 | G7: =SUM(Championnats!F266) -> 0 | H7: =SUM(Championnats!F318) -> 0 | I7: =SUM(Championnats!F370) -> 0 | J7: =SUM(Championnats!F422) -> 0 | K7: =SUM(Championnats!F474) -> 0 | M7: =CROSS!$M$6 -> 1 | N7: =SUM(Championnats!AD6,Championnats!AD58,Championnats!AD110,Championnats!AD162,Championnats!AD214,Championnats!AD266,Championnats!AD318,Championnats!AD370,Championnats!AD422,Championnats!AD474) -> 0 | V7: {=MIN(IF(B7:K7>0,B7:K7))} -> 0 | W7: =MAX(B7:K7) -> 0 | Y7: =SUM(CROSS!I6) -> 9.1796009 | Z7: =SUM(CROSS!J6) -> 0 | AA7: =SUM(B7,B60,B112,B164,B216,B268,B320,B372,B424,B476,B528,B580,B632,B684,B736,B788,B840,B892,B944) -> 0 | AB7: =SUM(C7,C60,C112,C164,C216,C268,C320,C372,C424,C476,C528,C580,C632,C684,C736,C788,C840,C892,C944) -> 0 | AC7: =SUM(D7,D60,D112,D164,D216,D268,D320,D372,D424,D476,D528,D580,D632,D684,D736,D788,D840,D892,D944) -> 0 | AD7: =SUM(E7,E60,E112,E164,E216,E268,E320,E372,E424,E476,E528,E580,E632,E684,E736,E788,E840,E892,E944) -> 0 | AE7: =SUM(F7,F60,F112,F164,F216,F268,F320,F372,F424,F476,F528,F580,F632,F684,F736,F788,F840,F892,F944) -> 0 | AF7: =SUM(G7,G60,G112,G164,G216,G268,G320,G372,G424,G476,G528,G580,G632,G684,G736,G788,G840,G892,G944) -> 0 | AG7: =SUM(H7,H60,H112,H164,H216,H268,H320,H372,H424,H476,H528,H580,H632,H684,H736,H788,H840,H892,H944) -> 0 | AH7: =SUM(I7,I60,I112,I164,I216,I268,I320,I372,I424,I476,I528,I580,I632,I684,I736,I788,I840,I892,I944) -> 0 | ... AJ7: =SUM(K7,K60,K112,K164,K216,K268,K320,K372,K424,K476,K528,K580,K632,K684,K736,K788,K840,K892,K944) -> 0 | AK7: =COUNTIF(AA7:AJ7,">0") -> 0 | AL7: =A7 -> KJKLJDFKJG Agathe
A8: =(Championnats!B$7) -> DDD Léa | B8: =SUM(Championnats!F7) -> 0 | C8: =SUM(Championnats!F59) -> 0 | D8: =SUM(Championnats!F111) -> 0 | E8: =SUM(Championnats!F163) -> 0 | F8: =SUM(Championnats!F215) -> 0 | G8: =SUM(Championnats!F267) -> 0 | H8: =SUM(Championnats!F319) -> 0 | I8: =SUM(Championnats!F371) -> 0 | J8: =SUM(Championnats!F423) -> 0 | K8: =SUM(Championnats!F475) -> 0 | M8: =CROSS!$M$7 -> 1 | N8: =SUM(Championnats!AD7,Championnats!AD59,Championnats!AD111,Championnats!AD163,Championnats!AD215,Championnats!AD267,Championnats!AD319,Championnats!AD371,Championnats!AD423,Championnats!AD475) -> 0 | V8: {=MIN(IF(B8:K8>0,B8:K8))} -> 0 | W8: =MAX(B8:K8) -> 0 | Y8: =SUM(CROSS!I7) -> 13.663366 | Z8: =SUM(CROSS!J7) -> 0 | AA8: =SUM(B8,B61,B113,B165,B217,B269,B321,B373,B425,B477,B529,B581,B633,B685,B737,B789,B841,B893,B945) -> 0 | AB8: =SUM(C8,C61,C113,C165,C217,C269,C321,C373,C425,C477,C529,C581,C633,C685,C737,C789,C841,C893,C945) -> 0 | AC8: =SUM(D8,D61,D113,D165,D217,D269,D321,D373,D425,D477,D529,D581,D633,D685,D737,D789,D841,D893,D945) -> 0 | AD8: =SUM(E8,E61,E113,E165,E217,E269,E321,E373,E425,E477,E529,E581,E633,E685,E737,E789,E841,E893,E945) -> 0 | AE8: =SUM(F8,F61,F113,F165,F217,F269,F321,F373,F425,F477,F529,F581,F633,F685,F737,F789,F841,F893,F945) -> 0 | AF8: =SUM(G8,G61,G113,G165,G217,G269,G321,G373,G425,G477,G529,G581,G633,G685,G737,G789,G841,G893,G945) -> 0 | AG8: =SUM(H8,H61,H113,H165,H217,H269,H321,H373,H425,H477,H529,H581,H633,H685,H737,H789,H841,H893,H945) -> 0 | AH8: =SUM(I8,I61,I113,I165,I217,I269,I321,I373,I425,I477,I529,I581,I633,I685,I737,I789,I841,I893,I945) -> 0 | ... AJ8: =SUM(K8,K61,K113,K165,K217,K269,K321,K373,K425,K477,K529,K581,K633,K685,K737,K789,K841,K893,K945) -> 0 | AK8: =COUNTIF(AA8:AJ8,">0") -> 0 | AL8: =A8 -> DDD Léa
A9: =(Championnats!B$8) -> KUYFRJGF Mélissa | B9: =SUM(Championnats!F8) -> 0 | C9: =SUM(Championnats!F60) -> 0 | D9: =SUM(Championnats!F112) -> 0 | E9: =SUM(Championnats!F164) -> 0 | F9: =SUM(Championnats!F216) -> 0 | G9: =SUM(Championnats!F268) -> 0 | H9: =SUM(Championnats!F320) -> 0 | I9: =SUM(Championnats!F372) -> 0 | J9: =SUM(Championnats!F424) -> 0 | K9: =SUM(Championnats!F476) -> 0 | M9: =CROSS!$M$8 -> 1 | N9: =SUM(Championnats!AD8,Championnats!AD60,Championnats!AD112,Championnats!AD164,Championnats!AD216,Championnats!AD268,Championnats!AD320,Championnats!AD372,Championnats!AD424,Championnats!AD476) -> 0 | V9: {=MIN(IF(B9:K9>0,B9:K9))} -> 0 | W9: =MAX(B9:K9) -> 0 | Y9: =SUM(CROSS!I8) -> 12.069971 | Z9: =SUM(CROSS!J8) -> 0 | AA9: =SUM(B9,B62,B114,B166,B218,B270,B322,B374,B426,B478,B530,B582,B634,B686,B738,B790,B842,B894,B946) -> 0 | AB9: =SUM(C9,C62,C114,C166,C218,C270,C322,C374,C426,C478,C530,C582,C634,C686,C738,C790,C842,C894,C946) -> 0 | AC9: =SUM(D9,D62,D114,D166,D218,D270,D322,D374,D426,D478,D530,D582,D634,D686,D738,D790,D842,D894,D946) -> 0 | AD9: =SUM(E9,E62,E114,E166,E218,E270,E322,E374,E426,E478,E530,E582,E634,E686,E738,E790,E842,E894,E946) -> 0 | AE9: =SUM(F9,F62,F114,F166,F218,F270,F322,F374,F426,F478,F530,F582,F634,F686,F738,F790,F842,F894,F946) -> 0 | AF9: =SUM(G9,G62,G114,G166,G218,G270,G322,G374,G426,G478,G530,G582,G634,G686,G738,G790,G842,G894,G946) -> 0 | AG9: =SUM(H9,H62,H114,H166,H218,H270,H322,H374,H426,H478,H530,H582,H634,H686,H738,H790,H842,H894,H946) -> 0 | AH9: =SUM(I9,I62,I114,I166,I218,I270,I322,I374,I426,I478,I530,I582,I634,I686,I738,I790,I842,I894,I946) -> 0 | ... AJ9: =SUM(K9,K62,K114,K166,K218,K270,K322,K374,K426,K478,K530,K582,K634,K686,K738,K790,K842,K894,K946) -> 0 | AK9: =COUNTIF(AA9:AJ9,">0") -> 0 | AL9: =A9 -> KUYFRJGF Mélissa
A10: =(Championnats!B$9) -> FFF Eric | B10: =SUM(Championnats!F9) -> 0 | C10: =SUM(Championnats!F61) -> 0 | D10: =SUM(Championnats!F113) -> 0 | E10: =SUM(Championnats!F165) -> 0 | F10: =SUM(Championnats!F217) -> 0 | G10: =SUM(Championnats!F269) -> 0 | H10: =SUM(Championnats!F321) -> 0 | I10: =SUM(Championnats!F373) -> 0 | J10: =SUM(Championnats!F425) -> 0 | K10: =SUM(Championnats!F477) -> 0 | M10: =CROSS!$M$9 -> 1 | N10: =SUM(Championnats!AD9,Championnats!AD61,Championnats!AD113,Championnats!AD165,Championnats!AD217,Championnats!AD269,Championnats!AD321,Championnats!AD373,Championnats!AD425,Championnats!AD477) -> 0 | V10: {=MIN(IF(B10:K10>0,B10:K10))} -> 0 | W10: =MAX(B10:K10) -> 0 | Y10: =SUM(CROSS!I9) -> 12.874172 | Z10: =SUM(CROSS!J9) -> 0 | AA10: =SUM(B10,B63,B115,B167,B219,B271,B323,B375,B427,B479,B531,B583,B635,B687,B739,B791,B843,B895,B947) -> 0 | AB10: =SUM(C10,C63,C115,C167,C219,C271,C323,C375,C427,C479,C531,C583,C635,C687,C739,C791,C843,C895,C947) -> 0 | AC10: =SUM(D10,D63,D115,D167,D219,D271,D323,D375,D427,D479,D531,D583,D635,D687,D739,D791,D843,D895,D947) -> 0 | AD10: =SUM(E10,E63,E115,E167,E219,E271,E323,E375,E427,E479,E531,E583,E635,E687,E739,E791,E843,E895,E947) -> 0 | AE10: =SUM(F10,F63,F115,F167,F219,F271,F323,F375,F427,F479,F531,F583,F635,F687,F739,F791,F843,F895,F947) -> 0 | AF10: =SUM(G10,G63,G115,G167,G219,G271,G323,G375,G427,G479,G531,G583,G635,G687,G739,G791,G843,G895,G947) -> 0 | AG10: =SUM(H10,H63,H115,H167,H219,H271,H323,H375,H427,H479,H531,H583,H635,H687,H739,H791,H843,H895,H947) -> 0 | AH10: =SUM(I10,I63,I115,I167,I219,I271,I323,I375,I427,I479,I531,I583,I635,I687,I739,I791,I843,I895,I947) -> 0 | ... AJ10: =SUM(K10,K63,K115,K167,K219,K271,K323,K375,K427,K479,K531,K583,K635,K687,K739,K791,K843,K895,K947) -> 0 | AK10: =COUNTIF(AA10:AJ10,">0") -> 0 | AL10: =A10 -> FFF Eric
A11: =(Championnats!B$10) -> GGG Lucie | B11: =SUM(Championnats!F10) -> 0 | C11: =SUM(Championnats!F62) -> 0 | D11: =SUM(Championnats!F114) -> 0 | E11: =SUM(Championnats!F166) -> 0 | F11: =SUM(Championnats!F218) -> 0 | G11: =SUM(Championnats!F270) -> 0 | H11: =SUM(Championnats!F322) -> 0 | I11: =SUM(Championnats!F374) -> 0 | J11: =SUM(Championnats!F426) -> 0 | K11: =SUM(Championnats!F478) -> 0 | M11: =CROSS!$M$10 -> 0 | N11: =SUM(Championnats!AD10,Championnats!AD62,Championnats!AD114,Championnats!AD166,Championnats!AD218,Championnats!AD270,Championnats!AD322,Championnats!AD374,Championnats!AD426,Championnats!AD478) -> 0 | V11: {=MIN(IF(B11:K11>0,B11:K11))} -> 0 | W11: =MAX(B11:K11) -> 0 | Y11: =SUM(CROSS!I10) -> 0 | Z11: =SUM(CROSS!J10) -> 0 | AA11: =SUM(B11,B64,B116,B168,B220,B272,B324,B376,B428,B480,B532,B584,B636,B688,B740,B792,B844,B896,B948) -> 0 | AB11: =SUM(C11,C64,C116,C168,C220,C272,C324,C376,C428,C480,C532,C584,C636,C688,C740,C792,C844,C896,C948) -> 0 | AC11: =SUM(D11,D64,D116,D168,D220,D272,D324,D376,D428,D480,D532,D584,D636,D688,D740,D792,D844,D896,D948) -> 0 | AD11: =SUM(E11,E64,E116,E168,E220,E272,E324,E376,E428,E480,E532,E584,E636,E688,E740,E792,E844,E896,E948) -> 0 | AE11: =SUM(F11,F64,F116,F168,F220,F272,F324,F376,F428,F480,F532,F584,F636,F688,F740,F792,F844,F896,F948) -> 0 | AF11: =SUM(G11,G64,G116,G168,G220,G272,G324,G376,G428,G480,G532,G584,G636,G688,G740,G792,G844,G896,G948) -> 0 | AG11: =SUM(H11,H64,H116,H168,H220,H272,H324,H376,H428,H480,H532,H584,H636,H688,H740,H792,H844,H896,H948) -> 0 | AH11: =SUM(I11,I64,I116,I168,I220,I272,I324,I376,I428,I480,I532,I584,I636,I688,I740,I792,I844,I896,I948) -> 0 | ... AJ11: =SUM(K11,K64,K116,K168,K220,K272,K324,K376,K428,K480,K532,K584,K636,K688,K740,K792,K844,K896,K948) -> 0 | AK11: =COUNTIF(AA11:AJ11,">0") -> 0 | AL11: =A11 -> GGG Lucie
A12: =(Championnats!B$11) -> HHH Eva | B12: =SUM(Championnats!F11) -> 0 | C12: =SUM(Championnats!F63) -> 0 | D12: =SUM(Championnats!F115) -> 0 | E12: =SUM(Championnats!F167) -> 0 | F12: =SUM(Championnats!F219) -> 0 | G12: =SUM(Championnats!F271) -> 0 | H12: =SUM(Championnats!F323) -> 0 | I12: =SUM(Championnats!F375) -> 0 | J12: =SUM(Championnats!F427) -> 0 | K12: =SUM(Championnats!F479) -> 0 | M12: =CROSS!$M$11 -> 0 | N12: =SUM(Championnats!AD11,Championnats!AD63,Championnats!AD115,Championnats!AD167,Championnats!AD219,Championnats!AD271,Championnats!AD323,Championnats!AD375,Championnats!AD427,Championnats!AD479) -> 0 | V12: {=MIN(IF(B12:K12>0,B12:K12))} -> 0 | W12: =MAX(B12:K12) -> 0 | Y12: =SUM(CROSS!I11) -> 0 | Z12: =SUM(CROSS!J11) -> 0 | AA12: =SUM(B12,B65,B117,B169,B221,B273,B325,B377,B429,B481,B533,B585,B637,B689,B741,B793,B845,B897,B949) -> 0 | AB12: =SUM(C12,C65,C117,C169,C221,C273,C325,C377,C429,C481,C533,C585,C637,C689,C741,C793,C845,C897,C949) -> 0 | AC12: =SUM(D12,D65,D117,D169,D221,D273,D325,D377,D429,D481,D533,D585,D637,D689,D741,D793,D845,D897,D949) -> 0 | AD12: =SUM(E12,E65,E117,E169,E221,E273,E325,E377,E429,E481,E533,E585,E637,E689,E741,E793,E845,E897,E949) -> 0 | AE12: =SUM(F12,F65,F117,F169,F221,F273,F325,F377,F429,F481,F533,F585,F637,F689,F741,F793,F845,F897,F949) -> 0 | AF12: =SUM(G12,G65,G117,G169,G221,G273,G325,G377,G429,G481,G533,G585,G637,G689,G741,G793,G845,G897,G949) -> 0 | AG12: =SUM(H12,H65,H117,H169,H221,H273,H325,H377,H429,H481,H533,H585,H637,H689,H741,H793,H845,H897,H949) -> 0 | AH12: =SUM(I12,I65,I117,I169,I221,I273,I325,I377,I429,I481,I533,I585,I637,I689,I741,I793,I845,I897,I949) -> 0 | ... AJ12: =SUM(K12,K65,K117,K169,K221,K273,K325,K377,K429,K481,K533,K585,K637,K689,K741,K793,K845,K897,K949) -> 0 | AK12: =COUNTIF(AA12:AJ12,">0") -> 0 | AL12: =A12 -> HHH Eva
A13: =(Championnats!B$12) -> PERNOIS LUC | B13: =SUM(Championnats!F12) -> 7.2 | C13: =SUM(Championnats!F64) -> 0 | D13: =SUM(Championnats!F116) -> 0 | E13: =SUM(Championnats!F168) -> 0 | F13: =SUM(Championnats!F220) -> 0 | G13: =SUM(Championnats!F272) -> 0 | H13: =SUM(Championnats!F324) -> 0 | I13: =SUM(Championnats!F376) -> 0 | J13: =SUM(Championnats!F428) -> 0 | K13: =SUM(Championnats!F480) -> 0 | M13: =CROSS!$M$12 -> 0 | N13: =SUM(Championnats!AD12,Championnats!AD64,Championnats!AD116,Championnats!AD168,Championnats!AD220,Championnats!AD272,Championnats!AD324,Championnats!AD376,Championnats!AD428,Championnats!AD480) -> 11 | V13: {=MIN(IF(B13:K13>0,B13:K13))} -> 7.2 | W13: =MAX(B13:K13) -> 7.2 | Y13: =SUM(CROSS!I12) -> 0 | Z13: =SUM(CROSS!J12) -> 0 | AA13: =SUM(B13,B66,B118,B170,B222,B274,B326,B378,B430,B482,B534,B586,B638,B690,B742,B794,B846,B898,B950) -> 169.51 | AB13: =SUM(C13,C66,C118,C170,C222,C274,C326,C378,C430,C482,C534,C586,C638,C690,C742,C794,C846,C898,C950) -> 0 | AC13: =SUM(D13,D66,D118,D170,D222,D274,D326,D378,D430,D482,D534,D586,D638,D690,D742,D794,D846,D898,D950) -> 0 | AD13: =SUM(E13,E66,E118,E170,E222,E274,E326,E378,E430,E482,E534,E586,E638,E690,E742,E794,E846,E898,E950) -> 0 | AE13: =SUM(F13,F66,F118,F170,F222,F274,F326,F378,F430,F482,F534,F586,F638,F690,F742,F794,F846,F898,F950) -> 0 | AF13: =SUM(G13,G66,G118,G170,G222,G274,G326,G378,G430,G482,G534,G586,G638,G690,G742,G794,G846,G898,G950) -> 0 | AG13: =SUM(H13,H66,H118,H170,H222,H274,H326,H378,H430,H482,H534,H586,H638,H690,H742,H794,H846,H898,H950) -> 0 | AH13: =SUM(I13,I66,I118,I170,I222,I274,I326,I378,I430,I482,I534,I586,I638,I690,I742,I794,I846,I898,I950) -> 0 | ... AJ13: =SUM(K13,K66,K118,K170,K222,K274,K326,K378,K430,K482,K534,K586,K638,K690,K742,K794,K846,K898,K950) -> 0 | AK13: =COUNTIF(AA13:AJ13,">0") -> 1 | AL13: =A13 -> PERNOIS LUC
A14: =(Championnats!B$13) -> JJJ Mélania | B14: =SUM(Championnats!F13) -> 0 | C14: =SUM(Championnats!F65) -> 0 | D14: =SUM(Championnats!F117) -> 0 | E14: =SUM(Championnats!F169) -> 0 | F14: =SUM(Championnats!F221) -> 0 | G14: =SUM(Championnats!F273) -> 0 | H14: =SUM(Championnats!F325) -> 0 | I14: =SUM(Championnats!F377) -> 0 | J14: =SUM(Championnats!F429) -> 0 | K14: =SUM(Championnats!F481) -> 0 | M14: =CROSS!$M$13 -> 0 | N14: =SUM(Championnats!AD13,Championnats!AD65,Championnats!AD117,Championnats!AD169,Championnats!AD221,Championnats!AD273,Championnats!AD325,Championnats!AD377,Championnats!AD429,Championnats!AD481) -> 0 | V14: {=MIN(IF(B14:K14>0,B14:K14))} -> 0 | W14: =MAX(B14:K14) -> 0 | Y14: =SUM(CROSS!I13) -> 0 | Z14: =SUM(CROSS!J13) -> 0 | AA14: =SUM(B14,B67,B119,B171,B223,B275,B327,B379,B431,B483,B535,B587,B639,B691,B743,B795,B847,B899,B951) -> 0 | AB14: =SUM(C14,C67,C119,C171,C223,C275,C327,C379,C431,C483,C535,C587,C639,C691,C743,C795,C847,C899,C951) -> 0 | AC14: =SUM(D14,D67,D119,D171,D223,D275,D327,D379,D431,D483,D535,D587,D639,D691,D743,D795,D847,D899,D951) -> 0 | AD14: =SUM(E14,E67,E119,E171,E223,E275,E327,E379,E431,E483,E535,E587,E639,E691,E743,E795,E847,E899,E951) -> 0 | AE14: =SUM(F14,F67,F119,F171,F223,F275,F327,F379,F431,F483,F535,F587,F639,F691,F743,F795,F847,F899,F951) -> 0 | AF14: =SUM(G14,G67,G119,G171,G223,G275,G327,G379,G431,G483,G535,G587,G639,G691,G743,G795,G847,G899,G951) -> 0 | AG14: =SUM(H14,H67,H119,H171,H223,H275,H327,H379,H431,H483,H535,H587,H639,H691,H743,H795,H847,H899,H951) -> 0 | AH14: =SUM(I14,I67,I119,I171,I223,I275,I327,I379,I431,I483,I535,I587,I639,I691,I743,I795,I847,I899,I951) -> 0 | ... AJ14: =SUM(K14,K67,K119,K171,K223,K275,K327,K379,K431,K483,K535,K587,K639,K691,K743,K795,K847,K899,K951) -> 0 | AK14: =COUNTIF(AA14:AJ14,">0") -> 0 | AL14: =A14 -> JJJ Mélania
A15: =(Championnats!B$14) -> KKK Mélanie | B15: =SUM(Championnats!F14) -> 0 | C15: =SUM(Championnats!F66) -> 0 | D15: =SUM(Championnats!F118) -> 0 | E15: =SUM(Championnats!F170) -> 0 | F15: =SUM(Championnats!F222) -> 0 | G15: =SUM(Championnats!F274) -> 0 | H15: =SUM(Championnats!F326) -> 0 | I15: =SUM(Championnats!F378) -> 0 | J15: =SUM(Championnats!F430) -> 0 | K15: =SUM(Championnats!F482) -> 0 | M15: =CROSS!$M$14 -> 0 | N15: =SUM(Championnats!AD14,Championnats!AD66,Championnats!AD118,Championnats!AD170,Championnats!AD222,Championnats!AD274,Championnats!AD326,Championnats!AD378,Championnats!AD430,Championnats!AD482) -> 0 | V15: {=MIN(IF(B15:K15>0,B15:K15))} -> 0 | W15: =MAX(B15:K15) -> 0 | Y15: =SUM(CROSS!I14) -> 0 | Z15: =SUM(CROSS!J14) -> 0 | AA15: =SUM(B15,B68,B120,B172,B224,B276,B328,B380,B432,B484,B536,B588,B640,B692,B744,B796,B848,B900,B952) -> 0 | AB15: =SUM(C15,C68,C120,C172,C224,C276,C328,C380,C432,C484,C536,C588,C640,C692,C744,C796,C848,C900,C952) -> 0 | AC15: =SUM(D15,D68,D120,D172,D224,D276,D328,D380,D432,D484,D536,D588,D640,D692,D744,D796,D848,D900,D952) -> 0 | AD15: =SUM(E15,E68,E120,E172,E224,E276,E328,E380,E432,E484,E536,E588,E640,E692,E744,E796,E848,E900,E952) -> 0 | AE15: =SUM(F15,F68,F120,F172,F224,F276,F328,F380,F432,F484,F536,F588,F640,F692,F744,F796,F848,F900,F952) -> 0 | AF15: =SUM(G15,G68,G120,G172,G224,G276,G328,G380,G432,G484,G536,G588,G640,G692,G744,G796,G848,G900,G952) -> 0 | AG15: =SUM(H15,H68,H120,H172,H224,H276,H328,H380,H432,H484,H536,H588,H640,H692,H744,H796,H848,H900,H952) -> 0 | AH15: =SUM(I15,I68,I120,I172,I224,I276,I328,I380,I432,I484,I536,I588,I640,I692,I744,I796,I848,I900,I952) -> 0 | ... AJ15: =SUM(K15,K68,K120,K172,K224,K276,K328,K380,K432,K484,K536,K588,K640,K692,K744,K796,K848,K900,K952) -> 0 | AK15: =COUNTIF(AA15:AJ15,">0") -> 0 | AL15: =A15 -> KKK Mélanie
A16: =(Championnats!B$15) -> LLL Cryss | B16: =SUM(Championnats!F15) -> 0 | C16: =SUM(Championnats!F67) -> 0 | D16: =SUM(Championnats!F119) -> 0 | E16: =SUM(Championnats!F171) -> 0 | F16: =SUM(Championnats!F223) -> 0 | G16: =SUM(Championnats!F275) -> 0 | H16: =SUM(Championnats!F327) -> 0 | I16: =SUM(Championnats!F379) -> 0 | J16: =SUM(Championnats!F431) -> 0 | K16: =SUM(Championnats!F483) -> 0 | M16: =CROSS!$M$15 -> 0 | N16: =SUM(Championnats!AD15,Championnats!AD67,Championnats!AD119,Championnats!AD171,Championnats!AD223,Championnats!AD275,Championnats!AD327,Championnats!AD379,Championnats!AD431,Championnats!AD483) -> 0 | V16: {=MIN(IF(B16:K16>0,B16:K16))} -> 0 | W16: =MAX(B16:K16) -> 0 | Y16: =SUM(CROSS!I15) -> 0 | Z16: =SUM(CROSS!J15) -> 0 | AA16: =SUM(B16,B69,B121,B173,B225,B277,B329,B381,B433,B485,B537,B589,B641,B693,B745,B797,B849,B901,B953) -> 0 | AB16: =SUM(C16,C69,C121,C173,C225,C277,C329,C381,C433,C485,C537,C589,C641,C693,C745,C797,C849,C901,C953) -> 0 | AC16: =SUM(D16,D69,D121,D173,D225,D277,D329,D381,D433,D485,D537,D589,D641,D693,D745,D797,D849,D901,D953) -> 0 | AD16: =SUM(E16,E69,E121,E173,E225,E277,E329,E381,E433,E485,E537,E589,E641,E693,E745,E797,E849,E901,E953) -> 0 | AE16: =SUM(F16,F69,F121,F173,F225,F277,F329,F381,F433,F485,F537,F589,F641,F693,F745,F797,F849,F901,F953) -> 0 | AF16: =SUM(G16,G69,G121,G173,G225,G277,G329,G381,G433,G485,G537,G589,G641,G693,G745,G797,G849,G901,G953) -> 0 | AG16: =SUM(H16,H69,H121,H173,H225,H277,H329,H381,H433,H485,H537,H589,H641,H693,H745,H797,H849,H901,H953) -> 0 | AH16: =SUM(I16,I69,I121,I173,I225,I277,I329,I381,I433,I485,I537,I589,I641,I693,I745,I797,I849,I901,I953) -> 0 | ... AJ16: =SUM(K16,K69,K121,K173,K225,K277,K329,K381,K433,K485,K537,K589,K641,K693,K745,K797,K849,K901,K953) -> 0 | AK16: =COUNTIF(AA16:AJ16,">0") -> 0 | AL16: =A16 -> LLL Cryss
A17: =(Championnats!B$16) -> MMMM Sambou | B17: =SUM(Championnats!F16) -> 0 | C17: =SUM(Championnats!F68) -> 0 | D17: =SUM(Championnats!F120) -> 0 | E17: =SUM(Championnats!F172) -> 0 | F17: =SUM(Championnats!F224) -> 0 | G17: =SUM(Championnats!F276) -> 0 | H17: =SUM(Championnats!F328) -> 0 | I17: =SUM(Championnats!F380) -> 0 | J17: =SUM(Championnats!F432) -> 0 | K17: =SUM(Championnats!F484) -> 0 | M17: =CROSS!$M$16 -> 0 | N17: =SUM(Championnats!AD16,Championnats!AD68,Championnats!AD120,Championnats!AD172,Championnats!AD224,Championnats!AD276,Championnats!AD328,Championnats!AD380,Championnats!AD432,Championnats!AD484) -> 0 | V17: {=MIN(IF(B17:K17>0,B17:K17))} -> 0 | W17: =MAX(B17:K17) -> 0 | Y17: =SUM(CROSS!I16) -> 0 | Z17: =SUM(CROSS!J16) -> 0 | AA17: =SUM(B17,B70,B122,B174,B226,B278,B330,B382,B434,B486,B538,B590,B642,B694,B746,B798,B850,B902,B954) -> 0 | AB17: =SUM(C17,C70,C122,C174,C226,C278,C330,C382,C434,C486,C538,C590,C642,C694,C746,C798,C850,C902,C954) -> 0 | AC17: =SUM(D17,D70,D122,D174,D226,D278,D330,D382,D434,D486,D538,D590,D642,D694,D746,D798,D850,D902,D954) -> 0 | AD17: =SUM(E17,E70,E122,E174,E226,E278,E330,E382,E434,E486,E538,E590,E642,E694,E746,E798,E850,E902,E954) -> 0 | AE17: =SUM(F17,F70,F122,F174,F226,F278,F330,F382,F434,F486,F538,F590,F642,F694,F746,F798,F850,F902,F954) -> 0 | AF17: =SUM(G17,G70,G122,G174,G226,G278,G330,G382,G434,G486,G538,G590,G642,G694,G746,G798,G850,G902,G954) -> 0 | AG17: =SUM(H17,H70,H122,H174,H226,H278,H330,H382,H434,H486,H538,H590,H642,H694,H746,H798,H850,H902,H954) -> 0 | AH17: =SUM(I17,I70,I122,I174,I226,I278,I330,I382,I434,I486,I538,I590,I642,I694,I746,I798,I850,I902,I954) -> 0 | ... AJ17: =SUM(K17,K70,K122,K174,K226,K278,K330,K382,K434,K486,K538,K590,K642,K694,K746,K798,K850,K902,K954) -> 0 | AK17: =COUNTIF(AA17:AJ17,">0") -> 0 | AL17: =A17 -> MMMM Sambou
A18: =(Championnats!B$17) -> NNN Dylan | B18: =SUM(Championnats!F17) -> 0 | C18: =SUM(Championnats!F69) -> 0 | D18: =SUM(Championnats!F121) -> 0 | E18: =SUM(Championnats!F173) -> 0 | F18: =SUM(Championnats!F225) -> 0 | G18: =SUM(Championnats!F277) -> 0 | H18: =SUM(Championnats!F329) -> 0 | I18: =SUM(Championnats!F381) -> 0 | J18: =SUM(Championnats!F433) -> 0 | K18: =SUM(Championnats!F485) -> 0 | M18: =CROSS!$M$17 -> 0 | N18: =SUM(Championnats!AD17,Championnats!AD69,Championnats!AD121,Championnats!AD173,Championnats!AD225,Championnats!AD277,Championnats!AD329,Championnats!AD381,Championnats!AD433,Championnats!AD485) -> 0 | V18: {=MIN(IF(B18:K18>0,B18:K18))} -> 0 | W18: =MAX(B18:K18) -> 0 | Y18: =SUM(CROSS!I17) -> 0 | Z18: =SUM(CROSS!J17) -> 0 | AA18: =SUM(B18,B71,B123,B175,B227,B279,B331,B383,B435,B487,B539,B591,B643,B695,B747,B799,B851,B903,B955) -> 0 | AB18: =SUM(C18,C71,C123,C175,C227,C279,C331,C383,C435,C487,C539,C591,C643,C695,C747,C799,C851,C903,C955) -> 0 | AC18: =SUM(D18,D71,D123,D175,D227,D279,D331,D383,D435,D487,D539,D591,D643,D695,D747,D799,D851,D903,D955) -> 0 | AD18: =SUM(E18,E71,E123,E175,E227,E279,E331,E383,E435,E487,E539,E591,E643,E695,E747,E799,E851,E903,E955) -> 0 | AE18: =SUM(F18,F71,F123,F175,F227,F279,F331,F383,F435,F487,F539,F591,F643,F695,F747,F799,F851,F903,F955) -> 0 | AF18: =SUM(G18,G71,G123,G175,G227,G279,G331,G383,G435,G487,G539,G591,G643,G695,G747,G799,G851,G903,G955) -> 0 | AG18: =SUM(H18,H71,H123,H175,H227,H279,H331,H383,H435,H487,H539,H591,H643,H695,H747,H799,H851,H903,H955) -> 0 | AH18: =SUM(I18,I71,I123,I175,I227,I279,I331,I383,I435,I487,I539,I591,I643,I695,I747,I799,I851,I903,I955) -> 0 | ... AJ18: =SUM(K18,K71,K123,K175,K227,K279,K331,K383,K435,K487,K539,K591,K643,K695,K747,K799,K851,K903,K955) -> 0 | AK18: =COUNTIF(AA18:AJ18,">0") -> 0 | AL18: =A18 -> NNN Dylan
A19: =(Championnats!B$18) -> OOO Philippe | B19: =SUM(Championnats!F18) -> 0 | C19: =SUM(Championnats!F70) -> 0 | D19: =SUM(Championnats!F122) -> 0 | E19: =SUM(Championnats!F174) -> 0 | F19: =SUM(Championnats!F226) -> 0 | G19: =SUM(Championnats!F278) -> 0 | H19: =SUM(Championnats!F330) -> 0 | I19: =SUM(Championnats!F382) -> 0 | J19: =SUM(Championnats!F434) -> 0 | K19: =SUM(Championnats!F486) -> 0 | M19: =CROSS!$M$18 -> 0 | N19: =SUM(Championnats!AD18,Championnats!AD70,Championnats!AD122,Championnats!AD174,Championnats!AD226,Championnats!AD278,Championnats!AD330,Championnats!AD382,Championnats!AD434,Championnats!AD486) -> 0 | V19: {=MIN(IF(B19:K19>0,B19:K19))} -> 0 | W19: =MAX(B19:K19) -> 0 | Y19: =SUM(CROSS!I18) -> 0 | Z19: =SUM(CROSS!J18) -> 0 | AA19: =SUM(B19,B72,B124,B176,B228,B280,B332,B384,B436,B488,B540,B592,B644,B696,B748,B800,B852,B904,B956) -> 0 | AB19: =SUM(C19,C72,C124,C176,C228,C280,C332,C384,C436,C488,C540,C592,C644,C696,C748,C800,C852,C904,C956) -> 0 | AC19: =SUM(D19,D72,D124,D176,D228,D280,D332,D384,D436,D488,D540,D592,D644,D696,D748,D800,D852,D904,D956) -> 0 | AD19: =SUM(E19,E72,E124,E176,E228,E280,E332,E384,E436,E488,E540,E592,E644,E696,E748,E800,E852,E904,E956) -> 0 | AE19: =SUM(F19,F72,F124,F176,F228,F280,F332,F384,F436,F488,F540,F592,F644,F696,F748,F800,F852,F904,F956) -> 0 | AF19: =SUM(G19,G72,G124,G176,G228,G280,G332,G384,G436,G488,G540,G592,G644,G696,G748,G800,G852,G904,G956) -> 0 | AG19: =SUM(H19,H72,H124,H176,H228,H280,H332,H384,H436,H488,H540,H592,H644,H696,H748,H800,H852,H904,H956) -> 0 | AH19: =SUM(I19,I72,I124,I176,I228,I280,I332,I384,I436,I488,I540,I592,I644,I696,I748,I800,I852,I904,I956) -> 0 | ... AJ19: =SUM(K19,K72,K124,K176,K228,K280,K332,K384,K436,K488,K540,K592,K644,K696,K748,K800,K852,K904,K956) -> 0 | AK19: =COUNTIF(AA19:AJ19,">0") -> 0 | AL19: =A19 -> OOO Philippe
A20: =(Championnats!B$19) -> PPP Oumar | B20: =SUM(Championnats!F19) -> 0 | C20: =SUM(Championnats!F71) -> 0 | D20: =SUM(Championnats!F123) -> 0 | E20: =SUM(Championnats!F175) -> 0 | F20: =SUM(Championnats!F227) -> 0 | G20: =SUM(Championnats!F279) -> 0 | H20: =SUM(Championnats!F331) -> 0 | I20: =SUM(Championnats!F383) -> 0 | J20: =SUM(Championnats!F435) -> 0 | K20: =SUM(Championnats!F487) -> 0 | M20: =CROSS!$M$19 -> 0 | N20: =SUM(Championnats!AD19,Championnats!AD71,Championnats!AD123,Championnats!AD175,Championnats!AD227,Championnats!AD279,Championnats!AD331,Championnats!AD383,Championnats!AD435,Championnats!AD487) -> 0 | V20: {=MIN(IF(B20:K20>0,B20:K20))} -> 0 | W20: =MAX(B20:K20) -> 0 | Y20: =SUM(CROSS!I19) -> 0 | Z20: =SUM(CROSS!J19) -> 0 | AA20: =SUM(B20,B73,B125,B177,B229,B281,B333,B385,B437,B489,B541,B593,B645,B697,B749,B801,B853,B905,B957) -> 0 | AB20: =SUM(C20,C73,C125,C177,C229,C281,C333,C385,C437,C489,C541,C593,C645,C697,C749,C801,C853,C905,C957) -> 0 | AC20: =SUM(D20,D73,D125,D177,D229,D281,D333,D385,D437,D489,D541,D593,D645,D697,D749,D801,D853,D905,D957) -> 0 | AD20: =SUM(E20,E73,E125,E177,E229,E281,E333,E385,E437,E489,E541,E593,E645,E697,E749,E801,E853,E905,E957) -> 0 | AE20: =SUM(F20,F73,F125,F177,F229,F281,F333,F385,F437,F489,F541,F593,F645,F697,F749,F801,F853,F905,F957) -> 0 | AF20: =SUM(G20,G73,G125,G177,G229,G281,G333,G385,G437,G489,G541,G593,G645,G697,G749,G801,G853,G905,G957) -> 0 | AG20: =SUM(H20,H73,H125,H177,H229,H281,H333,H385,H437,H489,H541,H593,H645,H697,H749,H801,H853,H905,H957) -> 0 | AH20: =SUM(I20,I73,I125,I177,I229,I281,I333,I385,I437,I489,I541,I593,I645,I697,I749,I801,I853,I905,I957) -> 0 | ... AJ20: =SUM(K20,K73,K125,K177,K229,K281,K333,K385,K437,K489,K541,K593,K645,K697,K749,K801,K853,K905,K957) -> 0 | AK20: =COUNTIF(AA20:AJ20,">0") -> 0 | AL20: =A20 -> PPP Oumar
A21: =(Championnats!B$20) -> QQQ Ibrahim | B21: =SUM(Championnats!F20) -> 0 | C21: =SUM(Championnats!F72) -> 0 | D21: =SUM(Championnats!F124) -> 0 | E21: =SUM(Championnats!F176) -> 0 | F21: =SUM(Championnats!F228) -> 0 | G21: =SUM(Championnats!F280) -> 0 | H21: =SUM(Championnats!F332) -> 0 | I21: =SUM(Championnats!F384) -> 0 | J21: =SUM(Championnats!F436) -> 0 | K21: =SUM(Championnats!F488) -> 0 | M21: =CROSS!$M$20 -> 0 | N21: =SUM(Championnats!AD20,Championnats!AD72,Championnats!AD124,Championnats!AD176,Championnats!AD228,Championnats!AD280,Championnats!AD332,Championnats!AD384,Championnats!AD436,Championnats!AD488) -> 0 | V21: {=MIN(IF(B21:K21>0,B21:K21))} -> 0 | W21: =MAX(B21:K21) -> 0 | Y21: =SUM(CROSS!I20) -> 0 | Z21: =SUM(CROSS!J20) -> 0 | AA21: =SUM(B21,B74,B126,B178,B230,B282,B334,B386,B438,B490,B542,B594,B646,B698,B750,B802,B854,B906,B958) -> 0 | AB21: =SUM(C21,C74,C126,C178,C230,C282,C334,C386,C438,C490,C542,C594,C646,C698,C750,C802,C854,C906,C958) -> 0 | AC21: =SUM(D21,D74,D126,D178,D230,D282,D334,D386,D438,D490,D542,D594,D646,D698,D750,D802,D854,D906,D958) -> 0 | AD21: =SUM(E21,E74,E126,E178,E230,E282,E334,E386,E438,E490,E542,E594,E646,E698,E750,E802,E854,E906,E958) -> 0 | AE21: =SUM(F21,F74,F126,F178,F230,F282,F334,F386,F438,F490,F542,F594,F646,F698,F750,F802,F854,F906,F958) -> 0 | AF21: =SUM(G21,G74,G126,G178,G230,G282,G334,G386,G438,G490,G542,G594,G646,G698,G750,G802,G854,G906,G958) -> 0 | AG21: =SUM(H21,H74,H126,H178,H230,H282,H334,H386,H438,H490,H542,H594,H646,H698,H750,H802,H854,H906,H958) -> 0 | AH21: =SUM(I21,I74,I126,I178,I230,I282,I334,I386,I438,I490,I542,I594,I646,I698,I750,I802,I854,I906,I958) -> 0 | ... AJ21: =SUM(K21,K74,K126,K178,K230,K282,K334,K386,K438,K490,K542,K594,K646,K698,K750,K802,K854,K906,K958) -> 0 | AK21: =COUNTIF(AA21:AJ21,">0") -> 0 | AL21: =A21 -> QQQ Ibrahim
A22: =(Championnats!B$21) -> RRR Seydou | B22: =SUM(Championnats!F21) -> 0 | C22: =SUM(Championnats!F73) -> 0 | D22: =SUM(Championnats!F125) -> 0 | E22: =SUM(Championnats!F177) -> 0 | F22: =SUM(Championnats!F229) -> 0 | G22: =SUM(Championnats!F281) -> 0 | H22: =SUM(Championnats!F333) -> 0 | I22: =SUM(Championnats!F385) -> 0 | J22: =SUM(Championnats!F437) -> 0 | K22: =SUM(Championnats!F489) -> 0 | M22: =CROSS!$M$21 -> 0 | N22: =SUM(Championnats!AD21,Championnats!AD73,Championnats!AD125,Championnats!AD177,Championnats!AD229,Championnats!AD281,Championnats!AD333,Championnats!AD385,Championnats!AD437,Championnats!AD489) -> 0 | V22: {=MIN(IF(B22:K22>0,B22:K22))} -> 0 | W22: =MAX(B22:K22) -> 0 | Y22: =SUM(CROSS!I21) -> 0 | Z22: =SUM(CROSS!J21) -> 0 | AA22: =SUM(B22,B75,B127,B179,B231,B283,B335,B387,B439,B491,B543,B595,B647,B699,B751,B803,B855,B907,B959) -> 0 | AB22: =SUM(C22,C75,C127,C179,C231,C283,C335,C387,C439,C491,C543,C595,C647,C699,C751,C803,C855,C907,C959) -> 0 | AC22: =SUM(D22,D75,D127,D179,D231,D283,D335,D387,D439,D491,D543,D595,D647,D699,D751,D803,D855,D907,D959) -> 0 | AD22: =SUM(E22,E75,E127,E179,E231,E283,E335,E387,E439,E491,E543,E595,E647,E699,E751,E803,E855,E907,E959) -> 0 | AE22: =SUM(F22,F75,F127,F179,F231,F283,F335,F387,F439,F491,F543,F595,F647,F699,F751,F803,F855,F907,F959) -> 0 | AF22: =SUM(G22,G75,G127,G179,G231,G283,G335,G387,G439,G491,G543,G595,G647,G699,G751,G803,G855,G907,G959) -> 0 | AG22: =SUM(H22,H75,H127,H179,H231,H283,H335,H387,H439,H491,H543,H595,H647,H699,H751,H803,H855,H907,H959) -> 0 | AH22: =SUM(I22,I75,I127,I179,I231,I283,I335,I387,I439,I491,I543,I595,I647,I699,I751,I803,I855,I907,I959) -> 0 | ... AJ22: =SUM(K22,K75,K127,K179,K231,K283,K335,K387,K439,K491,K543,K595,K647,K699,K751,K803,K855,K907,K959) -> 0 | AK22: =COUNTIF(AA22:AJ22,">0") -> 0 | AL22: =A22 -> RRR Seydou
A23: =(Championnats!B$22) -> SSS Lucas | B23: =SUM(Championnats!F22) -> 0 | C23: =SUM(Championnats!F74) -> 0 | D23: =SUM(Championnats!F126) -> 0 | E23: =SUM(Championnats!F178) -> 0 | F23: =SUM(Championnats!F230) -> 0 | G23: =SUM(Championnats!F282) -> 0 | H23: =SUM(Championnats!F334) -> 0 | I23: =SUM(Championnats!F386) -> 0 | J23: =SUM(Championnats!F438) -> 0 | K23: =SUM(Championnats!F490) -> 0 | M23: =CROSS!$M$22 -> 0 | N23: =SUM(Championnats!AD22,Championnats!AD74,Championnats!AD126,Championnats!AD178,Championnats!AD230,Championnats!AD282,Championnats!AD334,Championnats!AD386,Championnats!AD438,Championnats!AD490) -> 0 | V23: {=MIN(IF(B23:K23>0,B23:K23))} -> 0 | W23: =MAX(B23:K23) -> 0 | Y23: =SUM(CROSS!I22) -> 0 | Z23: =SUM(CROSS!J22) -> 0 | AA23: =SUM(B23,B76,B128,B180,B232,B284,B336,B388,B440,B492,B544,B596,B648,B700,B752,B804,B856,B908,B960) -> 0 | AB23: =SUM(C23,C76,C128,C180,C232,C284,C336,C388,C440,C492,C544,C596,C648,C700,C752,C804,C856,C908,C960) -> 0 | AC23: =SUM(D23,D76,D128,D180,D232,D284,D336,D388,D440,D492,D544,D596,D648,D700,D752,D804,D856,D908,D960) -> 0 | AD23: =SUM(E23,E76,E128,E180,E232,E284,E336,E388,E440,E492,E544,E596,E648,E700,E752,E804,E856,E908,E960) -> 0 | AE23: =SUM(F23,F76,F128,F180,F232,F284,F336,F388,F440,F492,F544,F596,F648,F700,F752,F804,F856,F908,F960) -> 0 | AF23: =SUM(G23,G76,G128,G180,G232,G284,G336,G388,G440,G492,G544,G596,G648,G700,G752,G804,G856,G908,G960) -> 0 | AG23: =SUM(H23,H76,H128,H180,H232,H284,H336,H388,H440,H492,H544,H596,H648,H700,H752,H804,H856,H908,H960) -> 0 | AH23: =SUM(I23,I76,I128,I180,I232,I284,I336,I388,I440,I492,I544,I596,I648,I700,I752,I804,I856,I908,I960) -> 0 | ... AJ23: =SUM(K23,K76,K128,K180,K232,K284,K336,K388,K440,K492,K544,K596,K648,K700,K752,K804,K856,K908,K960) -> 0 | AK23: =COUNTIF(AA23:AJ23,">0") -> 0 | AL23: =A23 -> SSS Lucas
A24: =(Championnats!B$23) -> TTT Samba | B24: =SUM(Championnats!F23) -> 0 | C24: =SUM(Championnats!F75) -> 0 | D24: =SUM(Championnats!F127) -> 0 | E24: =SUM(Championnats!F179) -> 0 | F24: =SUM(Championnats!F231) -> 0 | G24: =SUM(Championnats!F283) -> 0 | H24: =SUM(Championnats!F335) -> 0 | I24: =SUM(Championnats!F387) -> 0 | J24: =SUM(Championnats!F439) -> 0 | K24: =SUM(Championnats!F491) -> 0 | M24: =CROSS!$M$23 -> 0 | N24: =SUM(Championnats!AD23,Championnats!AD75,Championnats!AD127,Championnats!AD179,Championnats!AD231,Championnats!AD283,Championnats!AD335,Championnats!AD387,Championnats!AD439,Championnats!AD491) -> 0 | V24: {=MIN(IF(B24:K24>0,B24:K24))} -> 0 | W24: =MAX(B24:K24) -> 0 | Y24: =SUM(CROSS!I23) -> 0 | Z24: =SUM(CROSS!J23) -> 0 | AA24: =SUM(B24,B77,B129,B181,B233,B285,B337,B389,B441,B493,B545,B597,B649,B701,B753,B805,B857,B909,B961) -> 0 | AB24: =SUM(C24,C77,C129,C181,C233,C285,C337,C389,C441,C493,C545,C597,C649,C701,C753,C805,C857,C909,C961) -> 0 | AC24: =SUM(D24,D77,D129,D181,D233,D285,D337,D389,D441,D493,D545,D597,D649,D701,D753,D805,D857,D909,D961) -> 0 | AD24: =SUM(E24,E77,E129,E181,E233,E285,E337,E389,E441,E493,E545,E597,E649,E701,E753,E805,E857,E909,E961) -> 0 | AE24: =SUM(F24,F77,F129,F181,F233,F285,F337,F389,F441,F493,F545,F597,F649,F701,F753,F805,F857,F909,F961) -> 0 | AF24: =SUM(G24,G77,G129,G181,G233,G285,G337,G389,G441,G493,G545,G597,G649,G701,G753,G805,G857,G909,G961) -> 0 | AG24: =SUM(H24,H77,H129,H181,H233,H285,H337,H389,H441,H493,H545,H597,H649,H701,H753,H805,H857,H909,H961) -> 0 | AH24: =SUM(I24,I77,I129,I181,I233,I285,I337,I389,I441,I493,I545,I597,I649,I701,I753,I805,I857,I909,I961) -> 0 | ... AJ24: =SUM(K24,K77,K129,K181,K233,K285,K337,K389,K441,K493,K545,K597,K649,K701,K753,K805,K857,K909,K961) -> 0 | AK24: =COUNTIF(AA24:AJ24,">0") -> 0 | AL24: =A24 -> TTT Samba
A25: =(Championnats!B$24) -> UUU Miguel | B25: =SUM(Championnats!F24) -> 0 | C25: =SUM(Championnats!F76) -> 0 | D25: =SUM(Championnats!F128) -> 0 | E25: =SUM(Championnats!F180) -> 0 | F25: =SUM(Championnats!F232) -> 0 | G25: =SUM(Championnats!F284) -> 0 | H25: =SUM(Championnats!F336) -> 0 | I25: =SUM(Championnats!F388) -> 0 | J25: =SUM(Championnats!F440) -> 0 | K25: =SUM(Championnats!F492) -> 0 | M25: =CROSS!$M$24 -> 0 | N25: =SUM(Championnats!AD24,Championnats!AD76,Championnats!AD128,Championnats!AD180,Championnats!AD232,Championnats!AD284,Championnats!AD336,Championnats!AD388,Championnats!AD440,Championnats!AD492) -> 0 | V25: {=MIN(IF(B25:K25>0,B25:K25))} -> 0 | W25: =MAX(B25:K25) -> 0 | Y25: =SUM(CROSS!I24) -> 0 | Z25: =SUM(CROSS!J24) -> 0 | AA25: =SUM(B25,B78,B130,B182,B234,B286,B338,B390,B442,B494,B546,B598,B650,B702,B754,B806,B858,B910,B962) -> 0 | AB25: =SUM(C25,C78,C130,C182,C234,C286,C338,C390,C442,C494,C546,C598,C650,C702,C754,C806,C858,C910,C962) -> 0 | AC25: =SUM(D25,D78,D130,D182,D234,D286,D338,D390,D442,D494,D546,D598,D650,D702,D754,D806,D858,D910,D962) -> 0 | AD25: =SUM(E25,E78,E130,E182,E234,E286,E338,E390,E442,E494,E546,E598,E650,E702,E754,E806,E858,E910,E962) -> 0 | AE25: =SUM(F25,F78,F130,F182,F234,F286,F338,F390,F442,F494,F546,F598,F650,F702,F754,F806,F858,F910,F962) -> 0 | AF25: =SUM(G25,G78,G130,G182,G234,G286,G338,G390,G442,G494,G546,G598,G650,G702,G754,G806,G858,G910,G962) -> 0 | AG25: =SUM(H25,H78,H130,H182,H234,H286,H338,H390,H442,H494,H546,H598,H650,H702,H754,H806,H858,H910,H962) -> 0 | AH25: =SUM(I25,I78,I130,I182,I234,I286,I338,I390,I442,I494,I546,I598,I650,I702,I754,I806,I858,I910,I962) -> 0 | ... AJ25: =SUM(K25,K78,K130,K182,K234,K286,K338,K390,K442,K494,K546,K598,K650,K702,K754,K806,K858,K910,K962) -> 0 | AK25: =COUNTIF(AA25:AJ25,">0") -> 0 | AL25: =A25 -> UUU Miguel
A26: =(Championnats!B$25) -> VVV Nicolas | B26: =SUM(Championnats!F25) -> 0 | C26: =SUM(Championnats!F77) -> 0 | D26: =SUM(Championnats!F129) -> 0 | E26: =SUM(Championnats!F181) -> 0 | F26: =SUM(Championnats!F233) -> 0 | G26: =SUM(Championnats!F285) -> 0 | H26: =SUM(Championnats!F337) -> 0 | I26: =SUM(Championnats!F389) -> 0 | J26: =SUM(Championnats!F441) -> 0 | K26: =SUM(Championnats!F493) -> 0 | M26: =CROSS!$M$25 -> 0 | N26: =SUM(Championnats!AD25,Championnats!AD77,Championnats!AD129,Championnats!AD181,Championnats!AD233,Championnats!AD285,Championnats!AD337,Championnats!AD389,Championnats!AD441,Championnats!AD493) -> 0 | V26: {=MIN(IF(B26:K26>0,B26:K26))} -> 0 | W26: =MAX(B26:K26) -> 0 | Y26: =SUM(CROSS!I25) -> 0 | Z26: =SUM(CROSS!J25) -> 0 | AA26: =SUM(B26,B79,B131,B183,B235,B287,B339,B391,B443,B495,B547,B599,B651,B703,B755,B807,B859,B911,B963) -> 0 | AB26: =SUM(C26,C79,C131,C183,C235,C287,C339,C391,C443,C495,C547,C599,C651,C703,C755,C807,C859,C911,C963) -> 0 | AC26: =SUM(D26,D79,D131,D183,D235,D287,D339,D391,D443,D495,D547,D599,D651,D703,D755,D807,D859,D911,D963) -> 0 | AD26: =SUM(E26,E79,E131,E183,E235,E287,E339,E391,E443,E495,E547,E599,E651,E703,E755,E807,E859,E911,E963) -> 0 | AE26: =SUM(F26,F79,F131,F183,F235,F287,F339,F391,F443,F495,F547,F599,F651,F703,F755,F807,F859,F911,F963) -> 0 | AF26: =SUM(G26,G79,G131,G183,G235,G287,G339,G391,G443,G495,G547,G599,G651,G703,G755,G807,G859,G911,G963) -> 0 | AG26: =SUM(H26,H79,H131,H183,H235,H287,H339,H391,H443,H495,H547,H599,H651,H703,H755,H807,H859,H911,H963) -> 0 | AH26: =SUM(I26,I79,I131,I183,I235,I287,I339,I391,I443,I495,I547,I599,I651,I703,I755,I807,I859,I911,I963) -> 0 | ... AJ26: =SUM(K26,K79,K131,K183,K235,K287,K339,K391,K443,K495,K547,K599,K651,K703,K755,K807,K859,K911,K963) -> 0 | AK26: =COUNTIF(AA26:AJ26,">0") -> 0 | AL26: =A26 -> VVV Nicolas
A27: =(Championnats!B$26) -> WWW Bilal | B27: =SUM(Championnats!F26) -> 0 | C27: =SUM(Championnats!F78) -> 0 | D27: =SUM(Championnats!F130) -> 0 | E27: =SUM(Championnats!F182) -> 0 | F27: =SUM(Championnats!F234) -> 0 | G27: =SUM(Championnats!F286) -> 0 | H27: =SUM(Championnats!F338) -> 0 | I27: =SUM(Championnats!F390) -> 0 | J27: =SUM(Championnats!F442) -> 0 | K27: =SUM(Championnats!F494) -> 0 | M27: =CROSS!$M$26 -> 0 | N27: =SUM(Championnats!AD26,Championnats!AD78,Championnats!AD130,Championnats!AD182,Championnats!AD234,Championnats!AD286,Championnats!AD338,Championnats!AD390,Championnats!AD442,Championnats!AD494) -> 0 | V27: {=MIN(IF(B27:K27>0,B27:K27))} -> 0 | W27: =MAX(B27:K27) -> 0 | Y27: =SUM(CROSS!I26) -> 0 | Z27: =SUM(CROSS!J26) -> 0 | AA27: =SUM(B27,B80,B132,B184,B236,B288,B340,B392,B444,B496,B548,B600,B652,B704,B756,B808,B860,B912,B964) -> 0 | AB27: =SUM(C27,C80,C132,C184,C236,C288,C340,C392,C444,C496,C548,C600,C652,C704,C756,C808,C860,C912,C964) -> 0 | AC27: =SUM(D27,D80,D132,D184,D236,D288,D340,D392,D444,D496,D548,D600,D652,D704,D756,D808,D860,D912,D964) -> 0 | AD27: =SUM(E27,E80,E132,E184,E236,E288,E340,E392,E444,E496,E548,E600,E652,E704,E756,E808,E860,E912,E964) -> 0 | AE27: =SUM(F27,F80,F132,F184,F236,F288,F340,F392,F444,F496,F548,F600,F652,F704,F756,F808,F860,F912,F964) -> 0 | AF27: =SUM(G27,G80,G132,G184,G236,G288,G340,G392,G444,G496,G548,G600,G652,G704,G756,G808,G860,G912,G964) -> 0 | AG27: =SUM(H27,H80,H132,H184,H236,H288,H340,H392,H444,H496,H548,H600,H652,H704,H756,H808,H860,H912,H964) -> 0 | AH27: =SUM(I27,I80,I132,I184,I236,I288,I340,I392,I444,I496,I548,I600,I652,I704,I756,I808,I860,I912,I964) -> 0 | ... AJ27: =SUM(K27,K80,K132,K184,K236,K288,K340,K392,K444,K496,K548,K600,K652,K704,K756,K808,K860,K912,K964) -> 0 | AK27: =COUNTIF(AA27:AJ27,">0") -> 0 | AL27: =A27 -> WWW Bilal
A28: =(Championnats!B$27) -> XXX Florent | B28: =SUM(Championnats!F27) -> 0 | C28: =SUM(Championnats!F79) -> 0 | D28: =SUM(Championnats!F131) -> 0 | E28: =SUM(Championnats!F183) -> 0 | F28: =SUM(Championnats!F235) -> 0 | G28: =SUM(Championnats!F287) -> 0 | H28: =SUM(Championnats!F339) -> 0 | I28: =SUM(Championnats!F391) -> 0 | J28: =SUM(Championnats!F443) -> 0 | K28: =SUM(Championnats!F495) -> 0 | M28: =CROSS!$M$27 -> 0 | N28: =SUM(Championnats!AD27,Championnats!AD79,Championnats!AD131,Championnats!AD183,Championnats!AD235,Championnats!AD287,Championnats!AD339,Championnats!AD391,Championnats!AD443,Championnats!AD495) -> 0 | V28: {=MIN(IF(B28:K28>0,B28:K28))} -> 0 | W28: =MAX(B28:K28) -> 0 | Y28: =SUM(CROSS!I27) -> 0 | Z28: =SUM(CROSS!J27) -> 0 | AA28: =SUM(B28,B81,B133,B185,B237,B289,B341,B393,B445,B497,B549,B601,B653,B705,B757,B809,B861,B913,B965) -> 0 | AB28: =SUM(C28,C81,C133,C185,C237,C289,C341,C393,C445,C497,C549,C601,C653,C705,C757,C809,C861,C913,C965) -> 0 | AC28: =SUM(D28,D81,D133,D185,D237,D289,D341,D393,D445,D497,D549,D601,D653,D705,D757,D809,D861,D913,D965) -> 0 | AD28: =SUM(E28,E81,E133,E185,E237,E289,E341,E393,E445,E497,E549,E601,E653,E705,E757,E809,E861,E913,E965) -> 0 | AE28: =SUM(F28,F81,F133,F185,F237,F289,F341,F393,F445,F497,F549,F601,F653,F705,F757,F809,F861,F913,F965) -> 0 | AF28: =SUM(G28,G81,G133,G185,G237,G289,G341,G393,G445,G497,G549,G601,G653,G705,G757,G809,G861,G913,G965) -> 0 | AG28: =SUM(H28,H81,H133,H185,H237,H289,H341,H393,H445,H497,H549,H601,H653,H705,H757,H809,H861,H913,H965) -> 0 | AH28: =SUM(I28,I81,I133,I185,I237,I289,I341,I393,I445,I497,I549,I601,I653,I705,I757,I809,I861,I913,I965) -> 0 | ... AJ28: =SUM(K28,K81,K133,K185,K237,K289,K341,K393,K445,K497,K549,K601,K653,K705,K757,K809,K861,K913,K965) -> 0 | AK28: =COUNTIF(AA28:AJ28,">0") -> 0 | AL28: =A28 -> XXX Florent
A29: =(Championnats!B$28) -> YYYY Célia | B29: =SUM(Championnats!F28) -> 0 | C29: =SUM(Championnats!F80) -> 0 | D29: =SUM(Championnats!F132) -> 0 | E29: =SUM(Championnats!F184) -> 0 | F29: =SUM(Championnats!F236) -> 0 | G29: =SUM(Championnats!F288) -> 0 | H29: =SUM(Championnats!F340) -> 0 | I29: =SUM(Championnats!F392) -> 0 | J29: =SUM(Championnats!F444) -> 0 | K29: =SUM(Championnats!F496) -> 0 | M29: =CROSS!$M$28 -> 0 | N29: =SUM(Championnats!AD28,Championnats!AD80,Championnats!AD132,Championnats!AD184,Championnats!AD236,Championnats!AD288,Championnats!AD340,Championnats!AD392,Championnats!AD444,Championnats!AD496) -> 0 | V29: {=MIN(IF(B29:K29>0,B29:K29))} -> 0 | W29: =MAX(B29:K29) -> 0 | Y29: =SUM(CROSS!I28) -> 0 | Z29: =SUM(CROSS!J28) -> 0 | AA29: =SUM(B29,B82,B134,B186,B238,B290,B342,B394,B446,B498,B550,B602,B654,B706,B758,B810,B862,B914,B966) -> 0 | AB29: =SUM(C29,C82,C134,C186,C238,C290,C342,C394,C446,C498,C550,C602,C654,C706,C758,C810,C862,C914,C966) -> 0 | AC29: =SUM(D29,D82,D134,D186,D238,D290,D342,D394,D446,D498,D550,D602,D654,D706,D758,D810,D862,D914,D966) -> 0 | AD29: =SUM(E29,E82,E134,E186,E238,E290,E342,E394,E446,E498,E550,E602,E654,E706,E758,E810,E862,E914,E966) -> 0 | AE29: =SUM(F29,F82,F134,F186,F238,F290,F342,F394,F446,F498,F550,F602,F654,F706,F758,F810,F862,F914,F966) -> 0 | AF29: =SUM(G29,G82,G134,G186,G238,G290,G342,G394,G446,G498,G550,G602,G654,G706,G758,G810,G862,G914,G966) -> 0 | AG29: =SUM(H29,H82,H134,H186,H238,H290,H342,H394,H446,H498,H550,H602,H654,H706,H758,H810,H862,H914,H966) -> 0 | AH29: =SUM(I29,I82,I134,I186,I238,I290,I342,I394,I446,I498,I550,I602,I654,I706,I758,I810,I862,I914,I966) -> 0 | ... AJ29: =SUM(K29,K82,K134,K186,K238,K290,K342,K394,K446,K498,K550,K602,K654,K706,K758,K810,K862,K914,K966) -> 0 | AK29: =COUNTIF(AA29:AJ29,">0") -> 0 | AL29: =A29 -> YYYY Célia
A30: =(Championnats!B$29) -> ZZZ Rehu Magnifié | B30: =SUM(Championnats!F29) -> 0 | C30: =SUM(Championnats!F81) -> 0 | D30: =SUM(Championnats!F133) -> 0 | E30: =SUM(Championnats!F185) -> 0 | F30: =SUM(Championnats!F237) -> 0 | G30: =SUM(Championnats!F289) -> 0 | H30: =SUM(Championnats!F341) -> 0 | I30: =SUM(Championnats!F393) -> 0 | J30: =SUM(Championnats!F445) -> 0 | K30: =SUM(Championnats!F497) -> 0 | M30: =CROSS!$M$29 -> 0 | N30: =SUM(Championnats!AD29,Championnats!AD81,Championnats!AD133,Championnats!AD185,Championnats!AD237,Championnats!AD289,Championnats!AD341,Championnats!AD393,Championnats!AD445,Championnats!AD497) -> 0 | V30: {=MIN(IF(B30:K30>0,B30:K30))} -> 0 | W30: =MAX(B30:K30) -> 0 | Y30: =SUM(CROSS!I29) -> 0 | Z30: =SUM(CROSS!J29) -> 0 | AA30: =SUM(B30,B83,B135,B187,B239,B291,B343,B395,B447,B499,B551,B603,B655,B707,B759,B811,B863,B915,B967) -> 0 | AB30: =SUM(C30,C83,C135,C187,C239,C291,C343,C395,C447,C499,C551,C603,C655,C707,C759,C811,C863,C915,C967) -> 0 | AC30: =SUM(D30,D83,D135,D187,D239,D291,D343,D395,D447,D499,D551,D603,D655,D707,D759,D811,D863,D915,D967) -> 0 | AD30: =SUM(E30,E83,E135,E187,E239,E291,E343,E395,E447,E499,E551,E603,E655,E707,E759,E811,E863,E915,E967) -> 0 | AE30: =SUM(F30,F83,F135,F187,F239,F291,F343,F395,F447,F499,F551,F603,F655,F707,F759,F811,F863,F915,F967) -> 0 | AF30: =SUM(G30,G83,G135,G187,G239,G291,G343,G395,G447,G499,G551,G603,G655,G707,G759,G811,G863,G915,G967) -> 0 | AG30: =SUM(H30,H83,H135,H187,H239,H291,H343,H395,H447,H499,H551,H603,H655,H707,H759,H811,H863,H915,H967) -> 0 | AH30: =SUM(I30,I83,I135,I187,I239,I291,I343,I395,I447,I499,I551,I603,I655,I707,I759,I811,I863,I915,I967) -> 0 | ... AJ30: =SUM(K30,K83,K135,K187,K239,K291,K343,K395,K447,K499,K551,K603,K655,K707,K759,K811,K863,K915,K967) -> 0 | AK30: =COUNTIF(AA30:AJ30,">0") -> 0 | AL30: =A30 -> ZZZ Rehu Magnifié
A31: =(Championnats!B$30) -> AAABBB Prisca | B31: =SUM(Championnats!F30) -> 0 | C31: =SUM(Championnats!F82) -> 0 | D31: =SUM(Championnats!F134) -> 0 | E31: =SUM(Championnats!F186) -> 0 | F31: =SUM(Championnats!F238) -> 0 | G31: =SUM(Championnats!F290) -> 0 | H31: =SUM(Championnats!F342) -> 0 | I31: =SUM(Championnats!F394) -> 0 | J31: =SUM(Championnats!F446) -> 0 | K31: =SUM(Championnats!F498) -> 0 | M31: =CROSS!$M$30 -> 0 | N31: =SUM(Championnats!AD30,Championnats!AD82,Championnats!AD134,Championnats!AD186,Championnats!AD238,Championnats!AD290,Championnats!AD342,Championnats!AD394,Championnats!AD446,Championnats!AD498) -> 0 | V31: {=MIN(IF(B31:K31>0,B31:K31))} -> 0 | W31: =MAX(B31:K31) -> 0 | Y31: =SUM(CROSS!I30) -> 0 | Z31: =SUM(CROSS!J30) -> 0 | AA31: =SUM(B31,B84,B136,B188,B240,B292,B344,B396,B448,B500,B552,B604,B656,B708,B760,B812,B864,B916,B968) -> 0 | AB31: =SUM(C31,C84,C136,C188,C240,C292,C344,C396,C448,C500,C552,C604,C656,C708,C760,C812,C864,C916,C968) -> 0 | AC31: =SUM(D31,D84,D136,D188,D240,D292,D344,D396,D448,D500,D552,D604,D656,D708,D760,D812,D864,D916,D968) -> 0 | AD31: =SUM(E31,E84,E136,E188,E240,E292,E344,E396,E448,E500,E552,E604,E656,E708,E760,E812,E864,E916,E968) -> 0 | AE31: =SUM(F31,F84,F136,F188,F240,F292,F344,F396,F448,F500,F552,F604,F656,F708,F760,F812,F864,F916,F968) -> 0 | AF31: =SUM(G31,G84,G136,G188,G240,G292,G344,G396,G448,G500,G552,G604,G656,G708,G760,G812,G864,G916,G968) -> 0 | AG31: =SUM(H31,H84,H136,H188,H240,H292,H344,H396,H448,H500,H552,H604,H656,H708,H760,H812,H864,H916,H968) -> 0 | AH31: =SUM(I31,I84,I136,I188,I240,I292,I344,I396,I448,I500,I552,I604,I656,I708,I760,I812,I864,I916,I968) -> 0 | ... AJ31: =SUM(K31,K84,K136,K188,K240,K292,K344,K396,K448,K500,K552,K604,K656,K708,K760,K812,K864,K916,K968) -> 0 | AK31: =COUNTIF(AA31:AJ31,">0") -> 0 | AL31: =A31 -> AAABBB Prisca
A32: =(Championnats!B$31) -> BBBCCC Océane | B32: =SUM(Championnats!F31) -> 0 | C32: =SUM(Championnats!F83) -> 0 | D32: =SUM(Championnats!F135) -> 0 | E32: =SUM(Championnats!F187) -> 0 | F32: =SUM(Championnats!F239) -> 0 | G32: =SUM(Championnats!F291) -> 0 | H32: =SUM(Championnats!F343) -> 0 | I32: =SUM(Championnats!F395) -> 0 | J32: =SUM(Championnats!F447) -> 0 | K32: =SUM(Championnats!F499) -> 0 | M32: =CROSS!$M$31 -> 0 | N32: =SUM(Championnats!AD31,Championnats!AD83,Championnats!AD135,Championnats!AD187,Championnats!AD239,Championnats!AD291,Championnats!AD343,Championnats!AD395,Championnats!AD447,Championnats!AD499) -> 0 | V32: {=MIN(IF(B32:K32>0,B32:K32))} -> 0 | W32: =MAX(B32:K32) -> 0 | Y32: =SUM(CROSS!I31) -> 0 | Z32: =SUM(CROSS!J31) -> 0 | AA32: =SUM(B32,B85,B137,B189,B241,B293,B345,B397,B449,B501,B553,B605,B657,B709,B761,B813,B865,B917,B969) -> 0 | AB32: =SUM(C32,C85,C137,C189,C241,C293,C345,C397,C449,C501,C553,C605,C657,C709,C761,C813,C865,C917,C969) -> 0 | AC32: =SUM(D32,D85,D137,D189,D241,D293,D345,D397,D449,D501,D553,D605,D657,D709,D761,D813,D865,D917,D969) -> 0 | AD32: =SUM(E32,E85,E137,E189,E241,E293,E345,E397,E449,E501,E553,E605,E657,E709,E761,E813,E865,E917,E969) -> 0 | AE32: =SUM(F32,F85,F137,F189,F241,F293,F345,F397,F449,F501,F553,F605,F657,F709,F761,F813,F865,F917,F969) -> 0 | AF32: =SUM(G32,G85,G137,G189,G241,G293,G345,G397,G449,G501,G553,G605,G657,G709,G761,G813,G865,G917,G969) -> 0 | AG32: =SUM(H32,H85,H137,H189,H241,H293,H345,H397,H449,H501,H553,H605,H657,H709,H761,H813,H865,H917,H969) -> 0 | AH32: =SUM(I32,I85,I137,I189,I241,I293,I345,I397,I449,I501,I553,I605,I657,I709,I761,I813,I865,I917,I969) -> 0 | ... AJ32: =SUM(K32,K85,K137,K189,K241,K293,K345,K397,K449,K501,K553,K605,K657,K709,K761,K813,K865,K917,K969) -> 0 | AK32: =COUNTIF(AA32:AJ32,">0") -> 0 | AL32: =A32 -> BBBCCC Océane
A33: =(Championnats!B$32) -> CCCDDD Balkis-Imane | B33: =SUM(Championnats!F32) -> 0 | C33: =SUM(Championnats!F84) -> 0 | D33: =SUM(Championnats!F136) -> 0 | E33: =SUM(Championnats!F188) -> 0 | F33: =SUM(Championnats!F240) -> 0 | G33: =SUM(Championnats!F292) -> 0 | H33: =SUM(Championnats!F344) -> 0 | I33: =SUM(Championnats!F396) -> 0 | J33: =SUM(Championnats!F448) -> 0 | K33: =SUM(Championnats!F500) -> 0 | M33: =CROSS!$M$32 -> 0 | N33: =SUM(Championnats!AD32,Championnats!AD84,Championnats!AD136,Championnats!AD188,Championnats!AD240,Championnats!AD292,Championnats!AD344,Championnats!AD396,Championnats!AD448,Championnats!AD500) -> 0 | V33: {=MIN(IF(B33:K33>0,B33:K33))} -> 0 | W33: =MAX(B33:K33) -> 0 | Y33: =SUM(CROSS!I32) -> 0 | Z33: =SUM(CROSS!J32) -> 0 | AA33: =SUM(B33,B86,B138,B190,B242,B294,B346,B398,B450,B502,B554,B606,B658,B710,B762,B814,B866,B918,B970) -> 0 | AB33: =SUM(C33,C86,C138,C190,C242,C294,C346,C398,C450,C502,C554,C606,C658,C710,C762,C814,C866,C918,C970) -> 0 | AC33: =SUM(D33,D86,D138,D190,D242,D294,D346,D398,D450,D502,D554,D606,D658,D710,D762,D814,D866,D918,D970) -> 0 | AD33: =SUM(E33,E86,E138,E190,E242,E294,E346,E398,E450,E502,E554,E606,E658,E710,E762,E814,E866,E918,E970) -> 0 | AE33: =SUM(F33,F86,F138,F190,F242,F294,F346,F398,F450,F502,F554,F606,F658,F710,F762,F814,F866,F918,F970) -> 0 | AF33: =SUM(G33,G86,G138,G190,G242,G294,G346,G398,G450,G502,G554,G606,G658,G710,G762,G814,G866,G918,G970) -> 0 | AG33: =SUM(H33,H86,H138,H190,H242,H294,H346,H398,H450,H502,H554,H606,H658,H710,H762,H814,H866,H918,H970) -> 0 | AH33: =SUM(I33,I86,I138,I190,I242,I294,I346,I398,I450,I502,I554,I606,I658,I710,I762,I814,I866,I918,I970) -> 0 | ... AJ33: =SUM(K33,K86,K138,K190,K242,K294,K346,K398,K450,K502,K554,K606,K658,K710,K762,K814,K866,K918,K970) -> 0 | AK33: =COUNTIF(AA33:AJ33,">0") -> 0 | AL33: =A33 -> CCCDDD Balkis-Imane
A34: =(Championnats!B$33) -> DDDEEE Hamza | B34: =SUM(Championnats!F33) -> 0 | C34: =SUM(Championnats!F85) -> 0 | D34: =SUM(Championnats!F137) -> 0 | E34: =SUM(Championnats!F189) -> 0 | F34: =SUM(Championnats!F241) -> 0 | G34: =SUM(Championnats!F293) -> 0 | H34: =SUM(Championnats!F345) -> 0 | I34: =SUM(Championnats!F397) -> 0 | J34: =SUM(Championnats!F449) -> 0 | K34: =SUM(Championnats!F501) -> 0 | M34: =CROSS!$M$33 -> 0 | N34: =SUM(Championnats!AD33,Championnats!AD85,Championnats!AD137,Championnats!AD189,Championnats!AD241,Championnats!AD293,Championnats!AD345,Championnats!AD397,Championnats!AD449,Championnats!AD501) -> 0 | V34: {=MIN(IF(B34:K34>0,B34:K34))} -> 0 | W34: =MAX(B34:K34) -> 0 | Y34: =SUM(CROSS!I33) -> 0 | Z34: =SUM(CROSS!J33) -> 0 | AA34: =SUM(B34,B87,B139,B191,B243,B295,B347,B399,B451,B503,B555,B607,B659,B711,B763,B815,B867,B919,B971) -> 0 | AB34: =SUM(C34,C87,C139,C191,C243,C295,C347,C399,C451,C503,C555,C607,C659,C711,C763,C815,C867,C919,C971) -> 0 | AC34: =SUM(D34,D87,D139,D191,D243,D295,D347,D399,D451,D503,D555,D607,D659,D711,D763,D815,D867,D919,D971) -> 0 | AD34: =SUM(E34,E87,E139,E191,E243,E295,E347,E399,E451,E503,E555,E607,E659,E711,E763,E815,E867,E919,E971) -> 0 | AE34: =SUM(F34,F87,F139,F191,F243,F295,F347,F399,F451,F503,F555,F607,F659,F711,F763,F815,F867,F919,F971) -> 0 | AF34: =SUM(G34,G87,G139,G191,G243,G295,G347,G399,G451,G503,G555,G607,G659,G711,G763,G815,G867,G919,G971) -> 0 | AG34: =SUM(H34,H87,H139,H191,H243,H295,H347,H399,H451,H503,H555,H607,H659,H711,H763,H815,H867,H919,H971) -> 0 | AH34: =SUM(I34,I87,I139,I191,I243,I295,I347,I399,I451,I503,I555,I607,I659,I711,I763,I815,I867,I919,I971) -> 0 | ... AJ34: =SUM(K34,K87,K139,K191,K243,K295,K347,K399,K451,K503,K555,K607,K659,K711,K763,K815,K867,K919,K971) -> 0 | AK34: =COUNTIF(AA34:AJ34,">0") -> 0 | AL34: =A34 -> DDDEEE Hamza
A35: =(Championnats!B$34) -> EEEFFF Beverly | B35: =SUM(Championnats!F34) -> 0 | C35: =SUM(Championnats!F86) -> 0 | D35: =SUM(Championnats!F138) -> 0 | E35: =SUM(Championnats!F190) -> 0 | F35: =SUM(Championnats!F242) -> 0 | G35: =SUM(Championnats!F294) -> 0 | H35: =SUM(Championnats!F346) -> 0 | I35: =SUM(Championnats!F398) -> 0 | J35: =SUM(Championnats!F450) -> 0 | K35: =SUM(Championnats!F502) -> 0 | M35: =CROSS!$M$34 -> 0 | N35: =SUM(Championnats!AD34,Championnats!AD86,Championnats!AD138,Championnats!AD190,Championnats!AD242,Championnats!AD294,Championnats!AD346,Championnats!AD398,Championnats!AD450,Championnats!AD502) -> 0 | V35: {=MIN(IF(B35:K35>0,B35:K35))} -> 0 | W35: =MAX(B35:K35) -> 0 | Y35: =SUM(CROSS!I34) -> 0 | Z35: =SUM(CROSS!J34) -> 0 | AA35: =SUM(B35,B88,B140,B192,B244,B296,B348,B400,B452,B504,B556,B608,B660,B712,B764,B816,B868,B920,B972) -> 0 | AB35: =SUM(C35,C88,C140,C192,C244,C296,C348,C400,C452,C504,C556,C608,C660,C712,C764,C816,C868,C920,C972) -> 0 | AC35: =SUM(D35,D88,D140,D192,D244,D296,D348,D400,D452,D504,D556,D608,D660,D712,D764,D816,D868,D920,D972) -> 0 | AD35: =SUM(E35,E88,E140,E192,E244,E296,E348,E400,E452,E504,E556,E608,E660,E712,E764,E816,E868,E920,E972) -> 0 | AE35: =SUM(F35,F88,F140,F192,F244,F296,F348,F400,F452,F504,F556,F608,F660,F712,F764,F816,F868,F920,F972) -> 0 | AF35: =SUM(G35,G88,G140,G192,G244,G296,G348,G400,G452,G504,G556,G608,G660,G712,G764,G816,G868,G920,G972) -> 0 | AG35: =SUM(H35,H88,H140,H192,H244,H296,H348,H400,H452,H504,H556,H608,H660,H712,H764,H816,H868,H920,H972) -> 0 | AH35: =SUM(I35,I88,I140,I192,I244,I296,I348,I400,I452,I504,I556,I608,I660,I712,I764,I816,I868,I920,I972) -> 0 | ... AJ35: =SUM(K35,K88,K140,K192,K244,K296,K348,K400,K452,K504,K556,K608,K660,K712,K764,K816,K868,K920,K972) -> 0 | AK35: =COUNTIF(AA35:AJ35,">0") -> 0 | AL35: =A35 -> EEEFFF Beverly
A36: =(Championnats!B$35) -> FFFGGG Flore | B36: =SUM(Championnats!F35) -> 0 | C36: =SUM(Championnats!F87) -> 0 | D36: =SUM(Championnats!F139) -> 0 | E36: =SUM(Championnats!F191) -> 0 | F36: =SUM(Championnats!F243) -> 0 | G36: =SUM(Championnats!F295) -> 0 | H36: =SUM(Championnats!F347) -> 0 | I36: =SUM(Championnats!F399) -> 0 | J36: =SUM(Championnats!F451) -> 0 | K36: =SUM(Championnats!F503) -> 0 | M36: =CROSS!$M$35 -> 0 | N36: =SUM(Championnats!AD35,Championnats!AD87,Championnats!AD139,Championnats!AD191,Championnats!AD243,Championnats!AD295,Championnats!AD347,Championnats!AD399,Championnats!AD451,Championnats!AD503) -> 0 | V36: {=MIN(IF(B36:K36>0,B36:K36))} -> 0 | W36: =MAX(B36:K36) -> 0 | Y36: =SUM(CROSS!I35) -> 0 | Z36: =SUM(CROSS!J35) -> 0 | AA36: =SUM(B36,B89,B141,B193,B245,B297,B349,B401,B453,B505,B557,B609,B661,B713,B765,B817,B869,B921,B973) -> 0 | AB36: =SUM(C36,C89,C141,C193,C245,C297,C349,C401,C453,C505,C557,C609,C661,C713,C765,C817,C869,C921,C973) -> 0 | AC36: =SUM(D36,D89,D141,D193,D245,D297,D349,D401,D453,D505,D557,D609,D661,D713,D765,D817,D869,D921,D973) -> 0 | AD36: =SUM(E36,E89,E141,E193,E245,E297,E349,E401,E453,E505,E557,E609,E661,E713,E765,E817,E869,E921,E973) -> 0 | AE36: =SUM(F36,F89,F141,F193,F245,F297,F349,F401,F453,F505,F557,F609,F661,F713,F765,F817,F869,F921,F973) -> 0 | AF36: =SUM(G36,G89,G141,G193,G245,G297,G349,G401,G453,G505,G557,G609,G661,G713,G765,G817,G869,G921,G973) -> 0 | AG36: =SUM(H36,H89,H141,H193,H245,H297,H349,H401,H453,H505,H557,H609,H661,H713,H765,H817,H869,H921,H973) -> 0 | AH36: =SUM(I36,I89,I141,I193,I245,I297,I349,I401,I453,I505,I557,I609,I661,I713,I765,I817,I869,I921,I973) -> 0 | ... AJ36: =SUM(K36,K89,K141,K193,K245,K297,K349,K401,K453,K505,K557,K609,K661,K713,K765,K817,K869,K921,K973) -> 0 | AK36: =COUNTIF(AA36:AJ36,">0") -> 0 | AL36: =A36 -> FFFGGG Flore
A37: =(Championnats!B$36) -> GGGGHHH Lauryne | B37: =SUM(Championnats!F36) -> 0 | C37: =SUM(Championnats!F88) -> 0 | D37: =SUM(Championnats!F140) -> 0 | E37: =SUM(Championnats!F192) -> 0 | F37: =SUM(Championnats!F244) -> 0 | G37: =SUM(Championnats!F296) -> 0 | H37: =SUM(Championnats!F348) -> 0 | I37: =SUM(Championnats!F400) -> 0 | J37: =SUM(Championnats!F452) -> 0 | K37: =SUM(Championnats!F504) -> 0 | M37: =CROSS!$M$36 -> 0 | N37: =SUM(Championnats!AD36,Championnats!AD88,Championnats!AD140,Championnats!AD192,Championnats!AD244,Championnats!AD296,Championnats!AD348,Championnats!AD400,Championnats!AD452,Championnats!AD504) -> 0 | V37: {=MIN(IF(B37:K37>0,B37:K37))} -> 0 | W37: =MAX(B37:K37) -> 0 | Y37: =SUM(CROSS!I36) -> 0 | Z37: =SUM(CROSS!J36) -> 0 | AA37: =SUM(B37,B90,B142,B194,B246,B298,B350,B402,B454,B506,B558,B610,B662,B714,B766,B818,B870,B922,B974) -> 0 | AB37: =SUM(C37,C90,C142,C194,C246,C298,C350,C402,C454,C506,C558,C610,C662,C714,C766,C818,C870,C922,C974) -> 0 | AC37: =SUM(D37,D90,D142,D194,D246,D298,D350,D402,D454,D506,D558,D610,D662,D714,D766,D818,D870,D922,D974) -> 0 | AD37: =SUM(E37,E90,E142,E194,E246,E298,E350,E402,E454,E506,E558,E610,E662,E714,E766,E818,E870,E922,E974) -> 0 | AE37: =SUM(F37,F90,F142,F194,F246,F298,F350,F402,F454,F506,F558,F610,F662,F714,F766,F818,F870,F922,F974) -> 0 | AF37: =SUM(G37,G90,G142,G194,G246,G298,G350,G402,G454,G506,G558,G610,G662,G714,G766,G818,G870,G922,G974) -> 0 | AG37: =SUM(H37,H90,H142,H194,H246,H298,H350,H402,H454,H506,H558,H610,H662,H714,H766,H818,H870,H922,H974) -> 0 | AH37: =SUM(I37,I90,I142,I194,I246,I298,I350,I402,I454,I506,I558,I610,I662,I714,I766,I818,I870,I922,I974) -> 0 | ... AJ37: =SUM(K37,K90,K142,K194,K246,K298,K350,K402,K454,K506,K558,K610,K662,K714,K766,K818,K870,K922,K974) -> 0 | AK37: =COUNTIF(AA37:AJ37,">0") -> 0 | AL37: =A37 -> GGGGHHH Lauryne
A38: =(Championnats!B$37) -> HHHHIII Steven | B38: =SUM(Championnats!F37) -> 0 | C38: =SUM(Championnats!F89) -> 0 | D38: =SUM(Championnats!F141) -> 0 | E38: =SUM(Championnats!F193) -> 0 | F38: =SUM(Championnats!F245) -> 0 | G38: =SUM(Championnats!F297) -> 0 | H38: =SUM(Championnats!F349) -> 0 | I38: =SUM(Championnats!F401) -> 0 | J38: =SUM(Championnats!F453) -> 0 | K38: =SUM(Championnats!F505) -> 0 | M38: =CROSS!$M$37 -> 0 | N38: =SUM(Championnats!AD37,Championnats!AD89,Championnats!AD141,Championnats!AD193,Championnats!AD245,Championnats!AD297,Championnats!AD349,Championnats!AD401,Championnats!AD453,Championnats!AD505) -> 0 | V38: {=MIN(IF(B38:K38>0,B38:K38))} -> 0 | W38: =MAX(B38:K38) -> 0 | Y38: =SUM(CROSS!I37) -> 0 | Z38: =SUM(CROSS!J37) -> 0 | AA38: =SUM(B38,B91,B143,B195,B247,B299,B351,B403,B455,B507,B559,B611,B663,B715,B767,B819,B871,B923,B975) -> 0 | AB38: =SUM(C38,C91,C143,C195,C247,C299,C351,C403,C455,C507,C559,C611,C663,C715,C767,C819,C871,C923,C975) -> 0 | AC38: =SUM(D38,D91,D143,D195,D247,D299,D351,D403,D455,D507,D559,D611,D663,D715,D767,D819,D871,D923,D975) -> 0 | AD38: =SUM(E38,E91,E143,E195,E247,E299,E351,E403,E455,E507,E559,E611,E663,E715,E767,E819,E871,E923,E975) -> 0 | AE38: =SUM(F38,F91,F143,F195,F247,F299,F351,F403,F455,F507,F559,F611,F663,F715,F767,F819,F871,F923,F975) -> 0 | AF38: =SUM(G38,G91,G143,G195,G247,G299,G351,G403,G455,G507,G559,G611,G663,G715,G767,G819,G871,G923,G975) -> 0 | AG38: =SUM(H38,H91,H143,H195,H247,H299,H351,H403,H455,H507,H559,H611,H663,H715,H767,H819,H871,H923,H975) -> 0 | AH38: =SUM(I38,I91,I143,I195,I247,I299,I351,I403,I455,I507,I559,I611,I663,I715,I767,I819,I871,I923,I975) -> 0 | ... AJ38: =SUM(K38,K91,K143,K195,K247,K299,K351,K403,K455,K507,K559,K611,K663,K715,K767,K819,K871,K923,K975) -> 0 | AK38: =COUNTIF(AA38:AJ38,">0") -> 0 | AL38: =A38 -> HHHHIII Steven
A39: =(Championnats!B$38) -> IIIJJJJJ PIERRE | B39: =SUM(Championnats!F38) -> 0 | C39: =SUM(Championnats!F90) -> 0 | D39: =SUM(Championnats!F142) -> 0 | E39: =SUM(Championnats!F194) -> 0 | F39: =SUM(Championnats!F246) -> 0 | G39: =SUM(Championnats!F298) -> 0 | H39: =SUM(Championnats!F350) -> 0 | I39: =SUM(Championnats!F402) -> 0 | J39: =SUM(Championnats!F454) -> 0 | K39: =SUM(Championnats!F506) -> 0 | M39: =CROSS!$M$38 -> 0 | N39: =SUM(Championnats!AD38,Championnats!AD90,Championnats!AD142,Championnats!AD194,Championnats!AD246,Championnats!AD298,Championnats!AD350,Championnats!AD402,Championnats!AD454,Championnats!AD506) -> 0 | V39: {=MIN(IF(B39:K39>0,B39:K39))} -> 0 | W39: =MAX(B39:K39) -> 0 | Y39: =SUM(CROSS!I38) -> 0 | Z39: =SUM(CROSS!J38) -> 0 | AA39: =SUM(B39,B92,B144,B196,B248,B300,B352,B404,B456,B508,B560,B612,B664,B716,B768,B820,B872,B924,B976) -> 0 | AB39: =SUM(C39,C92,C144,C196,C248,C300,C352,C404,C456,C508,C560,C612,C664,C716,C768,C820,C872,C924,C976) -> 0 | AC39: =SUM(D39,D92,D144,D196,D248,D300,D352,D404,D456,D508,D560,D612,D664,D716,D768,D820,D872,D924,D976) -> 0 | AD39: =SUM(E39,E92,E144,E196,E248,E300,E352,E404,E456,E508,E560,E612,E664,E716,E768,E820,E872,E924,E976) -> 0 | AE39: =SUM(F39,F92,F144,F196,F248,F300,F352,F404,F456,F508,F560,F612,F664,F716,F768,F820,F872,F924,F976) -> 0 | AF39: =SUM(G39,G92,G144,G196,G248,G300,G352,G404,G456,G508,G560,G612,G664,G716,G768,G820,G872,G924,G976) -> 0 | AG39: =SUM(H39,H92,H144,H196,H248,H300,H352,H404,H456,H508,H560,H612,H664,H716,H768,H820,H872,H924,H976) -> 0 | AH39: =SUM(I39,I92,I144,I196,I248,I300,I352,I404,I456,I508,I560,I612,I664,I716,I768,I820,I872,I924,I976) -> 0 | ... AJ39: =SUM(K39,K92,K144,K196,K248,K300,K352,K404,K456,K508,K560,K612,K664,K716,K768,K820,K872,K924,K976) -> 0 | AK39: =COUNTIF(AA39:AJ39,">0") -> 0 | AL39: =A39 -> IIIJJJJJ PIERRE
A40: =(Championnats!B$39) -> JJJJKKKK Christelle | B40: =SUM(Championnats!F39) -> 0 | C40: =SUM(Championnats!F91) -> 0 | D40: =SUM(Championnats!F143) -> 0 | E40: =SUM(Championnats!F195) -> 0 | F40: =SUM(Championnats!F247) -> 0 | G40: =SUM(Championnats!F299) -> 0 | H40: =SUM(Championnats!F351) -> 0 | I40: =SUM(Championnats!F403) -> 0 | J40: =SUM(Championnats!F455) -> 0 | K40: =SUM(Championnats!F507) -> 0 | M40: =CROSS!$M$39 -> 0 | N40: =SUM(Championnats!AD39,Championnats!AD91,Championnats!AD143,Championnats!AD195,Championnats!AD247,Championnats!AD299,Championnats!AD351,Championnats!AD403,Championnats!AD455,Championnats!AD507) -> 0 | V40: {=MIN(IF(B40:K40>0,B40:K40))} -> 0 | W40: =MAX(B40:K40) -> 0 | Y40: =SUM(CROSS!I39) -> 0 | Z40: =SUM(CROSS!J39) -> 0 | AA40: =SUM(B40,B93,B145,B197,B249,B301,B353,B405,B457,B509,B561,B613,B665,B717,B769,B821,B873,B925,B977) -> 0 | AB40: =SUM(C40,C93,C145,C197,C249,C301,C353,C405,C457,C509,C561,C613,C665,C717,C769,C821,C873,C925,C977) -> 0 | AC40: =SUM(D40,D93,D145,D197,D249,D301,D353,D405,D457,D509,D561,D613,D665,D717,D769,D821,D873,D925,D977) -> 0 | AD40: =SUM(E40,E93,E145,E197,E249,E301,E353,E405,E457,E509,E561,E613,E665,E717,E769,E821,E873,E925,E977) -> 0 | AE40: =SUM(F40,F93,F145,F197,F249,F301,F353,F405,F457,F509,F561,F613,F665,F717,F769,F821,F873,F925,F977) -> 0 | AF40: =SUM(G40,G93,G145,G197,G249,G301,G353,G405,G457,G509,G561,G613,G665,G717,G769,G821,G873,G925,G977) -> 0 | AG40: =SUM(H40,H93,H145,H197,H249,H301,H353,H405,H457,H509,H561,H613,H665,H717,H769,H821,H873,H925,H977) -> 0 | AH40: =SUM(I40,I93,I145,I197,I249,I301,I353,I405,I457,I509,I561,I613,I665,I717,I769,I821,I873,I925,I977) -> 0 | ... AJ40: =SUM(K40,K93,K145,K197,K249,K301,K353,K405,K457,K509,K561,K613,K665,K717,K769,K821,K873,K925,K977) -> 0 | AK40: =COUNTIF(AA40:AJ40,">0") -> 0 | AL40: =A40 -> JJJJKKKK Christelle
A41: =(Championnats!B$40) -> KKKLLL Pierre | B41: =SUM(Championnats!F40) -> 0 | C41: =SUM(Championnats!F92) -> 0 | D41: =SUM(Championnats!F144) -> 0 | E41: =SUM(Championnats!F196) -> 0 | F41: =SUM(Championnats!F248) -> 0 | G41: =SUM(Championnats!F300) -> 0 | H41: =SUM(Championnats!F352) -> 0 | I41: =SUM(Championnats!F404) -> 0 | J41: =SUM(Championnats!F456) -> 0 | K41: =SUM(Championnats!F508) -> 0 | M41: =CROSS!$M$40 -> 0 | N41: =SUM(Championnats!AD40,Championnats!AD92,Championnats!AD144,Championnats!AD196,Championnats!AD248,Championnats!AD300,Championnats!AD352,Championnats!AD404,Championnats!AD456,Championnats!AD508) -> 0 | V41: {=MIN(IF(B41:K41>0,B41:K41))} -> 0 | W41: =MAX(B41:K41) -> 0 | Y41: =SUM(CROSS!I40) -> 0 | Z41: =SUM(CROSS!J40) -> 0 | AA41: =SUM(B41,B94,B146,B198,B250,B302,B354,B406,B458,B510,B562,B614,B666,B718,B770,B822,B874,B926,B978) -> 0 | AB41: =SUM(C41,C94,C146,C198,C250,C302,C354,C406,C458,C510,C562,C614,C666,C718,C770,C822,C874,C926,C978) -> 0 | AC41: =SUM(D41,D94,D146,D198,D250,D302,D354,D406,D458,D510,D562,D614,D666,D718,D770,D822,D874,D926,D978) -> 0 | AD41: =SUM(E41,E94,E146,E198,E250,E302,E354,E406,E458,E510,E562,E614,E666,E718,E770,E822,E874,E926,E978) -> 0 | AE41: =SUM(F41,F94,F146,F198,F250,F302,F354,F406,F458,F510,F562,F614,F666,F718,F770,F822,F874,F926,F978) -> 0 | AF41: =SUM(G41,G94,G146,G198,G250,G302,G354,G406,G458,G510,G562,G614,G666,G718,G770,G822,G874,G926,G978) -> 0 | AG41: =SUM(H41,H94,H146,H198,H250,H302,H354,H406,H458,H510,H562,H614,H666,H718,H770,H822,H874,H926,H978) -> 0 | AH41: =SUM(I41,I94,I146,I198,I250,I302,I354,I406,I458,I510,I562,I614,I666,I718,I770,I822,I874,I926,I978) -> 0 | ... AJ41: =SUM(K41,K94,K146,K198,K250,K302,K354,K406,K458,K510,K562,K614,K666,K718,K770,K822,K874,K926,K978) -> 0 | AK41: =COUNTIF(AA41:AJ41,">0") -> 0 | AL41: =A41 -> KKKLLL Pierre
A42: =(Championnats!B$41) -> LLLLMMMM Didier | B42: =SUM(Championnats!F41) -> 0 | C42: =SUM(Championnats!F93) -> 0 | D42: =SUM(Championnats!F145) -> 0 | E42: =SUM(Championnats!F197) -> 0 | F42: =SUM(Championnats!F249) -> 0 | G42: =SUM(Championnats!F301) -> 0 | H42: =SUM(Championnats!F353) -> 0 | I42: =SUM(Championnats!F405) -> 0 | J42: =SUM(Championnats!F457) -> 0 | K42: =SUM(Championnats!F509) -> 0 | M42: =CROSS!$M$41 -> 0 | N42: =SUM(Championnats!AD41,Championnats!AD93,Championnats!AD145,Championnats!AD197,Championnats!AD249,Championnats!AD301,Championnats!AD353,Championnats!AD405,Championnats!AD457,Championnats!AD509) -> 0 | V42: {=MIN(IF(B42:K42>0,B42:K42))} -> 0 | W42: =MAX(B42:K42) -> 0 | Y42: =SUM(CROSS!I41) -> 0 | Z42: =SUM(CROSS!J41) -> 0 | AA42: =SUM(B42,B95,B147,B199,B251,B303,B355,B407,B459,B511,B563,B615,B667,B719,B771,B823,B875,B927,B979) -> 0 | AB42: =SUM(C42,C95,C147,C199,C251,C303,C355,C407,C459,C511,C563,C615,C667,C719,C771,C823,C875,C927,C979) -> 0 | AC42: =SUM(D42,D95,D147,D199,D251,D303,D355,D407,D459,D511,D563,D615,D667,D719,D771,D823,D875,D927,D979) -> 0 | AD42: =SUM(E42,E95,E147,E199,E251,E303,E355,E407,E459,E511,E563,E615,E667,E719,E771,E823,E875,E927,E979) -> 0 | AE42: =SUM(F42,F95,F147,F199,F251,F303,F355,F407,F459,F511,F563,F615,F667,F719,F771,F823,F875,F927,F979) -> 0 | AF42: =SUM(G42,G95,G147,G199,G251,G303,G355,G407,G459,G511,G563,G615,G667,G719,G771,G823,G875,G927,G979) -> 0 | AG42: =SUM(H42,H95,H147,H199,H251,H303,H355,H407,H459,H511,H563,H615,H667,H719,H771,H823,H875,H927,H979) -> 0 | AH42: =SUM(I42,I95,I147,I199,I251,I303,I355,I407,I459,I511,I563,I615,I667,I719,I771,I823,I875,I927,I979) -> 0 | ... AJ42: =SUM(K42,K95,K147,K199,K251,K303,K355,K407,K459,K511,K563,K615,K667,K719,K771,K823,K875,K927,K979) -> 0 | AK42: =COUNTIF(AA42:AJ42,">0") -> 0 | AL42: =A42 -> LLLLMMMM Didier
A43: =(Championnats!B$42) -> MMMNNN Barbara | B43: =SUM(Championnats!F42) -> 0 | C43: =SUM(Championnats!F94) -> 0 | D43: =SUM(Championnats!F146) -> 0 | E43: =SUM(Championnats!F198) -> 0 | F43: =SUM(Championnats!F250) -> 0 | G43: =SUM(Championnats!F302) -> 0 | H43: =SUM(Championnats!F354) -> 0 | I43: =SUM(Championnats!F406) -> 0 | J43: =SUM(Championnats!F458) -> 0 | K43: =SUM(Championnats!F510) -> 0 | M43: =CROSS!$M$42 -> 0 | N43: =SUM(Championnats!AD42,Championnats!AD94,Championnats!AD146,Championnats!AD198,Championnats!AD250,Championnats!AD302,Championnats!AD354,Championnats!AD406,Championnats!AD458,Championnats!AD510) -> 0 | V43: {=MIN(IF(B43:K43>0,B43:K43))} -> 0 | W43: =MAX(B43:K43) -> 0 | Y43: =SUM(CROSS!I42) -> 0 | Z43: =SUM(CROSS!J42) -> 0 | AA43: =SUM(B43,B96,B148,B200,B252,B304,B356,B408,B460,B512,B564,B616,B668,B720,B772,B824,B876,B928,B980) -> 0 | AB43: =SUM(C43,C96,C148,C200,C252,C304,C356,C408,C460,C512,C564,C616,C668,C720,C772,C824,C876,C928,C980) -> 0 | AC43: =SUM(D43,D96,D148,D200,D252,D304,D356,D408,D460,D512,D564,D616,D668,D720,D772,D824,D876,D928,D980) -> 0 | AD43: =SUM(E43,E96,E148,E200,E252,E304,E356,E408,E460,E512,E564,E616,E668,E720,E772,E824,E876,E928,E980) -> 0 | AE43: =SUM(F43,F96,F148,F200,F252,F304,F356,F408,F460,F512,F564,F616,F668,F720,F772,F824,F876,F928,F980) -> 0 | AF43: =SUM(G43,G96,G148,G200,G252,G304,G356,G408,G460,G512,G564,G616,G668,G720,G772,G824,G876,G928,G980) -> 0 | AG43: =SUM(H43,H96,H148,H200,H252,H304,H356,H408,H460,H512,H564,H616,H668,H720,H772,H824,H876,H928,H980) -> 0 | AH43: =SUM(I43,I96,I148,I200,I252,I304,I356,I408,I460,I512,I564,I616,I668,I720,I772,I824,I876,I928,I980) -> 0 | ... AJ43: =SUM(K43,K96,K148,K200,K252,K304,K356,K408,K460,K512,K564,K616,K668,K720,K772,K824,K876,K928,K980) -> 0 | AK43: =COUNTIF(AA43:AJ43,">0") -> 0 | AL43: =A43 -> MMMNNN Barbara
A44: =(Championnats!B$43) -> NNNNOOO Julie | B44: =SUM(Championnats!F43) -> 0 | C44: =SUM(Championnats!F95) -> 0 | D44: =SUM(Championnats!F147) -> 0 | E44: =SUM(Championnats!F199) -> 0 | F44: =SUM(Championnats!F251) -> 0 | G44: =SUM(Championnats!F303) -> 0 | H44: =SUM(Championnats!F355) -> 0 | I44: =SUM(Championnats!F407) -> 0 | J44: =SUM(Championnats!F459) -> 0 | K44: =SUM(Championnats!F511) -> 0 | M44: =CROSS!$M$43 -> 0 | N44: =SUM(Championnats!AD43,Championnats!AD95,Championnats!AD147,Championnats!AD199,Championnats!AD251,Championnats!AD303,Championnats!AD355,Championnats!AD407,Championnats!AD459,Championnats!AD511) -> 0 | V44: {=MIN(IF(B44:K44>0,B44:K44))} -> 0 | W44: =MAX(B44:K44) -> 0 | Y44: =SUM(CROSS!I43) -> 0 | Z44: =SUM(CROSS!J43) -> 0 | AA44: =SUM(B44,B97,B149,B201,B253,B305,B357,B409,B461,B513,B565,B617,B669,B721,B773,B825,B877,B929,B981) -> 0 | AB44: =SUM(C44,C97,C149,C201,C253,C305,C357,C409,C461,C513,C565,C617,C669,C721,C773,C825,C877,C929,C981) -> 0 | AC44: =SUM(D44,D97,D149,D201,D253,D305,D357,D409,D461,D513,D565,D617,D669,D721,D773,D825,D877,D929,D981) -> 0 | AD44: =SUM(E44,E97,E149,E201,E253,E305,E357,E409,E461,E513,E565,E617,E669,E721,E773,E825,E877,E929,E981) -> 0 | AE44: =SUM(F44,F97,F149,F201,F253,F305,F357,F409,F461,F513,F565,F617,F669,F721,F773,F825,F877,F929,F981) -> 0 | AF44: =SUM(G44,G97,G149,G201,G253,G305,G357,G409,G461,G513,G565,G617,G669,G721,G773,G825,G877,G929,G981) -> 0 | AG44: =SUM(H44,H97,H149,H201,H253,H305,H357,H409,H461,H513,H565,H617,H669,H721,H773,H825,H877,H929,H981) -> 0 | AH44: =SUM(I44,I97,I149,I201,I253,I305,I357,I409,I461,I513,I565,I617,I669,I721,I773,I825,I877,I929,I981) -> 0 | ... AJ44: =SUM(K44,K97,K149,K201,K253,K305,K357,K409,K461,K513,K565,K617,K669,K721,K773,K825,K877,K929,K981) -> 0 | AK44: =COUNTIF(AA44:AJ44,">0") -> 0 | AL44: =A44 -> NNNNOOO Julie
A45: =(Championnats!B$44) -> OOOPPP André | B45: =SUM(Championnats!F44) -> 0 | C45: =SUM(Championnats!F96) -> 0 | D45: =SUM(Championnats!F148) -> 0 | E45: =SUM(Championnats!F200) -> 0 | F45: =SUM(Championnats!F252) -> 0 | G45: =SUM(Championnats!F304) -> 0 | H45: =SUM(Championnats!F356) -> 0 | I45: =SUM(Championnats!F408) -> 0 | J45: =SUM(Championnats!F460) -> 0 | K45: =SUM(Championnats!F512) -> 0 | M45: =CROSS!$M$44 -> 0 | N45: =SUM(Championnats!AD44,Championnats!AD96,Championnats!AD148,Championnats!AD200,Championnats!AD252,Championnats!AD304,Championnats!AD356,Championnats!AD408,Championnats!AD460,Championnats!AD512) -> 0 | V45: {=MIN(IF(B45:K45>0,B45:K45))} -> 0 | W45: =MAX(B45:K45) -> 0 | Y45: =SUM(CROSS!I44) -> 0 | Z45: =SUM(CROSS!J44) -> 0 | AA45: =SUM(B45,B98,B150,B202,B254,B306,B358,B410,B462,B514,B566,B618,B670,B722,B774,B826,B878,B930,B982) -> 0 | AB45: =SUM(C45,C98,C150,C202,C254,C306,C358,C410,C462,C514,C566,C618,C670,C722,C774,C826,C878,C930,C982) -> 0 | AC45: =SUM(D45,D98,D150,D202,D254,D306,D358,D410,D462,D514,D566,D618,D670,D722,D774,D826,D878,D930,D982) -> 0 | AD45: =SUM(E45,E98,E150,E202,E254,E306,E358,E410,E462,E514,E566,E618,E670,E722,E774,E826,E878,E930,E982) -> 0 | AE45: =SUM(F45,F98,F150,F202,F254,F306,F358,F410,F462,F514,F566,F618,F670,F722,F774,F826,F878,F930,F982) -> 0 | AF45: =SUM(G45,G98,G150,G202,G254,G306,G358,G410,G462,G514,G566,G618,G670,G722,G774,G826,G878,G930,G982) -> 0 | AG45: =SUM(H45,H98,H150,H202,H254,H306,H358,H410,H462,H514,H566,H618,H670,H722,H774,H826,H878,H930,H982) -> 0 | AH45: =SUM(I45,I98,I150,I202,I254,I306,I358,I410,I462,I514,I566,I618,I670,I722,I774,I826,I878,I930,I982) -> 0 | ... AJ45: =SUM(K45,K98,K150,K202,K254,K306,K358,K410,K462,K514,K566,K618,K670,K722,K774,K826,K878,K930,K982) -> 0 | AK45: =COUNTIF(AA45:AJ45,">0") -> 0 | AL45: =A45 -> OOOPPP André
A46: =(Championnats!B$45) -> PPPQQQQ Roland | B46: =SUM(Championnats!F45) -> 0 | C46: =SUM(Championnats!F97) -> 0 | D46: =SUM(Championnats!F149) -> 0 | E46: =SUM(Championnats!F201) -> 0 | F46: =SUM(Championnats!F253) -> 0 | G46: =SUM(Championnats!F305) -> 0 | H46: =SUM(Championnats!F357) -> 0 | I46: =SUM(Championnats!F409) -> 0 | J46: =SUM(Championnats!F461) -> 0 | K46: =SUM(Championnats!F513) -> 0 | M46: =CROSS!$M$45 -> 0 | N46: =SUM(Championnats!AD45,Championnats!AD97,Championnats!AD149,Championnats!AD201,Championnats!AD253,Championnats!AD305,Championnats!AD357,Championnats!AD409,Championnats!AD461,Championnats!AD513) -> 0 | V46: {=MIN(IF(B46:K46>0,B46:K46))} -> 0 | W46: =MAX(B46:K46) -> 0 | Y46: =SUM(CROSS!I45) -> 0 | Z46: =SUM(CROSS!J45) -> 0 | AA46: =SUM(B46,B99,B151,B203,B255,B307,B359,B411,B463,B515,B567,B619,B671,B723,B775,B827,B879,B931,B983) -> 0 | AB46: =SUM(C46,C99,C151,C203,C255,C307,C359,C411,C463,C515,C567,C619,C671,C723,C775,C827,C879,C931,C983) -> 0 | AC46: =SUM(D46,D99,D151,D203,D255,D307,D359,D411,D463,D515,D567,D619,D671,D723,D775,D827,D879,D931,D983) -> 0 | AD46: =SUM(E46,E99,E151,E203,E255,E307,E359,E411,E463,E515,E567,E619,E671,E723,E775,E827,E879,E931,E983) -> 0 | AE46: =SUM(F46,F99,F151,F203,F255,F307,F359,F411,F463,F515,F567,F619,F671,F723,F775,F827,F879,F931,F983) -> 0 | AF46: =SUM(G46,G99,G151,G203,G255,G307,G359,G411,G463,G515,G567,G619,G671,G723,G775,G827,G879,G931,G983) -> 0 | AG46: =SUM(H46,H99,H151,H203,H255,H307,H359,H411,H463,H515,H567,H619,H671,H723,H775,H827,H879,H931,H983) -> 0 | AH46: =SUM(I46,I99,I151,I203,I255,I307,I359,I411,I463,I515,I567,I619,I671,I723,I775,I827,I879,I931,I983) -> 0 | ... AJ46: =SUM(K46,K99,K151,K203,K255,K307,K359,K411,K463,K515,K567,K619,K671,K723,K775,K827,K879,K931,K983) -> 0 | AK46: =COUNTIF(AA46:AJ46,">0") -> 0 | AL46: =A46 -> PPPQQQQ Roland
A47: =(Championnats!B$46) -> QQQRRR Sylvain | B47: =SUM(Championnats!F46) -> 0 | C47: =SUM(Championnats!F98) -> 0 | D47: =SUM(Championnats!F150) -> 0 | E47: =SUM(Championnats!F202) -> 0 | F47: =SUM(Championnats!F254) -> 0 | G47: =SUM(Championnats!F306) -> 0 | H47: =SUM(Championnats!F358) -> 0 | I47: =SUM(Championnats!F410) -> 0 | J47: =SUM(Championnats!F462) -> 0 | K47: =SUM(Championnats!F514) -> 0 | M47: =CROSS!$M$46 -> 0 | N47: =SUM(Championnats!AD46,Championnats!AD98,Championnats!AD150,Championnats!AD202,Championnats!AD254,Championnats!AD306,Championnats!AD358,Championnats!AD410,Championnats!AD462,Championnats!AD514) -> 0 | V47: {=MIN(IF(B47:K47>0,B47:K47))} -> 0 | W47: =MAX(B47:K47) -> 0 | Y47: =SUM(CROSS!I46) -> 0 | Z47: =SUM(CROSS!J46) -> 0 | AA47: =SUM(B47,B100,B152,B204,B256,B308,B360,B412,B464,B516,B568,B620,B672,B724,B776,B828,B880,B932,B984) -> 0 | AB47: =SUM(C47,C100,C152,C204,C256,C308,C360,C412,C464,C516,C568,C620,C672,C724,C776,C828,C880,C932,C984) -> 0 | AC47: =SUM(D47,D100,D152,D204,D256,D308,D360,D412,D464,D516,D568,D620,D672,D724,D776,D828,D880,D932,D984) -> 0 | AD47: =SUM(E47,E100,E152,E204,E256,E308,E360,E412,E464,E516,E568,E620,E672,E724,E776,E828,E880,E932,E984) -> 0 | AE47: =SUM(F47,F100,F152,F204,F256,F308,F360,F412,F464,F516,F568,F620,F672,F724,F776,F828,F880,F932,F984) -> 0 | AF47: =SUM(G47,G100,G152,G204,G256,G308,G360,G412,G464,G516,G568,G620,G672,G724,G776,G828,G880,G932,G984) -> 0 | AG47: =SUM(H47,H100,H152,H204,H256,H308,H360,H412,H464,H516,H568,H620,H672,H724,H776,H828,H880,H932,H984) -> 0 | AH47: =SUM(I47,I100,I152,I204,I256,I308,I360,I412,I464,I516,I568,I620,I672,I724,I776,I828,I880,I932,I984) -> 0 | ... AJ47: =SUM(K47,K100,K152,K204,K256,K308,K360,K412,K464,K516,K568,K620,K672,K724,K776,K828,K880,K932,K984) -> 0 | AK47: =COUNTIF(AA47:AJ47,">0") -> 0 | AL47: =A47 -> QQQRRR Sylvain
A48: =(Championnats!B$47) -> RRRSSS Veronica | B48: =SUM(Championnats!F47) -> 0 | C48: =SUM(Championnats!F99) -> 0 | D48: =SUM(Championnats!F151) -> 0 | E48: =SUM(Championnats!F203) -> 0 | F48: =SUM(Championnats!F255) -> 0 | G48: =SUM(Championnats!F307) -> 0 | H48: =SUM(Championnats!F359) -> 0 | I48: =SUM(Championnats!F411) -> 0 | J48: =SUM(Championnats!F463) -> 0 | K48: =SUM(Championnats!F515) -> 0 | M48: =CROSS!$M$47 -> 0 | N48: =SUM(Championnats!AD47,Championnats!AD99,Championnats!AD151,Championnats!AD203,Championnats!AD255,Championnats!AD307,Championnats!AD359,Championnats!AD411,Championnats!AD463,Championnats!AD515) -> 0 | V48: {=MIN(IF(B48:K48>0,B48:K48))} -> 0 | W48: =MAX(B48:K48) -> 0 | Y48: =SUM(CROSS!I47) -> 0 | Z48: =SUM(CROSS!J47) -> 0 | AA48: =SUM(B48,B101,B153,B205,B257,B309,B361,B413,B465,B517,B569,B621,B673,B725,B777,B829,B881,B933,B985) -> 0 | AB48: =SUM(C48,C101,C153,C205,C257,C309,C361,C413,C465,C517,C569,C621,C673,C725,C777,C829,C881,C933,C985) -> 0 | AC48: =SUM(D48,D101,D153,D205,D257,D309,D361,D413,D465,D517,D569,D621,D673,D725,D777,D829,D881,D933,D985) -> 0 | AD48: =SUM(E48,E101,E153,E205,E257,E309,E361,E413,E465,E517,E569,E621,E673,E725,E777,E829,E881,E933,E985) -> 0 | AE48: =SUM(F48,F101,F153,F205,F257,F309,F361,F413,F465,F517,F569,F621,F673,F725,F777,F829,F881,F933,F985) -> 0 | AF48: =SUM(G48,G101,G153,G205,G257,G309,G361,G413,G465,G517,G569,G621,G673,G725,G777,G829,G881,G933,G985) -> 0 | AG48: =SUM(H48,H101,H153,H205,H257,H309,H361,H413,H465,H517,H569,H621,H673,H725,H777,H829,H881,H933,H985) -> 0 | AH48: =SUM(I48,I101,I153,I205,I257,I309,I361,I413,I465,I517,I569,I621,I673,I725,I777,I829,I881,I933,I985) -> 0 | ... AJ48: =SUM(K48,K101,K153,K205,K257,K309,K361,K413,K465,K517,K569,K621,K673,K725,K777,K829,K881,K933,K985) -> 0 | AK48: =COUNTIF(AA48:AJ48,">0") -> 0 | AL48: =A48 -> RRRSSS Veronica
A49: =(Championnats!B$48) -> SSSTTT Luc | B49: =SUM(Championnats!F48) -> 0 | C49: =SUM(Championnats!F100) -> 0 | D49: =SUM(Championnats!F152) -> 0 | E49: =SUM(Championnats!F204) -> 0 | F49: =SUM(Championnats!F256) -> 0 | G49: =SUM(Championnats!F308) -> 0 | H49: =SUM(Championnats!F360) -> 0 | I49: =SUM(Championnats!F412) -> 0 | J49: =SUM(Championnats!F464) -> 0 | K49: =SUM(Championnats!F516) -> 0 | M49: =CROSS!$M$48 -> 0 | N49: =SUM(Championnats!AD48,Championnats!AD100,Championnats!AD152,Championnats!AD204,Championnats!AD256,Championnats!AD308,Championnats!AD360,Championnats!AD412,Championnats!AD464,Championnats!AD516) -> 0 | V49: {=MIN(IF(B49:K49>0,B49:K49))} -> 0 | W49: =MAX(B49:K49) -> 0 | Y49: =SUM(CROSS!I48) -> 0 | Z49: =SUM(CROSS!J48) -> 0 | AA49: =SUM(B49,B102,B154,B206,B258,B310,B362,B414,B466,B518,B570,B622,B674,B726,B778,B830,B882,B934,B986) -> 0 | AB49: =SUM(C49,C102,C154,C206,C258,C310,C362,C414,C466,C518,C570,C622,C674,C726,C778,C830,C882,C934,C986) -> 0 | AC49: =SUM(D49,D102,D154,D206,D258,D310,D362,D414,D466,D518,D570,D622,D674,D726,D778,D830,D882,D934,D986) -> 0 | AD49: =SUM(E49,E102,E154,E206,E258,E310,E362,E414,E466,E518,E570,E622,E674,E726,E778,E830,E882,E934,E986) -> 0 | AE49: =SUM(F49,F102,F154,F206,F258,F310,F362,F414,F466,F518,F570,F622,F674,F726,F778,F830,F882,F934,F986) -> 0 | AF49: =SUM(G49,G102,G154,G206,G258,G310,G362,G414,G466,G518,G570,G622,G674,G726,G778,G830,G882,G934,G986) -> 0 | AG49: =SUM(H49,H102,H154,H206,H258,H310,H362,H414,H466,H518,H570,H622,H674,H726,H778,H830,H882,H934,H986) -> 0 | AH49: =SUM(I49,I102,I154,I206,I258,I310,I362,I414,I466,I518,I570,I622,I674,I726,I778,I830,I882,I934,I986) -> 0 | ... AJ49: =SUM(K49,K102,K154,K206,K258,K310,K362,K414,K466,K518,K570,K622,K674,K726,K778,K830,K882,K934,K986) -> 0 | AK49: =COUNTIF(AA49:AJ49,">0") -> 0 | AL49: =A49 -> SSSTTT Luc
A50: =(Championnats!B$49) -> TTTUUU Cryss | B50: =SUM(Championnats!F49) -> 0 | C50: =SUM(Championnats!F101) -> 0 | D50: =SUM(Championnats!F153) -> 0 | E50: =SUM(Championnats!F205) -> 0 | F50: =SUM(Championnats!F257) -> 0 | G50: =SUM(Championnats!F309) -> 0 | H50: =SUM(Championnats!F361) -> 0 | I50: =SUM(Championnats!F413) -> 0 | J50: =SUM(Championnats!F465) -> 0 | K50: =SUM(Championnats!F517) -> 0 | M50: =CROSS!$M$49 -> 0 | N50: =SUM(Championnats!AD49,Championnats!AD101,Championnats!AD153,Championnats!AD205,Championnats!AD257,Championnats!AD309,Championnats!AD361,Championnats!AD413,Championnats!AD465,Championnats!AD517) -> 0 | V50: {=MIN(IF(B50:K50>0,B50:K50))} -> 0 | W50: =MAX(B50:K50) -> 0 | Y50: =SUM(CROSS!I49) -> 0 | Z50: =SUM(CROSS!J49) -> 0 | AA50: =SUM(B50,B103,B155,B207,B259,B311,B363,B415,B467,B519,B571,B623,B675,B727,B779,B831,B883,B935,B987) -> 0 | AB50: =SUM(C50,C103,C155,C207,C259,C311,C363,C415,C467,C519,C571,C623,C675,C727,C779,C831,C883,C935,C987) -> 0 | AC50: =SUM(D50,D103,D155,D207,D259,D311,D363,D415,D467,D519,D571,D623,D675,D727,D779,D831,D883,D935,D987) -> 0 | AD50: =SUM(E50,E103,E155,E207,E259,E311,E363,E415,E467,E519,E571,E623,E675,E727,E779,E831,E883,E935,E987) -> 0 | AE50: =SUM(F50,F103,F155,F207,F259,F311,F363,F415,F467,F519,F571,F623,F675,F727,F779,F831,F883,F935,F987) -> 0 | AF50: =SUM(G50,G103,G155,G207,G259,G311,G363,G415,G467,G519,G571,G623,G675,G727,G779,G831,G883,G935,G987) -> 0 | AG50: =SUM(H50,H103,H155,H207,H259,H311,H363,H415,H467,H519,H571,H623,H675,H727,H779,H831,H883,H935,H987) -> 0 | AH50: =SUM(I50,I103,I155,I207,I259,I311,I363,I415,I467,I519,I571,I623,I675,I727,I779,I831,I883,I935,I987) -> 0 | ... AJ50: =SUM(K50,K103,K155,K207,K259,K311,K363,K415,K467,K519,K571,K623,K675,K727,K779,K831,K883,K935,K987) -> 0 | AK50: =COUNTIF(AA50:AJ50,">0") -> 0 | AL50: =A50 -> TTTUUU Cryss
A51: =(Championnats!B$50) -> UUUVVV Sambou | B51: =SUM(Championnats!F50) -> 0 | C51: =SUM(Championnats!F102) -> 0 | D51: =SUM(Championnats!F154) -> 0 | E51: =SUM(Championnats!F206) -> 0 | F51: =SUM(Championnats!F258) -> 0 | G51: =SUM(Championnats!F310) -> 0 | H51: =SUM(Championnats!F362) -> 0 | I51: =SUM(Championnats!F414) -> 0 | J51: =SUM(Championnats!F466) -> 0 | K51: =SUM(Championnats!F518) -> 0 | M51: =CROSS!$M$50 -> 0 | N51: =SUM(Championnats!AD50,Championnats!AD102,Championnats!AD154,Championnats!AD206,Championnats!AD258,Championnats!AD310,Championnats!AD362,Championnats!AD414,Championnats!AD466,Championnats!AD518) -> 0 | V51: {=MIN(IF(B51:K51>0,B51:K51))} -> 0 | W51: =MAX(B51:K51) -> 0 | Y51: =SUM(CROSS!I50) -> 0 | Z51: =SUM(CROSS!J50) -> 0 | AA51: =SUM(B51,B104,B156,B208,B260,B312,B364,B416,B468,B520,B572,B624,B676,B728,B780,B832,B884,B936,B988) -> 0 | AB51: =SUM(C51,C104,C156,C208,C260,C312,C364,C416,C468,C520,C572,C624,C676,C728,C780,C832,C884,C936,C988) -> 0 | AC51: =SUM(D51,D104,D156,D208,D260,D312,D364,D416,D468,D520,D572,D624,D676,D728,D780,D832,D884,D936,D988) -> 0 | AD51: =SUM(E51,E104,E156,E208,E260,E312,E364,E416,E468,E520,E572,E624,E676,E728,E780,E832,E884,E936,E988) -> 0 | AE51: =SUM(F51,F104,F156,F208,F260,F312,F364,F416,F468,F520,F572,F624,F676,F728,F780,F832,F884,F936,F988) -> 0 | AF51: =SUM(G51,G104,G156,G208,G260,G312,G364,G416,G468,G520,G572,G624,G676,G728,G780,G832,G884,G936,G988) -> 0 | AG51: =SUM(H51,H104,H156,H208,H260,H312,H364,H416,H468,H520,H572,H624,H676,H728,H780,H832,H884,H936,H988) -> 0 | AH51: =SUM(I51,I104,I156,I208,I260,I312,I364,I416,I468,I520,I572,I624,I676,I728,I780,I832,I884,I936,I988) -> 0 | ... AJ51: =SUM(K51,K104,K156,K208,K260,K312,K364,K416,K468,K520,K572,K624,K676,K728,K780,K832,K884,K936,K988) -> 0 | AK51: =COUNTIF(AA51:AJ51,">0") -> 0 | AL51: =A51 -> UUUVVV Sambou
A52: =(Championnats!B$51) -> VVVVXXX Dylan | B52: =SUM(Championnats!F51) -> 0 | C52: =SUM(Championnats!F103) -> 0 | D52: =SUM(Championnats!F155) -> 0 | E52: =SUM(Championnats!F207) -> 0 | F52: =SUM(Championnats!F259) -> 0 | G52: =SUM(Championnats!F311) -> 0 | H52: =SUM(Championnats!F363) -> 0 | I52: =SUM(Championnats!F415) -> 0 | J52: =SUM(Championnats!F467) -> 0 | K52: =SUM(Championnats!F519) -> 0 | M52: =CROSS!$M$51 -> 0 | N52: =SUM(Championnats!AD51,Championnats!AD103,Championnats!AD155,Championnats!AD207,Championnats!AD259,Championnats!AD311,Championnats!AD363,Championnats!AD415,Championnats!AD467,Championnats!AD519) -> 0 | V52: {=MIN(IF(B52:K52>0,B52:K52))} -> 0 | W52: =MAX(B52:K52) -> 0 | Y52: =SUM(CROSS!I51) -> 0 | Z52: =SUM(CROSS!J51) -> 0 | AA52: =SUM(B52,B105,B157,B209,B261,B313,B365,B417,B469,B521,B573,B625,B677,B729,B781,B833,B885,B937,B989) -> 0 | AB52: =SUM(C52,C105,C157,C209,C261,C313,C365,C417,C469,C521,C573,C625,C677,C729,C781,C833,C885,C937,C989) -> 0 | AC52: =SUM(D52,D105,D157,D209,D261,D313,D365,D417,D469,D521,D573,D625,D677,D729,D781,D833,D885,D937,D989) -> 0 | AD52: =SUM(E52,E105,E157,E209,E261,E313,E365,E417,E469,E521,E573,E625,E677,E729,E781,E833,E885,E937,E989) -> 0 | AE52: =SUM(F52,F105,F157,F209,F261,F313,F365,F417,F469,F521,F573,F625,F677,F729,F781,F833,F885,F937,F989) -> 0 | AF52: =SUM(G52,G105,G157,G209,G261,G313,G365,G417,G469,G521,G573,G625,G677,G729,G781,G833,G885,G937,G989) -> 0 | AG52: =SUM(H52,H105,H157,H209,H261,H313,H365,H417,H469,H521,H573,H625,H677,H729,H781,H833,H885,H937,H989) -> 0 | AH52: =SUM(I52,I105,I157,I209,I261,I313,I365,I417,I469,I521,I573,I625,I677,I729,I781,I833,I885,I937,I989) -> 0 | ... AJ52: =SUM(K52,K105,K157,K209,K261,K313,K365,K417,K469,K521,K573,K625,K677,K729,K781,K833,K885,K937,K989) -> 0 | AK52: =COUNTIF(AA52:AJ52,">0") -> 0 | AL52: =A52 -> VVVVXXX Dylan
A53: =(Championnats!B$52) -> XXXYYY Lucie | B53: =SUM(Championnats!F52) -> 0 | C53: =SUM(Championnats!F104) -> 0 | D53: =SUM(Championnats!F156) -> 0 | E53: =SUM(Championnats!F208) -> 0 | F53: =SUM(Championnats!F260) -> 0 | G53: =SUM(Championnats!F312) -> 0 | H53: =SUM(Championnats!F364) -> 0 | I53: =SUM(Championnats!F416) -> 0 | J53: =SUM(Championnats!F468) -> 0 | K53: =SUM(Championnats!F520) -> 0 | M53: =CROSS!$M$52 -> 0 | N53: =SUM(Championnats!AD52,Championnats!AD104,Championnats!AD156,Championnats!AD208,Championnats!AD260,Championnats!AD312,Championnats!AD364,Championnats!AD416,Championnats!AD468,Championnats!AD520) -> 0 | V53: {=MIN(IF(B53:K53>0,B53:K53))} -> 0 | W53: =MAX(B53:K53) -> 0 | Y53: =SUM(CROSS!I52) -> 0 | Z53: =SUM(CROSS!J52) -> 0 | AA53: =SUM(B53,B106,B158,B210,B262,B314,B366,B418,B470,B522,B574,B626,B678,B730,B782,B834,B886,B938,B990) -> 0 | AB53: =SUM(C53,C106,C158,C210,C262,C314,C366,C418,C470,C522,C574,C626,C678,C730,C782,C834,C886,C938,C990) -> 0 | AC53: =SUM(D53,D106,D158,D210,D262,D314,D366,D418,D470,D522,D574,D626,D678,D730,D782,D834,D886,D938,D990) -> 0 | AD53: =SUM(E53,E106,E158,E210,E262,E314,E366,E418,E470,E522,E574,E626,E678,E730,E782,E834,E886,E938,E990) -> 0 | AE53: =SUM(F53,F106,F158,F210,F262,F314,F366,F418,F470,F522,F574,F626,F678,F730,F782,F834,F886,F938,F990) -> 0 | AF53: =SUM(G53,G106,G158,G210,G262,G314,G366,G418,G470,G522,G574,G626,G678,G730,G782,G834,G886,G938,G990) -> 0 | AG53: =SUM(H53,H106,H158,H210,H262,H314,H366,H418,H470,H522,H574,H626,H678,H730,H782,H834,H886,H938,H990) -> 0 | AH53: =SUM(I53,I106,I158,I210,I262,I314,I366,I418,I470,I522,I574,I626,I678,I730,I782,I834,I886,I938,I990) -> 0 | ... AJ53: =SUM(K53,K106,K158,K210,K262,K314,K366,K418,K470,K522,K574,K626,K678,K730,K782,K834,K886,K938,K990) -> 0 | AK53: =COUNTIF(AA53:AJ53,">0") -> 0 | AL53: =A53 -> XXXYYY Lucie
A54: =(Championnats!B$53) -> YYYZZZ Eva | B54: =SUM(Championnats!F53) -> 0 | C54: =SUM(Championnats!F105) -> 0 | D54: =SUM(Championnats!F157) -> 0 | E54: =SUM(Championnats!F209) -> 0 | F54: =SUM(Championnats!F261) -> 0 | G54: =SUM(Championnats!F313) -> 0 | H54: =SUM(Championnats!F365) -> 0 | I54: =SUM(Championnats!F417) -> 0 | J54: =SUM(Championnats!F469) -> 0 | K54: =SUM(Championnats!F521) -> 0 | M54: =CROSS!$M$53 -> 0 | N54: =SUM(Championnats!AD53,Championnats!AD105,Championnats!AD157,Championnats!AD209,Championnats!AD261,Championnats!AD313,Championnats!AD365,Championnats!AD417,Championnats!AD469,Championnats!AD521) -> 0 | V54: {=MIN(IF(B54:K54>0,B54:K54))} -> 0 | W54: =MAX(B54:K54) -> 0 | Y54: =SUM(CROSS!I53) -> 0 | Z54: =SUM(CROSS!J53) -> 0 | AA54: =SUM(B54,B107,B159,B211,B263,B315,B367,B419,B471,B523,B575,B627,B679,B731,B783,B835,B887,B939,B991) -> 0 | AB54: =SUM(C54,C107,C159,C211,C263,C315,C367,C419,C471,C523,C575,C627,C679,C731,C783,C835,C887,C939,C991) -> 0 | AC54: =SUM(D54,D107,D159,D211,D263,D315,D367,D419,D471,D523,D575,D627,D679,D731,D783,D835,D887,D939,D991) -> 0 | AD54: =SUM(E54,E107,E159,E211,E263,E315,E367,E419,E471,E523,E575,E627,E679,E731,E783,E835,E887,E939,E991) -> 0 | AE54: =SUM(F54,F107,F159,F211,F263,F315,F367,F419,F471,F523,F575,F627,F679,F731,F783,F835,F887,F939,F991) -> 0 | AF54: =SUM(G54,G107,G159,G211,G263,G315,G367,G419,G471,G523,G575,G627,G679,G731,G783,G835,G887,G939,G991) -> 0 | AG54: =SUM(H54,H107,H159,H211,H263,H315,H367,H419,H471,H523,H575,H627,H679,H731,H783,H835,H887,H939,H991) -> 0 | AH54: =SUM(I54,I107,I159,I211,I263,I315,I367,I419,I471,I523,I575,I627,I679,I731,I783,I835,I887,I939,I991) -> 0 | ... AJ54: =SUM(K54,K107,K159,K211,K263,K315,K367,K419,K471,K523,K575,K627,K679,K731,K783,K835,K887,K939,K991) -> 0 | AK54: =COUNTIF(AA54:AJ54,">0") -> 0 | AL54: =A54 -> YYYZZZ Eva
V55: {=MIN(IF(B55:K55>0,B55:K55))} -> 0 | W55: =MAX(B55:K55) -> 0 | Y55: =SUM(CROSS!I54) -> 0 | Z55: =SUM(CROSS!J54) -> 0
B56: 100m | Y56: =SUM(CROSS!I55) -> 0 | Z56: =SUM(CROSS!J55) -> 0
B57: =Championnats!$B$3 -> 43101 | C57: =Championnats!$B$55 -> 43133 | D57: =Championnats!$B$107 -> 43162 | E57: =Championnats!$B$159 -> 43194 | F57: =Championnats!$B$211 -> 43225 | G57: =Championnats!$B$263 -> 43257 | H57: =Championnats!$B$315 -> 43288 | I57: =Championnats!$B$367 -> 43320 | J57: =Championnats!$B$419 -> 43352 | K57: =Championnats!$B$471 -> 43383 | V57: {=MIN(IF(B57:K57>0,B57:K57))} -> 43101 | W57: =MAX(B57:K57) -> 43383 | Y57: =SUM(CROSS!#REF!) -> #REF! | Z57: =SUM(CROSS!#REF!) -> #REF!
A58: =(Championnats!B$4) -> AAA LUC | B58: =SUM(Championnats!$G4) -> 0 | C58: =SUM(Championnats!$G56) -> 0 | D58: =SUM(Championnats!$G108) -> 0 | E58: =SUM(Championnats!$G160) -> 0 | F58: =SUM(Championnats!$G212) -> 0 | G58: =SUM(Championnats!$G264) -> 0 | H58: =SUM(Championnats!$G316) -> 0 | I58: =SUM(Championnats!$G368) -> 0 | J58: =SUM(Championnats!$G420) -> 0 | K58: =SUM(Championnats!$G472) -> 0 | M58: =CROSS!$M$4 -> 1 | N58: =N5 -> 0 | V58: {=MIN(IF(B58:K58>0,B58:K58))} -> 0 | W58: =MAX(B58:K58) -> 0 | Y58: =SUM(CROSS!#REF!) -> #REF! | Z58: =SUM(CROSS!#REF!) -> #REF!
A59: =(Championnats!B$5) -> BBB isabelle | B59: =SUM(Championnats!$G5) -> 0 | C59: =SUM(Championnats!$G57) -> 0 | D59: =SUM(Championnats!$G109) -> 0 | E59: =SUM(Championnats!$G161) -> 0 | F59: =SUM(Championnats!$G213) -> 0 | G59: =SUM(Championnats!$G265) -> 0 | H59: =SUM(Championnats!$G317) -> 0 | I59: =SUM(Championnats!$G369) -> 0 | J59: =SUM(Championnats!$G421) -> 0 | K59: =SUM(Championnats!$G473) -> 0 | M59: =CROSS!$M$5 -> 1 | N59: =N6 -> 0 | V59: {=MIN(IF(B59:K59>0,B59:K59))} -> 0 | W59: =MAX(B59:K59) -> 0 | Y59: =SUM(CROSS!#REF!) -> #REF! | Z59: =SUM(CROSS!#REF!) -> #REF!
A60: =(Championnats!B$6) -> KJKLJDFKJG Agathe | B60: =SUM(Championnats!$G6) -> 0 | C60: =SUM(Championnats!$G58) -> 0 | D60: =SUM(Championnats!$G110) -> 0 | E60: =SUM(Championnats!$G162) -> 0 | F60: =SUM(Championnats!$G214) -> 0 | G60: =SUM(Championnats!$G266) -> 0 | H60: =SUM(Championnats!$G318) -> 0 | I60: =SUM(Championnats!$G370) -> 0 | J60: =SUM(Championnats!$G422) -> 0 | K60: =SUM(Championnats!$G474) -> 0 | M60: =CROSS!$M$6 -> 1 | N60: =N7 -> 0 | V60: {=MIN(IF(B60:K60>0,B60:K60))} -> 0 | W60: =MAX(B60:K60) -> 0 | Y60: =SUM(CROSS!#REF!) -> #REF! | Z60: =SUM(CROSS!#REF!) -> #REF!
A61: =(Championnats!B$7) -> DDD Léa | B61: =SUM(Championnats!$G7) -> 0 | C61: =SUM(Championnats!$G59) -> 0 | D61: =SUM(Championnats!$G111) -> 0 | E61: =SUM(Championnats!$G163) -> 0 | F61: =SUM(Championnats!$G215) -> 0 | G61: =SUM(Championnats!$G267) -> 0 | H61: =SUM(Championnats!$G319) -> 0 | I61: =SUM(Championnats!$G371) -> 0 | J61: =SUM(Championnats!$G423) -> 0 | K61: =SUM(Championnats!$G475) -> 0 | M61: =CROSS!$M$7 -> 1 | N61: =N8 -> 0 | V61: {=MIN(IF(B61:K61>0,B61:K61))} -> 0 | W61: =MAX(B61:K61) -> 0 | Y61: =SUM(CROSS!#REF!) -> #REF! | Z61: =SUM(CROSS!#REF!) -> #REF!
A62: =(Championnats!B$8) -> KUYFRJGF Mélissa | B62: =SUM(Championnats!$G8) -> 0 | C62: =SUM(Championnats!$G60) -> 0 | D62: =SUM(Championnats!$G112) -> 0 | E62: =SUM(Championnats!$G164) -> 0 | F62: =SUM(Championnats!$G216) -> 0 | G62: =SUM(Championnats!$G268) -> 0 | H62: =SUM(Championnats!$G320) -> 0 | I62: =SUM(Championnats!$G372) -> 0 | J62: =SUM(Championnats!$G424) -> 0 | K62: =SUM(Championnats!$G476) -> 0 | M62: =CROSS!$M$8 -> 1 | N62: =N9 -> 0 | V62: {=MIN(IF(B62:K62>0,B62:K62))} -> 0 | W62: =MAX(B62:K62) -> 0 | Y62: =SUM(CROSS!#REF!) -> #REF! | Z62: =SUM(CROSS!#REF!) -> #REF!
A63: =(Championnats!B$9) -> FFF Eric | B63: =SUM(Championnats!$G9) -> 0 | C63: =SUM(Championnats!$G61) -> 0 | D63: =SUM(Championnats!$G113) -> 0 | E63: =SUM(Championnats!$G165) -> 0 | F63: =SUM(Championnats!$G217) -> 0 | G63: =SUM(Championnats!$G269) -> 0 | H63: =SUM(Championnats!$G321) -> 0 | I63: =SUM(Championnats!$G373) -> 0 | J63: =SUM(Championnats!$G425) -> 0 | K63: =SUM(Championnats!$G477) -> 0 | M63: =CROSS!$M$9 -> 1 | N63: =N10 -> 0 | V63: {=MIN(IF(B63:K63>0,B63:K63))} -> 0 | W63: =MAX(B63:K63) -> 0 | Y63: =SUM(CROSS!#REF!) -> #REF! | Z63: =SUM(CROSS!#REF!) -> #REF!
A64: =(Championnats!B$10) -> GGG Lucie | B64: =SUM(Championnats!$G10) -> 0 | C64: =SUM(Championnats!$G62) -> 0 | D64: =SUM(Championnats!$G114) -> 0 | E64: =SUM(Championnats!$G166) -> 0 | F64: =SUM(Championnats!$G218) -> 0 | G64: =SUM(Championnats!$G270) -> 0 | H64: =SUM(Championnats!$G322) -> 0 | I64: =SUM(Championnats!$G374) -> 0 | J64: =SUM(Championnats!$G426) -> 0 | K64: =SUM(Championnats!$G478) -> 0 | M64: =CROSS!$M$10 -> 0 | N64: =N11 -> 0 | V64: {=MIN(IF(B64:K64>0,B64:K64))} -> 0 | W64: =MAX(B64:K64) -> 0 | Y64: =SUM(CROSS!#REF!) -> #REF! | Z64: =SUM(CROSS!#REF!) -> #REF!
A65: =(Championnats!B$11) -> HHH Eva | B65: =SUM(Championnats!$G11) -> 0 | C65: =SUM(Championnats!$G63) -> 0 | D65: =SUM(Championnats!$G115) -> 0 | E65: =SUM(Championnats!$G167) -> 0 | F65: =SUM(Championnats!$G219) -> 0 | G65: =SUM(Championnats!$G271) -> 0 | H65: =SUM(Championnats!$G323) -> 0 | I65: =SUM(Championnats!$G375) -> 0 | J65: =SUM(Championnats!$G427) -> 0 | K65: =SUM(Championnats!$G479) -> 0 | M65: =CROSS!$M$11 -> 0 | N65: =N12 -> 0 | V65: {=MIN(IF(B65:K65>0,B65:K65))} -> 0 | W65: =MAX(B65:K65) -> 0 | Y65: =SUM(CROSS!#REF!) -> #REF! | Z65: =SUM(CROSS!#REF!) -> #REF!
A66: =(Championnats!B$12) -> PERNOIS LUC | B66: =SUM(Championnats!$G12) -> 12 | C66: =SUM(Championnats!$G64) -> 0 | D66: =SUM(Championnats!$G116) -> 0 | E66: =SUM(Championnats!$G168) -> 0 | F66: =SUM(Championnats!$G220) -> 0 | G66: =SUM(Championnats!$G272) -> 0 | H66: =SUM(Championnats!$G324) -> 0 | I66: =SUM(Championnats!$G376) -> 0 | J66: =SUM(Championnats!$G428) -> 0 | K66: =SUM(Championnats!$G480) -> 0 | M66: =CROSS!$M$12 -> 0 | N66: =N13 -> 11 | V66: {=MIN(IF(B66:K66>0,B66:K66))} -> 12 | W66: =MAX(B66:K66) -> 12 | Y66: =SUM(CROSS!#REF!) -> #REF! | Z66: =SUM(CROSS!#REF!) -> #REF!
A67: =(Championnats!B$13) -> JJJ Mélania | B67: =SUM(Championnats!$G13) -> 0 | C67: =SUM(Championnats!$G65) -> 0 | D67: =SUM(Championnats!$G117) -> 0 | E67: =SUM(Championnats!$G169) -> 0 | F67: =SUM(Championnats!$G221) -> 0 | G67: =SUM(Championnats!$G273) -> 0 | H67: =SUM(Championnats!$G325) -> 0 | I67: =SUM(Championnats!$G377) -> 0 | J67: =SUM(Championnats!$G429) -> 0 | K67: =SUM(Championnats!$G481) -> 0 | M67: =CROSS!$M$13 -> 0 | N67: =N14 -> 0 | V67: {=MIN(IF(B67:K67>0,B67:K67))} -> 0 | W67: =MAX(B67:K67) -> 0 | Y67: =SUM(CROSS!#REF!) -> #REF! | Z67: =SUM(CROSS!#REF!) -> #REF!
A68: =(Championnats!B$14) -> KKK Mélanie | B68: =SUM(Championnats!$G14) -> 0 | C68: =SUM(Championnats!$G66) -> 0 | D68: =SUM(Championnats!$G118) -> 0 | E68: =SUM(Championnats!$G170) -> 0 | F68: =SUM(Championnats!$G222) -> 0 | G68: =SUM(Championnats!$G274) -> 0 | H68: =SUM(Championnats!$G326) -> 0 | I68: =SUM(Championnats!$G378) -> 0 | J68: =SUM(Championnats!$G430) -> 0 | K68: =SUM(Championnats!$G482) -> 0 | M68: =CROSS!$M$14 -> 0 | N68: =N15 -> 0 | V68: {=MIN(IF(B68:K68>0,B68:K68))} -> 0 | W68: =MAX(B68:K68) -> 0 | Y68: =SUM(CROSS!#REF!) -> #REF! | Z68: =SUM(CROSS!#REF!) -> #REF!
A69: =(Championnats!B$15) -> LLL Cryss | B69: =SUM(Championnats!$G15) -> 0 | C69: =SUM(Championnats!$G67) -> 0 | D69: =SUM(Championnats!$G119) -> 0 | E69: =SUM(Championnats!$G171) -> 0 | F69: =SUM(Championnats!$G223) -> 0 | G69: =SUM(Championnats!$G275) -> 0 | H69: =SUM(Championnats!$G327) -> 0 | I69: =SUM(Championnats!$G379) -> 0 | J69: =SUM(Championnats!$G431) -> 0 | K69: =SUM(Championnats!$G483) -> 0 | M69: =CROSS!$M$15 -> 0 | N69: =N16 -> 0 | V69: {=MIN(IF(B69:K69>0,B69:K69))} -> 0 | W69: =MAX(B69:K69) -> 0 | Y69: =SUM(CROSS!#REF!) -> #REF! | Z69: =SUM(CROSS!#REF!) -> #REF!
A70: =(Championnats!B$16) -> MMMM Sambou | B70: =SUM(Championnats!$G16) -> 0 | C70: =SUM(Championnats!$G68) -> 0 | D70: =SUM(Championnats!$G120) -> 0 | E70: =SUM(Championnats!$G172) -> 0 | F70: =SUM(Championnats!$G224) -> 0 | G70: =SUM(Championnats!$G276) -> 0 | H70: =SUM(Championnats!$G328) -> 0 | I70: =SUM(Championnats!$G380) -> 0 | J70: =SUM(Championnats!$G432) -> 0 | K70: =SUM(Championnats!$G484) -> 0 | M70: =CROSS!$M$16 -> 0 | N70: =N17 -> 0 | V70: {=MIN(IF(B70:K70>0,B70:K70))} -> 0 | W70: =MAX(B70:K70) -> 0 | Y70: =SUM(CROSS!#REF!) -> #REF! | Z70: =SUM(CROSS!#REF!) -> #REF!
A71: =(Championnats!B$17) -> NNN Dylan | B71: =SUM(Championnats!$G17) -> 0 | C71: =SUM(Championnats!$G69) -> 0 | D71: =SUM(Championnats!$G121) -> 0 | E71: =SUM(Championnats!$G173) -> 0 | F71: =SUM(Championnats!$G225) -> 0 | G71: =SUM(Championnats!$G277) -> 0 | H71: =SUM(Championnats!$G329) -> 0 | I71: =SUM(Championnats!$G381) -> 0 | J71: =SUM(Championnats!$G433) -> 0 | K71: =SUM(Championnats!$G485) -> 0 | M71: =CROSS!$M$17 -> 0 | N71: =N18 -> 0 | V71: {=MIN(IF(B71:K71>0,B71:K71))} -> 0 | W71: =MAX(B71:K71) -> 0 | Y71: =SUM(CROSS!#REF!) -> #REF! | Z71: =SUM(CROSS!#REF!) -> #REF!
A72: =(Championnats!B$18) -> OOO Philippe | B72: =SUM(Championnats!$G18) -> 0 | C72: =SUM(Championnats!$G70) -> 0 | D72: =SUM(Championnats!$G122) -> 0 | E72: =SUM(Championnats!$G174) -> 0 | F72: =SUM(Championnats!$G226) -> 0 | G72: =SUM(Championnats!$G278) -> 0 | H72: =SUM(Championnats!$G330) -> 0 | I72: =SUM(Championnats!$G382) -> 0 | J72: =SUM(Championnats!$G434) -> 0 | K72: =SUM(Championnats!$G486) -> 0 | M72: =CROSS!$M$18 -> 0 | N72: =N19 -> 0 | V72: {=MIN(IF(B72:K72>0,B72:K72))} -> 0 | W72: =MAX(B72:K72) -> 0 | Y72: =SUM(CROSS!#REF!) -> #REF! | Z72: =SUM(CROSS!#REF!) -> #REF!
A73: =(Championnats!B$19) -> PPP Oumar | B73: =SUM(Championnats!$G19) -> 0 | C73: =SUM(Championnats!$G71) -> 0 | D73: =SUM(Championnats!$G123) -> 0 | E73: =SUM(Championnats!$G175) -> 0 | F73: =SUM(Championnats!$G227) -> 0 | G73: =SUM(Championnats!$G279) -> 0 | H73: =SUM(Championnats!$G331) -> 0 | I73: =SUM(Championnats!$G383) -> 0 | J73: =SUM(Championnats!$G435) -> 0 | K73: =SUM(Championnats!$G487) -> 0 | M73: =CROSS!$M$19 -> 0 | N73: =N20 -> 0 | V73: {=MIN(IF(B73:K73>0,B73:K73))} -> 0 | W73: =MAX(B73:K73) -> 0 | Y73: =SUM(CROSS!#REF!) -> #REF! | Z73: =SUM(CROSS!#REF!) -> #REF!
A74: =(Championnats!B$20) -> QQQ Ibrahim | B74: =SUM(Championnats!$G20) -> 0 | C74: =SUM(Championnats!$G72) -> 0 | D74: =SUM(Championnats!$G124) -> 0 | E74: =SUM(Championnats!$G176) -> 0 | F74: =SUM(Championnats!$G228) -> 0 | G74: =SUM(Championnats!$G280) -> 0 | H74: =SUM(Championnats!$G332) -> 0 | I74: =SUM(Championnats!$G384) -> 0 | J74: =SUM(Championnats!$G436) -> 0 | K74: =SUM(Championnats!$G488) -> 0 | M74: =CROSS!$M$20 -> 0 | N74: =N21 -> 0 | V74: {=MIN(IF(B74:K74>0,B74:K74))} -> 0 | W74: =MAX(B74:K74) -> 0 | Y74: =SUM(CROSS!#REF!) -> #REF! | Z74: =SUM(CROSS!#REF!) -> #REF!
A75: =(Championnats!B$21) -> RRR Seydou | B75: =SUM(Championnats!$G21) -> 0 | C75: =SUM(Championnats!$G73) -> 0 | D75: =SUM(Championnats!$G125) -> 0 | E75: =SUM(Championnats!$G177) -> 0 | F75: =SUM(Championnats!$G229) -> 0 | G75: =SUM(Championnats!$G281) -> 0 | H75: =SUM(Championnats!$G333) -> 0 | I75: =SUM(Championnats!$G385) -> 0 | J75: =SUM(Championnats!$G437) -> 0 | K75: =SUM(Championnats!$G489) -> 0 | M75: =CROSS!$M$21 -> 0 | N75: =N22 -> 0 | V75: {=MIN(IF(B75:K75>0,B75:K75))} -> 0 | W75: =MAX(B75:K75) -> 0 | Y75: =SUM(CROSS!#REF!) -> #REF! | Z75: =SUM(CROSS!#REF!) -> #REF!
A76: =(Championnats!B$22) -> SSS Lucas | B76: =SUM(Championnats!$G22) -> 0 | C76: =SUM(Championnats!$G74) -> 0 | D76: =SUM(Championnats!$G126) -> 0 | E76: =SUM(Championnats!$G178) -> 0 | F76: =SUM(Championnats!$G230) -> 0 | G76: =SUM(Championnats!$G282) -> 0 | H76: =SUM(Championnats!$G334) -> 0 | I76: =SUM(Championnats!$G386) -> 0 | J76: =SUM(Championnats!$G438) -> 0 | K76: =SUM(Championnats!$G490) -> 0 | M76: =CROSS!$M$22 -> 0 | N76: =N23 -> 0 | V76: {=MIN(IF(B76:K76>0,B76:K76))} -> 0 | W76: =MAX(B76:K76) -> 0 | Y76: =SUM(CROSS!#REF!) -> #REF! | Z76: =SUM(CROSS!#REF!) -> #REF!
A77: =(Championnats!B$23) -> TTT Samba | B77: =SUM(Championnats!$G23) -> 0 | C77: =SUM(Championnats!$G75) -> 0 | D77: =SUM(Championnats!$G127) -> 0 | E77: =SUM(Championnats!$G179) -> 0 | F77: =SUM(Championnats!$G231) -> 0 | G77: =SUM(Championnats!$G283) -> 0 | H77: =SUM(Championnats!$G335) -> 0 | I77: =SUM(Championnats!$G387) -> 0 | J77: =SUM(Championnats!$G439) -> 0 | K77: =SUM(Championnats!$G491) -> 0 | M77: =CROSS!$M$23 -> 0 | N77: =N24 -> 0 | V77: {=MIN(IF(B77:K77>0,B77:K77))} -> 0 | W77: =MAX(B77:K77) -> 0 | Y77: =SUM(CROSS!#REF!) -> #REF! | Z77: =SUM(CROSS!#REF!) -> #REF!
A78: =(Championnats!B$24) -> UUU Miguel | B78: =SUM(Championnats!$G24) -> 0 | C78: =SUM(Championnats!$G76) -> 0 | D78: =SUM(Championnats!$G128) -> 0 | E78: =SUM(Championnats!$G180) -> 0 | F78: =SUM(Championnats!$G232) -> 0 | G78: =SUM(Championnats!$G284) -> 0 | H78: =SUM(Championnats!$G336) -> 0 | I78: =SUM(Championnats!$G388) -> 0 | J78: =SUM(Championnats!$G440) -> 0 | K78: =SUM(Championnats!$G492) -> 0 | M78: =CROSS!$M$24 -> 0 | N78: =N25 -> 0 | V78: {=MIN(IF(B78:K78>0,B78:K78))} -> 0 | W78: =MAX(B78:K78) -> 0 | Y78: =SUM(CROSS!#REF!) -> #REF! | Z78: =SUM(CROSS!#REF!) -> #REF!
A79: =(Championnats!B$25) -> VVV Nicolas | B79: =SUM(Championnats!$G25) -> 0 | C79: =SUM(Championnats!$G77) -> 0 | D79: =SUM(Championnats!$G129) -> 0 | E79: =SUM(Championnats!$G181) -> 0 | F79: =SUM(Championnats!$G233) -> 0 | G79: =SUM(Championnats!$G285) -> 0 | H79: =SUM(Championnats!$G337) -> 0 | I79: =SUM(Championnats!$G389) -> 0 | J79: =SUM(Championnats!$G441) -> 0 | K79: =SUM(Championnats!$G493) -> 0 | M79: =CROSS!$M$25 -> 0 | N79: =N26 -> 0 | V79: {=MIN(IF(B79:K79>0,B79:K79))} -> 0 | W79: =MAX(B79:K79) -> 0 | Y79: =SUM(CROSS!#REF!) -> #REF! | Z79: =SUM(CROSS!#REF!) -> #REF!
A80: =(Championnats!B$26) -> WWW Bilal | B80: =SUM(Championnats!$G26) -> 0 | C80: =SUM(Championnats!$G78) -> 0 | D80: =SUM(Championnats!$G130) -> 0 | E80: =SUM(Championnats!$G182) -> 0 | F80: =SUM(Championnats!$G234) -> 0 | G80: =SUM(Championnats!$G286) -> 0 | H80: =SUM(Championnats!$G338) -> 0 | I80: =SUM(Championnats!$G390) -> 0 | J80: =SUM(Championnats!$G442) -> 0 | K80: =SUM(Championnats!$G494) -> 0 | M80: =CROSS!$M$26 -> 0 | N80: =N27 -> 0 | V80: {=MIN(IF(B80:K80>0,B80:K80))} -> 0 | W80: =MAX(B80:K80) -> 0 | Y80: =SUM(CROSS!#REF!) -> #REF! | Z80: =SUM(CROSS!#REF!) -> #REF!
A81: =(Championnats!B$27) -> XXX Florent | B81: =SUM(Championnats!$G27) -> 0 | C81: =SUM(Championnats!$G79) -> 0 | D81: =SUM(Championnats!$G131) -> 0 | E81: =SUM(Championnats!$G183) -> 0 | F81: =SUM(Championnats!$G235) -> 0 | G81: =SUM(Championnats!$G287) -> 0 | H81: =SUM(Championnats!$G339) -> 0 | I81: =SUM(Championnats!$G391) -> 0 | J81: =SUM(Championnats!$G443) -> 0 | K81: =SUM(Championnats!$G495) -> 0 | M81: =CROSS!$M$27 -> 0 | N81: =N28 -> 0 | V81: {=MIN(IF(B81:K81>0,B81:K81))} -> 0 | W81: =MAX(B81:K81) -> 0 | Y81: =SUM(CROSS!#REF!) -> #REF! | Z81: =SUM(CROSS!#REF!) -> #REF!
A82: =(Championnats!B$28) -> YYYY Célia | B82: =SUM(Championnats!$G28) -> 0 | C82: =SUM(Championnats!$G80) -> 0 | D82: =SUM(Championnats!$G132) -> 0 | E82: =SUM(Championnats!$G184) -> 0 | F82: =SUM(Championnats!$G236) -> 0 | G82: =SUM(Championnats!$G288) -> 0 | H82: =SUM(Championnats!$G340) -> 0 | I82: =SUM(Championnats!$G392) -> 0 | J82: =SUM(Championnats!$G444) -> 0 | K82: =SUM(Championnats!$G496) -> 0 | M82: =CROSS!$M$28 -> 0 | N82: =N29 -> 0 | V82: {=MIN(IF(B82:K82>0,B82:K82))} -> 0 | W82: =MAX(B82:K82) -> 0 | Y82: =SUM(CROSS!#REF!) -> #REF! | Z82: =SUM(CROSS!#REF!) -> #REF!
A83: =(Championnats!B$29) -> ZZZ Rehu Magnifié | B83: =SUM(Championnats!$G29) -> 0 | C83: =SUM(Championnats!$G81) -> 0 | D83: =SUM(Championnats!$G133) -> 0 | E83: =SUM(Championnats!$G185) -> 0 | F83: =SUM(Championnats!$G237) -> 0 | G83: =SUM(Championnats!$G289) -> 0 | H83: =SUM(Championnats!$G341) -> 0 | I83: =SUM(Championnats!$G393) -> 0 | J83: =SUM(Championnats!$G445) -> 0 | K83: =SUM(Championnats!$G497) -> 0 | M83: =CROSS!$M$29 -> 0 | N83: =N30 -> 0 | V83: {=MIN(IF(B83:K83>0,B83:K83))} -> 0 | W83: =MAX(B83:K83) -> 0 | Y83: =SUM(CROSS!#REF!) -> #REF! | Z83: =SUM(CROSS!#REF!) -> #REF!
A84: =(Championnats!B$30) -> AAABBB Prisca | B84: =SUM(Championnats!$G30) -> 0 | C84: =SUM(Championnats!$G82) -> 0 | D84: =SUM(Championnats!$G134) -> 0 | E84: =SUM(Championnats!$G186) -> 0 | F84: =SUM(Championnats!$G238) -> 0 | G84: =SUM(Championnats!$G290) -> 0 | H84: =SUM(Championnats!$G342) -> 0 | I84: =SUM(Championnats!$G394) -> 0 | J84: =SUM(Championnats!$G446) -> 0 | K84: =SUM(Championnats!$G498) -> 0 | M84: =CROSS!$M$30 -> 0 | N84: =N31 -> 0 | V84: {=MIN(IF(B84:K84>0,B84:K84))} -> 0 | W84: =MAX(B84:K84) -> 0 | Y84: =SUM(CROSS!#REF!) -> #REF! | Z84: =SUM(CROSS!#REF!) -> #REF!
A85: =(Championnats!B$31) -> BBBCCC Océane | B85: =SUM(Championnats!$G31) -> 0 | C85: =SUM(Championnats!$G83) -> 0 | D85: =SUM(Championnats!$G135) -> 0 | E85: =SUM(Championnats!$G187) -> 0 | F85: =SUM(Championnats!$G239) -> 0 | G85: =SUM(Championnats!$G291) -> 0 | H85: =SUM(Championnats!$G343) -> 0 | I85: =SUM(Championnats!$G395) -> 0 | J85: =SUM(Championnats!$G447) -> 0 | K85: =SUM(Championnats!$G499) -> 0 | M85: =CROSS!$M$31 -> 0 | N85: =N32 -> 0 | V85: {=MIN(IF(B85:K85>0,B85:K85))} -> 0 | W85: =MAX(B85:K85) -> 0 | Y85: =SUM(CROSS!#REF!) -> #REF! | Z85: =SUM(CROSS!#REF!) -> #REF!
A86: =(Championnats!B$32) -> CCCDDD Balkis-Imane | B86: =SUM(Championnats!$G32) -> 0 | C86: =SUM(Championnats!$G84) -> 0 | D86: =SUM(Championnats!$G136) -> 0 | E86: =SUM(Championnats!$G188) -> 0 | F86: =SUM(Championnats!$G240) -> 0 | G86: =SUM(Championnats!$G292) -> 0 | H86: =SUM(Championnats!$G344) -> 0 | I86: =SUM(Championnats!$G396) -> 0 | J86: =SUM(Championnats!$G448) -> 0 | K86: =SUM(Championnats!$G500) -> 0 | M86: =CROSS!$M$32 -> 0 | N86: =N33 -> 0 | V86: {=MIN(IF(B86:K86>0,B86:K86))} -> 0 | W86: =MAX(B86:K86) -> 0 | Y86: =SUM(CROSS!#REF!) -> #REF! | Z86: =SUM(CROSS!#REF!) -> #REF!
A87: =(Championnats!B$33) -> DDDEEE Hamza | B87: =SUM(Championnats!$G33) -> 0 | C87: =SUM(Championnats!$G85) -> 0 | D87: =SUM(Championnats!$G137) -> 0 | E87: =SUM(Championnats!$G189) -> 0 | F87: =SUM(Championnats!$G241) -> 0 | G87: =SUM(Championnats!$G293) -> 0 | H87: =SUM(Championnats!$G345) -> 0 | I87: =SUM(Championnats!$G397) -> 0 | J87: =SUM(Championnats!$G449) -> 0 | K87: =SUM(Championnats!$G501) -> 0 | M87: =CROSS!$M$33 -> 0 | N87: =N34 -> 0 | V87: {=MIN(IF(B87:K87>0,B87:K87))} -> 0 | W87: =MAX(B87:K87) -> 0 | Y87: =SUM(CROSS!#REF!) -> #REF! | Z87: =SUM(CROSS!#REF!) -> #REF!
A88: =(Championnats!B$34) -> EEEFFF Beverly | B88: =SUM(Championnats!$G34) -> 0 | C88: =SUM(Championnats!$G86) -> 0 | D88: =SUM(Championnats!$G138) -> 0 | E88: =SUM(Championnats!$G190) -> 0 | F88: =SUM(Championnats!$G242) -> 0 | G88: =SUM(Championnats!$G294) -> 0 | H88: =SUM(Championnats!$G346) -> 0 | I88: =SUM(Championnats!$G398) -> 0 | J88: =SUM(Championnats!$G450) -> 0 | K88: =SUM(Championnats!$G502) -> 0 | M88: =CROSS!$M$34 -> 0 | N88: =N35 -> 0 | V88: {=MIN(IF(B88:K88>0,B88:K88))} -> 0 | W88: =MAX(B88:K88) -> 0 | Y88: =SUM(CROSS!#REF!) -> #REF! | Z88: =SUM(CROSS!#REF!) -> #REF!
A89: =(Championnats!B$35) -> FFFGGG Flore | B89: =SUM(Championnats!$G35) -> 0 | C89: =SUM(Championnats!$G87) -> 0 | D89: =SUM(Championnats!$G139) -> 0 | E89: =SUM(Championnats!$G191) -> 0 | F89: =SUM(Championnats!$G243) -> 0 | G89: =SUM(Championnats!$G295) -> 0 | H89: =SUM(Championnats!$G347) -> 0 | I89: =SUM(Championnats!$G399) -> 0 | J89: =SUM(Championnats!$G451) -> 0 | K89: =SUM(Championnats!$G503) -> 0 | M89: =CROSS!$M$35 -> 0 | N89: =N36 -> 0 | V89: {=MIN(IF(B89:K89>0,B89:K89))} -> 0 | W89: =MAX(B89:K89) -> 0 | Y89: =SUM(CROSS!#REF!) -> #REF! | Z89: =SUM(CROSS!#REF!) -> #REF!
A90: =(Championnats!B$36) -> GGGGHHH Lauryne | B90: =SUM(Championnats!$G36) -> 0 | C90: =SUM(Championnats!$G88) -> 0 | D90: =SUM(Championnats!$G140) -> 0 | E90: =SUM(Championnats!$G192) -> 0 | F90: =SUM(Championnats!$G244) -> 0 | G90: =SUM(Championnats!$G296) -> 0 | H90: =SUM(Championnats!$G348) -> 0 | I90: =SUM(Championnats!$G400) -> 0 | J90: =SUM(Championnats!$G452) -> 0 | K90: =SUM(Championnats!$G504) -> 0 | M90: =CROSS!$M$36 -> 0 | N90: =N37 -> 0 | V90: {=MIN(IF(B90:K90>0,B90:K90))} -> 0 | W90: =MAX(B90:K90) -> 0 | Y90: =SUM(CROSS!#REF!) -> #REF! | Z90: =SUM(CROSS!#REF!) -> #REF!
A91: =(Championnats!B$37) -> HHHHIII Steven | B91: =SUM(Championnats!$G37) -> 0 | C91: =SUM(Championnats!$G89) -> 0 | D91: =SUM(Championnats!$G141) -> 0 | E91: =SUM(Championnats!$G193) -> 0 | F91: =SUM(Championnats!$G245) -> 0 | G91: =SUM(Championnats!$G297) -> 0 | H91: =SUM(Championnats!$G349) -> 0 | I91: =SUM(Championnats!$G401) -> 0 | J91: =SUM(Championnats!$G453) -> 0 | K91: =SUM(Championnats!$G505) -> 0 | M91: =CROSS!$M$37 -> 0 | N91: =N38 -> 0 | V91: {=MIN(IF(B91:K91>0,B91:K91))} -> 0 | W91: =MAX(B91:K91) -> 0 | Y91: =SUM(CROSS!#REF!) -> #REF! | Z91: =SUM(CROSS!#REF!) -> #REF!
A92: =(Championnats!B$38) -> IIIJJJJJ PIERRE | B92: =SUM(Championnats!$G38) -> 0 | C92: =SUM(Championnats!$G90) -> 0 | D92: =SUM(Championnats!$G142) -> 0 | E92: =SUM(Championnats!$G194) -> 0 | F92: =SUM(Championnats!$G246) -> 0 | G92: =SUM(Championnats!$G298) -> 0 | H92: =SUM(Championnats!$G350) -> 0 | I92: =SUM(Championnats!$G402) -> 0 | J92: =SUM(Championnats!$G454) -> 0 | K92: =SUM(Championnats!$G506) -> 0 | M92: =CROSS!$M$38 -> 0 | N92: =N39 -> 0 | V92: {=MIN(IF(B92:K92>0,B92:K92))} -> 0 | W92: =MAX(B92:K92) -> 0 | Y92: =SUM(CROSS!#REF!) -> #REF! | Z92: =SUM(CROSS!#REF!) -> #REF!
A93: =(Championnats!B$39) -> JJJJKKKK Christelle | B93: =SUM(Championnats!$G39) -> 0 | C93: =SUM(Championnats!$G91) -> 0 | D93: =SUM(Championnats!$G143) -> 0 | E93: =SUM(Championnats!$G195) -> 0 | F93: =SUM(Championnats!$G247) -> 0 | G93: =SUM(Championnats!$G299) -> 0 | H93: =SUM(Championnats!$G351) -> 0 | I93: =SUM(Championnats!$G403) -> 0 | J93: =SUM(Championnats!$G455) -> 0 | K93: =SUM(Championnats!$G507) -> 0 | M93: =CROSS!$M$39 -> 0 | N93: =N40 -> 0 | V93: {=MIN(IF(B93:K93>0,B93:K93))} -> 0 | W93: =MAX(B93:K93) -> 0 | Y93: =SUM(CROSS!#REF!) -> #REF! | Z93: =SUM(CROSS!#REF!) -> #REF!
A94: =(Championnats!B$40) -> KKKLLL Pierre | B94: =SUM(Championnats!$G40) -> 0 | C94: =SUM(Championnats!$G92) -> 0 | D94: =SUM(Championnats!$G144) -> 0 | E94: =SUM(Championnats!$G196) -> 0 | F94: =SUM(Championnats!$G248) -> 0 | G94: =SUM(Championnats!$G300) -> 0 | H94: =SUM(Championnats!$G352) -> 0 | I94: =SUM(Championnats!$G404) -> 0 | J94: =SUM(Championnats!$G456) -> 0 | K94: =SUM(Championnats!$G508) -> 0 | M94: =CROSS!$M$40 -> 0 | N94: =N41 -> 0 | V94: {=MIN(IF(B94:K94>0,B94:K94))} -> 0 | W94: =MAX(B94:K94) -> 0 | Y94: =SUM(CROSS!#REF!) -> #REF! | Z94: =SUM(CROSS!#REF!) -> #REF!
A95: =(Championnats!B$41) -> LLLLMMMM Didier | B95: =SUM(Championnats!$G41) -> 0 | C95: =SUM(Championnats!$G93) -> 0 | D95: =SUM(Championnats!$G145) -> 0 | E95: =SUM(Championnats!$G197) -> 0 | F95: =SUM(Championnats!$G249) -> 0 | G95: =SUM(Championnats!$G301) -> 0 | H95: =SUM(Championnats!$G353) -> 0 | I95: =SUM(Championnats!$G405) -> 0 | J95: =SUM(Championnats!$G457) -> 0 | K95: =SUM(Championnats!$G509) -> 0 | M95: =CROSS!$M$41 -> 0 | N95: =N42 -> 0 | V95: {=MIN(IF(B95:K95>0,B95:K95))} -> 0 | W95: =MAX(B95:K95) -> 0 | Y95: =SUM(CROSS!#REF!) -> #REF! | Z95: =SUM(CROSS!#REF!) -> #REF!
A96: =(Championnats!B$42) -> MMMNNN Barbara | B96: =SUM(Championnats!$G42) -> 0 | C96: =SUM(Championnats!$G94) -> 0 | D96: =SUM(Championnats!$G146) -> 0 | E96: =SUM(Championnats!$G198) -> 0 | F96: =SUM(Championnats!$G250) -> 0 | G96: =SUM(Championnats!$G302) -> 0 | H96: =SUM(Championnats!$G354) -> 0 | I96: =SUM(Championnats!$G406) -> 0 | J96: =SUM(Championnats!$G458) -> 0 | K96: =SUM(Championnats!$G510) -> 0 | M96: =CROSS!$M$42 -> 0 | N96: =N43 -> 0 | V96: {=MIN(IF(B96:K96>0,B96:K96))} -> 0 | W96: =MAX(B96:K96) -> 0 | Y96: =SUM(CROSS!#REF!) -> #REF! | Z96: =SUM(CROSS!#REF!) -> #REF!
A97: =(Championnats!B$43) -> NNNNOOO Julie | B97: =SUM(Championnats!$G43) -> 0 | C97: =SUM(Championnats!$G95) -> 0 | D97: =SUM(Championnats!$G147) -> 0 | E97: =SUM(Championnats!$G199) -> 0 | F97: =SUM(Championnats!$G251) -> 0 | G97: =SUM(Championnats!$G303) -> 0 | H97: =SUM(Championnats!$G355) -> 0 | I97: =SUM(Championnats!$G407) -> 0 | J97: =SUM(Championnats!$G459) -> 0 | K97: =SUM(Championnats!$G511) -> 0 | M97: =CROSS!$M$43 -> 0 | N97: =N44 -> 0 | V97: {=MIN(IF(B97:K97>0,B97:K97))} -> 0 | W97: =MAX(B97:K97) -> 0 | Y97: =SUM(CROSS!#REF!) -> #REF! | Z97: =SUM(CROSS!#REF!) -> #REF!
A98: =(Championnats!B$44) -> OOOPPP André | B98: =SUM(Championnats!$G44) -> 0 | C98: =SUM(Championnats!$G96) -> 0 | D98: =SUM(Championnats!$G148) -> 0 | E98: =SUM(Championnats!$G200) -> 0 | F98: =SUM(Championnats!$G252) -> 0 | G98: =SUM(Championnats!$G304) -> 0 | H98: =SUM(Championnats!$G356) -> 0 | I98: =SUM(Championnats!$G408) -> 0 | J98: =SUM(Championnats!$G460) -> 0 | K98: =SUM(Championnats!$G512) -> 0 | M98: =CROSS!$M$44 -> 0 | N98: =N45 -> 0 | V98: {=MIN(IF(B98:K98>0,B98:K98))} -> 0 | W98: =MAX(B98:K98) -> 0 | Y98: =SUM(CROSS!#REF!) -> #REF! | Z98: =SUM(CROSS!#REF!) -> #REF!
A99: =(Championnats!B$45) -> PPPQQQQ Roland | B99: =SUM(Championnats!$G45) -> 0 | C99: =SUM(Championnats!$G97) -> 0 | D99: =SUM(Championnats!$G149) -> 0 | E99: =SUM(Championnats!$G201) -> 0 | F99: =SUM(Championnats!$G253) -> 0 | G99: =SUM(Championnats!$G305) -> 0 | H99: =SUM(Championnats!$G357) -> 0 | I99: =SUM(Championnats!$G409) -> 0 | J99: =SUM(Championnats!$G461) -> 0 | K99: =SUM(Championnats!$G513) -> 0 | M99: =CROSS!$M$45 -> 0 | N99: =N46 -> 0 | V99: {=MIN(IF(B99:K99>0,B99:K99))} -> 0 | W99: =MAX(B99:K99) -> 0 | Y99: =SUM(CROSS!#REF!) -> #REF! | Z99: =SUM(CROSS!#REF!) -> #REF!
A100: =(Championnats!B$46) -> QQQRRR Sylvain | B100: =SUM(Championnats!$G46) -> 0 | C100: =SUM(Championnats!$G98) -> 0 | D100: =SUM(Championnats!$G150) -> 0 | E100: =SUM(Championnats!$G202) -> 0 | F100: =SUM(Championnats!$G254) -> 0 | G100: =SUM(Championnats!$G306) -> 0 | H100: =SUM(Championnats!$G358) -> 0 | I100: =SUM(Championnats!$G410) -> 0 | J100: =SUM(Championnats!$G462) -> 0 | K100: =SUM(Championnats!$G514) -> 0 | M100: =CROSS!$M$46 -> 0 | N100: =N47 -> 0 | V100: {=MIN(IF(B100:K100>0,B100:K100))} -> 0 | W100: =MAX(B100:K100) -> 0 | Y100: =SUM(CROSS!#REF!) -> #REF! | Z100: =SUM(CROSS!#REF!) -> #REF!
A101: =(Championnats!B$47) -> RRRSSS Veronica | B101: =SUM(Championnats!$G47) -> 0 | C101: =SUM(Championnats!$G99) -> 0 | D101: =SUM(Championnats!$G151) -> 0 | E101: =SUM(Championnats!$G203) -> 0 | F101: =SUM(Championnats!$G255) -> 0 | G101: =SUM(Championnats!$G307) -> 0 | H101: =SUM(Championnats!$G359) -> 0 | I101: =SUM(Championnats!$G411) -> 0 | J101: =SUM(Championnats!$G463) -> 0 | K101: =SUM(Championnats!$G515) -> 0 | M101: =CROSS!$M$47 -> 0 | N101: =N48 -> 0 | V101: {=MIN(IF(B101:K101>0,B101:K101))} -> 0 | W101: =MAX(B101:K101) -> 0 | Y101: =SUM(CROSS!#REF!) -> #REF! | Z101: =SUM(CROSS!#REF!) -> #REF!
A102: =(Championnats!B$48) -> SSSTTT Luc | B102: =SUM(Championnats!$G48) -> 0 | C102: =SUM(Championnats!$G100) -> 0 | D102: =SUM(Championnats!$G152) -> 0 | E102: =SUM(Championnats!$G204) -> 0 | F102: =SUM(Championnats!$G256) -> 0 | G102: =SUM(Championnats!$G308) -> 0 | H102: =SUM(Championnats!$G360) -> 0 | I102: =SUM(Championnats!$G412) -> 0 | J102: =SUM(Championnats!$G464) -> 0 | K102: =SUM(Championnats!$G516) -> 0 | M102: =CROSS!$M$48 -> 0 | N102: =N49 -> 0 | V102: {=MIN(IF(B102:K102>0,B102:K102))} -> 0 | W102: =MAX(B102:K102) -> 0 | Y102: =SUM(CROSS!#REF!) -> #REF! | Z102: =SUM(CROSS!#REF!) -> #REF!
...

Sheet ATHLÈTES
A1: NOM | B1: PRÉNOM | C1: NAISSANCE | D1: N° de LICENCE | E1: CATEGORIE | F1: HOMME/FEMME | G1: CLUB | H1: ADRESSE | I1: CODE POSTALE | J1: PORTABLE | K1: AUTRES | L1: PARENTS | M1: TAILLE | N1: POIDS | O1: MAIL | P1: MOTIVATION | R1: =Calendrier!I30 -> LES CHAMPIONNATS | Y1: STATISTIQUES | AA1: CALENDRIER | AC1: =Calendrier!I35 -> LES CROSS
A2: AAA | B2: LUC | C2: 37340 | D2: 409092 | E2: =IF(S2<>"",VLOOKUP(S2,$Y$2:$Z$70,2,FALSE),"") | F2: FEMME | G2: usc | I2: 94140 | J2: 01 12 34 56 78 | K2: 612345678 | L2: 712345678 | M2: 172 | N2: 58 | O2: AA@gmail.com | P2: CHAMPIONNAT DU MONDE
A3: BBB | B3: isabelle | C3: 25613 | D3: 707564 | E3: =IF(S3<>"",VLOOKUP(S3,$Y$2:$Z$70,2,FALSE),"") | F3: HOMME | G3: =IF(A3<>"",G2,"") -> usc | I3: 77700 | J3: 01 12 34 56 78 | K3: 612345678 | L3: 712345678 | M3: 179 | N3: 79 | O3: BB@hotmail.fr | P3: --
A4: KJKLJDFKJG | B4: Agathe | C4: 35144 | D4: 1467847 | E4: =IF(S4<>"",VLOOKUP(S4,$Y$2:$Z$70,2,FALSE),"") | F4: FEMME | G4: =IF(A4<>"",G3,"") -> usc | H4: ---- | I4: 94320 | J4: 01 12 34 56 78 | K4: 612345678 | L4: 712345678 | M4: -- | N4: -- | O4: CC@gmail.com | P4: **
A5: DDD | B5: Léa | C5: 34930 | D5: 1263818 | E5: =IF(S5<>"",VLOOKUP(S5,$Y$2:$Z$70,2,FALSE),"") -> #N/A | F5: FEMME | G5: =IF(A5<>"",G4,"") -> usc | H5: ---- | I5: 94320 | J5: 01 12 34 56 78 | K5: 612345678 | L5: 712345678 | M5: -- | N5: -- | O5: DD@gmail.com | P5: -- | S5: -- | T5: -- | U5: -- | V5: --
A6: KUYFRJGF | B6: Mélissa | C6: 33692 | D6: 1499588 | E6: =IF(S6<>"",VLOOKUP(S6,$Y$2:$Z$70,2,FALSE),"") | F6: FEMME | G6: =IF(A6<>"",G5,"") -> usc | H6: ---- | I6: 94320 | J6: 148484848 | K6: 601020304 | L6: 950515253 | M6: -- | N6: -- | O6: EE@gmail.com | P6: France
A7: FFF | B7: Eric | C7: 33822 | D7: 1499669 | E7: =IF(S7<>"",VLOOKUP(S7,$Y$2:$Z$70,2,FALSE),"") | F7: FEMME | G7: =IF(A7<>"",G6,"") -> usc | H7: ---- | I7: 94320 | J7: 01 12 34 56 78 | K7: 612345678 | L7: 712345678 | M7: -- | N7: -- | O7: FF@gmail.com | P7: --
A8: GGG | B8: Lucie | C8: 35766 | D8: 1680038 | E8: =IF(S8<>"",VLOOKUP(S8,$Y$2:$Z$70,2,FALSE),"") | F8: FEMME | G8: =IF(A8<>"",G7,"") -> usc | H8: ---- | I8: 94320 | J8: 01 12 34 56 78 | K8: 612345678 | L8: 712345678 | M8: -- | N8: -- | O8: GG@gmail.com | P8: --
A9: HHH | B9: Eva | C9: 34184 | D9: 1577746 | E9: =IF(S9<>"",VLOOKUP(S9,$Y$2:$Z$70,2,FALSE),"") | F9: FEMME | G9: =IF(A9<>"",G8,"") -> usc | H9: ---- | I9: 94320 | J9: 01 12 34 56 78 | K9: 612345678 | L9: 712345678 | M9: -- | N9: -- | O9: HH@gmail.com | P9: --
A10: PERNOIS | B10: LUC | C10: 33650 | D10: 707564 | E10: =IF(S10<>"",VLOOKUP(S10,$Y$2:$Z$70,2,FALSE),"") | F10: FEMME | G10: =IF(A10<>"",G9,"") -> usc | H10: ---- | I10: 77700 | J10: 684247264 | K10: 143683500 | L10: 682361680 | M10: 164 | N10: 53 | O10: luc94140@hotmail.fr | P10: --
A11: JJJ | B11: Mélania | C11: 35284 | D11: 1926597 | E11: =IF(S11<>"",VLOOKUP(S11,$Y$2:$Z$70,2,FALSE),"") | F11: FEMME | G11: =IF(A11<>"",G10,"") -> usc | H11: ---- | I11: 94320 | J11: 01 12 34 56 78 | K11: 612345678 | L11: 712345678 | M11: -- | N11: -- | O11: JJ@gmail.com | P11: --
A12: KKK | B12: Mélanie | C12: 30983 | D12: 1698208 | E12: =IF(S12<>"",VLOOKUP(S12,$Y$2:$Z$70,2,FALSE),"") | F12: FEMME | G12: =IF(A12<>"",G11,"") -> usc | H12: ---- | I12: 94320 | J12: 01 12 34 56 78 | K12: 612345678 | L12: 712345678 | M12: -- | N12: -- | O12: kk@gmail.com | P12: --
A13: LLL | B13: Cryss | C13: 34770 | D13: 1590592 | E13: =IF(S13<>"",VLOOKUP(S13,$Y$2:$Z$70,2,FALSE),"") | F13: HOMME | G13: =IF(A13<>"",G12,"") -> usc | H13: ---- | I13: 94320 | J13: 01 12 34 56 78 | K13: 612345678 | L13: 712345678 | M13: -- | N13: -- | O13: ll@gmail.com | P13: --
A14: MMMM | B14: Sambou | C14: 33010 | D14: 1553373 | E14: =IF(S14<>"",VLOOKUP(S14,$Y$2:$Z$70,2,FALSE),"") | F14: HOMME | G14: =IF(A14<>"",G13,"") -> usc | H14: ---- | I14: 94320 | J14: 01 12 34 56 78 | K14: 612345678 | L14: 712345678 | M14: -- | N14: -- | O14: mm@gmail.com | P14: --
A15: NNN | B15: Dylan | C15: 33789 | D15: 1746478 | E15: =IF(S15<>"",VLOOKUP(S15,$Y$2:$Z$70,2,FALSE),"") | F15: HOMME | G15: =IF(A15<>"",G14,"") -> usc | H15: ---- | I15: 94320 | J15: 01 12 34 56 78 | K15: 612345678 | L15: 712345678 | M15: -- | N15: 75 | O15: NN@gmail.com | P15: --
A16: OOO | B16: Philippe | C16: 34415 | D16: 1577594 | E16: =IF(S16<>"",VLOOKUP(S16,$Y$2:$Z$70,2,FALSE),"") | F16: HOMME | G16: =IF(A16<>"",G15,"") -> usc | H16: ---- | I16: 94320 | J16: 01 12 34 56 78 | K16: 612345678 | L16: 712345678 | M16: 170 | N16: 65 | O16: OO@gmail.com | P16: --
A17: PPP | B17: Oumar | C17: 34243 | D17: 1577755 | E17: =IF(S17<>"",VLOOKUP(S17,$Y$2:$Z$70,2,FALSE),"") | F17: HOMME | G17: =IF(A17<>"",G16,"") -> usc | H17: ---- | I17: 94320 | J17: 01 12 34 56 78 | K17: 612345678 | L17: 712345678 | M17: -- | N17: -- | O17: PP@gmail.com | P17: --
A18: QQQ | B18: Ibrahim | C18: 35147 | D18: 1346497 | E18: =IF(S18<>"",VLOOKUP(S18,$Y$2:$Z$70,2,FALSE),"") | F18: HOMME | G18: =IF(A18<>"",G17,"") -> usc | H18: ---- | I18: 94320 | J18: 01 12 34 56 78 | K18: 612345678 | L18: 712345678 | M18: -- | N18: -- | O18: QQ@gmail.com | P18: --
A19: RRR | B19: Seydou | C19: 33969 | D19: 1748108 | E19: =IF(S19<>"",VLOOKUP(S19,$Y$2:$Z$70,2,FALSE),"") | F19: HOMME | G19: =IF(A19<>"",G18,"") -> usc | H19: ---- | I19: 94320 | J19: 01 12 34 56 78 | K19: 612345678 | L19: 712345678 | M19: -- | N19: -- | O19: RR@gmail.com | P19: --
A20: SSS | B20: Lucas | C20: 34107 | D20: 1026525 | E20: =IF(S20<>"",VLOOKUP(S20,$Y$2:$Z$70,2,FALSE),"") | F20: HOMME | G20: =IF(A20<>"",G19,"") -> usc | H20: ---- | I20: 94320 | J20: 01 12 34 56 78 | K20: 612345678 | L20: 712345678 | M20: -- | N20: -- | O20: SS@gmail.com | P20: --
A21: TTT | B21: Samba | C21: 26216 | D21: 405929 | E21: =IF(S21<>"",VLOOKUP(S21,$Y$2:$Z$70,2,FALSE),"") | F21: HOMME | G21: =IF(A21<>"",G20,"") -> usc | H21: ---- | I21: 94320 | J21: 01 12 34 56 78 | K21: 612345678 | L21: 712345678 | M21: -- | N21: -- | O21: TT@gmail.com | P21: --
A22: UUU | B22: Miguel | C22: 26002 | D22: 1513486 | E22: =IF(S22<>"",VLOOKUP(S22,$Y$2:$Z$70,2,FALSE),"") | F22: HOMME | G22: =IF(A22<>"",G21,"") -> usc | H22: ---- | I22: 94320 | J22: 01 12 34 56 78 | K22: 612345678 | L22: 712345678 | M22: 180 | N22: 75 | O22: UU@gmail.com | P22: --
A23: VVV | B23: Nicolas | C23: 34505 | D23: 1797650 | E23: =IF(S23<>"",VLOOKUP(S23,$Y$2:$Z$70,2,FALSE),"") | F23: HOMME | G23: =IF(A23<>"",G22,"") -> usc | H23: ---- | I23: 94320 | J23: 01 12 34 56 78 | K23: 612345678 | L23: 712345678 | M23: -- | N23: -- | O23: VV@gmail.com | P23: --
A24: WWW | B24: Bilal | C24: 34372 | D24: 604004 | E24: =IF(S24<>"",VLOOKUP(S24,$Y$2:$Z$70,2,FALSE),"") | F24: HOMME | G24: =IF(A24<>"",G23,"") -> usc | H24: ---- | I24: 94320 | J24: 01 12 34 56 78 | K24: 612345678 | L24: 712345678 | M24: -- | N24: -- | O24: WW@gmail.com | P24: --
A25: XXX | B25: Florent | C25: 21825 | D25: 1046319 | E25: =IF(S25<>"",VLOOKUP(S25,$Y$2:$Z$70,2,FALSE),"") | F25: HOMME | G25: =IF(A25<>"",G24,"") -> usc | H25: ---- | I25: 94320 | J25: 01 12 34 56 78 | K25: 612345678 | L25: 712345678 | M25: -- | N25: -- | O25: XX@gmail.com | P25: --
A26: YYYY | B26: Célia | C26: 35620 | D26: 1561046 | E26: =IF(S26<>"",VLOOKUP(S26,$Y$2:$Z$70,2,FALSE),"") | F26: FEMME | G26: =IF(A26<>"",G25,"") -> usc | H26: ---- | I26: 94320 | J26: 01 12 34 56 78 | K26: 612345678 | L26: 712345678 | M26: -- | N26: -- | O26: YY@gmail.com | P26: --
A27: ZZZ | B27: Rehu Magnifié | C27: 34141 | D27: 1537256 | E27: =IF(S27<>"",VLOOKUP(S27,$Y$2:$Z$70,2,FALSE),"") | F27: HOMME | G27: =IF(A27<>"",G26,"") -> usc | H27: ---- | I27: 94320 | J27: 01 12 34 56 78 | K27: 612345678 | L27: 712345678 | M27: -- | N27: -- | O27: ZZ@gmail.com | P27: --
A28: AAABBB | B28: Prisca | C28: 35182 | D28: 1939734 | E28: =IF(S28<>"",VLOOKUP(S28,$Y$2:$Z$70,2,FALSE),"") | F28: FEMME | G28: =IF(A28<>"",G27,"") -> usc | H28: ---- | I28: 94320 | J28: 01 12 34 56 78 | K28: 612345678 | L28: 712345678 | M28: -- | N28: -- | O28: AA1@gmail.com | P28: --
A29: BBBCCC | B29: Océane | C29: 35428 | D29: 1939723 | E29: =IF(S29<>"",VLOOKUP(S29,$Y$2:$Z$70,2,FALSE),"") | F29: FEMME | G29: =IF(A29<>"",G28,"") -> usc | H29: ---- | I29: 94320 | J29: 01 12 34 56 78 | K29: 612345678 | L29: 712345678 | M29: -- | N29: -- | O29: BB1@gmail.com | P29: --
A30: CCCDDD | B30: Balkis-Imane | C30: 35295 | D30: 1939738 | E30: =IF(S30<>"",VLOOKUP(S30,$Y$2:$Z$70,2,FALSE),"") | F30: FEMME | G30: =IF(A30<>"",G29,"") -> usc | H30: ---- | I30: 94320 | J30: 01 12 34 56 78 | K30: 612345678 | L30: 712345678 | M30: -- | N30: -- | O30: CC1@gmail.com | P30: --
A31: DDDEEE | B31: Hamza | C31: 34962 | D31: 611008 | E31: =IF(S31<>"",VLOOKUP(S31,$Y$2:$Z$70,2,FALSE),"") | F31: HOMME | G31: =IF(A31<>"",G30,"") -> usc | H31: ---- | I31: 94320 | J31: 01 12 34 56 78 | K31: 612345678 | L31: 712345678 | M31: 190 | N31: 69 | O31: DD1@gmail.com | P31: --
A32: EEEFFF | B32: Beverly | C32: 35592 | D32: 1544950 | E32: =IF(S32<>"",VLOOKUP(S32,$Y$2:$Z$70,2,FALSE),"") | F32: FEMME | G32: =IF(A32<>"",G31,"") -> usc | H32: ---- | I32: 94320 | J32: 01 12 34 56 78 | K32: 612345678 | L32: 712345678 | M32: -- | N32: -- | O32: EE1@gmail.com | P32: --
A33: FFFGGG | B33: Flore | C33: 34981 | D33: 1840151 | E33: =IF(S33<>"",VLOOKUP(S33,$Y$2:$Z$70,2,FALSE),"") | F33: FEMME | G33: =IF(A33<>"",G32,"") -> usc | H33: ---- | I33: 94320 | J33: 01 12 34 56 78 | K33: 612345678 | L33: 712345678 | M33: -- | N33: -- | O33: FF1@gmail.com | P33: --
A34: GGGGHHH | B34: Lauryne | C34: 35035 | D34: 1026527 | E34: =IF(S34<>"",VLOOKUP(S34,$Y$2:$Z$70,2,FALSE),"") | F34: FEMME | G34: =IF(A34<>"",G33,"") -> usc | H34: ---- | I34: 94320 | J34: 01 12 34 56 78 | K34: 612345678 | L34: 712345678 | M34: -- | N34: -- | O34: GG1@gmail.com | P34: --
A35: HHHHIII | B35: Steven | C35: 33789 | D35: 1746478 | E35: =IF(S35<>"",VLOOKUP(S35,$Y$2:$Z$70,2,FALSE),"") | F35: HOMME | G35: =IF(A35<>"",G34,"") -> usc | H35: ---- | I35: 94320 | J35: 01 12 34 56 78 | K35: 612345678 | L35: 712345678 | O35: HH1@gmail.com
A36: IIIJJJJJ | B36: PIERRE | C36: 34415 | D36: 1577594 | E36: =IF(S36<>"",VLOOKUP(S36,$Y$2:$Z$70,2,FALSE),"") | F36: HOMME | G36: =IF(A36<>"",G35,"") -> usc | H36: ---- | I36: 94320 | J36: 01 12 34 56 78 | K36: 612345678 | L36: 712345678 | O36: II1@gmail.com
A37: JJJJKKKK | B37: Christelle | C37: 34243 | D37: 1577755 | E37: =IF(S37<>"",VLOOKUP(S37,$Y$2:$Z$70,2,FALSE),"") | F37: HOMME | G37: =IF(A37<>"",G36,"") -> usc | H37: ---- | I37: 94320 | J37: 01 12 34 56 78 | K37: 612345678 | L37: 712345678 | O37: JJ1@gmail.com
A38: KKKLLL | B38: Pierre | C38: 35147 | D38: 1346497 | E38: =IF(S38<>"",VLOOKUP(S38,$Y$2:$Z$70,2,FALSE),"") | F38: HOMME | G38: =IF(A38<>"",G37,"") -> usc | H38: ---- | I38: 94320 | J38: 01 12 34 56 78 | K38: 612345678 | L38: 712345678 | O38: KK1@gmail.com
A39: LLLLMMMM | B39: Didier | C39: 33969 | D39: 1748108 | E39: =IF(S39<>"",VLOOKUP(S39,$Y$2:$Z$70,2,FALSE),"") | F39: HOMME | G39: =IF(A39<>"",G38,"") -> usc | H39: ---- | I39: 94320 | J39: 01 12 34 56 78 | K39: 612345678 | L39: 712345678 | O39: LL1@gmail.com
A40: MMMNNN | B40: Barbara | C40: 34107 | D40: 1026525 | E40: =IF(S40<>"",VLOOKUP(S40,$Y$2:$Z$70,2,FALSE),"") | F40: HOMME | G40: =IF(A40<>"",G39,"") -> usc | H40: ---- | I40: 94320 | J40: 01 12 34 56 78 | K40: 612345678 | L40: 712345678 | O40: MM1@gmail.com
A41: NNNNOOO | B41: Julie | C41: 26216 | D41: 405929 | E41: =IF(S41<>"",VLOOKUP(S41,$Y$2:$Z$70,2,FALSE),"") | F41: HOMME | G41: =IF(A41<>"",G40,"") -> usc | H41: ---- | I41: 94320 | J41: 01 12 34 56 78 | K41: 612345678 | L41: 712345678 | O41: NN1@gmail.com
A42: OOOPPP | B42: André | C42: 26002 | D42: 1513486 | E42: =IF(S42<>"",VLOOKUP(S42,$Y$2:$Z$70,2,FALSE),"") | F42: HOMME | G42: =IF(A42<>"",G41,"") -> usc | H42: ---- | I42: 94320 | J42: 01 12 34 56 78 | K42: 612345678 | L42: 712345678 | O42: OO1@gmail.com
A43: PPPQQQQ | B43: Roland | C43: 34505 | D43: 1797650 | E43: =IF(S43<>"",VLOOKUP(S43,$Y$2:$Z$70,2,FALSE),"") | F43: HOMME | G43: =IF(A43<>"",G42,"") -> usc | H43: ---- | I43: 94320 | J43: 01 12 34 56 78 | K43: 612345678 | L43: 712345678 | O43: PP1@gmail.com
A44: QQQRRR | B44: Sylvain | C44: 34372 | D44: 604004 | E44: =IF(S44<>"",VLOOKUP(S44,$Y$2:$Z$70,2,FALSE),"") | F44: HOMME | G44: =IF(A44<>"",G43,"") -> usc | H44: ---- | I44: 94320 | J44: 01 12 34 56 78 | K44: 612345678 | L44: 712345678 | O44: QQ1@gmail.com
A45: RRRSSS | B45: Veronica | C45: 21825 | D45: 1046319 | E45: =IF(S45<>"",VLOOKUP(S45,$Y$2:$Z$70,2,FALSE),"") | F45: HOMME | G45: =IF(A45<>"",G44,"") -> usc | H45: ---- | I45: 94320 | J45: 01 12 34 56 78 | K45: 612345678 | L45: 712345678 | O45: RR1@gmail.com
A46: SSSTTT | B46: Luc | C46: 35620 | D46: 1561046 | E46: =IF(S46<>"",VLOOKUP(S46,$Y$2:$Z$70,2,FALSE),"") | F46: FEMME | G46: =IF(A46<>"",G45,"") -> usc | H46: ---- | I46: 94320 | J46: 01 12 34 56 78 | K46: 612345678 | L46: 712345678 | O46: SS1@gmail.com
... A50: XXXYYY | B50: Lucie | C50: 35295 | D50: 1939738 | E50: =IF(S50<>"",VLOOKUP(S50,$Y$2:$Z$70,2,FALSE),"") | F50: FEMME | G50: =IF(A50<>"",G49,"") -> usc | H50: ---- | I50: 94320 | J50: 01 12 34 56 78 | K50: 612345678 | L50: 712345678 | O50: WW1@gmail.com
A51: YYYZZZ | B51: Eva | C51: 35035 | D51: 1026527 | F51: FEMME | G51: usc | H51: ---- | I51: 94320 | J51: 01 12 34 56 78 | K51: 612345678 | L51: 712345678 | O51: XX1@gmail.com

Sheet Calendrier
H1: STATISTIQUES | O1: 2019 | T1: BASE ATHLÈTES | BM1: Pâques | BN1: LES DATES | BO1: LES CHAMPIONNATS | BQ1: BLOC NOTES
BM2: =ROUND(DATE(O1,4,MOD(234-11*MOD(O1,19),30))/7,0)*7-6 -> 43576
A3: =PROPER(TEXT(DATE($O$1,BJ4,1),"mmmm aa")) -> Janvier 19 | I3: =PROPER(TEXT(DATE($O$1,BJ5,1),"mmmm aa")) -> Février 19 | R3: =PROPER(TEXT(DATE($O$1,BJ6,1),"mmmm aa")) -> Mars 19 | Z3: =PROPER(TEXT(DATE($O$1,BJ7,1),"mmmm aa")) -> Avril 19 | AJ3: =PROPER(TEXT(DATE($O$1,BJ4,1),"mmmm ")) -> Janvier | AK3: =PROPER(TEXT(DATE($O$1,BJ5,1),"mmmm ")) -> Février | AL3: =PROPER(TEXT(DATE($O$1,BJ6,1),"mmmm ")) -> Mars | AM3: =PROPER(TEXT(DATE($O$1,BJ7,1),"mmmm aa")) -> Avril 19 | AN3: =PROPER(TEXT(DATE($O$1,BJ8,1),"mmmm aa")) -> Mai 19 | AO3: =PROPER(TEXT(DATE($O$1,BJ9,1),"mmmm aa")) -> Juin 19 | AP3: =PROPER(TEXT(DATE($O$1,BJ10,1),"mmmm aa")) -> Juillet 19 | AQ3: =PROPER(TEXT(DATE($O$1,BJ12,1),"mmmm aa")) -> Août 19 | BK3: =IF(BP3="T",$BO$43,"") | BN3: =SUM(B$33) -> 43101 | BO3: Championnats départementaux à Maisons-Alfort
A4: L | B4: M | C4: M | D4: J | E4: V | F4: S | G4: D | I4: L | J4: M | K4: M | L4: J | M4: V | N4: S | O4: D | R4: L | S4: M | T4: M | U4: J | V4: V | W4: S | X4: D | Z4: L | AA4: M | AB4: M | AC4: J | AD4: V | AE4: S | AF4: D | BJ4: 1 | BK4: =IF(BP4="T",$BO$43,"") | BM4: Jours fériés | BN4: =SUM(E$33) -> 43133 | BO4: Championnats départementaux à Créteil
A5: {=IF(MONTH(DATE($O$1,BJ4,1)-WEEKDAY(DATE($O$1,BJ4,1),2)+{1,2,3,4,5,6,7}+{0;1;2;3;4;5}*7)=BJ4,DATE($O$1,BJ4,1)-WEEKDAY(DATE($O$1,BJ4,1),2)+{1,2,3,4,5,6,7}+{0;1;2;3;4;5}*7,"")} | B5: 43466 | C5: 43467 | D5: 43468 | E5: 43469 | F5: 43470 | G5: 43471 | I5: {=IF(MONTH(DATE($O$1,BJ5,1)-WEEKDAY(DATE($O$1,BJ5,1),2)+{1,2,3,4,5,6,7}+{0;1;2;3;4;5}*7)=BJ5,DATE($O$1,BJ5,1)-WEEKDAY(DATE($O$1,BJ5,1),2)+{1,2,3,4,5,6,7}+{0;1;2;3;4;5}*7,"")} | M5: 43497 | N5: 43498 | O5: 43499 | R5: {=IF(MONTH(DATE($O$1,BJ6,1)-WEEKDAY(DATE($O$1,BJ6,1),2)+{1,2,3,4,5,6,7}+{0;1;2;3;4;5}*7)=BJ6,DATE($O$1,BJ6,1)-WEEKDAY(DATE($O$1,BJ6,1),2)+{1,2,3,4,5,6,7}+{0;1;2;3;4;5}*7,"")} | V5: 43525 | W5: 43526 | X5: 43527 | Z5: {=IF(MONTH(DATE($O$1,BJ7,1)-WEEKDAY(DATE($O$1,BJ7,1),2)+{1,2,3,4,5,6,7}+{0;1;2;3;4;5}*7)=BJ7,DATE($O$1,BJ7,1)-WEEKDAY(DATE($O$1,BJ7,1),2)+{1,2,3,4,5,6,7}+{0;1;2;3;4;5}*7,"")} -> 43556 | AA5: 43557 | AB5: 43558 | AC5: 43559 | AD5: 43560 | AE5: 43561 | AF5: 43562 | BJ5: 2 | BK5: =IF(BP5="T",$BO$43,"") | BM5: =DATE(O1,1,1) -> 43466 | BN5: =SUM(H$33) -> 43162 | BO5: C
A6: 43472 | B6: 43473 | C6: 43474 | D6: 43475 | E6: 43476 | F6: 43477 | G6: 43478 | I6: 43500 | J6: 43501 | K6: 43502 | L6: 43503 | M6: 43504 | N6: 43505 | O6: 43506 | R6: 43528 | S6: 43529 | T6: 43530 | U6: 43531 | V6: 43532 | W6: 43533 | X6: 43534 | Z6: 43563 | AA6: 43564 | AB6: 43565 | AC6: 43566 | AD6: 43567 | AE6: 43568 | AF6: 43569 | BJ6: 3 | BK6: =IF(BP6="T",$BO$43,"") | BM6: =DATE(O1,5,1) -> 43586 | BN6: =SUM(K$33) -> 43194 | BO6: D
A7: 43479 | B7: 43480 | C7: 43481 | D7: 43482 | E7: 43483 | F7: 43484 | G7: 43485 | I7: 43507 | J7: 43508 | K7: 43509 | L7: 43510 | M7: 43511 | N7: 43512 | O7: 43513 | R7: 43535 | S7: 43536 | T7: 43537 | U7: 43538 | V7: 43539 | W7: 43540 | X7: 43541 | Z7: 43570 | AA7: 43571 | AB7: 43572 | AC7: 43573 | AD7: 43574 | AE7: 43575 | AF7: 43576 | BJ7: 4 | BK7: =IF(BP7="T",$BO$43,"") | BM7: =DATE(O1,5,8) -> 43593 | BN7: =SUM(N$33) -> 43225 | BO7: E
A8: 43486 | B8: 43487 | C8: 43488 | D8: 43489 | E8: 43490 | F8: 43491 | G8: 43492 | I8: 43514 | J8: 43515 | K8: 43516 | L8: 43517 | M8: 43518 | N8: 43519 | O8: 43520 | R8: 43542 | S8: 43543 | T8: 43544 | U8: 43545 | V8: 43546 | W8: 43547 | X8: 43548 | Z8: 43577 | AA8: 43578 | AB8: 43579 | AC8: 43580 | AD8: 43581 | AE8: 43582 | AF8: 43583 | BJ8: 5 | BK8: =IF(BP8="T",$BO$43,"") | BM8: =DATE(O1,7,14) -> 43660 | BN8: =SUM(R$33) -> 43257 | BO8: F
A9: 43493 | B9: 43494 | C9: 43495 | D9: 43496 | I9: 43521 | J9: 43522 | K9: 43523 | L9: 43524 | R9: 43549 | S9: 43550 | T9: 43551 | U9: 43552 | V9: 43553 | W9: 43554 | X9: 43555 | Z9: 43584 | AA9: 43585 | BJ9: 6 | BK9: =IF(BP9="T",$BO$43,"") | BM9: =DATE(O1,8,15) -> 43692 | BN9: =SUM(U$33) -> 43288 | BO9: G
BJ10: 7 | BK10: =IF(BP10="T",$BO$43,"") | BM10: =DATE(O1,11,1) -> 43770 | BN10: =SUM(X$33) -> 43320 | BO10: H
BK11: =IF(BP11="T",$BO$43,"") | BM11: =DATE(O1,11,11) -> 43780 | BN11: =SUM(AA$33) -> 43352 | BO11: I
A12: =PROPER(TEXT(DATE($O$1,BJ8,1),"mmmm aa")) -> Mai 19 | I12: =PROPER(TEXT(DATE($O$1,BJ9,1),"mmmm aa")) -> Juin 19 | R12: =PROPER(TEXT(DATE($O$1,BJ10,1),"mmmm aa")) -> Juillet 19 | Z12: =PROPER(TEXT(DATE($O$1,BJ12,1),"mmmm aa")) -> Août 19 | BJ12: 8 | BK12: =IF(BP12="T",$BO$43,"") | BM12: =DATE(O1,12,25) -> 43824 | BN12: =SUM(AD$33) -> 43383 | BO12: J
A13: L | B13: M | C13: M | D13: J | E13: V | F13: S | G13: D | I13: L | J13: M | K13: M | L13: J | M13: V | N13: S | O13: D | R13: L | S13: M | T13: M | U13: J | V13: V | W13: S | X13: D | Z13: L | AA13: M | AB13: M | AC13: J | AD13: V | AE13: S | AF13: D | BJ13: 10 | BK13: =IF(BP13="T",$BO$43,"") | BM13: =BM2+1 -> 43577
A14: {=IF(MONTH(DATE($O$1,BJ8,1)-WEEKDAY(DATE($O$1,BJ8,1),2)+{1,2,3,4,5,6,7}+{0;1;2;3;4;5}*7)=BJ8,DATE($O$1,BJ8,1)-WEEKDAY(DATE($O$1,BJ8,1),2)+{1,2,3,4,5,6,7}+{0;1;2;3;4;5}*7,"")} | C14: 43586 | D14: 43587 | E14: 43588 | F14: 43589 | G14: 43590 | I14: {=IF(MONTH(DATE($O$1,BJ9,1)-WEEKDAY(DATE($O$1,BJ9,1),2)+{1,2,3,4,5,6,7}+{0;1;2;3;4;5}*7)=BJ9,DATE($O$1,BJ9,1)-WEEKDAY(DATE($O$1,BJ9,1),2)+{1,2,3,4,5,6,7}+{0;1;2;3;4;5}*7,"")} | N14: 43617 | O14: 43618 | R14: {=IF(MONTH(DATE($O$1,BJ10,1)-WEEKDAY(DATE($O$1,BJ10,1),2)+{1,2,3,4,5,6,7}+{0;1;2;3;4;5}*7)=BJ10,DATE($O$1,BJ10,1)-WEEKDAY(DATE($O$1,BJ10,1),2)+{1,2,3,4,5,6,7}+{0;1;2;3;4;5}*7,"")} -> 43647 | S14: 43648 | T14: 43649 | U14: 43650 | V14: 43651 | W14: 43652 | X14: 43653 | Z14: {=IF(MONTH(DATE($O$1,BJ12,1)-WEEKDAY(DATE($O$1,BJ12,1),2)+{1,2,3,4,5,6,7}+{0;1;2;3;4;5}*7)=BJ12,DATE($O$1,BJ12,1)-WEEKDAY(DATE($O$1,BJ12,1),2)+{1,2,3,4,5,6,7}+{0;1;2;3;4;5}*7,"")} | AC14: 43678 | AD14: 43679 | AE14: 43680 | AF14: 43681 | BJ14: 11 | BK14: =IF(BP14="T",$BO$43,"") | BM14: =BM2+39 -> 43615
A15: 43591 | B15: 43592 | C15: 43593 | D15: 43594 | E15: 43595 | F15: 43596 | G15: 43597 | I15: 43619 | J15: 43620 | K15: 43621 | L15: 43622 | M15: 43623 | N15: 43624 | O15: 43625 | R15: 43654 | S15: 43655 | T15: 43656 | U15: 43657 | V15: 43658 | W15: 43659 | X15: 43660 | Z15: 43682 | AA15: 43683 | AB15: 43684 | AC15: 43685 | AD15: 43686 | AE15: 43687 | AF15: 43688 | BJ15: 12 | BK15: =IF(BP15="T",$BO$43,"") | BM15: =BM2+50 -> 43626 | BN15: LES DATES | BO15: LES CROSS
A16: 43598 | B16: 43599 | C16: 43600 | D16: 43601 | E16: 43602 | F16: 43603 | G16: 43604 | I16: 43626 | J16: 43627 | K16: 43628 | L16: 43629 | M16: 43630 | N16: 43631 | O16: 43632 | R16: 43661 | S16: 43662 | T16: 43663 | U16: 43664 | V16: 43665 | W16: 43666 | X16: 43667 | Z16: 43689 | AA16: 43690 | AB16: 43691 | AC16: 43692 | AD16: 43693 | AE16: 43694 | AF16: 43695 | BJ16: 9 | BK16: =IF(BP16="T",$BO$43,"")
A17: 43605 | B17: 43606 | C17: 43607 | D17: 43608 | E17: 43609 | F17: 43610 | G17: 43611 | I17: 43633 | J17: 43634 | K17: 43635 | L17: 43636 | M17: 43637 | N17: 43638 | O17: 43639 | R17: 43668 | S17: 43669 | T17: 43670 | U17: 43671 | V17: 43672 | W17: 43673 | X17: 43674 | Z17: 43696 | AA17: 43697 | AB17: 43698 | AC17: 43699 | AD17: 43700 | AE17: 43701 | AF17: 43702 | BK17: =IF(BP17="T",$BO$43,"")
A18: 43612 | B18: 43613 | C18: 43614 | D18: 43615 | E18: 43616 | I18: 43640 | J18: 43641 | K18: 43642 | L18: 43643 | M18: 43644 | N18: 43645 | O18: 43646 | R18: 43675 | S18: 43676 | T18: 43677 | Z18: 43703 | AA18: 43704 | AB18: 43705 | AC18: 43706 | AD18: 43707 | AE18: 43708 | BJ18: 2000 | BK18: =IF(BP18="T",$BO$43,"") | BN18: =SUM(B$38) -> 43478 | BO18: DÉPARTEMENTAUX DE CROSS
BJ19: 2001 | BK19: =IF(BP19="T",$BO$43,"") | BN19: =SUM(E$38) -> 43498 | BO19: Maison-Alfort
BJ20: 2002 | BK20: =IF(BP20="T",$BO$43,"") | BN20: =SUM(H$38) -> 43527 | BO20: CC
A21: =PROPER(TEXT(DATE($O$1,BJ16,1),"mmmm aa")) -> Septembre 19 | I21: =PROPER(TEXT(DATE($O$1,BJ13,1),"mmmm aa")) -> Octobre 19 | R21: =PROPER(TEXT(DATE($O$1,BJ14,1),"mmmm aa")) -> Novembre 19 | Z21: =PROPER(TEXT(DATE($O$1,BJ15,1),"mmmm aa")) -> Décembre 19 | BJ21: 2003 | BK21: =IF(BP21="T",$BO$43,"") | BN21: =SUM(K$38) -> 43559 | BO21: DD
A22: L | B22: M | C22: M | D22: J | E22: V | F22: S | G22: D | I22: L | J22: M | K22: M | L22: J | M22: V | N22: S | O22: D | R22: L | S22: M | T22: M | U22: J | V22: V | W22: S | X22: D | Z22: L | AA22: M | AB22: M | AC22: J | AD22: V | AE22: S | AF22: D | BJ22: 2004 | BK22: =IF(BP22="T",$BO$43,"") | BN22: =SUM(N$38) -> 43590 | BO22: EE
A23: {=IF(MONTH(DATE($O$1,BJ16,1)-WEEKDAY(DATE($O$1,BJ16,1),2)+{1,2,3,4,5,6,7}+{0;1;2;3;4;5}*7)=BJ16,DATE($O$1,BJ16,1)-WEEKDAY(DATE($O$1,BJ16,1),2)+{1,2,3,4,5,6,7}+{0;1;2;3;4;5}*7,"")} | G23: 43709 | I23: {=IF(MONTH(DATE($O$1,BJ13,1)-WEEKDAY(DATE($O$1,BJ13,1),2)+{1,2,3,4,5,6,7}+{0;1;2;3;4;5}*7)=BJ13,DATE($O$1,BJ13,1)-WEEKDAY(DATE($O$1,BJ13,1),2)+{1,2,3,4,5,6,7}+{0;1;2;3;4;5}*7,"")} | J23: 43739 | K23: 43740 | L23: 43741 | M23: 43742 | N23: 43743 | O23: 43744 | R23: {=IF(MONTH(DATE($O$1,BJ14,1)-WEEKDAY(DATE($O$1,BJ14,1),2)+{1,2,3,4,5,6,7}+{0;1;2;3;4;5}*7)=BJ14,DATE($O$1,BJ14,1)-WEEKDAY(DATE($O$1,BJ14,1),2)+{1,2,3,4,5,6,7}+{0;1;2;3;4;5}*7,"")} | V23: 43770 | W23: 43771 | X23: 43772 | Z23: {=IF(MONTH(DATE($O$1,BJ15,1)-WEEKDAY(DATE($O$1,BJ15,1),2)+{1,2,3,4,5,6,7}+{0;1;2;3;4;5}*7)=BJ15,DATE($O$1,BJ15,1)-WEEKDAY(DATE($O$1,BJ15,1),2)+{1,2,3,4,5,6,7}+{0;1;2;3;4;5}*7,"")} | AF23: 43800 | BJ23: 2005 | BK23: =IF(BP23="T",$BO$43,"") | BN23: =SUM(R$38) -> 43622 | BO23: FF
A24: 43710 | B24: 43711 | C24: 43712 | D24: 43713 | E24: 43714 | F24: 43715 | G24: 43716 | I24: 43745 | J24: 43746 | K24: 43747 | L24: 43748 | M24: 43749 | N24: 43750 | O24: 43751 | R24: 43773 | S24: 43774 | T24: 43775 | U24: 43776 | V24: 43777 | W24: 43778 | X24: 43779 | Z24: 43801 | AA24: 43802 | AB24: 43803 | AC24: 43804 | AD24: 43805 | AE24: 43806 | AF24: 43807 | BJ24: 2006 | BK24: =IF(BP24="T",$BO$43,"") | BN24: =SUM(U$38) -> 43653 | BO24: GG
A25: 43717 | B25: 43718 | C25: 43719 | D25: 43720 | E25: 43721 | F25: 43722 | G25: 43723 | I25: 43752 | J25: 43753 | K25: 43754 | L25: 43755 | M25: 43756 | N25: 43757 | O25: 43758 | R25: 43780 | S25: 43781 | T25: 43782 | U25: 43783 | V25: 43784 | W25: 43785 | X25: 43786 | Z25: 43808 | AA25: 43809 | AB25: 43810 | AC25: 43811 | AD25: 43812 | AE25: 43813 | AF25: 43814 | BJ25: 2007 | BK25: =IF(BP25="T",$BO$43,"") | BN25: =SUM(X$38) -> 43685 | BO25: HH
A26: 43724 | B26: 43725 | C26: 43726 | D26: 43727 | E26: 43728 | F26: 43729 | G26: 43730 | I26: 43759 | J26: 43760 | K26: 43761 | L26: 43762 | M26: 43763 | N26: 43764 | O26: 43765 | R26: 43787 | S26: 43788 | T26: 43789 | U26: 43790 | V26: 43791 | W26: 43792 | X26: 43793 | Z26: 43815 | AA26: 43816 | AB26: 43817 | AC26: 43818 | AD26: 43819 | AE26: 43820 | AF26: 43821 | BJ26: 2008 | BK26: =IF(BP26="T",$BO$43,"") | BN26: =SUM(AA$38) -> 43717 | BO26: II
A27: 43731 | B27: 43732 | C27: 43733 | D27: 43734 | E27: 43735 | F27: 43736 | G27: 43737 | I27: 43766 | J27: 43767 | K27: 43768 | L27: 43769 | R27: 43794 | S27: 43795 | T27: 43796 | U27: 43797 | V27: 43798 | W27: 43799 | Z27: 43822 | AA27: 43823 | AB27: 43824 | AC27: 43825 | AD27: 43826 | AE27: 43827 | AF27: 43828 | BJ27: 2009 | BK27: =IF(BP27="T",$BO$43,"") | BN27: =SUM(AD$38) -> 43748 | BO27: JJ
A28: 43738 | Z28: 43829 | AA28: 43830 | BJ28: 2010 | BK28: =IF(BP28="T",$BO$43,"")
BJ29: 2011 | BK29: =IF(BP29="T",$BO$43,"")
I30: =BO1 -> LES CHAMPIONNATS | BJ30: 2012 | BK30: =IF(BP30="T",$BO$43,"")
BJ31: 2013 | BK31: =IF(BP31="T",$BO$43,"")
BJ32: 2014 | BK32: =IF(BP32="T",$BO$43,"")
B33: 43101 | E33: 43133 | H33: 43162 | K33: 43194 | N33: 43225 | R33: 43257 | U33: 43288 | X33: 43320 | AA33: 43352 | AD33: 43383 | BJ33: 2015 | BK33: =IF(BP33="T",$BO$43,"")
BJ34: 2016
I35: =BO15 -> LES CROSS | BJ35: 2017
BJ36: 2018
BJ37: 2019
B38: 43478 | E38: 43498 | H38: 43527 | K38: 43559 | N38: 43590 | R38: 43622 | U38: 43653 | X38: 43685 | AA38: 43717 | AD38: 43748 | BJ38: 2020
B39: 2700 | E39: 2800 | H39: 2300 | K39: 2400 | N39: 2500 | R39: 2600 | U39: 2700 | X39: 2800 | AA39: 2900 | AD39: 3000 | BJ39: 2021
B40: 2300 | E40: 2800 | H40: 2300 | K40: 2400 | N40: 2500 | R40: 2600 | U40: 2700 | X40: 2800 | AA40: 2900 | AD40: 3000 | BJ40: 2022
BJ41: 2023
BJ42: 2024
BJ43: 2025
BJ44: 2026
BJ45: 2027
BJ46: 2028
BJ47: 2029
BJ48: 2030
BJ49: 2031
BJ50: 2032
BJ51: 2033
BJ52: 2034
... BJ75: 2057

Sheet Championnats
B1: =(Calendrier!O1) -> 2019 | D1: BASE ATHLÈTES | J1: BLOCS NOTES | O1: STATISTIQUES | T1: CALENDRIER | Y1: =D6<>$AE$2 MFC POUR EFFACER LE NOM SI PAS COMP A VOIR | Z1: US CRÉTEIL | AC1: femme | AD1: ♀ | AF1: =COUNTA(D4:X4) -> 2 | AH1: 19 | DO1: =Calendrier!$I$35 -> LES CROSS
B2: ATHLÈTES | C2: Prénom | D2: Présent | E2: Licence | F2: 50m | G2: 100m | H2: 50H | I2: 80H | J2: 100H | K2: 200H | L2: 1000 | M2: 2000 | N2: 3000 | O2: 2000m | P2: 3000m | Q2: Haut. | R2: Lg | S2: Prch | T2: Tpl | U2: Jav. | V2: Disq. | W2: Pds | X2: Mart. | AC2: homme | AD2: ♂ | AE2: X | AF2: 1 | AM2: femmes | AO2: hommes | AQ2: femmes | AS2: hommes | AU2: femmes | AW2: hommes | AY2: femmes | BA2: hommes | BC2: femmes | BE2: hommes | BG2: femmes | BI2: hommes | BK2: femmes | BM2: hommes | BO2: femmes | BQ2: hommes | BS2: femmes | BU2: hommes | BW2: femmes | BY2: hommes | CA2: femmes | CC2: hommes | CE2: femmes | CG2: hommes | CI2: femmes | CK2: hommes | CL2: femmes | CN2: hommes | CP2: femmes | CR2: hommes | CT2: femmes | CV2: hommes | CX2: femmes | CY2: hommes | DA2: femmes | DC2: hommes | DE2: femmes | DG2: hommes | DM2: =CROSS!$B$3 -> 43478 | DN2: =CROSS!#REF! -> #REF! | DO2: =CROSS!#REF! -> #REF! | DP2: =CROSS!#REF! -> #REF! | DQ2: =CROSS!#REF! -> #REF! | DR2: =CROSS!#REF! -> #REF! | DS2: =CROSS!#REF! -> #REF! | DT2: =CROSS!#REF! -> #REF! | DU2: =CROSS!#REF! -> #REF! | DV2: =CROSS!#REF! -> #REF!
B3: =Calendrier!$B33 -> 43101 | C3: =COUNTIF(D4:D53,$AE$2) -> 1 | F3: =Calendrier!BO3 -> Championnats départementaux à Maisons-Alfort | AO3: 50m | AS3: 100 | AW3: 50h | BA3: 80h | BE3: 100h | BI3: 200H | BM3: 1000 | BQ3: 2000 | BU3: 3000 | BY3: 2000M | CC3: 3000M | CG3: HAUT | CK3: LG | CN3: PERC | CR3: TRP | CV3: JAV | CY3: DISQ | DC3: POIDS | DG3: MART
A4: 1 | B4: =(ATHLÈTES!$A$2&" "&ATHLÈTES!$B$2) -> AAA LUC | C4: =ATHLÈTES!B2 -> LUC | D4: =IF(AD4<>$AE$1,$AE$2,"") | E4: =ATHLÈTES!D2 -> 409092 | Y4: =IF(C4<>"",VLOOKUP(C4,#REF!,2,FALSE),"") -> #REF! | Z4: =IF(B4<>"",$Z$1,"") -> US CRÉTEIL | AA4: =(D4) | AB4: =IF(Y4="femme",$AD$1,$AD$2) -> #REF! | AC4: =(B4&" "&C4) -> AAA LUC LUC | AD4: =COUNTA(F4:X4) -> 0 | AE4: 94000 | AF4: =IF(AE4<>"",VLOOKUP(AE4,#REF!,2,FALSE),"") -> #REF! | AG4: 2018 | AH4: =(AH5-1) -> 1952 | AI4: MASTERS | AK4: MASTERS | AM4: =IF($Y4=$AC$1,#REF!,$AI$1) -> #REF! | AO4: =IF($Y4=$AC$2,#REF!,$AI$1) -> #REF! | AQ4: =IF($Y4=$AC$1,#REF!,$AI$1) -> #REF! | AS4: =IF($Y4=$AC$2,#REF!,$AI$1) -> #REF! | AU4: =IF($Y4=$AC$1,#REF!,$AI$1) -> #REF! | AW4: =IF($Y4=$AC$2,#REF!,$AI$1) -> #REF! | AY4: =IF($Y4=$AC$1,#REF!,$AI$1) -> #REF! | BA4: =IF($Y4=$AC$2,#REF!,$AI$1) -> #REF! | BC4: =IF($Y4=$AC$1,#REF!,$AI$1) -> #REF! | BE4: =IF($Y4=$AC$2,#REF!,$AI$1) -> #REF! | BG4: =IF($Y4=$AC$1,#REF!,$AI$1) -> #REF! | BI4: =IF($Y4=$AC$2,#REF!,$AI$1) -> #REF! | BK4: =IF($Y4=$AC$1,#REF!,$AI$1) -> #REF! | BM4: =IF($Y4=$AC$2,#REF!,$AI$1) -> #REF! | BO4: =IF($Y4=$AC$1,#REF!,$AI$1) -> #REF! | BQ4: =IF($Y4=$AC$2,#REF!,$AI$1) -> #REF! | BS4: =IF($Y4=$AC$1,#REF!,$AI$1) -> #REF! | BU4: =IF($Y4=$AC$2,#REF!,$AI$1) -> #REF! | BW4: =IF($Y4=$AC$1,#REF!,$AI$1) -> #REF! | BY4: =IF($Y4=$AC$2,#REF!,$AI$1) -> #REF! | CA4: =IF($Y4=$AC$1,#REF!,$AI$1) -> #REF! | CC4: =IF($Y4=$AC$2,#REF!,$AI$1) -> #REF! | CE4: =IF($Y4=$AC$1,#REF!,$AI$1) -> #REF! | CG4: =IF($Y4=$AC$2,#REF!,$AI$1) -> #REF! | CI4: =IF($Y4=$AC$1,#REF!,$AI$1) -> #REF! | CK4: =IF($Y4=$AC$2,#REF!,$AI$1) -> #REF! | CL4: =IF($Y4=$AC$1,#REF!,$AI$1) -> #REF! | CN4: =IF($Y4=$AC$2,#REF!,$AI$1) -> #REF! | CP4: =IF($Y4=$AC$1,#REF!,$AI$1) -> #REF! | CR4: =IF($Y4=$AC$2,#REF!,$AI$1) -> #REF! | CT4: =IF($Y4=$AC$1,#REF!,$AI$1) -> #REF! | CV4: =IF($Y4=$AC$2,#REF!,$AI$1) -> #REF! | CX4: =IF($Y4=$AC$1,#REF!,$AI$1) -> #REF! | CY4: =IF($Y4=$AC$2,#REF!,$AI$1) -> #REF! | DA4: =IF($Y4=$AC$1,#REF!,$AI$1) -> #REF! | DC4: =IF($Y4=$AC$2,#REF!,$AI$1) -> #REF! | DE4: =IF($Y4=$AC$1,#REF!,$AI$1) -> #REF! | DG4: =IF($Y4=$AC$2,#REF!,$AI$1) -> #REF!
A5: 2 | B5: =(ATHLÈTES!$A$3&" "&ATHLÈTES!$B$3) -> BBB isabelle | C5: =ATHLÈTES!B3 -> isabelle | D5: =IF(AD5<>$AE$1,$AE$2,"") | E5: =ATHLÈTES!D3 -> 707564 | Y5: =IF(C5<>"",VLOOKUP(C5,#REF!,2,FALSE),"") -> #REF! | Z5: =IF(B5<>"",$Z$1,"") -> US CRÉTEIL | AA5: =(D5) | AB5: =IF(Y5="femme",$AD$1,$AD$2) -> #REF! | AC5: =(B5&" "&C5) -> BBB isabelle isabelle | AD5: =COUNTA(F5:X5) -> 0 | AE5: 94140 | AF5: =IF(AE5<>"",VLOOKUP(AE5,#REF!,2,FALSE),"") -> #REF! | AG5: 2019 | AH5: =(AH6-1) -> 1953 | AI5: MASTERS | AK5: SENIORS | AM5: =IF($Y5=$AC$1,#REF!,$AI$1) -> #REF! | AO5: =IF($Y5=$AC$2,#REF!,$AI$1) -> #REF! | AQ5: =IF($Y5=$AC$1,#REF!,$AI$1) -> #REF! | AS5: =IF($Y5=$AC$2,#REF!,$AI$1) -> #REF! | AU5: =IF($Y5=$AC$1,#REF!,$AI$1) -> #REF! | AW5: =IF($Y5=$AC$2,#REF!,$AI$1) -> #REF! | AY5: =IF($Y5=$AC$1,#REF!,$AI$1) -> #REF! | BA5: =IF($Y5=$AC$2,#REF!,$AI$1) -> #REF! | BC5: =IF($Y5=$AC$1,#REF!,$AI$1) -> #REF! | BE5: =IF($Y5=$AC$2,#REF!,$AI$1) -> #REF! | BG5: =IF($Y5=$AC$1,#REF!,$AI$1) -> #REF! | BI5: =IF($Y5=$AC$2,#REF!,$AI$1) -> #REF! | BK5: =IF($Y5=$AC$1,#REF!,$AI$1) -> #REF! | BM5: =IF($Y5=$AC$2,#REF!,$AI$1) -> #REF! | BO5: =IF($Y5=$AC$1,#REF!,$AI$1) -> #REF! | BQ5: =IF($Y5=$AC$2,#REF!,$AI$1) -> #REF! | BS5: =IF($Y5=$AC$1,#REF!,$AI$1) -> #REF! | BU5: =IF($Y5=$AC$2,#REF!,$AI$1) -> #REF! | BW5: =IF($Y5=$AC$1,#REF!,$AI$1) -> #REF! | BY5: =IF($Y5=$AC$2,#REF!,$AI$1) -> #REF! | CA5: =IF($Y5=$AC$1,#REF!,$AI$1) -> #REF! | CC5: =IF($Y5=$AC$2,#REF!,$AI$1) -> #REF! | CE5: =IF($Y5=$AC$1,#REF!,$AI$1) -> #REF! | CG5: =IF($Y5=$AC$2,#REF!,$AI$1) -> #REF! | CI5: =IF($Y5=$AC$1,#REF!,$AI$1) -> #REF! | CK5: =IF($Y5=$AC$2,#REF!,$AI$1) -> #REF! | CL5: =IF($Y5=$AC$1,#REF!,$AI$1) -> #REF! | CN5: =IF($Y5=$AC$2,#REF!,$AI$1) -> #REF! | CP5: =IF($Y5=$AC$1,#REF!,$AI$1) -> #REF! | CR5: =IF($Y5=$AC$2,#REF!,$AI$1) -> #REF! | CT5: =IF($Y5=$AC$1,#REF!,$AI$1) -> #REF! | CV5: =IF($Y5=$AC$2,#REF!,$AI$1) -> #REF! | CX5: =IF($Y5=$AC$1,#REF!,$AI$1) -> #REF! | CY5: =IF($Y5=$AC$2,#REF!,$AI$1) -> #REF! | DA5: =IF($Y5=$AC$1,#REF!,$AI$1) -> #REF! | DC5: =IF($Y5=$AC$2,#REF!,$AI$1) -> #REF! | DE5: =IF($Y5=$AC$1,#REF!,$AI$1) -> #REF! | DG5: =IF($Y5=$AC$2,#REF!,$AI$1) -> #REF!
A6: 3 | B6: =(ATHLÈTES!$A$4&" "&ATHLÈTES!$B$4) -> KJKLJDFKJG Agathe | C6: =ATHLÈTES!B4 -> Agathe | D6: =IF(AD6<>$AE$1,$AE$2,"") | E6: =ATHLÈTES!D4 -> 1467847 | Y6: =IF(C6<>"",VLOOKUP(C6,#REF!,2,FALSE),"") -> #REF! | Z6: =IF(B6<>"",$Z$1,"") -> US CRÉTEIL | AA6: =(D6) | AB6: =IF(Y6="femme",$AD$1,$AD$2) -> #REF! | AC6: =(B6&" "&C6) -> KJKLJDFKJG Agathe Agathe | AD6: =COUNTA(F6:X6) -> 0 | AE6: 94120 | AF6: =IF(AE6<>"",VLOOKUP(AE6,#REF!,2,FALSE),"") -> #REF! | AG6: 2020 | AH6: =(AH7-1) -> 1954 | AI6: MASTERS | AK6: ESPOIRS | AM6: =IF($Y6=$AC$1,#REF!,$AI$1) -> #REF! | AO6: =IF($Y6=$AC$2,#REF!,$AI$1) -> #REF! | AQ6: =IF($Y6=$AC$1,#REF!,$AI$1) -> #REF! | AS6: =IF($Y6=$AC$2,#REF!,$AI$1) -> #REF! | AU6: =IF($Y6=$AC$1,#REF!,$AI$1) -> #REF! | AW6: =IF($Y6=$AC$2,#REF!,$AI$1) -> #REF! | AY6: =IF($Y6=$AC$1,#REF!,$AI$1) -> #REF! | BA6: =IF($Y6=$AC$2,#REF!,$AI$1) -> #REF! | BC6: =IF($Y6=$AC$1,#REF!,$AI$1) -> #REF! | BE6: =IF($Y6=$AC$2,#REF!,$AI$1) -> #REF! | BG6: =IF($Y6=$AC$1,#REF!,$AI$1) -> #REF! | BI6: =IF($Y6=$AC$2,#REF!,$AI$1) -> #REF! | BK6: =IF($Y6=$AC$1,#REF!,$AI$1) -> #REF! | BM6: =IF($Y6=$AC$2,#REF!,$AI$1) -> #REF! | BO6: =IF($Y6=$AC$1,#REF!,$AI$1) -> #REF! | BQ6: =IF($Y6=$AC$2,#REF!,$AI$1) -> #REF! | BS6: =IF($Y6=$AC$1,#REF!,$AI$1) -> #REF! | BU6: =IF($Y6=$AC$2,#REF!,$AI$1) -> #REF! | BW6: =IF($Y6=$AC$1,#REF!,$AI$1) -> #REF! | BY6: =IF($Y6=$AC$2,#REF!,$AI$1) -> #REF! | CA6: =IF($Y6=$AC$1,#REF!,$AI$1) -> #REF! | CC6: =IF($Y6=$AC$2,#REF!,$AI$1) -> #REF! | CE6: =IF($Y6=$AC$1,#REF!,$AI$1) -> #REF! | CG6: =IF($Y6=$AC$2,#REF!,$AI$1) -> #REF! | CI6: =IF($Y6=$AC$1,#REF!,$AI$1) -> #REF! | CK6: =IF($Y6=$AC$2,#REF!,$AI$1) -> #REF! | CL6: =IF($Y6=$AC$1,#REF!,$AI$1) -> #REF! | CN6: =IF($Y6=$AC$2,#REF!,$AI$1) -> #REF! | CP6: =IF($Y6=$AC$1,#REF!,$AI$1) -> #REF! | CR6: =IF($Y6=$AC$2,#REF!,$AI$1) -> #REF! | CT6: =IF($Y6=$AC$1,#REF!,$AI$1) -> #REF! | CV6: =IF($Y6=$AC$2,#REF!,$AI$1) -> #REF! | CX6: =IF($Y6=$AC$1,#REF!,$AI$1) -> #REF! | CY6: =IF($Y6=$AC$2,#REF!,$AI$1) -> #REF! | DA6: =IF($Y6=$AC$1,#REF!,$AI$1) -> #REF! | DC6: =IF($Y6=$AC$2,#REF!,$AI$1) -> #REF! | DE6: =IF($Y6=$AC$1,#REF!,$AI$1) -> #REF! | DG6: =IF($Y6=$AC$2,#REF!,$AI$1) -> #REF!
A7: 4 | B7: =(ATHLÈTES!$A$5&" "&ATHLÈTES!$B$5) -> DDD Léa | C7: =ATHLÈTES!B5 -> Léa | D7: =IF(AD7<>$AE$1,$AE$2,"") | E7: =ATHLÈTES!D5 -> 1263818 | Y7: =IF(C7<>"",VLOOKUP(C7,#REF!,2,FALSE),"") -> #REF! | Z7: =IF(B7<>"",$Z$1,"") -> US CRÉTEIL | AA7: =(D7) | AB7: =IF(Y7="femme",$AD$1,$AD$2) -> #REF! | AC7: =(B7&" "&C7) -> DDD Léa Léa | AD7: =COUNTA(F7:X7) -> 0 | AE7: 89100 | AF7: =IF(AE7<>"",VLOOKUP(AE7,#REF!,2,FALSE),"") -> #REF! | AG7: 2021 | AH7: =(AH8-1) -> 1955 | AI7: MASTERS | AK7: JUNIORS | AM7: =IF($Y7=$AC$1,#REF!,$AI$1) -> #REF! | AO7: =IF($Y7=$AC$2,#REF!,$AI$1) -> #REF! | AQ7: =IF($Y7=$AC$1,#REF!,$AI$1) -> #REF! | AS7: =IF($Y7=$AC$2,#REF!,$AI$1) -> #REF! | AU7: =IF($Y7=$AC$1,#REF!,$AI$1) -> #REF! | AW7: =IF($Y7=$AC$2,#REF!,$AI$1) -> #REF! | AY7: =IF($Y7=$AC$1,#REF!,$AI$1) -> #REF! | BA7: =IF($Y7=$AC$2,#REF!,$AI$1) -> #REF! | BC7: =IF($Y7=$AC$1,#REF!,$AI$1) -> #REF! | BE7: =IF($Y7=$AC$2,#REF!,$AI$1) -> #REF! | BG7: =IF($Y7=$AC$1,#REF!,$AI$1) -> #REF! | BI7: =IF($Y7=$AC$2,#REF!,$AI$1) -> #REF! | BK7: =IF($Y7=$AC$1,#REF!,$AI$1) -> #REF! | BM7: =IF($Y7=$AC$2,#REF!,$AI$1) -> #REF! | BO7: =IF($Y7=$AC$1,#REF!,$AI$1) -> #REF! | BQ7: =IF($Y7=$AC$2,#REF!,$AI$1) -> #REF! | BS7: =IF($Y7=$AC$1,#REF!,$AI$1) -> #REF! | BU7: =IF($Y7=$AC$2,#REF!,$AI$1) -> #REF! | BW7: =IF($Y7=$AC$1,#REF!,$AI$1) -> #REF! | BY7: =IF($Y7=$AC$2,#REF!,$AI$1) -> #REF! | CA7: =IF($Y7=$AC$1,#REF!,$AI$1) -> #REF! | CC7: =IF($Y7=$AC$2,#REF!,$AI$1) -> #REF! | CE7: =IF($Y7=$AC$1,#REF!,$AI$1) -> #REF! | CG7: =IF($Y7=$AC$2,#REF!,$AI$1) -> #REF! | CI7: =IF($Y7=$AC$1,#REF!,$AI$1) -> #REF! | CK7: =IF($Y7=$AC$2,#REF!,$AI$1) -> #REF! | CL7: =IF($Y7=$AC$1,#REF!,$AI$1) -> #REF! | CN7: =IF($Y7=$AC$2,#REF!,$AI$1) -> #REF! | CP7: =IF($Y7=$AC$1,#REF!,$AI$1) -> #REF! | CR7: =IF($Y7=$AC$2,#REF!,$AI$1) -> #REF! | CT7: =IF($Y7=$AC$1,#REF!,$AI$1) -> #REF! | CV7: =IF($Y7=$AC$2,#REF!,$AI$1) -> #REF! | CX7: =IF($Y7=$AC$1,#REF!,$AI$1) -> #REF! | CY7: =IF($Y7=$AC$2,#REF!,$AI$1) -> #REF! | DA7: =IF($Y7=$AC$1,#REF!,$AI$1) -> #REF! | DC7: =IF($Y7=$AC$2,#REF!,$AI$1) -> #REF! | DE7: =IF($Y7=$AC$1,#REF!,$AI$1) -> #REF! | DG7: =IF($Y7=$AC$2,#REF!,$AI$1) -> #REF!
A8: 5 | B8: =(ATHLÈTES!$A$6&" "&ATHLÈTES!$B$6) -> KUYFRJGF Mélissa | C8: =ATHLÈTES!B6 -> Mélissa | D8: =IF(AD8<>$AE$1,$AE$2,"") | E8: =ATHLÈTES!D6 -> 1499588 | Y8: =IF(C8<>"",VLOOKUP(C8,#REF!,2,FALSE),"") -> #REF! | Z8: =IF(B8<>"",$Z$1,"") -> US CRÉTEIL | AA8: =(D8) | AB8: =IF(Y8="femme",$AD$1,$AD$2) -> #REF! | AC8: =(B8&" "&C8) -> KUYFRJGF Mélissa Mélissa | AD8: =COUNTA(F8:X8) -> 0 | AF8: =IF(AE8<>"",VLOOKUP(AE8,#REF!,2,FALSE),"") | AG8: 2022 | AH8: =(AH9-1) -> 1956 | AI8: MASTERS | AK8: CADETS | AM8: =IF($Y8=$AC$1,#REF!,$AI$1) -> #REF! | AO8: =IF($Y8=$AC$2,#REF!,$AI$1) -> #REF! | AQ8: =IF($Y8=$AC$1,#REF!,$AI$1) -> #REF! | AS8: =IF($Y8=$AC$2,#REF!,$AI$1) -> #REF! | AU8: =IF($Y8=$AC$1,#REF!,$AI$1) -> #REF! | AW8: =IF($Y8=$AC$2,#REF!,$AI$1) -> #REF! | AY8: =IF($Y8=$AC$1,#REF!,$AI$1) -> #REF! | BA8: =IF($Y8=$AC$2,#REF!,$AI$1) -> #REF! | BC8: =IF($Y8=$AC$1,#REF!,$AI$1) -> #REF! | BE8: =IF($Y8=$AC$2,#REF!,$AI$1) -> #REF! | BG8: =IF($Y8=$AC$1,#REF!,$AI$1) -> #REF! | BI8: =IF($Y8=$AC$2,#REF!,$AI$1) -> #REF! | BK8: =IF($Y8=$AC$1,#REF!,$AI$1) -> #REF! | BM8: =IF($Y8=$AC$2,#REF!,$AI$1) -> #REF! | BO8: =IF($Y8=$AC$1,#REF!,$AI$1) -> #REF! | BQ8: =IF($Y8=$AC$2,#REF!,$AI$1) -> #REF! | BS8: =IF($Y8=$AC$1,#REF!,$AI$1) -> #REF! | BU8: =IF($Y8=$AC$2,#REF!,$AI$1) -> #REF! | BW8: =IF($Y8=$AC$1,#REF!,$AI$1) -> #REF! | BY8: =IF($Y8=$AC$2,#REF!,$AI$1) -> #REF! | CA8: =IF($Y8=$AC$1,#REF!,$AI$1) -> #REF! | CC8: =IF($Y8=$AC$2,#REF!,$AI$1) -> #REF! | CE8: =IF($Y8=$AC$1,#REF!,$AI$1) -> #REF! | CG8: =IF($Y8=$AC$2,#REF!,$AI$1) -> #REF! | CI8: =IF($Y8=$AC$1,#REF!,$AI$1) -> #REF! | CK8: =IF($Y8=$AC$2,#REF!,$AI$1) -> #REF! | CL8: =IF($Y8=$AC$1,#REF!,$AI$1) -> #REF! | CN8: =IF($Y8=$AC$2,#REF!,$AI$1) -> #REF! | CP8: =IF($Y8=$AC$1,#REF!,$AI$1) -> #REF! | CR8: =IF($Y8=$AC$2,#REF!,$AI$1) -> #REF! | CT8: =IF($Y8=$AC$1,#REF!,$AI$1) -> #REF! | CV8: =IF($Y8=$AC$2,#REF!,$AI$1) -> #REF! | CX8: =IF($Y8=$AC$1,#REF!,$AI$1) -> #REF! | CY8: =IF($Y8=$AC$2,#REF!,$AI$1) -> #REF! | DA8: =IF($Y8=$AC$1,#REF!,$AI$1) -> #REF! | DC8: =IF($Y8=$AC$2,#REF!,$AI$1) -> #REF! | DE8: =IF($Y8=$AC$1,#REF!,$AI$1) -> #REF! | DG8: =IF($Y8=$AC$2,#REF!,$AI$1) -> #REF!
A9: 6 | B9: =(ATHLÈTES!A7&" "&ATHLÈTES!B7) -> FFF Eric | C9: =ATHLÈTES!B7 -> Eric | D9: =IF(AD9<>$AE$1,$AE$2,"") | E9: =ATHLÈTES!D7 -> 1499669 | Y9: =IF(C9<>"",VLOOKUP(C9,#REF!,2,FALSE),"") -> #REF! | Z9: =IF(B9<>"",$Z$1,"") -> US CRÉTEIL | AA9: =(D9) | AB9: =IF(Y9="femme",$AD$1,$AD$2) -> #REF! | AC9: =(B9&" "&C9) -> FFF Eric Eric | AD9: =COUNTA(F9:X9) -> 0 | AF9: =IF(AE9<>"",VLOOKUP(AE9,#REF!,2,FALSE),"") | AG9: 2023 | AH9: =(AH10-1) -> 1957 | AI9: MASTERS | AK9: MINIMES | AM9: =IF($Y9=$AC$1,F9,$AI$1) -> #REF! | AO9: =IF($Y9=$AC$2,F9,$AI$1) -> #REF! | AQ9: =IF($Y9=$AC$1,G9,$AI$1) -> #REF! | AS9: =IF($Y9=$AC$2,G9,$AI$1) -> #REF! | AU9: =IF($Y9=$AC$1,H9,$AI$1) -> #REF! | AW9: =IF($Y9=$AC$2,H9,$AI$1) -> #REF! | AY9: =IF($Y9=$AC$1,I9,$AI$1) -> #REF! | BA9: =IF($Y9=$AC$2,I9,$AI$1) -> #REF! | BC9: =IF($Y9=$AC$1,J9,$AI$1) -> #REF! | BE9: =IF($Y9=$AC$2,J9,$AI$1) -> #REF! | BG9: =IF($Y9=$AC$1,K9,$AI$1) -> #REF! | BI9: =IF($Y9=$AC$2,K9,$AI$1) -> #REF! | BK9: =IF($Y9=$AC$1,L9,$AI$1) -> #REF! | BM9: =IF($Y9=$AC$2,L9,$AI$1) -> #REF! | BO9: =IF($Y9=$AC$1,M9,$AI$1) -> #REF! | BQ9: =IF($Y9=$AC$2,M9,$AI$1) -> #REF! | BS9: =IF($Y9=$AC$1,N9,$AI$1) -> #REF! | BU9: =IF($Y9=$AC$2,N9,$AI$1) -> #REF! | BW9: =IF($Y9=$AC$1,O9,$AI$1) -> #REF! | BY9: =IF($Y9=$AC$2,O9,$AI$1) -> #REF! | CA9: =IF($Y9=$AC$1,O9,$AI$1) -> #REF! | CC9: =IF($Y9=$AC$2,P9,$AI$1) -> #REF! | CE9: =IF($Y9=$AC$1,P9,$AI$1) -> #REF! | CG9: =IF($Y9=$AC$2,Q9,$AI$1) -> #REF! | CI9: =IF($Y9=$AC$1,Q9,$AI$1) -> #REF! | CK9: =IF($Y9=$AC$2,R9,$AI$1) -> #REF! | CL9: =IF($Y9=$AC$1,R9,$AI$1) -> #REF! | CN9: =IF($Y9=$AC$2,S9,$AI$1) -> #REF! | CP9: =IF($Y9=$AC$1,S9,$AI$1) -> #REF! | CR9: =IF($Y9=$AC$2,T9,$AI$1) -> #REF! | CT9: =IF($Y9=$AC$1,T9,$AI$1) -> #REF! | CV9: =IF($Y9=$AC$2,U9,$AI$1) -> #REF! | CX9: =IF($Y9=$AC$1,U9,$AI$1) -> #REF! | CY9: =IF($Y9=$AC$2,V9,$AI$1) -> #REF! | DA9: =IF($Y9=$AC$1,V9,$AI$1) -> #REF! | DC9: =IF($Y9=$AC$2,W9,$AI$1) -> #REF! | DE9: =IF($Y9=$AC$1,W9,$AI$1) -> #REF! | DG9: =IF($Y9=$AC$2,X9,$AI$1) -> #REF!
A10: 7 | B10: =(ATHLÈTES!A8&" "&ATHLÈTES!B8) -> GGG Lucie | C10: =ATHLÈTES!B8 -> Lucie | D10: =IF(AD10<>$AE$1,$AE$2,"") | E10: =ATHLÈTES!D8 -> 1680038 | Y10: =IF(C10<>"",VLOOKUP(C10,#REF!,2,FALSE),"") -> #REF! | Z10: =IF(B10<>"",$Z$1,"") -> US CRÉTEIL | AA10: =(D10) | AB10: =IF(Y10="femme",$AD$1,$AD$2) -> #REF! | AC10: =(B10&" "&C10) -> GGG Lucie Lucie | AD10: =COUNTA(F10:X10) -> 0 | AF10: =IF(AE10<>"",VLOOKUP(AE10,#REF!,2,FALSE),"") | AG10: 2024 | AH10: =(AH11-1) -> 1958 | AI10: MASTERS | AM10: =IF($Y10=$AC$1,F10,$AI$1) -> #REF! | AO10: =IF($Y10=$AC$2,F10,$AI$1) -> #REF! | AQ10: =IF($Y10=$AC$1,G10,$AI$1) -> #REF! | AS10: =IF($Y10=$AC$2,G10,$AI$1) -> #REF! | AU10: =IF($Y10=$AC$1,H10,$AI$1) -> #REF! | AW10: =IF($Y10=$AC$2,H10,$AI$1) -> #REF! | AY10: =IF($Y10=$AC$1,I10,$AI$1) -> #REF! | BA10: =IF($Y10=$AC$2,I10,$AI$1) -> #REF! | BC10: =IF($Y10=$AC$1,J10,$AI$1) -> #REF! | BE10: =IF($Y10=$AC$2,J10,$AI$1) -> #REF! | BG10: =IF($Y10=$AC$1,K10,$AI$1) -> #REF! | BI10: =IF($Y10=$AC$2,K10,$AI$1) -> #REF! | BK10: =IF($Y10=$AC$1,L10,$AI$1) -> #REF! | BM10: =IF($Y10=$AC$2,L10,$AI$1) -> #REF! | BO10: =IF($Y10=$AC$1,M10,$AI$1) -> #REF! | BQ10: =IF($Y10=$AC$2,M10,$AI$1) -> #REF! | BS10: =IF($Y10=$AC$1,N10,$AI$1) -> #REF! | BU10: =IF($Y10=$AC$2,N10,$AI$1) -> #REF! | BW10: =IF($Y10=$AC$1,O10,$AI$1) -> #REF! | BY10: =IF($Y10=$AC$2,O10,$AI$1) -> #REF! | CA10: =IF($Y10=$AC$1,O10,$AI$1) -> #REF! | CC10: =IF($Y10=$AC$2,P10,$AI$1) -> #REF! | CE10: =IF($Y10=$AC$1,P10,$AI$1) -> #REF! | CG10: =IF($Y10=$AC$2,Q10,$AI$1) -> #REF! | CI10: =IF($Y10=$AC$1,Q10,$AI$1) -> #REF! | CK10: =IF($Y10=$AC$2,R10,$AI$1) -> #REF! | CL10: =IF($Y10=$AC$1,R10,$AI$1) -> #REF! | CN10: =IF($Y10=$AC$2,S10,$AI$1) -> #REF! | CP10: =IF($Y10=$AC$1,S10,$AI$1) -> #REF! | CR10: =IF($Y10=$AC$2,T10,$AI$1) -> #REF! | CT10: =IF($Y10=$AC$1,T10,$AI$1) -> #REF! | CV10: =IF($Y10=$AC$2,U10,$AI$1) -> #REF! | CX10: =IF($Y10=$AC$1,U10,$AI$1) -> #REF! | CY10: =IF($Y10=$AC$2,V10,$AI$1) -> #REF! | DA10: =IF($Y10=$AC$1,V10,$AI$1) -> #REF! | DC10: =IF($Y10=$AC$2,W10,$AI$1) -> #REF! | DE10: =IF($Y10=$AC$1,W10,$AI$1) -> #REF! | DG10: =IF($Y10=$AC$2,X10,$AI$1) -> #REF!
A11: 8 | B11: =(ATHLÈTES!A9&" "&ATHLÈTES!B9) -> HHH Eva | C11: =ATHLÈTES!B9 -> Eva | D11: =IF(AD11<>$AE$1,$AE$2,"") | E11: =ATHLÈTES!D9 -> 1577746 | Y11: =IF(C11<>"",VLOOKUP(C11,#REF!,2,FALSE),"") -> #REF! | Z11: =IF(B11<>"",$Z$1,"") -> US CRÉTEIL | AA11: =(D11) | AB11: =IF(Y11="femme",$AD$1,$AD$2) -> #REF! | AC11: =(B11&" "&C11) -> HHH Eva Eva | AD11: =COUNTA(F11:X11) -> 0 | AF11: =IF(AE11<>"",VLOOKUP(AE11,#REF!,2,FALSE),"") | AG11: 2025 | AH11: =(AH12-1) -> 1959 | AI11: MASTERS | AM11: =IF($Y11=$AC$1,F11,$AI$1) -> #REF! | AO11: =IF($Y11=$AC$2,F11,$AI$1) -> #REF! | AQ11: =IF($Y11=$AC$1,G11,$AI$1) -> #REF! | AS11: =IF($Y11=$AC$2,G11,$AI$1) -> #REF! | AU11: =IF($Y11=$AC$1,H11,$AI$1) -> #REF! | AW11: =IF($Y11=$AC$2,H11,$AI$1) -> #REF! | AY11: =IF($Y11=$AC$1,I11,$AI$1) -> #REF! | BA11: =IF($Y11=$AC$2,I11,$AI$1) -> #REF! | BC11: =IF($Y11=$AC$1,J11,$AI$1) -> #REF! | BE11: =IF($Y11=$AC$2,J11,$AI$1) -> #REF! | BG11: =IF($Y11=$AC$1,K11,$AI$1) -> #REF! | BI11: =IF($Y11=$AC$2,K11,$AI$1) -> #REF! | BK11: =IF($Y11=$AC$1,L11,$AI$1) -> #REF! | BM11: =IF($Y11=$AC$2,L11,$AI$1) -> #REF! | BO11: =IF($Y11=$AC$1,M11,$AI$1) -> #REF! | BQ11: =IF($Y11=$AC$2,M11,$AI$1) -> #REF! | BS11: =IF($Y11=$AC$1,N11,$AI$1) -> #REF! | BU11: =IF($Y11=$AC$2,N11,$AI$1) -> #REF! | BW11: =IF($Y11=$AC$1,O11,$AI$1) -> #REF! | BY11: =IF($Y11=$AC$2,O11,$AI$1) -> #REF! | CA11: =IF($Y11=$AC$1,O11,$AI$1) -> #REF! | CC11: =IF($Y11=$AC$2,P11,$AI$1) -> #REF! | CE11: =IF($Y11=$AC$1,P11,$AI$1) -> #REF! | CG11: =IF($Y11=$AC$2,Q11,$AI$1) -> #REF! | CI11: =IF($Y11=$AC$1,Q11,$AI$1) -> #REF! | CK11: =IF($Y11=$AC$2,R11,$AI$1) -> #REF! | CL11: =IF($Y11=$AC$1,R11,$AI$1) -> #REF! | CN11: =IF($Y11=$AC$2,S11,$AI$1) -> #REF! | CP11: =IF($Y11=$AC$1,S11,$AI$1) -> #REF! | CR11: =IF($Y11=$AC$2,T11,$AI$1) -> #REF! | CT11: =IF($Y11=$AC$1,T11,$AI$1) -> #REF! | CV11: =IF($Y11=$AC$2,U11,$AI$1) -> #REF! | CX11: =IF($Y11=$AC$1,U11,$AI$1) -> #REF! | CY11: =IF($Y11=$AC$2,V11,$AI$1) -> #REF! | DA11: =IF($Y11=$AC$1,V11,$AI$1) -> #REF! | DC11: =IF($Y11=$AC$2,W11,$AI$1) -> #REF! | DE11: =IF($Y11=$AC$1,W11,$AI$1) -> #REF! | DG11: =IF($Y11=$AC$2,X11,$AI$1) -> #REF!
A12: 9 | B12: =(ATHLÈTES!A10&" "&ATHLÈTES!B10) -> PERNOIS LUC | C12: =ATHLÈTES!B10 -> LUC | D12: =IF(AD12<>$AE$1,$AE$2,"") -> X | E12: =ATHLÈTES!D10 -> 707564 | F12: 7.2 | G12: 12 | H12: 8.5 | K12: 34.15 | L12: 3.45 | Q12: 1.6 | R12: 5.4 | S12: 3.2 | U12: 49.95 | V12: 33.56 | W12: 10.5 | Y12: =IF(C12<>"",VLOOKUP(C12,#REF!,2,FALSE),"") -> #REF! | Z12: =IF(B12<>"",$Z$1,"") -> US CRÉTEIL | AA12: =(D12) -> X | AB12: =IF(Y12="femme",$AD$1,$AD$2) -> #REF! | AC12: =(B12&" "&C12) -> PERNOIS LUC LUC | AD12: =COUNTA(F12:X12) -> 11 | AF12: =IF(AE12<>"",VLOOKUP(AE12,#REF!,2,FALSE),"") | AG12: 2026 | AH12: =(AH13-1) -> 1960 | AI12: MASTERS | AM12: =IF($Y12=$AC$1,F12,$AI$1) -> #REF! | AO12: =IF($Y12=$AC$2,F12,$AI$1) -> #REF! | AQ12: =IF($Y12=$AC$1,G12,$AI$1) -> #REF! | AS12: =IF($Y12=$AC$2,G12,$AI$1) -> #REF! | AU12: =IF($Y12=$AC$1,H12,$AI$1) -> #REF! | AW12: =IF($Y12=$AC$2,H12,$AI$1) -> #REF! | AY12: =IF($Y12=$AC$1,I12,$AI$1) -> #REF! | BA12: =IF($Y12=$AC$2,I12,$AI$1) -> #REF! | BC12: =IF($Y12=$AC$1,J12,$AI$1) -> #REF! | BE12: =IF($Y12=$AC$2,J12,$AI$1) -> #REF! | BG12: =IF($Y12=$AC$1,K12,$AI$1) -> #REF! | BI12: =IF($Y12=$AC$2,K12,$AI$1) -> #REF! | BK12: =IF($Y12=$AC$1,L12,$AI$1) -> #REF! | BM12: =IF($Y12=$AC$2,L12,$AI$1) -> #REF! | BO12: =IF($Y12=$AC$1,M12,$AI$1) -> #REF! | BQ12: =IF($Y12=$AC$2,M12,$AI$1) -> #REF! | BS12: =IF($Y12=$AC$1,N12,$AI$1) -> #REF! | BU12: =IF($Y12=$AC$2,N12,$AI$1) -> #REF! | BW12: =IF($Y12=$AC$1,O12,$AI$1) -> #REF! | BY12: =IF($Y12=$AC$2,O12,$AI$1) -> #REF! | CA12: =IF($Y12=$AC$1,O12,$AI$1) -> #REF! | CC12: =IF($Y12=$AC$2,P12,$AI$1) -> #REF! | CE12: =IF($Y12=$AC$1,P12,$AI$1) -> #REF! | CG12: =IF($Y12=$AC$2,Q12,$AI$1) -> #REF! | CI12: =IF($Y12=$AC$1,Q12,$AI$1) -> #REF! | CK12: =IF($Y12=$AC$2,R12,$AI$1) -> #REF! | CL12: =IF($Y12=$AC$1,R12,$AI$1) -> #REF! | CN12: =IF($Y12=$AC$2,S12,$AI$1) -> #REF! | CP12: =IF($Y12=$AC$1,S12,$AI$1) -> #REF! | CR12: =IF($Y12=$AC$2,T12,$AI$1) -> #REF! | CT12: =IF($Y12=$AC$1,T12,$AI$1) -> #REF! | CV12: =IF($Y12=$AC$2,U12,$AI$1) -> #REF! | CX12: =IF($Y12=$AC$1,U12,$AI$1) -> #REF! | CY12: =IF($Y12=$AC$2,V12,$AI$1) -> #REF! | DA12: =IF($Y12=$AC$1,V12,$AI$1) -> #REF! | DC12: =IF($Y12=$AC$2,W12,$AI$1) -> #REF! | DE12: =IF($Y12=$AC$1,W12,$AI$1) -> #REF! | DG12: =IF($Y12=$AC$2,X12,$AI$1) -> #REF!
A13: 10 | B13: =(ATHLÈTES!A11&" "&ATHLÈTES!B11) -> JJJ Mélania | C13: =ATHLÈTES!B11 -> Mélania | D13: =IF(AD13<>$AE$1,$AE$2,"") | E13: =ATHLÈTES!D11 -> 1926597 | Y13: =IF(C13<>"",VLOOKUP(C13,#REF!,2,FALSE),"") -> #REF! | Z13: =IF(B13<>"",$Z$1,"") -> US CRÉTEIL | AA13: =(D13) | AB13: =IF(Y13="femme",$AD$1,$AD$2) -> #REF! | AC13: =(B13&" "&C13) -> JJJ Mélania Mélania | AD13: =COUNTA(F13:X13) -> 0 | AF13: =IF(AE13<>"",VLOOKUP(AE13,#REF!,2,FALSE),"") | AG13: 2027 | AH13: =(AH14-1) -> 1961 | AI13: MASTERS | AM13: =IF($Y13=$AC$1,F13,$AI$1) -> #REF! | AO13: =IF($Y13=$AC$2,F13,$AI$1) -> #REF! | AQ13: =IF($Y13=$AC$1,G13,$AI$1) -> #REF! | AS13: =IF($Y13=$AC$2,G13,$AI$1) -> #REF! | AU13: =IF($Y13=$AC$1,H13,$AI$1) -> #REF! | AW13: =IF($Y13=$AC$2,H13,$AI$1) -> #REF! | AY13: =IF($Y13=$AC$1,I13,$AI$1) -> #REF! | BA13: =IF($Y13=$AC$2,I13,$AI$1) -> #REF! | BC13: =IF($Y13=$AC$1,J13,$AI$1) -> #REF! | BE13: =IF($Y13=$AC$2,J13,$AI$1) -> #REF! | BG13: =IF($Y13=$AC$1,K13,$AI$1) -> #REF! | BI13: =IF($Y13=$AC$2,K13,$AI$1) -> #REF! | BK13: =IF($Y13=$AC$1,L13,$AI$1) -> #REF! | BM13: =IF($Y13=$AC$2,L13,$AI$1) -> #REF! | BO13: =IF($Y13=$AC$1,M13,$AI$1) -> #REF! | BQ13: =IF($Y13=$AC$2,M13,$AI$1) -> #REF! | BS13: =IF($Y13=$AC$1,N13,$AI$1) -> #REF! | BU13: =IF($Y13=$AC$2,N13,$AI$1) -> #REF! | BW13: =IF($Y13=$AC$1,O13,$AI$1) -> #REF! | BY13: =IF($Y13=$AC$2,O13,$AI$1) -> #REF! | CA13: =IF($Y13=$AC$1,O13,$AI$1) -> #REF! | CC13: =IF($Y13=$AC$2,P13,$AI$1) -> #REF! | CE13: =IF($Y13=$AC$1,P13,$AI$1) -> #REF! | CG13: =IF($Y13=$AC$2,Q13,$AI$1) -> #REF! | CI13: =IF($Y13=$AC$1,Q13,$AI$1) -> #REF! | CK13: =IF($Y13=$AC$2,R13,$AI$1) -> #REF! | CL13: =IF($Y13=$AC$1,R13,$AI$1) -> #REF! | CN13: =IF($Y13=$AC$2,S13,$AI$1) -> #REF! | CP13: =IF($Y13=$AC$1,S13,$AI$1) -> #REF! | CR13: =IF($Y13=$AC$2,T13,$AI$1) -> #REF! | CT13: =IF($Y13=$AC$1,T13,$AI$1) -> #REF! | CV13: =IF($Y13=$AC$2,U13,$AI$1) -> #REF! | CX13: =IF($Y13=$AC$1,U13,$AI$1) -> #REF! | CY13: =IF($Y13=$AC$2,V13,$AI$1) -> #REF! | DA13: =IF($Y13=$AC$1,V13,$AI$1) -> #REF! | DC13: =IF($Y13=$AC$2,W13,$AI$1) -> #REF! | DE13: =IF($Y13=$AC$1,W13,$AI$1) -> #REF! | DG13: =IF($Y13=$AC$2,X13,$AI$1) -> #REF!
A14: 11 | B14: =(ATHLÈTES!A12&" "&ATHLÈTES!B12) -> KKK Mélanie | C14: =ATHLÈTES!B12 -> Mélanie | D14: =IF(AD14<>$AE$1,$AE$2,"") | E14: =ATHLÈTES!D12 -> 1698208 | Y14: =IF(C14<>"",VLOOKUP(C14,#REF!,2,FALSE),"") -> #REF! | Z14: =IF(B14<>"",$Z$1,"") -> US CRÉTEIL | AA14: =(D14) | AB14: =IF(Y14="femme",$AD$1,$AD$2) -> #REF! | AC14: =(B14&" "&C14) -> KKK Mélanie Mélanie | AD14: =COUNTA(F14:X14) -> 0 | AF14: =IF(AE14<>"",VLOOKUP(AE14,#REF!,2,FALSE),"") | AG14: 2028 | AH14: =(AH15-1) -> 1962 | AI14: MASTERS | AM14: =IF($Y14=$AC$1,F14,$AI$1) -> #REF! | AO14: =IF($Y14=$AC$2,F14,$AI$1) -> #REF! | AQ14: =IF($Y14=$AC$1,G14,$AI$1) -> #REF! | AS14: =IF($Y14=$AC$2,G14,$AI$1) -> #REF! | AU14: =IF($Y14=$AC$1,H14,$AI$1) -> #REF! | AW14: =IF($Y14=$AC$2,H14,$AI$1) -> #REF! | AY14: =IF($Y14=$AC$1,I14,$AI$1) -> #REF! | BA14: =IF($Y14=$AC$2,I14,$AI$1) -> #REF! | BC14: =IF($Y14=$AC$1,J14,$AI$1) -> #REF! | BE14: =IF($Y14=$AC$2,J14,$AI$1) -> #REF! | BG14: =IF($Y14=$AC$1,K14,$AI$1) -> #REF! | BI14: =IF($Y14=$AC$2,K14,$AI$1) -> #REF! | BK14: =IF($Y14=$AC$1,L14,$AI$1) -> #REF! | BM14: =IF($Y14=$AC$2,L14,$AI$1) -> #REF! | BO14: =IF($Y14=$AC$1,M14,$AI$1) -> #REF! | BQ14: =IF($Y14=$AC$2,M14,$AI$1) -> #REF! | BS14: =IF($Y14=$AC$1,N14,$AI$1) -> #REF! | BU14: =IF($Y14=$AC$2,N14,$AI$1) -> #REF! | BW14: =IF($Y14=$AC$1,O14,$AI$1) -> #REF! | BY14: =IF($Y14=$AC$2,O14,$AI$1) -> #REF! | CA14: =IF($Y14=$AC$1,O14,$AI$1) -> #REF! | CC14: =IF($Y14=$AC$2,P14,$AI$1) -> #REF! | CE14: =IF($Y14=$AC$1,P14,$AI$1) -> #REF! | CG14: =IF($Y14=$AC$2,Q14,$AI$1) -> #REF! | CI14: =IF($Y14=$AC$1,Q14,$AI$1) -> #REF! | CK14: =IF($Y14=$AC$2,R14,$AI$1) -> #REF! | CL14: =IF($Y14=$AC$1,R14,$AI$1) -> #REF! | CN14: =IF($Y14=$AC$2,S14,$AI$1) -> #REF! | CP14: =IF($Y14=$AC$1,S14,$AI$1) -> #REF! | CR14: =IF($Y14=$AC$2,T14,$AI$1) -> #REF! | CT14: =IF($Y14=$AC$1,T14,$AI$1) -> #REF! | CV14: =IF($Y14=$AC$2,U14,$AI$1) -> #REF! | CX14: =IF($Y14=$AC$1,U14,$AI$1) -> #REF! | CY14: =IF($Y14=$AC$2,V14,$AI$1) -> #REF! | DA14: =IF($Y14=$AC$1,V14,$AI$1) -> #REF! | DC14: =IF($Y14=$AC$2,W14,$AI$1) -> #REF! | DE14: =IF($Y14=$AC$1,W14,$AI$1) -> #REF! | DG14: =IF($Y14=$AC$2,X14,$AI$1) -> #REF!
A15: 12 | B15: =(ATHLÈTES!A13&" "&ATHLÈTES!B13) -> LLL Cryss | C15: =ATHLÈTES!B13 -> Cryss | D15: =IF(AD15<>$AE$1,$AE$2,"") | E15: =ATHLÈTES!D13 -> 1590592 | Y15: =IF(C15<>"",VLOOKUP(C15,#REF!,2,FALSE),"") -> #REF! | Z15: =IF(B15<>"",$Z$1,"") -> US CRÉTEIL | AA15: =(D15) | AB15: =IF(Y15="femme",$AD$1,$AD$2) -> #REF! | AC15: =(B15&" "&C15) -> LLL Cryss Cryss | AD15: =COUNTA(F15:X15) -> 0 | AF15: =IF(AE15<>"",VLOOKUP(AE15,#REF!,2,FALSE),"") | AG15: 2029 | AH15: =(AH16-1) -> 1963 | AI15: MASTERS | AM15: =IF($Y15=$AC$1,F15,$AI$1) -> #REF! | AO15: =IF($Y15=$AC$2,F15,$AI$1) -> #REF! | AQ15: =IF($Y15=$AC$1,G15,$AI$1) -> #REF! | AS15: =IF($Y15=$AC$2,G15,$AI$1) -> #REF! | AU15: =IF($Y15=$AC$1,H15,$AI$1) -> #REF! | AW15: =IF($Y15=$AC$2,H15,$AI$1) -> #REF! | AY15: =IF($Y15=$AC$1,I15,$AI$1) -> #REF! | BA15: =IF($Y15=$AC$2,I15,$AI$1) -> #REF! | BC15: =IF($Y15=$AC$1,J15,$AI$1) -> #REF! | BE15: =IF($Y15=$AC$2,J15,$AI$1) -> #REF! | BG15: =IF($Y15=$AC$1,K15,$AI$1) -> #REF! | BI15: =IF($Y15=$AC$2,K15,$AI$1) -> #REF! | BK15: =IF($Y15=$AC$1,L15,$AI$1) -> #REF! | BM15: =IF($Y15=$AC$2,L15,$AI$1) -> #REF! | BO15: =IF($Y15=$AC$1,M15,$AI$1) -> #REF! | BQ15: =IF($Y15=$AC$2,M15,$AI$1) -> #REF! | BS15: =IF($Y15=$AC$1,N15,$AI$1) -> #REF! | BU15: =IF($Y15=$AC$2,N15,$AI$1) -> #REF! | BW15: =IF($Y15=$AC$1,O15,$AI$1) -> #REF! | BY15: =IF($Y15=$AC$2,O15,$AI$1) -> #REF! | CA15: =IF($Y15=$AC$1,O15,$AI$1) -> #REF! | CC15: =IF($Y15=$AC$2,P15,$AI$1) -> #REF! | CE15: =IF($Y15=$AC$1,P15,$AI$1) -> #REF! | CG15: =IF($Y15=$AC$2,Q15,$AI$1) -> #REF! | CI15: =IF($Y15=$AC$1,Q15,$AI$1) -> #REF! | CK15: =IF($Y15=$AC$2,R15,$AI$1) -> #REF! | CL15: =IF($Y15=$AC$1,R15,$AI$1) -> #REF! | CN15: =IF($Y15=$AC$2,S15,$AI$1) -> #REF! | CP15: =IF($Y15=$AC$1,S15,$AI$1) -> #REF! | CR15: =IF($Y15=$AC$2,T15,$AI$1) -> #REF! | CT15: =IF($Y15=$AC$1,T15,$AI$1) -> #REF! | CV15: =IF($Y15=$AC$2,U15,$AI$1) -> #REF! | CX15: =IF($Y15=$AC$1,U15,$AI$1) -> #REF! | CY15: =IF($Y15=$AC$2,V15,$AI$1) -> #REF! | DA15: =IF($Y15=$AC$1,V15,$AI$1) -> #REF! | DC15: =IF($Y15=$AC$2,W15,$AI$1) -> #REF! | DE15: =IF($Y15=$AC$1,W15,$AI$1) -> #REF! | DG15: =IF($Y15=$AC$2,X15,$AI$1) -> #REF!
A16: 13 | B16: =(ATHLÈTES!A14&" "&ATHLÈTES!B14) -> MMMM Sambou | C16: =ATHLÈTES!B14 -> Sambou | D16: =IF(AD16<>$AE$1,$AE$2,"") | E16: =ATHLÈTES!D14 -> 1553373 | Y16: =IF(C16<>"",VLOOKUP(C16,#REF!,2,FALSE),"") -> #REF! | Z16: =IF(B16<>"",$Z$1,"") -> US CRÉTEIL | AA16: =(D16) | AB16: =IF(Y16="femme",$AD$1,$AD$2) -> #REF! | AC16: =(B16&" "&C16) -> MMMM Sambou Sambou | AD16: =COUNTA(F16:X16) -> 0 | AF16: =IF(AE16<>"",VLOOKUP(AE16,#REF!,2,FALSE),"") | AG16: 2030 | AH16: =(AH17-1) -> 1964 | AI16: MASTERS | AM16: =IF($Y16=$AC$1,F16,$AI$1) -> #REF! | AO16: =IF($Y16=$AC$2,F16,$AI$1) -> #REF! | AQ16: =IF($Y16=$AC$1,G16,$AI$1) -> #REF! | AS16: =IF($Y16=$AC$2,G16,$AI$1) -> #REF! | AU16: =IF($Y16=$AC$1,H16,$AI$1) -> #REF! | AW16: =IF($Y16=$AC$2,H16,$AI$1) -> #REF! | AY16: =IF($Y16=$AC$1,I16,$AI$1) -> #REF! | BA16: =IF($Y16=$AC$2,I16,$AI$1) -> #REF! | BC16: =IF($Y16=$AC$1,J16,$AI$1) -> #REF! | BE16: =IF($Y16=$AC$2,J16,$AI$1) -> #REF! | BG16: =IF($Y16=$AC$1,K16,$AI$1) -> #REF! | BI16: =IF($Y16=$AC$2,K16,$AI$1) -> #REF! | BK16: =IF($Y16=$AC$1,L16,$AI$1) -> #REF! | BM16: =IF($Y16=$AC$2,L16,$AI$1) -> #REF! | BO16: =IF($Y16=$AC$1,M16,$AI$1) -> #REF! | BQ16: =IF($Y16=$AC$2,M16,$AI$1) -> #REF! | BS16: =IF($Y16=$AC$1,N16,$AI$1) -> #REF! | BU16: =IF($Y16=$AC$2,N16,$AI$1) -> #REF! | BW16: =IF($Y16=$AC$1,O16,$AI$1) -> #REF! | BY16: =IF($Y16=$AC$2,O16,$AI$1) -> #REF! | CA16: =IF($Y16=$AC$1,O16,$AI$1) -> #REF! | CC16: =IF($Y16=$AC$2,P16,$AI$1) -> #REF! | CE16: =IF($Y16=$AC$1,P16,$AI$1) -> #REF! | CG16: =IF($Y16=$AC$2,Q16,$AI$1) -> #REF! | CI16: =IF($Y16=$AC$1,Q16,$AI$1) -> #REF! | CK16: =IF($Y16=$AC$2,R16,$AI$1) -> #REF! | CL16: =IF($Y16=$AC$1,R16,$AI$1) -> #REF! | CN16: =IF($Y16=$AC$2,S16,$AI$1) -> #REF! | CP16: =IF($Y16=$AC$1,S16,$AI$1) -> #REF! | CR16: =IF($Y16=$AC$2,T16,$AI$1) -> #REF! | CT16: =IF($Y16=$AC$1,T16,$AI$1) -> #REF! | CV16: =IF($Y16=$AC$2,U16,$AI$1) -> #REF! | CX16: =IF($Y16=$AC$1,U16,$AI$1) -> #REF! | CY16: =IF($Y16=$AC$2,V16,$AI$1) -> #REF! | DA16: =IF($Y16=$AC$1,V16,$AI$1) -> #REF! | DC16: =IF($Y16=$AC$2,W16,$AI$1) -> #REF! | DE16: =IF($Y16=$AC$1,W16,$AI$1) -> #REF! | DG16: =IF($Y16=$AC$2,X16,$AI$1) -> #REF!
A17: 14 | B17: =(ATHLÈTES!A15&" "&ATHLÈTES!B15) -> NNN Dylan | C17: =ATHLÈTES!B15 -> Dylan | D17: =IF(AD17<>$AE$1,$AE$2,"") | E17: =ATHLÈTES!D15 -> 1746478 | Y17: =IF(C17<>"",VLOOKUP(C17,#REF!,2,FALSE),"") -> #REF! | Z17: =IF(B17<>"",$Z$1,"") -> US CRÉTEIL | AA17: =(D17) | AB17: =IF(Y17="femme",$AD$1,$AD$2) -> #REF! | AC17: =(B17&" "&C17) -> NNN Dylan Dylan | AD17: =COUNTA(F17:X17) -> 0 | AF17: =IF(AE17<>"",VLOOKUP(AE17,#REF!,2,FALSE),"") | AG17: 2031 | AH17: =(AH18-1) -> 1965 | AI17: MASTERS | AM17: =IF($Y17=$AC$1,F17,$AI$1) -> #REF! | AO17: =IF($Y17=$AC$2,F17,$AI$1) -> #REF! | AQ17: =IF($Y17=$AC$1,G17,$AI$1) -> #REF! | AS17: =IF($Y17=$AC$2,G17,$AI$1) -> #REF! | AU17: =IF($Y17=$AC$1,H17,$AI$1) -> #REF! | AW17: =IF($Y17=$AC$2,H17,$AI$1) -> #REF! | AY17: =IF($Y17=$AC$1,I17,$AI$1) -> #REF! | BA17: =IF($Y17=$AC$2,I17,$AI$1) -> #REF! | BC17: =IF($Y17=$AC$1,J17,$AI$1) -> #REF! | BE17: =IF($Y17=$AC$2,J17,$AI$1) -> #REF! | BG17: =IF($Y17=$AC$1,K17,$AI$1) -> #REF! | BI17: =IF($Y17=$AC$2,K17,$AI$1) -> #REF! | BK17: =IF($Y17=$AC$1,L17,$AI$1) -> #REF! | BM17: =IF($Y17=$AC$2,L17,$AI$1) -> #REF! | BO17: =IF($Y17=$AC$1,M17,$AI$1) -> #REF! | BQ17: =IF($Y17=$AC$2,M17,$AI$1) -> #REF! | BS17: =IF($Y17=$AC$1,N17,$AI$1) -> #REF! | BU17: =IF($Y17=$AC$2,N17,$AI$1) -> #REF! | BW17: =IF($Y17=$AC$1,O17,$AI$1) -> #REF! | BY17: =IF($Y17=$AC$2,O17,$AI$1) -> #REF! | CA17: =IF($Y17=$AC$1,O17,$AI$1) -> #REF! | CC17: =IF($Y17=$AC$2,P17,$AI$1) -> #REF! | CE17: =IF($Y17=$AC$1,P17,$AI$1) -> #REF! | CG17: =IF($Y17=$AC$2,Q17,$AI$1) -> #REF! | CI17: =IF($Y17=$AC$1,Q17,$AI$1) -> #REF! | CK17: =IF($Y17=$AC$2,R17,$AI$1) -> #REF! | CL17: =IF($Y17=$AC$1,R17,$AI$1) -> #REF! | CN17: =IF($Y17=$AC$2,S17,$AI$1) -> #REF! | CP17: =IF($Y17=$AC$1,S17,$AI$1) -> #REF! | CR17: =IF($Y17=$AC$2,T17,$AI$1) -> #REF! | CT17: =IF($Y17=$AC$1,T17,$AI$1) -> #REF! | CV17: =IF($Y17=$AC$2,U17,$AI$1) -> #REF! | CX17: =IF($Y17=$AC$1,U17,$AI$1) -> #REF! | CY17: =IF($Y17=$AC$2,V17,$AI$1) -> #REF! | DA17: =IF($Y17=$AC$1,V17,$AI$1) -> #REF! | DC17: =IF($Y17=$AC$2,W17,$AI$1) -> #REF! | DE17: =IF($Y17=$AC$1,W17,$AI$1) -> #REF! | DG17: =IF($Y17=$AC$2,X17,$AI$1) -> #REF!
A18: 15 | B18: =(ATHLÈTES!A16&" "&ATHLÈTES!B16) -> OOO Philippe | C18: =ATHLÈTES!B16 -> Philippe | D18: =IF(AD18<>$AE$1,$AE$2,"") | E18: =ATHLÈTES!D16 -> 1577594 | Y18: =IF(C18<>"",VLOOKUP(C18,#REF!,2,FALSE),"") -> #REF! | Z18: =IF(B18<>"",$Z$1,"") -> US CRÉTEIL | AA18: =(D18) | AB18: =IF(Y18="femme",$AD$1,$AD$2) -> #REF! | AC18: =(B18&" "&C18) -> OOO Philippe Philippe | AD18: =COUNTA(F18:X18) -> 0 | AF18: =IF(AE18<>"",VLOOKUP(AE18,#REF!,2,FALSE),"") | AG18: 2032 | AH18: =(AH19-1) -> 1966 | AI18: MASTERS | AM18: =IF($Y18=$AC$1,F18,$AI$1) -> #REF! | AO18: =IF($Y18=$AC$2,F18,$AI$1) -> #REF! | AQ18: =IF($Y18=$AC$1,G18,$AI$1) -> #REF! | AS18: =IF($Y18=$AC$2,G18,$AI$1) -> #REF! | AU18: =IF($Y18=$AC$1,H18,$AI$1) -> #REF! | AW18: =IF($Y18=$AC$2,H18,$AI$1) -> #REF! | AY18: =IF($Y18=$AC$1,I18,$AI$1) -> #REF! | BA18: =IF($Y18=$AC$2,I18,$AI$1) -> #REF! | BC18: =IF($Y18=$AC$1,J18,$AI$1) -> #REF! | BE18: =IF($Y18=$AC$2,J18,$AI$1) -> #REF! | BG18: =IF($Y18=$AC$1,K18,$AI$1) -> #REF! | BI18: =IF($Y18=$AC$2,K18,$AI$1) -> #REF! | BK18: =IF($Y18=$AC$1,L18,$AI$1) -> #REF! | BM18: =IF($Y18=$AC$2,L18,$AI$1) -> #REF! | BO18: =IF($Y18=$AC$1,M18,$AI$1) -> #REF! | BQ18: =IF($Y18=$AC$2,M18,$AI$1) -> #REF! | BS18: =IF($Y18=$AC$1,N18,$AI$1) -> #REF! | BU18: =IF($Y18=$AC$2,N18,$AI$1) -> #REF! | BW18: =IF($Y18=$AC$1,O18,$AI$1) -> #REF! | BY18: =IF($Y18=$AC$2,O18,$AI$1) -> #REF! | CA18: =IF($Y18=$AC$1,O18,$AI$1) -> #REF! | CC18: =IF($Y18=$AC$2,P18,$AI$1) -> #REF! | CE18: =IF($Y18=$AC$1,P18,$AI$1) -> #REF! | CG18: =IF($Y18=$AC$2,Q18,$AI$1) -> #REF! | CI18: =IF($Y18=$AC$1,Q18,$AI$1) -> #REF! | CK18: =IF($Y18=$AC$2,R18,$AI$1) -> #REF! | CL18: =IF($Y18=$AC$1,R18,$AI$1) -> #REF! | CN18: =IF($Y18=$AC$2,S18,$AI$1) -> #REF! | CP18: =IF($Y18=$AC$1,S18,$AI$1) -> #REF! | CR18: =IF($Y18=$AC$2,T18,$AI$1) -> #REF! | CT18: =IF($Y18=$AC$1,T18,$AI$1) -> #REF! | CV18: =IF($Y18=$AC$2,U18,$AI$1) -> #REF! | CX18: =IF($Y18=$AC$1,U18,$AI$1) -> #REF! | CY18: =IF($Y18=$AC$2,V18,$AI$1) -> #REF! | DA18: =IF($Y18=$AC$1,V18,$AI$1) -> #REF! | DC18: =IF($Y18=$AC$2,W18,$AI$1) -> #REF! | DE18: =IF($Y18=$AC$1,W18,$AI$1) -> #REF! | DG18: =IF($Y18=$AC$2,X18,$AI$1) -> #REF!
A19: 16 | B19: =(ATHLÈTES!A17&" "&ATHLÈTES!B17) -> PPP Oumar | C19: =ATHLÈTES!B17 -> Oumar | D19: =IF(AD19<>$AE$1,$AE$2,"") | E19: =ATHLÈTES!D17 -> 1577755 | Y19: =IF(C19<>"",VLOOKUP(C19,#REF!,2,FALSE),"") -> #REF! | Z19: =IF(B19<>"",$Z$1,"") -> US CRÉTEIL | AA19: =(D19) | AB19: =IF(Y19="femme",$AD$1,$AD$2) -> #REF! | AC19: =(B19&" "&C19) -> PPP Oumar Oumar | AD19: =COUNTA(F19:X19) -> 0 | AF19: =IF(AE19<>"",VLOOKUP(AE19,#REF!,2,FALSE),"") | AG19: 2033 | AH19: =(AH20-1) -> 1967 | AI19: MASTERS | AM19: =IF($Y19=$AC$1,F19,$AI$1) -> #REF! | AO19: =IF($Y19=$AC$2,F19,$AI$1) -> #REF! | AQ19: =IF($Y19=$AC$1,G19,$AI$1) -> #REF! | AS19: =IF($Y19=$AC$2,G19,$AI$1) -> #REF! | AU19: =IF($Y19=$AC$1,H19,$AI$1) -> #REF! | AW19: =IF($Y19=$AC$2,H19,$AI$1) -> #REF! | AY19: =IF($Y19=$AC$1,I19,$AI$1) -> #REF! | BA19: =IF($Y19=$AC$2,I19,$AI$1) -> #REF! | BC19: =IF($Y19=$AC$1,J19,$AI$1) -> #REF! | BE19: =IF($Y19=$AC$2,J19,$AI$1) -> #REF! | BG19: =IF($Y19=$AC$1,K19,$AI$1) -> #REF! | BI19: =IF($Y19=$AC$2,K19,$AI$1) -> #REF! | BK19: =IF($Y19=$AC$1,L19,$AI$1) -> #REF! | BM19: =IF($Y19=$AC$2,L19,$AI$1) -> #REF! | BO19: =IF($Y19=$AC$1,M19,$AI$1) -> #REF! | BQ19: =IF($Y19=$AC$2,M19,$AI$1) -> #REF! | BS19: =IF($Y19=$AC$1,N19,$AI$1) -> #REF! | BU19: =IF($Y19=$AC$2,N19,$AI$1) -> #REF! | BW19: =IF($Y19=$AC$1,O19,$AI$1) -> #REF! | BY19: =IF($Y19=$AC$2,O19,$AI$1) -> #REF! | CA19: =IF($Y19=$AC$1,O19,$AI$1) -> #REF! | CC19: =IF($Y19=$AC$2,P19,$AI$1) -> #REF! | CE19: =IF($Y19=$AC$1,P19,$AI$1) -> #REF! | CG19: =IF($Y19=$AC$2,Q19,$AI$1) -> #REF! | CI19: =IF($Y19=$AC$1,Q19,$AI$1) -> #REF! | CK19: =IF($Y19=$AC$2,R19,$AI$1) -> #REF! | CL19: =IF($Y19=$AC$1,R19,$AI$1) -> #REF! | CN19: =IF($Y19=$AC$2,S19,$AI$1) -> #REF! | CP19: =IF($Y19=$AC$1,S19,$AI$1) -> #REF! | CR19: =IF($Y19=$AC$2,T19,$AI$1) -> #REF! | CT19: =IF($Y19=$AC$1,T19,$AI$1) -> #REF! | CV19: =IF($Y19=$AC$2,U19,$AI$1) -> #REF! | CX19: =IF($Y19=$AC$1,U19,$AI$1) -> #REF! | CY19: =IF($Y19=$AC$2,V19,$AI$1) -> #REF! | DA19: =IF($Y19=$AC$1,V19,$AI$1) -> #REF! | DC19: =IF($Y19=$AC$2,W19,$AI$1) -> #REF! | DE19: =IF($Y19=$AC$1,W19,$AI$1) -> #REF! | DG19: =IF($Y19=$AC$2,X19,$AI$1) -> #REF!
A20: 17 | B20: =(ATHLÈTES!A18&" "&ATHLÈTES!B18) -> QQQ Ibrahim | C20: =ATHLÈTES!B18 -> Ibrahim | D20: =IF(AD20<>$AE$1,$AE$2,"") | E20: =ATHLÈTES!D18 -> 1346497 | Y20: =IF(C20<>"",VLOOKUP(C20,#REF!,2,FALSE),"") -> #REF! | Z20: =IF(B20<>"",$Z$1,"") -> US CRÉTEIL | AA20: =(D20) | AB20: =IF(Y20="femme",$AD$1,$AD$2) -> #REF! | AC20: =(B20&" "&C20) -> QQQ Ibrahim Ibrahim | AD20: =COUNTA(F20:X20) -> 0 | AF20: =IF(AE20<>"",VLOOKUP(AE20,#REF!,2,FALSE),"") | AG20: 2034 | AH20: =(AH21-1) -> 1968 | AI20: MASTERS | AM20: =IF($Y20=$AC$1,F20,$AI$1) -> #REF! | AO20: =IF($Y20=$AC$2,F20,$AI$1) -> #REF! | AQ20: =IF($Y20=$AC$1,G20,$AI$1) -> #REF! | AS20: =IF($Y20=$AC$2,G20,$AI$1) -> #REF! | AU20: =IF($Y20=$AC$1,H20,$AI$1) -> #REF! | AW20: =IF($Y20=$AC$2,H20,$AI$1) -> #REF! | AY20: =IF($Y20=$AC$1,I20,$AI$1) -> #REF! | BA20: =IF($Y20=$AC$2,I20,$AI$1) -> #REF! | BC20: =IF($Y20=$AC$1,J20,$AI$1) -> #REF! | BE20: =IF($Y20=$AC$2,J20,$AI$1) -> #REF! | BG20: =IF($Y20=$AC$1,K20,$AI$1) -> #REF! | BI20: =IF($Y20=$AC$2,K20,$AI$1) -> #REF! | BK20: =IF($Y20=$AC$1,L20,$AI$1) -> #REF! | BM20: =IF($Y20=$AC$2,L20,$AI$1) -> #REF! | BO20: =IF($Y20=$AC$1,M20,$AI$1) -> #REF! | BQ20: =IF($Y20=$AC$2,M20,$AI$1) -> #REF! | BS20: =IF($Y20=$AC$1,N20,$AI$1) -> #REF! | BU20: =IF($Y20=$AC$2,N20,$AI$1) -> #REF! | BW20: =IF($Y20=$AC$1,O20,$AI$1) -> #REF! | BY20: =IF($Y20=$AC$2,O20,$AI$1) -> #REF! | CA20: =IF($Y20=$AC$1,O20,$AI$1) -> #REF! | CC20: =IF($Y20=$AC$2,P20,$AI$1) -> #REF! | CE20: =IF($Y20=$AC$1,P20,$AI$1) -> #REF! | CG20: =IF($Y20=$AC$2,Q20,$AI$1) -> #REF! | CI20: =IF($Y20=$AC$1,Q20,$AI$1) -> #REF! | CK20: =IF($Y20=$AC$2,R20,$AI$1) -> #REF! | CL20: =IF($Y20=$AC$1,R20,$AI$1) -> #REF! | CN20: =IF($Y20=$AC$2,S20,$AI$1) -> #REF! | CP20: =IF($Y20=$AC$1,S20,$AI$1) -> #REF! | CR20: =IF($Y20=$AC$2,T20,$AI$1) -> #REF! | CT20: =IF($Y20=$AC$1,T20,$AI$1) -> #REF! | CV20: =IF($Y20=$AC$2,U20,$AI$1) -> #REF! | CX20: =IF($Y20=$AC$1,U20,$AI$1) -> #REF! | CY20: =IF($Y20=$AC$2,V20,$AI$1) -> #REF! | DA20: =IF($Y20=$AC$1,V20,$AI$1) -> #REF! | DC20: =IF($Y20=$AC$2,W20,$AI$1) -> #REF! | DE20: =IF($Y20=$AC$1,W20,$AI$1) -> #REF! | DG20: =IF($Y20=$AC$2,X20,$AI$1) -> #REF!
A21: 18 | B21: =(ATHLÈTES!A19&" "&ATHLÈTES!B19) -> RRR Seydou | C21: =ATHLÈTES!B19 -> Seydou | D21: =IF(AD21<>$AE$1,$AE$2,"") | E21: =ATHLÈTES!D19 -> 1748108 | Y21: =IF(C21<>"",VLOOKUP(C21,#REF!,2,FALSE),"") -> #REF! | Z21: =IF(B21<>"",$Z$1,"") -> US CRÉTEIL | AA21: =(D21) | AB21: =IF(Y21="femme",$AD$1,$AD$2) -> #REF! | AC21: =(B21&" "&C21) -> RRR Seydou Seydou | AD21: =COUNTA(F21:X21) -> 0 | AF21: =IF(AE21<>"",VLOOKUP(AE21,#REF!,2,FALSE),"") | AG21: 2035 | AH21: =(AH22-1) -> 1969 | AI21: MASTERS | AM21: =IF($Y21=$AC$1,F21,$AI$1) -> #REF! | AO21: =IF($Y21=$AC$2,F21,$AI$1) -> #REF! | AQ21: =IF($Y21=$AC$1,G21,$AI$1) -> #REF! | AS21: =IF($Y21=$AC$2,G21,$AI$1) -> #REF! | AU21: =IF($Y21=$AC$1,H21,$AI$1) -> #REF! | AW21: =IF($Y21=$AC$2,H21,$AI$1) -> #REF! | AY21: =IF($Y21=$AC$1,I21,$AI$1) -> #REF! | BA21: =IF($Y21=$AC$2,I21,$AI$1) -> #REF! | BC21: =IF($Y21=$AC$1,J21,$AI$1) -> #REF! | BE21: =IF($Y21=$AC$2,J21,$AI$1) -> #REF! | BG21: =IF($Y21=$AC$1,K21,$AI$1) -> #REF! | BI21: =IF($Y21=$AC$2,K21,$AI$1) -> #REF! | BK21: =IF($Y21=$AC$1,L21,$AI$1) -> #REF! | BM21: =IF($Y21=$AC$2,L21,$AI$1) -> #REF! | BO21: =IF($Y21=$AC$1,M21,$AI$1) -> #REF! | BQ21: =IF($Y21=$AC$2,M21,$AI$1) -> #REF! | BS21: =IF($Y21=$AC$1,N21,$AI$1) -> #REF! | BU21: =IF($Y21=$AC$2,N21,$AI$1) -> #REF! | BW21: =IF($Y21=$AC$1,O21,$AI$1) -> #REF! | BY21: =IF($Y21=$AC$2,O21,$AI$1) -> #REF! | CA21: =IF($Y21=$AC$1,O21,$AI$1) -> #REF! | CC21: =IF($Y21=$AC$2,P21,$AI$1) -> #REF! | CE21: =IF($Y21=$AC$1,P21,$AI$1) -> #REF! | CG21: =IF($Y21=$AC$2,Q21,$AI$1) -> #REF! | CI21: =IF($Y21=$AC$1,Q21,$AI$1) -> #REF! | CK21: =IF($Y21=$AC$2,R21,$AI$1) -> #REF! | CL21: =IF($Y21=$AC$1,R21,$AI$1) -> #REF! | CN21: =IF($Y21=$AC$2,S21,$AI$1) -> #REF! | CP21: =IF($Y21=$AC$1,S21,$AI$1) -> #REF! | CR21: =IF($Y21=$AC$2,T21,$AI$1) -> #REF! | CT21: =IF($Y21=$AC$1,T21,$AI$1) -> #REF! | CV21: =IF($Y21=$AC$2,U21,$AI$1) -> #REF! | CX21: =IF($Y21=$AC$1,U21,$AI$1) -> #REF! | CY21: =IF($Y21=$AC$2,V21,$AI$1) -> #REF! | DA21: =IF($Y21=$AC$1,V21,$AI$1) -> #REF! | DC21: =IF($Y21=$AC$2,W21,$AI$1) -> #REF! | DE21: =IF($Y21=$AC$1,W21,$AI$1) -> #REF! | DG21: =IF($Y21=$AC$2,X21,$AI$1) -> #REF!
A22: 19 | B22: =(ATHLÈTES!A20&" "&ATHLÈTES!B20) -> SSS Lucas | C22: =ATHLÈTES!B20 -> Lucas | D22: =IF(AD22<>$AE$1,$AE$2,"") | E22: =ATHLÈTES!D20 -> 1026525 | Y22: =IF(C22<>"",VLOOKUP(C22,#REF!,2,FALSE),"") -> #REF! | Z22: =IF(B22<>"",$Z$1,"") -> US CRÉTEIL | AA22: =(D22) | AB22: =IF(Y22="femme",$AD$1,$AD$2) -> #REF! | AC22: =(B22&" "&C22) -> SSS Lucas Lucas | AD22: =COUNTA(F22:X22) -> 0 | AF22: =IF(AE22<>"",VLOOKUP(AE22,#REF!,2,FALSE),"") | AG22: 2036 | AH22: =(AH23-1) -> 1970 | AI22: MASTERS | AM22: =IF($Y22=$AC$1,F22,$AI$1) -> #REF! | AO22: =IF($Y22=$AC$2,F22,$AI$1) -> #REF! | AQ22: =IF($Y22=$AC$1,G22,$AI$1) -> #REF! | AS22: =IF($Y22=$AC$2,G22,$AI$1) -> #REF! | AU22: =IF($Y22=$AC$1,H22,$AI$1) -> #REF! | AW22: =IF($Y22=$AC$2,H22,$AI$1) -> #REF! | AY22: =IF($Y22=$AC$1,I22,$AI$1) -> #REF! | BA22: =IF($Y22=$AC$2,I22,$AI$1) -> #REF! | BC22: =IF($Y22=$AC$1,J22,$AI$1) -> #REF! | BE22: =IF($Y22=$AC$2,J22,$AI$1) -> #REF! | BG22: =IF($Y22=$AC$1,K22,$AI$1) -> #REF! | BI22: =IF($Y22=$AC$2,K22,$AI$1) -> #REF! | BK22: =IF($Y22=$AC$1,L22,$AI$1) -> #REF! | BM22: =IF($Y22=$AC$2,L22,$AI$1) -> #REF! | BO22: =IF($Y22=$AC$1,M22,$AI$1) -> #REF! | BQ22: =IF($Y22=$AC$2,M22,$AI$1) -> #REF! | BS22: =IF($Y22=$AC$1,N22,$AI$1) -> #REF! | BU22: =IF($Y22=$AC$2,N22,$AI$1) -> #REF! | BW22: =IF($Y22=$AC$1,O22,$AI$1) -> #REF! | BY22: =IF($Y22=$AC$2,O22,$AI$1) -> #REF! | CA22: =IF($Y22=$AC$1,O22,$AI$1) -> #REF! | CC22: =IF($Y22=$AC$2,P22,$AI$1) -> #REF! | CE22: =IF($Y22=$AC$1,P22,$AI$1) -> #REF! | CG22: =IF($Y22=$AC$2,Q22,$AI$1) -> #REF! | CI22: =IF($Y22=$AC$1,Q22,$AI$1) -> #REF! | CK22: =IF($Y22=$AC$2,R22,$AI$1) -> #REF! | CL22: =IF($Y22=$AC$1,R22,$AI$1) -> #REF! | CN22: =IF($Y22=$AC$2,S22,$AI$1) -> #REF! | CP22: =IF($Y22=$AC$1,S22,$AI$1) -> #REF! | CR22: =IF($Y22=$AC$2,T22,$AI$1) -> #REF! | CT22: =IF($Y22=$AC$1,T22,$AI$1) -> #REF! | CV22: =IF($Y22=$AC$2,U22,$AI$1) -> #REF! | CX22: =IF($Y22=$AC$1,U22,$AI$1) -> #REF! | CY22: =IF($Y22=$AC$2,V22,$AI$1) -> #REF! | DA22: =IF($Y22=$AC$1,V22,$AI$1) -> #REF! | DC22: =IF($Y22=$AC$2,W22,$AI$1) -> #REF! | DE22: =IF($Y22=$AC$1,W22,$AI$1) -> #REF! | DG22: =IF($Y22=$AC$2,X22,$AI$1) -> #REF!
A23: 20 | B23: =(ATHLÈTES!A21&" "&ATHLÈTES!B21) -> TTT Samba | C23: =ATHLÈTES!B21 -> Samba | D23: =IF(AD23<>$AE$1,$AE$2,"") | E23: =ATHLÈTES!D21 -> 405929 | Y23: =IF(C23<>"",VLOOKUP(C23,#REF!,2,FALSE),"") -> #REF! | Z23: =IF(B23<>"",$Z$1,"") -> US CRÉTEIL | AA23: =(D23) | AB23: =IF(Y23="femme",$AD$1,$AD$2) -> #REF! | AC23: =(B23&" "&C23) -> TTT Samba Samba | AD23: =COUNTA(F23:X23) -> 0 | AF23: =IF(AE23<>"",VLOOKUP(AE23,#REF!,2,FALSE),"") | AG23: 2037 | AH23: =(AH24-1) -> 1971 | AI23: MASTERS | AM23: =IF($Y23=$AC$1,F23,$AI$1) -> #REF! | AO23: =IF($Y23=$AC$2,F23,$AI$1) -> #REF! | AQ23: =IF($Y23=$AC$1,G23,$AI$1) -> #REF! | AS23: =IF($Y23=$AC$2,G23,$AI$1) -> #REF! | AU23: =IF($Y23=$AC$1,H23,$AI$1) -> #REF! | AW23: =IF($Y23=$AC$2,H23,$AI$1) -> #REF! | AY23: =IF($Y23=$AC$1,I23,$AI$1) -> #REF! | BA23: =IF($Y23=$AC$2,I23,$AI$1) -> #REF! | BC23: =IF($Y23=$AC$1,J23,$AI$1) -> #REF! | BE23: =IF($Y23=$AC$2,J23,$AI$1) -> #REF! | BG23: =IF($Y23=$AC$1,K23,$AI$1) -> #REF! | BI23: =IF($Y23=$AC$2,K23,$AI$1) -> #REF! | BK23: =IF($Y23=$AC$1,L23,$AI$1) -> #REF! | BM23: =IF($Y23=$AC$2,L23,$AI$1) -> #REF! | BO23: =IF($Y23=$AC$1,M23,$AI$1) -> #REF! | BQ23: =IF($Y23=$AC$2,M23,$AI$1) -> #REF! | BS23: =IF($Y23=$AC$1,N23,$AI$1) -> #REF! | BU23: =IF($Y23=$AC$2,N23,$AI$1) -> #REF! | BW23: =IF($Y23=$AC$1,O23,$AI$1) -> #REF! | BY23: =IF($Y23=$AC$2,O23,$AI$1) -> #REF! | CA23: =IF($Y23=$AC$1,O23,$AI$1) -> #REF! | CC23: =IF($Y23=$AC$2,P23,$AI$1) -> #REF! | CE23: =IF($Y23=$AC$1,P23,$AI$1) -> #REF! | CG23: =IF($Y23=$AC$2,Q23,$AI$1) -> #REF! | CI23: =IF($Y23=$AC$1,Q23,$AI$1) -> #REF! | CK23: =IF($Y23=$AC$2,R23,$AI$1) -> #REF! | CL23: =IF($Y23=$AC$1,R23,$AI$1) -> #REF! | CN23: =IF($Y23=$AC$2,S23,$AI$1) -> #REF! | CP23: =IF($Y23=$AC$1,S23,$AI$1) -> #REF! | CR23: =IF($Y23=$AC$2,T23,$AI$1) -> #REF! | CT23: =IF($Y23=$AC$1,T23,$AI$1) -> #REF! | CV23: =IF($Y23=$AC$2,U23,$AI$1) -> #REF! | CX23: =IF($Y23=$AC$1,U23,$AI$1) -> #REF! | CY23: =IF($Y23=$AC$2,V23,$AI$1) -> #REF! | DA23: =IF($Y23=$AC$1,V23,$AI$1) -> #REF! | DC23: =IF($Y23=$AC$2,W23,$AI$1) -> #REF! | DE23: =IF($Y23=$AC$1,W23,$AI$1) -> #REF! | DG23: =IF($Y23=$AC$2,X23,$AI$1) -> #REF!
A24: 21 | B24: =(ATHLÈTES!A22&" "&ATHLÈTES!B22) -> UUU Miguel | C24: =ATHLÈTES!B22 -> Miguel | D24: =IF(AD24<>$AE$1,$AE$2,"") | E24: =ATHLÈTES!D22 -> 1513486 | Y24: =IF(C24<>"",VLOOKUP(C24,#REF!,2,FALSE),"") -> #REF! | Z24: =IF(B24<>"",$Z$1,"") -> US CRÉTEIL | AA24: =(D24) | AB24: =IF(Y24="femme",$AD$1,$AD$2) -> #REF! | AC24: =(B24&" "&C24) -> UUU Miguel Miguel | AD24: =COUNTA(F24:X24) -> 0 | AF24: =IF(AE24<>"",VLOOKUP(AE24,#REF!,2,FALSE),"") | AG24: 2038 | AH24: =(AH25-1) -> 1972 | AI24: MASTERS | AM24: =IF($Y24=$AC$1,F24,$AI$1) -> #REF! | AO24: =IF($Y24=$AC$2,F24,$AI$1) -> #REF! | AQ24: =IF($Y24=$AC$1,G24,$AI$1) -> #REF! | AS24: =IF($Y24=$AC$2,G24,$AI$1) -> #REF! | AU24: =IF($Y24=$AC$1,H24,$AI$1) -> #REF! | AW24: =IF($Y24=$AC$2,H24,$AI$1) -> #REF! | AY24: =IF($Y24=$AC$1,I24,$AI$1) -> #REF! | BA24: =IF($Y24=$AC$2,I24,$AI$1) -> #REF! | BC24: =IF($Y24=$AC$1,J24,$AI$1) -> #REF! | BE24: =IF($Y24=$AC$2,J24,$AI$1) -> #REF! | BG24: =IF($Y24=$AC$1,K24,$AI$1) -> #REF! | BI24: =IF($Y24=$AC$2,K24,$AI$1) -> #REF! | BK24: =IF($Y24=$AC$1,L24,$AI$1) -> #REF! | BM24: =IF($Y24=$AC$2,L24,$AI$1) -> #REF! | BO24: =IF($Y24=$AC$1,M24,$AI$1) -> #REF! | BQ24: =IF($Y24=$AC$2,M24,$AI$1) -> #REF! | BS24: =IF($Y24=$AC$1,N24,$AI$1) -> #REF! | BU24: =IF($Y24=$AC$2,N24,$AI$1) -> #REF! | BW24: =IF($Y24=$AC$1,O24,$AI$1) -> #REF! | BY24: =IF($Y24=$AC$2,O24,$AI$1) -> #REF! | CA24: =IF($Y24=$AC$1,O24,$AI$1) -> #REF! | CC24: =IF($Y24=$AC$2,P24,$AI$1) -> #REF! | CE24: =IF($Y24=$AC$1,P24,$AI$1) -> #REF! | CG24: =IF($Y24=$AC$2,Q24,$AI$1) -> #REF! | CI24: =IF($Y24=$AC$1,Q24,$AI$1) -> #REF! | CK24: =IF($Y24=$AC$2,R24,$AI$1) -> #REF! | CL24: =IF($Y24=$AC$1,R24,$AI$1) -> #REF! | CN24: =IF($Y24=$AC$2,S24,$AI$1) -> #REF! | CP24: =IF($Y24=$AC$1,S24,$AI$1) -> #REF! | CR24: =IF($Y24=$AC$2,T24,$AI$1) -> #REF! | CT24: =IF($Y24=$AC$1,T24,$AI$1) -> #REF! | CV24: =IF($Y24=$AC$2,U24,$AI$1) -> #REF! | CX24: =IF($Y24=$AC$1,U24,$AI$1) -> #REF! | CY24: =IF($Y24=$AC$2,V24,$AI$1) -> #REF! | DA24: =IF($Y24=$AC$1,V24,$AI$1) -> #REF! | DC24: =IF($Y24=$AC$2,W24,$AI$1) -> #REF! | DE24: =IF($Y24=$AC$1,W24,$AI$1) -> #REF! | DG24: =IF($Y24=$AC$2,X24,$AI$1) -> #REF!
... A36: 33 | B36: =(ATHLÈTES!A34&" "&ATHLÈTES!B34) -> GGGGHHH Lauryne | C36: =ATHLÈTES!B34 -> Lauryne | D36: =IF(AD36<>$AE$1,$AE$2,"") | E36: =ATHLÈTES!D34 -> 1026527 | Y36: =IF(C36<>"",VLOOKUP(C36,#REF!,2,FALSE),"") -> #REF! | Z36: =IF(B36<>"",$Z$1,"") -> US CRÉTEIL | AA36: =(D36) | AB36: =IF(Y36="femme",$AD$1,$AD$2) -> #REF! | AC36: =(B36&" "&C36) -> GGGGHHH Lauryne Lauryne | AD36: =COUNTA(F36:X36) -> 0 | AF36: =IF(AE36<>"",VLOOKUP(AE36,#REF!,2,FALSE),"") | AG36: 2050 | AH36: =(AH37-1) -> 1984 | AI36: SENIORS | AM36: =IF($Y36=$AC$1,F36,$AI$1) -> #REF! | AO36: =IF($Y36=$AC$2,F36,$AI$1) -> #REF! | AQ36: =IF($Y36=$AC$1,G36,$AI$1) -> #REF! | AS36: =IF($Y36=$AC$2,G36,$AI$1) -> #REF! | AU36: =IF($Y36=$AC$1,H36,$AI$1) -> #REF! | AW36: =IF($Y36=$AC$2,H36,$AI$1) -> #REF! | AY36: =IF($Y36=$AC$1,I36,$AI$1) -> #REF! | BA36: =IF($Y36=$AC$2,I36,$AI$1) -> #REF! | BC36: =IF($Y36=$AC$1,J36,$AI$1) -> #REF! | BE36: =IF($Y36=$AC$2,J36,$AI$1) -> #REF! | BG36: =IF($Y36=$AC$1,K36,$AI$1) -> #REF! | BI36: =IF($Y36=$AC$2,K36,$AI$1) -> #REF! | BK36: =IF($Y36=$AC$1,L36,$AI$1) -> #REF! | BM36: =IF($Y36=$AC$2,L36,$AI$1) -> #REF! | BO36: =IF($Y36=$AC$1,M36,$AI$1) -> #REF! | BQ36: =IF($Y36=$AC$2,M36,$AI$1) -> #REF! | BS36: =IF($Y36=$AC$1,N36,$AI$1) -> #REF! | BU36: =IF($Y36=$AC$2,N36,$AI$1) -> #REF! | BW36: =IF($Y36=$AC$1,O36,$AI$1) -> #REF! | BY36: =IF($Y36=$AC$2,O36,$AI$1) -> #REF! | CA36: =IF($Y36=$AC$1,O36,$AI$1) -> #REF! | CC36: =IF($Y36=$AC$2,P36,$AI$1) -> #REF! | CE36: =IF($Y36=$AC$1,P36,$AI$1) -> #REF! | CG36: =IF($Y36=$AC$2,Q36,$AI$1) -> #REF! | CI36: =IF($Y36=$AC$1,Q36,$AI$1) -> #REF! | CK36: =IF($Y36=$AC$2,R36,$AI$1) -> #REF! | CL36: =IF($Y36=$AC$1,R36,$AI$1) -> #REF! | CN36: =IF($Y36=$AC$2,S36,$AI$1) -> #REF! | CP36: =IF($Y36=$AC$1,S36,$AI$1) -> #REF! | CR36: =IF($Y36=$AC$2,T36,$AI$1) -> #REF! | CT36: =IF($Y36=$AC$1,T36,$AI$1) -> #REF! | CV36: =IF($Y36=$AC$2,U36,$AI$1) -> #REF! | CX36: =IF($Y36=$AC$1,U36,$AI$1) -> #REF! | CY36: =IF($Y36=$AC$2,V36,$AI$1) -> #REF! | DA36: =IF($Y36=$AC$1,V36,$AI$1) -> #REF! | DC36: =IF($Y36=$AC$2,W36,$AI$1) -> #REF! | DE36: =IF($Y36=$AC$1,W36,$AI$1) -> #REF! | DG36: =IF($Y36=$AC$2,X36,$AI$1) -> #REF!
A37: 34 | B37: =(ATHLÈTES!A35&" "&ATHLÈTES!B35) -> HHHHIII Steven | C37: =ATHLÈTES!B35 -> Steven | D37: =IF(AD37<>$AE$1,$AE$2,"") | E37: =ATHLÈTES!D35 -> 1746478 | Y37: =IF(C37<>"",VLOOKUP(C37,#REF!,2,FALSE),"") -> #REF! | Z37: =IF(B37<>"",$Z$1,"") -> US CRÉTEIL | AA37: =(D37) | AB37: =IF(Y37="femme",$AD$1,$AD$2) -> #REF! | AC37: =(B37&" "&C37) -> HHHHIII Steven Steven | AD37: =COUNTA(F37:X37) -> 0 | AF37: =IF(AE37<>"",VLOOKUP(AE37,#REF!,2,FALSE),"") | AH37: =(AH38-1) -> 1985 | AI37: SENIORS | AM37: =IF($Y37=$AC$1,F4,$AI$1) -> #REF! | AO37: =IF($Y37=$AC$2,F4,$AI$1) -> #REF! | AQ37: =IF($Y37=$AC$1,G4,$AI$1) -> #REF! | AS37: =IF($Y37=$AC$2,G4,$AI$1) -> #REF! | AU37: =IF($Y37=$AC$1,H4,$AI$1) -> #REF! | AW37: =IF($Y37=$AC$2,H4,$AI$1) -> #REF! | AY37: =IF($Y37=$AC$1,I4,$AI$1) -> #REF! | BA37: =IF($Y37=$AC$2,I4,$AI$1) -> #REF! | BC37: =IF($Y37=$AC$1,J4,$AI$1) -> #REF! | BE37: =IF($Y37=$AC$2,J4,$AI$1) -> #REF! | BG37: =IF($Y37=$AC$1,K4,$AI$1) -> #REF! | BI37: =IF($Y37=$AC$2,K4,$AI$1) -> #REF! | BK37: =IF($Y37=$AC$1,L4,$AI$1) -> #REF! | BM37: =IF($Y37=$AC$2,L4,$AI$1) -> #REF! | BO37: =IF($Y37=$AC$1,M4,$AI$1) -> #REF! | BQ37: =IF($Y37=$AC$2,M4,$AI$1) -> #REF! | BS37: =IF($Y37=$AC$1,N4,$AI$1) -> #REF! | BU37: =IF($Y37=$AC$2,N4,$AI$1) -> #REF! | BW37: =IF($Y37=$AC$1,O4,$AI$1) -> #REF! | BY37: =IF($Y37=$AC$2,O4,$AI$1) -> #REF! | CA37: =IF($Y37=$AC$1,O4,$AI$1) -> #REF! | CC37: =IF($Y37=$AC$2,P4,$AI$1) -> #REF! | CE37: =IF($Y37=$AC$1,P4,$AI$1) -> #REF! | CG37: =IF($Y37=$AC$2,Q4,$AI$1) -> #REF! | CI37: =IF($Y37=$AC$1,Q4,$AI$1) -> #REF! | CK37: =IF($Y37=$AC$2,R4,$AI$1) -> #REF! | CL37: =IF($Y37=$AC$1,R4,$AI$1) -> #REF! | CN37: =IF($Y37=$AC$2,S4,$AI$1) -> #REF! | CP37: =IF($Y37=$AC$1,S4,$AI$1) -> #REF! | CR37: =IF($Y37=$AC$2,T4,$AI$1) -> #REF! | CT37: =IF($Y37=$AC$1,T4,$AI$1) -> #REF! | CV37: =IF($Y37=$AC$2,U4,$AI$1) -> #REF! | CX37: =IF($Y37=$AC$1,U4,$AI$1) -> #REF! | CY37: =IF($Y37=$AC$2,V4,$AI$1) -> #REF! | DA37: =IF($Y37=$AC$1,V4,$AI$1) -> #REF! | DC37: =IF($Y37=$AC$2,W4,$AI$1) -> #REF! | DE37: =IF($Y37=$AC$1,W4,$AI$1) -> #REF! | DG37: =IF($Y37=$AC$2,X4,$AI$1) -> #REF!
A38: 35 | B38: =(ATHLÈTES!A36&" "&ATHLÈTES!B36) -> IIIJJJJJ PIERRE | C38: =ATHLÈTES!B36 -> PIERRE | D38: =IF(AD38<>$AE$1,$AE$2,"") | E38: =ATHLÈTES!D36 -> 1577594 | Y38: =IF(C38<>"",VLOOKUP(C38,#REF!,2,FALSE),"") -> #REF! | Z38: =IF(B38<>"",$Z$1,"") -> US CRÉTEIL | AA38: =(D38) | AB38: =IF(Y38="femme",$AD$1,$AD$2) -> #REF! | AC38: =(B38&" "&C38) -> IIIJJJJJ PIERRE PIERRE | AD38: =COUNTA(F38:X38) -> 0 | AF38: =IF(AE38<>"",VLOOKUP(AE38,#REF!,2,FALSE),"") | AH38: =(AH39-1) -> 1986 | AI38: SENIORS | AM38: =IF($Y38=$AC$1,F5,$AI$1) -> #REF! | AO38: =IF($Y38=$AC$2,F5,$AI$1) -> #REF! | AQ38: =IF($Y38=$AC$1,G5,$AI$1) -> #REF! | AS38: =IF($Y38=$AC$2,G5,$AI$1) -> #REF! | AU38: =IF($Y38=$AC$1,H5,$AI$1) -> #REF! | AW38: =IF($Y38=$AC$2,H5,$AI$1) -> #REF! | AY38: =IF($Y38=$AC$1,I5,$AI$1) -> #REF! | BA38: =IF($Y38=$AC$2,I5,$AI$1) -> #REF! | BC38: =IF($Y38=$AC$1,J5,$AI$1) -> #REF! | BE38: =IF($Y38=$AC$2,J5,$AI$1) -> #REF! | BG38: =IF($Y38=$AC$1,K5,$AI$1) -> #REF! | BI38: =IF($Y38=$AC$2,K5,$AI$1) -> #REF! | BK38: =IF($Y38=$AC$1,L5,$AI$1) -> #REF! | BM38: =IF($Y38=$AC$2,L5,$AI$1) -> #REF! | BO38: =IF($Y38=$AC$1,M5,$AI$1) -> #REF! | BQ38: =IF($Y38=$AC$2,M5,$AI$1) -> #REF! | BS38: =IF($Y38=$AC$1,N5,$AI$1) -> #REF! | BU38: =IF($Y38=$AC$2,N5,$AI$1) -> #REF! | BW38: =IF($Y38=$AC$1,O5,$AI$1) -> #REF! | BY38: =IF($Y38=$AC$2,O5,$AI$1) -> #REF! | CA38: =IF($Y38=$AC$1,O5,$AI$1) -> #REF! | CC38: =IF($Y38=$AC$2,P5,$AI$1) -> #REF! | CE38: =IF($Y38=$AC$1,P5,$AI$1) -> #REF! | CG38: =IF($Y38=$AC$2,Q5,$AI$1) -> #REF! | CI38: =IF($Y38=$AC$1,Q5,$AI$1) -> #REF! | CK38: =IF($Y38=$AC$2,R5,$AI$1) -> #REF! | CL38: =IF($Y38=$AC$1,R5,$AI$1) -> #REF! | CN38: =IF($Y38=$AC$2,S5,$AI$1) -> #REF! | CP38: =IF($Y38=$AC$1,S5,$AI$1) -> #REF! | CR38: =IF($Y38=$AC$2,T5,$AI$1) -> #REF! | CT38: =IF($Y38=$AC$1,T5,$AI$1) -> #REF! | CV38: =IF($Y38=$AC$2,U5,$AI$1) -> #REF! | CX38: =IF($Y38=$AC$1,U5,$AI$1) -> #REF! | CY38: =IF($Y38=$AC$2,V5,$AI$1) -> #REF! | DA38: =IF($Y38=$AC$1,V5,$AI$1) -> #REF! | DC38: =IF($Y38=$AC$2,W5,$AI$1) -> #REF! | DE38: =IF($Y38=$AC$1,W5,$AI$1) -> #REF! | DG38: =IF($Y38=$AC$2,X5,$AI$1) -> #REF!
A39: 36 | B39: =(ATHLÈTES!A37&" "&ATHLÈTES!B37) -> JJJJKKKK Christelle | C39: =ATHLÈTES!B37 -> Christelle | D39: =IF(AD39<>$AE$1,$AE$2,"") | E39: =ATHLÈTES!D37 -> 1577755 | Y39: =IF(C39<>"",VLOOKUP(C39,#REF!,2,FALSE),"") -> #REF! | Z39: =IF(B39<>"",$Z$1,"") -> US CRÉTEIL | AA39: =(D39) | AB39: =IF(Y39="femme",$AD$1,$AD$2) -> #REF! | AC39: =(B39&" "&C39) -> JJJJKKKK Christelle Christelle | AD39: =COUNTA(F39:X39) -> 0 | AF39: =IF(AE39<>"",VLOOKUP(AE39,#REF!,2,FALSE),"") | AH39: =(AH40-1) -> 1987 | AI39: SENIORS | AM39: =IF($Y39=$AC$1,F6,$AI$1) -> #REF! | AO39: =IF($Y39=$AC$2,F6,$AI$1) -> #REF! | AQ39: =IF($Y39=$AC$1,G6,$AI$1) -> #REF! | AS39: =IF($Y39=$AC$2,G6,$AI$1) -> #REF! | AU39: =IF($Y39=$AC$1,H6,$AI$1) -> #REF! | AW39: =IF($Y39=$AC$2,H6,$AI$1) -> #REF! | AY39: =IF($Y39=$AC$1,I6,$AI$1) -> #REF! | BA39: =IF($Y39=$AC$2,I6,$AI$1) -> #REF! | BC39: =IF($Y39=$AC$1,J6,$AI$1) -> #REF! | BE39: =IF($Y39=$AC$2,J6,$AI$1) -> #REF! | BG39: =IF($Y39=$AC$1,K6,$AI$1) -> #REF! | BI39: =IF($Y39=$AC$2,K6,$AI$1) -> #REF! | BK39: =IF($Y39=$AC$1,L6,$AI$1) -> #REF! | BM39: =IF($Y39=$AC$2,L6,$AI$1) -> #REF! | BO39: =IF($Y39=$AC$1,M6,$AI$1) -> #REF! | BQ39: =IF($Y39=$AC$2,M6,$AI$1) -> #REF! | BS39: =IF($Y39=$AC$1,N6,$AI$1) -> #REF! | BU39: =IF($Y39=$AC$2,N6,$AI$1) -> #REF! | BW39: =IF($Y39=$AC$1,O6,$AI$1) -> #REF! | BY39: =IF($Y39=$AC$2,O6,$AI$1) -> #REF! | CA39: =IF($Y39=$AC$1,O6,$AI$1) -> #REF! | CC39: =IF($Y39=$AC$2,P6,$AI$1) -> #REF! | CE39: =IF($Y39=$AC$1,P6,$AI$1) -> #REF! | CG39: =IF($Y39=$AC$2,Q6,$AI$1) -> #REF! | CI39: =IF($Y39=$AC$1,Q6,$AI$1) -> #REF! | CK39: =IF($Y39=$AC$2,R6,$AI$1) -> #REF! | CL39: =IF($Y39=$AC$1,R6,$AI$1) -> #REF! | CN39: =IF($Y39=$AC$2,S6,$AI$1) -> #REF! | CP39: =IF($Y39=$AC$1,S6,$AI$1) -> #REF! | CR39: =IF($Y39=$AC$2,T6,$AI$1) -> #REF! | CT39: =IF($Y39=$AC$1,T6,$AI$1) -> #REF! | CV39: =IF($Y39=$AC$2,U6,$AI$1) -> #REF! | CX39: =IF($Y39=$AC$1,U6,$AI$1) -> #REF! | CY39: =IF($Y39=$AC$2,V6,$AI$1) -> #REF! | DA39: =IF($Y39=$AC$1,V6,$AI$1) -> #REF! | DC39: =IF($Y39=$AC$2,W6,$AI$1) -> #REF! | DE39: =IF($Y39=$AC$1,W6,$AI$1) -> #REF! | DG39: =IF($Y39=$AC$2,X6,$AI$1) -> #REF!
