Workbook
Name A: #REF!
Name FEMME: CROSS!$BD$5
Name HOMME: CROSS!$BD$4

Sheet MASTER
B3: =Championnats!$B$3 -> 43101 | C3: =Championnats!$B$55 -> 43133 | D3: =Championnats!$B$107 -> 43162 | E3: =Championnats!$B$159 -> 43194 | F3: =Championnats!$B$211 -> 43225 | G3: =Championnats!$B$263 -> 43257 | H3: =Championnats!$B$315 -> 43288 | I3: =Championnats!$B$367 -> 43320 | J3: =Championnats!$B$419 -> 43352 | K3: =Championnats!$B$471 -> 43383 | M3: Partitipations CROSS | N3: Partitipations CHAMPIONNATS | V3: MIN | W3: MAX | Y3: CROSS | Z3: CROSS
B4: 50 m
A5: =(Championnats!B$4) -> AAA LUC | B5: =SUM(Championnats!F4) -> 0 | C5: =SUM(Championnats!F56) -> 0 | D5: =SUM(Championnats!F108) -> 0 | E5: =SUM(Championnats!F160) -> 0 | F5: =SUM(Championnats!F212) -> 0 | G5: =SUM(Championnats!F264) -> 0 | H5: =SUM(Championnats!F316) -> 0 | I5: =SUM(Championnats!F368) -> 0 | J5: =SUM(Championnats!F420) -> 0 | K5: =SUM(Championnats!F472) -> 0 | M5: =CROSS!$M$4 -> 1 | N5: =SUM(Championnats!AD4,Championnats!AD56,Championnats!AD108,Championnats!AD160,Championnats!AD212,Championnats!AD264,Championnats!AD316,Championnats!AD368,Championnats!AD420,Championnats!AD472) -> 0 | O5: =SUM(N5+M5) -> 1 | V5: {=MIN(IF(B5:K5>0,B5:K5))} -> 0 | W5: =MAX(B5:K5) -> 0 | Y5: =SUM(CROSS!I4) -> 7.9672131 | Z5: =SUM(CROSS!J4) -> 0 | AA5: =SUM(B5,B58,B110,B162,B214,B266,B318,B370,B422,B474,B526,B578,B630,B682,B734,B786,B838,B890,B942) -> 0 | AB5: =SUM(C5,C58,C110,C162,C214,C266,C318,C370,C422,C474,C526,C578,C630,C682,C734,C786,C838,C890,C942) -> 0 | AC5: =SUM(D5,D58,D110,D162,D214,D266,D318,D370,D422,D474,D526,D578,D630,D682,D734,D786,D838,D890,D942) -> 0 | AD5: =SUM(E5,E58,E110,E162,E214,E266,E318,E370,E422,E474,E526,E578,E630,E682,E734,E786,E838,E890,E942) -> 0 | AE5: =SUM(F5,F58,F110,F162,F214,F266,F318,F370,F422,F474,F526,F578,F630,F682,F734,F786,F838,F890,F942) -> 0 | AF5: =SUM(G5,G58,G110,G162,G214,G266,G318,G370,G422,G474,G526,G578,G630,G682,G734,G786,G838,G890,G942) -> 0 | AG5: =SUM(H5,H58,H110,H162,H214,H266,H318,H370,H422,H474,H526,H578,H630,H682,H734,H786,H838,H890,H942) -> 0 | AH5: =SUM(I5,I58,I110,I162,I214,I266,I318,I370,I422,I474,I526,I578,I630,I682,I734,I786,I838,I890,I942) -> 0 | ... AJ5: =SUM(K5,K58,K110,K162,K214,K266,K318,K370,K422,K474,K526,K578,K630,K682,K734,K786,K838,K890,K942) -> 0 | AK5: =COUNTIF(AA5:AJ5,">0") -> 0 | AL5: =A5 -> AAA LUC
A6: =(Championnats!B$5) -> BBB isabelle | B6: =SUM(Championnats!F5) -> 0 | C6: =SUM(Championnats!F57) -> 0 | D6: =SUM(Championnats!F109) -> 0 | E6: =SUM(Championnats!F161) -> 0 | F6: =SUM(Championnats!F213) -> 0 | G6: =SUM(Championnats!F265) -> 0 | H6: =SUM(Championnats!F317) -> 0 | I6: =SUM(Championnats!F369) -> 0 | J6: =SUM(Championnats!F421) -> 0 | K6: =SUM(Championnats!F473) -> 0 | M6: =CROSS!$M$5 -> 1 | N6: =SUM(Championnats!AD5,Championnats!AD57,Championnats!AD109,Championnats!AD161,Championnats!AD213,Championnats!AD265,Championnats!AD317,Championnats!AD369,Championnats!AD421,Championnats!AD473) -> 0 | V6: {=MIN(IF(B6:K6>0,B6:K6))} -> 0 | W6: =MAX(B6:K6) -> 0 | Y6: =SUM(CROSS!I5) -> 6.7868853 | Z6: =SUM(CROSS!J5) -> 0 | AA6: =SUM(B6,B59,B111,B163,B215,B267,B319,B371,B423,B475,B527,B579,B631,B683,B735,B787,B839,B891,B943) -> 0 | AB6: =SUM(C6,C59,C111,C163,C215,C267,C319,C371,C423,C475,C527,C579,C631,C683,C735,C787,C839,C891,C943) -> 0 | AC6: =SUM(D6,D59,D111,D163,D215,D267,D319,D371,D423,D475,D527,D579,D631,D683,D735,D787,D839,D891,D943) -> 0 | AD6: =SUM(E6,E59,E111,E163,E215,E267,E319,E371,E423,E475,E527,E579,E631,E683,E735,E787,E839,E891,E943) -> 0 | AE6: =SUM(F6,F59,F111,F163,F215,F267,F319,F371,F423,F475,F527,F579,F631,F683,F735,F787,F839,F891,F943) -> 0 | AF6: =SUM(G6,G59,G111,G163,G215,G267,G319,G371,G423,G475,G527,G579,G631,G683,G735,G787,G839,G891,G943) -> 0 | AG6: =SUM(H6,H59,H111,H163,H215,H267,H319,H371,H423,H475,H527,H579,H631,H683,H735,H787,H839,H891,H943) -> 0 | AH6: =SUM(I6,I59,I111,I163,I215,I267,I319,I371,I423,I475,I527,I579,I631,I683,I735,I787,I839,I891,I943) -> 0 | ... AJ6: =SUM(K6,K59,K111,K163,K215,K267,K319,K371,K423,K475,K527,K579,K631,K683,K735,K787,K839,K891,K943) -> 0 | AK6: =COUNTIF(AA6:AJ6,">0") -> 0 | AL6: =A6 -> BBB isabelle
A7: =(Championnats!B$6) -> KJKLJDFKJG Agathe | B7: =SUM(Championnats!F6) -> 0 | C7: =SUM(Championnats!F58) -> 0 | D7: =SUM(Championnats!F110) -> 0 | E7: =SUM(Championnats!F162) -> 0 | F7: =SUM(Championnats!F214) -> 0 | G7: =SUM(Championnats!F266) -> 0 | H7: =SUM(Championnats!F318) -> 0 | I7: =SUM(Championnats!F370) -> 0 | J7: =SUM(Championnats!F422) -> 0 | K7: =SUM(Championnats!F474) -> 0 | M7: =CROSS!$M$6 -> 1 | N7: =SUM(Championnats!AD6,Championnats!AD58,Championnats!AD110,Championnats!AD162,Championnats!AD214,Championnats!AD266,Championnats!AD318,Championnats!AD370,Championnats!AD422,Championnats!AD474) -> 0 | V7: {=MIN(IF(B7:K7>0,B7:K7))} -> 0 | W7: =MAX(B7:K7) -> 0 | Y7: =SUM(CROSS!I6) -> 9.1796009 | Z7: =SUM(CROSS!J6) -> 0 | AA7: =SUM(B7,B60,B112,B164,B216,B268,B320,B372,B424,B476,B528,B580,B632,B684,B736,B788,B840,B892,B944) -> 0 | AB7: =SUM(C7,C60,C112,C164,C216,C268,C320,C372,C424,C476,C528,C580,C632,C684,C736,C788,C840,C892,C944) -> 0 | AC7: =SUM(D7,D60,D112,D164,D216,D268,D320,D372,D424,D476,D528,D580,D632,D684,D736,D788,D840,D892,D944) -> 0 | AD7: =SUM(E7,E60,E112,E164,E216,E268,E320,E372,E424,E476,E528,E580,E632,E684,E736,E788,E840,E892,E944) -> 0 | AE7: =SUM(F7,F60,F112,F164,F216,F268,F320,F372,F424,F476,F528,F580,F632,F684,F736,F788,F840,F892,F944) -> 0 | AF7: =SUM(G7,G60,G112,G164,G216,G268,G320,G372,G424,G476,G528,G580,G632,G684,G736,G788,G840,G892,G944) -> 0 | AG7: =SUM(H7,H60,H112,H164,H216,H268,H320,H372,H424,H476,H528,H580,H632,H684,H736,H788,H840,H892,H944) -> 0 | AH7: =SUM(I7,I60,I112,I164,I216,I268,I320,I372,I424,I476,I528,I580,I632,I684,I736,I788,I840,I892,I944) -> 0 | ... AJ7: =SUM(K7,K60,K112,K164,K216,K268,K320,K372,K424,K476,K528,K580,K632,K684,K736,K788,K840,K892,K944) -> 0 | AK7: =COUNTIF(AA7:AJ7,">0") -> 0 | AL7: =A7 -> KJKLJDFKJG Agathe
A8: =(Championnats!B$7) -> DDD Léa | B8: =SUM(Championnats!F7) -> 0 | C8: =SUM(Championnats!F59) -> 0 | D8: =SUM(Championnats!F111) -> 0 | E8: =SUM(Championnats!F163) -> 0 | F8: =SUM(Championnats!F215) -> 0 | G8: =SUM(Championnats!F267) -> 0 | H8: =SUM(Championnats!F319) -> 0 | I8: =SUM(Championnats!F371) -> 0 | J8: =SUM(Championnats!F423) -> 0 | K8: =SUM(Championnats!F475) -> 0 | M8: =CROSS!$M$7 -> 1 | N8: =SUM(Championnats!AD7,Championnats!AD59,Championnats!AD111,Championnats!AD163,Championnats!AD215,Championnats!AD267,Championnats!AD319,Championnats!AD371,Championnats!AD423,Championnats!AD475) -> 0 | V8: {=MIN(IF(B8:K8>0,B8:K8))} -> 0 | W8: =MAX(B8:K8) -> 0 | Y8: =SUM(CROSS!I7) -> 13.663366 | Z8: =SUM(CROSS!J7) -> 0 | AA8: =SUM(B8,B61,B113,B165,B217,B269,B321,B373,B425,B477,B529,B581,B633,B685,B737,B789,B841,B893,B945) -> 0 | AB8: =SUM(C8,C61,C113,C165,C217,C269,C321,C373,C425,C477,C529,C581,C633,C685,C737,C789,C841,C893,C945) -> 0 | AC8: =SUM(D8,D61,D113,D165,D217,D269,D321,D373,D425,D477,D529,D581,D633,D685,D737,D789,D841,D893,D945) -> 0 | AD8: =SUM(E8,E61,E113,E165,E217,E269,E321,E373,E425,E477,E529,E581,E633,E685,E737,E789,E841,E893,E945) -> 0 | AE8: =SUM(F8,F61,F113,F165,F217,F269,F321,F373,F425,F477,F529,F581,F633,F685,F737,F789,F841,F893,F945) -> 0 | AF8: =SUM(G8,G61,G113,G165,G217,G269,G321,G373,G425,G477,G529,G581,G633,G685,G737,G789,G841,G893,G945) -> 0 | AG8: =SUM(H8,H61,H113,H165,H217,H269,H321,H373,H425,H477,H529,H581,H633,H685,H737,H789,H841,H893,H945) -> 0 | AH8: =SUM(I8,I61,I113,I165,I217,I269,I321,I373,I425,I477,I529,I581,I633,I685,I737,I789,I841,I893,I945) -> 0 | ... AJ8: =SUM(K8,K61,K113,K165,K217,K269,K321,K373,K425,K477,K529,K581,K633,K685,K737,K789,K841,K893,K945) -> 0 | AK8: =COUNTIF(AA8:AJ8,">0") -> 0 | AL8: =A8 -> DDD Léa
A9: =(Championnats!B$8) -> KUYFRJGF Mélissa | B9: =SUM(Championnats!F8) -> 0 | C9: =SUM(Championnats!F60) -> 0 | D9: =SUM(Championnats!F112) -> 0 | E9: =SUM(Championnats!F164) -> 0 | F9: =SUM(Championnats!F216) -> 0 | G9: =SUM(Championnats!F268) -> 0 | H9: =SUM(Championnats!F320) -> 0 | I9: =SUM(Championnats!F372) -> 0 | J9: =SUM(Championnats!F424) -> 0 | K9: =SUM(Championnats!F476) -> 0 | M9: =CROSS!$M$8 -> 1 | N9: =SUM(Championnats!AD8,Championnats!AD60,Championnats!AD112,Championnats!AD164,Championnats!AD216,Championnats!AD268,Championnats!AD320,Championnats!AD372,Championnats!AD424,Championnats!AD476) -> 0 | V9: {=MIN(IF(B9:K9>0,B9:K9))} -> 0 | W9: =MAX(B9:K9) -> 0 | Y9: =SUM(CROSS!I8) -> 12.069971 | Z9: =SUM(CROSS!J8) -> 0 | AA9: =SUM(B9,B62,B114,B166,B218,B270,B322,B374,B426,B478,B530,B582,B634,B686,B738,B790,B842,B894,B946) -> 0 | AB9: =SUM(C9,C62,C114,C166,C218,C270,C322,C374,C426,C478,C530,C582,C634,C686,C738,C790,C842,C894,C946) -> 0 | AC9: =SUM(D9,D62,D114,D166,D218,D270,D322,D374,D426,D478,D530,D582,D634,D686,D738,D790,D842,D894,D946) -> 0 | AD9: =SUM(E9,E62,E114,E166,E218,E270,E322,E374,E426,E478,E530,E582,E634,E686,E738,E790,E842,E894,E946) -> 0 | AE9: =SUM(F9,F62,F114,F166,F218,F270,F322,F374,F426,F478,F530,F582,F634,F686,F738,F790,F842,F894,F946) -> 0 | AF9: =SUM(G9,G62,G114,G166,G218,G270,G322,G374,G426,G478,G530,G582,G634,G686,G738,G790,G842,G894,G946) -> 0 | AG9: =SUM(H9,H62,H114,H166,H218,H270,H322,H374,H426,H478,H530,H582,H634,H686,H738,H790,H842,H894,H946) -> 0 | AH9: =SUM(I9,I62,I114,I166,I218,I270,I322,I374,I426,I478,I530,I582,I634,I686,I738,I790,I842,I894,I946) -> 0 | ... AJ9: =SUM(K9,K62,K114,K166,K218,K270,K322,K374,K426,K478,K530,K582,K634,K686,K738,K790,K842,K894,K946) -> 0 | AK9: =COUNTIF(AA9:AJ9,">0") -> 0 | AL9: =A9 -> KUYFRJGF Mélissa
A10: =(Championnats!B$9) -> FFF Eric | B10: =SUM(Championnats!F9) -> 0 | C10: =SUM(Championnats!F61) -> 0 | D10: =SUM(Championnats!F113) -> 0 | E10: =SUM(Championnats!F165) -> 0 | F10: =SUM(Championnats!F217) -> 0 | G10: =SUM(Championnats!F269) -> 0 | H10: =SUM(Championnats!F321) -> 0 | I10: =SUM(Championnats!F373) -> 0 | J10: =SUM(Championnats!F425) -> 0 | K10: =SUM(Championnats!F477) -> 0 | M10: =CROSS!$M$9 -> 1 | N10: =SUM(Championnats!AD9,Championnats!AD61,Championnats!AD113,Championnats!AD165,Championnats!AD217,Championnats!AD269,Championnats!AD321,Championnats!AD373,Championnats!AD425,Championnats!AD477) -> 0 | V10: {=MIN(IF(B10:K10>0,B10:K10))} -> 0 | W10: =MAX(B10:K10) -> 0 | Y10: =SUM(CROSS!I9) -> 12.874172 | Z10: =SUM(CROSS!J9) -> 0 | AA10: =SUM(B10,B63,B115,B167,B219,B271,B323,B375,B427,B479,B531,B583,B635,B687,B739,B791,B843,B895,B947) -> 0 | AB10: =SUM(C10,C63,C115,C167,C219,C271,C323,C375,C427,C479,C531,C583,C635,C687,C739,C791,C843,C895,C947) -> 0 | AC10: =SUM(D10,D63,D115,D167,D219,D271,D323,D375,D427,D479,D531,D583,D635,D687,D739,D791,D843,D895,D947) -> 0 | AD10: =SUM(E10,E63,E115,E167,E219,E271,E323,E375,E427,E479,E531,E583,E635,E687,E739,E791,E843,E895,E947) -> 0 | AE10: =SUM(F10,F63,F115,F167,F219,F271,F323,F375,F427,F479,F531,F583,F635,F687,F739,F791,F843,F895,F947) -> 0 | AF10: =SUM(G10,G63,G115,G167,G219,G271,G323,G375,G427,G479,G531,G583,G635,G687,G739,G791,G843,G895,G947) -> 0 | AG10: =SUM(H10,H63,H115,H167,H219,H271,H323,H375,H427,H479,H531,H583,H635,H687,H739,H791,H843,H895,H947) -> 0 | AH10: =SUM(I10,I63,I115,I167,I219,I271,I323,I375,I427,I479,I531,I583,I635,I687,I739,I791,I843,I895,I947) -> 0 | ... AJ10: =SUM(K10,K63,K115,K167,K219,K271,K323,K375,K427,K479,K531,K583,K635,K687,K739,K791,K843,K895,K947) -> 0 | AK10: =COUNTIF(AA10:AJ10,">0") -> 0 | AL10: =A10 -> FFF Eric
A11: =(Championnats!B$10) -> GGG Lucie | B11: =SUM(Championnats!F10) -> 0 | C11: =SUM(Championnats!F62) -> 0 | D11: =SUM(Championnats!F114) -> 0 | E11: =SUM(Championnats!F166) -> 0 | F11: =SUM(Championnats!F218) -> 0 | G11: =SUM(Championnats!F270) -> 0 | H11: =SUM(Championnats!F322) -> 0 | I11: =SUM(Championnats!F374) -> 0 | J11: =SUM(Championnats!F426) -> 0 | K11: =SUM(Championnats!F478) -> 0 | M11: =CROSS!$M$10 -> 0 | N11: =SUM(Championnats!AD10,Championnats!AD62,Championnats!AD114,Championnats!AD166,Championnats!AD218,Championnats!AD270,Championnats!AD322,Championnats!AD374,Championnats!AD426,Championnats!AD478) -> 0 | V11: {=MIN(IF(B11:K11>0,B11:K11))} -> 0 | W11: =MAX(B11:K11) -> 0 | Y11: =SUM(CROSS!I10) -> 0 | Z11: =SUM(CROSS!J10) -> 0 | AA11: =SUM(B11,B64,B116,B168,B220,B272,B324,B376,B428,B480,B532,B584,B636,B688,B740,B792,B844,B896,B948) -> 0 | AB11: =SUM(C11,C64,C116,C168,C220,C272,C324,C376,C428,C480,C532,C584,C636,C688,C740,C792,C844,C896,C948) -> 0 | AC11: =SUM(D11,D64,D116,D168,D220,D272,D324,D376,D428,D480,D532,D584,D636,D688,D740,D792,D844,D896,D948) -> 0 | AD11: =SUM(E11,E64,E116,E168,E220,E272,E324,E376,E428,E480,E532,E584,E636,E688,E740,E792,E844,E896,E948) -> 0 | AE11: =SUM(F11,F64,F116,F168,F220,F272,F324,F376,F428,F480,F532,F584,F636,F688,F740,F792,F844,F896,F948) -> 0 | AF11: =SUM(G11,G64,G116,G168,G220,G272,G324,G376,G428,G480,G532,G584,G636,G688,G740,G792,G844,G896,G948) -> 0 | AG11: =SUM(H11,H64,H116,H168,H220,H272,H324,H376,H428,H480,H532,H584,H636,H688,H740,H792,H844,H896,H948) -> 0 | AH11: =SUM(I11,I64,I116,I168,I220,I272,I324,I376,I428,I480,I532,I584,I636,I688,I740,I792,I844,I896,I948) -> 0 | ... AJ11: =SUM(K11,K64,K116,K168,K220,K272,K324,K376,K428,K480,K532,K584,K636,K688,K740,K792,K844,K896,K948) -> 0 | AK11: =COUNTIF(AA11:AJ11,">0") -> 0 | AL11: =A11 -> GGG Lucie
A12: =(Championnats!B$11) -> HHH Eva | B12: =SUM(Championnats!F11) -> 0 | C12: =SUM(Championnats!F63) -> 0 | D12: =SUM(Championnats!F115) -> 0 | E12: =SUM(Championnats!F167) -> 0 | F12: =SUM(Championnats!F219) -> 0 | G12: =SUM(Championnats!F271) -> 0 | H12: =SUM(Championnats!F323) -> 0 | I12: =SUM(Championnats!F375) -> 0 | J12: =SUM(Championnats!F427) -> 0 | K12: =SUM(Championnats!F479) -> 0 | M12: =CROSS!$M$11 -> 0 | N12: =SUM(Championnats!AD11,Championnats!AD63,Championnats!AD115,Championnats!AD167,Championnats!AD219,Championnats!AD271,Championnats!AD323,Championnats!AD375,Championnats!AD427,Championnats!AD479) -> 0 | V12: {=MIN(IF(B12:K12>0,B12:K12))} -> 0 | W12: =MAX(B12:K12) -> 0 | Y12: =SUM(CROSS!I11) -> 0 | Z12: =SUM(CROSS!J11) -> 0 | AA12: =SUM(B12,B65,B117,B169,B221,B273,B325,B377,B429,B481,B533,B585,B637,B689,B741,B793,B845,B897,B949) -> 0 | AB12: =SUM(C12,C65,C117,C169,C221,C273,C325,C377,C429,C481,C533,C585,C637,C689,C741,C793,C845,C897,C949) -> 0 | AC12: =SUM(D12,D65,D117,D169,D221,D273,D325,D377,D429,D481,D533,D585,D637,D689,D741,D793,D845,D897,D949) -> 0 | AD12: =SUM(E12,E65,E117,E169,E221,E273,E325,E377,E429,E481,E533,E585,E637,E689,E741,E793,E845,E897,E949) -> 0 | AE12: =SUM(F12,F65,F117,F169,F221,F273,F325,F377,F429,F481,F533,F585,F637,F689,F741,F793,F845,F897,F949) -> 0 | AF12: =SUM(G12,G65,G117,G169,G221,G273,G325,G377,G429,G481,G533,G585,G637,G689,G741,G793,G845,G897,G949) -> 0 | AG12: =SUM(H12,H65,H117,H169,H221,H273,H325,H377,H429,H481,H533,H585,H637,H689,H741,H793,H845,H897,H949) -> 0 | AH12: =SUM(I12,I65,I117,I169,I221,I273,I325,I377,I429,I481,I533,I585,I637,I689,I741,I793,I845,I897,I949) -> 0 | ... AJ12: =SUM(K12,K65,K117,K169,K221,K273,K325,K377,K429,K481,K533,K585,K637,K689,K741,K793,K845,K897,K949) -> 0 | AK12: =COUNTIF(AA12:AJ12,">0") -> 0 | AL12: =A12 -> HHH Eva
A13: =(Championnats!B$12) -> PERNOIS LUC | B13: =SUM(Championnats!F12) -> 7.2 | C13: =SUM(Championnats!F64) -> 0 | D13: =SUM(Championnats!F116) -> 0 | E13: =SUM(Championnats!F168) -> 0 | F13: =SUM(Championnats!F220) -> 0 | G13: =SUM(Championnats!F272) -> 0 | H13: =SUM(Championnats!F324) -> 0 | I13: =SUM(Championnats!F376) -> 0 | J13: =SUM(Championnats!F428) -> 0 | K13: =SUM(Championnats!F480) -> 0 | M13: =CROSS!$M$12 -> 0 | N13: =SUM(Championnats!AD12,Championnats!AD64,Championnats!AD116,Championnats!AD168,Championnats!AD220,Championnats!AD272,Championnats!AD324,Championnats!AD376,Championnats!AD428,Championnats!AD480) -> 11 | V13: {=MIN(IF(B13:K13>0,B13:K13))} -> 7.2 | W13: =MAX(B13:K13) -> 7.2 | Y13: =SUM(CROSS!I12) -> 0 | Z13: =SUM(CROSS!J12) -> 0 | AA13: =SUM(B13,B66,B118,B170,B222,B274,B326,B378,B430,B482,B534,B586,B638,B690,B742,B794,B846,B898,B950) -> 169.51 | AB13: =SUM(C13,C66,C118,C170,C222,C274,C326,C378,C430,C482,C534,C586,C638,C690,C742,C794,C846,C898,C950) -> 0 | AC13: =SUM(D13,D66,D118,D170,D222,D274,D326,D378,D430,D482,D534,D586,D638,D690,D742,D794,D846,D898,D950) -> 0 | AD13: =SUM(E13,E66,E118,E170,E222,E274,E326,E378,E430,E482,E534,E586,E638,E690,E742,E794,E846,E898,E950) -> 0 | AE13: =SUM(F13,F66,F118,F170,F222,F274,F326,F378,F430,F482,F534,F586,F638,F690,F742,F794,F846,F898,F950) -> 0 | AF13: =SUM(G13,G66,G118,G170,G222,G274,G326,G378,G430,G482,G534,G586,G638,G690,G742,G794,G846,G898,G950) -> 0 | AG13: =SUM(H13,H66,H118,H170,H222,H274,H326,H378,H430,H482,H534,H586,H638,H690,H742,H794,H846,H898,H950) -> 0 | AH13: =SUM(I13,I66,I118,I170,I222,I274,I326,I378,I430,I482,I534,I586,I638,I690,I742,I794,I846,I898,I950) -> 0 | ... AJ13: =SUM(K13,K66,K118,K170,K222,K274,K326,K378,K430,K482,K534,K586,K638,K690,K742,K794,K846,K898,K950) -> 0 | AK13: =COUNTIF(AA13:AJ13,">0") -> 1 | AL13: =A13 -> PERNOIS LUC
A14: =(Championnats!B$13) -> JJJ Mélania | B14: =SUM(Championnats!F13) -> 0 | C14: =SUM(Championnats!F65) -> 0 | D14: =SUM(Championnats!F117) -> 0 | E14: =SUM(Championnats!F169) -> 0 | F14: =SUM(Championnats!F221) -> 0 | G14: =SUM(Championnats!F273) -> 0 | H14: =SUM(Championnats!F325) -> 0 | I14: =SUM(Championnats!F377) -> 0 | J14: =SUM(Championnats!F429) -> 0 | K14: =SUM(Championnats!F481) -> 0 | M14: =CROSS!$M$13 -> 0 | N14: =SUM(Championnats!AD13,Championnats!AD65,Championnats!AD117,Championnats!AD169,Championnats!AD221,Championnats!AD273,Championnats!AD325,Championnats!AD377,Championnats!AD429,Championnats!AD481) -> 0 | V14: {=MIN(IF(B14:K14>0,B14:K14))} -> 0 | W14: =MAX(B14:K14) -> 0 | Y14: =SUM(CROSS!I13) -> 0 | Z14: =SUM(CROSS!J13) -> 0 | AA14: =SUM(B14,B67,B119,B171,B223,B275,B327,B379,B431,B483,B535,B587,B639,B691,B743,B795,B847,B899,B951) -> 0 | AB14: =SUM(C14,C67,C119,C171,C223,C275,C327,C379,C431,C483,C535,C587,C639,C691,C743,C795,C847,C899,C951) -> 0 | AC14: =SUM(D14,D67,D119,D171,D223,D275,D327,D379,D431,D483,D535,D587,D639,D691,D743,D795,D847,D899,D951) -> 0 | AD14: =SUM(E14,E67,E119,E171,E223,E275,E327,E379,E431,E483,E535,E587,E639,E691,E743,E795,E847,E899,E951) -> 0 | AE14: =SUM(F14,F67,F119,F171,F223,F275,F327,F379,F431,F483,F535,F587,F639,F691,F743,F795,F847,F899,F951) -> 0 | AF14: =SUM(G14,G67,G119,G171,G223,G275,G327,G379,G431,G483,G535,G587,G639,G691,G743,G795,G847,G899,G951) -> 0 | AG14: =SUM(H14,H67,H119,H171,H223,H275,H327,H379,H431,H483,H535,H587,H639,H691,H743,H795,H847,H899,H951) -> 0 | AH14: =SUM(I14,I67,I119,I171,I223,I275,I327,I379,I431,I483,I535,I587,I639,I691,I743,I795,I847,I899,I951) -> 0 | ... AJ14: =SUM(K14,K67,K119,K171,K223,K275,K327,K379,K431,K483,K535,K587,K639,K691,K743,K795,K847,K899,K951) -> 0 | AK14: =COUNTIF(AA14:AJ14,">0") -> 0 | AL14: =A14 -> JJJ Mélania
A15: =(Championnats!B$14) -> KKK Mélanie | B15: =SUM(Championnats!F14) -> 0 | C15: =SUM(Championnats!F66) -> 0 | D15: =SUM(Championnats!F118) -> 0 | E15: =SUM(Championnats!F170) -> 0 | F15: =SUM(Championnats!F222) -> 0 | G15: =SUM(Championnats!F274) -> 0 | H15: =SUM(Championnats!F326) -> 0 | I15: =SUM(Championnats!F378) -> 0 | J15: =SUM(Championnats!F430) -> 0 | K15: =SUM(Championnats!F482) -> 0 | M15: =CROSS!$M$14 -> 0 | N15: =SUM(Championnats!AD14,Championnats!AD66,Championnats!AD118,Championnats!AD170,Championnats!AD222,Championnats!AD274,Championnats!AD326,Championnats!AD378,Championnats!AD430,Championnats!AD482) -> 0 | V15: {=MIN(IF(B15:K15>0,B15:K15))} -> 0 | W15: =MAX(B15:K15) -> 0 | Y15: =SUM(CROSS!I14) -> 0 | Z15: =SUM(CROSS!J14) -> 0 | AA15: =SUM(B15,B68,B120,B172,B224,B276,B328,B380,B432,B484,B536,B588,B640,B692,B744,B796,B848,B900,B952) -> 0 | AB15: =SUM(C15,C68,C120,C172,C224,C276,C328,C380,C432,C484,C536,C588,C640,C692,C744,C796,C848,C900,C952) -> 0 | AC15: =SUM(D15,D68,D120,D172,D224,D276,D328,D380,D432,D484,D536,D588,D640,D692,D744,D796,D848,D900,D952) -> 0 | AD15: =SUM(E15,E68,E120,E172,E224,E276,E328,E380,E432,E484,E536,E588,E640,E692,E744,E796,E848,E900,E952) -> 0 | AE15: =SUM(F15,F68,F120,F172,F224,F276,F328,F380,F432,F484,F536,F588,F640,F692,F744,F796,F848,F900,F952) -> 0 | AF15: =SUM(G15,G68,G120,G172,G224,G276,G328,G380,G432,G484,G536,G588,G640,G692,G744,G796,G848,G900,G952) -> 0 | AG15: =SUM(H15,H68,H120,H172,H224,H276,H328,H380,H432,H484,H536,H588,H640,H692,H744,H796,H848,H900,H952) -> 0 | AH15: =SUM(I15,I68,I120,I172,I224,I276,I328,I380,I432,I484,I536,I588,I640,I692,I744,I796,I848,I900,I952) -> 0 | ... AJ15: =SUM(K15,K68,K120,K172,K224,K276,K328,K380,K432,K484,K536,K588,K640,K692,K744,K796,K848,K900,K952) -> 0 | AK15: =COUNTIF(AA15:AJ15,">0") -> 0 | AL15: =A15 -> KKK Mélanie
A16: =(Championnats!B$15) -> LLL Cryss | B16: =SUM(Championnats!F15) -> 0 | C16: =SUM(Championnats!F67) -> 0 | D16: =SUM(Championnats!F119) -> 0 | E16: =SUM(Championnats!F171) -> 0 | F16: =SUM(Championnats!F223) -> 0 | G16: =SUM(Championnats!F275) -> 0 | H16: =SUM(Championnats!F327) -> 0 | I16: =SUM(Championnats!F379) -> 0 | J16: =SUM(Championnats!F431) -> 0 | K16: =SUM(Championnats!F483) -> 0 | M16: =CROSS!$M$15 -> 0 | N16: =SUM(Championnats!AD15,Championnats!AD67,Championnats!AD119,Championnats!AD171,Championnats!AD223,Championnats!AD275,Championnats!AD327,Championnats!AD379,Championnats!AD431,Championnats!AD483) -> 0 | V16: {=MIN(IF(B16:K16>0,B16:K16))} -> 0 | W16: =MAX(B16:K16) -> 0 | Y16: =SUM(CROSS!I15) -> 0 | Z16: =SUM(CROSS!J15) -> 0 | AA16: =SUM(B16,B69,B121,B173,B225,B277,B329,B381,B433,B485,B537,B589,B641,B693,B745,B797,B849,B901,B953) -> 0 | AB16: =SUM(C16,C69,C121,C173,C225,C277,C329,C381,C433,C485,C537,C589,C641,C693,C745,C797,C849,C901,C953) -> 0 | AC16: =SUM(D16,D69,D121,D173,D225,D277,D329,D381,D433,D485,D537,D589,D641,D693,D745,D797,D849,D901,D953) -> 0 | AD16: =SUM(E16,E69,E121,E173,E225,E277,E329,E381,E433,E485,E537,E589,E641,E693,E745,E797,E849,E901,E953) -> 0 | AE16: =SUM(F16,F69,F121,F173,F225,F277,F329,F381,F433,F485,F537,F589,F641,F693,F745,F797,F849,F901,F953) -> 0 | AF16: =SUM(G16,G69,G121,G173,G225,G277,G329,G381,G433,G485,G537,G589,G641,G693,G745,G797,G849,G901,G953) -> 0 | AG16: =SUM(H16,H69,H121,H173,H225,H277,H329,H381,H433,H485,H537,H589,H641,H693,H745,H797,H849,H901,H953) -> 0 | AH16: =SUM(I16,I69,I121,I173,I225,I277,I329,I381,I433,I485,I537,I589,I641,I693,I745,I797,I849,I901,I953) -> 0 | ... AJ16: =SUM(K16,K69,K121,K173,K225,K277,K329,K381,K433,K485,K537,K589,K641,K693,K745,K797,K849,K901,K953) -> 0 | AK16: =COUNTIF(AA16:AJ16,">0") -> 0 | AL16: =A16 -> LLL Cryss
A17: =(Championnats!B$16) -> MMMM Sambou | B17: =SUM(Championnats!F16) -> 0 | C17: =SUM(Championnats!F68) -> 0 | D17: =SUM(Championnats!F120) -> 0 | E17: =SUM(Championnats!F172) -> 0 | F17: =SUM(Championnats!F224) -> 0 | G17: =SUM(Championnats!F276) -> 0 | H17: =SUM(Championnats!F328) -> 0 | I17: =SUM(Championnats!F380) -> 0 | J17: =SUM(Championnats!F432) -> 0 | K17: =SUM(Championnats!F484) -> 0 | M17: =CROSS!$M$16 -> 0 | N17: =SUM(Championnats!AD16,Championnats!AD68,Championnats!AD120,Championnats!AD172,Championnats!AD224,Championnats!AD276,Championnats!AD328,Championnats!AD380,Championnats!AD432,Championnats!AD484) -> 0 | V17: {=MIN(IF(B17:K17>0,B17:K17))} -> 0 | W17: =MAX(B17:K17) -> 0 | Y17: =SUM(CROSS!I16) -> 0 | Z17: =SUM(CROSS!J16) -> 0 | AA17: =SUM(B17,B70,B122,B174,B226,B278,B330,B382,B434,B486,B538,B590,B642,B694,B746,B798,B850,B902,B954) -> 0 | AB17: =SUM(C17,C70,C122,C174,C226,C278,C330,C382,C434,C486,C538,C590,C642,C694,C746,C798,C850,C902,C954) -> 0 | AC17: =SUM(D17,D70,D122,D174,D226,D278,D330,D382,D434,D486,D538,D590,D642,D694,D746,D798,D850,D902,D954) -> 0 | AD17: =SUM(E17,E70,E122,E174,E226,E278,E330,E382,E434,E486,E538,E590,E642,E694,E746,E798,E850,E902,E954) -> 0 | AE17: =SUM(F17,F70,F122,F174,F226,F278,F330,F382,F434,F486,F538,F590,F642,F694,F746,F798,F850,F902,F954) -> 0 | AF17: =SUM(G17,G70,G122,G174,G226,G278,G330,G382,G434,G486,G538,G590,G642,G694,G746,G798,G850,G902,G954) -> 0 | AG17: =SUM(H17,H70,H122,H174,H226,H278,H330,H382,H434,H486,H538,H590,H642,H694,H746,H798,H850,H902,H954) -> 0 | AH17: =SUM(I17,I70,I122,I174,I226,I278,I330,I382,I434,I486,I538,I590,I642,I694,I746,I798,I850,I902,I954) -> 0 | ... AJ17: =SUM(K17,K70,K122,K174,K226,K278,K330,K382,K434,K486,K538,K590,K642,K694,K746,K798,K850,K902,K954) -> 0 | AK17: =COUNTIF(AA17:AJ17,">0") -> 0 | AL17: =A17 -> MMMM Sambou
A18: =(Championnats!B$17) -> NNN Dylan | B18: =SUM(Championnats!F17) -> 0 | C18: =SUM(Championnats!F69) -> 0 | D18: =SUM(Championnats!F121) -> 0 | E18: =SUM(Championnats!F173) -> 0 | F18: =SUM(Championnats!F225) -> 0 | G18: =SUM(Championnats!F277) -> 0 | H18: =SUM(Championnats!F329) -> 0 | I18: =SUM(Championnats!F381) -> 0 | J18: =SUM(Championnats!F433) -> 0 | K18: =SUM(Championnats!F485) -> 0 | M18: =CROSS!$M$17 -> 0 | N18: =SUM(Championnats!AD17,Championnats!AD69,Championnats!AD121,Championnats!AD173,Championnats!AD225,Championnats!AD277,Championnats!AD329,Championnats!AD381,Championnats!AD433,Championnats!AD485) -> 0 | V18: {=MIN(IF(B18:K18>0,B18:K18))} -> 0 | W18: =MAX(B18:K18) -> 0 | Y18: =SUM(CROSS!I17) -> 0 | Z18: =SUM(CROSS!J17) -> 0 | AA18: =SUM(B18,B71,B123,B175,B227,B279,B331,B383,B435,B487,B539,B591,B643,B695,B747,B799,B851,B903,B955) -> 0 | AB18: =SUM(C18,C71,C123,C175,C227,C279,C331,C383,C435,C487,C539,C591,C643,C695,C747,C799,C851,C903,C955) -> 0 | AC18: =SUM(D18,D71,D123,D175,D227,D279,D331,D383,D435,D487,D539,D591,D643,D695,D747,D799,D851,D903,D955) -> 0 | AD18: =SUM(E18,E71,E123,E175,E227,E279,E331,E383,E435,E487,E539,E591,E643,E695,E747,E799,E851,E903,E955) -> 0 | AE18: =SUM(F18,F71,F123,F175,F227,F279,F331,F383,F435,F487,F539,F591,F643,F695,F747,F799,F851,F903,F955) -> 0 | AF18: =SUM(G18,G71,G123,G175,G227,G279,G331,G383,G435,G487,G539,G591,G643,G695,G747,G799,G851,G903,G955) -> 0 | AG18: =SUM(H18,H71,H123,H175,H227,H279,H331,H383,H435,H487,H539,H591,H643,H695,H747,H799,H851,H903,H955) -> 0 | AH18: =SUM(I18,I71,I123,I175,I227,I279,I331,I383,I435,I487,I539,I591,I643,I695,I747,I799,I851,I903,I955) -> 0 | ... AJ18: =SUM(K18,K71,K123,K175,K227,K279,K331,K383,K435,K487,K539,K591,K643,K695,K747,K799,K851,K903,K955) -> 0 | AK18: =COUNTIF(AA18:AJ18,">0") -> 0 | AL18: =A18 -> NNN Dylan
A19: =(Championnats!B$18) -> OOO Philippe | B19: =SUM(Championnats!F18) -> 0 | C19: =SUM(Championnats!F70) -> 0 | D19: =SUM(Championnats!F122) -> 0 | E19: =SUM(Championnats!F174) -> 0 | F19: =SUM(Championnats!F226) -> 0 | G19: =SUM(Championnats!F278) -> 0 | H19: =SUM(Championnats!F330) -> 0 | I19: =SUM(Championnats!F382) -> 0 | J19: =SUM(Championnats!F434) -> 0 | K19: =SUM(Championnats!F486) -> 0 | M19: =CROSS!$M$18 -> 0 | N19: =SUM(Championnats!AD18,Championnats!AD70,Championnats!AD122,Championnats!AD174,Championnats!AD226,Championnats!AD278,Championnats!AD330,Championnats!AD382,Championnats!AD434,Championnats!AD486) -> 0 | V19: {=MIN(IF(B19:K19>0,B19:K19))} -> 0 | W19: =MAX(B19:K19) -> 0 | Y19: =SUM(CROSS!I18) -> 0 | Z19: =SUM(CROSS!J18) -> 0 | AA19: =SUM(B19,B72,B124,B176,B228,B280,B332,B384,B436,B488,B540,B592,B644,B696,B748,B800,B852,B904,B956) -> 0 | AB19: =SUM(C19,C72,C124,C176,C228,C280,C332,C384,C436,C488,C540,C592,C644,C696,C748,C800,C852,C904,C956) -> 0 | AC19: =SUM(D19,D72,D124,D176,D228,D280,D332,D384,D436,D488,D540,D592,D644,D696,D748,D800,D852,D904,D956) -> 0 | AD19: =SUM(E19,E72,E124,E176,E228,E280,E332,E384,E436,E488,E540,E592,E644,E696,E748,E800,E852,E904,E956) -> 0 | AE19: =SUM(F19,F72,F124,F176,F228,F280,F332,F384,F436,F488,F540,F592,F644,F696,F748,F800,F852,F904,F956) -> 0 | AF19: =SUM(G19,G72,G124,G176,G228,G280,G332,G384,G436,G488,G540,G592,G644,G696,G748,G800,G852,G904,G956) -> 0 | AG19: =SUM(H19,H72,H124,H176,H228,H280,H332,H384,H436,H488,H540,H592,H644,H696,H748,H800,H852,H904,H956) -> 0 | AH19: =SUM(I19,I72,I124,I176,I228,I280,I332,I384,I436,I488,I540,I592,I644,I696,I748,I800,I852,I904,I956) -> 0 | ... AJ19: =SUM(K19,K72,K124,K176,K228,K280,K332,K384,K436,K488,K540,K592,K644,K696,K748,K800,K852,K904,K956) -> 0 | AK19: =COUNTIF(AA19:AJ19,">0") -> 0 | AL19: =A19 -> OOO Philippe
A20: =(Championnats!B$19) -> PPP Oumar | B20: =SUM(Championnats!F19) -> 0 | C20: =SUM(Championnats!F71) -> 0 | D20: =SUM(Championnats!F123) -> 0 | E20: =SUM(Championnats!F175) -> 0 | F20: =SUM(Championnats!F227) -> 0 | G20: =SUM(Championnats!F279) -> 0 | H20: =SUM(Championnats!F331) -> 0 | I20: =SUM(Championnats!F383) -> 0 | J20: =SUM(Championnats!F435) -> 0 | K20: =SUM(Championnats!F487) -> 0 | M20: =CROSS!$M$19 -> 0 | N20: =SUM(Championnats!AD19,Championnats!AD71,Championnats!AD123,Championnats!AD175,Championnats!AD227,Championnats!AD279,Championnats!AD331,Championnats!AD383,Championnats!AD435,Championnats!AD487) -> 0 | V20: {=MIN(IF(B20:K20>0,B20:K20))} -> 0 | W20: =MAX(B20:K20) -> 0 | Y20: =SUM(CROSS!I19) -> 0 | Z20: =SUM(CROSS!J19) -> 0 | AA20: =SUM(B20,B73,B125,B177,B229,B281,B333,B385,B437,B489,B541,B593,B645,B697,B749,B801,B853,B905,B957) -> 0 | AB20: =SUM(C20,C73,C125,C177,C229,C281,C333,C385,C437,C489,C541,C593,C645,C697,C749,C801,C853,C905,C957) -> 0 | AC20: =SUM(D20,D73,D125,D177,D229,D281,D333,D385,D437,D489,D541,D593,D645,D697,D749,D801,D853,D905,D957) -> 0 | AD20: =SUM(E20,E73,E125,E177,E229,E281,E333,E385,E437,E489,E541,E593,E645,E697,E749,E801,E853,E905,E957) -> 0 | AE20: =SUM(F20,F73,F125,F177,F229,F281,F333,F385,F437,F489,F541,F593,F645,F697,F749,F801,F853,F905,F957) -> 0 | AF20: =SUM(G20,G73,G125,G177,G229,G281,G333,G385,G437,G489,G541,G593,G645,G697,G749,G801,G853,G905,G957) -> 0 | AG20: =SUM(H20,H73,H125,H177,H229,H281,H333,H385,H437,H489,H541,H593,H645,H697,H749,H801,H853,H905,H957) -> 0 | AH20: =SUM(I20,I73,I125,I177,I229,I281,I333,I385,I437,I489,I541,I593,I645,I697,I749,I801,I853,I905,I957) -> 0 | ... AJ20: =SUM(K20,K73,K125,K177,K229,K281,K333,K385,K437,K489,K541,K593,K645,K697,K749,K801,K853,K905,K957) -> 0 | AK20: =COUNTIF(AA20:AJ20,">0") -> 0 | AL20: =A20 -> PPP Oumar
A21: =(Championnats!B$20) -> QQQ Ibrahim | B21: =SUM(Championnats!F20) -> 0 | C21: =SUM(Championnats!F72) -> 0 | D21: =SUM(Championnats!F124) -> 0 | E21: =SUM(Championnats!F176) -> 0 | F21: =SUM(Championnats!F228) -> 0 | G21: =SUM(Championnats!F280) -> 0 | H21: =SUM(Championnats!F332) -> 0 | I21: =SUM(Championnats!F384) -> 0 | J21: =SUM(Championnats!F436) -> 0 | K21: =SUM(Championnats!F488) -> 0 | M21: =CROSS!$M$20 -> 0 | N21: =SUM(Championnats!AD20,Championnats!AD72,Championnats!AD124,Championnats!AD176,Championnats!AD228,Championnats!AD280,Championnats!AD332,Championnats!AD384,Championnats!AD436,Championnats!AD488) -> 0 | V21: {=MIN(IF(B21:K21>0,B21:K21))} -> 0 | W21: =MAX(B21:K21) -> 0 | Y21: =SUM(CROSS!I20) -> 0 | Z21: =SUM(CROSS!J20) -> 0 | AA21: =SUM(B21,B74,B126,B178,B230,B282,B334,B386,B438,B490,B542,B594,B646,B698,B750,B802,B854,B906,B958) -> 0 | AB21: =SUM(C21,C74,C126,C178,C230,C282,C334,C386,C438,C490,C542,C594,C646,C698,C750,C802,C854,C906,C958) -> 0 | AC21: =SUM(D21,D74,D126,D178,D230,D282,D334,D386,D438,D490,D542,D594,D646,D698,D750,D802,D854,D906,D958) -> 0 | AD21: =SUM(E21,E74,E126,E178,E230,E282,E334,E386,E438,E490,E542,E594,E646,E698,E750,E802,E854,E906,E958) -> 0 | AE21: =SUM(F21,F74,F126,F178,F230,F282,F334,F386,F438,F490,F542,F594,F646,F698,F750,F802,F854,F906,F958) -> 0 | AF21: =SUM(G21,G74,G126,G178,G230,G282,G334,G386,G438,G490,G542,G594,G646,G698,G750,G802,G854,G906,G958) -> 0 | AG21: =SUM(H21,H74,H126,H178,H230,H282,H334,H386,H438,H490,H542,H594,H646,H698,H750,H802,H854,H906,H958) -> 0 | AH21: =SUM(I21,I74,I126,I178,I230,I282,I334,I386,I438,I490,I542,I594,I646,I698,I750,I802,I854,I906,I958) -> 0 | ... AJ21: =SUM(K21,K74,K126,K178,K230,K282,K334,K386,K438,K490,K542,K594,K646,K698,K750,K802,K854,K906,K958) -> 0 | AK21: =COUNTIF(AA21:AJ21,">0") -> 0 | AL21: =A21 -> QQQ Ibrahim
A22: =(Championnats!B$21) -> RRR Seydou | B22: =SUM(Championnats!F21) -> 0 | C22: =SUM(Championnats!F73) -> 0 | D22: =SUM(Championnats!F125) -> 0 | E22: =SUM(Championnats!F177) -> 0 | F22: =SUM(Championnats!F229) -> 0 | G22: =SUM(Championnats!F281) -> 0 | H22: =SUM(Championnats!F333) -> 0 | I22: =SUM(Championnats!F385) -> 0 | J22: =SUM(Championnats!F437) -> 0 | K22: =SUM(Championnats!F489) -> 0 | M22: =CROSS!$M$21 -> 0 | N22: =SUM(Championnats!AD21,Championnats!AD73,Championnats!AD125,Championnats!AD177,Championnats!AD229,Championnats!AD281,Championnats!AD333,Championnats!AD385,Championnats!AD437,Championnats!AD489) -> 0 | V22: {=MIN(IF(B22:K22>0,B22:K22))} -> 0 | W22: =MAX(B22:K22) -> 0 | Y22: =SUM(CROSS!I21) -> 0 | Z22: =SUM(CROSS!J21) -> 0 | AA22: =SUM(B22,B75,B127,B179,B231,B283,B335,B387,B439,B491,B543,B595,B647,B699,B751,B803,B855,B907,B959) -> 0 | AB22: =SUM(C22,C75,C127,C179,C231,C283,C335,C387,C439,C491,C543,C595,C647,C699,C751,C803,C855,C907,C959) -> 0 | AC22: =SUM(D22,D75,D127,D179,D231,D283,D335,D387,D439,D491,D543,D595,D647,D699,D751,D803,D855,D907,D959) -> 0 | AD22: =SUM(E22,E75,E127,E179,E231,E283,E335,E387,E439,E491,E543,E595,E647,E699,E751,E803,E855,E907,E959) -> 0 | AE22: =SUM(F22,F75,F127,F179,F231,F283,F335,F387,F439,F491,F543,F595,F647,F699,F751,F803,F855,F907,F959) -> 0 | AF22: =SUM(G22,G75,G127,G179,G231,G283,G335,G387,G439,G491,G543,G595,G647,G699,G751,G803,G855,G907,G959) -> 0 | AG22: =SUM(H22,H75,H127,H179,H231,H283,H335,H387,H439,H491,H543,H595,H647,H699,H751,H803,H855,H907,H959) -> 0 | AH22: =SUM(I22,I75,I127,I179,I231,I283,I335,I387,I439,I491,I543,I595,I647,I699,I751,I803,I855,I907,I959) -> 0 | ... AJ22: =SUM(K22,K75,K127,K179,K231,K283,K335,K387,K439,K491,K543,K595,K647,K699,K751,K803,K855,K907,K959) -> 0 | AK22: =COUNTIF(AA22:AJ22,">0") -> 0 | AL22: =A22 -> RRR Seydou
A23: =(Championnats!B$22) -> SSS Lucas | B23: =SUM(Championnats!F22) -> 0 | C23: =SUM(Championnats!F74) -> 0 | D23: =SUM(Championnats!F126) -> 0 | E23: =SUM(Championnats!F178) -> 0 | F23: =SUM(Championnats!F230) -> 0 | G23: =SUM(Championnats!F282) -> 0 | H23: =SUM(Championnats!F334) -> 0 | I23: =SUM(Championnats!F386) -> 0 | J23: =SUM(Championnats!F438) -> 0 | K23: =SUM(Championnats!F490) -> 0 | M23: =CROSS!$M$22 -> 0 | N23: =SUM(Championnats!AD22,Championnats!AD74,Championnats!AD126,Championnats!AD178,Championnats!AD230,Championnats!AD282,Championnats!AD334,Championnats!AD386,Championnats!AD438,Championnats!AD490) -> 0 | V23: {=MIN(IF(B23:K23>0,B23:K23))} -> 0 | W23: =MAX(B23:K23) -> 0 | Y23: =SUM(CROSS!I22) -> 0 | Z23: =SUM(CROSS!J22) -> 0 | AA23: =SUM(B23,B76,B128,B180,B232,B284,B336,B388,B440,B492,B544,B596,B648,B700,B752,B804,B856,B908,B960) -> 0 | AB23: =SUM(C23,C76,C128,C180,C232,C284,C336,C388,C440,C492,C544,C596,C648,C700,C752,C804,C856,C908,C960) -> 0 | AC23: =SUM(D23,D76,D128,D180,D232,D284,D336,D388,D440,D492,D544,D596,D648,D700,D752,D804,D856,D908,D960) -> 0 | AD23: =SUM(E23,E76,E128,E180,E232,E284,E336,E388,E440,E492,E544,E596,E648,E700,E752,E804,E856,E908,E960) -> 0 | AE23: =SUM(F23,F76,F128,F180,F232,F284,F336,F388,F440,F492,F544,F596,F648,F700,F752,F804,F856,F908,F960) -> 0 | AF23: =SUM(G23,G76,G128,G180,G232,G284,G336,G388,G440,G492,G544,G596,G648,G700,G752,G804,G856,G908,G960) -> 0 | AG23: =SUM(H23,H76,H128,H180,H232,H284,H336,H388,H440,H492,H544,H596,H648,H700,H752,H804,H856,H908,H960) -> 0 | AH23: =SUM(I23,I76,I128,I180,I232,I284,I336,I388,I440,I492,I544,I596,I648,I700,I752,I804,I856,I908,I960) -> 0 | ... AJ23: =SUM(K23,K76,K128,K180,K232,K284,K336,K388,K440,K492,K544,K596,K648,K700,K752,K804,K856,K908,K960) -> 0 | AK23: =COUNTIF(AA23:AJ23,">0") -> 0 | AL23: =A23 -> SSS Lucas
A24: =(Championnats!B$23) -> TTT Samba | B24: =SUM(Championnats!F23) -> 0 | C24: =SUM(Championnats!F75) -> 0 | D24: =SUM(Championnats!F127) -> 0 | E24: =SUM(Championnats!F179) -> 0 | F24: =SUM(Championnats!F231) -> 0 | G24: =SUM(Championnats!F283) -> 0 | H24: =SUM(Championnats!F335) -> 0 | I24: =SUM(Championnats!F387) -> 0 | J24: =SUM(Championnats!F439) -> 0 | K24: =SUM(Championnats!F491) -> 0 | M24: =CROSS!$M$23 -> 0 | N24: =SUM(Championnats!AD23,Championnats!AD75,Championnats!AD127,Championnats!AD179,Championnats!AD231,Championnats!AD283,Championnats!AD335,Championnats!AD387,Championnats!AD439,Championnats!AD491) -> 0 | V24: {=MIN(IF(B24:K24>0,B24:K24))} -> 0 | W24: =MAX(B24:K24) -> 0 | Y24: =SUM(CROSS!I23) -> 0 | Z24: =SUM(CROSS!J23) -> 0 | AA24: =SUM(B24,B77,B129,B181,B233,B285,B337,B389,B441,B493,B545,B597,B649,B701,B753,B805,B857,B909,B961) -> 0 | AB24: =SUM(C24,C77,C129,C181,C233,C285,C337,C389,C441,C493,C545,C597,C649,C701,C753,C805,C857,C909,C961) -> 0 | AC24: =SUM(D24,D77,D129,D181,D233,D285,D337,D389,D441,D493,D545,D597,D649,D701,D753,D805,D857,D909,D961) -> 0 | AD24: =SUM(E24,E77,E129,E181,E233,E285,E337,E389,E441,E493,E545,E597,E649,E701,E753,E805,E857,E909,E961) -> 0 | AE24: =SUM(F24,F77,F129,F181,F233,F285,F337,F389,F441,F493,F545,F597,F649,F701,F753,F805,F857,F909,F961) -> 0 | AF24: =SUM(G24,G77,G129,G181,G233,G285,G337,G389,G441,G493,G545,G597,G649,G701,G753,G805,G857,G909,G961) -> 0 | AG24: =SUM(H24,H77,H129,H181,H233,H285,H337,H389,H441,H493,H545,H597,H649,H701,H753,H805,H857,H909,H961) -> 0 | AH24: =SUM(I24,I77,I129,I181,I233,I285,I337,I389,I441,I493,I545,I597,I649,I701,I753,I805,I857,I909,I961) -> 0 | ... AJ24: =SUM(K24,K77,K129,K181,K233,K285,K337,K389,K441,K493,K545,K597,K649,K701,K753,K805,K857,K909,K961) -> 0 | AK24: =COUNTIF(AA24:AJ24,">0") -> 0 | AL24: =A24 -> TTT Samba
A25: =(Championnats!B$24) -> UUU Miguel | B25: =SUM(Championnats!F24) -> 0 | C25: =SUM(Championnats!F76) -> 0 | D25: =SUM(Championnats!F128) -> 0 | E25: =SUM(Championnats!F180) -> 0 | F25: =SUM(Championnats!F232) -> 0 | G25: =SUM(Championnats!F284) -> 0 | H25: =SUM(Championnats!F336) -> 0 | I25: =SUM(Championnats!F388) -> 0 | J25: =SUM(Championnats!F440) -> 0 | K25: =SUM(Championnats!F492) -> 0 | M25: =CROSS!$M$24 -> 0 | N25: =SUM(Championnats!AD24,Championnats!AD76,Championnats!AD128,Championnats!AD180,Championnats!AD232,Championnats!AD284,Championnats!AD336,Championnats!AD388,Championnats!AD440,Championnats!AD492) -> 0 | V25: {=MIN(IF(B25:K25>0,B25:K25))} -> 0 | W25: =MAX(B25:K25) -> 0 | Y25: =SUM(CROSS!I24) -> 0 | Z25: =SUM(CROSS!J24) -> 0 | AA25: =SUM(B25,B78,B130,B182,B234,B286,B338,B390,B442,B494,B546,B598,B650,B702,B754,B806,B858,B910,B962) -> 0 | AB25: =SUM(C25,C78,C130,C182,C234,C286,C338,C390,C442,C494,C546,C598,C650,C702,C754,C806,C858,C910,C962) -> 0 | AC25: =SUM(D25,D78,D130,D182,D234,D286,D338,D390,D442,D494,D546,D598,D650,D702,D754,D806,D858,D910,D962) -> 0 | AD25: =SUM(E25,E78,E130,E182,E234,E286,E338,E390,E442,E494,E546,E598,E650,E702,E754,E806,E858,E910,E962) -> 0 | AE25: =SUM(F25,F78,F130,F182,F234,F286,F338,F390,F442,F494,F546,F598,F650,F702,F754,F806,F858,F910,F962) -> 0 | AF25: =SUM(G25,G78,G130,G182,G234,G286,G338,G390,G442,G494,G546,G598,G650,G702,G754,G806,G858,G910,G962) -> 0 | AG25: =SUM(H25,H78,H130,H182,H234,H286,H338,H390,H442,H494,H546,H598,H650,H702,H754,H806,H858,H910,H962) -> 0 | AH25: =SUM(I25,I78,I130,I182,I234,I286,I338,I390,I442,I494,I546,I598,I650,I702,I754,I806,I858,I910,I962) -> 0 | ... AJ25: =SUM(K25,K78,K130,K182,K234,K286,K338,K390,K442,K494,K546,K598,K650,K702,K754,K806,K858,K910,K962) -> 0 | AK25: =COUNTIF(AA25:AJ25,">0") -> 0 | AL25: =A25 -> UUU Miguel
A26: =(Championnats!B$25) -> VVV Nicolas | B26: =SUM(Championnats!F25) -> 0 | C26: =SUM(Championnats!F77) -> 0 | D26: =SUM(Championnats!F129) -> 0 | E26: =SUM(Championnats!F181) -> 0 | F26: =SUM(Championnats!F233) -> 0 | G26: =SUM(Championnats!F285) -> 0 | H26: =SUM(Championnats!F337) -> 0 | I26: =SUM(Championnats!F389) -> 0 | J26: =SUM(Championnats!F441) -> 0 | K26: =SUM(Championnats!F493) -> 0 | M26: =CROSS!$M$25 -> 0 | N26: =SUM(Championnats!AD25,Championnats!AD77,Championnats!AD129,Championnats!AD181,Championnats!AD233,Championnats!AD285,Championnats!AD337,Championnats!AD389,Championnats!AD441,Championnats!AD493) -> 0 | V26: {=MIN(IF(B26:K26>0,B26:K26))} -> 0 | W26: =MAX(B26:K26) -> 0 | Y26: =SUM(CROSS!I25) -> 0 | Z26: =SUM(CROSS!J25) -> 0 | AA26: =SUM(B26,B79,B131,B183,B235,B287,B339,B391,B443,B495,B547,B599,B651,B703,B755,B807,B859,B911,B963) -> 0 | AB26: =SUM(C26,C79,C131,C183,C235,C287,C339,C391,C443,C495,C547,C599,C651,C703,C755,C807,C859,C911,C963) -> 0 | AC26: =SUM(D26,D79,D131,D183,D235,D287,D339,D391,D443,D495,D547,D599,D651,D703,D755,D807,D859,D911,D963) -> 0 | AD26: =SUM(E26,E79,E131,E183,E235,E287,E339,E391,E443,E495,E547,E599,E651,E703,E755,E807,E859,E911,E963) -> 0 | AE26: =SUM(F26,F79,F131,F183,F235,F287,F339,F391,F443,F495,F547,F599,F651,F703,F755,F807,F859,F911,F963) -> 0 | AF26: =SUM(G26,G79,G131,G183,G235,G287,G339,G391,G443,G495,G547,G599,G651,G703,G755,G807,G859,G911,G963) -> 0 | AG26: =SUM(H26,H79,H131,H183,H235,H287,H339,H391,H443,H495,H547,H599,H651,H703,H755,H807,H859,H911,H963) -> 0 | AH26: =SUM(I26,I79,I131,I183,I235,I287,I339,I391,I443,I495,I547,I599,I651,I703,I755,I807,I859,I911,I963) -> 0 | ... AJ26: =SUM(K26,K79,K131,K183,K235,K287,K339,K391,K443,K495,K547,K599,K651,K703,K755,K807,K859,K911,K963) -> 0 | AK26: =COUNTIF(AA26:AJ26,">0") -> 0 | AL26: =A26 -> VVV Nicolas
A27: =(Championnats!B$26) -> WWW Bilal | B27: =SUM(Championnats!F26) -> 0 | C27: =SUM(Championnats!F78) -> 0 | D27: =SUM(Championnats!F130) -> 0 | E27: =SUM(Championnats!F182) -> 0 | F27: =SUM(Championnats!F234) -> 0 | G27: =SUM(Championnats!F286) -> 0 | H27: =SUM(Championnats!F338) -> 0 | I27: =SUM(Championnats!F390) -> 0 | J27: =SUM(Championnats!F442) -> 0 | K27: =SUM(Championnats!F494) -> 0 | M27: =CROSS!$M$26 -> 0 | N27: =SUM(Championnats!AD26,Championnats!AD78,Championnats!AD130,Championnats!AD182,Championnats!AD234,Championnats!AD286,Championnats!AD338,Championnats!AD390,Championnats!AD442,Championnats!AD494) -> 0 | V27: {=MIN(IF(B27:K27>0,B27:K27))} -> 0 | W27: =MAX(B27:K27) -> 0 | Y27: =SUM(CROSS!I26) -> 0 | Z27: =SUM(CROSS!J26) -> 0 | AA27: =SUM(B27,B80,B132,B184,B236,B288,B340,B392,B444,B496,B548,B600,B652,B704,B756,B808,B860,B912,B964) -> 0 | AB27: =SUM(C27,C80,C132,C184,C236,C288,C340,C392,C444,C496,C548,C600,C652,C704,C756,C808,C860,C912,C964) -> 0 | AC27: =SUM(D27,D80,D132,D184,D236,D288,D340,D392,D444,D496,D548,D600,D652,D704,D756,D808,D860,D912,D964) -> 0 | AD27: =SUM(E27,E80,E132,E184,E236,E288,E340,E392,E444,E496,E548,E600,E652,E704,E756,E808,E860,E912,E964) -> 0 | AE27: =SUM(F27,F80,F132,F184,F236,F288,F340,F392,F444,F496,F548,F600,F652,F704,F756,F808,F860,F912,F964) -> 0 | AF27: =SUM(G27,G80,G132,G184,G236,G288,G340,G392,G444,G496,G548,G600,G652,G704,G756,G808,G860,G912,G964) -> 0 | AG27: =SUM(H27,H80,H132,H184,H236,H288,H340,H392,H444,H496,H548,H600,H652,H704,H756,H808,H860,H912,H964) -> 0 | AH27: =SUM(I27,I80,I132,I184,I236,I288,I340,I392,I444,I496,I548,I600,I652,I704,I756,I808,I860,I912,I964) -> 0 | ... AJ27: =SUM(K27,K80,K132,K184,K236,K288,K340,K392,K444,K496,K548,K600,K652,K704,K756,K808,K860,K912,K964) -> 0 | AK27: =COUNTIF(AA27:AJ27,">0") -> 0 | AL27: =A27 -> WWW Bilal
A28: =(Championnats!B$27) -> XXX Florent | B28: =SUM(Championnats!F27) -> 0 | C28: =SUM(Championnats!F79) -> 0 | D28: =SUM(Championnats!F131) -> 0 | E28: =SUM(Championnats!F183) -> 0 | F28: =SUM(Championnats!F235) -> 0 | G28: =SUM(Championnats!F287) -> 0 | H28: =SUM(Championnats!F339) -> 0 | I28: =SUM(Championnats!F391) -> 0 | J28: =SUM(Championnats!F443) -> 0 | K28: =SUM(Championnats!F495) -> 0 | M28: =CROSS!$M$27 -> 0 | N28: =SUM(Championnats!AD27,Championnats!AD79,Championnats!AD131,Championnats!AD183,Championnats!AD235,Championnats!AD287,Championnats!AD339,Championnats!AD391,Championnats!AD443,Championnats!AD495) -> 0 | V28: {=MIN(IF(B28:K28>0,B28:K28))} -> 0 | W28: =MAX(B28:K28) -> 0 | Y28: =SUM(CROSS!I27) -> 0 | Z28: =SUM(CROSS!J27) -> 0 | AA28: =SUM(B28,B81,B133,B185,B237,B289,B341,B393,B445,B497,B549,B601,B653,B705,B757,B809,B861,B913,B965) -> 0 | AB28: =SUM(C28,C81,C133,C185,C237,C289,C341,C393,C445,C497,C549,C601,C653,C705,C757,C809,C861,C913,C965) -> 0 | AC28: =SUM(D28,D81,D133,D185,D237,D289,D341,D393,D445,D497,D549,D601,D653,D705,D757,D809,D861,D913,D965) -> 0 | AD28: =SUM(E28,E81,E133,E185,E237,E289,E341,E393,E445,E497,E549,E601,E653,E705,E757,E809,E861,E913,E965) -> 0 | AE28: =SUM(F28,F81,F133,F185,F237,F289,F341,F393,F445,F497,F549,F601,F653,F705,F757,F809,F861,F913,F965) -> 0 | AF28: =SUM(G28,G81,G133,G185,G237,G289,G341,G393,G445,G497,G549,G601,G653,G705,G757,G809,G861,G913,G965) -> 0 | AG28: =SUM(H28,H81,H133,H185,H237,H289,H341,H393,H445,H497,H549,H601,H653,H705,H757,H809,H861,H913,H965) -> 0 | AH28: =SUM(I28,I81,I133,I185,I237,I289,I341,I393,I445,I497,I549,I601,I653,I705,I757,I809,I861,I913,I965) -> 0 | ... AJ28: =SUM(K28,K81,K133,K185,K237,K289,K341,K393,K445,K497,K549,K601,K653,K705,K757,K809,K861,K913,K965) -> 0 | AK28: =COUNTIF(AA28:AJ28,">0") -> 0 | AL28: =A28 -> XXX Florent
A29: =(Championnats!B$28) -> YYYY Célia | B29: =SUM(Championnats!F28) -> 0 | C29: =SUM(Championnats!F80) -> 0 | D29: =SUM(Championnats!F132) -> 0 | E29: =SUM(Championnats!F184) -> 0 | F29: =SUM(Championnats!F236) -> 0 | G29: =SUM(Championnats!F288) -> 0 | H29: =SUM(Championnats!F340) -> 0 | I29: =SUM(Championnats!F392) -> 0 | J29: =SUM(Championnats!F444) -> 0 | K29: =SUM(Championnats!F496) -> 0 | M29: =CROSS!$M$28 -> 0 | N29: =SUM(Championnats!AD28,Championnats!AD80,Championnats!AD132,Championnats!AD184,Championnats!AD236,Championnats!AD288,Championnats!AD340,Championnats!AD392,Championnats!AD444,Championnats!AD496) -> 0 | V29: {=MIN(IF(B29:K29>0,B29:K29))} -> 0 | W29: =MAX(B29:K29) -> 0 | Y29: =SUM(CROSS!I28) -> 0 | Z29: =SUM(CROSS!J28) -> 0 | AA29: =SUM(B29,B82,B134,B186,B238,B290,B342,B394,B446,B498,B550,B602,B654,B706,B758,B810,B862,B914,B966) -> 0 | AB29: =SUM(C29,C82,C134,C186,C238,C290,C342,C394,C446,C498,C550,C602,C654,C706,C758,C810,C862,C914,C966) -> 0 | AC29: =SUM(D29,D82,D134,D186,D238,D290,D342,D394,D446,D498,D550,D602,D654,D706,D758,D810,D862,D914,D966) -> 0 | AD29: =SUM(E29,E82,E134,E186,E238,E290,E342,E394,E446,E498,E550,E602,E654,E706,E758,E810,E862,E914,E966) -> 0 | AE29: =SUM(F29,F82,F134,F186,F238,F290,F342,F394,F446,F498,F550,F602,F654,F706,F758,F810,F862,F914,F966) -> 0 | AF29: =SUM(G29,G82,G134,G186,G238,G290,G342,G394,G446,G498,G550,G602,G654,G706,G758,G810,G862,G914,G966) -> 0 | AG29: =SUM(H29,H82,H134,H186,H238,H290,H342,H394,H446,H498,H550,H602,H654,H706,H758,H810,H862,H914,H966) -> 0 | AH29: =SUM(I29,I82,I134,I186,I238,I290,I342,I394,I446,I498,I550,I602,I654,I706,I758,I810,I862,I914,I966) -> 0 | ... AJ29: =SUM(K29,K82,K134,K186,K238,K290,K342,K394,K446,K498,K550,K602,K654,K706,K758,K810,K862,K914,K966) -> 0 | AK29: =COUNTIF(AA29:AJ29,">0") -> 0 | AL29: =A29 -> YYYY Célia
A30: =(Championnats!B$29) -> ZZZ Rehu Magnifié | B30: =SUM(Championnats!F29) -> 0 | C30: =SUM(Championnats!F81) -> 0 | D30: =SUM(Championnats!F133) -> 0 | E30: =SUM(Championnats!F185) -> 0 | F30: =SUM(Championnats!F237) -> 0 | G30: =SUM(Championnats!F289) -> 0 | H30: =SUM(Championnats!F341) -> 0 | I30: =SUM(Championnats!F393) -> 0 | J30: =SUM(Championnats!F445) -> 0 | K30: =SUM(Championnats!F497) -> 0 | M30: =CROSS!$M$29 -> 0 | N30: =SUM(Championnats!AD29,Championnats!AD81,Championnats!AD133,Championnats!AD185,Championnats!AD237,Championnats!AD289,Championnats!AD341,Championnats!AD393,Championnats!AD445,Championnats!AD497) -> 0 | V30: {=MIN(IF(B30:K30>0,B30:K30))} -> 0 | W30: =MAX(B30:K30) -> 0 | Y30: =SUM(CROSS!I29) -> 0 | Z30: =SUM(CROSS!J29) -> 0 | AA30: =SUM(B30,B83,B135,B187,B239,B291,B343,B395,B447,B499,B551,B603,B655,B707,B759,B811,B863,B915,B967) -> 0 | AB30: =SUM(C30,C83,C135,C187,C239,C291,C343,C395,C447,C499,C551,C603,C655,C707,C759,C811,C863,C915,C967) -> 0 | AC30: =SUM(D30,D83,D135,D187,D239,D291,D343,D395,D447,D499,D551,D603,D655,D707,D759,D811,D863,D915,D967) -> 0 | AD30: =SUM(E30,E83,E135,E187,E239,E291,E343,E395,E447,E499,E551,E603,E655,E707,E759,E811,E863,E915,E967) -> 0 | AE30: =SUM(F30,F83,F135,F187,F239,F291,F343,F395,F447,F499,F551,F603,F655,F707,F759,F811,F863,F915,F967) -> 0 | AF30: =SUM(G30,G83,G135,G187,G239,G291,G343,G395,G447,G499,G551,G603,G655,G707,G759,G811,G863,G915,G967) -> 0 | AG30: =SUM(H30,H83,H135,H187,H239,H291,H343,H395,H447,H499,H551,H603,H655,H707,H759,H811,H863,H915,H967) -> 0 | AH30: =SUM(I30,I83,I135,I187,I239,I291,I343,I395,I447,I499,I551,I603,I655,I707,I759,I811,I863,I915,I967) -> 0 | ... AJ30: =SUM(K30,K83,K135,K187,K239,K291,K343,K395,K447,K499,K551,K603,K655,K707,K759,K811,K863,K915,K967) -> 0 | AK30: =COUNTIF(AA30:AJ30,">0") -> 0 | AL30: =A30 -> ZZZ Rehu Magnifié
A31: =(Championnats!B$30) -> AAABBB Prisca | B31: =SUM(Championnats!F30) -> 0 | C31: =SUM(Championnats!F82) -> 0 | D31: =SUM(Championnats!F134) -> 0 | E31: =SUM(Championnats!F186) -> 0 | F31: =SUM(Championnats!F238) -> 0 | G31: =SUM(Championnats!F290) -> 0 | H31: =SUM(Championnats!F342) -> 0 | I31: =SUM(Championnats!F394) -> 0 | J31: =SUM(Championnats!F446) -> 0 | K31: =SUM(Championnats!F498) -> 0 | M31: =CROSS!$M$30 -> 0 | N31: =SUM(Championnats!AD30,Championnats!AD82,Championnats!AD134,Championnats!AD186,Championnats!AD238,Championnats!AD290,Championnats!AD342,Championnats!AD394,Championnats!AD446,Championnats!AD498) -> 0 | V31: {=MIN(IF(B31:K31>0,B31:K31))} -> 0 | W31: =MAX(B31:K31) -> 0 | Y31: =SUM(CROSS!I30) -> 0 | Z31: =SUM(CROSS!J30) -> 0 | AA31: =SUM(B31,B84,B136,B188,B240,B292,B344,B396,B448,B500,B552,B604,B656,B708,B760,B812,B864,B916,B968) -> 0 | AB31: =SUM(C31,C84,C136,C188,C240,C292,C344,C396,C448,C500,C552,C604,C656,C708,C760,C812,C864,C916,C968) -> 0 | AC31: =SUM(D31,D84,D136,D188,D240,D292,D344,D396,D448,D500,D552,D604,D656,D708,D760,D812,D864,D916,D968) -> 0 | AD31: =SUM(E31,E84,E136,E188,E240,E292,E344,E396,E448,E500,E552,E604,E656,E708,E760,E812,E864,E916,E968) -> 0 | AE31: =SUM(F31,F84,F136,F188,F240,F292,F344,F396,F448,F500,F552,F604,F656,F708,F760,F812,F864,F916,F968) -> 0 | AF31: =SUM(G31,G84,G136,G188,G240,G292,G344,G396,G448,G500,G552,G604,G656,G708,G760,G812,G864,G916,G968) -> 0 | AG31: =SUM(H31,H84,H136,H188,H240,H292,H344,H396,H448,H500,H552,H604,H656,H708,H760,H812,H864,H916,H968) -> 0 | AH31: =SUM(I31,I84,I136,I188,I240,I292,I344,I396,I448,I500,I552,I604,I656,I708,I760,I812,I864,I916,I968) -> 0 | ... AJ31: =SUM(K31,K84,K136,K188,K240,K292,K344,K396,K448,K500,K552,K604,K656,K708,K760,K812,K864,K916,K968) -> 0 | AK31: =COUNTIF(AA31:AJ31,">0") -> 0 | AL31: =A31 -> AAABBB Prisca
A32: =(Championnats!B$31) -> BBBCCC Océane | B32: =SUM(Championnats!F31) -> 0 | C32: =SUM(Championnats!F83) -> 0 | D32: =SUM(Championnats!F135) -> 0 | E32: =SUM(Championnats!F187) -> 0 | F32: =SUM(Championnats!F239) -> 0 | G32: =SUM(Championnats!F291) -> 0 | H32: =SUM(Championnats!F343) -> 0 | I32: =SUM(Championnats!F395) -> 0 | J32: =SUM(Championnats!F447) -> 0 | K32: =SUM(Championnats!F499) -> 0 | M32: =CROSS!$M$31 -> 0 | N32: =SUM(Championnats!AD31,Championnats!AD83,Championnats!AD135,Championnats!AD187,Championnats!AD239,Championnats!AD291,Championnats!AD343,Championnats!AD395,Championnats!AD447,Championnats!AD499) -> 0 | V32: {=MIN(IF(B32:K32>0,B32:K32))} -> 0 | W32: =MAX(B32:K32) -> 0 | Y32: =SUM(CROSS!I31) -> 0 | Z32: =SUM(CROSS!J31) -> 0 | AA32: =SUM(B32,B85,B137,B189,B241,B293,B345,B397,B449,B501,B553,B605,B657,B709,B761,B813,B865,B917,B969) -> 0 | AB32: =SUM(C32,C85,C137,C189,C241,C293,C345,C397,C449,C501,C553,C605,C657,C709,C761,C813,C865,C917,C969) -> 0 | AC32: =SUM(D32,D85,D137,D189,D241,D293,D345,D397,D449,D501,D553,D605,D657,D709,D761,D813,D865,D917,D969) -> 0 | AD32: =SUM(E32,E85,E137,E189,E241,E293,E345,E397,E449,E501,E553,E605,E657,E709,E761,E813,E865,E917,E969) -> 0 | AE32: =SUM(F32,F85,F137,F189,F241,F293,F345,F397,F449,F501,F553,F605,F657,F709,F761,F813,F865,F917,F969) -> 0 | AF32: =SUM(G32,G85,G137,G189,G241,G293,G345,G397,G449,G501,G553,G605,G657,G709,G761,G813,G865,G917,G969) -> 0 | AG32: =SUM(H32,H85,H137,H189,H241,H293,H345,H397,H449,H501,H553,H605,H657,H709,H761,H813,H865,H917,H969) -> 0 | AH32: =SUM(I32,I85,I137,I189,I241,I293,I345,I397,I449,I501,I553,I605,I657,I709,I761,I813,I865,I917,I969) -> 0 | ... AJ32: =SUM(K32,K85,K137,K189,K241,K293,K345,K397,K449,K501,K553,K605,K657,K709,K761,K813,K865,K917,K969) -> 0 | AK32: =COUNTIF(AA32:AJ32,">0") -> 0 | AL32: =A32 -> BBBCCC Océane
A33: =(Championnats!B$32) -> CCCDDD Balkis-Imane | B33: =SUM(Championnats!F32) -> 0 | C33: =SUM(Championnats!F84) -> 0 | D33: =SUM(Championnats!F136) -> 0 | E33: =SUM(Championnats!F188) -> 0 | F33: =SUM(Championnats!F240) -> 0 | G33: =SUM(Championnats!F292) -> 0 | H33: =SUM(Championnats!F344) -> 0 | I33: =SUM(Championnats!F396) -> 0 | J33: =SUM(Championnats!F448) -> 0 | K33: =SUM(Championnats!F500) -> 0 | M33: =CROSS!$M$32 -> 0 | N33: =SUM(Championnats!AD32,Championnats!AD84,Championnats!AD136,Championnats!AD188,Championnats!AD240,Championnats!AD292,Championnats!AD344,Championnats!AD396,Championnats!AD448,Championnats!AD500) -> 0 | V33: {=MIN(IF(B33:K33>0,B33:K33))} -> 0 | W33: =MAX(B33:K33) -> 0 | Y33: =SUM(CROSS!I32) -> 0 | Z33: =SUM(CROSS!J32) -> 0 | AA33: =SUM(B33,B86,B138,B190,B242,B294,B346,B398,B450,B502,B554,B606,B658,B710,B762,B814,B866,B918,B970) -> 0 | AB33: =SUM(C33,C86,C138,C190,C242,C294,C346,C398,C450,C502,C554,C606,C658,C710,C762,C814,C866,C918,C970) -> 0 | AC33: =SUM(D33,D86,D138,D190,D242,D294,D346,D398,D450,D502,D554,D606,D658,D710,D762,D814,D866,D918,D970) -> 0 | AD33: =SUM(E33,E86,E138,E190,E242,E294,E346,E398,E450,E502,E554,E606,E658,E710,E762,E814,E866,E918,E970) -> 0 | AE33: =SUM(F33,F86,F138,F190,F242,F294,F346,F398,F450,F502,F554,F606,F658,F710,F762,F814,F866,F918,F970) -> 0 | AF33: =SUM(G33,G86,G138,G190,G242,G294,G346,G398,G450,G502,G554,G606,G658,G710,G762,G814,G866,G918,G970) -> 0 | AG33: =SUM(H33,H86,H138,H190,H242,H294,H346,H398,H450,H502,H554,H606,H658,H710,H762,H814,H866,H918,H970) -> 0 | AH33: =SUM(I33,I86,I138,I190,I242,I294,I346,I398,I450,I502,I554,I606,I658,I710,I762,I814,I866,I918,I970) -> 0 | ... AJ33: =SUM(K33,K86,K138,K190,K242,K294,K346,K398,K450,K502,K554,K606,K658,K710,K762,K814,K866,K918,K970) -> 0 | AK33: =COUNTIF(AA33:AJ33,">0") -> 0 | AL33: =A33 -> CCCDDD Balkis-Imane
A34: =(Championnats!B$33) -> DDDEEE Hamza | B34: =SUM(Championnats!F33) -> 0 | C34: =SUM(Championnats!F85) -> 0 | D34: =SUM(Championnats!F137) -> 0 | E34: =SUM(Championnats!F189) -> 0 | F34: =SUM(Championnats!F241) -> 0 | G34: =SUM(Championnats!F293) -> 0 | H34: =SUM(Championnats!F345) -> 0 | I34: =SUM(Championnats!F397) -> 0 | J34: =SUM(Championnats!F449) -> 0 | K34: =SUM(Championnats!F501) -> 0 | M34: =CROSS!$M$33 -> 0 | N34: =SUM(Championnats!AD33,Championnats!AD85,Championnats!AD137,Championnats!AD189,Championnats!AD241,Championnats!AD293,Championnats!AD345,Championnats!AD397,Championnats!AD449,Championnats!AD501) -> 0 | V34: {=MIN(IF(B34:K34>0,B34:K34))} -> 0 | W34: =MAX(B34:K34) -> 0 | Y34: =SUM(CROSS!I33) -> 0 | Z34: =SUM(CROSS!J33) -> 0 | AA34: =SUM(B34,B87,B139,B191,B243,B295,B347,B399,B451,B503,B555,B607,B659,B711,B763,B815,B867,B919,B971) -> 0 | AB34: =SUM(C34,C87,C139,C191,C243,C295,C347,C399,C451,C503,C555,C607,C659,C711,C763,C815,C867,C919,C971) -> 0 | AC34: =SUM(D34,D87,D139,D191,D243,D295,D347,D399,D451,D503,D555,D607,D659,D711,D763,D815,D867,D919,D971) -> 0 | AD34: =SUM(E34,E87,E139,E191,E243,E295,E347,E399,E451,E503,E555,E607,E659,E711,E763,E815,E867,E919,E971) -> 0 | AE34: =SUM(F34,F87,F139,F191,F243,F295,F347,F399,F451,F503,F555,F607,F659,F711,F763,F815,F867,F919,F971) -> 0 | AF34: =SUM(G34,G87,G139,G191,G243,G295,G347,G399,G451,G503,G555,G607,G659,G711,G763,G815,G867,G919,G971) -> 0 | AG34: =SUM(H34,H87,H139,H191,H243,H295,H347,H399,H451,H503,H555,H607,H659,H711,H763,H815,H867,H919,H971) -> 0 | AH34: =SUM(I34,I87,I139,I191,I243,I295,I347,I399,I451,I503,I555,I607,I659,I711,I763,I815,I867,I919,I971) -> 0 | ... AJ34: =SUM(K34,K87,K139,K191,K243,K295,K347,K399,K451,K503,K555,K607,K659,K711,K763,K815,K867,K919,K971) -> 0 | AK34: =COUNTIF(AA34:AJ34,">0") -> 0 | AL34: =A34 -> DDDEEE Hamza
A35: =(Championnats!B$34) -> EEEFFF Beverly | B35: =SUM(Championnats!F34) -> 0 | C35: =SUM(Championnats!F86) -> 0 | D35: =SUM(Championnats!F138) -> 0 | E35: =SUM(Championnats!F190) -> 0 | F35: =SUM(Championnats!F242) -> 0 | G35: =SUM(Championnats!F294) -> 0 | H35: =SUM(Championnats!F346) -> 0 | I35: =SUM(Championnats!F398) -> 0 | J35: =SUM(Championnats!F450) -> 0 | K35: =SUM(Championnats!F502) -> 0 | M35: =CROSS!$M$34 -> 0 | N35: =SUM(Championnats!AD34,Championnats!AD86,Championnats!AD138,Championnats!AD190,Championnats!AD242,Championnats!AD294,Championnats!AD346,Championnats!AD398,Championnats!AD450,Championnats!AD502) -> 0 | V35: {=MIN(IF(B35:K35>0,B35:K35))} -> 0 | W35: =MAX(B35:K35) -> 0 | Y35: =SUM(CROSS!I34) -> 0 | Z35: =SUM(CROSS!J34) -> 0 | AA35: =SUM(B35,B88,B140,B192,B244,B296,B348,B400,B452,B504,B556,B608,B660,B712,B764,B816,B868,B920,B972) -> 0 | AB35: =SUM(C35,C88,C140,C192,C244,C296,C348,C400,C452,C504,C556,C608,C660,C712,C764,C816,C868,C920,C972) -> 0 | AC35: =SUM(D35,D88,D140,D192,D244,D296,D348,D400,D452,D504,D556,D608,D660,D712,D764,D816,D868,D920,D972) -> 0 | AD35: =SUM(E35,E88,E140,E192,E244,E296,E348,E400,E452,E504,E556,E608,E660,E712,E764,E816,E868,E920,E972) -> 0 | AE35: =SUM(F35,F88,F140,F192,F244,F296,F348,F400,F452,F504,F556,F608,F660,F712,F764,F816,F868,F920,F972) -> 0 | AF35: =SUM(G35,G88,G140,G192,G244,G296,G348,G400,G452,G504,G556,G608,G660,G712,G764,G816,G868,G920,G972) -> 0 | AG35: =SUM(H35,H88,H140,H192,H244,H296,H348,H400,H452,H504,H556,H608,H660,H712,H764,H816,H868,H920,H972) -> 0 | AH35: =SUM(I35,I88,I140,I192,I244,I296,I348,I400,I452,I504,I556,I608,I660,I712,I764,I816,I868,I920,I972) -> 0 | ... AJ35: =SUM(K35,K88,K140,K192,K244,K296,K348,K400,K452,K504,K556,K608,K660,K712,K764,K816,K868,K920,K972) -> 0 | AK35: =COUNTIF(AA35:AJ35,">0") -> 0 | AL35: =A35 -> EEEFFF Beverly
A36: =(Championnats!B$35) -> FFFGGG Flore | B36: =SUM(Championnats!F35) -> 0 | C36: =SUM(Championnats!F87) -> 0 | D36: =SUM(Championnats!F139) -> 0 | E36: =SUM(Championnats!F191) -> 0 | F36: =SUM(Championnats!F243) -> 0 | G36: =SUM(Championnats!F295) -> 0 | H36: =SUM(Championnats!F347) -> 0 | I36: =SUM(Championnats!F399) -> 0 | J36: =SUM(Championnats!F451) -> 0 | K36: =SUM(Championnats!F503) -> 0 | M36: =CROSS!$M$35 -> 0 | N36: =SUM(Championnats!AD35,Championnats!AD87,Championnats!AD139,Championnats!AD191,Championnats!AD243,Championnats!AD295,Championnats!AD347,Championnats!AD399,Championnats!AD451,Championnats!AD503) -> 0 | V36: {=MIN(IF(B36:K36>0,B36:K36))} -> 0 | W36: =MAX(B36:K36) -> 0 | Y36: =SUM(CROSS!I35) -> 0 | Z36: =SUM(CROSS!J35) -> 0 | AA36: =SUM(B36,B89,B141,B193,B245,B297,B349,B401,B453,B505,B557,B609,B661,B713,B765,B817,B869,B921,B973) -> 0 | AB36: =SUM(C36,C89,C141,C193,C245,C297,C349,C401,C453,C505,C557,C609,C661,C713,C765,C817,C869,C921,C973) -> 0 | AC36: =SUM(D36,D89,D141,D193,D245,D297,D349,D401,D453,D505,D557,D609,D661,D713,D765,D817,D869,D921,D973) -> 0 | AD36: =SUM(E36,E89,E141,E193,E245,E297,E349,E401,E453,E505,E557,E609,E661,E713,E765,E817,E869,E921,E973) -> 0 | AE36: =SUM(F36,F89,F141,F193,F245,F297,F349,F401,F453,F505,F557,F609,F661,F713,F765,F817,F869,F921,F973) -> 0 | AF36: =SUM(G36,G89,G141,G193,G245,G297,G349,G401,G453,G505,G557,G609,G661,G713,G765,G817,G869,G921,G973) -> 0 | AG36: =SUM(H36,H89,H141,H193,H245,H297,H349,H401,H453,H505,H557,H609,H661,H713,H765,H817,H869,H921,H973) -> 0 | AH36: =SUM(I36,I89,I141,I193,I245,I297,I349,I401,I453,I505,I557,I609,I661,I713,I765,I817,I869,I921,I973) -> 0 | ... AJ36: =SUM(K36,K89,K141,K193,K245,K297,K349,K401,K453,K505,K557,K609,K661,K713,K765,K817,K869,K921,K973) -> 0 | AK36: =COUNTIF(AA36:AJ36,">0") -> 0 | AL36: =A36 -> FFFGGG Flore
