Workbook

Sheet Feuil1
A1: Intitulé à filtrer | B1: Mot présent dans la liste
A2: Au diable, faisons-le. Richard Branson | B2: OUI | C2: {=IF(SUM(IF(ISNUMBER(SEARCH(Feuil2!$A$3:$A$53,A2)),1,0))>0,"OUI","NON")} -> OUI
A3: Ma vie est mon message. Mahatma Gandhi | B3: NON | C3: {=IF(SUM(IF(ISNUMBER(SEARCH(Feuil2!$A$3:$A$53,A3)),1,0))>0,"OUI","NON")} -> NON
A4: Rêve grand. Prie davantage. (Soumis par la Communauté Wisdom Quotes) | B4: NON | C4: {=IF(SUM(IF(ISNUMBER(SEARCH(Feuil2!$A$3:$A$53,A4)),1,0))>0,"OUI","NON")} -> NON
A5: Pas de tripe, pas d’histoire. Chris Brady | B5: OUI | C5: {=IF(SUM(IF(ISNUMBER(SEARCH(Feuil2!$A$3:$A$53,A5)),1,0))>0,"OUI","NON")} -> OUI
A6: Courage, soit mon ami. William Shakespeare Clique pour tweeter | B6: NON | C6: {=IF(SUM(IF(ISNUMBER(SEARCH(Feuil2!$A$3:$A$53,A6)),1,0))>0,"OUI","NON")} -> NON
A7: Continue. Vas-y à fond. Bryan Hutchinson | B7: NON | C7: {=IF(SUM(IF(ISNUMBER(SEARCH(Feuil2!$A$3:$A$53,A7)),1,0))>0,"OUI","NON")} -> NON
A8: Ma vie est mon argument. Albert Schweitzer | B8: NON | C8: {=IF(SUM(IF(ISNUMBER(SEARCH(Feuil2!$A$3:$A$53,A8)),1,0))>0,"OUI","NON")} -> NON
A9: Ne laisse aucune pierre non retournée. Euripide | B9: NON | C9: {=IF(SUM(IF(ISNUMBER(SEARCH(Feuil2!$A$3:$A$53,A9)),1,0))>0,"OUI","NON")} -> NON
A10: Combas jusqu’au dernier soupir. William Shakespeare | B10: NON | C10: {=IF(SUM(IF(ISNUMBER(SEARCH(Feuil2!$A$3:$A$53,A10)),1,0))>0,"OUI","NON")} -> NON
A11: Et que l’aventure commence. | B11: OUI | C11: {=IF(SUM(IF(ISNUMBER(SEARCH(Feuil2!$A$3:$A$53,A11)),1,0))>0,"OUI","NON")} -> NON
A12: Si tu le veux vraiment, travaille pour. | B12: …. | C12: {=IF(SUM(IF(ISNUMBER(SEARCH(Feuil2!$A$3:$A$53,A12)),1,0))>0,"OUI","NON")} -> NON
A13: Tu peux, si tu crois que tu peux. George Reeves | B13: …. | C13: {=IF(SUM(IF(ISNUMBER(SEARCH(Feuil2!$A$3:$A$53,A13)),1,0))>0,"OUI","NON")} -> NON
... A15: Impossible est pour ceux qui ne veulent pas vraiment. John Keats | B15: …. | C15: {=IF(SUM(IF(ISNUMBER(SEARCH(Feuil2!$A$3:$A$53,A15)),1,0))>0,"OUI","NON")} -> NON
A16: Grandis au travers de ce que tu traverses. | C16: {=IF(SUM(IF(ISNUMBER(SEARCH(Feuil2!$A$3:$A$53,A16)),1,0))>0,"OUI","NON")} -> NON
A17: L’esprit le plus sage a toujours quelque chose à apprendre. George Santanaya | C17: {=IF(SUM(IF(ISNUMBER(SEARCH(Feuil2!$A$3:$A$53,A17)),1,0))>0,"OUI","NON")} -> NON
A18: Tombe sept fois, relève-toi huit. Proverbe japonais | C18: {=IF(SUM(IF(ISNUMBER(SEARCH(Feuil2!$A$3:$A$53,A18)),1,0))>0,"OUI","NON")} -> NON
A19: Si tu traverses l’enfer, continue. Winston Churchill | C19: {=IF(SUM(IF(ISNUMBER(SEARCH(Feuil2!$A$3:$A$53,A19)),1,0))>0,"OUI","NON")} -> NON
A20: Tu peux accomplir n’importe quoi si tu y mets du coeur. | C20: {=IF(SUM(IF(ISNUMBER(SEARCH(Feuil2!$A$3:$A$53,A20)),1,0))>0,"OUI","NON")} -> NON
A21: Nous sommes deux fois armés si nous nous battons avec foi. Plato | C21: {=IF(SUM(IF(ISNUMBER(SEARCH(Feuil2!$A$3:$A$53,A21)),1,0))>0,"OUI","NON")} -> NON
A22: Sois fidèle à ce qui existe en toi. André Gide Clique pour tweeter | C22: {=IF(SUM(IF(ISNUMBER(SEARCH(Feuil2!$A$3:$A$53,A22)),1,0))>0,"OUI","NON")} -> NON
A23: La persévérance garantit que les résultats sont arriveront. Paramahansa Yogananda | C23: {=IF(SUM(IF(ISNUMBER(SEARCH(Feuil2!$A$3:$A$53,A23)),1,0))>0,"OUI","NON")} -> NON
A24: Dans la vie, tu as besoin d’inspiration ou de désespoir. Tony Robbins | C24: {=IF(SUM(IF(ISNUMBER(SEARCH(Feuil2!$A$3:$A$53,A24)),1,0))>0,"OUI","NON")} -> NON
A25: Je préférerais mourir sur mes pieds que vivre sur mes genoux. Euripide | C25: {=IF(SUM(IF(ISNUMBER(SEARCH(Feuil2!$A$3:$A$53,A25)),1,0))>0,"OUI","NON")} -> NON
A26: Le vrai succès est celui qui s’est inventé lui-même. Al Goldstein | C26: {=IF(SUM(IF(ISNUMBER(SEARCH(Feuil2!$A$3:$A$53,A26)),1,0))>0,"OUI","NON")} -> NON
A27: Ne dis pas aux gens tes plans. Montre-leur tes résultats. | C27: {=IF(SUM(IF(ISNUMBER(SEARCH(Feuil2!$A$3:$A$53,A27)),1,0))>0,"OUI","NON")} -> NON
... A32: La vie est fragile. Demain n’est pas garanti alors donne tout ce que tu as. Tim Cook | C32: {=IF(SUM(IF(ISNUMBER(SEARCH(Feuil2!$A$3:$A$53,A32)),1,0))>0,"OUI","NON")} -> NON

Sheet Feuil2
A1: Liste de mots
A2: Colonne 1
A3: connemara
A4: coré
A5: entr'accorder
A6: procureur
A7: promouvoir
A8: repaqueter
A9: robespierriste
A10: satisfécit
A11: yargo
A12: écorcés
... A53: valseuse
