Workbook
Name BdD: #REF!
Name Code: OFFSET(#REF!,,,COUNTA(#REF!)-1)
Name code1: 'BD MAITRESSE'!$B$7:$B$19
Name code2: SOUMISSION!#REF!
Name debut: #REF!
Name entrees: #REF!
Name fin: #REF!
Name liste1: #REF!
Name liste2: #REF!
Name Pont: #REF!
Name resultat: SOUMISSION!#REF!
Name sorties: #REF!
Name taux: #REF!

Sheet BD MAITRESSE
A2: MATÉRIEL | B2: CATÉGORIE | C2: CATÉGORIES uniques rangés | D2: MATÉRIELs valides | E2: MATÉRIELS uniques valides rangés
A3: Panval 555 mat | B3: Mélamine | C3: {=INDEX(B$1:B$22,MIN(IF(COUNTIF(C$2:C2,B$3:B$22)=0,ROW(B$3:B$22))))&""} -> Mélamine | D3: =IF(SOUMISSION!$A$5=B3,A3,"") -> Panval 555 mat | E3: {=INDEX(D$1:D$22,MIN(IF(COUNTIF(E$2:E2,D$3:D$22)=0,ROW(D$3:D$22))))&""} -> Panval 555 mat
A4: Panval 290 mat | B4: Mélamine | C4: {=INDEX(B$1:B$22,MIN(IF(COUNTIF(C$2:C3,B$3:B$22)=0,ROW(B$3:B$22))))&""} -> Placage | D4: =IF(SOUMISSION!$A$5=B4,A4,"") -> Panval 290 mat | E4: {=INDEX(D$1:D$22,MIN(IF(COUNTIF(E$2:E3,D$3:D$22)=0,ROW(D$3:D$22))))&""} -> Panval 290 mat
A5: Érable 16mm 1c | B5: Placage | C5: {=INDEX(B$1:B$22,MIN(IF(COUNTIF(C$2:C4,B$3:B$22)=0,ROW(B$3:B$22))))&""} -> Massif | D5: =IF(SOUMISSION!$A$5=B5,A5,"") | E5: {=INDEX(D$1:D$22,MIN(IF(COUNTIF(E$2:E4,D$3:D$22)=0,ROW(D$3:D$22))))&""}
A6: Érable 16mm 2c | B6: Placage | C6: {=INDEX(B$1:B$22,MIN(IF(COUNTIF(C$2:C5,B$3:B$22)=0,ROW(B$3:B$22))))&""} -> Corian | D6: =IF(SOUMISSION!$A$5=B6,A6,"") | E6: {=INDEX(D$1:D$22,MIN(IF(COUNTIF(E$2:E5,D$3:D$22)=0,ROW(D$3:D$22))))&""} -> Panval G18 Rio
A7: Chêne RC 16mm 2c | B7: Placage | C7: {=INDEX(B$1:B$22,MIN(IF(COUNTIF(C$2:C6,B$3:B$22)=0,ROW(B$3:B$22))))&""} -> Verre | D7: =IF(SOUMISSION!$A$5=B7,A7,"") | E7: {=INDEX(D$1:D$22,MIN(IF(COUNTIF(E$2:E6,D$3:D$22)=0,ROW(D$3:D$22))))&""}
A8: Chêne QC 16mm 2c | B8: Placage | C8: {=INDEX(B$1:B$22,MIN(IF(COUNTIF(C$2:C7,B$3:B$22)=0,ROW(B$3:B$22))))&""} | D8: =IF(SOUMISSION!$A$5=B8,A8,"") | E8: {=INDEX(D$1:D$22,MIN(IF(COUNTIF(E$2:E7,D$3:D$22)=0,ROW(D$3:D$22))))&""}
A9: Chêne QC 19mm 2c | B9: Placage | C9: {=INDEX(B$1:B$22,MIN(IF(COUNTIF(C$2:C8,B$3:B$22)=0,ROW(B$3:B$22))))&""} | D9: =IF(SOUMISSION!$A$5=B9,A9,"") | E9: {=INDEX(D$1:D$22,MIN(IF(COUNTIF(E$2:E8,D$3:D$22)=0,ROW(D$3:D$22))))&""}
A10: Chêne Massif | B10: Massif | C10: {=INDEX(B$1:B$22,MIN(IF(COUNTIF(C$2:C9,B$3:B$22)=0,ROW(B$3:B$22))))&""} | D10: =IF(SOUMISSION!$A$5=B10,A10,"") | E10: {=INDEX(D$1:D$22,MIN(IF(COUNTIF(E$2:E9,D$3:D$22)=0,ROW(D$3:D$22))))&""}
A11: Érable Massif | B11: Massif | C11: {=INDEX(B$1:B$22,MIN(IF(COUNTIF(C$2:C10,B$3:B$22)=0,ROW(B$3:B$22))))&""} | D11: =IF(SOUMISSION!$A$5=B11,A11,"") | E11: {=INDEX(D$1:D$22,MIN(IF(COUNTIF(E$2:E10,D$3:D$22)=0,ROW(D$3:D$22))))&""}
A12: Panval G18 Rio | B12: Mélamine | C12: {=INDEX(B$1:B$22,MIN(IF(COUNTIF(C$2:C11,B$3:B$22)=0,ROW(B$3:B$22))))&""} | D12: =IF(SOUMISSION!$A$5=B12,A12,"") -> Panval G18 Rio | E12: {=INDEX(D$1:D$22,MIN(IF(COUNTIF(E$2:E11,D$3:D$22)=0,ROW(D$3:D$22))))&""}
A13: Pearl Grey | B13: Corian | C13: {=INDEX(B$1:B$22,MIN(IF(COUNTIF(C$2:C12,B$3:B$22)=0,ROW(B$3:B$22))))&""} | D13: =IF(SOUMISSION!$A$5=B13,A13,"") | E13: {=INDEX(D$1:D$22,MIN(IF(COUNTIF(E$2:E12,D$3:D$22)=0,ROW(D$3:D$22))))&""}
A14: Verre Satiné 3mm | B14: Verre | C14: {=INDEX(B$1:B$22,MIN(IF(COUNTIF(C$2:C13,B$3:B$22)=0,ROW(B$3:B$22))))&""} | D14: =IF(SOUMISSION!$A$5=B14,A14,"") | E14: {=INDEX(D$1:D$22,MIN(IF(COUNTIF(E$2:E13,D$3:D$22)=0,ROW(D$3:D$22))))&""}
... A21: Verre Clair 10mm | B21: Verre | C21: {=INDEX(B$1:B$22,MIN(IF(COUNTIF(C$2:C20,B$3:B$22)=0,ROW(B$3:B$22))))&""} | D21: =IF(SOUMISSION!$A$5=B21,A21,"") | E21: {=INDEX(D$1:D$22,MIN(IF(COUNTIF(E$2:E20,D$3:D$22)=0,ROW(D$3:D$22))))&""}

Sheet SOUMISSION
A4: menu déroulant #1 | B4: menu déroulant #2
A5: Mélamine | B5: Panval 555 mat
