Workbook

Sheet data
A1: prénom 1
A2: prénom 2
A3: prénom 3
A4: prénom 4
A5: prénom 5
A6: prénom 6
A7: prénom 7
A8: prénom 8
A9: prénom 9
A10: prénom 10
A11: prénom 11
A12: prénom 12
... A20: prénom 20

Sheet combinaisons
B1: =COUNTA(data!A:A) -> 20 | E1: tirage | F1: vérif | G1: rang | H1: vérif
A2: =IF(B1=$B$1,A1+1,A1) -> 1 | B2: =IF(B1=$B$1,A2+1,B1+1) -> 2 | C2: =INDEX(data!$A:$A,combinaisons!A2) -> prénom 1 | D2: =INDEX(data!$A:$A,combinaisons!B2) -> prénom 2 | E2: =RANDBETWEEN(1,199)+ROW()/1000 -> 15.002 | F2: =COUNTIF($E$2:$E$191,E2) -> 1 | G2: =RANK(E2,$E$2:$E$191) -> 178 | H2: =COUNTIF($G$2:$G$191,G2) -> 1
A3: =IF(B2=$B$1,A2+1,A2) -> 1 | B3: =IF(B2=$B$1,A3+1,B2+1) -> 3 | C3: =INDEX(data!$A:$A,combinaisons!A3) -> prénom 1 | D3: =INDEX(data!$A:$A,combinaisons!B3) -> prénom 3 | E3: =RANDBETWEEN(1,199)+ROW()/1000 -> 89.003 | F3: =COUNTIF($E$2:$E$191,E3) -> 1 | G3: =RANK(E3,$E$2:$E$191) -> 101 | H3: =COUNTIF($G$2:$G$191,G3) -> 1
A4: =IF(B3=$B$1,A3+1,A3) -> 1 | B4: =IF(B3=$B$1,A4+1,B3+1) -> 4 | C4: =INDEX(data!$A:$A,combinaisons!A4) -> prénom 1 | D4: =INDEX(data!$A:$A,combinaisons!B4) -> prénom 4 | E4: =RANDBETWEEN(1,199)+ROW()/1000 -> 192.004 | F4: =COUNTIF($E$2:$E$191,E4) -> 1 | G4: =RANK(E4,$E$2:$E$191) -> 8 | H4: =COUNTIF($G$2:$G$191,G4) -> 1
A5: =IF(B4=$B$1,A4+1,A4) -> 1 | B5: =IF(B4=$B$1,A5+1,B4+1) -> 5 | C5: =INDEX(data!$A:$A,combinaisons!A5) -> prénom 1 | D5: =INDEX(data!$A:$A,combinaisons!B5) -> prénom 5 | E5: =RANDBETWEEN(1,199)+ROW()/1000 -> 139.005 | F5: =COUNTIF($E$2:$E$191,E5) -> 1 | G5: =RANK(E5,$E$2:$E$191) -> 52 | H5: =COUNTIF($G$2:$G$191,G5) -> 1
A6: =IF(B5=$B$1,A5+1,A5) -> 1 | B6: =IF(B5=$B$1,A6+1,B5+1) -> 6 | C6: =INDEX(data!$A:$A,combinaisons!A6) -> prénom 1 | D6: =INDEX(data!$A:$A,combinaisons!B6) -> prénom 6 | E6: =RANDBETWEEN(1,199)+ROW()/1000 -> 84.006 | F6: =COUNTIF($E$2:$E$191,E6) -> 1 | G6: =RANK(E6,$E$2:$E$191) -> 109 | H6: =COUNTIF($G$2:$G$191,G6) -> 1
A7: =IF(B6=$B$1,A6+1,A6) -> 1 | B7: =IF(B6=$B$1,A7+1,B6+1) -> 7 | C7: =INDEX(data!$A:$A,combinaisons!A7) -> prénom 1 | D7: =INDEX(data!$A:$A,combinaisons!B7) -> prénom 7 | E7: =RANDBETWEEN(1,199)+ROW()/1000 -> 19.007 | F7: =COUNTIF($E$2:$E$191,E7) -> 1 | G7: =RANK(E7,$E$2:$E$191) -> 174 | H7: =COUNTIF($G$2:$G$191,G7) -> 1
A8: =IF(B7=$B$1,A7+1,A7) -> 1 | B8: =IF(B7=$B$1,A8+1,B7+1) -> 8 | C8: =INDEX(data!$A:$A,combinaisons!A8) -> prénom 1 | D8: =INDEX(data!$A:$A,combinaisons!B8) -> prénom 8 | E8: =RANDBETWEEN(1,199)+ROW()/1000 -> 67.008 | F8: =COUNTIF($E$2:$E$191,E8) -> 1 | G8: =RANK(E8,$E$2:$E$191) -> 129 | H8: =COUNTIF($G$2:$G$191,G8) -> 1
A9: =IF(B8=$B$1,A8+1,A8) -> 1 | B9: =IF(B8=$B$1,A9+1,B8+1) -> 9 | C9: =INDEX(data!$A:$A,combinaisons!A9) -> prénom 1 | D9: =INDEX(data!$A:$A,combinaisons!B9) -> prénom 9 | E9: =RANDBETWEEN(1,199)+ROW()/1000 -> 175.009 | F9: =COUNTIF($E$2:$E$191,E9) -> 1 | G9: =RANK(E9,$E$2:$E$191) -> 23 | H9: =COUNTIF($G$2:$G$191,G9) -> 1
A10: =IF(B9=$B$1,A9+1,A9) -> 1 | B10: =IF(B9=$B$1,A10+1,B9+1) -> 10 | C10: =INDEX(data!$A:$A,combinaisons!A10) -> prénom 1 | D10: =INDEX(data!$A:$A,combinaisons!B10) -> prénom 10 | E10: =RANDBETWEEN(1,199)+ROW()/1000 -> 199.01 | F10: =COUNTIF($E$2:$E$191,E10) -> 1 | G10: =RANK(E10,$E$2:$E$191) -> 1 | H10: =COUNTIF($G$2:$G$191,G10) -> 1
A11: =IF(B10=$B$1,A10+1,A10) -> 1 | B11: =IF(B10=$B$1,A11+1,B10+1) -> 11 | C11: =INDEX(data!$A:$A,combinaisons!A11) -> prénom 1 | D11: =INDEX(data!$A:$A,combinaisons!B11) -> prénom 11 | E11: =RANDBETWEEN(1,199)+ROW()/1000 -> 11.011 | F11: =COUNTIF($E$2:$E$191,E11) -> 1 | G11: =RANK(E11,$E$2:$E$191) -> 182 | H11: =COUNTIF($G$2:$G$191,G11) -> 1
A12: =IF(B11=$B$1,A11+1,A11) -> 1 | B12: =IF(B11=$B$1,A12+1,B11+1) -> 12 | C12: =INDEX(data!$A:$A,combinaisons!A12) -> prénom 1 | D12: =INDEX(data!$A:$A,combinaisons!B12) -> prénom 12 | E12: =RANDBETWEEN(1,199)+ROW()/1000 -> 80.012 | F12: =COUNTIF($E$2:$E$191,E12) -> 1 | G12: =RANK(E12,$E$2:$E$191) -> 116 | H12: =COUNTIF($G$2:$G$191,G12) -> 1
A13: =IF(B12=$B$1,A12+1,A12) -> 1 | B13: =IF(B12=$B$1,A13+1,B12+1) -> 13 | C13: =INDEX(data!$A:$A,combinaisons!A13) -> prénom 1 | D13: =INDEX(data!$A:$A,combinaisons!B13) -> prénom 13 | E13: =RANDBETWEEN(1,199)+ROW()/1000 -> 176.013 | F13: =COUNTIF($E$2:$E$191,E13) -> 1 | G13: =RANK(E13,$E$2:$E$191) -> 21 | H13: =COUNTIF($G$2:$G$191,G13) -> 1
... A191: =IF(B190=$B$1,A190+1,A190) -> 19 | B191: =IF(B190=$B$1,A191+1,B190+1) -> 20 | C191: =INDEX(data!$A:$A,combinaisons!A191) -> prénom 19 | D191: =INDEX(data!$A:$A,combinaisons!B191) -> prénom 20 | E191: =RANDBETWEEN(1,199)+ROW()/1000 -> 78.191 | F191: =COUNTIF($E$2:$E$191,E191) -> 1 | G191: =RANK(E191,$E$2:$E$191) -> 119 | H191: =COUNTIF($G$2:$G$191,G191) -> 1

Sheet déjeuners
B1: déjeuner 1 | F1: déjeuner 2 | J1: déjeuner 3 | N1: déjeuner 4 | R1: déjeuner 5 | V1: déjeuner 6 | Z1: déjeuner 7 | AD1: déjeuner 8 | AH1: déjeuner 9 | AL1: déjeuner 10 | AP1: déjeuner 11 | AT1: déjeuner 12 | AX1: déjeuner 13 | BB1: déjeuner 14 | BF1: déjeuner 15 | BJ1: déjeuner 16 | BN1: déjeuner 17 | BR1: déjeuner 18 | BV1: déjeuner 19
A2: =ROW()-1+(COLUMN()-1)*2.5 -> 1 | B2: =INDEX(combinaisons!$C$2:$C$191,MATCH(déjeuners!A2,combinaisons!$G$2:$G$191,0)) -> prénom 1 | C2: =INDEX(combinaisons!$D$2:$D$191,MATCH(déjeuners!A2,combinaisons!$G$2:$G$191,0)) -> prénom 10 | E2: =ROW()-1+(COLUMN()-1)*2.5 -> 11 | F2: =INDEX(combinaisons!$C$2:$C$191,MATCH(déjeuners!E2,combinaisons!$G$2:$G$191,0)) -> prénom 8 | G2: =INDEX(combinaisons!$D$2:$D$191,MATCH(déjeuners!E2,combinaisons!$G$2:$G$191,0)) -> prénom 14 | I2: =ROW()-1+(COLUMN()-1)*2.5 -> 21 | J2: =INDEX(combinaisons!$C$2:$C$191,MATCH(déjeuners!I2,combinaisons!$G$2:$G$191,0)) -> prénom 1 | K2: =INDEX(combinaisons!$D$2:$D$191,MATCH(déjeuners!I2,combinaisons!$G$2:$G$191,0)) -> prénom 13 | M2: =ROW()-1+(COLUMN()-1)*2.5 -> 31 | N2: =INDEX(combinaisons!$C$2:$C$191,MATCH(déjeuners!M2,combinaisons!$G$2:$G$191,0)) -> prénom 2 | O2: =INDEX(combinaisons!$D$2:$D$191,MATCH(déjeuners!M2,combinaisons!$G$2:$G$191,0)) -> prénom 6 | Q2: =ROW()-1+(COLUMN()-1)*2.5 -> 41 | R2: =INDEX(combinaisons!$C$2:$C$191,MATCH(déjeuners!Q2,combinaisons!$G$2:$G$191,0)) -> prénom 7 | S2: =INDEX(combinaisons!$D$2:$D$191,MATCH(déjeuners!Q2,combinaisons!$G$2:$G$191,0)) -> prénom 8 | U2: =ROW()-1+(COLUMN()-1)*2.5 -> 51 | V2: =INDEX(combinaisons!$C$2:$C$191,MATCH(déjeuners!U2,combinaisons!$G$2:$G$191,0)) -> prénom 3 | W2: =INDEX(combinaisons!$D$2:$D$191,MATCH(déjeuners!U2,combinaisons!$G$2:$G$191,0)) -> prénom 9 | Y2: =ROW()-1+(COLUMN()-1)*2.5 -> 61 | Z2: =INDEX(combinaisons!$C$2:$C$191,MATCH(déjeuners!Y2,combinaisons!$G$2:$G$191,0)) -> prénom 12 | AA2: =INDEX(combinaisons!$D$2:$D$191,MATCH(déjeuners!Y2,combinaisons!$G$2:$G$191,0)) -> prénom 14 | AC2: =ROW()-1+(COLUMN()-1)*2.5 -> 71 | AD2: =INDEX(combinaisons!$C$2:$C$191,MATCH(déjeuners!AC2,combinaisons!$G$2:$G$191,0)) -> prénom 1 | AE2: =INDEX(combinaisons!$D$2:$D$191,MATCH(déjeuners!AC2,combinaisons!$G$2:$G$191,0)) -> prénom 15 | AG2: =ROW()-1+(COLUMN()-1)*2.5 -> 81 | AH2: =INDEX(combinaisons!$C$2:$C$191,MATCH(déjeuners!AG2,combinaisons!$G$2:$G$191,0)) -> prénom 11 | AI2: =INDEX(combinaisons!$D$2:$D$191,MATCH(déjeuners!AG2,combinaisons!$G$2:$G$191,0)) -> prénom 15 | AK2: =ROW()-1+(COLUMN()-1)*2.5 -> 91 | AL2: =INDEX(combinaisons!$C$2:$C$191,MATCH(déjeuners!AK2,combinaisons!$G$2:$G$191,0)) -> prénom 9 | AM2: =INDEX(combinaisons!$D$2:$D$191,MATCH(déjeuners!AK2,combinaisons!$G$2:$G$191,0)) -> prénom 20 | AO2: =ROW()-1+(COLUMN()-1)*2.5 -> 101 | AP2: =INDEX(combinaisons!$C$2:$C$191,MATCH(déjeuners!AO2,combinaisons!$G$2:$G$191,0)) -> prénom 1 | AQ2: =INDEX(combinaisons!$D$2:$D$191,MATCH(déjeuners!AO2,combinaisons!$G$2:$G$191,0)) -> prénom 3 | AS2: =ROW()-1+(COLUMN()-1)*2.5 -> 111 | AT2: =INDEX(combinaisons!$C$2:$C$191,MATCH(déjeuners!AS2,combinaisons!$G$2:$G$191,0)) -> prénom 4 | AU2: =INDEX(combinaisons!$D$2:$D$191,MATCH(déjeuners!AS2,combinaisons!$G$2:$G$191,0)) -> prénom 15 | AW2: =ROW()-1+(COLUMN()-1)*2.5 -> 121 | AX2: =INDEX(combinaisons!$C$2:$C$191,MATCH(déjeuners!AW2,combinaisons!$G$2:$G$191,0)) -> prénom 5 | AY2: =INDEX(combinaisons!$D$2:$D$191,MATCH(déjeuners!AW2,combinaisons!$G$2:$G$191,0)) -> prénom 12 | BA2: =ROW()-1+(COLUMN()-1)*2.5 -> 131 | BB2: =INDEX(combinaisons!$C$2:$C$191,MATCH(déjeuners!BA2,combinaisons!$G$2:$G$191,0)) -> prénom 11 | BC2: =INDEX(combinaisons!$D$2:$D$191,MATCH(déjeuners!BA2,combinaisons!$G$2:$G$191,0)) -> prénom 12 | BE2: =ROW()-1+(COLUMN()-1)*2.5 -> 141 | BF2: =INDEX(combinaisons!$C$2:$C$191,MATCH(déjeuners!BE2,combinaisons!$G$2:$G$191,0)) -> prénom 2 | BG2: =INDEX(combinaisons!$D$2:$D$191,MATCH(déjeuners!BE2,combinaisons!$G$2:$G$191,0)) -> prénom 14 | BI2: =ROW()-1+(COLUMN()-1)*2.5 -> 151 | BJ2: =INDEX(combinaisons!$C$2:$C$191,MATCH(déjeuners!BI2,combinaisons!$G$2:$G$191,0)) -> prénom 6 | BK2: =INDEX(combinaisons!$D$2:$D$191,MATCH(déjeuners!BI2,combinaisons!$G$2:$G$191,0)) -> prénom 18 | BM2: =ROW()-1+(COLUMN()-1)*2.5 -> 161 | BN2: =INDEX(combinaisons!$C$2:$C$191,MATCH(déjeuners!BM2,combinaisons!$G$2:$G$191,0)) -> prénom 5 | BO2: =INDEX(combinaisons!$D$2:$D$191,MATCH(déjeuners!BM2,combinaisons!$G$2:$G$191,0)) -> prénom 10 | BQ2: =ROW()-1+(COLUMN()-1)*2.5 -> 171 | BR2: =INDEX(combinaisons!$C$2:$C$191,MATCH(déjeuners!BQ2,combinaisons!$G$2:$G$191,0)) -> prénom 4 | BS2: =INDEX(combinaisons!$D$2:$D$191,MATCH(déjeuners!BQ2,combinaisons!$G$2:$G$191,0)) -> prénom 6 | BU2: =ROW()-1+(COLUMN()-1)*2.5 -> 181 | BV2: =INDEX(combinaisons!$C$2:$C$191,MATCH(déjeuners!BU2,combinaisons!$G$2:$G$191,0)) -> prénom 2 | BW2: =INDEX(combinaisons!$D$2:$D$191,MATCH(déjeuners!BU2,combinaisons!$G$2:$G$191,0)) -> prénom 15
A3: =ROW()-1+(COLUMN()-1)*2.5 -> 2 | B3: =INDEX(combinaisons!$C$2:$C$191,MATCH(déjeuners!A3,combinaisons!$G$2:$G$191,0)) -> prénom 4 | C3: =INDEX(combinaisons!$D$2:$D$191,MATCH(déjeuners!A3,combinaisons!$G$2:$G$191,0)) -> prénom 11 | E3: =ROW()-1+(COLUMN()-1)*2.5 -> 12 | F3: =INDEX(combinaisons!$C$2:$C$191,MATCH(déjeuners!E3,combinaisons!$G$2:$G$191,0)) -> prénom 10 | G3: =INDEX(combinaisons!$D$2:$D$191,MATCH(déjeuners!E3,combinaisons!$G$2:$G$191,0)) -> prénom 13 | I3: =ROW()-1+(COLUMN()-1)*2.5 -> 22 | J3: =INDEX(combinaisons!$C$2:$C$191,MATCH(déjeuners!I3,combinaisons!$G$2:$G$191,0)) -> prénom 8 | K3: =INDEX(combinaisons!$D$2:$D$191,MATCH(déjeuners!I3,combinaisons!$G$2:$G$191,0)) -> prénom 13 | M3: =ROW()-1+(COLUMN()-1)*2.5 -> 32 | N3: =INDEX(combinaisons!$C$2:$C$191,MATCH(déjeuners!M3,combinaisons!$G$2:$G$191,0)) -> prénom 12 | O3: =INDEX(combinaisons!$D$2:$D$191,MATCH(déjeuners!M3,combinaisons!$G$2:$G$191,0)) -> prénom 18 | Q3: =ROW()-1+(COLUMN()-1)*2.5 -> 42 | R3: =INDEX(combinaisons!$C$2:$C$191,MATCH(déjeuners!Q3,combinaisons!$G$2:$G$191,0)) -> prénom 5 | S3: =INDEX(combinaisons!$D$2:$D$191,MATCH(déjeuners!Q3,combinaisons!$G$2:$G$191,0)) -> prénom 15 | U3: =ROW()-1+(COLUMN()-1)*2.5 -> 52 | V3: =INDEX(combinaisons!$C$2:$C$191,MATCH(déjeuners!U3,combinaisons!$G$2:$G$191,0)) -> prénom 1 | W3: =INDEX(combinaisons!$D$2:$D$191,MATCH(déjeuners!U3,combinaisons!$G$2:$G$191,0)) -> prénom 5 | Y3: =ROW()-1+(COLUMN()-1)*2.5 -> 62 | Z3: =INDEX(combinaisons!$C$2:$C$191,MATCH(déjeuners!Y3,combinaisons!$G$2:$G$191,0)) -> prénom 7 | AA3: =INDEX(combinaisons!$D$2:$D$191,MATCH(déjeuners!Y3,combinaisons!$G$2:$G$191,0)) -> prénom 16 | AC3: =ROW()-1+(COLUMN()-1)*2.5 -> 72 | AD3: =INDEX(combinaisons!$C$2:$C$191,MATCH(déjeuners!AC3,combinaisons!$G$2:$G$191,0)) -> prénom 9 | AE3: =INDEX(combinaisons!$D$2:$D$191,MATCH(déjeuners!AC3,combinaisons!$G$2:$G$191,0)) -> prénom 10 | AG3: =ROW()-1+(COLUMN()-1)*2.5 -> 82 | AH3: =INDEX(combinaisons!$C$2:$C$191,MATCH(déjeuners!AG3,combinaisons!$G$2:$G$191,0)) -> prénom 16 | AI3: =INDEX(combinaisons!$D$2:$D$191,MATCH(déjeuners!AG3,combinaisons!$G$2:$G$191,0)) -> prénom 20 | AK3: =ROW()-1+(COLUMN()-1)*2.5 -> 92 | AL3: =INDEX(combinaisons!$C$2:$C$191,MATCH(déjeuners!AK3,combinaisons!$G$2:$G$191,0)) -> prénom 6 | AM3: =INDEX(combinaisons!$D$2:$D$191,MATCH(déjeuners!AK3,combinaisons!$G$2:$G$191,0)) -> prénom 16 | AO3: =ROW()-1+(COLUMN()-1)*2.5 -> 102 | AP3: =INDEX(combinaisons!$C$2:$C$191,MATCH(déjeuners!AO3,combinaisons!$G$2:$G$191,0)) -> prénom 14 | AQ3: =INDEX(combinaisons!$D$2:$D$191,MATCH(déjeuners!AO3,combinaisons!$G$2:$G$191,0)) -> prénom 16 | AS3: =ROW()-1+(COLUMN()-1)*2.5 -> 112 | AT3: =INDEX(combinaisons!$C$2:$C$191,MATCH(déjeuners!AS3,combinaisons!$G$2:$G$191,0)) -> prénom 5 | AU3: =INDEX(combinaisons!$D$2:$D$191,MATCH(déjeuners!AS3,combinaisons!$G$2:$G$191,0)) -> prénom 14 | AW3: =ROW()-1+(COLUMN()-1)*2.5 -> 122 | AX3: =INDEX(combinaisons!$C$2:$C$191,MATCH(déjeuners!AW3,combinaisons!$G$2:$G$191,0)) -> prénom 10 | AY3: =INDEX(combinaisons!$D$2:$D$191,MATCH(déjeuners!AW3,combinaisons!$G$2:$G$191,0)) -> prénom 19 | BA3: =ROW()-1+(COLUMN()-1)*2.5 -> 132 | BB3: =INDEX(combinaisons!$C$2:$C$191,MATCH(déjeuners!BA3,combinaisons!$G$2:$G$191,0)) -> prénom 10 | BC3: =INDEX(combinaisons!$D$2:$D$191,MATCH(déjeuners!BA3,combinaisons!$G$2:$G$191,0)) -> prénom 15 | BE3: =ROW()-1+(COLUMN()-1)*2.5 -> 142 | BF3: =INDEX(combinaisons!$C$2:$C$191,MATCH(déjeuners!BE3,combinaisons!$G$2:$G$191,0)) -> prénom 3 | BG3: =INDEX(combinaisons!$D$2:$D$191,MATCH(déjeuners!BE3,combinaisons!$G$2:$G$191,0)) -> prénom 17 | BI3: =ROW()-1+(COLUMN()-1)*2.5 -> 152 | BJ3: =INDEX(combinaisons!$C$2:$C$191,MATCH(déjeuners!BI3,combinaisons!$G$2:$G$191,0)) -> prénom 9 | BK3: =INDEX(combinaisons!$D$2:$D$191,MATCH(déjeuners!BI3,combinaisons!$G$2:$G$191,0)) -> prénom 19 | BM3: =ROW()-1+(COLUMN()-1)*2.5 -> 162 | BN3: =INDEX(combinaisons!$C$2:$C$191,MATCH(déjeuners!BM3,combinaisons!$G$2:$G$191,0)) -> prénom 15 | BO3: =INDEX(combinaisons!$D$2:$D$191,MATCH(déjeuners!BM3,combinaisons!$G$2:$G$191,0)) -> prénom 17 | BQ3: =ROW()-1+(COLUMN()-1)*2.5 -> 172 | BR3: =INDEX(combinaisons!$C$2:$C$191,MATCH(déjeuners!BQ3,combinaisons!$G$2:$G$191,0)) -> prénom 8 | BS3: =INDEX(combinaisons!$D$2:$D$191,MATCH(déjeuners!BQ3,combinaisons!$G$2:$G$191,0)) -> prénom 17 | BU3: =ROW()-1+(COLUMN()-1)*2.5 -> 182 | BV3: =INDEX(combinaisons!$C$2:$C$191,MATCH(déjeuners!BU3,combinaisons!$G$2:$G$191,0)) -> prénom 1 | BW3: =INDEX(combinaisons!$D$2:$D$191,MATCH(déjeuners!BU3,combinaisons!$G$2:$G$191,0)) -> prénom 11
A4: =ROW()-1+(COLUMN()-1)*2.5 -> 3 | B4: =INDEX(combinaisons!$C$2:$C$191,MATCH(déjeuners!A4,combinaisons!$G$2:$G$191,0)) -> prénom 6 | C4: =INDEX(combinaisons!$D$2:$D$191,MATCH(déjeuners!A4,combinaisons!$G$2:$G$191,0)) -> prénom 14 | E4: =ROW()-1+(COLUMN()-1)*2.5 -> 13 | F4: =INDEX(combinaisons!$C$2:$C$191,MATCH(déjeuners!E4,combinaisons!$G$2:$G$191,0)) -> prénom 6 | G4: =INDEX(combinaisons!$D$2:$D$191,MATCH(déjeuners!E4,combinaisons!$G$2:$G$191,0)) -> prénom 9 | I4: =ROW()-1+(COLUMN()-1)*2.5 -> 23 | J4: =INDEX(combinaisons!$C$2:$C$191,MATCH(déjeuners!I4,combinaisons!$G$2:$G$191,0)) -> prénom 1 | K4: =INDEX(combinaisons!$D$2:$D$191,MATCH(déjeuners!I4,combinaisons!$G$2:$G$191,0)) -> prénom 9 | M4: =ROW()-1+(COLUMN()-1)*2.5 -> 33 | N4: =INDEX(combinaisons!$C$2:$C$191,MATCH(déjeuners!M4,combinaisons!$G$2:$G$191,0)) -> prénom 11 | O4: =INDEX(combinaisons!$D$2:$D$191,MATCH(déjeuners!M4,combinaisons!$G$2:$G$191,0)) -> prénom 18 | Q4: =ROW()-1+(COLUMN()-1)*2.5 -> 43 | R4: =INDEX(combinaisons!$C$2:$C$191,MATCH(déjeuners!Q4,combinaisons!$G$2:$G$191,0)) -> prénom 2 | S4: =INDEX(combinaisons!$D$2:$D$191,MATCH(déjeuners!Q4,combinaisons!$G$2:$G$191,0)) -> prénom 13 | U4: =ROW()-1+(COLUMN()-1)*2.5 -> 53 | V4: =INDEX(combinaisons!$C$2:$C$191,MATCH(déjeuners!U4,combinaisons!$G$2:$G$191,0)) -> prénom 9 | W4: =INDEX(combinaisons!$D$2:$D$191,MATCH(déjeuners!U4,combinaisons!$G$2:$G$191,0)) -> prénom 11 | Y4: =ROW()-1+(COLUMN()-1)*2.5 -> 63 | Z4: =INDEX(combinaisons!$C$2:$C$191,MATCH(déjeuners!Y4,combinaisons!$G$2:$G$191,0)) -> prénom 13 | AA4: =INDEX(combinaisons!$D$2:$D$191,MATCH(déjeuners!Y4,combinaisons!$G$2:$G$191,0)) -> prénom 16 | AC4: =ROW()-1+(COLUMN()-1)*2.5 -> 73 | AD4: =INDEX(combinaisons!$C$2:$C$191,MATCH(déjeuners!AC4,combinaisons!$G$2:$G$191,0)) -> prénom 5 | AE4: =INDEX(combinaisons!$D$2:$D$191,MATCH(déjeuners!AC4,combinaisons!$G$2:$G$191,0)) -> prénom 17 | AG4: =ROW()-1+(COLUMN()-1)*2.5 -> 83 | AH4: =INDEX(combinaisons!$C$2:$C$191,MATCH(déjeuners!AG4,combinaisons!$G$2:$G$191,0)) -> prénom 2 | AI4: =INDEX(combinaisons!$D$2:$D$191,MATCH(déjeuners!AG4,combinaisons!$G$2:$G$191,0)) -> prénom 19 | AK4: =ROW()-1+(COLUMN()-1)*2.5 -> 93 | AL4: =INDEX(combinaisons!$C$2:$C$191,MATCH(déjeuners!AK4,combinaisons!$G$2:$G$191,0)) -> prénom 3 | AM4: =INDEX(combinaisons!$D$2:$D$191,MATCH(déjeuners!AK4,combinaisons!$G$2:$G$191,0)) -> prénom 6 | AO4: =ROW()-1+(COLUMN()-1)*2.5 -> 103 | AP4: =INDEX(combinaisons!$C$2:$C$191,MATCH(déjeuners!AO4,combinaisons!$G$2:$G$191,0)) -> prénom 8 | AQ4: =INDEX(combinaisons!$D$2:$D$191,MATCH(déjeuners!AO4,combinaisons!$G$2:$G$191,0)) -> prénom 20 | AS4: =ROW()-1+(COLUMN()-1)*2.5 -> 113 | AT4: =INDEX(combinaisons!$C$2:$C$191,MATCH(déjeuners!AS4,combinaisons!$G$2:$G$191,0)) -> prénom 5 | AU4: =INDEX(combinaisons!$D$2:$D$191,MATCH(déjeuners!AS4,combinaisons!$G$2:$G$191,0)) -> prénom 7 | AW4: =ROW()-1+(COLUMN()-1)*2.5 -> 123 | AX4: =INDEX(combinaisons!$C$2:$C$191,MATCH(déjeuners!AW4,combinaisons!$G$2:$G$191,0)) -> prénom 15 | AY4: =INDEX(combinaisons!$D$2:$D$191,MATCH(déjeuners!AW4,combinaisons!$G$2:$G$191,0)) -> prénom 18 | BA4: =ROW()-1+(COLUMN()-1)*2.5 -> 133 | BB4: =INDEX(combinaisons!$C$2:$C$191,MATCH(déjeuners!BA4,combinaisons!$G$2:$G$191,0)) -> prénom 5 | BC4: =INDEX(combinaisons!$D$2:$D$191,MATCH(déjeuners!BA4,combinaisons!$G$2:$G$191,0)) -> prénom 6 | BE4: =ROW()-1+(COLUMN()-1)*2.5 -> 143 | BF4: =INDEX(combinaisons!$C$2:$C$191,MATCH(déjeuners!BE4,combinaisons!$G$2:$G$191,0)) -> prénom 6 | BG4: =INDEX(combinaisons!$D$2:$D$191,MATCH(déjeuners!BE4,combinaisons!$G$2:$G$191,0)) -> prénom 12 | BI4: =ROW()-1+(COLUMN()-1)*2.5 -> 153 | BJ4: =INDEX(combinaisons!$C$2:$C$191,MATCH(déjeuners!BI4,combinaisons!$G$2:$G$191,0)) -> prénom 3 | BK4: =INDEX(combinaisons!$D$2:$D$191,MATCH(déjeuners!BI4,combinaisons!$G$2:$G$191,0)) -> prénom 15 | BM4: =ROW()-1+(COLUMN()-1)*2.5 -> 163 | BN4: =INDEX(combinaisons!$C$2:$C$191,MATCH(déjeuners!BM4,combinaisons!$G$2:$G$191,0)) -> prénom 2 | BO4: =INDEX(combinaisons!$D$2:$D$191,MATCH(déjeuners!BM4,combinaisons!$G$2:$G$191,0)) -> prénom 8 | BQ4: =ROW()-1+(COLUMN()-1)*2.5 -> 173 | BR4: =INDEX(combinaisons!$C$2:$C$191,MATCH(déjeuners!BQ4,combinaisons!$G$2:$G$191,0)) -> prénom 7 | BS4: =INDEX(combinaisons!$D$2:$D$191,MATCH(déjeuners!BQ4,combinaisons!$G$2:$G$191,0)) -> prénom 10 | BU4: =ROW()-1+(COLUMN()-1)*2.5 -> 183 | BV4: =INDEX(combinaisons!$C$2:$C$191,MATCH(déjeuners!BU4,combinaisons!$G$2:$G$191,0)) -> prénom 9 | BW4: =INDEX(combinaisons!$D$2:$D$191,MATCH(déjeuners!BU4,combinaisons!$G$2:$G$191,0)) -> prénom 16
A5: =ROW()-1+(COLUMN()-1)*2.5 -> 4 | B5: =INDEX(combinaisons!$C$2:$C$191,MATCH(déjeuners!A5,combinaisons!$G$2:$G$191,0)) -> prénom 16 | C5: =INDEX(combinaisons!$D$2:$D$191,MATCH(déjeuners!A5,combinaisons!$G$2:$G$191,0)) -> prénom 18 | E5: =ROW()-1+(COLUMN()-1)*2.5 -> 14 | F5: =INDEX(combinaisons!$C$2:$C$191,MATCH(déjeuners!E5,combinaisons!$G$2:$G$191,0)) -> prénom 14 | G5: =INDEX(combinaisons!$D$2:$D$191,MATCH(déjeuners!E5,combinaisons!$G$2:$G$191,0)) -> prénom 20 | I5: =ROW()-1+(COLUMN()-1)*2.5 -> 24 | J5: =INDEX(combinaisons!$C$2:$C$191,MATCH(déjeuners!I5,combinaisons!$G$2:$G$191,0)) -> prénom 11 | K5: =INDEX(combinaisons!$D$2:$D$191,MATCH(déjeuners!I5,combinaisons!$G$2:$G$191,0)) -> prénom 19 | M5: =ROW()-1+(COLUMN()-1)*2.5 -> 34 | N5: =INDEX(combinaisons!$C$2:$C$191,MATCH(déjeuners!M5,combinaisons!$G$2:$G$191,0)) -> prénom 1 | O5: =INDEX(combinaisons!$D$2:$D$191,MATCH(déjeuners!M5,combinaisons!$G$2:$G$191,0)) -> prénom 16 | Q5: =ROW()-1+(COLUMN()-1)*2.5 -> 44 | R5: =INDEX(combinaisons!$C$2:$C$191,MATCH(déjeuners!Q5,combinaisons!$G$2:$G$191,0)) -> prénom 10 | S5: =INDEX(combinaisons!$D$2:$D$191,MATCH(déjeuners!Q5,combinaisons!$G$2:$G$191,0)) -> prénom 18 | U5: =ROW()-1+(COLUMN()-1)*2.5 -> 54 | V5: =INDEX(combinaisons!$C$2:$C$191,MATCH(déjeuners!U5,combinaisons!$G$2:$G$191,0)) -> prénom 9 | W5: =INDEX(combinaisons!$D$2:$D$191,MATCH(déjeuners!U5,combinaisons!$G$2:$G$191,0)) -> prénom 14 | Y5: =ROW()-1+(COLUMN()-1)*2.5 -> 64 | Z5: =INDEX(combinaisons!$C$2:$C$191,MATCH(déjeuners!Y5,combinaisons!$G$2:$G$191,0)) -> prénom 8 | AA5: =INDEX(combinaisons!$D$2:$D$191,MATCH(déjeuners!Y5,combinaisons!$G$2:$G$191,0)) -> prénom 18 | AC5: =ROW()-1+(COLUMN()-1)*2.5 -> 74 | AD5: =INDEX(combinaisons!$C$2:$C$191,MATCH(déjeuners!AC5,combinaisons!$G$2:$G$191,0)) -> prénom 2 | AE5: =INDEX(combinaisons!$D$2:$D$191,MATCH(déjeuners!AC5,combinaisons!$G$2:$G$191,0)) -> prénom 4 | AG5: =ROW()-1+(COLUMN()-1)*2.5 -> 84 | AH5: =INDEX(combinaisons!$C$2:$C$191,MATCH(déjeuners!AG5,combinaisons!$G$2:$G$191,0)) -> prénom 5 | AI5: =INDEX(combinaisons!$D$2:$D$191,MATCH(déjeuners!AG5,combinaisons!$G$2:$G$191,0)) -> prénom 13 | AK5: =ROW()-1+(COLUMN()-1)*2.5 -> 94 | AL5: =INDEX(combinaisons!$C$2:$C$191,MATCH(déjeuners!AK5,combinaisons!$G$2:$G$191,0)) -> prénom 13 | AM5: =INDEX(combinaisons!$D$2:$D$191,MATCH(déjeuners!AK5,combinaisons!$G$2:$G$191,0)) -> prénom 18 | AO5: =ROW()-1+(COLUMN()-1)*2.5 -> 104 | AP5: =INDEX(combinaisons!$C$2:$C$191,MATCH(déjeuners!AO5,combinaisons!$G$2:$G$191,0)) -> prénom 5 | AQ5: =INDEX(combinaisons!$D$2:$D$191,MATCH(déjeuners!AO5,combinaisons!$G$2:$G$191,0)) -> prénom 9 | AS5: =ROW()-1+(COLUMN()-1)*2.5 -> 114 | AT5: =INDEX(combinaisons!$C$2:$C$191,MATCH(déjeuners!AS5,combinaisons!$G$2:$G$191,0)) -> prénom 4 | AU5: =INDEX(combinaisons!$D$2:$D$191,MATCH(déjeuners!AS5,combinaisons!$G$2:$G$191,0)) -> prénom 10 | AW5: =ROW()-1+(COLUMN()-1)*2.5 -> 124 | AX5: =INDEX(combinaisons!$C$2:$C$191,MATCH(déjeuners!AW5,combinaisons!$G$2:$G$191,0)) -> prénom 8 | AY5: =INDEX(combinaisons!$D$2:$D$191,MATCH(déjeuners!AW5,combinaisons!$G$2:$G$191,0)) -> prénom 16 | BA5: =ROW()-1+(COLUMN()-1)*2.5 -> 134 | BB5: =INDEX(combinaisons!$C$2:$C$191,MATCH(déjeuners!BA5,combinaisons!$G$2:$G$191,0)) -> prénom 3 | BC5: =INDEX(combinaisons!$D$2:$D$191,MATCH(déjeuners!BA5,combinaisons!$G$2:$G$191,0)) -> prénom 4 | BE5: =ROW()-1+(COLUMN()-1)*2.5 -> 144 | BF5: =INDEX(combinaisons!$C$2:$C$191,MATCH(déjeuners!BE5,combinaisons!$G$2:$G$191,0)) -> prénom 6 | BG5: =INDEX(combinaisons!$D$2:$D$191,MATCH(déjeuners!BE5,combinaisons!$G$2:$G$191,0)) -> prénom 10 | BI5: =ROW()-1+(COLUMN()-1)*2.5 -> 154 | BJ5: =INDEX(combinaisons!$C$2:$C$191,MATCH(déjeuners!BI5,combinaisons!$G$2:$G$191,0)) -> prénom 17 | BK5: =INDEX(combinaisons!$D$2:$D$191,MATCH(déjeuners!BI5,combinaisons!$G$2:$G$191,0)) -> prénom 18 | BM5: =ROW()-1+(COLUMN()-1)*2.5 -> 164 | BN5: =INDEX(combinaisons!$C$2:$C$191,MATCH(déjeuners!BM5,combinaisons!$G$2:$G$191,0)) -> prénom 8 | BO5: =INDEX(combinaisons!$D$2:$D$191,MATCH(déjeuners!BM5,combinaisons!$G$2:$G$191,0)) -> prénom 15 | BQ5: =ROW()-1+(COLUMN()-1)*2.5 -> 174 | BR5: =INDEX(combinaisons!$C$2:$C$191,MATCH(déjeuners!BQ5,combinaisons!$G$2:$G$191,0)) -> prénom 1 | BS5: =INDEX(combinaisons!$D$2:$D$191,MATCH(déjeuners!BQ5,combinaisons!$G$2:$G$191,0)) -> prénom 7 | BU5: =ROW()-1+(COLUMN()-1)*2.5 -> 184 | BV5: =INDEX(combinaisons!$C$2:$C$191,MATCH(déjeuners!BU5,combinaisons!$G$2:$G$191,0)) -> prénom 7 | BW5: =INDEX(combinaisons!$D$2:$D$191,MATCH(déjeuners!BU5,combinaisons!$G$2:$G$191,0)) -> prénom 19
A6: =ROW()-1+(COLUMN()-1)*2.5 -> 5 | B6: =INDEX(combinaisons!$C$2:$C$191,MATCH(déjeuners!A6,combinaisons!$G$2:$G$191,0)) -> prénom 6 | C6: =INDEX(combinaisons!$D$2:$D$191,MATCH(déjeuners!A6,combinaisons!$G$2:$G$191,0)) -> prénom 11 | E6: =ROW()-1+(COLUMN()-1)*2.5 -> 15 | F6: =INDEX(combinaisons!$C$2:$C$191,MATCH(déjeuners!E6,combinaisons!$G$2:$G$191,0)) -> prénom 3 | G6: =INDEX(combinaisons!$D$2:$D$191,MATCH(déjeuners!E6,combinaisons!$G$2:$G$191,0)) -> prénom 14 | I6: =ROW()-1+(COLUMN()-1)*2.5 -> 25 | J6: =INDEX(combinaisons!$C$2:$C$191,MATCH(déjeuners!I6,combinaisons!$G$2:$G$191,0)) -> prénom 1 | K6: =INDEX(combinaisons!$D$2:$D$191,MATCH(déjeuners!I6,combinaisons!$G$2:$G$191,0)) -> prénom 20 | M6: =ROW()-1+(COLUMN()-1)*2.5 -> 35 | N6: =INDEX(combinaisons!$C$2:$C$191,MATCH(déjeuners!M6,combinaisons!$G$2:$G$191,0)) -> prénom 4 | O6: =INDEX(combinaisons!$D$2:$D$191,MATCH(déjeuners!M6,combinaisons!$G$2:$G$191,0)) -> prénom 16 | Q6: =ROW()-1+(COLUMN()-1)*2.5 -> 45 | R6: =INDEX(combinaisons!$C$2:$C$191,MATCH(déjeuners!Q6,combinaisons!$G$2:$G$191,0)) -> prénom 6 | S6: =INDEX(combinaisons!$D$2:$D$191,MATCH(déjeuners!Q6,combinaisons!$G$2:$G$191,0)) -> prénom 7 | U6: =ROW()-1+(COLUMN()-1)*2.5 -> 55 | V6: =INDEX(combinaisons!$C$2:$C$191,MATCH(déjeuners!U6,combinaisons!$G$2:$G$191,0)) -> prénom 7 | W6: =INDEX(combinaisons!$D$2:$D$191,MATCH(déjeuners!U6,combinaisons!$G$2:$G$191,0)) -> prénom 11 | Y6: =ROW()-1+(COLUMN()-1)*2.5 -> 65 | Z6: =INDEX(combinaisons!$C$2:$C$191,MATCH(déjeuners!Y6,combinaisons!$G$2:$G$191,0)) -> prénom 15 | AA6: =INDEX(combinaisons!$D$2:$D$191,MATCH(déjeuners!Y6,combinaisons!$G$2:$G$191,0)) -> prénom 20 | AC6: =ROW()-1+(COLUMN()-1)*2.5 -> 75 | AD6: =INDEX(combinaisons!$C$2:$C$191,MATCH(déjeuners!AC6,combinaisons!$G$2:$G$191,0)) -> prénom 10 | AE6: =INDEX(combinaisons!$D$2:$D$191,MATCH(déjeuners!AC6,combinaisons!$G$2:$G$191,0)) -> prénom 17 | AG6: =ROW()-1+(COLUMN()-1)*2.5 -> 85 | AH6: =INDEX(combinaisons!$C$2:$C$191,MATCH(déjeuners!AG6,combinaisons!$G$2:$G$191,0)) -> prénom 11 | AI6: =INDEX(combinaisons!$D$2:$D$191,MATCH(déjeuners!AG6,combinaisons!$G$2:$G$191,0)) -> prénom 14 | AK6: =ROW()-1+(COLUMN()-1)*2.5 -> 95 | AL6: =INDEX(combinaisons!$C$2:$C$191,MATCH(déjeuners!AK6,combinaisons!$G$2:$G$191,0)) -> prénom 8 | AM6: =INDEX(combinaisons!$D$2:$D$191,MATCH(déjeuners!AK6,combinaisons!$G$2:$G$191,0)) -> prénom 12 | AO6: =ROW()-1+(COLUMN()-1)*2.5 -> 105 | AP6: =INDEX(combinaisons!$C$2:$C$191,MATCH(déjeuners!AO6,combinaisons!$G$2:$G$191,0)) -> prénom 4 | AQ6: =INDEX(combinaisons!$D$2:$D$191,MATCH(déjeuners!AO6,combinaisons!$G$2:$G$191,0)) -> prénom 12 | AS6: =ROW()-1+(COLUMN()-1)*2.5 -> 115 | AT6: =INDEX(combinaisons!$C$2:$C$191,MATCH(déjeuners!AS6,combinaisons!$G$2:$G$191,0)) -> prénom 1 | AU6: =INDEX(combinaisons!$D$2:$D$191,MATCH(déjeuners!AS6,combinaisons!$G$2:$G$191,0)) -> prénom 18 | AW6: =ROW()-1+(COLUMN()-1)*2.5 -> 125 | AX6: =INDEX(combinaisons!$C$2:$C$191,MATCH(déjeuners!AW6,combinaisons!$G$2:$G$191,0)) -> prénom 7 | AY6: =INDEX(combinaisons!$D$2:$D$191,MATCH(déjeuners!AW6,combinaisons!$G$2:$G$191,0)) -> prénom 12 | BA6: =ROW()-1+(COLUMN()-1)*2.5 -> 135 | BB6: =INDEX(combinaisons!$C$2:$C$191,MATCH(déjeuners!BA6,combinaisons!$G$2:$G$191,0)) -> prénom 2 | BC6: =INDEX(combinaisons!$D$2:$D$191,MATCH(déjeuners!BA6,combinaisons!$G$2:$G$191,0)) -> prénom 20 | BE6: =ROW()-1+(COLUMN()-1)*2.5 -> 145 | BF6: =INDEX(combinaisons!$C$2:$C$191,MATCH(déjeuners!BE6,combinaisons!$G$2:$G$191,0)) -> prénom 7 | BG6: =INDEX(combinaisons!$D$2:$D$191,MATCH(déjeuners!BE6,combinaisons!$G$2:$G$191,0)) -> prénom 14 | BI6: =ROW()-1+(COLUMN()-1)*2.5 -> 155 | BJ6: =INDEX(combinaisons!$C$2:$C$191,MATCH(déjeuners!BI6,combinaisons!$G$2:$G$191,0)) -> prénom 8 | BK6: =INDEX(combinaisons!$D$2:$D$191,MATCH(déjeuners!BI6,combinaisons!$G$2:$G$191,0)) -> prénom 9 | BM6: =ROW()-1+(COLUMN()-1)*2.5 -> 165 | BN6: =INDEX(combinaisons!$C$2:$C$191,MATCH(déjeuners!BM6,combinaisons!$G$2:$G$191,0)) -> prénom 14 | BO6: =INDEX(combinaisons!$D$2:$D$191,MATCH(déjeuners!BM6,combinaisons!$G$2:$G$191,0)) -> prénom 19 | BQ6: =ROW()-1+(COLUMN()-1)*2.5 -> 175 | BR6: =INDEX(combinaisons!$C$2:$C$191,MATCH(déjeuners!BQ6,combinaisons!$G$2:$G$191,0)) -> prénom 17 | BS6: =INDEX(combinaisons!$D$2:$D$191,MATCH(déjeuners!BQ6,combinaisons!$G$2:$G$191,0)) -> prénom 19 | BU6: =ROW()-1+(COLUMN()-1)*2.5 -> 185 | BV6: =INDEX(combinaisons!$C$2:$C$191,MATCH(déjeuners!BU6,combinaisons!$G$2:$G$191,0)) -> prénom 4 | BW6: =INDEX(combinaisons!$D$2:$D$191,MATCH(déjeuners!BU6,combinaisons!$G$2:$G$191,0)) -> prénom 13
A7: =ROW()-1+(COLUMN()-1)*2.5 -> 6 | B7: =INDEX(combinaisons!$C$2:$C$191,MATCH(déjeuners!A7,combinaisons!$G$2:$G$191,0)) -> prénom 13 | C7: =INDEX(combinaisons!$D$2:$D$191,MATCH(déjeuners!A7,combinaisons!$G$2:$G$191,0)) -> prénom 14 | E7: =ROW()-1+(COLUMN()-1)*2.5 -> 16 | F7: =INDEX(combinaisons!$C$2:$C$191,MATCH(déjeuners!E7,combinaisons!$G$2:$G$191,0)) -> prénom 2 | G7: =INDEX(combinaisons!$D$2:$D$191,MATCH(déjeuners!E7,combinaisons!$G$2:$G$191,0)) -> prénom 11 | I7: =ROW()-1+(COLUMN()-1)*2.5 -> 26 | J7: =INDEX(combinaisons!$C$2:$C$191,MATCH(déjeuners!I7,combinaisons!$G$2:$G$191,0)) -> prénom 14 | K7: =INDEX(combinaisons!$D$2:$D$191,MATCH(déjeuners!I7,combinaisons!$G$2:$G$191,0)) -> prénom 17 | M7: =ROW()-1+(COLUMN()-1)*2.5 -> 36 | N7: =INDEX(combinaisons!$C$2:$C$191,MATCH(déjeuners!M7,combinaisons!$G$2:$G$191,0)) -> prénom 3 | O7: =INDEX(combinaisons!$D$2:$D$191,MATCH(déjeuners!M7,combinaisons!$G$2:$G$191,0)) -> prénom 18 | Q7: =ROW()-1+(COLUMN()-1)*2.5 -> 46 | R7: =INDEX(combinaisons!$C$2:$C$191,MATCH(déjeuners!Q7,combinaisons!$G$2:$G$191,0)) -> prénom 9 | S7: =INDEX(combinaisons!$D$2:$D$191,MATCH(déjeuners!Q7,combinaisons!$G$2:$G$191,0)) -> prénom 18 | U7: =ROW()-1+(COLUMN()-1)*2.5 -> 56 | V7: =INDEX(combinaisons!$C$2:$C$191,MATCH(déjeuners!U7,combinaisons!$G$2:$G$191,0)) -> prénom 12 | W7: =INDEX(combinaisons!$D$2:$D$191,MATCH(déjeuners!U7,combinaisons!$G$2:$G$191,0)) -> prénom 19 | Y7: =ROW()-1+(COLUMN()-1)*2.5 -> 66 | Z7: =INDEX(combinaisons!$C$2:$C$191,MATCH(déjeuners!Y7,combinaisons!$G$2:$G$191,0)) -> prénom 13 | AA7: =INDEX(combinaisons!$D$2:$D$191,MATCH(déjeuners!Y7,combinaisons!$G$2:$G$191,0)) -> prénom 19 | AC7: =ROW()-1+(COLUMN()-1)*2.5 -> 76 | AD7: =INDEX(combinaisons!$C$2:$C$191,MATCH(déjeuners!AC7,combinaisons!$G$2:$G$191,0)) -> prénom 10 | AE7: =INDEX(combinaisons!$D$2:$D$191,MATCH(déjeuners!AC7,combinaisons!$G$2:$G$191,0)) -> prénom 16 | AG7: =ROW()-1+(COLUMN()-1)*2.5 -> 86 | AH7: =INDEX(combinaisons!$C$2:$C$191,MATCH(déjeuners!AG7,combinaisons!$G$2:$G$191,0)) -> prénom 2 | AI7: =INDEX(combinaisons!$D$2:$D$191,MATCH(déjeuners!AG7,combinaisons!$G$2:$G$191,0)) -> prénom 10 | AK7: =ROW()-1+(COLUMN()-1)*2.5 -> 96 | AL7: =INDEX(combinaisons!$C$2:$C$191,MATCH(déjeuners!AK7,combinaisons!$G$2:$G$191,0)) -> prénom 15 | AM7: =INDEX(combinaisons!$D$2:$D$191,MATCH(déjeuners!AK7,combinaisons!$G$2:$G$191,0)) -> prénom 19 | AO7: =ROW()-1+(COLUMN()-1)*2.5 -> 106 | AP7: =INDEX(combinaisons!$C$2:$C$191,MATCH(déjeuners!AO7,combinaisons!$G$2:$G$191,0)) -> prénom 5 | AQ7: =INDEX(combinaisons!$D$2:$D$191,MATCH(déjeuners!AO7,combinaisons!$G$2:$G$191,0)) -> prénom 16 | AS7: =ROW()-1+(COLUMN()-1)*2.5 -> 116 | AT7: =INDEX(combinaisons!$C$2:$C$191,MATCH(déjeuners!AS7,combinaisons!$G$2:$G$191,0)) -> prénom 1 | AU7: =INDEX(combinaisons!$D$2:$D$191,MATCH(déjeuners!AS7,combinaisons!$G$2:$G$191,0)) -> prénom 12 | AW7: =ROW()-1+(COLUMN()-1)*2.5 -> 126 | AX7: =INDEX(combinaisons!$C$2:$C$191,MATCH(déjeuners!AW7,combinaisons!$G$2:$G$191,0)) -> prénom 3 | AY7: =INDEX(combinaisons!$D$2:$D$191,MATCH(déjeuners!AW7,combinaisons!$G$2:$G$191,0)) -> prénom 11 | BA7: =ROW()-1+(COLUMN()-1)*2.5 -> 136 | BB7: =INDEX(combinaisons!$C$2:$C$191,MATCH(déjeuners!BA7,combinaisons!$G$2:$G$191,0)) -> prénom 7 | BC7: =INDEX(combinaisons!$D$2:$D$191,MATCH(déjeuners!BA7,combinaisons!$G$2:$G$191,0)) -> prénom 9 | BE7: =ROW()-1+(COLUMN()-1)*2.5 -> 146 | BF7: =INDEX(combinaisons!$C$2:$C$191,MATCH(déjeuners!BE7,combinaisons!$G$2:$G$191,0)) -> prénom 2 | BG7: =INDEX(combinaisons!$D$2:$D$191,MATCH(déjeuners!BE7,combinaisons!$G$2:$G$191,0)) -> prénom 3 | BI7: =ROW()-1+(COLUMN()-1)*2.5 -> 156 | BJ7: =INDEX(combinaisons!$C$2:$C$191,MATCH(déjeuners!BI7,combinaisons!$G$2:$G$191,0)) -> prénom 12 | BK7: =INDEX(combinaisons!$D$2:$D$191,MATCH(déjeuners!BI7,combinaisons!$G$2:$G$191,0)) -> prénom 16 | BM7: =ROW()-1+(COLUMN()-1)*2.5 -> 166 | BN7: =INDEX(combinaisons!$C$2:$C$191,MATCH(déjeuners!BM7,combinaisons!$G$2:$G$191,0)) -> prénom 9 | BO7: =INDEX(combinaisons!$D$2:$D$191,MATCH(déjeuners!BM7,combinaisons!$G$2:$G$191,0)) -> prénom 15 | BQ7: =ROW()-1+(COLUMN()-1)*2.5 -> 176 | BR7: =INDEX(combinaisons!$C$2:$C$191,MATCH(déjeuners!BQ7,combinaisons!$G$2:$G$191,0)) -> prénom 4 | BS7: =INDEX(combinaisons!$D$2:$D$191,MATCH(déjeuners!BQ7,combinaisons!$G$2:$G$191,0)) -> prénom 8 | BU7: =ROW()-1+(COLUMN()-1)*2.5 -> 186 | BV7: =INDEX(combinaisons!$C$2:$C$191,MATCH(déjeuners!BU7,combinaisons!$G$2:$G$191,0)) -> prénom 2 | BW7: =INDEX(combinaisons!$D$2:$D$191,MATCH(déjeuners!BU7,combinaisons!$G$2:$G$191,0)) -> prénom 17
A8: =ROW()-1+(COLUMN()-1)*2.5 -> 7 | B8: =INDEX(combinaisons!$C$2:$C$191,MATCH(déjeuners!A8,combinaisons!$G$2:$G$191,0)) -> prénom 9 | C8: =INDEX(combinaisons!$D$2:$D$191,MATCH(déjeuners!A8,combinaisons!$G$2:$G$191,0)) -> prénom 12 | E8: =ROW()-1+(COLUMN()-1)*2.5 -> 17 | F8: =INDEX(combinaisons!$C$2:$C$191,MATCH(déjeuners!E8,combinaisons!$G$2:$G$191,0)) -> prénom 16 | G8: =INDEX(combinaisons!$D$2:$D$191,MATCH(déjeuners!E8,combinaisons!$G$2:$G$191,0)) -> prénom 19 | I8: =ROW()-1+(COLUMN()-1)*2.5 -> 27 | J8: =INDEX(combinaisons!$C$2:$C$191,MATCH(déjeuners!I8,combinaisons!$G$2:$G$191,0)) -> prénom 9 | K8: =INDEX(combinaisons!$D$2:$D$191,MATCH(déjeuners!I8,combinaisons!$G$2:$G$191,0)) -> prénom 17 | M8: =ROW()-1+(COLUMN()-1)*2.5 -> 37 | N8: =INDEX(combinaisons!$C$2:$C$191,MATCH(déjeuners!M8,combinaisons!$G$2:$G$191,0)) -> prénom 5 | O8: =INDEX(combinaisons!$D$2:$D$191,MATCH(déjeuners!M8,combinaisons!$G$2:$G$191,0)) -> prénom 20 | Q8: =ROW()-1+(COLUMN()-1)*2.5 -> 47 | R8: =INDEX(combinaisons!$C$2:$C$191,MATCH(déjeuners!Q8,combinaisons!$G$2:$G$191,0)) -> prénom 4 | S8: =INDEX(combinaisons!$D$2:$D$191,MATCH(déjeuners!Q8,combinaisons!$G$2:$G$191,0)) -> prénom 14 | U8: =ROW()-1+(COLUMN()-1)*2.5 -> 57 | V8: =INDEX(combinaisons!$C$2:$C$191,MATCH(déjeuners!U8,combinaisons!$G$2:$G$191,0)) -> prénom 7 | W8: =INDEX(combinaisons!$D$2:$D$191,MATCH(déjeuners!U8,combinaisons!$G$2:$G$191,0)) -> prénom 18 | Y8: =ROW()-1+(COLUMN()-1)*2.5 -> 67 | Z8: =INDEX(combinaisons!$C$2:$C$191,MATCH(déjeuners!Y8,combinaisons!$G$2:$G$191,0)) -> prénom 9 | AA8: =INDEX(combinaisons!$D$2:$D$191,MATCH(déjeuners!Y8,combinaisons!$G$2:$G$191,0)) -> prénom 13 | AC8: =ROW()-1+(COLUMN()-1)*2.5 -> 77 | AD8: =INDEX(combinaisons!$C$2:$C$191,MATCH(déjeuners!AC8,combinaisons!$G$2:$G$191,0)) -> prénom 11 | AE8: =INDEX(combinaisons!$D$2:$D$191,MATCH(déjeuners!AC8,combinaisons!$G$2:$G$191,0)) -> prénom 16 | AG8: =ROW()-1+(COLUMN()-1)*2.5 -> 87 | AH8: =INDEX(combinaisons!$C$2:$C$191,MATCH(déjeuners!AG8,combinaisons!$G$2:$G$191,0)) -> prénom 14 | AI8: =INDEX(combinaisons!$D$2:$D$191,MATCH(déjeuners!AG8,combinaisons!$G$2:$G$191,0)) -> prénom 18 | AK8: =ROW()-1+(COLUMN()-1)*2.5 -> 97 | AL8: =INDEX(combinaisons!$C$2:$C$191,MATCH(déjeuners!AK8,combinaisons!$G$2:$G$191,0)) -> prénom 10 | AM8: =INDEX(combinaisons!$D$2:$D$191,MATCH(déjeuners!AK8,combinaisons!$G$2:$G$191,0)) -> prénom 11 | AO8: =ROW()-1+(COLUMN()-1)*2.5 -> 107 | AP8: =INDEX(combinaisons!$C$2:$C$191,MATCH(déjeuners!AO8,combinaisons!$G$2:$G$191,0)) -> prénom 8 | AQ8: =INDEX(combinaisons!$D$2:$D$191,MATCH(déjeuners!AO8,combinaisons!$G$2:$G$191,0)) -> prénom 10 | AS8: =ROW()-1+(COLUMN()-1)*2.5 -> 117 | AT8: =INDEX(combinaisons!$C$2:$C$191,MATCH(déjeuners!AS8,combinaisons!$G$2:$G$191,0)) -> prénom 13 | AU8: =INDEX(combinaisons!$D$2:$D$191,MATCH(déjeuners!AS8,combinaisons!$G$2:$G$191,0)) -> prénom 15 | AW8: =ROW()-1+(COLUMN()-1)*2.5 -> 127 | AX8: =INDEX(combinaisons!$C$2:$C$191,MATCH(déjeuners!AW8,combinaisons!$G$2:$G$191,0)) -> prénom 7 | AY8: =INDEX(combinaisons!$D$2:$D$191,MATCH(déjeuners!AW8,combinaisons!$G$2:$G$191,0)) -> prénom 17 | BA8: =ROW()-1+(COLUMN()-1)*2.5 -> 137 | BB8: =INDEX(combinaisons!$C$2:$C$191,MATCH(déjeuners!BA8,combinaisons!$G$2:$G$191,0)) -> prénom 11 | BC8: =INDEX(combinaisons!$D$2:$D$191,MATCH(déjeuners!BA8,combinaisons!$G$2:$G$191,0)) -> prénom 17 | BE8: =ROW()-1+(COLUMN()-1)*2.5 -> 147 | BF8: =INDEX(combinaisons!$C$2:$C$191,MATCH(déjeuners!BE8,combinaisons!$G$2:$G$191,0)) -> prénom 7 | BG8: =INDEX(combinaisons!$D$2:$D$191,MATCH(déjeuners!BE8,combinaisons!$G$2:$G$191,0)) -> prénom 15 | BI8: =ROW()-1+(COLUMN()-1)*2.5 -> 157 | BJ8: =INDEX(combinaisons!$C$2:$C$191,MATCH(déjeuners!BI8,combinaisons!$G$2:$G$191,0)) -> prénom 3 | BK8: =INDEX(combinaisons!$D$2:$D$191,MATCH(déjeuners!BI8,combinaisons!$G$2:$G$191,0)) -> prénom 13 | BM8: =ROW()-1+(COLUMN()-1)*2.5 -> 167 | BN8: =INDEX(combinaisons!$C$2:$C$191,MATCH(déjeuners!BM8,combinaisons!$G$2:$G$191,0)) -> prénom 8 | BO8: =INDEX(combinaisons!$D$2:$D$191,MATCH(déjeuners!BM8,combinaisons!$G$2:$G$191,0)) -> prénom 19 | BQ8: =ROW()-1+(COLUMN()-1)*2.5 -> 177 | BR8: =INDEX(combinaisons!$C$2:$C$191,MATCH(déjeuners!BQ8,combinaisons!$G$2:$G$191,0)) -> prénom 15 | BS8: =INDEX(combinaisons!$D$2:$D$191,MATCH(déjeuners!BQ8,combinaisons!$G$2:$G$191,0)) -> prénom 16 | BU8: =ROW()-1+(COLUMN()-1)*2.5 -> 187 | BV8: =INDEX(combinaisons!$C$2:$C$191,MATCH(déjeuners!BU8,combinaisons!$G$2:$G$191,0)) -> prénom 12 | BW8: =INDEX(combinaisons!$D$2:$D$191,MATCH(déjeuners!BU8,combinaisons!$G$2:$G$191,0)) -> prénom 20
A9: =ROW()-1+(COLUMN()-1)*2.5 -> 8 | B9: =INDEX(combinaisons!$C$2:$C$191,MATCH(déjeuners!A9,combinaisons!$G$2:$G$191,0)) -> prénom 1 | C9: =INDEX(combinaisons!$D$2:$D$191,MATCH(déjeuners!A9,combinaisons!$G$2:$G$191,0)) -> prénom 4 | E9: =ROW()-1+(COLUMN()-1)*2.5 -> 18 | F9: =INDEX(combinaisons!$C$2:$C$191,MATCH(déjeuners!E9,combinaisons!$G$2:$G$191,0)) -> prénom 7 | G9: =INDEX(combinaisons!$D$2:$D$191,MATCH(déjeuners!E9,combinaisons!$G$2:$G$191,0)) -> prénom 13 | I9: =ROW()-1+(COLUMN()-1)*2.5 -> 28 | J9: =INDEX(combinaisons!$C$2:$C$191,MATCH(déjeuners!I9,combinaisons!$G$2:$G$191,0)) -> prénom 18 | K9: =INDEX(combinaisons!$D$2:$D$191,MATCH(déjeuners!I9,combinaisons!$G$2:$G$191,0)) -> prénom 19 | M9: =ROW()-1+(COLUMN()-1)*2.5 -> 38 | N9: =INDEX(combinaisons!$C$2:$C$191,MATCH(déjeuners!M9,combinaisons!$G$2:$G$191,0)) -> prénom 1 | O9: =INDEX(combinaisons!$D$2:$D$191,MATCH(déjeuners!M9,combinaisons!$G$2:$G$191,0)) -> prénom 19 | Q9: =ROW()-1+(COLUMN()-1)*2.5 -> 48 | R9: =INDEX(combinaisons!$C$2:$C$191,MATCH(déjeuners!Q9,combinaisons!$G$2:$G$191,0)) -> prénom 5 | S9: =INDEX(combinaisons!$D$2:$D$191,MATCH(déjeuners!Q9,combinaisons!$G$2:$G$191,0)) -> prénom 19 | U9: =ROW()-1+(COLUMN()-1)*2.5 -> 58 | V9: =INDEX(combinaisons!$C$2:$C$191,MATCH(déjeuners!U9,combinaisons!$G$2:$G$191,0)) -> prénom 5 | W9: =INDEX(combinaisons!$D$2:$D$191,MATCH(déjeuners!U9,combinaisons!$G$2:$G$191,0)) -> prénom 18 | Y9: =ROW()-1+(COLUMN()-1)*2.5 -> 68 | Z9: =INDEX(combinaisons!$C$2:$C$191,MATCH(déjeuners!Y9,combinaisons!$G$2:$G$191,0)) -> prénom 2 | AA9: =INDEX(combinaisons!$D$2:$D$191,MATCH(déjeuners!Y9,combinaisons!$G$2:$G$191,0)) -> prénom 12 | AC9: =ROW()-1+(COLUMN()-1)*2.5 -> 78 | AD9: =INDEX(combinaisons!$C$2:$C$191,MATCH(déjeuners!AC9,combinaisons!$G$2:$G$191,0)) -> prénom 3 | AE9: =INDEX(combinaisons!$D$2:$D$191,MATCH(déjeuners!AC9,combinaisons!$G$2:$G$191,0)) -> prénom 5 | AG9: =ROW()-1+(COLUMN()-1)*2.5 -> 88 | AH9: =INDEX(combinaisons!$C$2:$C$191,MATCH(déjeuners!AG9,combinaisons!$G$2:$G$191,0)) -> prénom 4 | AI9: =INDEX(combinaisons!$D$2:$D$191,MATCH(déjeuners!AG9,combinaisons!$G$2:$G$191,0)) -> prénom 20 | AK9: =ROW()-1+(COLUMN()-1)*2.5 -> 98 | AL9: =INDEX(combinaisons!$C$2:$C$191,MATCH(déjeuners!AK9,combinaisons!$G$2:$G$191,0)) -> prénom 10 | AM9: =INDEX(combinaisons!$D$2:$D$191,MATCH(déjeuners!AK9,combinaisons!$G$2:$G$191,0)) -> prénom 12 | AO9: =ROW()-1+(COLUMN()-1)*2.5 -> 108 | AP9: =INDEX(combinaisons!$C$2:$C$191,MATCH(déjeuners!AO9,combinaisons!$G$2:$G$191,0)) -> prénom 7 | AQ9: =INDEX(combinaisons!$D$2:$D$191,MATCH(déjeuners!AO9,combinaisons!$G$2:$G$191,0)) -> prénom 20 | AS9: =ROW()-1+(COLUMN()-1)*2.5 -> 118 | AT9: =INDEX(combinaisons!$C$2:$C$191,MATCH(déjeuners!AS9,combinaisons!$G$2:$G$191,0)) -> prénom 6 | AU9: =INDEX(combinaisons!$D$2:$D$191,MATCH(déjeuners!AS9,combinaisons!$G$2:$G$191,0)) -> prénom 19 | AW9: =ROW()-1+(COLUMN()-1)*2.5 -> 128 | AX9: =INDEX(combinaisons!$C$2:$C$191,MATCH(déjeuners!AW9,combinaisons!$G$2:$G$191,0)) -> prénom 10 | AY9: =INDEX(combinaisons!$D$2:$D$191,MATCH(déjeuners!AW9,combinaisons!$G$2:$G$191,0)) -> prénom 14 | BA9: =ROW()-1+(COLUMN()-1)*2.5 -> 138 | BB9: =INDEX(combinaisons!$C$2:$C$191,MATCH(déjeuners!BA9,combinaisons!$G$2:$G$191,0)) -> prénom 1 | BC9: =INDEX(combinaisons!$D$2:$D$191,MATCH(déjeuners!BA9,combinaisons!$G$2:$G$191,0)) -> prénom 17 | BE9: =ROW()-1+(COLUMN()-1)*2.5 -> 148 | BF9: =INDEX(combinaisons!$C$2:$C$191,MATCH(déjeuners!BE9,combinaisons!$G$2:$G$191,0)) -> prénom 2 | BG9: =INDEX(combinaisons!$D$2:$D$191,MATCH(déjeuners!BE9,combinaisons!$G$2:$G$191,0)) -> prénom 16 | BI9: =ROW()-1+(COLUMN()-1)*2.5 -> 158 | BJ9: =INDEX(combinaisons!$C$2:$C$191,MATCH(déjeuners!BI9,combinaisons!$G$2:$G$191,0)) -> prénom 3 | BK9: =INDEX(combinaisons!$D$2:$D$191,MATCH(déjeuners!BI9,combinaisons!$G$2:$G$191,0)) -> prénom 20 | BM9: =ROW()-1+(COLUMN()-1)*2.5 -> 168 | BN9: =INDEX(combinaisons!$C$2:$C$191,MATCH(déjeuners!BM9,combinaisons!$G$2:$G$191,0)) -> prénom 6 | BO9: =INDEX(combinaisons!$D$2:$D$191,MATCH(déjeuners!BM9,combinaisons!$G$2:$G$191,0)) -> prénom 13 | BQ9: =ROW()-1+(COLUMN()-1)*2.5 -> 178 | BR9: =INDEX(combinaisons!$C$2:$C$191,MATCH(déjeuners!BQ9,combinaisons!$G$2:$G$191,0)) -> prénom 1 | BS9: =INDEX(combinaisons!$D$2:$D$191,MATCH(déjeuners!BQ9,combinaisons!$G$2:$G$191,0)) -> prénom 2 | BU9: =ROW()-1+(COLUMN()-1)*2.5 -> 188 | BV9: =INDEX(combinaisons!$C$2:$C$191,MATCH(déjeuners!BU9,combinaisons!$G$2:$G$191,0)) -> prénom 17 | BW9: =INDEX(combinaisons!$D$2:$D$191,MATCH(déjeuners!BU9,combinaisons!$G$2:$G$191,0)) -> prénom 20
A10: =ROW()-1+(COLUMN()-1)*2.5 -> 9 | B10: =INDEX(combinaisons!$C$2:$C$191,MATCH(déjeuners!A10,combinaisons!$G$2:$G$191,0)) -> prénom 4 | C10: =INDEX(combinaisons!$D$2:$D$191,MATCH(déjeuners!A10,combinaisons!$G$2:$G$191,0)) -> prénom 7 | E10: =ROW()-1+(COLUMN()-1)*2.5 -> 19 | F10: =INDEX(combinaisons!$C$2:$C$191,MATCH(déjeuners!E10,combinaisons!$G$2:$G$191,0)) -> prénom 4 | G10: =INDEX(combinaisons!$D$2:$D$191,MATCH(déjeuners!E10,combinaisons!$G$2:$G$191,0)) -> prénom 19 | I10: =ROW()-1+(COLUMN()-1)*2.5 -> 29 | J10: =INDEX(combinaisons!$C$2:$C$191,MATCH(déjeuners!I10,combinaisons!$G$2:$G$191,0)) -> prénom 10 | K10: =INDEX(combinaisons!$D$2:$D$191,MATCH(déjeuners!I10,combinaisons!$G$2:$G$191,0)) -> prénom 20 | M10: =ROW()-1+(COLUMN()-1)*2.5 -> 39 | N10: =INDEX(combinaisons!$C$2:$C$191,MATCH(déjeuners!M10,combinaisons!$G$2:$G$191,0)) -> prénom 13 | O10: =INDEX(combinaisons!$D$2:$D$191,MATCH(déjeuners!M10,combinaisons!$G$2:$G$191,0)) -> prénom 17 | Q10: =ROW()-1+(COLUMN()-1)*2.5 -> 49 | R10: =INDEX(combinaisons!$C$2:$C$191,MATCH(déjeuners!Q10,combinaisons!$G$2:$G$191,0)) -> prénom 6 | S10: =INDEX(combinaisons!$D$2:$D$191,MATCH(déjeuners!Q10,combinaisons!$G$2:$G$191,0)) -> prénom 17 | U10: =ROW()-1+(COLUMN()-1)*2.5 -> 59 | V10: =INDEX(combinaisons!$C$2:$C$191,MATCH(déjeuners!U10,combinaisons!$G$2:$G$191,0)) -> prénom 13 | W10: =INDEX(combinaisons!$D$2:$D$191,MATCH(déjeuners!U10,combinaisons!$G$2:$G$191,0)) -> prénom 20 | Y10: =ROW()-1+(COLUMN()-1)*2.5 -> 69 | Z10: =INDEX(combinaisons!$C$2:$C$191,MATCH(déjeuners!Y10,combinaisons!$G$2:$G$191,0)) -> prénom 2 | AA10: =INDEX(combinaisons!$D$2:$D$191,MATCH(déjeuners!Y10,combinaisons!$G$2:$G$191,0)) -> prénom 5 | AC10: =ROW()-1+(COLUMN()-1)*2.5 -> 79 | AD10: =INDEX(combinaisons!$C$2:$C$191,MATCH(déjeuners!AC10,combinaisons!$G$2:$G$191,0)) -> prénom 6 | AE10: =INDEX(combinaisons!$D$2:$D$191,MATCH(déjeuners!AC10,combinaisons!$G$2:$G$191,0)) -> prénom 20 | AG10: =ROW()-1+(COLUMN()-1)*2.5 -> 89 | AH10: =INDEX(combinaisons!$C$2:$C$191,MATCH(déjeuners!AG10,combinaisons!$G$2:$G$191,0)) -> prénom 2 | AI10: =INDEX(combinaisons!$D$2:$D$191,MATCH(déjeuners!AG10,combinaisons!$G$2:$G$191,0)) -> prénom 18 | AK10: =ROW()-1+(COLUMN()-1)*2.5 -> 99 | AL10: =INDEX(combinaisons!$C$2:$C$191,MATCH(déjeuners!AK10,combinaisons!$G$2:$G$191,0)) -> prénom 5 | AM10: =INDEX(combinaisons!$D$2:$D$191,MATCH(déjeuners!AK10,combinaisons!$G$2:$G$191,0)) -> prénom 11 | AO10: =ROW()-1+(COLUMN()-1)*2.5 -> 109 | AP10: =INDEX(combinaisons!$C$2:$C$191,MATCH(déjeuners!AO10,combinaisons!$G$2:$G$191,0)) -> prénom 1 | AQ10: =INDEX(combinaisons!$D$2:$D$191,MATCH(déjeuners!AO10,combinaisons!$G$2:$G$191,0)) -> prénom 6 | AS10: =ROW()-1+(COLUMN()-1)*2.5 -> 119 | AT10: =INDEX(combinaisons!$C$2:$C$191,MATCH(déjeuners!AS10,combinaisons!$G$2:$G$191,0)) -> prénom 19 | AU10: =INDEX(combinaisons!$D$2:$D$191,MATCH(déjeuners!AS10,combinaisons!$G$2:$G$191,0)) -> prénom 20 | AW10: =ROW()-1+(COLUMN()-1)*2.5 -> 129 | AX10: =INDEX(combinaisons!$C$2:$C$191,MATCH(déjeuners!AW10,combinaisons!$G$2:$G$191,0)) -> prénom 1 | AY10: =INDEX(combinaisons!$D$2:$D$191,MATCH(déjeuners!AW10,combinaisons!$G$2:$G$191,0)) -> prénom 8 | BA10: =ROW()-1+(COLUMN()-1)*2.5 -> 139 | BB10: =INDEX(combinaisons!$C$2:$C$191,MATCH(déjeuners!BA10,combinaisons!$G$2:$G$191,0)) -> prénom 6 | BC10: =INDEX(combinaisons!$D$2:$D$191,MATCH(déjeuners!BA10,combinaisons!$G$2:$G$191,0)) -> prénom 8 | BE10: =ROW()-1+(COLUMN()-1)*2.5 -> 149 | BF10: =INDEX(combinaisons!$C$2:$C$191,MATCH(déjeuners!BE10,combinaisons!$G$2:$G$191,0)) -> prénom 6 | BG10: =INDEX(combinaisons!$D$2:$D$191,MATCH(déjeuners!BE10,combinaisons!$G$2:$G$191,0)) -> prénom 15 | BI10: =ROW()-1+(COLUMN()-1)*2.5 -> 159 | BJ10: =INDEX(combinaisons!$C$2:$C$191,MATCH(déjeuners!BI10,combinaisons!$G$2:$G$191,0)) -> prénom 18 | BK10: =INDEX(combinaisons!$D$2:$D$191,MATCH(déjeuners!BI10,combinaisons!$G$2:$G$191,0)) -> prénom 20 | BM10: =ROW()-1+(COLUMN()-1)*2.5 -> 169 | BN10: =INDEX(combinaisons!$C$2:$C$191,MATCH(déjeuners!BM10,combinaisons!$G$2:$G$191,0)) -> prénom 12 | BO10: =INDEX(combinaisons!$D$2:$D$191,MATCH(déjeuners!BM10,combinaisons!$G$2:$G$191,0)) -> prénom 15 | BQ10: =ROW()-1+(COLUMN()-1)*2.5 -> 179 | BR10: =INDEX(combinaisons!$C$2:$C$191,MATCH(déjeuners!BQ10,combinaisons!$G$2:$G$191,0)) -> prénom 14 | BS10: =INDEX(combinaisons!$D$2:$D$191,MATCH(déjeuners!BQ10,combinaisons!$G$2:$G$191,0)) -> prénom 15 | BU10: =ROW()-1+(COLUMN()-1)*2.5 -> 189 | BV10: =INDEX(combinaisons!$C$2:$C$191,MATCH(déjeuners!BU10,combinaisons!$G$2:$G$191,0)) -> prénom 4 | BW10: =INDEX(combinaisons!$D$2:$D$191,MATCH(déjeuners!BU10,combinaisons!$G$2:$G$191,0)) -> prénom 18
A11: =ROW()-1+(COLUMN()-1)*2.5 -> 10 | B11: =INDEX(combinaisons!$C$2:$C$191,MATCH(déjeuners!A11,combinaisons!$G$2:$G$191,0)) -> prénom 3 | C11: =INDEX(combinaisons!$D$2:$D$191,MATCH(déjeuners!A11,combinaisons!$G$2:$G$191,0)) -> prénom 10 | E11: =ROW()-1+(COLUMN()-1)*2.5 -> 20 | F11: =INDEX(combinaisons!$C$2:$C$191,MATCH(déjeuners!E11,combinaisons!$G$2:$G$191,0)) -> prénom 3 | G11: =INDEX(combinaisons!$D$2:$D$191,MATCH(déjeuners!E11,combinaisons!$G$2:$G$191,0)) -> prénom 7 | I11: =ROW()-1+(COLUMN()-1)*2.5 -> 30 | J11: =INDEX(combinaisons!$C$2:$C$191,MATCH(déjeuners!I11,combinaisons!$G$2:$G$191,0)) -> prénom 16 | K11: =INDEX(combinaisons!$D$2:$D$191,MATCH(déjeuners!I11,combinaisons!$G$2:$G$191,0)) -> prénom 17 | M11: =ROW()-1+(COLUMN()-1)*2.5 -> 40 | N11: =INDEX(combinaisons!$C$2:$C$191,MATCH(déjeuners!M11,combinaisons!$G$2:$G$191,0)) -> prénom 2 | O11: =INDEX(combinaisons!$D$2:$D$191,MATCH(déjeuners!M11,combinaisons!$G$2:$G$191,0)) -> prénom 7 | Q11: =ROW()-1+(COLUMN()-1)*2.5 -> 50 | R11: =INDEX(combinaisons!$C$2:$C$191,MATCH(déjeuners!Q11,combinaisons!$G$2:$G$191,0)) -> prénom 3 | S11: =INDEX(combinaisons!$D$2:$D$191,MATCH(déjeuners!Q11,combinaisons!$G$2:$G$191,0)) -> prénom 8 | U11: =ROW()-1+(COLUMN()-1)*2.5 -> 60 | V11: =INDEX(combinaisons!$C$2:$C$191,MATCH(déjeuners!U11,combinaisons!$G$2:$G$191,0)) -> prénom 3 | W11: =INDEX(combinaisons!$D$2:$D$191,MATCH(déjeuners!U11,combinaisons!$G$2:$G$191,0)) -> prénom 19 | Y11: =ROW()-1+(COLUMN()-1)*2.5 -> 70 | Z11: =INDEX(combinaisons!$C$2:$C$191,MATCH(déjeuners!Y11,combinaisons!$G$2:$G$191,0)) -> prénom 4 | AA11: =INDEX(combinaisons!$D$2:$D$191,MATCH(déjeuners!Y11,combinaisons!$G$2:$G$191,0)) -> prénom 17 | AC11: =ROW()-1+(COLUMN()-1)*2.5 -> 80 | AD11: =INDEX(combinaisons!$C$2:$C$191,MATCH(déjeuners!AC11,combinaisons!$G$2:$G$191,0)) -> prénom 2 | AE11: =INDEX(combinaisons!$D$2:$D$191,MATCH(déjeuners!AC11,combinaisons!$G$2:$G$191,0)) -> prénom 9 | AG11: =ROW()-1+(COLUMN()-1)*2.5 -> 90 | AH11: =INDEX(combinaisons!$C$2:$C$191,MATCH(déjeuners!AG11,combinaisons!$G$2:$G$191,0)) -> prénom 12 | AI11: =INDEX(combinaisons!$D$2:$D$191,MATCH(déjeuners!AG11,combinaisons!$G$2:$G$191,0)) -> prénom 13 | AK11: =ROW()-1+(COLUMN()-1)*2.5 -> 100 | AL11: =INDEX(combinaisons!$C$2:$C$191,MATCH(déjeuners!AK11,combinaisons!$G$2:$G$191,0)) -> prénom 1 | AM11: =INDEX(combinaisons!$D$2:$D$191,MATCH(déjeuners!AK11,combinaisons!$G$2:$G$191,0)) -> prénom 14 | AO11: =ROW()-1+(COLUMN()-1)*2.5 -> 110 | AP11: =INDEX(combinaisons!$C$2:$C$191,MATCH(déjeuners!AO11,combinaisons!$G$2:$G$191,0)) -> prénom 12 | AQ11: =INDEX(combinaisons!$D$2:$D$191,MATCH(déjeuners!AO11,combinaisons!$G$2:$G$191,0)) -> prénom 17 | AS11: =ROW()-1+(COLUMN()-1)*2.5 -> 120 | AT11: =INDEX(combinaisons!$C$2:$C$191,MATCH(déjeuners!AS11,combinaisons!$G$2:$G$191,0)) -> prénom 5 | AU11: =INDEX(combinaisons!$D$2:$D$191,MATCH(déjeuners!AS11,combinaisons!$G$2:$G$191,0)) -> prénom 8 | AW11: =ROW()-1+(COLUMN()-1)*2.5 -> 130 | AX11: =INDEX(combinaisons!$C$2:$C$191,MATCH(déjeuners!AW11,combinaisons!$G$2:$G$191,0)) -> prénom 8 | AY11: =INDEX(combinaisons!$D$2:$D$191,MATCH(déjeuners!AW11,combinaisons!$G$2:$G$191,0)) -> prénom 11 | BA11: =ROW()-1+(COLUMN()-1)*2.5 -> 140 | BB11: =INDEX(combinaisons!$C$2:$C$191,MATCH(déjeuners!BA11,combinaisons!$G$2:$G$191,0)) -> prénom 3 | BC11: =INDEX(combinaisons!$D$2:$D$191,MATCH(déjeuners!BA11,combinaisons!$G$2:$G$191,0)) -> prénom 12 | BE11: =ROW()-1+(COLUMN()-1)*2.5 -> 150 | BF11: =INDEX(combinaisons!$C$2:$C$191,MATCH(déjeuners!BE11,combinaisons!$G$2:$G$191,0)) -> prénom 11 | BG11: =INDEX(combinaisons!$D$2:$D$191,MATCH(déjeuners!BE11,combinaisons!$G$2:$G$191,0)) -> prénom 13 | BI11: =ROW()-1+(COLUMN()-1)*2.5 -> 160 | BJ11: =INDEX(combinaisons!$C$2:$C$191,MATCH(déjeuners!BI11,combinaisons!$G$2:$G$191,0)) -> prénom 3 | BK11: =INDEX(combinaisons!$D$2:$D$191,MATCH(déjeuners!BI11,combinaisons!$G$2:$G$191,0)) -> prénom 16 | BM11: =ROW()-1+(COLUMN()-1)*2.5 -> 170 | BN11: =INDEX(combinaisons!$C$2:$C$191,MATCH(déjeuners!BM11,combinaisons!$G$2:$G$191,0)) -> prénom 11 | BO11: =INDEX(combinaisons!$D$2:$D$191,MATCH(déjeuners!BM11,combinaisons!$G$2:$G$191,0)) -> prénom 20 | BQ11: =ROW()-1+(COLUMN()-1)*2.5 -> 180 | BR11: =INDEX(combinaisons!$C$2:$C$191,MATCH(déjeuners!BQ11,combinaisons!$G$2:$G$191,0)) -> prénom 4 | BS11: =INDEX(combinaisons!$D$2:$D$191,MATCH(déjeuners!BQ11,combinaisons!$G$2:$G$191,0)) -> prénom 9 | BU11: =ROW()-1+(COLUMN()-1)*2.5 -> 190 | BV11: =INDEX(combinaisons!$C$2:$C$191,MATCH(déjeuners!BU11,combinaisons!$G$2:$G$191,0)) -> prénom 4 | BW11: =INDEX(combinaisons!$D$2:$D$191,MATCH(déjeuners!BU11,combinaisons!$G$2:$G$191,0)) -> prénom 5
