Workbook

Sheet Recettes
A1: PRODUITS | B1: COMPOSITION | C1: QUANTITE ( g/ml/pc ) | D1: PRIX QUANTITE | E1: PAIN | G1: Produits | H1: PRIX DE REVIENT | I1: COEF. MAR. BENEF. | J1: PRIX DE VENTE ( htva) | K1: PRIX DE VENTE ( tvac ) | M1: Ancien prix
A2: Dagobert | B2: MAYONNAISE | C2: 200 | D2: =IF(Tableau1[[#This Row],[QUANTITE ( g/ml/pc )]]="","",(INDEX(Ingrédients!$B$3:$B$22,MATCH(Tableau1[[#This Row],[COMPOSITION]],Ingrédients!$A$3:$A$22,0))/1000)*Tableau1[[#This Row],[QUANTITE ( g/ml/pc )]]) -> 1 | E2: BLANC | G2: Dagobert | H2: =SUMPRODUCT((Tableau1[PRODUITS]=G2)*Tableau1[PRIX QUANTITE]) -> 2.60033 | I2: 3 | J2: =H2*I2 -> 7.80099 | K2: =J2*1.06 -> 8.2690494
A3: Dagobert | B3: JAMBON | C3: 100 | D3: =IF(Tableau1[[#This Row],[QUANTITE ( g/ml/pc )]]="","",(INDEX(Ingrédients!$B$3:$B$22,MATCH(Tableau1[[#This Row],[COMPOSITION]],Ingrédients!$A$3:$A$22,0))/1000)*Tableau1[[#This Row],[QUANTITE ( g/ml/pc )]]) -> 1 | E3: GRIS | G3: ITALIEN | H3: =SUMPRODUCT((Tableau1[PRODUITS]=G3)*Tableau1[PRIX QUANTITE]) -> 2.43 | I3: 3 | J3: =H3*I3 -> 7.29 | K3: =J3*1.06 -> 7.7274
A4: Dagobert | B4: FROMAGE | C4: 50 | D4: =IF(Tableau1[[#This Row],[QUANTITE ( g/ml/pc )]]="","",(INDEX(Ingrédients!$B$3:$B$22,MATCH(Tableau1[[#This Row],[COMPOSITION]],Ingrédients!$A$3:$A$22,0))/1000)*Tableau1[[#This Row],[QUANTITE ( g/ml/pc )]]) -> 0.25 | G4: MARTINO | H4: =SUMPRODUCT((Tableau1[PRODUITS]=G4)*Tableau1[PRIX QUANTITE]) -> 2.74 | I4: 3 | J4: =H4*I4 -> 8.22 | K4: =J4*1.06 -> 8.7132
A5: Dagobert | B5: OEUFS | C5: 3 | D5: =IF(Tableau1[[#This Row],[QUANTITE ( g/ml/pc )]]="","",(INDEX(Ingrédients!$B$3:$B$22,MATCH(Tableau1[[#This Row],[COMPOSITION]],Ingrédients!$A$3:$A$22,0))/1000)*Tableau1[[#This Row],[QUANTITE ( g/ml/pc )]]) -> 0.00033
A6: Dagobert | B6: CORNICHONS | C6: 25 | D6: =IF(Tableau1[[#This Row],[QUANTITE ( g/ml/pc )]]="","",(INDEX(Ingrédients!$B$3:$B$22,MATCH(Tableau1[[#This Row],[COMPOSITION]],Ingrédients!$A$3:$A$22,0))/1000)*Tableau1[[#This Row],[QUANTITE ( g/ml/pc )]]) -> 0.25
A7: Dagobert | B7: CRUDITES | C7: 100 | D7: =IF(Tableau1[[#This Row],[QUANTITE ( g/ml/pc )]]="","",(INDEX(Ingrédients!$B$3:$B$22,MATCH(Tableau1[[#This Row],[COMPOSITION]],Ingrédients!$A$3:$A$22,0))/1000)*Tableau1[[#This Row],[QUANTITE ( g/ml/pc )]]) -> 0.1
A8: ITALIEN | B8: HUILE D’OLIVE | C8: 20 | D8: =IF(Tableau1[[#This Row],[QUANTITE ( g/ml/pc )]]="","",(INDEX(Ingrédients!$B$3:$B$22,MATCH(Tableau1[[#This Row],[COMPOSITION]],Ingrédients!$A$3:$A$22,0))/1000)*Tableau1[[#This Row],[QUANTITE ( g/ml/pc )]]) -> 0.44 | E8: BLANC
A9: ITALIEN | B9: JAMBON DE PARME | C9: 100 | D9: =IF(Tableau1[[#This Row],[QUANTITE ( g/ml/pc )]]="","",(INDEX(Ingrédients!$B$3:$B$22,MATCH(Tableau1[[#This Row],[COMPOSITION]],Ingrédients!$A$3:$A$22,0))/1000)*Tableau1[[#This Row],[QUANTITE ( g/ml/pc )]]) -> 1 | E9: GRIS
A10: ITALIEN | B10: MOZZARELLA TRANCHE | C10: 50 | D10: =IF(Tableau1[[#This Row],[QUANTITE ( g/ml/pc )]]="","",(INDEX(Ingrédients!$B$3:$B$22,MATCH(Tableau1[[#This Row],[COMPOSITION]],Ingrédients!$A$3:$A$22,0))/1000)*Tableau1[[#This Row],[QUANTITE ( g/ml/pc )]]) -> 0.5
A11: ITALIEN | B11: TOMATES | C11: 30 | D11: =IF(Tableau1[[#This Row],[QUANTITE ( g/ml/pc )]]="","",(INDEX(Ingrédients!$B$3:$B$22,MATCH(Tableau1[[#This Row],[COMPOSITION]],Ingrédients!$A$3:$A$22,0))/1000)*Tableau1[[#This Row],[QUANTITE ( g/ml/pc )]]) -> 0.09
A12: ITALIEN | B12: SALADE | C12: 100 | D12: =IF(Tableau1[[#This Row],[QUANTITE ( g/ml/pc )]]="","",(INDEX(Ingrédients!$B$3:$B$22,MATCH(Tableau1[[#This Row],[COMPOSITION]],Ingrédients!$A$3:$A$22,0))/1000)*Tableau1[[#This Row],[QUANTITE ( g/ml/pc )]]) -> 0.4
A13: MARTINO | B13: SAUCE MARTINO | C13: 15 | D13: =IF(Tableau1[[#This Row],[QUANTITE ( g/ml/pc )]]="","",(INDEX(Ingrédients!$B$3:$B$22,MATCH(Tableau1[[#This Row],[COMPOSITION]],Ingrédients!$A$3:$A$22,0))/1000)*Tableau1[[#This Row],[QUANTITE ( g/ml/pc )]]) -> 0.15
A14: MARTINO | B14: AMERICAIN | C14: 150 | D14: =IF(Tableau1[[#This Row],[QUANTITE ( g/ml/pc )]]="","",(INDEX(Ingrédients!$B$3:$B$22,MATCH(Tableau1[[#This Row],[COMPOSITION]],Ingrédients!$A$3:$A$22,0))/1000)*Tableau1[[#This Row],[QUANTITE ( g/ml/pc )]]) -> 1.5
A15: MARTINO | B15: OIGNONS | C15: 30 | D15: =IF(Tableau1[[#This Row],[QUANTITE ( g/ml/pc )]]="","",(INDEX(Ingrédients!$B$3:$B$22,MATCH(Tableau1[[#This Row],[COMPOSITION]],Ingrédients!$A$3:$A$22,0))/1000)*Tableau1[[#This Row],[QUANTITE ( g/ml/pc )]]) -> 0.3
A16: MARTINO | B16: CORNICHONS | C16: 30 | D16: =IF(Tableau1[[#This Row],[QUANTITE ( g/ml/pc )]]="","",(INDEX(Ingrédients!$B$3:$B$22,MATCH(Tableau1[[#This Row],[COMPOSITION]],Ingrédients!$A$3:$A$22,0))/1000)*Tableau1[[#This Row],[QUANTITE ( g/ml/pc )]]) -> 0.3
A17: MARTINO | B17: TOMATES | C17: 30 | D17: =IF(Tableau1[[#This Row],[QUANTITE ( g/ml/pc )]]="","",(INDEX(Ingrédients!$B$3:$B$22,MATCH(Tableau1[[#This Row],[COMPOSITION]],Ingrédients!$A$3:$A$22,0))/1000)*Tableau1[[#This Row],[QUANTITE ( g/ml/pc )]]) -> 0.09
A18: MARTINO | B18: SALADE | C18: 100 | D18: =IF(Tableau1[[#This Row],[QUANTITE ( g/ml/pc )]]="","",(INDEX(Ingrédients!$B$3:$B$22,MATCH(Tableau1[[#This Row],[COMPOSITION]],Ingrédients!$A$3:$A$22,0))/1000)*Tableau1[[#This Row],[QUANTITE ( g/ml/pc )]]) -> 0.4

Sheet Ingrédients
A1: Produits | B1: Prix / kg / L
A3: MAYONNAISE | B3: 5
A4: JAMBON | B4: 10
A5: FROMAGE | B5: 5
A6: OEUFS | B6: 0.11
A7: CRUDITES | B7: 1
A8: HUILE D’OLIVE | B8: 22
A9: JAMBON DE PARME | B9: 10
A10: MOZZARELLA TRANCHE | B10: 10
A11: TOMATES | B11: 3
A12: SALADE | B12: 4
A13: SAUCE MARTINO | B13: 10
A14: AMERICAIN | B14: 10
... A17: TOMATES | B17: 10
