Workbook
Name An: #REF!
Name Journalier_AE: #REF!
Name Journalier_Auto_Logi: #REF!
Name Journalier_Cockpit: #REF!
Name Journalier_Disjoint_import: #REF!
Name Journalier_Distri_Ecom: HLV_Inter!$E$4:$ND$7
Name Journalier_Distri_Ecom: Proactif!$E$4:$ND$7
Name Journalier_Distri_Ecom: Sherlock!$E$4:$ND$7
Name Journalier_Distri_Ecom: #REF!
Name Journalier_EMS: #REF!
Name Journalier_eParcel: #REF!
Name Journalier_Escalade_Export: #REF!
Name Journalier_Escalade_Import: #REF!
Name Journalier_ESDI: #REF!
Name Journalier_HLV_Inter: HLV_Inter!$E$4:$ND$7
Name Journalier_Injection: #REF!
Name Journalier_KPG: #REF!
Name Journalier_Proactif: Proactif!$E$4:$ND$7
Name Journalier_Sherlock: Sherlock!$E$4:$ND$7
Name Journalier_Taux_AE: #REF!
Name Journalier_Taux_Auto_Logi: #REF!
Name Journalier_Taux_Banque: #REF!
Name Journalier_Taux_Cockpit: #REF!
Name Journalier_Taux_Disjoint_Import: #REF!
Name Journalier_Taux_DistriEcom: #REF!
Name Journalier_Taux_DOM: #REF!
Name Journalier_Taux_Electro: #REF!
Name Journalier_Taux_EMS: #REF!
Name Journalier_Taux_eParcel: #REF!
Name Journalier_Taux_Escalade_Export: #REF!
Name Journalier_Taux_Escalade_Import: #REF!
Name Journalier_Taux_ESDI: #REF!
Name Journalier_Taux_Fret_DOM: #REF!
Name Journalier_Taux_Grands_Comptes: #REF!
Name Journalier_Taux_HLV_Inter: HLV_Inter!$E$4:$ND$18
Name Journalier_Taux_IDF: #REF!
Name Journalier_Taux_Industrie: #REF!
Name Journalier_Taux_Injection: #REF!
Name Journalier_Taux_KPG: #REF!
Name Journalier_Taux_Major: #REF!
Name Journalier_Taux_NE: #REF!
Name Journalier_Taux_O: #REF!
Name Journalier_Taux_Proactif: Proactif!$E$4:$ND$18
Name Journalier_Taux_Sante: #REF!
Name Journalier_Taux_SE: #REF!
Name Journalier_Taux_Sherlock: Sherlock!$E$4:$ND$18
Name Journalier_Taux_SO: #REF!
Name Jours_fériés: #REF!
Name Jours_ouvrés_AE: #REF!
Name Jours_ouvrés_Auto_Logi: #REF!
Name Jours_Ouvrés_Cockpit: #REF!
Name Jours_Ouvrés_Disjoint_Import: #REF!
Name Jours_ouvrés_Distri_Ecom: HLV_Inter!$E$6:$ND$6
Name Jours_ouvrés_Distri_Ecom: Proactif!$E$6:$ND$6
Name Jours_ouvrés_Distri_Ecom: Sherlock!$E$6:$ND$6
Name Jours_Ouvrés_EMS: #REF!
Name Jours_Ouvrés_eParcel: #REF!
Name Jours_Ouvrés_Escalade_Export: #REF!
Name Jours_Ouvrés_Escalade_Import: #REF!
Name Jours_Ouvrés_ESDI: #REF!

Sheet HLV_Inter
A1: 2017
A2: Mois | D2: =TEXT(D4,"mmmm") -> janvier | E2: =TEXT(E4,"mmmm") -> janvier | F2: =TEXT(F4,"mmmm") -> janvier | G2: =TEXT(G4,"mmmm") -> janvier | H2: =TEXT(H4,"mmmm") -> janvier | I2: =TEXT(I4,"mmmm") -> janvier | J2: =TEXT(J4,"mmmm") -> janvier | K2: =TEXT(K4,"mmmm") -> janvier | ... ND2: =TEXT(ND4,"mmmm") -> décembre
A3: Semaine | D3: =_xlfn.ISOWEEKNUM(D4) -> 52 | E3: =_xlfn.ISOWEEKNUM(E4) -> 1 | F3: =_xlfn.ISOWEEKNUM(F4) -> 1 | G3: =_xlfn.ISOWEEKNUM(G4) -> 1 | H3: =_xlfn.ISOWEEKNUM(H4) -> 1 | I3: =_xlfn.ISOWEEKNUM(I4) -> 1 | J3: =_xlfn.ISOWEEKNUM(J4) -> 1 | K3: =_xlfn.ISOWEEKNUM(K4) -> 1 | ... ND3: =_xlfn.ISOWEEKNUM(ND4) -> 52
A4: Date | D4: 42736 | E4: 42737 | F4: 42738 | G4: 42739 | H4: 42740 | I4: 42741 | J4: 42742 | K4: 42743 | L4: 42744 | M4: 42745 | N4: 42746 | O4: 42747 | P4: 42748 | Q4: 42749 | R4: 42750 | S4: 42751 | T4: 42752 | U4: 42753 | V4: 42754 | W4: 42755 | X4: 42756 | Y4: 42757 | Z4: 42758 | AA4: 42759 | AB4: 42760 | AC4: 42761 | AD4: 42762 | AE4: 42763 | AF4: 42764 | AG4: 42765 | AH4: 42766 | AI4: 42767 | AJ4: 42768 | AK4: 42769 | AL4: 42770 | AM4: 42771 | AN4: 42772 | AO4: 42773 | AP4: 42774 | AQ4: 42775 | AR4: 42776 | AS4: 42777 | AT4: 42778 | AU4: 42779 | AV4: 42780 | AW4: 42781 | AX4: 42782 | AY4: 42783 | AZ4: 42784 | BA4: 42785 | BB4: 42786 | BC4: 42787 | BD4: 42788 | BE4: 42789 | BF4: 42790 | BG4: 42791 | BH4: 42792 | BI4: 42793 | BJ4: 42794 | BK4: 42795 | BL4: 42796 | BM4: 42797 | BN4: 42798 | BO4: 42799 | BP4: 42800 | BQ4: 42801 | BR4: 42802 | BS4: 42803 | BT4: 42804 | BU4: 42805 | BV4: 42806 | BW4: 42807 | BX4: 42808 | BY4: 42809 | BZ4: 42810 | CA4: 42811 | CB4: 42812 | CC4: 42813 | CD4: 42814 | CE4: 42815 | CF4: 42816 | CG4: 42817 | CH4: 42818 | CI4: 42819 | CJ4: 42820 | CK4: 42821 | CL4: 42822 | CM4: 42823 | CN4: 42824 | CO4: 42825 | CP4: 42826 | CQ4: 42827 | CR4: 42828 | CS4: 42829 | CT4: 42830 | CU4: 42831 | CV4: 42832 | CW4: 42833 | CX4: 42834 | CY4: 42835 | CZ4: 42836 | DA4: 42837 | DB4: 42838 | DC4: 42839 | DD4: 42840 | DE4: 42841 | DF4: 42842 | DG4: 42843 | DH4: 42844 | DI4: 42845 | DJ4: 42846 | DK4: 42847 | DL4: 42848 | DM4: 42849 | DN4: 42850 | DO4: 42851 | DP4: 42852 | DQ4: 42853 | DR4: 42854 | DS4: 42855 | DT4: 42856 | DU4: 42857 | DV4: 42858 | DW4: 42859 | DX4: 42860 | DY4: 42861 | DZ4: 42862 | EA4: 42863 | EB4: 42864 | EC4: 42865 | ED4: 42866 | EE4: 42867 | EF4: 42868 | EG4: 42869 | EH4: 42870 | EI4: 42871 | EJ4: 42872 | EK4: 42873 | EL4: 42874 | EM4: 42875 | EN4: 42876 | EO4: 42877 | EP4: 42878 | EQ4: 42879 | ER4: 42880 | ES4: 42881 | ET4: 42882 | EU4: 42883 | EV4: 42884 | EW4: 42885 | EX4: 42886 | EY4: 42887 | EZ4: 42888 | FA4: 42889 | FB4: 42890 | FC4: 42891 | FD4: 42892 | FE4: 42893 | FF4: 42894 | FG4: 42895 | FH4: 42896 | FI4: 42897 | FJ4: 42898 | FK4: 42899 | FL4: 42900 | FM4: 42901 | FN4: 42902 | FO4: 42903 | FP4: 42904 | FQ4: 42905 | FR4: 42906 | FS4: 42907 | FT4: 42908 | FU4: 42909 | FV4: 42910 | FW4: 42911 | FX4: 42912 | FY4: 42913 | FZ4: 42914 | GA4: 42915 | GB4: 42916 | GC4: 42917 | GD4: 42918 | GE4: 42919 | GF4: 42920 | GG4: 42921 | GH4: 42922 | GI4: 42923 | GJ4: 42924 | GK4: 42925 | GL4: 42926 | GM4: 42927 | GN4: 42928 | GO4: 42929 | GP4: 42930 | GQ4: 42931 | GR4: 42932 | GS4: 42933 | GT4: 42934 | GU4: 42935 | GV4: 42936 | GW4: 42937 | GX4: 42938 | GY4: 42939 | GZ4: 42940 | HA4: 42941 | HB4: 42942 | HC4: 42943 | HD4: 42944 | HE4: 42945 | HF4: 42946 | HG4: 42947 | HH4: 42948 | HI4: 42949 | HJ4: 42950 | HK4: 42951 | HL4: 42952 | HM4: 42953 | HN4: 42954 | HO4: 42955 | HP4: 42956 | HQ4: 42957 | HR4: 42958 | HS4: 42959 | HT4: 42960 | HU4: 42961 | HV4: 42962 | HW4: 42963 | HX4: 42964 | HY4: 42965 | HZ4: 42966 | IA4: 42967 | IB4: 42968 | IC4: 42969 | ID4: 42970 | IE4: 42971 | IF4: 42972 | IG4: 42973 | IH4: 42974 | II4: 42975 | IJ4: 42976 | IK4: 42977 | IL4: 42978 | IM4: 42979 | IN4: 42980 | IO4: 42981 | IP4: 42982 | IQ4: 42983 | IR4: 42984 | IS4: 42985 | IT4: 42986 | IU4: 42987 | IV4: 42988 | IW4: 42989 | IX4: 42990 | IY4: 42991 | IZ4: 42992 | JA4: 42993 | JB4: 42994 | JC4: 42995 | JD4: 42996 | JE4: 42997 | JF4: 42998 | JG4: 42999 | JH4: 43000 | JI4: 43001 | JJ4: 43002 | JK4: 43003 | JL4: 43004 | JM4: 43005 | JN4: 43006 | JO4: 43007 | JP4: 43008 | JQ4: 43009 | JR4: 43010 | JS4: 43011 | JT4: 43012 | JU4: 43013 | JV4: 43014 | JW4: 43015 | JX4: 43016 | JY4: 43017 | JZ4: 43018 | KA4: 43019 | KB4: 43020 | KC4: 43021 | KD4: 43022 | KE4: 43023 | KF4: 43024 | KG4: 43025 | KH4: 43026 | KI4: 43027 | KJ4: 43028 | KK4: 43029 | KL4: 43030 | KM4: 43031 | KN4: 43032 | KO4: 43033 | KP4: 43034 | KQ4: 43035 | KR4: 43036 | KS4: 43037 | KT4: 43038 | KU4: 43039 | KV4: 43040 | KW4: 43041 | KX4: 43042 | KY4: 43043 | KZ4: 43044 | LA4: 43045 | LB4: 43046 | LC4: 43047 | LD4: 43048 | LE4: 43049 | LF4: 43050 | LG4: 43051 | LH4: 43052 | LI4: 43053 | LJ4: 43054 | LK4: 43055 | LL4: 43056 | LM4: 43057 | LN4: 43058 | LO4: 43059 | LP4: 43060 | LQ4: 43061 | LR4: 43062 | LS4: 43063 | LT4: 43064 | LU4: 43065 | LV4: 43066 | LW4: 43067 | LX4: 43068 | LY4: 43069 | LZ4: 43070 | MA4: 43071 | MB4: 43072 | MC4: 43073 | MD4: 43074 | ME4: 43075 | MF4: 43076 | MG4: 43077 | MH4: 43078 | MI4: 43079 | MJ4: 43080 | MK4: 43081 | ML4: 43082 | MM4: 43083 | MN4: 43084 | MO4: 43085 | MP4: 43086 | MQ4: 43087 | MR4: 43088 | MS4: 43089 | MT4: 43090 | MU4: 43091 | MV4: 43092 | MW4: 43093 | MX4: 43094 | MY4: 43095 | MZ4: 43096 | NA4: 43097 | NB4: 43098 | NC4: 43099 | ND4: 43100
A5: Trimestre | D5: =INT((MONTH(D4)-1)/3)+1 -> 1 | E5: =INT((MONTH(E4)-1)/3)+1 -> 1 | F5: =INT((MONTH(F4)-1)/3)+1 -> 1 | G5: =INT((MONTH(G4)-1)/3)+1 -> 1 | H5: =INT((MONTH(H4)-1)/3)+1 -> 1 | I5: =INT((MONTH(I4)-1)/3)+1 -> 1 | J5: =INT((MONTH(J4)-1)/3)+1 -> 1 | K5: =INT((MONTH(K4)-1)/3)+1 -> 1 | ... ND5: =INT((MONTH(ND4)-1)/3)+1 -> 4
A6: Jour ouvré/non ouvré | D6: 0 | E6: 1 | F6: 1 | G6: 1 | H6: 1 | I6: 1 | J6: 0 | K6: 0 | L6: 1 | M6: 1 | N6: 1 | O6: 1 | P6: 1 | Q6: 0 | R6: 0 | S6: 1 | T6: 1 | U6: 1 | V6: 1 | W6: 1 | X6: 0 | Y6: 0 | Z6: 1 | AA6: 1 | AB6: 1 | AC6: 1 | AD6: 1 | AE6: 0 | AF6: 0 | AG6: 1 | AH6: 1 | AI6: 1 | AJ6: 1 | AK6: 1 | AL6: 0 | AM6: 0 | AN6: 1 | AO6: 1 | AP6: 1 | AQ6: 1 | AR6: 1 | AS6: 0 | AT6: 0 | AU6: 1 | AV6: 1 | AW6: 1 | AX6: 1 | AY6: 1 | AZ6: 0 | BA6: 0 | BB6: 1 | BC6: 1 | BD6: 1 | BE6: 1 | BF6: 1 | BG6: 0 | BH6: 0 | BI6: 1 | BJ6: 1 | BK6: 1 | BL6: 1 | BM6: 1 | BN6: 0 | BO6: 0 | BP6: 1 | BQ6: 1 | BR6: 1 | BS6: 1 | BT6: 1 | BU6: 0 | BV6: 0 | BW6: 1 | BX6: 1 | BY6: 1 | BZ6: 1 | CA6: 1 | CB6: 0 | CC6: 0 | CD6: 1 | CE6: 1 | CF6: 1 | CG6: 1 | CH6: 1 | CI6: 0 | CJ6: 0 | CK6: 1 | CL6: 1 | CM6: 1 | CN6: 1 | CO6: 1 | CP6: 0 | CQ6: 0 | CR6: 1 | CS6: 1 | CT6: 1 | CU6: 1 | CV6: 1 | CW6: 0 | CX6: 0 | CY6: 1 | CZ6: 1 | DA6: 1 | DB6: 1 | DC6: 1 | DD6: 0 | DE6: 0 | DF6: 0 | DG6: 1 | DH6: 1 | DI6: 1 | DJ6: 1 | DK6: 0 | DL6: 0 | DM6: 1 | DN6: 1 | DO6: 1 | DP6: 1 | DQ6: 1 | DR6: 0 | DS6: 0 | DT6: 0 | DU6: 1 | DV6: 1 | DW6: 1 | DX6: 1 | DY6: 0 | DZ6: 0 | EA6: 0 | EB6: 1 | EC6: 1 | ED6: 1 | EE6: 1 | EF6: 0 | EG6: 0 | EH6: 1 | EI6: 1 | EJ6: 1 | EK6: 1 | EL6: 1 | EM6: 0 | EN6: 0 | EO6: 1 | EP6: 1 | EQ6: 1 | ER6: 0 | ES6: 1 | ET6: 0 | EU6: 0 | EV6: 1 | EW6: 1 | EX6: 1 | EY6: 1 | EZ6: 1 | FA6: 0 | FB6: 0 | FC6: 0 | FD6: 1 | FE6: 1 | FF6: 1 | FG6: 1 | FH6: 0 | FI6: 0 | FJ6: 1 | FK6: 1 | FL6: 1 | FM6: 1 | FN6: 1 | FO6: 0 | FP6: 0 | FQ6: 1 | FR6: 1 | FS6: 1 | FT6: 1 | FU6: 1 | FV6: 0 | FW6: 0 | FX6: 1 | FY6: 1 | FZ6: 1 | GA6: 1 | GB6: 1 | GC6: 0 | GD6: 0 | GE6: 1 | GF6: 1 | GG6: 1 | GH6: 1 | GI6: 1 | GJ6: 0 | GK6: 0 | GL6: 1 | GM6: 1 | GN6: 1 | GO6: 1 | GP6: 0 | GQ6: 0 | GR6: 0 | GS6: 1 | GT6: 1 | GU6: 1 | GV6: 1 | GW6: 1 | GX6: 0 | GY6: 0 | GZ6: 1 | HA6: 1 | HB6: 1 | HC6: 1 | HD6: 1 | HE6: 0 | HF6: 0 | HG6: 1 | HH6: 1 | HI6: 1 | HJ6: 1 | HK6: 1 | HL6: 0 | HM6: 0 | HN6: 1 | HO6: 1 | HP6: 1 | HQ6: 1 | HR6: 1 | HS6: 0 | HT6: 0 | HU6: 1 | HV6: 0 | HW6: 1 | HX6: 1 | HY6: 1 | HZ6: 0 | IA6: 0 | IB6: 1 | IC6: 1 | ID6: 1 | IE6: 1 | IF6: 1 | IG6: 0 | IH6: 0 | II6: 1 | IJ6: 1 | IK6: 1 | IL6: 1 | IM6: 1 | IN6: 0 | IO6: 0 | IP6: 1 | IQ6: 1 | IR6: 1 | IS6: 1 | IT6: 1 | IU6: 0 | IV6: 0 | IW6: 1 | IX6: 1 | IY6: 1 | IZ6: 1 | JA6: 1 | JB6: 0 | JC6: 0 | JD6: 1 | JE6: 1 | JF6: 1 | JG6: 1 | JH6: 1 | JI6: 0 | JJ6: 0 | JK6: 1 | JL6: 1 | JM6: 1 | JN6: 1 | JO6: 1 | JP6: 0 | JQ6: 0 | JR6: 1 | JS6: 1 | JT6: 1 | JU6: 1 | JV6: 1 | JW6: 0 | JX6: 0 | JY6: 1 | JZ6: 1 | KA6: 1 | KB6: 1 | KC6: 1 | KD6: 0 | KE6: 0 | KF6: 1 | KG6: 1 | KH6: 1 | KI6: 1 | KJ6: 1 | KK6: 0 | KL6: 0 | KM6: 1 | KN6: 1 | KO6: 1 | KP6: 1 | KQ6: 1 | KR6: 0 | KS6: 0 | KT6: 1 | KU6: 1 | KV6: 0 | KW6: 1 | KX6: 1 | KY6: 0 | KZ6: 0 | LA6: 1 | LB6: 1 | LC6: 1 | LD6: 1 | LE6: 1 | LF6: 0 | LG6: 0 | LH6: 1 | LI6: 1 | LJ6: 1 | LK6: 1 | LL6: 1 | LM6: 0 | LN6: 0 | LO6: 1 | LP6: 1 | LQ6: 1 | LR6: 1 | LS6: 1 | LT6: 0 | LU6: 0 | LV6: 1 | LW6: 1 | LX6: 1 | LY6: 1 | LZ6: 1 | MA6: 0 | MB6: 0 | MC6: 1 | MD6: 1 | ME6: 1 | MF6: 1 | MG6: 1 | MH6: 0 | MI6: 0 | MJ6: 1 | MK6: 1 | ML6: 1 | MM6: 1 | MN6: 1 | MO6: 0 | MP6: 0 | MQ6: 1 | MR6: 1 | MS6: 1 | MT6: 1 | MU6: 1 | MV6: 0 | MW6: 0 | MX6: 0 | MY6: 1 | MZ6: 1 | NA6: 1 | NB6: 1 | NC6: 0 | ND6: 0
A7: DATE SAISIE
A8: SCL
A9: TxT_J | E9: 0.5 | F9: 0.38461538 | G9: 0.63333333 | H9: 0.88 | I9: 1
A10: TxPC_J | E10: 0.5 | F10: 0.5 | G10: 0.57142857 | H10: 1
A11: TxPC_J+1 | E11: 0.6 | F11: 0.6875 | G11: 0.78571429 | H11: 1
A12: TxPC_J+2 | E12: 1 | F12: 1 | G12: 1 | H12: 1
A14: Mails
A15: TxT_J
A16: TxPC_J
A17: TxPC_J+1
A18: TxPC_J+2

Sheet Proactif
A1: 2017
A2: Mois | D2: =TEXT(D4,"mmmm") -> janvier | E2: =TEXT(E4,"mmmm") -> janvier | F2: =TEXT(F4,"mmmm") -> janvier | G2: =TEXT(G4,"mmmm") -> janvier | H2: =TEXT(H4,"mmmm") -> janvier | I2: =TEXT(I4,"mmmm") -> janvier | J2: =TEXT(J4,"mmmm") -> janvier | K2: =TEXT(K4,"mmmm") -> janvier | ... ND2: =TEXT(ND4,"mmmm") -> décembre
A3: Semaine | D3: =_xlfn.ISOWEEKNUM(D4) -> 52 | E3: =_xlfn.ISOWEEKNUM(E4) -> 1 | F3: =_xlfn.ISOWEEKNUM(F4) -> 1 | G3: =_xlfn.ISOWEEKNUM(G4) -> 1 | H3: =_xlfn.ISOWEEKNUM(H4) -> 1 | I3: =_xlfn.ISOWEEKNUM(I4) -> 1 | J3: =_xlfn.ISOWEEKNUM(J4) -> 1 | K3: =_xlfn.ISOWEEKNUM(K4) -> 1 | ... ND3: =_xlfn.ISOWEEKNUM(ND4) -> 52
A4: Date | D4: 42736 | E4: 42737 | F4: 42738 | G4: 42739 | H4: 42740 | I4: 42741 | J4: 42742 | K4: 42743 | L4: 42744 | M4: 42745 | N4: 42746 | O4: 42747 | P4: 42748 | Q4: 42749 | R4: 42750 | S4: 42751 | T4: 42752 | U4: 42753 | V4: 42754 | W4: 42755 | X4: 42756 | Y4: 42757 | Z4: 42758 | AA4: 42759 | AB4: 42760 | AC4: 42761 | AD4: 42762 | AE4: 42763 | AF4: 42764 | AG4: 42765 | AH4: 42766 | AI4: 42767 | AJ4: 42768 | AK4: 42769 | AL4: 42770 | AM4: 42771 | AN4: 42772 | AO4: 42773 | AP4: 42774 | AQ4: 42775 | AR4: 42776 | AS4: 42777 | AT4: 42778 | AU4: 42779 | AV4: 42780 | AW4: 42781 | AX4: 42782 | AY4: 42783 | AZ4: 42784 | BA4: 42785 | BB4: 42786 | BC4: 42787 | BD4: 42788 | BE4: 42789 | BF4: 42790 | BG4: 42791 | BH4: 42792 | BI4: 42793 | BJ4: 42794 | BK4: 42795 | BL4: 42796 | BM4: 42797 | BN4: 42798 | BO4: 42799 | BP4: 42800 | BQ4: 42801 | BR4: 42802 | BS4: 42803 | BT4: 42804 | BU4: 42805 | BV4: 42806 | BW4: 42807 | BX4: 42808 | BY4: 42809 | BZ4: 42810 | CA4: 42811 | CB4: 42812 | CC4: 42813 | CD4: 42814 | CE4: 42815 | CF4: 42816 | CG4: 42817 | CH4: 42818 | CI4: 42819 | CJ4: 42820 | CK4: 42821 | CL4: 42822 | CM4: 42823 | CN4: 42824 | CO4: 42825 | CP4: 42826 | CQ4: 42827 | CR4: 42828 | CS4: 42829 | CT4: 42830 | CU4: 42831 | CV4: 42832 | CW4: 42833 | CX4: 42834 | CY4: 42835 | CZ4: 42836 | DA4: 42837 | DB4: 42838 | DC4: 42839 | DD4: 42840 | DE4: 42841 | DF4: 42842 | DG4: 42843 | DH4: 42844 | DI4: 42845 | DJ4: 42846 | DK4: 42847 | DL4: 42848 | DM4: 42849 | DN4: 42850 | DO4: 42851 | DP4: 42852 | DQ4: 42853 | DR4: 42854 | DS4: 42855 | DT4: 42856 | DU4: 42857 | DV4: 42858 | DW4: 42859 | DX4: 42860 | DY4: 42861 | DZ4: 42862 | EA4: 42863 | EB4: 42864 | EC4: 42865 | ED4: 42866 | EE4: 42867 | EF4: 42868 | EG4: 42869 | EH4: 42870 | EI4: 42871 | EJ4: 42872 | EK4: 42873 | EL4: 42874 | EM4: 42875 | EN4: 42876 | EO4: 42877 | EP4: 42878 | EQ4: 42879 | ER4: 42880 | ES4: 42881 | ET4: 42882 | EU4: 42883 | EV4: 42884 | EW4: 42885 | EX4: 42886 | EY4: 42887 | EZ4: 42888 | FA4: 42889 | FB4: 42890 | FC4: 42891 | FD4: 42892 | FE4: 42893 | FF4: 42894 | FG4: 42895 | FH4: 42896 | FI4: 42897 | FJ4: 42898 | FK4: 42899 | FL4: 42900 | FM4: 42901 | FN4: 42902 | FO4: 42903 | FP4: 42904 | FQ4: 42905 | FR4: 42906 | FS4: 42907 | FT4: 42908 | FU4: 42909 | FV4: 42910 | FW4: 42911 | FX4: 42912 | FY4: 42913 | FZ4: 42914 | GA4: 42915 | GB4: 42916 | GC4: 42917 | GD4: 42918 | GE4: 42919 | GF4: 42920 | GG4: 42921 | GH4: 42922 | GI4: 42923 | GJ4: 42924 | GK4: 42925 | GL4: 42926 | GM4: 42927 | GN4: 42928 | GO4: 42929 | GP4: 42930 | GQ4: 42931 | GR4: 42932 | GS4: 42933 | GT4: 42934 | GU4: 42935 | GV4: 42936 | GW4: 42937 | GX4: 42938 | GY4: 42939 | GZ4: 42940 | HA4: 42941 | HB4: 42942 | HC4: 42943 | HD4: 42944 | HE4: 42945 | HF4: 42946 | HG4: 42947 | HH4: 42948 | HI4: 42949 | HJ4: 42950 | HK4: 42951 | HL4: 42952 | HM4: 42953 | HN4: 42954 | HO4: 42955 | HP4: 42956 | HQ4: 42957 | HR4: 42958 | HS4: 42959 | HT4: 42960 | HU4: 42961 | HV4: 42962 | HW4: 42963 | HX4: 42964 | HY4: 42965 | HZ4: 42966 | IA4: 42967 | IB4: 42968 | IC4: 42969 | ID4: 42970 | IE4: 42971 | IF4: 42972 | IG4: 42973 | IH4: 42974 | II4: 42975 | IJ4: 42976 | IK4: 42977 | IL4: 42978 | IM4: 42979 | IN4: 42980 | IO4: 42981 | IP4: 42982 | IQ4: 42983 | IR4: 42984 | IS4: 42985 | IT4: 42986 | IU4: 42987 | IV4: 42988 | IW4: 42989 | IX4: 42990 | IY4: 42991 | IZ4: 42992 | JA4: 42993 | JB4: 42994 | JC4: 42995 | JD4: 42996 | JE4: 42997 | JF4: 42998 | JG4: 42999 | JH4: 43000 | JI4: 43001 | JJ4: 43002 | JK4: 43003 | JL4: 43004 | JM4: 43005 | JN4: 43006 | JO4: 43007 | JP4: 43008 | JQ4: 43009 | JR4: 43010 | JS4: 43011 | JT4: 43012 | JU4: 43013 | JV4: 43014 | JW4: 43015 | JX4: 43016 | JY4: 43017 | JZ4: 43018 | KA4: 43019 | KB4: 43020 | KC4: 43021 | KD4: 43022 | KE4: 43023 | KF4: 43024 | KG4: 43025 | KH4: 43026 | KI4: 43027 | KJ4: 43028 | KK4: 43029 | KL4: 43030 | KM4: 43031 | KN4: 43032 | KO4: 43033 | KP4: 43034 | KQ4: 43035 | KR4: 43036 | KS4: 43037 | KT4: 43038 | KU4: 43039 | KV4: 43040 | KW4: 43041 | KX4: 43042 | KY4: 43043 | KZ4: 43044 | LA4: 43045 | LB4: 43046 | LC4: 43047 | LD4: 43048 | LE4: 43049 | LF4: 43050 | LG4: 43051 | LH4: 43052 | LI4: 43053 | LJ4: 43054 | LK4: 43055 | LL4: 43056 | LM4: 43057 | LN4: 43058 | LO4: 43059 | LP4: 43060 | LQ4: 43061 | LR4: 43062 | LS4: 43063 | LT4: 43064 | LU4: 43065 | LV4: 43066 | LW4: 43067 | LX4: 43068 | LY4: 43069 | LZ4: 43070 | MA4: 43071 | MB4: 43072 | MC4: 43073 | MD4: 43074 | ME4: 43075 | MF4: 43076 | MG4: 43077 | MH4: 43078 | MI4: 43079 | MJ4: 43080 | MK4: 43081 | ML4: 43082 | MM4: 43083 | MN4: 43084 | MO4: 43085 | MP4: 43086 | MQ4: 43087 | MR4: 43088 | MS4: 43089 | MT4: 43090 | MU4: 43091 | MV4: 43092 | MW4: 43093 | MX4: 43094 | MY4: 43095 | MZ4: 43096 | NA4: 43097 | NB4: 43098 | NC4: 43099 | ND4: 43100
A5: Trimestre | D5: =INT((MONTH(D4)-1)/3)+1 -> 1 | E5: =INT((MONTH(E4)-1)/3)+1 -> 1 | F5: =INT((MONTH(F4)-1)/3)+1 -> 1 | G5: =INT((MONTH(G4)-1)/3)+1 -> 1 | H5: =INT((MONTH(H4)-1)/3)+1 -> 1 | I5: =INT((MONTH(I4)-1)/3)+1 -> 1 | J5: =INT((MONTH(J4)-1)/3)+1 -> 1 | K5: =INT((MONTH(K4)-1)/3)+1 -> 1 | ... ND5: =INT((MONTH(ND4)-1)/3)+1 -> 4
A6: Jour ouvré/non ouvré | D6: 0 | E6: 1 | F6: 1 | G6: 1 | H6: 1 | I6: 1 | J6: 0 | K6: 0 | L6: 1 | M6: 1 | N6: 1 | O6: 1 | P6: 1 | Q6: 0 | R6: 0 | S6: 1 | T6: 1 | U6: 1 | V6: 1 | W6: 1 | X6: 0 | Y6: 0 | Z6: 1 | AA6: 1 | AB6: 1 | AC6: 1 | AD6: 1 | AE6: 0 | AF6: 0 | AG6: 1 | AH6: 1 | AI6: 1 | AJ6: 1 | AK6: 1 | AL6: 0 | AM6: 0 | AN6: 1 | AO6: 1 | AP6: 1 | AQ6: 1 | AR6: 1 | AS6: 0 | AT6: 0 | AU6: 1 | AV6: 1 | AW6: 1 | AX6: 1 | AY6: 1 | AZ6: 0 | BA6: 0 | BB6: 1 | BC6: 1 | BD6: 1 | BE6: 1 | BF6: 1 | BG6: 0 | BH6: 0 | BI6: 1 | BJ6: 1 | BK6: 1 | BL6: 1 | BM6: 1 | BN6: 0 | BO6: 0 | BP6: 1 | BQ6: 1 | BR6: 1 | BS6: 1 | BT6: 1 | BU6: 0 | BV6: 0 | BW6: 1 | BX6: 1 | BY6: 1 | BZ6: 1 | CA6: 1 | CB6: 0 | CC6: 0 | CD6: 1 | CE6: 1 | CF6: 1 | CG6: 1 | CH6: 1 | CI6: 0 | CJ6: 0 | CK6: 1 | CL6: 1 | CM6: 1 | CN6: 1 | CO6: 1 | CP6: 0 | CQ6: 0 | CR6: 1 | CS6: 1 | CT6: 1 | CU6: 1 | CV6: 1 | CW6: 0 | CX6: 0 | CY6: 1 | CZ6: 1 | DA6: 1 | DB6: 1 | DC6: 1 | DD6: 0 | DE6: 0 | DF6: 0 | DG6: 1 | DH6: 1 | DI6: 1 | DJ6: 1 | DK6: 0 | DL6: 0 | DM6: 1 | DN6: 1 | DO6: 1 | DP6: 1 | DQ6: 1 | DR6: 0 | DS6: 0 | DT6: 0 | DU6: 1 | DV6: 1 | DW6: 1 | DX6: 1 | DY6: 0 | DZ6: 0 | EA6: 0 | EB6: 1 | EC6: 1 | ED6: 1 | EE6: 1 | EF6: 0 | EG6: 0 | EH6: 1 | EI6: 1 | EJ6: 1 | EK6: 1 | EL6: 1 | EM6: 0 | EN6: 0 | EO6: 1 | EP6: 1 | EQ6: 1 | ER6: 0 | ES6: 1 | ET6: 0 | EU6: 0 | EV6: 1 | EW6: 1 | EX6: 1 | EY6: 1 | EZ6: 1 | FA6: 0 | FB6: 0 | FC6: 0 | FD6: 1 | FE6: 1 | FF6: 1 | FG6: 1 | FH6: 0 | FI6: 0 | FJ6: 1 | FK6: 1 | FL6: 1 | FM6: 1 | FN6: 1 | FO6: 0 | FP6: 0 | FQ6: 1 | FR6: 1 | FS6: 1 | FT6: 1 | FU6: 1 | FV6: 0 | FW6: 0 | FX6: 1 | FY6: 1 | FZ6: 1 | GA6: 1 | GB6: 1 | GC6: 0 | GD6: 0 | GE6: 1 | GF6: 1 | GG6: 1 | GH6: 1 | GI6: 1 | GJ6: 0 | GK6: 0 | GL6: 1 | GM6: 1 | GN6: 1 | GO6: 1 | GP6: 0 | GQ6: 0 | GR6: 0 | GS6: 1 | GT6: 1 | GU6: 1 | GV6: 1 | GW6: 1 | GX6: 0 | GY6: 0 | GZ6: 1 | HA6: 1 | HB6: 1 | HC6: 1 | HD6: 1 | HE6: 0 | HF6: 0 | HG6: 1 | HH6: 1 | HI6: 1 | HJ6: 1 | HK6: 1 | HL6: 0 | HM6: 0 | HN6: 1 | HO6: 1 | HP6: 1 | HQ6: 1 | HR6: 1 | HS6: 0 | HT6: 0 | HU6: 1 | HV6: 0 | HW6: 1 | HX6: 1 | HY6: 1 | HZ6: 0 | IA6: 0 | IB6: 1 | IC6: 1 | ID6: 1 | IE6: 1 | IF6: 1 | IG6: 0 | IH6: 0 | II6: 1 | IJ6: 1 | IK6: 1 | IL6: 1 | IM6: 1 | IN6: 0 | IO6: 0 | IP6: 1 | IQ6: 1 | IR6: 1 | IS6: 1 | IT6: 1 | IU6: 0 | IV6: 0 | IW6: 1 | IX6: 1 | IY6: 1 | IZ6: 1 | JA6: 1 | JB6: 0 | JC6: 0 | JD6: 1 | JE6: 1 | JF6: 1 | JG6: 1 | JH6: 1 | JI6: 0 | JJ6: 0 | JK6: 1 | JL6: 1 | JM6: 1 | JN6: 1 | JO6: 1 | JP6: 0 | JQ6: 0 | JR6: 1 | JS6: 1 | JT6: 1 | JU6: 1 | JV6: 1 | JW6: 0 | JX6: 0 | JY6: 1 | JZ6: 1 | KA6: 1 | KB6: 1 | KC6: 1 | KD6: 0 | KE6: 0 | KF6: 1 | KG6: 1 | KH6: 1 | KI6: 1 | KJ6: 1 | KK6: 0 | KL6: 0 | KM6: 1 | KN6: 1 | KO6: 1 | KP6: 1 | KQ6: 1 | KR6: 0 | KS6: 0 | KT6: 1 | KU6: 1 | KV6: 0 | KW6: 1 | KX6: 1 | KY6: 0 | KZ6: 0 | LA6: 1 | LB6: 1 | LC6: 1 | LD6: 1 | LE6: 1 | LF6: 0 | LG6: 0 | LH6: 1 | LI6: 1 | LJ6: 1 | LK6: 1 | LL6: 1 | LM6: 0 | LN6: 0 | LO6: 1 | LP6: 1 | LQ6: 1 | LR6: 1 | LS6: 1 | LT6: 0 | LU6: 0 | LV6: 1 | LW6: 1 | LX6: 1 | LY6: 1 | LZ6: 1 | MA6: 0 | MB6: 0 | MC6: 1 | MD6: 1 | ME6: 1 | MF6: 1 | MG6: 1 | MH6: 0 | MI6: 0 | MJ6: 1 | MK6: 1 | ML6: 1 | MM6: 1 | MN6: 1 | MO6: 0 | MP6: 0 | MQ6: 1 | MR6: 1 | MS6: 1 | MT6: 1 | MU6: 1 | MV6: 0 | MW6: 0 | MX6: 0 | MY6: 1 | MZ6: 1 | NA6: 1 | NB6: 1 | NC6: 0 | ND6: 0
A7: DATE SAISIE
A8: SCL
A9: TxT_J | E9: 0.5 | F9: 0.38461538 | G9: 0.63333333 | H9: 0.88 | I9: 1
A10: TxPC_J | E10: 0.5 | F10: 0.5 | G10: 0.57142857 | H10: 1
A11: TxPC_J+1 | E11: 0.6 | F11: 0.6875 | G11: 0.78571429 | H11: 1
A12: TxPC_J+2 | E12: 1 | F12: 1 | G12: 1 | H12: 1
A14: Mails
A15: TxT_J
A16: TxPC_J
A17: TxPC_J+1
A18: TxPC_J+2

Sheet Sherlock
A1: 2017
A2: Mois | D2: =TEXT(D4,"mmmm") -> janvier | E2: =TEXT(E4,"mmmm") -> janvier | F2: =TEXT(F4,"mmmm") -> janvier | G2: =TEXT(G4,"mmmm") -> janvier | H2: =TEXT(H4,"mmmm") -> janvier | I2: =TEXT(I4,"mmmm") -> janvier | J2: =TEXT(J4,"mmmm") -> janvier | K2: =TEXT(K4,"mmmm") -> janvier | ... ND2: =TEXT(ND4,"mmmm") -> décembre
A3: Semaine | D3: =_xlfn.ISOWEEKNUM(D4) -> 52 | E3: =_xlfn.ISOWEEKNUM(E4) -> 1 | F3: =_xlfn.ISOWEEKNUM(F4) -> 1 | G3: =_xlfn.ISOWEEKNUM(G4) -> 1 | H3: =_xlfn.ISOWEEKNUM(H4) -> 1 | I3: =_xlfn.ISOWEEKNUM(I4) -> 1 | J3: =_xlfn.ISOWEEKNUM(J4) -> 1 | K3: =_xlfn.ISOWEEKNUM(K4) -> 1 | ... ND3: =_xlfn.ISOWEEKNUM(ND4) -> 52
A4: Date | D4: 42736 | E4: 42737 | F4: 42738 | G4: 42739 | H4: 42740 | I4: 42741 | J4: 42742 | K4: 42743 | L4: 42744 | M4: 42745 | N4: 42746 | O4: 42747 | P4: 42748 | Q4: 42749 | R4: 42750 | S4: 42751 | T4: 42752 | U4: 42753 | V4: 42754 | W4: 42755 | X4: 42756 | Y4: 42757 | Z4: 42758 | AA4: 42759 | AB4: 42760 | AC4: 42761 | AD4: 42762 | AE4: 42763 | AF4: 42764 | AG4: 42765 | AH4: 42766 | AI4: 42767 | AJ4: 42768 | AK4: 42769 | AL4: 42770 | AM4: 42771 | AN4: 42772 | AO4: 42773 | AP4: 42774 | AQ4: 42775 | AR4: 42776 | AS4: 42777 | AT4: 42778 | AU4: 42779 | AV4: 42780 | AW4: 42781 | AX4: 42782 | AY4: 42783 | AZ4: 42784 | BA4: 42785 | BB4: 42786 | BC4: 42787 | BD4: 42788 | BE4: 42789 | BF4: 42790 | BG4: 42791 | BH4: 42792 | BI4: 42793 | BJ4: 42794 | BK4: 42795 | BL4: 42796 | BM4: 42797 | BN4: 42798 | BO4: 42799 | BP4: 42800 | BQ4: 42801 | BR4: 42802 | BS4: 42803 | BT4: 42804 | BU4: 42805 | BV4: 42806 | BW4: 42807 | BX4: 42808 | BY4: 42809 | BZ4: 42810 | CA4: 42811 | CB4: 42812 | CC4: 42813 | CD4: 42814 | CE4: 42815 | CF4: 42816 | CG4: 42817 | CH4: 42818 | CI4: 42819 | CJ4: 42820 | CK4: 42821 | CL4: 42822 | CM4: 42823 | CN4: 42824 | CO4: 42825 | CP4: 42826 | CQ4: 42827 | CR4: 42828 | CS4: 42829 | CT4: 42830 | CU4: 42831 | CV4: 42832 | CW4: 42833 | CX4: 42834 | CY4: 42835 | CZ4: 42836 | DA4: 42837 | DB4: 42838 | DC4: 42839 | DD4: 42840 | DE4: 42841 | DF4: 42842 | DG4: 42843 | DH4: 42844 | DI4: 42845 | DJ4: 42846 | DK4: 42847 | DL4: 42848 | DM4: 42849 | DN4: 42850 | DO4: 42851 | DP4: 42852 | DQ4: 42853 | DR4: 42854 | DS4: 42855 | DT4: 42856 | DU4: 42857 | DV4: 42858 | DW4: 42859 | DX4: 42860 | DY4: 42861 | DZ4: 42862 | EA4: 42863 | EB4: 42864 | EC4: 42865 | ED4: 42866 | EE4: 42867 | EF4: 42868 | EG4: 42869 | EH4: 42870 | EI4: 42871 | EJ4: 42872 | EK4: 42873 | EL4: 42874 | EM4: 42875 | EN4: 42876 | EO4: 42877 | EP4: 42878 | EQ4: 42879 | ER4: 42880 | ES4: 42881 | ET4: 42882 | EU4: 42883 | EV4: 42884 | EW4: 42885 | EX4: 42886 | EY4: 42887 | EZ4: 42888 | FA4: 42889 | FB4: 42890 | FC4: 42891 | FD4: 42892 | FE4: 42893 | FF4: 42894 | FG4: 42895 | FH4: 42896 | FI4: 42897 | FJ4: 42898 | FK4: 42899 | FL4: 42900 | FM4: 42901 | FN4: 42902 | FO4: 42903 | FP4: 42904 | FQ4: 42905 | FR4: 42906 | FS4: 42907 | FT4: 42908 | FU4: 42909 | FV4: 42910 | FW4: 42911 | FX4: 42912 | FY4: 42913 | FZ4: 42914 | GA4: 42915 | GB4: 42916 | GC4: 42917 | GD4: 42918 | GE4: 42919 | GF4: 42920 | GG4: 42921 | GH4: 42922 | GI4: 42923 | GJ4: 42924 | GK4: 42925 | GL4: 42926 | GM4: 42927 | GN4: 42928 | GO4: 42929 | GP4: 42930 | GQ4: 42931 | GR4: 42932 | GS4: 42933 | GT4: 42934 | GU4: 42935 | GV4: 42936 | GW4: 42937 | GX4: 42938 | GY4: 42939 | GZ4: 42940 | HA4: 42941 | HB4: 42942 | HC4: 42943 | HD4: 42944 | HE4: 42945 | HF4: 42946 | HG4: 42947 | HH4: 42948 | HI4: 42949 | HJ4: 42950 | HK4: 42951 | HL4: 42952 | HM4: 42953 | HN4: 42954 | HO4: 42955 | HP4: 42956 | HQ4: 42957 | HR4: 42958 | HS4: 42959 | HT4: 42960 | HU4: 42961 | HV4: 42962 | HW4: 42963 | HX4: 42964 | HY4: 42965 | HZ4: 42966 | IA4: 42967 | IB4: 42968 | IC4: 42969 | ID4: 42970 | IE4: 42971 | IF4: 42972 | IG4: 42973 | IH4: 42974 | II4: 42975 | IJ4: 42976 | IK4: 42977 | IL4: 42978 | IM4: 42979 | IN4: 42980 | IO4: 42981 | IP4: 42982 | IQ4: 42983 | IR4: 42984 | IS4: 42985 | IT4: 42986 | IU4: 42987 | IV4: 42988 | IW4: 42989 | IX4: 42990 | IY4: 42991 | IZ4: 42992 | JA4: 42993 | JB4: 42994 | JC4: 42995 | JD4: 42996 | JE4: 42997 | JF4: 42998 | JG4: 42999 | JH4: 43000 | JI4: 43001 | JJ4: 43002 | JK4: 43003 | JL4: 43004 | JM4: 43005 | JN4: 43006 | JO4: 43007 | JP4: 43008 | JQ4: 43009 | JR4: 43010 | JS4: 43011 | JT4: 43012 | JU4: 43013 | JV4: 43014 | JW4: 43015 | JX4: 43016 | JY4: 43017 | JZ4: 43018 | KA4: 43019 | KB4: 43020 | KC4: 43021 | KD4: 43022 | KE4: 43023 | KF4: 43024 | KG4: 43025 | KH4: 43026 | KI4: 43027 | KJ4: 43028 | KK4: 43029 | KL4: 43030 | KM4: 43031 | KN4: 43032 | KO4: 43033 | KP4: 43034 | KQ4: 43035 | KR4: 43036 | KS4: 43037 | KT4: 43038 | KU4: 43039 | KV4: 43040 | KW4: 43041 | KX4: 43042 | KY4: 43043 | KZ4: 43044 | LA4: 43045 | LB4: 43046 | LC4: 43047 | LD4: 43048 | LE4: 43049 | LF4: 43050 | LG4: 43051 | LH4: 43052 | LI4: 43053 | LJ4: 43054 | LK4: 43055 | LL4: 43056 | LM4: 43057 | LN4: 43058 | LO4: 43059 | LP4: 43060 | LQ4: 43061 | LR4: 43062 | LS4: 43063 | LT4: 43064 | LU4: 43065 | LV4: 43066 | LW4: 43067 | LX4: 43068 | LY4: 43069 | LZ4: 43070 | MA4: 43071 | MB4: 43072 | MC4: 43073 | MD4: 43074 | ME4: 43075 | MF4: 43076 | MG4: 43077 | MH4: 43078 | MI4: 43079 | MJ4: 43080 | MK4: 43081 | ML4: 43082 | MM4: 43083 | MN4: 43084 | MO4: 43085 | MP4: 43086 | MQ4: 43087 | MR4: 43088 | MS4: 43089 | MT4: 43090 | MU4: 43091 | MV4: 43092 | MW4: 43093 | MX4: 43094 | MY4: 43095 | MZ4: 43096 | NA4: 43097 | NB4: 43098 | NC4: 43099 | ND4: 43100
A5: Trimestre | D5: =INT((MONTH(D4)-1)/3)+1 -> 1 | E5: =INT((MONTH(E4)-1)/3)+1 -> 1 | F5: =INT((MONTH(F4)-1)/3)+1 -> 1 | G5: =INT((MONTH(G4)-1)/3)+1 -> 1 | H5: =INT((MONTH(H4)-1)/3)+1 -> 1 | I5: =INT((MONTH(I4)-1)/3)+1 -> 1 | J5: =INT((MONTH(J4)-1)/3)+1 -> 1 | K5: =INT((MONTH(K4)-1)/3)+1 -> 1 | ... ND5: =INT((MONTH(ND4)-1)/3)+1 -> 4
A6: Jour ouvré/non ouvré | D6: 0 | E6: 1 | F6: 1 | G6: 1 | H6: 1 | I6: 1 | J6: 0 | K6: 0 | L6: 1 | M6: 1 | N6: 1 | O6: 1 | P6: 1 | Q6: 0 | R6: 0 | S6: 1 | T6: 1 | U6: 1 | V6: 1 | W6: 1 | X6: 0 | Y6: 0 | Z6: 1 | AA6: 1 | AB6: 1 | AC6: 1 | AD6: 1 | AE6: 0 | AF6: 0 | AG6: 1 | AH6: 1 | AI6: 1 | AJ6: 1 | AK6: 1 | AL6: 0 | AM6: 0 | AN6: 1 | AO6: 1 | AP6: 1 | AQ6: 1 | AR6: 1 | AS6: 0 | AT6: 0 | AU6: 1 | AV6: 1 | AW6: 1 | AX6: 1 | AY6: 1 | AZ6: 0 | BA6: 0 | BB6: 1 | BC6: 1 | BD6: 1 | BE6: 1 | BF6: 1 | BG6: 0 | BH6: 0 | BI6: 1 | BJ6: 1 | BK6: 1 | BL6: 1 | BM6: 1 | BN6: 0 | BO6: 0 | BP6: 1 | BQ6: 1 | BR6: 1 | BS6: 1 | BT6: 1 | BU6: 0 | BV6: 0 | BW6: 1 | BX6: 1 | BY6: 1 | BZ6: 1 | CA6: 1 | CB6: 0 | CC6: 0 | CD6: 1 | CE6: 1 | CF6: 1 | CG6: 1 | CH6: 1 | CI6: 0 | CJ6: 0 | CK6: 1 | CL6: 1 | CM6: 1 | CN6: 1 | CO6: 1 | CP6: 0 | CQ6: 0 | CR6: 1 | CS6: 1 | CT6: 1 | CU6: 1 | CV6: 1 | CW6: 0 | CX6: 0 | CY6: 1 | CZ6: 1 | DA6: 1 | DB6: 1 | DC6: 1 | DD6: 0 | DE6: 0 | DF6: 0 | DG6: 1 | DH6: 1 | DI6: 1 | DJ6: 1 | DK6: 0 | DL6: 0 | DM6: 1 | DN6: 1 | DO6: 1 | DP6: 1 | DQ6: 1 | DR6: 0 | DS6: 0 | DT6: 0 | DU6: 1 | DV6: 1 | DW6: 1 | DX6: 1 | DY6: 0 | DZ6: 0 | EA6: 0 | EB6: 1 | EC6: 1 | ED6: 1 | EE6: 1 | EF6: 0 | EG6: 0 | EH6: 1 | EI6: 1 | EJ6: 1 | EK6: 1 | EL6: 1 | EM6: 0 | EN6: 0 | EO6: 1 | EP6: 1 | EQ6: 1 | ER6: 0 | ES6: 1 | ET6: 0 | EU6: 0 | EV6: 1 | EW6: 1 | EX6: 1 | EY6: 1 | EZ6: 1 | FA6: 0 | FB6: 0 | FC6: 0 | FD6: 1 | FE6: 1 | FF6: 1 | FG6: 1 | FH6: 0 | FI6: 0 | FJ6: 1 | FK6: 1 | FL6: 1 | FM6: 1 | FN6: 1 | FO6: 0 | FP6: 0 | FQ6: 1 | FR6: 1 | FS6: 1 | FT6: 1 | FU6: 1 | FV6: 0 | FW6: 0 | FX6: 1 | FY6: 1 | FZ6: 1 | GA6: 1 | GB6: 1 | GC6: 0 | GD6: 0 | GE6: 1 | GF6: 1 | GG6: 1 | GH6: 1 | GI6: 1 | GJ6: 0 | GK6: 0 | GL6: 1 | GM6: 1 | GN6: 1 | GO6: 1 | GP6: 0 | GQ6: 0 | GR6: 0 | GS6: 1 | GT6: 1 | GU6: 1 | GV6: 1 | GW6: 1 | GX6: 0 | GY6: 0 | GZ6: 1 | HA6: 1 | HB6: 1 | HC6: 1 | HD6: 1 | HE6: 0 | HF6: 0 | HG6: 1 | HH6: 1 | HI6: 1 | HJ6: 1 | HK6: 1 | HL6: 0 | HM6: 0 | HN6: 1 | HO6: 1 | HP6: 1 | HQ6: 1 | HR6: 1 | HS6: 0 | HT6: 0 | HU6: 1 | HV6: 0 | HW6: 1 | HX6: 1 | HY6: 1 | HZ6: 0 | IA6: 0 | IB6: 1 | IC6: 1 | ID6: 1 | IE6: 1 | IF6: 1 | IG6: 0 | IH6: 0 | II6: 1 | IJ6: 1 | IK6: 1 | IL6: 1 | IM6: 1 | IN6: 0 | IO6: 0 | IP6: 1 | IQ6: 1 | IR6: 1 | IS6: 1 | IT6: 1 | IU6: 0 | IV6: 0 | IW6: 1 | IX6: 1 | IY6: 1 | IZ6: 1 | JA6: 1 | JB6: 0 | JC6: 0 | JD6: 1 | JE6: 1 | JF6: 1 | JG6: 1 | JH6: 1 | JI6: 0 | JJ6: 0 | JK6: 1 | JL6: 1 | JM6: 1 | JN6: 1 | JO6: 1 | JP6: 0 | JQ6: 0 | JR6: 1 | JS6: 1 | JT6: 1 | JU6: 1 | JV6: 1 | JW6: 0 | JX6: 0 | JY6: 1 | JZ6: 1 | KA6: 1 | KB6: 1 | KC6: 1 | KD6: 0 | KE6: 0 | KF6: 1 | KG6: 1 | KH6: 1 | KI6: 1 | KJ6: 1 | KK6: 0 | KL6: 0 | KM6: 1 | KN6: 1 | KO6: 1 | KP6: 1 | KQ6: 1 | KR6: 0 | KS6: 0 | KT6: 1 | KU6: 1 | KV6: 0 | KW6: 1 | KX6: 1 | KY6: 0 | KZ6: 0 | LA6: 1 | LB6: 1 | LC6: 1 | LD6: 1 | LE6: 1 | LF6: 0 | LG6: 0 | LH6: 1 | LI6: 1 | LJ6: 1 | LK6: 1 | LL6: 1 | LM6: 0 | LN6: 0 | LO6: 1 | LP6: 1 | LQ6: 1 | LR6: 1 | LS6: 1 | LT6: 0 | LU6: 0 | LV6: 1 | LW6: 1 | LX6: 1 | LY6: 1 | LZ6: 1 | MA6: 0 | MB6: 0 | MC6: 1 | MD6: 1 | ME6: 1 | MF6: 1 | MG6: 1 | MH6: 0 | MI6: 0 | MJ6: 1 | MK6: 1 | ML6: 1 | MM6: 1 | MN6: 1 | MO6: 0 | MP6: 0 | MQ6: 1 | MR6: 1 | MS6: 1 | MT6: 1 | MU6: 1 | MV6: 0 | MW6: 0 | MX6: 0 | MY6: 1 | MZ6: 1 | NA6: 1 | NB6: 1 | NC6: 0 | ND6: 0
A7: DATE SAISIE
A8: SCL
A9: TxT_J | E9: 0.5 | F9: 0.38461538 | G9: 0.63333333 | H9: 0.88 | I9: 1
A10: TxPC_J | E10: 0.5 | F10: 0.5 | G10: 0.57142857 | H10: 1
A11: TxPC_J+1 | E11: 0.6 | F11: 0.6875 | G11: 0.78571429 | H11: 1
A12: TxPC_J+2 | E12: 1 | F12: 1 | G12: 1 | H12: 1
A14: Mails
A15: TxT_J
A16: TxPC_J
A17: TxPC_J+1
A18: TxPC_J+2

Sheet Stat
C5: TxT_J | E5: HLV_Inter | F5: Proactif | G5: Sherlock
C6: date | D6: 42739 | E6: =INDEX(INDIRECT(E$5&"!9:9"),,MATCH($D6,INDIRECT(E$5&"!4:4"),0)) -> 0.63333333 | F6: =INDEX(INDIRECT(F$5&"!9:9"),,MATCH($D6,INDIRECT(F$5&"!4:4"),0)) -> 0.63333333 | G6: =INDEX(INDIRECT(G$5&"!9:9"),,MATCH($D6,INDIRECT(G$5&"!4:4"),0)) -> 0.63333333 | H6: =AVERAGE(E6:G6) -> 0.63333333
C7: semaine | D7: 1 | E7: =SUMPRODUCT((HLV_Inter!D3:ND3=$D7)*(HLV_Inter!D9:ND9))/SUMPRODUCT((HLV_Inter!D6:ND6=1)*(HLV_Inter!D9:ND9<>"")) -> 0.67958974 | F7: =SUMPRODUCT((Proactif!D3:ND3=$D7)*(Proactif!D9:ND9))/SUMPRODUCT((Proactif!D6:ND6=1)*(Proactif!D9:ND9<>"")) -> 0.67958974 | G7: =SUMPRODUCT((Sherlock!D3:ND3=$D7)*(Sherlock!D9:ND9))/SUMPRODUCT((Sherlock!D6:ND6=1)*(Sherlock!D9:ND9<>"")) -> 0.67958974 | H7: =AVERAGE(E7:G7) -> 0.67958974
C8: mois | D8: janvier | E8: =SUMPRODUCT((HLV_Inter!D2:ND2=$D8)*(HLV_Inter!D9:ND9))/SUMPRODUCT((HLV_Inter!D6:ND6=1)*(HLV_Inter!D9:ND9<>"")) -> 0.67958974 | F8: =SUMPRODUCT((Proactif!D2:ND2=$D8)*(Proactif!D9:ND9))/SUMPRODUCT((Proactif!D6:ND6=1)*(Proactif!D9:ND9<>"")) -> 0.67958974 | G8: =SUMPRODUCT((Sherlock!D2:ND2=$D8)*(Sherlock!D9:ND9))/SUMPRODUCT((Sherlock!D6:ND6=1)*(Sherlock!D9:ND9<>"")) -> 0.67958974 | H8: =AVERAGE(E8:G8) -> 0.67958974
C9: trimestre | D9: 1 | E9: =SUMPRODUCT((HLV_Inter!D5:ND5=$D9)*(HLV_Inter!D9:ND9))/SUMPRODUCT((HLV_Inter!D6:ND6=1)*(HLV_Inter!D9:ND9<>"")) -> 0.67958974 | F9: =SUMPRODUCT((Proactif!D5:ND5=$D9)*(Proactif!D9:ND9))/SUMPRODUCT((Proactif!D6:ND6=1)*(Proactif!D9:ND9<>"")) -> 0.67958974 | G9: =SUMPRODUCT((Sherlock!D5:ND5=$D9)*(Sherlock!D9:ND9))/SUMPRODUCT((Sherlock!D6:ND6=1)*(Sherlock!D9:ND9<>"")) -> 0.67958974 | H9: =AVERAGE(E9:G9) -> 0.67958974
C10: année | E10: =SUM(HLV_Inter!D9:ND9)/SUMPRODUCT((HLV_Inter!D6:ND6=1)*(HLV_Inter!D9:ND9<>"")) -> 0.67958974 | F10: =SUM(Proactif!D9:ND9)/SUMPRODUCT((Proactif!D6:ND6=1)*(Proactif!D9:ND9<>"")) -> 0.67958974 | G10: =SUM(Sherlock!D9:ND9)/SUMPRODUCT((Sherlock!D6:ND6=1)*(Sherlock!D9:ND9<>"")) -> 0.67958974 | H10: =AVERAGE(E10:G10) -> 0.67958974
