Workbook
Name GRUE: '[1]Liste du personnel'!$AR$10:$AR$149
Name NOM: '[1]Liste du personnel'!$A$10:$A$149
Name PRENOM: '[1]Liste du personnel'!$B$10:$B$149
Name taches: Feuil3!$A$1:$A$12

Sheet Feuil1
D1: ="Semaine "&WEEKNUM(D3) -> Semaine 1 | AF1: ="Semaine "&WEEKNUM(AF3) -> Semaine 2 | BH1: ="Semaine "&WEEKNUM(BH3) -> Semaine 3 | CJ1: ="Semaine "&WEEKNUM(CJ3) -> Semaine 4 | DL1: ="Semaine "&WEEKNUM(DL3) -> Semaine 5 | EN1: ="Semaine "&WEEKNUM(EN3) -> Semaine 6 | FP1: ="Semaine "&WEEKNUM(FP3) -> Semaine 7 | GR1: ="Semaine "&WEEKNUM(GR3) -> Semaine 8 | HT1: ="Semaine "&WEEKNUM(HT3) -> Semaine 9 | IV1: ="Semaine "&WEEKNUM(IV3) -> Semaine 10 | JX1: ="Semaine "&WEEKNUM(JX3) -> Semaine 11 | KZ1: ="Semaine "&WEEKNUM(KZ3) -> Semaine 12 | MB1: ="Semaine "&WEEKNUM(MB3) -> Semaine 13 | ND1: ="Semaine "&WEEKNUM(ND3) -> Semaine 14 | OF1: ="Semaine "&WEEKNUM(OF3) -> Semaine 15 | PH1: ="Semaine "&WEEKNUM(PH3) -> Semaine 16 | QJ1: ="Semaine "&WEEKNUM(QJ3) -> Semaine 17 | RL1: ="Semaine "&WEEKNUM(RL3) -> Semaine 18 | SN1: ="Semaine "&WEEKNUM(SN3) -> Semaine 19 | TP1: ="Semaine "&WEEKNUM(TP3) -> Semaine 20 | UR1: ="Semaine "&WEEKNUM(UR3) -> Semaine 21 | VT1: ="Semaine "&WEEKNUM(VT3) -> Semaine 22 | WV1: ="Semaine "&WEEKNUM(WV3) -> Semaine 23 | XX1: ="Semaine "&WEEKNUM(XX3) -> Semaine 24 | YZ1: ="Semaine "&WEEKNUM(YZ3) -> Semaine 25 | AAB1: ="Semaine "&WEEKNUM(AAB3) -> Semaine 26 | ABD1: ="Semaine "&WEEKNUM(ABD3) -> Semaine 27 | ACF1: ="Semaine "&WEEKNUM(ACF3) -> Semaine 28 | ADH1: ="Semaine "&WEEKNUM(ADH3) -> Semaine 29 | AEJ1: ="Semaine "&WEEKNUM(AEJ3) -> Semaine 30 | AFL1: ="Semaine "&WEEKNUM(AFL3) -> Semaine 31 | AGN1: ="Semaine "&WEEKNUM(AGN3) -> Semaine 32 | AHP1: ="Semaine "&WEEKNUM(AHP3) -> Semaine 33 | AIR1: ="Semaine "&WEEKNUM(AIR3) -> Semaine 34 | AJT1: ="Semaine "&WEEKNUM(AJT3) -> Semaine 35 | AKV1: ="Semaine "&WEEKNUM(AKV3) -> Semaine 36 | ALX1: ="Semaine "&WEEKNUM(ALX3) -> Semaine 37 | AMZ1: ="Semaine "&WEEKNUM(AMZ3) -> Semaine 38 | AOB1: ="Semaine "&WEEKNUM(AOB3) -> Semaine 39 | APD1: ="Semaine "&WEEKNUM(APD3) -> Semaine 40 | AQF1: ="Semaine "&WEEKNUM(AQF3) -> Semaine 41 | ARH1: ="Semaine "&WEEKNUM(ARH3) -> Semaine 42 | ASJ1: ="Semaine "&WEEKNUM(ASJ3) -> Semaine 43 | ATL1: ="Semaine "&WEEKNUM(ATL3) -> Semaine 44 | AUN1: ="Semaine "&WEEKNUM(AUN3) -> Semaine 45 | AVP1: ="Semaine "&WEEKNUM(AVP3) -> Semaine 46 | AWR1: ="Semaine "&WEEKNUM(AWR3) -> Semaine 47 | AXT1: ="Semaine "&WEEKNUM(AXT3) -> Semaine 48 | AYV1: ="Semaine "&WEEKNUM(AYV3) -> Semaine 49 | AZX1: ="Semaine "&WEEKNUM(AZX3) -> Semaine 50 | BAZ1: ="Semaine "&WEEKNUM(BAZ3) -> Semaine 51 | BCB1: ="Semaine "&WEEKNUM(BCB3) -> Semaine 52 | BDD1: ="Semaine "&WEEKNUM(BDD3) -> Semaine 1
D2: Lun | H2: Mar. | L2: Mer. | P2: Jeu. | T2: Ven. | X2: Sam. | AB2: Total | AF2: Lun | AJ2: Mar. | AN2: Mer. | AR2: Jeu. | AV2: Ven. | AZ2: Sam. | BD2: Total | BH2: Lun | BL2: Mar. | BP2: Mer. | BT2: Jeu. | BX2: Ven. | CB2: Sam. | CF2: Total | CJ2: Lun | CN2: Mar. | CR2: Mer. | CV2: Jeu. | CZ2: Ven. | DD2: Sam. | DH2: Total | DL2: Lun | DP2: Mar. | DT2: Mer. | DX2: Jeu. | EB2: Ven. | EF2: Sam. | EJ2: Total | EN2: Lun | ER2: Mar. | EV2: Mer. | EZ2: Jeu. | FD2: Ven. | FH2: Sam. | FL2: Total | FP2: Lun | FT2: Mar. | FX2: Mer. | GB2: Jeu. | GF2: Ven. | GJ2: Sam. | GN2: Total | GR2: Lun | GV2: Mar. | GZ2: Mer. | HD2: Jeu. | HH2: Ven. | HL2: Sam. | HP2: Total | HT2: Lun | HX2: Mar. | IB2: Mer. | IF2: Jeu. | IJ2: Ven. | IN2: Sam. | IR2: Total | IV2: Lun | IZ2: Mar. | JD2: Mer. | JH2: Jeu. | JL2: Ven. | JP2: Sam. | JT2: Total | JX2: Lun | KB2: Mar. | KF2: Mer. | KJ2: Jeu. | KN2: Ven. | KR2: Sam. | KV2: Total | KZ2: Lun | LD2: Mar. | LH2: Mer. | LL2: Jeu. | LP2: Ven. | LT2: Sam. | LX2: Total | MB2: Lun | MF2: Mar. | MJ2: Mer. | MN2: Jeu. | MR2: Ven. | MV2: Sam. | MZ2: Total | ND2: Lun | NH2: Mar. | NL2: Mer. | NP2: Jeu. | NT2: Ven. | NX2: Sam. | OB2: Total | OF2: Lun | OJ2: Mar. | ON2: Mer. | OR2: Jeu. | OV2: Ven. | OZ2: Sam. | PD2: Total | PH2: Lun | PL2: Mar. | PP2: Mer. | PT2: Jeu. | PX2: Ven. | QB2: Sam. | QF2: Total | QJ2: Lun | QN2: Mar. | QR2: Mer. | QV2: Jeu. | QZ2: Ven. | RD2: Sam. | RH2: Total | RL2: Lun | RP2: Mar. | RT2: Mer. | RX2: Jeu. | SB2: Ven. | SF2: Sam. | SJ2: Total | SN2: Lun | SR2: Mar. | SV2: Mer. | SZ2: Jeu. | TD2: Ven. | TH2: Sam. | TL2: Total | TP2: Lun | TT2: Mar. | TX2: Mer. | UB2: Jeu. | UF2: Ven. | UJ2: Sam. | UN2: Total | UR2: Lun | UV2: Mar. | UZ2: Mer. | VD2: Jeu. | VH2: Ven. | VL2: Sam. | VP2: Total | VT2: Lun | VX2: Mar. | WB2: Mer. | WF2: Jeu. | WJ2: Ven. | WN2: Sam. | WR2: Total | WV2: Lun | WZ2: Mar. | XD2: Mer. | XH2: Jeu. | XL2: Ven. | XP2: Sam. | XT2: Total | XX2: Lun | YB2: Mar. | YF2: Mer. | YJ2: Jeu. | YN2: Ven. | YR2: Sam. | YV2: Total | YZ2: Lun | ZD2: Mar. | ZH2: Mer. | ZL2: Jeu. | ZP2: Ven. | ZT2: Sam. | ZX2: Total | AAB2: Lun | AAF2: Mar. | AAJ2: Mer. | AAN2: Jeu. | AAR2: Ven. | AAV2: Sam. | AAZ2: Total | ABD2: Lun | ABH2: Mar. | ABL2: Mer. | ABP2: Jeu. | ABT2: Ven. | ABX2: Sam. | ACB2: Total | ACF2: Lun | ACJ2: Mar. | ACN2: Mer. | ACR2: Jeu. | ACV2: Ven. | ACZ2: Sam. | ADD2: Total | ADH2: Lun | ADL2: Mar. | ADP2: Mer. | ADT2: Jeu. | ADX2: Ven. | AEB2: Sam. | AEF2: Total | AEJ2: Lun | AEN2: Mar. | AER2: Mer. | AEV2: Jeu. | AEZ2: Ven. | AFD2: Sam. | AFH2: Total | AFL2: Lun | AFP2: Mar. | AFT2: Mer. | AFX2: Jeu. | AGB2: Ven. | AGF2: Sam. | AGJ2: Total | AGN2: Lun | AGR2: Mar. | AGV2: Mer. | AGZ2: Jeu. | AHD2: Ven. | AHH2: Sam. | AHL2: Total | AHP2: Lun | AHT2: Mar. | AHX2: Mer. | AIB2: Jeu. | AIF2: Ven. | AIJ2: Sam. | AIN2: Total | AIR2: Lun | AIV2: Mar. | AIZ2: Mer. | AJD2: Jeu. | AJH2: Ven. | AJL2: Sam. | AJP2: Total | AJT2: Lun | AJX2: Mar. | AKB2: Mer. | AKF2: Jeu. | AKJ2: Ven. | AKN2: Sam. | AKR2: Total | AKV2: Lun | AKZ2: Mar. | ALD2: Mer. | ALH2: Jeu. | ALL2: Ven. | ALP2: Sam. | ALT2: Total | ALX2: Lun | AMB2: Mar. | AMF2: Mer. | AMJ2: Jeu. | AMN2: Ven. | AMR2: Sam. | AMV2: Total | AMZ2: Lun | AND2: Mar. | ANH2: Mer. | ANL2: Jeu. | ANP2: Ven. | ANT2: Sam. | ANX2: Total | AOB2: Lun | AOF2: Mar. | AOJ2: Mer. | AON2: Jeu. | AOR2: Ven. | AOV2: Sam. | AOZ2: Total | APD2: Lun | APH2: Mar. | APL2: Mer. | APP2: Jeu. | APT2: Ven. | APX2: Sam. | AQB2: Total | AQF2: Lun | AQJ2: Mar. | AQN2: Mer. | AQR2: Jeu. | AQV2: Ven. | AQZ2: Sam. | ARD2: Total | ARH2: Lun | ARL2: Mar. | ARP2: Mer. | ART2: Jeu. | ARX2: Ven. | ASB2: Sam. | ASF2: Total | ASJ2: Lun | ASN2: Mar. | ASR2: Mer. | ASV2: Jeu. | ASZ2: Ven. | ATD2: Sam. | ATH2: Total | ATL2: Lun | ATP2: Mar. | ATT2: Mer. | ATX2: Jeu. | AUB2: Ven. | AUF2: Sam. | AUJ2: Total | AUN2: Lun | AUR2: Mar. | AUV2: Mer. | AUZ2: Jeu. | AVD2: Ven. | AVH2: Sam. | AVL2: Total | AVP2: Lun | AVT2: Mar. | AVX2: Mer. | AWB2: Jeu. | AWF2: Ven. | AWJ2: Sam. | AWN2: Total | AWR2: Lun | AWV2: Mar. | AWZ2: Mer. | AXD2: Jeu. | AXH2: Ven. | AXL2: Sam. | AXP2: Total | AXT2: Lun | AXX2: Mar. | AYB2: Mer. | AYF2: Jeu. | AYJ2: Ven. | AYN2: Sam. | AYR2: Total | AYV2: Lun | AYZ2: Mar. | AZD2: Mer. | AZH2: Jeu. | AZL2: Ven. | AZP2: Sam. | AZT2: Total | AZX2: Lun | BAB2: Mar. | BAF2: Mer. | BAJ2: Jeu. | BAN2: Ven. | BAR2: Sam. | BAV2: Total | BAZ2: Lun | BBD2: Mar. | BBH2: Mer. | BBL2: Jeu. | BBP2: Ven. | BBT2: Sam. | BBX2: Total | BCB2: Lun | BCF2: Mar. | BCJ2: Mer. | BCN2: Jeu. | BCR2: Ven. | BCV2: Sam. | BCZ2: Total | BDD2: Lun | BDH2: Mar. | BDL2: Mer. | BDP2: Jeu. | BDT2: Ven. | BDX2: Sam. | BEB2: Total
D3: 43101 | H3: =D3+1 -> 43102 | L3: =H3+1 -> 43103 | P3: =L3+1 -> 43104 | T3: =P3+1 -> 43105 | X3: =T3+1 -> 43106 | AF3: =X3+2 -> 43108 | AJ3: =AF3+1 -> 43109 | AN3: =AJ3+1 -> 43110 | AR3: =AN3+1 -> 43111 | AV3: =AR3+1 -> 43112 | AZ3: =AV3+1 -> 43113 | BH3: =AZ3+2 -> 43115 | BL3: =BH3+1 -> 43116 | BP3: =BL3+1 -> 43117 | BT3: =BP3+1 -> 43118 | BX3: =BT3+1 -> 43119 | CB3: =BX3+1 -> 43120 | CJ3: =CB3+2 -> 43122 | CN3: =CJ3+1 -> 43123 | CR3: =CN3+1 -> 43124 | CV3: =CR3+1 -> 43125 | CZ3: =CV3+1 -> 43126 | DD3: =CZ3+1 -> 43127 | DL3: =DD3+2 -> 43129 | DP3: =DL3+1 -> 43130 | DT3: =DP3+1 -> 43131 | DX3: =DT3+1 -> 43132 | EB3: =DX3+1 -> 43133 | EF3: =EB3+1 -> 43134 | EN3: =EF3+2 -> 43136 | ER3: =EN3+1 -> 43137 | EV3: =ER3+1 -> 43138 | EZ3: =EV3+1 -> 43139 | FD3: =EZ3+1 -> 43140 | FH3: =FD3+1 -> 43141 | FP3: =FH3+2 -> 43143 | FT3: =FP3+1 -> 43144 | FX3: =FT3+1 -> 43145 | GB3: =FX3+1 -> 43146 | GF3: =GB3+1 -> 43147 | GJ3: =GF3+1 -> 43148 | GR3: =GJ3+2 -> 43150 | GV3: =GR3+1 -> 43151 | GZ3: =GV3+1 -> 43152 | HD3: =GZ3+1 -> 43153 | HH3: =HD3+1 -> 43154 | HL3: =HH3+1 -> 43155 | HT3: =HL3+2 -> 43157 | HX3: =HT3+1 -> 43158 | IB3: =HX3+1 -> 43159 | IF3: =IB3+1 -> 43160 | IJ3: =IF3+1 -> 43161 | IN3: =IJ3+1 -> 43162 | IV3: =IN3+2 -> 43164 | IZ3: =IV3+1 -> 43165 | JD3: =IZ3+1 -> 43166 | JH3: =JD3+1 -> 43167 | JL3: =JH3+1 -> 43168 | JP3: =JL3+1 -> 43169 | JX3: =JP3+2 -> 43171 | KB3: =JX3+1 -> 43172 | KF3: =KB3+1 -> 43173 | KJ3: =KF3+1 -> 43174 | KN3: =KJ3+1 -> 43175 | KR3: =KN3+1 -> 43176 | KZ3: =KR3+2 -> 43178 | LD3: =KZ3+1 -> 43179 | LH3: =LD3+1 -> 43180 | LL3: =LH3+1 -> 43181 | LP3: =LL3+1 -> 43182 | LT3: =LP3+1 -> 43183 | MB3: =LT3+2 -> 43185 | MF3: =MB3+1 -> 43186 | MJ3: =MF3+1 -> 43187 | MN3: =MJ3+1 -> 43188 | MR3: =MN3+1 -> 43189 | MV3: =MR3+1 -> 43190 | ND3: =MV3+2 -> 43192 | NH3: =ND3+1 -> 43193 | NL3: =NH3+1 -> 43194 | NP3: =NL3+1 -> 43195 | NT3: =NP3+1 -> 43196 | NX3: =NT3+1 -> 43197 | OF3: =NX3+2 -> 43199 | OJ3: =OF3+1 -> 43200 | ON3: =OJ3+1 -> 43201 | OR3: =ON3+1 -> 43202 | OV3: =OR3+1 -> 43203 | OZ3: =OV3+1 -> 43204 | PH3: =OZ3+2 -> 43206 | PL3: =PH3+1 -> 43207 | PP3: =PL3+1 -> 43208 | PT3: =PP3+1 -> 43209 | PX3: =PT3+1 -> 43210 | QB3: =PX3+1 -> 43211 | QJ3: =QB3+2 -> 43213 | QN3: =QJ3+1 -> 43214 | QR3: =QN3+1 -> 43215 | QV3: =QR3+1 -> 43216 | QZ3: =QV3+1 -> 43217 | RD3: =QZ3+1 -> 43218 | RL3: =RD3+2 -> 43220 | RP3: =RL3+1 -> 43221 | RT3: =RP3+1 -> 43222 | RX3: =RT3+1 -> 43223 | SB3: =RX3+1 -> 43224 | SF3: =SB3+1 -> 43225 | SN3: =SF3+2 -> 43227 | SR3: =SN3+1 -> 43228 | SV3: =SR3+1 -> 43229 | SZ3: =SV3+1 -> 43230 | TD3: =SZ3+1 -> 43231 | TH3: =TD3+1 -> 43232 | TP3: =TH3+2 -> 43234 | TT3: =TP3+1 -> 43235 | TX3: =TT3+1 -> 43236 | UB3: =TX3+1 -> 43237 | UF3: =UB3+1 -> 43238 | UJ3: =UF3+1 -> 43239 | UR3: =UJ3+2 -> 43241 | UV3: =UR3+1 -> 43242 | UZ3: =UV3+1 -> 43243 | VD3: =UZ3+1 -> 43244 | VH3: =VD3+1 -> 43245 | VL3: =VH3+1 -> 43246 | VT3: =VL3+2 -> 43248 | VX3: =VT3+1 -> 43249 | WB3: =VX3+1 -> 43250 | WF3: =WB3+1 -> 43251 | WJ3: =WF3+1 -> 43252 | WN3: =WJ3+1 -> 43253 | WV3: =WN3+2 -> 43255 | WZ3: =WV3+1 -> 43256 | XD3: =WZ3+1 -> 43257 | XH3: =XD3+1 -> 43258 | XL3: =XH3+1 -> 43259 | XP3: =XL3+1 -> 43260 | XX3: =XP3+2 -> 43262 | YB3: =XX3+1 -> 43263 | YF3: =YB3+1 -> 43264 | YJ3: =YF3+1 -> 43265 | YN3: =YJ3+1 -> 43266 | YR3: =YN3+1 -> 43267 | YZ3: =YR3+2 -> 43269 | ZD3: =YZ3+1 -> 43270 | ZH3: =ZD3+1 -> 43271 | ZL3: =ZH3+1 -> 43272 | ZP3: =ZL3+1 -> 43273 | ZT3: =ZP3+1 -> 43274 | AAB3: =ZT3+2 -> 43276 | AAF3: =AAB3+1 -> 43277 | AAJ3: =AAF3+1 -> 43278 | AAN3: =AAJ3+1 -> 43279 | AAR3: =AAN3+1 -> 43280 | AAV3: =AAR3+1 -> 43281 | ABD3: =AAV3+2 -> 43283 | ABH3: =ABD3+1 -> 43284 | ABL3: =ABH3+1 -> 43285 | ABP3: =ABL3+1 -> 43286 | ABT3: =ABP3+1 -> 43287 | ABX3: =ABT3+1 -> 43288 | ACF3: =ABX3+2 -> 43290 | ACJ3: =ACF3+1 -> 43291 | ACN3: =ACJ3+1 -> 43292 | ACR3: =ACN3+1 -> 43293 | ACV3: =ACR3+1 -> 43294 | ACZ3: =ACV3+1 -> 43295 | ADH3: =ACZ3+2 -> 43297 | ADL3: =ADH3+1 -> 43298 | ADP3: =ADL3+1 -> 43299 | ADT3: =ADP3+1 -> 43300 | ADX3: =ADT3+1 -> 43301 | AEB3: =ADX3+1 -> 43302 | AEJ3: =AEB3+2 -> 43304 | AEN3: =AEJ3+1 -> 43305 | AER3: =AEN3+1 -> 43306 | AEV3: =AER3+1 -> 43307 | AEZ3: =AEV3+1 -> 43308 | AFD3: =AEZ3+1 -> 43309 | AFL3: =AFD3+2 -> 43311 | AFP3: =AFL3+1 -> 43312 | AFT3: =AFP3+1 -> 43313 | AFX3: =AFT3+1 -> 43314 | AGB3: =AFX3+1 -> 43315 | AGF3: =AGB3+1 -> 43316 | AGN3: =AGF3+2 -> 43318 | AGR3: =AGN3+1 -> 43319 | AGV3: =AGR3+1 -> 43320 | AGZ3: =AGV3+1 -> 43321 | AHD3: =AGZ3+1 -> 43322 | AHH3: =AHD3+1 -> 43323 | AHP3: =AHH3+2 -> 43325 | AHT3: =AHP3+1 -> 43326 | AHX3: =AHT3+1 -> 43327 | AIB3: =AHX3+1 -> 43328 | AIF3: =AIB3+1 -> 43329 | AIJ3: =AIF3+1 -> 43330 | AIR3: =AIJ3+2 -> 43332 | AIV3: =AIR3+1 -> 43333 | AIZ3: =AIV3+1 -> 43334 | AJD3: =AIZ3+1 -> 43335 | AJH3: =AJD3+1 -> 43336 | AJL3: =AJH3+1 -> 43337 | AJT3: =AJL3+2 -> 43339 | AJX3: =AJT3+1 -> 43340 | AKB3: =AJX3+1 -> 43341 | AKF3: =AKB3+1 -> 43342 | AKJ3: =AKF3+1 -> 43343 | AKN3: =AKJ3+1 -> 43344 | AKV3: =AKN3+2 -> 43346 | AKZ3: =AKV3+1 -> 43347 | ALD3: =AKZ3+1 -> 43348 | ALH3: =ALD3+1 -> 43349 | ALL3: =ALH3+1 -> 43350 | ALP3: =ALL3+1 -> 43351 | ALX3: =ALP3+2 -> 43353 | AMB3: =ALX3+1 -> 43354 | AMF3: =AMB3+1 -> 43355 | AMJ3: =AMF3+1 -> 43356 | AMN3: =AMJ3+1 -> 43357 | AMR3: =AMN3+1 -> 43358 | AMZ3: =AMR3+2 -> 43360 | AND3: =AMZ3+1 -> 43361 | ANH3: =AND3+1 -> 43362 | ANL3: =ANH3+1 -> 43363 | ANP3: =ANL3+1 -> 43364 | ANT3: =ANP3+1 -> 43365 | AOB3: =ANT3+2 -> 43367 | AOF3: =AOB3+1 -> 43368 | AOJ3: =AOF3+1 -> 43369 | AON3: =AOJ3+1 -> 43370 | AOR3: =AON3+1 -> 43371 | AOV3: =AOR3+1 -> 43372 | APD3: =AOV3+2 -> 43374 | APH3: =APD3+1 -> 43375 | APL3: =APH3+1 -> 43376 | APP3: =APL3+1 -> 43377 | APT3: =APP3+1 -> 43378 | APX3: =APT3+1 -> 43379 | AQF3: =APX3+2 -> 43381 | AQJ3: =AQF3+1 -> 43382 | AQN3: =AQJ3+1 -> 43383 | AQR3: =AQN3+1 -> 43384 | AQV3: =AQR3+1 -> 43385 | AQZ3: =AQV3+1 -> 43386 | ARH3: =AQZ3+2 -> 43388 | ARL3: =ARH3+1 -> 43389 | ARP3: =ARL3+1 -> 43390 | ART3: =ARP3+1 -> 43391 | ARX3: =ART3+1 -> 43392 | ASB3: =ARX3+1 -> 43393 | ASJ3: =ASB3+2 -> 43395 | ASN3: =ASJ3+1 -> 43396 | ASR3: =ASN3+1 -> 43397 | ASV3: =ASR3+1 -> 43398 | ASZ3: =ASV3+1 -> 43399 | ATD3: =ASZ3+1 -> 43400 | ATL3: =ATD3+2 -> 43402 | ATP3: =ATL3+1 -> 43403 | ATT3: =ATP3+1 -> 43404 | ATX3: =ATT3+1 -> 43405 | AUB3: =ATX3+1 -> 43406 | AUF3: =AUB3+1 -> 43407 | AUN3: =AUF3+2 -> 43409 | AUR3: =AUN3+1 -> 43410 | AUV3: =AUR3+1 -> 43411 | AUZ3: =AUV3+1 -> 43412 | AVD3: =AUZ3+1 -> 43413 | AVH3: =AVD3+1 -> 43414 | AVP3: =AVH3+2 -> 43416 | AVT3: =AVP3+1 -> 43417 | AVX3: =AVT3+1 -> 43418 | AWB3: =AVX3+1 -> 43419 | AWF3: =AWB3+1 -> 43420 | AWJ3: =AWF3+1 -> 43421 | AWR3: =AWJ3+2 -> 43423 | AWV3: =AWR3+1 -> 43424 | AWZ3: =AWV3+1 -> 43425 | AXD3: =AWZ3+1 -> 43426 | AXH3: =AXD3+1 -> 43427 | AXL3: =AXH3+1 -> 43428 | AXT3: =AXL3+2 -> 43430 | AXX3: =AXT3+1 -> 43431 | AYB3: =AXX3+1 -> 43432 | AYF3: =AYB3+1 -> 43433 | AYJ3: =AYF3+1 -> 43434 | AYN3: =AYJ3+1 -> 43435 | AYV3: =AYN3+2 -> 43437 | AYZ3: =AYV3+1 -> 43438 | AZD3: =AYZ3+1 -> 43439 | AZH3: =AZD3+1 -> 43440 | AZL3: =AZH3+1 -> 43441 | AZP3: =AZL3+1 -> 43442 | AZX3: =AZP3+2 -> 43444 | BAB3: =AZX3+1 -> 43445 | BAF3: =BAB3+1 -> 43446 | BAJ3: =BAF3+1 -> 43447 | BAN3: =BAJ3+1 -> 43448 | BAR3: =BAN3+1 -> 43449 | BAZ3: =BAR3+2 -> 43451 | BBD3: =BAZ3+1 -> 43452 | BBH3: =BBD3+1 -> 43453 | BBL3: =BBH3+1 -> 43454 | BBP3: =BBL3+1 -> 43455 | BBT3: =BBP3+1 -> 43456 | BCB3: =BBT3+2 -> 43458 | BCF3: =BCB3+1 -> 43459 | BCJ3: =BCF3+1 -> 43460 | BCN3: =BCJ3+1 -> 43461 | BCR3: =BCN3+1 -> 43462 | BCV3: =BCR3+1 -> 43463 | BDD3: =BCY3+2 -> 2 | BDH3: =BDD3+1 -> 3 | BDL3: =BDH3+1 -> 4 | BDP3: =BDL3+1 -> 5 | BDT3: =BDP3+1 -> 6 | BDX3: =BDT3+1 -> 7
D4: =IFERROR(EOMONTH(D3,-1)+1,C4) -> 43101 | E4: =IFERROR(EOMONTH(E3,-1)+1,D4) -> 43101 | F4: =IFERROR(EOMONTH(F3,-1)+1,E4) -> 43101 | G4: =IFERROR(EOMONTH(G3,-1)+1,F4) -> 43101 | H4: =IFERROR(EOMONTH(H3,-1)+1,G4) -> 43101 | I4: =IFERROR(EOMONTH(I3,-1)+1,H4) -> 43101 | J4: =IFERROR(EOMONTH(J3,-1)+1,I4) -> 43101 | K4: =IFERROR(EOMONTH(K3,-1)+1,J4) -> 43101 | ... BEA4: =IFERROR(EOMONTH(BEA3,-1)+1,BDZ4) -> 43435
D5: =SUM(D7:D146,F7:F146) -> 124 | H5: =SUM(H7:H146,J7:J146) -> 124 | L5: =SUM(L7:L146,N7:N146) -> 124 | P5: =SUM(P7:P146,R7:R146) -> 124 | T5: =SUM(T7:T146,V7:V146) -> 124 | X5: =SUM(X7:X146,Z7:Z146) -> 124 | AB5: =SUM(AB7:AB146) -> 744 | AF5: =SUM(AF7:AF146,AH7:AH146) -> 124 | AJ5: =SUM(AJ7:AJ146,AL7:AL146) -> 124 | AN5: =SUM(AN7:AN146,AP7:AP146) -> 124 | AR5: =SUM(AR7:AR146,AT7:AT146) -> 124 | AV5: =SUM(AV7:AV146,AX7:AX146) -> 124 | AZ5: =SUM(AZ7:AZ146,BB7:BB146) -> 124 | BD5: =SUM(BD7:BD146) -> 744 | BH5: =SUM(BH7:BH146,BJ7:BJ146) -> 124 | BL5: =SUM(BL7:BL146,BN7:BN146) -> 124 | BP5: =SUM(BP7:BP146,BR7:BR146) -> 124 | BT5: =SUM(BT7:BT146,BV7:BV146) -> 124 | BX5: =SUM(BX7:BX146,BZ7:BZ146) -> 124 | CB5: =SUM(CB7:CB146,CD7:CD146) -> 124 | CF5: =SUM(CF7:CF146) -> 744 | CJ5: =SUM(CJ7:CJ146,CL7:CL146) -> 124 | CN5: =SUM(CN7:CN146,CP7:CP146) -> 124 | CR5: =SUM(CR7:CR146,CT7:CT146) -> 124 | CV5: =SUM(CV7:CV146,CX7:CX146) -> 124 | CZ5: =SUM(CZ7:CZ146,DB7:DB146) -> 124 | DD5: =SUM(DD7:DD146,DF7:DF146) -> 124 | DH5: =SUM(DH7:DH146) -> 744 | DL5: =SUM(DL7:DL146,DN7:DN146) -> 124 | DP5: =SUM(DP7:DP146,DR7:DR146) -> 124 | DT5: =SUM(DT7:DT146,DV7:DV146) -> 124 | DX5: =SUM(DX7:DX146,DZ7:DZ146) -> 124 | EB5: =SUM(EB7:EB146,ED7:ED146) -> 124 | EF5: =SUM(EF7:EF146,EH7:EH146) -> 124 | EJ5: =SUM(EJ7:EJ146) -> 744 | EN5: =SUM(EN7:EN146,EP7:EP146) -> 124 | ER5: =SUM(ER7:ER146,ET7:ET146) -> 124 | EV5: =SUM(EV7:EV146,EX7:EX146) -> 124 | EZ5: =SUM(EZ7:EZ146,FB7:FB146) -> 124 | FD5: =SUM(FD7:FD146,FF7:FF146) -> 124 | FH5: =SUM(FH7:FH146,FJ7:FJ146) -> 124 | FL5: =SUM(FL7:FL146) -> 744 | FP5: =SUM(FP7:FP146,FR7:FR146) -> 124 | FT5: =SUM(FT7:FT146,FV7:FV146) -> 124 | FX5: =SUM(FX7:FX146,FZ7:FZ146) -> 124 | GB5: =SUM(GB7:GB146,GD7:GD146) -> 124 | GF5: =SUM(GF7:GF146,GH7:GH146) -> 124 | GJ5: =SUM(GJ7:GJ146,GL7:GL146) -> 124 | GN5: =SUM(GN7:GN146) -> 744 | GR5: =SUM(GR7:GR146,GT7:GT146) -> 124 | GV5: =SUM(GV7:GV146,GX7:GX146) -> 124 | GZ5: =SUM(GZ7:GZ146,HB7:HB146) -> 124 | HD5: =SUM(HD7:HD146,HF7:HF146) -> 124 | HH5: =SUM(HH7:HH146,HJ7:HJ146) -> 124 | HL5: =SUM(HL7:HL146,HN7:HN146) -> 124 | HP5: =SUM(HP7:HP146) -> 744 | HT5: =SUM(HT7:HT146,HV7:HV146) -> 124 | HX5: =SUM(HX7:HX146,HZ7:HZ146) -> 124 | IB5: =SUM(IB7:IB146,ID7:ID146) -> 124 | IF5: =SUM(IF7:IF146,IH7:IH146) -> 124 | IJ5: =SUM(IJ7:IJ146,IL7:IL146) -> 124 | IN5: =SUM(IN7:IN146,IP7:IP146) -> 124 | IR5: =SUM(IR7:IR146) -> 744 | IV5: =SUM(IV7:IV146,IX7:IX146) -> 124 | IZ5: =SUM(IZ7:IZ146,JB7:JB146) -> 124 | JD5: =SUM(JD7:JD146,JF7:JF146) -> 124 | JH5: =SUM(JH7:JH146,JJ7:JJ146) -> 124 | JL5: =SUM(JL7:JL146,JN7:JN146) -> 124 | JP5: =SUM(JP7:JP146,JR7:JR146) -> 124 | JT5: =SUM(JT7:JT146) -> 744 | JX5: =SUM(JX7:JX146,JZ7:JZ146) -> 124 | KB5: =SUM(KB7:KB146,KD7:KD146) -> 124 | KF5: =SUM(KF7:KF146,KH7:KH146) -> 124 | KJ5: =SUM(KJ7:KJ146,KL7:KL146) -> 124 | KN5: =SUM(KN7:KN146,KP7:KP146) -> 124 | KR5: =SUM(KR7:KR146,KT7:KT146) -> 124 | KV5: =SUM(KV7:KV146) -> 744 | KZ5: =SUM(KZ7:KZ146,LB7:LB146) -> 124 | LD5: =SUM(LD7:LD146,LF7:LF146) -> 124 | LH5: =SUM(LH7:LH146,LJ7:LJ146) -> 124 | LL5: =SUM(LL7:LL146,LN7:LN146) -> 124 | LP5: =SUM(LP7:LP146,LR7:LR146) -> 124 | LT5: =SUM(LT7:LT146,LV7:LV146) -> 124 | LX5: =SUM(LX7:LX146) -> 744 | MB5: =SUM(MB7:MB146,MD7:MD146) -> 124 | MF5: =SUM(MF7:MF146,MH7:MH146) -> 124 | MJ5: =SUM(MJ7:MJ146,ML7:ML146) -> 124 | MN5: =SUM(MN7:MN146,MP7:MP146) -> 124 | MR5: =SUM(MR7:MR146,MT7:MT146) -> 124 | MV5: =SUM(MV7:MV146,MX7:MX146) -> 124 | MZ5: =SUM(MZ7:MZ146) -> 744 | ND5: =SUM(ND7:ND146,NF7:NF146) -> 124 | NH5: =SUM(NH7:NH146,NJ7:NJ146) -> 124 | NL5: =SUM(NL7:NL146,NN7:NN146) -> 124 | NP5: =SUM(NP7:NP146,NR7:NR146) -> 124 | NT5: =SUM(NT7:NT146,NV7:NV146) -> 124 | NX5: =SUM(NX7:NX146,NZ7:NZ146) -> 124 | OB5: =SUM(OB7:OB146) -> 744 | OF5: =SUM(OF7:OF146,OH7:OH146) -> 124 | OJ5: =SUM(OJ7:OJ146,OL7:OL146) -> 124 | ON5: =SUM(ON7:ON146,OP7:OP146) -> 124 | OR5: =SUM(OR7:OR146,OT7:OT146) -> 124 | OV5: =SUM(OV7:OV146,OX7:OX146) -> 124 | OZ5: =SUM(OZ7:OZ146,PB7:PB146) -> 124 | PD5: =SUM(PD7:PD146) -> 744 | PH5: =SUM(PH7:PH146,PJ7:PJ146) -> 124 | PL5: =SUM(PL7:PL146,PN7:PN146) -> 124 | PP5: =SUM(PP7:PP146,PR7:PR146) -> 124 | PT5: =SUM(PT7:PT146,PV7:PV146) -> 124 | PX5: =SUM(PX7:PX146,PZ7:PZ146) -> 124 | QB5: =SUM(QB7:QB146,QD7:QD146) -> 124 | QF5: =SUM(QF7:QF146) -> 744 | QJ5: =SUM(QJ7:QJ146,QL7:QL146) -> 124 | QN5: =SUM(QN7:QN146,QP7:QP146) -> 124 | QR5: =SUM(QR7:QR146,QT7:QT146) -> 124 | QV5: =SUM(QV7:QV146,QX7:QX146) -> 124 | QZ5: =SUM(QZ7:QZ146,RB7:RB146) -> 124 | RD5: =SUM(RD7:RD146,RF7:RF146) -> 124 | RH5: =SUM(RH7:RH146) -> 744 | RL5: =SUM(RL7:RL146,RN7:RN146) -> 124 | RP5: =SUM(RP7:RP146,RR7:RR146) -> 124 | RT5: =SUM(RT7:RT146,RV7:RV146) -> 124 | RX5: =SUM(RX7:RX146,RZ7:RZ146) -> 124 | SB5: =SUM(SB7:SB146,SD7:SD146) -> 124 | SF5: =SUM(SF7:SF146,SH7:SH146) -> 124 | SJ5: =SUM(SJ7:SJ146) -> 744 | SN5: =SUM(SN7:SN146,SP7:SP146) -> 124 | SR5: =SUM(SR7:SR146,ST7:ST146) -> 124 | SV5: =SUM(SV7:SV146,SX7:SX146) -> 124 | SZ5: =SUM(SZ7:SZ146,TB7:TB146) -> 124 | TD5: =SUM(TD7:TD146,TF7:TF146) -> 124 | TH5: =SUM(TH7:TH146,TJ7:TJ146) -> 124 | TL5: =SUM(TL7:TL146) -> 744 | TP5: =SUM(TP7:TP146,TR7:TR146) -> 124 | TT5: =SUM(TT7:TT146,TV7:TV146) -> 124 | TX5: =SUM(TX7:TX146,TZ7:TZ146) -> 124 | UB5: =SUM(UB7:UB146,UD7:UD146) -> 124 | UF5: =SUM(UF7:UF146,UH7:UH146) -> 124 | UJ5: =SUM(UJ7:UJ146,UL7:UL146) -> 124 | UN5: =SUM(UN7:UN146) -> 744 | UR5: =SUM(UR7:UR146,UT7:UT146) -> 124 | UV5: =SUM(UV7:UV146,UX7:UX146) -> 124 | UZ5: =SUM(UZ7:UZ146,VB7:VB146) -> 124 | VD5: =SUM(VD7:VD146,VF7:VF146) -> 124 | VH5: =SUM(VH7:VH146,VJ7:VJ146) -> 124 | VL5: =SUM(VL7:VL146,VN7:VN146) -> 124 | VP5: =SUM(VP7:VP146) -> 744 | VT5: =SUM(VT7:VT146,VV7:VV146) -> 124 | VX5: =SUM(VX7:VX146,VZ7:VZ146) -> 124 | WB5: =SUM(WB7:WB146,WD7:WD146) -> 124 | WF5: =SUM(WF7:WF146,WH7:WH146) -> 124 | WJ5: =SUM(WJ7:WJ146,WL7:WL146) -> 124 | WN5: =SUM(WN7:WN146,WP7:WP146) -> 124 | WR5: =SUM(WR7:WR146) -> 744 | WV5: =SUM(WV7:WV146,WX7:WX146) -> 124 | WZ5: =SUM(WZ7:WZ146,XB7:XB146) -> 124 | XD5: =SUM(XD7:XD146,XF7:XF146) -> 124 | XH5: =SUM(XH7:XH146,XJ7:XJ146) -> 124 | XL5: =SUM(XL7:XL146,XN7:XN146) -> 124 | XP5: =SUM(XP7:XP146,XR7:XR146) -> 124 | XT5: =SUM(XT7:XT146) -> 744 | XX5: =SUM(XX7:XX146,XZ7:XZ146) -> 124 | YB5: =SUM(YB7:YB146,YD7:YD146) -> 124 | YF5: =SUM(YF7:YF146,YH7:YH146) -> 124 | YJ5: =SUM(YJ7:YJ146,YL7:YL146) -> 124 | YN5: =SUM(YN7:YN146,YP7:YP146) -> 124 | YR5: =SUM(YR7:YR146,YT7:YT146) -> 124 | YV5: =SUM(YV7:YV146) -> 744 | YZ5: =SUM(YZ7:YZ146,ZB7:ZB146) -> 124 | ZD5: =SUM(ZD7:ZD146,ZF7:ZF146) -> 124 | ZH5: =SUM(ZH7:ZH146,ZJ7:ZJ146) -> 124 | ZL5: =SUM(ZL7:ZL146,ZN7:ZN146) -> 124 | ZP5: =SUM(ZP7:ZP146,ZR7:ZR146) -> 124 | ZT5: =SUM(ZT7:ZT146,ZV7:ZV146) -> 124 | ZX5: =SUM(ZX7:ZX146) -> 744 | AAB5: =SUM(AAB7:AAB146,AAD7:AAD146) -> 124 | AAF5: =SUM(AAF7:AAF146,AAH7:AAH146) -> 124 | AAJ5: =SUM(AAJ7:AAJ146,AAL7:AAL146) -> 124 | AAN5: =SUM(AAN7:AAN146,AAP7:AAP146) -> 124 | AAR5: =SUM(AAR7:AAR146,AAT7:AAT146) -> 124 | AAV5: =SUM(AAV7:AAV146,AAX7:AAX146) -> 124 | AAZ5: =SUM(AAZ7:AAZ146) -> 744 | ABD5: =SUM(ABD7:ABD146,ABF7:ABF146) -> 124 | ABH5: =SUM(ABH7:ABH146,ABJ7:ABJ146) -> 124 | ABL5: =SUM(ABL7:ABL146,ABN7:ABN146) -> 124 | ABP5: =SUM(ABP7:ABP146,ABR7:ABR146) -> 124 | ABT5: =SUM(ABT7:ABT146,ABV7:ABV146) -> 124 | ABX5: =SUM(ABX7:ABX146,ABZ7:ABZ146) -> 124 | ACB5: =SUM(ACB7:ACB146) -> 744 | ACF5: =SUM(ACF7:ACF146,ACH7:ACH146) -> 124 | ACJ5: =SUM(ACJ7:ACJ146,ACL7:ACL146) -> 124 | ACN5: =SUM(ACN7:ACN146,ACP7:ACP146) -> 124 | ACR5: =SUM(ACR7:ACR146,ACT7:ACT146) -> 124 | ACV5: =SUM(ACV7:ACV146,ACX7:ACX146) -> 124 | ACZ5: =SUM(ACZ7:ACZ146,ADB7:ADB146) -> 124 | ADD5: =SUM(ADD7:ADD146) -> 744 | ADH5: =SUM(ADH7:ADH146,ADJ7:ADJ146) -> 124 | ADL5: =SUM(ADL7:ADL146,ADN7:ADN146) -> 124 | ADP5: =SUM(ADP7:ADP146,ADR7:ADR146) -> 124 | ADT5: =SUM(ADT7:ADT146,ADV7:ADV146) -> 124 | ADX5: =SUM(ADX7:ADX146,ADZ7:ADZ146) -> 124 | AEB5: =SUM(AEB7:AEB146,AED7:AED146) -> 124 | AEF5: =SUM(AEF7:AEF146) -> 744 | AEJ5: =SUM(AEJ7:AEJ146,AEL7:AEL146) -> 124 | AEN5: =SUM(AEN7:AEN146,AEP7:AEP146) -> 124 | AER5: =SUM(AER7:AER146,AET7:AET146) -> 124 | AEV5: =SUM(AEV7:AEV146,AEX7:AEX146) -> 124 | AEZ5: =SUM(AEZ7:AEZ146,AFB7:AFB146) -> 124 | AFD5: =SUM(AFD7:AFD146,AFF7:AFF146) -> 124 | AFH5: =SUM(AFH7:AFH146) -> 744 | AFL5: =SUM(AFL7:AFL146,AFN7:AFN146) -> 124 | AFP5: =SUM(AFP7:AFP146,AFR7:AFR146) -> 124 | AFT5: =SUM(AFT7:AFT146,AFV7:AFV146) -> 124 | AFX5: =SUM(AFX7:AFX146,AFZ7:AFZ146) -> 124 | AGB5: =SUM(AGB7:AGB146,AGD7:AGD146) -> 124 | AGF5: =SUM(AGF7:AGF146,AGH7:AGH146) -> 124 | AGJ5: =SUM(AGJ7:AGJ146) -> 744 | AGN5: =SUM(AGN7:AGN146,AGP7:AGP146) -> 124 | AGR5: =SUM(AGR7:AGR146,AGT7:AGT146) -> 124 | AGV5: =SUM(AGV7:AGV146,AGX7:AGX146) -> 124 | AGZ5: =SUM(AGZ7:AGZ146,AHB7:AHB146) -> 124 | AHD5: =SUM(AHD7:AHD146,AHF7:AHF146) -> 124 | AHH5: =SUM(AHH7:AHH146,AHJ7:AHJ146) -> 124 | AHL5: =SUM(AHL7:AHL146) -> 744 | AHP5: =SUM(AHP7:AHP146,AHR7:AHR146) -> 124 | AHT5: =SUM(AHT7:AHT146,AHV7:AHV146) -> 124 | AHX5: =SUM(AHX7:AHX146,AHZ7:AHZ146) -> 124 | AIB5: =SUM(AIB7:AIB146,AID7:AID146) -> 124 | AIF5: =SUM(AIF7:AIF146,AIH7:AIH146) -> 124 | AIJ5: =SUM(AIJ7:AIJ146,AIL7:AIL146) -> 124 | AIN5: =SUM(AIN7:AIN146) -> 744 | AIR5: =SUM(AIR7:AIR146,AIT7:AIT146) -> 124 | AIV5: =SUM(AIV7:AIV146,AIX7:AIX146) -> 124 | AIZ5: =SUM(AIZ7:AIZ146,AJB7:AJB146) -> 124 | AJD5: =SUM(AJD7:AJD146,AJF7:AJF146) -> 124 | AJH5: =SUM(AJH7:AJH146,AJJ7:AJJ146) -> 124 | AJL5: =SUM(AJL7:AJL146,AJN7:AJN146) -> 124 | AJP5: =SUM(AJP7:AJP146) -> 744 | AJT5: =SUM(AJT7:AJT146,AJV7:AJV146) -> 124 | AJX5: =SUM(AJX7:AJX146,AJZ7:AJZ146) -> 124 | AKB5: =SUM(AKB7:AKB146,AKD7:AKD146) -> 124 | AKF5: =SUM(AKF7:AKF146,AKH7:AKH146) -> 124 | AKJ5: =SUM(AKJ7:AKJ146,AKL7:AKL146) -> 124 | AKN5: =SUM(AKN7:AKN146,AKP7:AKP146) -> 124 | AKR5: =SUM(AKR7:AKR146) -> 744 | AKV5: =SUM(AKV7:AKV146,AKX7:AKX146) -> 124 | AKZ5: =SUM(AKZ7:AKZ146,ALB7:ALB146) -> 124 | ALD5: =SUM(ALD7:ALD146,ALF7:ALF146) -> 124 | ALH5: =SUM(ALH7:ALH146,ALJ7:ALJ146) -> 124 | ALL5: =SUM(ALL7:ALL146,ALN7:ALN146) -> 124 | ALP5: =SUM(ALP7:ALP146,ALR7:ALR146) -> 124 | ALT5: =SUM(ALT7:ALT146) -> 744 | ALX5: =SUM(ALX7:ALX146,ALZ7:ALZ146) -> 124 | AMB5: =SUM(AMB7:AMB146,AMD7:AMD146) -> 124 | AMF5: =SUM(AMF7:AMF146,AMH7:AMH146) -> 124 | AMJ5: =SUM(AMJ7:AMJ146,AML7:AML146) -> 124 | AMN5: =SUM(AMN7:AMN146,AMP7:AMP146) -> 124 | AMR5: =SUM(AMR7:AMR146,AMT7:AMT146) -> 124 | AMV5: =SUM(AMV7:AMV146) -> 744 | AMZ5: =SUM(AMZ7:AMZ146,ANB7:ANB146) -> 124 | AND5: =SUM(AND7:AND146,ANF7:ANF146) -> 124 | ANH5: =SUM(ANH7:ANH146,ANJ7:ANJ146) -> 124 | ANL5: =SUM(ANL7:ANL146,ANN7:ANN146) -> 124 | ANP5: =SUM(ANP7:ANP146,ANR7:ANR146) -> 124 | ANT5: =SUM(ANT7:ANT146,ANV7:ANV146) -> 124 | ANX5: =SUM(ANX7:ANX146) -> 744 | AOB5: =SUM(AOB7:AOB146,AOD7:AOD146) -> 124 | AOF5: =SUM(AOF7:AOF146,AOH7:AOH146) -> 124 | AOJ5: =SUM(AOJ7:AOJ146,AOL7:AOL146) -> 124 | AON5: =SUM(AON7:AON146,AOP7:AOP146) -> 124 | AOR5: =SUM(AOR7:AOR146,AOT7:AOT146) -> 124 | AOV5: =SUM(AOV7:AOV146,AOX7:AOX146) -> 124 | AOZ5: =SUM(AOZ7:AOZ146) -> 744 | APD5: =SUM(APD7:APD146,APF7:APF146) -> 124 | APH5: =SUM(APH7:APH146,APJ7:APJ146) -> 124 | APL5: =SUM(APL7:APL146,APN7:APN146) -> 124 | APP5: =SUM(APP7:APP146,APR7:APR146) -> 124 | APT5: =SUM(APT7:APT146,APV7:APV146) -> 124 | APX5: =SUM(APX7:APX146,APZ7:APZ146) -> 124 | AQB5: =SUM(AQB7:AQB146) -> 744 | AQF5: =SUM(AQF7:AQF146,AQH7:AQH146) -> 124 | AQJ5: =SUM(AQJ7:AQJ146,AQL7:AQL146) -> 124 | AQN5: =SUM(AQN7:AQN146,AQP7:AQP146) -> 124 | AQR5: =SUM(AQR7:AQR146,AQT7:AQT146) -> 124 | AQV5: =SUM(AQV7:AQV146,AQX7:AQX146) -> 124 | AQZ5: =SUM(AQZ7:AQZ146,ARB7:ARB146) -> 124 | ARD5: =SUM(ARD7:ARD146) -> 744 | ARH5: =SUM(ARH7:ARH146,ARJ7:ARJ146) -> 124 | ARL5: =SUM(ARL7:ARL146,ARN7:ARN146) -> 124 | ARP5: =SUM(ARP7:ARP146,ARR7:ARR146) -> 124 | ART5: =SUM(ART7:ART146,ARV7:ARV146) -> 124 | ARX5: =SUM(ARX7:ARX146,ARZ7:ARZ146) -> 124 | ASB5: =SUM(ASB7:ASB146,ASD7:ASD146) -> 124 | ASF5: =SUM(ASF7:ASF146) -> 744 | ASJ5: =SUM(ASJ7:ASJ146,ASL7:ASL146) -> 124 | ASN5: =SUM(ASN7:ASN146,ASP7:ASP146) -> 124 | ASR5: =SUM(ASR7:ASR146,AST7:AST146) -> 124 | ASV5: =SUM(ASV7:ASV146,ASX7:ASX146) -> 124 | ASZ5: =SUM(ASZ7:ASZ146,ATB7:ATB146) -> 124 | ATD5: =SUM(ATD7:ATD146,ATF7:ATF146) -> 124 | ATH5: =SUM(ATH7:ATH146) -> 744 | ATL5: =SUM(ATL7:ATL146,ATN7:ATN146) -> 124 | ATP5: =SUM(ATP7:ATP146,ATR7:ATR146) -> 124 | ATT5: =SUM(ATT7:ATT146,ATV7:ATV146) -> 124 | ATX5: =SUM(ATX7:ATX146,ATZ7:ATZ146) -> 124 | AUB5: =SUM(AUB7:AUB146,AUD7:AUD146) -> 124 | AUF5: =SUM(AUF7:AUF146,AUH7:AUH146) -> 124 | AUJ5: =SUM(AUJ7:AUJ146) -> 744 | AUN5: =SUM(AUN7:AUN146,AUP7:AUP146) -> 124 | AUR5: =SUM(AUR7:AUR146,AUT7:AUT146) -> 124 | AUV5: =SUM(AUV7:AUV146,AUX7:AUX146) -> 124 | AUZ5: =SUM(AUZ7:AUZ146,AVB7:AVB146) -> 124 | AVD5: =SUM(AVD7:AVD146,AVF7:AVF146) -> 124 | AVH5: =SUM(AVH7:AVH146,AVJ7:AVJ146) -> 124 | AVL5: =SUM(AVL7:AVL146) -> 744 | AVP5: =SUM(AVP7:AVP146,AVR7:AVR146) -> 124 | AVT5: =SUM(AVT7:AVT146,AVV7:AVV146) -> 124 | AVX5: =SUM(AVX7:AVX146,AVZ7:AVZ146) -> 124 | AWB5: =SUM(AWB7:AWB146,AWD7:AWD146) -> 124 | AWF5: =SUM(AWF7:AWF146,AWH7:AWH146) -> 124 | AWJ5: =SUM(AWJ7:AWJ146,AWL7:AWL146) -> 124 | AWN5: =SUM(AWN7:AWN146) -> 744 | AWR5: =SUM(AWR7:AWR146,AWT7:AWT146) -> 124 | AWV5: =SUM(AWV7:AWV146,AWX7:AWX146) -> 124 | AWZ5: =SUM(AWZ7:AWZ146,AXB7:AXB146) -> 124 | AXD5: =SUM(AXD7:AXD146,AXF7:AXF146) -> 124 | AXH5: =SUM(AXH7:AXH146,AXJ7:AXJ146) -> 124 | AXL5: =SUM(AXL7:AXL146,AXN7:AXN146) -> 124 | AXP5: =SUM(AXP7:AXP146) -> 744 | AXT5: =SUM(AXT7:AXT146,AXV7:AXV146) -> 124 | AXX5: =SUM(AXX7:AXX146,AXZ7:AXZ146) -> 124 | AYB5: =SUM(AYB7:AYB146,AYD7:AYD146) -> 124 | AYF5: =SUM(AYF7:AYF146,AYH7:AYH146) -> 124 | AYJ5: =SUM(AYJ7:AYJ146,AYL7:AYL146) -> 124 | AYN5: =SUM(AYN7:AYN146,AYP7:AYP146) -> 124 | AYR5: =SUM(AYR7:AYR146) -> 744 | AYV5: =SUM(AYV7:AYV146,AYX7:AYX146) -> 124 | AYZ5: =SUM(AYZ7:AYZ146,AZB7:AZB146) -> 124 | AZD5: =SUM(AZD7:AZD146,AZF7:AZF146) -> 124 | AZH5: =SUM(AZH7:AZH146,AZJ7:AZJ146) -> 124 | AZL5: =SUM(AZL7:AZL146,AZN7:AZN146) -> 124 | AZP5: =SUM(AZP7:AZP146,AZR7:AZR146) -> 124 | AZT5: =SUM(AZT7:AZT146) -> 744 | AZX5: =SUM(AZX7:AZX146,AZZ7:AZZ146) -> 124 | BAB5: =SUM(BAB7:BAB146,BAD7:BAD146) -> 124 | BAF5: =SUM(BAF7:BAF146,BAH7:BAH146) -> 124 | BAJ5: =SUM(BAJ7:BAJ146,BAL7:BAL146) -> 124 | BAN5: =SUM(BAN7:BAN146,BAP7:BAP146) -> 124 | BAR5: =SUM(BAR7:BAR146,BAT7:BAT146) -> 124 | BAV5: =SUM(BAV7:BAV146) -> 744 | BAZ5: =SUM(BAZ7:BAZ146,BBB7:BBB146) -> 124 | BBD5: =SUM(BBD7:BBD146,BBF7:BBF146) -> 124 | BBH5: =SUM(BBH7:BBH146,BBJ7:BBJ146) -> 124 | BBL5: =SUM(BBL7:BBL146,BBN7:BBN146) -> 124 | BBP5: =SUM(BBP7:BBP146,BBR7:BBR146) -> 124 | BBT5: =SUM(BBT7:BBT146,BBV7:BBV146) -> 124 | BBX5: =SUM(BBX7:BBX146) -> 744 | BCB5: =SUM(BCB7:BCB146,BCD7:BCD146) -> 124 | BCF5: =SUM(BCF7:BCF146,BCH7:BCH146) -> 124 | BCJ5: =SUM(BCJ7:BCJ146,BCL7:BCL146) -> 124 | BCN5: =SUM(BCN7:BCN146,BCP7:BCP146) -> 124 | BCR5: =SUM(BCR7:BCR146,BCT7:BCT146) -> 124 | BCV5: =SUM(BCV7:BCV146,BCX7:BCX146) -> 124 | BCZ5: =SUM(BCZ7:BCZ146) -> 744 | BDD5: =SUM(BDD7:BDD146,BDF7:BDF146) -> 0 | BDH5: =SUM(BDH7:BDH146,BDJ7:BDJ146) -> 0 | BDL5: =SUM(BDL7:BDL146,BDN7:BDN146) -> 0 | BDP5: =SUM(BDP7:BDP146,BDR7:BDR146) -> 0 | BDT5: =SUM(BDT7:BDT146,BDV7:BDV146) -> 0 | BDX5: =SUM(BDX7:BDX146,BDZ7:BDZ146) -> 0 | BEB5: =SUM(BEB7:BEB146) -> 0
A6: Service: | B6: NOM | C6: Prénom | D6: Nb. H | E6: Tâche : | F6: Nb. H: | G6: Tâche :2 | H6: Nb. H3 | I6: Tâche :4 | J6: Nb. H:5 | K6: Tâche :6 | L6: Nb. H7 | M6: Tâche :8 | N6: Nb. H:9 | O6: Tâche :10 | P6: Nb. H11 | Q6: Tâche :12 | R6: Nb. H:13 | S6: Tâche :14 | T6: Nb. H15 | U6: Tâche :16 | V6: Nb. H:17 | W6: Tâche :18 | X6: Nb. H19 | Y6: Tâche :20 | Z6: Nb. H:21 | AA6: Tâche :22 | AB6: Colonne23 | AC6: Colonne24 | AD6: Colonne25 | AE6: Colonne26 | AF6: Nb. H27 | AG6: Tâche :28 | AH6: Nb. H:29 | AI6: Tâche :30 | AJ6: Nb. H31 | AK6: Tâche :32 | AL6: Nb. H:33 | AM6: Tâche :34 | AN6: Nb. H35 | AO6: Tâche :36 | AP6: Nb. H:37 | AQ6: Tâche :38 | AR6: Nb. H39 | AS6: Tâche :40 | AT6: Nb. H:41 | AU6: Tâche :42 | AV6: Nb. H43 | AW6: Tâche :44 | AX6: Nb. H:45 | AY6: Tâche :46 | AZ6: Nb. H47 | BA6: Tâche :48 | BB6: Nb. H:49 | BC6: Tâche :50 | BD6: Colonne51 | BE6: Colonne52 | BF6: Colonne53 | BG6: Colonne54 | BH6: Nb. H55 | BI6: Tâche :56 | BJ6: Nb. H:57 | BK6: Tâche :58 | BL6: Nb. H59 | BM6: Tâche :60 | BN6: Nb. H:61 | BO6: Tâche :62 | BP6: Nb. H63 | BQ6: Tâche :64 | BR6: Nb. H:65 | BS6: Tâche :66 | BT6: Nb. H67 | BU6: Tâche :68 | BV6: Nb. H:69 | BW6: Tâche :70 | BX6: Nb. H71 | BY6: Tâche :72 | BZ6: Nb. H:73 | CA6: Tâche :74 | CB6: Nb. H75 | CC6: Tâche :76 | CD6: Nb. H:77 | CE6: Tâche :78 | CF6: Colonne79 | CG6: Colonne80 | CH6: Colonne81 | CI6: Colonne82 | CJ6: Nb. H83 | CK6: Tâche :84 | CL6: Nb. H:85 | CM6: Tâche :86 | CN6: Nb. H87 | CO6: Tâche :88 | CP6: Nb. H:89 | CQ6: Tâche :90 | CR6: Nb. H91 | CS6: Tâche :92 | CT6: Nb. H:93 | CU6: Tâche :94 | CV6: Nb. H95 | CW6: Tâche :96 | CX6: Nb. H:97 | CY6: Tâche :98 | CZ6: Nb. H99 | DA6: Tâche :100 | DB6: Nb. H:101 | DC6: Tâche :102 | DD6: Nb. H103 | DE6: Tâche :104 | DF6: Nb. H:105 | DG6: Tâche :106 | DH6: Colonne107 | DI6: Colonne108 | DJ6: Colonne109 | DK6: Colonne110 | DL6: Nb. H111 | DM6: Tâche :112 | DN6: Nb. H:113 | DO6: Tâche :114 | DP6: Nb. H115 | DQ6: Tâche :116 | DR6: Nb. H:117 | DS6: Tâche :118 | DT6: Nb. H119 | DU6: Tâche :120 | DV6: Nb. H:121 | DW6: Tâche :122 | DX6: Nb. H123 | DY6: Tâche :124 | DZ6: Nb. H:125 | EA6: Tâche :126 | EB6: Nb. H127 | EC6: Tâche :128 | ED6: Nb. H:129 | EE6: Tâche :130 | EF6: Nb. H131 | EG6: Tâche :132 | EH6: Nb. H:133 | EI6: Tâche :134 | EJ6: Colonne135 | EK6: Colonne136 | EL6: Colonne137 | EM6: Colonne138 | EN6: Nb. H139 | EO6: Tâche :140 | EP6: Nb. H:141 | EQ6: Tâche :142 | ER6: Nb. H143 | ES6: Tâche :144 | ET6: Nb. H:145 | EU6: Tâche :146 | EV6: Nb. H147 | EW6: Tâche :148 | EX6: Nb. H:149 | EY6: Tâche :150 | EZ6: Nb. H151 | FA6: Tâche :152 | FB6: Nb. H:153 | FC6: Tâche :154 | FD6: Nb. H155 | FE6: Tâche :156 | FF6: Nb. H:157 | FG6: Tâche :158 | FH6: Nb. H159 | FI6: Tâche :160 | FJ6: Nb. H:161 | FK6: Tâche :162 | FL6: Colonne163 | FM6: Colonne164 | FN6: Colonne165 | FO6: Colonne166 | FP6: Nb. H167 | FQ6: Tâche :168 | FR6: Nb. H:169 | FS6: Tâche :170 | FT6: Nb. H171 | FU6: Tâche :172 | FV6: Nb. H:173 | FW6: Tâche :174 | FX6: Nb. H175 | FY6: Tâche :176 | FZ6: Nb. H:177 | GA6: Tâche :178 | GB6: Nb. H179 | GC6: Tâche :180 | GD6: Nb. H:181 | GE6: Tâche :182 | GF6: Nb. H183 | GG6: Tâche :184 | GH6: Nb. H:185 | GI6: Tâche :186 | GJ6: Nb. H187 | GK6: Tâche :188 | GL6: Nb. H:189 | GM6: Tâche :190 | GN6: Colonne191 | GO6: Colonne192 | GP6: Colonne193 | GQ6: Colonne194 | GR6: Nb. H195 | GS6: Tâche :196 | GT6: Nb. H:197 | GU6: Tâche :198 | GV6: Nb. H199 | GW6: Tâche :200 | GX6: Nb. H:201 | GY6: Tâche :202 | GZ6: Nb. H203 | HA6: Tâche :204 | HB6: Nb. H:205 | HC6: Tâche :206 | HD6: Nb. H207 | HE6: Tâche :208 | HF6: Nb. H:209 | HG6: Tâche :210 | HH6: Nb. H211 | HI6: Tâche :212 | HJ6: Nb. H:213 | HK6: Tâche :214 | HL6: Nb. H215 | HM6: Tâche :216 | HN6: Nb. H:217 | HO6: Tâche :218 | HP6: Colonne219 | HQ6: Colonne220 | HR6: Colonne221 | HS6: Colonne222 | HT6: Nb. H223 | HU6: Tâche :224 | HV6: Nb. H:225 | HW6: Tâche :226 | HX6: Nb. H227 | HY6: Tâche :228 | HZ6: Nb. H:229 | IA6: Tâche :230 | IB6: Nb. H231 | IC6: Tâche :232 | ID6: Nb. H:233 | IE6: Tâche :234 | IF6: Nb. H235 | IG6: Tâche :236 | IH6: Nb. H:237 | II6: Tâche :238 | IJ6: Nb. H239 | IK6: Tâche :240 | IL6: Nb. H:241 | IM6: Tâche :242 | IN6: Nb. H243 | IO6: Tâche :244 | IP6: Nb. H:245 | IQ6: Tâche :246 | IR6: Colonne247 | IS6: Colonne248 | IT6: Colonne249 | IU6: Colonne250 | IV6: Nb. H251 | IW6: Tâche :252 | IX6: Nb. H:253 | IY6: Tâche :254 | IZ6: Nb. H255 | JA6: Tâche :256 | JB6: Nb. H:257 | JC6: Tâche :258 | JD6: Nb. H259 | JE6: Tâche :260 | JF6: Nb. H:261 | JG6: Tâche :262 | JH6: Nb. H263 | JI6: Tâche :264 | JJ6: Nb. H:265 | JK6: Tâche :266 | JL6: Nb. H267 | JM6: Tâche :268 | JN6: Nb. H:269 | JO6: Tâche :270 | JP6: Nb. H271 | JQ6: Tâche :272 | JR6: Nb. H:273 | JS6: Tâche :274 | JT6: Colonne275 | JU6: Colonne276 | JV6: Colonne277 | JW6: Colonne278 | JX6: Nb. H279 | JY6: Tâche :280 | JZ6: Nb. H:281 | KA6: Tâche :282 | KB6: Nb. H283 | KC6: Tâche :284 | KD6: Nb. H:285 | KE6: Tâche :286 | KF6: Nb. H287 | KG6: Tâche :288 | KH6: Nb. H:289 | KI6: Tâche :290 | KJ6: Nb. H291 | KK6: Tâche :292 | KL6: Nb. H:293 | KM6: Tâche :294 | KN6: Nb. H295 | KO6: Tâche :296 | KP6: Nb. H:297 | KQ6: Tâche :298 | KR6: Nb. H299 | KS6: Tâche :300 | KT6: Nb. H:301 | KU6: Tâche :302 | KV6: Colonne303 | KW6: Colonne304 | KX6: Colonne305 | KY6: Colonne306 | KZ6: Nb. H307 | LA6: Tâche :308 | LB6: Nb. H:309 | LC6: Tâche :310 | LD6: Nb. H311 | LE6: Tâche :312 | LF6: Nb. H:313 | LG6: Tâche :314 | LH6: Nb. H315 | LI6: Tâche :316 | LJ6: Nb. H:317 | LK6: Tâche :318 | LL6: Nb. H319 | LM6: Tâche :320 | LN6: Nb. H:321 | LO6: Tâche :322 | LP6: Nb. H323 | LQ6: Tâche :324 | LR6: Nb. H:325 | LS6: Tâche :326 | LT6: Nb. H327 | LU6: Tâche :328 | LV6: Nb. H:329 | LW6: Tâche :330 | LX6: Colonne331 | LY6: Colonne332 | LZ6: Colonne333 | MA6: Colonne334 | MB6: Nb. H335 | MC6: Tâche :336 | MD6: Nb. H:337 | ME6: Tâche :338 | MF6: Nb. H339 | MG6: Tâche :340 | MH6: Nb. H:341 | MI6: Tâche :342 | MJ6: Nb. H343 | MK6: Tâche :344 | ML6: Nb. H:345 | MM6: Tâche :346 | MN6: Nb. H347 | MO6: Tâche :348 | MP6: Nb. H:349 | MQ6: Tâche :350 | MR6: Nb. H351 | MS6: Tâche :352 | MT6: Nb. H:353 | MU6: Tâche :354 | MV6: Nb. H355 | MW6: Tâche :356 | MX6: Nb. H:357 | MY6: Tâche :358 | MZ6: Colonne359 | NA6: Colonne360 | NB6: Colonne361 | NC6: Colonne362 | ND6: Nb. H363 | NE6: Tâche :364 | NF6: Nb. H:365 | NG6: Tâche :366 | NH6: Nb. H367 | NI6: Tâche :368 | NJ6: Nb. H:369 | NK6: Tâche :370 | NL6: Nb. H371 | NM6: Tâche :372 | NN6: Nb. H:373 | NO6: Tâche :374 | NP6: Nb. H375 | NQ6: Tâche :376 | NR6: Nb. H:377 | NS6: Tâche :378 | NT6: Nb. H379 | NU6: Tâche :380 | NV6: Nb. H:381 | NW6: Tâche :382 | NX6: Nb. H383 | NY6: Tâche :384 | NZ6: Nb. H:385 | OA6: Tâche :386 | OB6: Colonne387 | OC6: Colonne388 | OD6: Colonne389 | OE6: Colonne390 | OF6: Nb. H391 | OG6: Tâche :392 | OH6: Nb. H:393 | OI6: Tâche :394 | OJ6: Nb. H395 | OK6: Tâche :396 | OL6: Nb. H:397 | OM6: Tâche :398 | ON6: Nb. H399 | OO6: Tâche :400 | OP6: Nb. H:401 | OQ6: Tâche :402 | OR6: Nb. H403 | OS6: Tâche :404 | OT6: Nb. H:405 | OU6: Tâche :406 | OV6: Nb. H407 | OW6: Tâche :408 | OX6: Nb. H:409 | OY6: Tâche :410 | OZ6: Nb. H411 | PA6: Tâche :412 | PB6: Nb. H:413 | PC6: Tâche :414 | PD6: Colonne415 | PE6: Colonne416 | PF6: Colonne417 | PG6: Colonne418 | PH6: Nb. H419 | PI6: Tâche :420 | PJ6: Nb. H:421 | PK6: Tâche :422 | PL6: Nb. H423 | PM6: Tâche :424 | PN6: Nb. H:425 | PO6: Tâche :426 | PP6: Nb. H427 | PQ6: Tâche :428 | PR6: Nb. H:429 | PS6: Tâche :430 | PT6: Nb. H431 | PU6: Tâche :432 | PV6: Nb. H:433 | PW6: Tâche :434 | PX6: Nb. H435 | PY6: Tâche :436 | PZ6: Nb. H:437 | QA6: Tâche :438 | QB6: Nb. H439 | QC6: Tâche :440 | QD6: Nb. H:441 | QE6: Tâche :442 | QF6: Colonne443 | QG6: Colonne444 | QH6: Colonne445 | QI6: Colonne446 | QJ6: Nb. H447 | QK6: Tâche :448 | QL6: Nb. H:449 | QM6: Tâche :450 | QN6: Nb. H451 | QO6: Tâche :452 | QP6: Nb. H:453 | QQ6: Tâche :454 | QR6: Nb. H455 | QS6: Tâche :456 | QT6: Nb. H:457 | QU6: Tâche :458 | QV6: Nb. H459 | QW6: Tâche :460 | QX6: Nb. H:461 | QY6: Tâche :462 | QZ6: Nb. H463 | RA6: Tâche :464 | RB6: Nb. H:465 | RC6: Tâche :466 | RD6: Nb. H467 | RE6: Tâche :468 | RF6: Nb. H:469 | RG6: Tâche :470 | RH6: Colonne471 | RI6: Colonne472 | RJ6: Colonne473 | RK6: Colonne474 | RL6: Nb. H475 | RM6: Tâche :476 | RN6: Nb. H:477 | RO6: Tâche :478 | RP6: Nb. H479 | RQ6: Tâche :480 | RR6: Nb. H:481 | RS6: Tâche :482 | RT6: Nb. H483 | RU6: Tâche :484 | RV6: Nb. H:485 | RW6: Tâche :486 | RX6: Nb. H487 | RY6: Tâche :488 | RZ6: Nb. H:489 | SA6: Tâche :490 | SB6: Nb. H491 | SC6: Tâche :492 | SD6: Nb. H:493 | SE6: Tâche :494 | SF6: Nb. H495 | SG6: Tâche :496 | SH6: Nb. H:497 | SI6: Tâche :498 | SJ6: Colonne499 | SK6: Colonne500 | SL6: Colonne501 | SM6: Colonne502 | SN6: Nb. H503 | SO6: Tâche :504 | SP6: Nb. H:505 | SQ6: Tâche :506 | SR6: Nb. H507 | SS6: Tâche :508 | ST6: Nb. H:509 | SU6: Tâche :510 | SV6: Nb. H511 | SW6: Tâche :512 | SX6: Nb. H:513 | SY6: Tâche :514 | SZ6: Nb. H515 | TA6: Tâche :516 | TB6: Nb. H:517 | TC6: Tâche :518 | TD6: Nb. H519 | TE6: Tâche :520 | TF6: Nb. H:521 | TG6: Tâche :522 | TH6: Nb. H523 | TI6: Tâche :524 | TJ6: Nb. H:525 | TK6: Tâche :526 | TL6: Colonne527 | TM6: Colonne528 | TN6: Colonne529 | TO6: Colonne530 | TP6: Nb. H531 | TQ6: Tâche :532 | TR6: Nb. H:533 | TS6: Tâche :534 | TT6: Nb. H535 | TU6: Tâche :536 | TV6: Nb. H:537 | TW6: Tâche :538 | TX6: Nb. H539 | TY6: Tâche :540 | TZ6: Nb. H:541 | UA6: Tâche :542 | UB6: Nb. H543 | UC6: Tâche :544 | UD6: Nb. H:545 | UE6: Tâche :546 | UF6: Nb. H547 | UG6: Tâche :548 | UH6: Nb. H:549 | UI6: Tâche :550 | UJ6: Nb. H551 | UK6: Tâche :552 | UL6: Nb. H:553 | UM6: Tâche :554 | UN6: Colonne555 | UO6: Colonne556 | UP6: Colonne557 | UQ6: Colonne558 | UR6: Nb. H559 | US6: Tâche :560 | UT6: Nb. H:561 | UU6: Tâche :562 | UV6: Nb. H563 | UW6: Tâche :564 | UX6: Nb. H:565 | UY6: Tâche :566 | UZ6: Nb. H567 | VA6: Tâche :568 | VB6: Nb. H:569 | VC6: Tâche :570 | VD6: Nb. H571 | VE6: Tâche :572 | VF6: Nb. H:573 | VG6: Tâche :574 | VH6: Nb. H575 | VI6: Tâche :576 | VJ6: Nb. H:577 | VK6: Tâche :578 | VL6: Nb. H579 | VM6: Tâche :580 | VN6: Nb. H:581 | VO6: Tâche :582 | VP6: Colonne583 | VQ6: Colonne584 | VR6: Colonne585 | VS6: Colonne586 | VT6: Nb. H587 | VU6: Tâche :588 | VV6: Nb. H:589 | VW6: Tâche :590 | VX6: Nb. H591 | VY6: Tâche :592 | VZ6: Nb. H:593 | WA6: Tâche :594 | WB6: Nb. H595 | WC6: Tâche :596 | WD6: Nb. H:597 | WE6: Tâche :598 | WF6: Nb. H599 | WG6: Tâche :600 | WH6: Nb. H:601 | WI6: Tâche :602 | WJ6: Nb. H603 | WK6: Tâche :604 | WL6: Nb. H:605 | WM6: Tâche :606 | WN6: Nb. H607 | WO6: Tâche :608 | WP6: Nb. H:609 | WQ6: Tâche :610 | WR6: Colonne611 | WS6: Colonne612 | WT6: Colonne613 | WU6: Colonne614 | WV6: Nb. H615 | WW6: Tâche :616 | WX6: Nb. H:617 | WY6: Tâche :618 | WZ6: Nb. H619 | XA6: Tâche :620 | XB6: Nb. H:621 | XC6: Tâche :622 | XD6: Nb. H623 | XE6: Tâche :624 | XF6: Nb. H:625 | XG6: Tâche :626 | XH6: Nb. H627 | XI6: Tâche :628 | XJ6: Nb. H:629 | XK6: Tâche :630 | XL6: Nb. H631 | XM6: Tâche :632 | XN6: Nb. H:633 | XO6: Tâche :634 | XP6: Nb. H635 | XQ6: Tâche :636 | XR6: Nb. H:637 | XS6: Tâche :638 | XT6: Colonne639 | XU6: Colonne640 | XV6: Colonne641 | XW6: Colonne642 | XX6: Nb. H643 | XY6: Tâche :644 | XZ6: Nb. H:645 | YA6: Tâche :646 | YB6: Nb. H647 | YC6: Tâche :648 | YD6: Nb. H:649 | YE6: Tâche :650 | YF6: Nb. H651 | YG6: Tâche :652 | YH6: Nb. H:653 | YI6: Tâche :654 | YJ6: Nb. H655 | YK6: Tâche :656 | YL6: Nb. H:657 | YM6: Tâche :658 | YN6: Nb. H659 | YO6: Tâche :660 | YP6: Nb. H:661 | YQ6: Tâche :662 | YR6: Nb. H663 | YS6: Tâche :664 | YT6: Nb. H:665 | YU6: Tâche :666 | YV6: Colonne667 | YW6: Colonne668 | YX6: Colonne669 | YY6: Colonne670 | YZ6: Nb. H671 | ZA6: Tâche :672 | ZB6: Nb. H:673 | ZC6: Tâche :674 | ZD6: Nb. H675 | ZE6: Tâche :676 | ZF6: Nb. H:677 | ZG6: Tâche :678 | ZH6: Nb. H679 | ZI6: Tâche :680 | ZJ6: Nb. H:681 | ZK6: Tâche :682 | ZL6: Nb. H683 | ZM6: Tâche :684 | ZN6: Nb. H:685 | ZO6: Tâche :686 | ZP6: Nb. H687 | ZQ6: Tâche :688 | ZR6: Nb. H:689 | ZS6: Tâche :690 | ZT6: Nb. H691 | ZU6: Tâche :692 | ZV6: Nb. H:693 | ZW6: Tâche :694 | ZX6: Colonne695 | ZY6: Colonne696 | ZZ6: Colonne697 | AAA6: Colonne698 | AAB6: Nb. H699 | AAC6: Tâche :700 | AAD6: Nb. H:701 | AAE6: Tâche :702 | AAF6: Nb. H703 | AAG6: Tâche :704 | AAH6: Nb. H:705 | AAI6: Tâche :706 | AAJ6: Nb. H707 | AAK6: Tâche :708 | AAL6: Nb. H:709 | AAM6: Tâche :710 | AAN6: Nb. H711 | AAO6: Tâche :712 | AAP6: Nb. H:713 | AAQ6: Tâche :714 | AAR6: Nb. H715 | AAS6: Tâche :716 | AAT6: Nb. H:717 | AAU6: Tâche :718 | AAV6: Nb. H719 | AAW6: Tâche :720 | AAX6: Nb. H:721 | AAY6: Tâche :722 | AAZ6: Colonne723 | ABA6: Colonne724 | ABB6: Colonne725 | ABC6: Colonne726 | ABD6: Nb. H727 | ABE6: Tâche :728 | ABF6: Nb. H:729 | ABG6: Tâche :730 | ABH6: Nb. H731 | ABI6: Tâche :732 | ABJ6: Nb. H:733 | ABK6: Tâche :734 | ABL6: Nb. H735 | ABM6: Tâche :736 | ABN6: Nb. H:737 | ABO6: Tâche :738 | ABP6: Nb. H739 | ABQ6: Tâche :740 | ABR6: Nb. H:741 | ABS6: Tâche :742 | ABT6: Nb. H743 | ABU6: Tâche :744 | ABV6: Nb. H:745 | ABW6: Tâche :746 | ABX6: Nb. H747 | ABY6: Tâche :748 | ABZ6: Nb. H:749 | ACA6: Tâche :750 | ACB6: Colonne751 | ACC6: Colonne752 | ACD6: Colonne753 | ACE6: Colonne754 | ACF6: Nb. H755 | ACG6: Tâche :756 | ACH6: Nb. H:757 | ACI6: Tâche :758 | ACJ6: Nb. H759 | ACK6: Tâche :760 | ACL6: Nb. H:761 | ACM6: Tâche :762 | ACN6: Nb. H763 | ACO6: Tâche :764 | ACP6: Nb. H:765 | ACQ6: Tâche :766 | ACR6: Nb. H767 | ACS6: Tâche :768 | ACT6: Nb. H:769 | ACU6: Tâche :770 | ACV6: Nb. H771 | ACW6: Tâche :772 | ACX6: Nb. H:773 | ACY6: Tâche :774 | ACZ6: Nb. H775 | ADA6: Tâche :776 | ADB6: Nb. H:777 | ADC6: Tâche :778 | ADD6: Colonne779 | ADE6: Colonne780 | ADF6: Colonne781 | ADG6: Colonne782 | ADH6: Nb. H783 | ADI6: Tâche :784 | ADJ6: Nb. H:785 | ADK6: Tâche :786 | ADL6: Nb. H787 | ADM6: Tâche :788 | ADN6: Nb. H:789 | ADO6: Tâche :790 | ADP6: Nb. H791 | ADQ6: Tâche :792 | ADR6: Nb. H:793 | ADS6: Tâche :794 | ADT6: Nb. H795 | ADU6: Tâche :796 | ADV6: Nb. H:797 | ADW6: Tâche :798 | ADX6: Nb. H799 | ADY6: Tâche :800 | ADZ6: Nb. H:801 | AEA6: Tâche :802 | AEB6: Nb. H803 | AEC6: Tâche :804 | AED6: Nb. H:805 | AEE6: Tâche :806 | AEF6: Colonne807 | AEG6: Colonne808 | AEH6: Colonne809 | AEI6: Colonne810 | AEJ6: Nb. H811 | AEK6: Tâche :812 | AEL6: Nb. H:813 | AEM6: Tâche :814 | AEN6: Nb. H815 | AEO6: Tâche :816 | AEP6: Nb. H:817 | AEQ6: Tâche :818 | AER6: Nb. H819 | AES6: Tâche :820 | AET6: Nb. H:821 | AEU6: Tâche :822 | AEV6: Nb. H823 | AEW6: Tâche :824 | AEX6: Nb. H:825 | AEY6: Tâche :826 | AEZ6: Nb. H827 | AFA6: Tâche :828 | AFB6: Nb. H:829 | AFC6: Tâche :830 | AFD6: Nb. H831 | AFE6: Tâche :832 | AFF6: Nb. H:833 | AFG6: Tâche :834 | AFH6: Colonne835 | AFI6: Colonne836 | AFJ6: Colonne837 | AFK6: Colonne838 | AFL6: Nb. H839 | AFM6: Tâche :840 | AFN6: Nb. H:841 | AFO6: Tâche :842 | AFP6: Nb. H843 | AFQ6: Tâche :844 | AFR6: Nb. H:845 | AFS6: Tâche :846 | AFT6: Nb. H847 | AFU6: Tâche :848 | AFV6: Nb. H:849 | AFW6: Tâche :850 | AFX6: Nb. H851 | AFY6: Tâche :852 | AFZ6: Nb. H:853 | AGA6: Tâche :854 | AGB6: Nb. H855 | AGC6: Tâche :856 | AGD6: Nb. H:857 | AGE6: Tâche :858 | AGF6: Nb. H859 | AGG6: Tâche :860 | AGH6: Nb. H:861 | AGI6: Tâche :862 | AGJ6: Colonne863 | AGK6: Colonne864 | AGL6: Colonne865 | AGM6: Colonne866 | AGN6: Nb. H867 | AGO6: Tâche :868 | AGP6: Nb. H:869 | AGQ6: Tâche :870 | AGR6: Nb. H871 | AGS6: Tâche :872 | AGT6: Nb. H:873 | AGU6: Tâche :874 | AGV6: Nb. H875 | AGW6: Tâche :876 | AGX6: Nb. H:877 | AGY6: Tâche :878 | AGZ6: Nb. H879 | AHA6: Tâche :880 | AHB6: Nb. H:881 | AHC6: Tâche :882 | AHD6: Nb. H883 | AHE6: Tâche :884 | AHF6: Nb. H:885 | AHG6: Tâche :886 | AHH6: Nb. H887 | AHI6: Tâche :888 | AHJ6: Nb. H:889 | AHK6: Tâche :890 | AHL6: Colonne891 | AHM6: Colonne892 | AHN6: Colonne893 | AHO6: Colonne894 | AHP6: Nb. H895 | AHQ6: Tâche :896 | AHR6: Nb. H:897 | AHS6: Tâche :898 | AHT6: Nb. H899 | AHU6: Tâche :900 | AHV6: Nb. H:901 | AHW6: Tâche :902 | AHX6: Nb. H903 | AHY6: Tâche :904 | AHZ6: Nb. H:905 | AIA6: Tâche :906 | AIB6: Nb. H907 | AIC6: Tâche :908 | AID6: Nb. H:909 | AIE6: Tâche :910 | AIF6: Nb. H911 | AIG6: Tâche :912 | AIH6: Nb. H:913 | AII6: Tâche :914 | AIJ6: Nb. H915 | AIK6: Tâche :916 | AIL6: Nb. H:917 | AIM6: Tâche :918 | AIN6: Colonne919 | AIO6: Colonne920 | AIP6: Colonne921 | AIQ6: Colonne922 | AIR6: Nb. H923 | AIS6: Tâche :924 | AIT6: Nb. H:925 | AIU6: Tâche :926 | AIV6: Nb. H927 | AIW6: Tâche :928 | AIX6: Nb. H:929 | AIY6: Tâche :930 | AIZ6: Nb. H931 | AJA6: Tâche :932 | AJB6: Nb. H:933 | AJC6: Tâche :934 | AJD6: Nb. H935 | AJE6: Tâche :936 | AJF6: Nb. H:937 | AJG6: Tâche :938 | AJH6: Nb. H939 | AJI6: Tâche :940 | AJJ6: Nb. H:941 | AJK6: Tâche :942 | AJL6: Nb. H943 | AJM6: Tâche :944 | AJN6: Nb. H:945 | AJO6: Tâche :946 | AJP6: Colonne947 | AJQ6: Colonne948 | AJR6: Colonne949 | AJS6: Colonne950 | AJT6: Nb. H951 | AJU6: Tâche :952 | AJV6: Nb. H:953 | AJW6: Tâche :954 | AJX6: Nb. H955 | AJY6: Tâche :956 | AJZ6: Nb. H:957 | AKA6: Tâche :958 | AKB6: Nb. H959 | AKC6: Tâche :960 | AKD6: Nb. H:961 | AKE6: Tâche :962 | AKF6: Nb. H963 | AKG6: Tâche :964 | AKH6: Nb. H:965 | AKI6: Tâche :966 | AKJ6: Nb. H967 | AKK6: Tâche :968 | AKL6: Nb. H:969 | AKM6: Tâche :970 | AKN6: Nb. H971 | AKO6: Tâche :972 | AKP6: Nb. H:973 | AKQ6: Tâche :974 | AKR6: Colonne975 | AKS6: Colonne976 | AKT6: Colonne977 | AKU6: Colonne978 | AKV6: Nb. H979 | AKW6: Tâche :980 | AKX6: Nb. H:981 | AKY6: Tâche :982 | AKZ6: Nb. H983 | ALA6: Tâche :984 | ALB6: Nb. H:985 | ALC6: Tâche :986 | ALD6: Nb. H987 | ALE6: Tâche :988 | ALF6: Nb. H:989 | ALG6: Tâche :990 | ALH6: Nb. H991 | ALI6: Tâche :992 | ALJ6: Nb. H:993 | ALK6: Tâche :994 | ALL6: Nb. H995 | ALM6: Tâche :996 | ALN6: Nb. H:997 | ALO6: Tâche :998 | ALP6: Nb. H999 | ALQ6: Tâche :1000 | ALR6: Nb. H:1001 | ALS6: Tâche :1002 | ALT6: Colonne1003 | ALU6: Colonne1004 | ALV6: Colonne1005 | ALW6: Colonne1006 | ALX6: Nb. H1007 | ALY6: Tâche :1008 | ALZ6: Nb. H:1009 | AMA6: Tâche :1010 | AMB6: Nb. H1011 | AMC6: Tâche :1012 | AMD6: Nb. H:1013 | AME6: Tâche :1014 | AMF6: Nb. H1015 | AMG6: Tâche :1016 | AMH6: Nb. H:1017 | AMI6: Tâche :1018 | AMJ6: Nb. H1019 | AMK6: Tâche :1020 | AML6: Nb. H:1021 | AMM6: Tâche :1022 | AMN6: Nb. H1023 | AMO6: Tâche :1024 | AMP6: Nb. H:1025 | AMQ6: Tâche :1026 | AMR6: Nb. H1027 | AMS6: Tâche :1028 | AMT6: Nb. H:1029 | AMU6: Tâche :1030 | AMV6: Colonne1031 | AMW6: Colonne1032 | AMX6: Colonne1033 | AMY6: Colonne1034 | AMZ6: Nb. H1035 | ANA6: Tâche :1036 | ANB6: Nb. H:1037 | ANC6: Tâche :1038 | AND6: Nb. H1039 | ANE6: Tâche :1040 | ANF6: Nb. H:1041 | ANG6: Tâche :1042 | ANH6: Nb. H1043 | ANI6: Tâche :1044 | ANJ6: Nb. H:1045 | ANK6: Tâche :1046 | ANL6: Nb. H1047 | ANM6: Tâche :1048 | ANN6: Nb. H:1049 | ANO6: Tâche :1050 | ANP6: Nb. H1051 | ANQ6: Tâche :1052 | ANR6: Nb. H:1053 | ANS6: Tâche :1054 | ANT6: Nb. H1055 | ANU6: Tâche :1056 | ANV6: Nb. H:1057 | ANW6: Tâche :1058 | ANX6: Colonne1059 | ANY6: Colonne1060 | ANZ6: Colonne1061 | AOA6: Colonne1062 | AOB6: Nb. H1063 | AOC6: Tâche :1064 | AOD6: Nb. H:1065 | AOE6: Tâche :1066 | AOF6: Nb. H1067 | AOG6: Tâche :1068 | AOH6: Nb. H:1069 | AOI6: Tâche :1070 | AOJ6: Nb. H1071 | AOK6: Tâche :1072 | AOL6: Nb. H:1073 | AOM6: Tâche :1074 | AON6: Nb. H1075 | AOO6: Tâche :1076 | AOP6: Nb. H:1077 | AOQ6: Tâche :1078 | AOR6: Nb. H1079 | AOS6: Tâche :1080 | AOT6: Nb. H:1081 | AOU6: Tâche :1082 | AOV6: Nb. H1083 | AOW6: Tâche :1084 | AOX6: Nb. H:1085 | AOY6: Tâche :1086 | AOZ6: Colonne1087 | APA6: Colonne1088 | APB6: Colonne1089 | APC6: Colonne1090 | APD6: Nb. H1091 | APE6: Tâche :1092 | APF6: Nb. H:1093 | APG6: Tâche :1094 | APH6: Nb. H1095 | API6: Tâche :1096 | APJ6: Nb. H:1097 | APK6: Tâche :1098 | APL6: Nb. H1099 | APM6: Tâche :1100 | APN6: Nb. H:1101 | APO6: Tâche :1102 | APP6: Nb. H1103 | APQ6: Tâche :1104 | APR6: Nb. H:1105 | APS6: Tâche :1106 | APT6: Nb. H1107 | APU6: Tâche :1108 | APV6: Nb. H:1109 | APW6: Tâche :1110 | APX6: Nb. H1111 | APY6: Tâche :1112 | APZ6: Nb. H:1113 | AQA6: Tâche :1114 | AQB6: Colonne1115 | AQC6: Colonne1116 | AQD6: Colonne1117 | AQE6: Colonne1118 | AQF6: Nb. H1119 | AQG6: Tâche :1120 | AQH6: Nb. H:1121 | AQI6: Tâche :1122 | AQJ6: Nb. H1123 | AQK6: Tâche :1124 | AQL6: Nb. H:1125 | AQM6: Tâche :1126 | AQN6: Nb. H1127 | AQO6: Tâche :1128 | AQP6: Nb. H:1129 | AQQ6: Tâche :1130 | AQR6: Nb. H1131 | AQS6: Tâche :1132 | AQT6: Nb. H:1133 | AQU6: Tâche :1134 | AQV6: Nb. H1135 | AQW6: Tâche :1136 | AQX6: Nb. H:1137 | AQY6: Tâche :1138 | AQZ6: Nb. H1139 | ARA6: Tâche :1140 | ARB6: Nb. H:1141 | ARC6: Tâche :1142 | ARD6: Colonne1143 | ARE6: Colonne1144 | ARF6: Colonne1145 | ARG6: Colonne1146 | ARH6: Nb. H1147 | ARI6: Tâche :1148 | ARJ6: Nb. H:1149 | ARK6: Tâche :1150 | ARL6: Nb. H1151 | ARM6: Tâche :1152 | ARN6: Nb. H:1153 | ARO6: Tâche :1154 | ARP6: Nb. H1155 | ARQ6: Tâche :1156 | ARR6: Nb. H:1157 | ARS6: Tâche :1158 | ART6: Nb. H1159 | ARU6: Tâche :1160 | ARV6: Nb. H:1161 | ARW6: Tâche :1162 | ARX6: Nb. H1163 | ARY6: Tâche :1164 | ARZ6: Nb. H:1165 | ASA6: Tâche :1166 | ASB6: Nb. H1167 | ASC6: Tâche :1168 | ASD6: Nb. H:1169 | ASE6: Tâche :1170 | ASF6: Colonne1171 | ASG6: Colonne1172 | ASH6: Colonne1173 | ASI6: Colonne1174 | ASJ6: Nb. H1175 | ASK6: Tâche :1176 | ASL6: Nb. H:1177 | ASM6: Tâche :1178 | ASN6: Nb. H1179 | ASO6: Tâche :1180 | ASP6: Nb. H:1181 | ASQ6: Tâche :1182 | ASR6: Nb. H1183 | ASS6: Tâche :1184 | AST6: Nb. H:1185 | ASU6: Tâche :1186 | ASV6: Nb. H1187 | ASW6: Tâche :1188 | ASX6: Nb. H:1189 | ASY6: Tâche :1190 | ASZ6: Nb. H1191 | ATA6: Tâche :1192 | ATB6: Nb. H:1193 | ATC6: Tâche :1194 | ATD6: Nb. H1195 | ATE6: Tâche :1196 | ATF6: Nb. H:1197 | ATG6: Tâche :1198 | ATH6: Colonne1199 | ATI6: Colonne1200 | ATJ6: Colonne1201 | ATK6: Colonne1202 | ATL6: Nb. H1203 | ATM6: Tâche :1204 | ATN6: Nb. H:1205 | ATO6: Tâche :1206 | ATP6: Nb. H1207 | ATQ6: Tâche :1208 | ATR6: Nb. H:1209 | ATS6: Tâche :1210 | ATT6: Nb. H1211 | ATU6: Tâche :1212 | ATV6: Nb. H:1213 | ATW6: Tâche :1214 | ATX6: Nb. H1215 | ATY6: Tâche :1216 | ATZ6: Nb. H:1217 | AUA6: Tâche :1218 | AUB6: Nb. H1219 | AUC6: Tâche :1220 | AUD6: Nb. H:1221 | AUE6: Tâche :1222 | AUF6: Nb. H1223 | AUG6: Tâche :1224 | AUH6: Nb. H:1225 | AUI6: Tâche :1226 | AUJ6: Colonne1227 | AUK6: Colonne1228 | AUL6: Colonne1229 | AUM6: Colonne1230 | AUN6: Nb. H1231 | AUO6: Tâche :1232 | AUP6: Nb. H:1233 | AUQ6: Tâche :1234 | AUR6: Nb. H1235 | AUS6: Tâche :1236 | AUT6: Nb. H:1237 | AUU6: Tâche :1238 | AUV6: Nb. H1239 | AUW6: Tâche :1240 | AUX6: Nb. H:1241 | AUY6: Tâche :1242 | AUZ6: Nb. H1243 | AVA6: Tâche :1244 | AVB6: Nb. H:1245 | AVC6: Tâche :1246 | AVD6: Nb. H1247 | AVE6: Tâche :1248 | AVF6: Nb. H:1249 | AVG6: Tâche :1250 | AVH6: Nb. H1251 | AVI6: Tâche :1252 | AVJ6: Nb. H:1253 | AVK6: Tâche :1254 | AVL6: Colonne1255 | AVM6: Colonne1256 | AVN6: Colonne1257 | AVO6: Colonne1258 | AVP6: Nb. H1259 | AVQ6: Tâche :1260 | AVR6: Nb. H:1261 | AVS6: Tâche :1262 | AVT6: Nb. H1263 | AVU6: Tâche :1264 | AVV6: Nb. H:1265 | AVW6: Tâche :1266 | AVX6: Nb. H1267 | AVY6: Tâche :1268 | AVZ6: Nb. H:1269 | AWA6: Tâche :1270 | AWB6: Nb. H1271 | AWC6: Tâche :1272 | AWD6: Nb. H:1273 | AWE6: Tâche :1274 | AWF6: Nb. H1275 | AWG6: Tâche :1276 | AWH6: Nb. H:1277 | AWI6: Tâche :1278 | AWJ6: Nb. H1279 | AWK6: Tâche :1280 | AWL6: Nb. H:1281 | AWM6: Tâche :1282 | AWN6: Colonne1283 | AWO6: Colonne1284 | AWP6: Colonne1285 | AWQ6: Colonne1286 | AWR6: Nb. H1287 | AWS6: Tâche :1288 | AWT6: Nb. H:1289 | AWU6: Tâche :1290 | AWV6: Nb. H1291 | AWW6: Tâche :1292 | AWX6: Nb. H:1293 | AWY6: Tâche :1294 | AWZ6: Nb. H1295 | AXA6: Tâche :1296 | AXB6: Nb. H:1297 | AXC6: Tâche :1298 | AXD6: Nb. H1299 | AXE6: Tâche :1300 | AXF6: Nb. H:1301 | AXG6: Tâche :1302 | AXH6: Nb. H1303 | AXI6: Tâche :1304 | AXJ6: Nb. H:1305 | AXK6: Tâche :1306 | AXL6: Nb. H1307 | AXM6: Tâche :1308 | AXN6: Nb. H:1309 | AXO6: Tâche :1310 | AXP6: Colonne1311 | AXQ6: Colonne1312 | AXR6: Colonne1313 | AXS6: Colonne1314 | AXT6: Nb. H1315 | AXU6: Tâche :1316 | AXV6: Nb. H:1317 | AXW6: Tâche :1318 | AXX6: Nb. H1319 | AXY6: Tâche :1320 | AXZ6: Nb. H:1321 | AYA6: Tâche :1322 | AYB6: Nb. H1323 | AYC6: Tâche :1324 | AYD6: Nb. H:1325 | AYE6: Tâche :1326 | AYF6: Nb. H1327 | AYG6: Tâche :1328 | AYH6: Nb. H:1329 | AYI6: Tâche :1330 | AYJ6: Nb. H1331 | AYK6: Tâche :1332 | AYL6: Nb. H:1333 | AYM6: Tâche :1334 | AYN6: Nb. H1335 | AYO6: Tâche :1336 | AYP6: Nb. H:1337 | AYQ6: Tâche :1338 | AYR6: Colonne1339 | AYS6: Colonne1340 | AYT6: Colonne1341 | AYU6: Colonne1342 | AYV6: Nb. H1343 | AYW6: Tâche :1344 | AYX6: Nb. H:1345 | AYY6: Tâche :1346 | AYZ6: Nb. H1347 | AZA6: Tâche :1348 | AZB6: Nb. H:1349 | AZC6: Tâche :1350 | AZD6: Nb. H1351 | AZE6: Tâche :1352 | AZF6: Nb. H:1353 | AZG6: Tâche :1354 | AZH6: Nb. H1355 | AZI6: Tâche :1356 | AZJ6: Nb. H:1357 | AZK6: Tâche :1358 | AZL6: Nb. H1359 | AZM6: Tâche :1360 | AZN6: Nb. H:1361 | AZO6: Tâche :1362 | AZP6: Nb. H1363 | AZQ6: Tâche :1364 | AZR6: Nb. H:1365 | AZS6: Tâche :1366 | AZT6: Colonne1367 | AZU6: Colonne1368 | AZV6: Colonne1369 | AZW6: Colonne1370 | AZX6: Nb. H1371 | AZY6: Tâche :1372 | AZZ6: Nb. H:1373 | BAA6: Tâche :1374 | BAB6: Nb. H1375 | BAC6: Tâche :1376 | BAD6: Nb. H:1377 | BAE6: Tâche :1378 | BAF6: Nb. H1379 | BAG6: Tâche :1380 | BAH6: Nb. H:1381 | BAI6: Tâche :1382 | BAJ6: Nb. H1383 | BAK6: Tâche :1384 | BAL6: Nb. H:1385 | BAM6: Tâche :1386 | BAN6: Nb. H1387 | BAO6: Tâche :1388 | BAP6: Nb. H:1389 | BAQ6: Tâche :1390 | BAR6: Nb. H1391 | BAS6: Tâche :1392 | BAT6: Nb. H:1393 | BAU6: Tâche :1394 | BAV6: Colonne1395 | BAW6: Colonne1396 | BAX6: Colonne1397 | BAY6: Colonne1398 | BAZ6: Nb. H1399 | BBA6: Tâche :1400 | BBB6: Nb. H:1401 | BBC6: Tâche :1402 | BBD6: Nb. H1403 | BBE6: Tâche :1404 | BBF6: Nb. H:1405 | BBG6: Tâche :1406 | BBH6: Nb. H1407 | BBI6: Tâche :1408 | BBJ6: Nb. H:1409 | BBK6: Tâche :1410 | BBL6: Nb. H1411 | BBM6: Tâche :1412 | BBN6: Nb. H:1413 | BBO6: Tâche :1414 | BBP6: Nb. H1415 | BBQ6: Tâche :1416 | BBR6: Nb. H:1417 | BBS6: Tâche :1418 | BBT6: Nb. H1419 | BBU6: Tâche :1420 | BBV6: Nb. H:1421 | BBW6: Tâche :1422 | BBX6: Colonne1423 | BBY6: Colonne1424 | BBZ6: Colonne1425 | BCA6: Colonne1426 | BCB6: Nb. H1427 | BCC6: Tâche :1428 | BCD6: Nb. H:1429 | BCE6: Tâche :1430 | BCF6: Nb. H1431 | BCG6: Tâche :1432 | BCH6: Nb. H:1433 | BCI6: Tâche :1434 | BCJ6: Nb. H1435 | BCK6: Tâche :1436 | BCL6: Nb. H:1437 | BCM6: Tâche :1438 | BCN6: Nb. H1439 | BCO6: Tâche :1440 | BCP6: Nb. H:1441 | BCQ6: Tâche :1442 | BCR6: Nb. H1443 | BCS6: Tâche :1444 | BCT6: Nb. H:1445 | BCU6: Tâche :1446 | BCV6: Nb. H1447 | BCW6: Tâche :1448 | BCX6: Nb. H:1449 | BCY6: Tâche :1450 | BCZ6: Colonne1451 | BDA6: Colonne1452 | BDB6: Colonne1453 | BDC6: Colonne1454 | BDD6: Nb. H1455 | BDE6: Tâche :1456 | BDF6: Nb. H:1457 | BDG6: Tâche :1458 | BDH6: Nb. H1459 | BDI6: Tâche :1460 | BDJ6: Nb. H:1461 | BDK6: Tâche :1462 | BDL6: Nb. H1463 | BDM6: Tâche :1464 | BDN6: Nb. H:1465 | BDO6: Tâche :1466 | BDP6: Nb. H1467 | BDQ6: Tâche :1468 | BDR6: Nb. H:1469 | BDS6: Tâche :1470 | BDT6: Nb. H1471 | BDU6: Tâche :1472 | BDV6: Nb. H:1473 | BDW6: Tâche :1474 | BDX6: Nb. H1475 | BDY6: Tâche :1476 | BDZ6: Nb. H:1477 | BEA6: Tâche :1478 | BEB6: Colonne1479
