Workbook
Name GRUE: '[1]Liste du personnel'!$AR$10:$AR$149
Name NOM: '[1]Liste du personnel'!$A$10:$A$149
Name PRENOM: '[1]Liste du personnel'!$B$10:$B$149
Name taches: Feuil3!$A$1:$A$12

Sheet Feuil1
D1: ="Semaine "&WEEKNUM(D3) -> Semaine 1 | AF1: ="Semaine "&WEEKNUM(AF3) -> Semaine 2 | BH1: ="Semaine "&WEEKNUM(BH3) -> Semaine 3 | CJ1: ="Semaine "&WEEKNUM(CJ3) -> Semaine 4 | DL1: ="Semaine "&WEEKNUM(DL3) -> Semaine 5 | EN1: ="Semaine "&WEEKNUM(EN3) -> Semaine 6 | FP1: ="Semaine "&WEEKNUM(FP3) -> Semaine 7 | GR1: ="Semaine "&WEEKNUM(GR3) -> Semaine 8 | HT1: ="Semaine "&WEEKNUM(HT3) -> Semaine 9 | IV1: ="Semaine "&WEEKNUM(IV3) -> Semaine 10 | JX1: ="Semaine "&WEEKNUM(JX3) -> Semaine 11 | KZ1: ="Semaine "&WEEKNUM(KZ3) -> Semaine 12 | MB1: ="Semaine "&WEEKNUM(MB3) -> Semaine 13 | ND1: ="Semaine "&WEEKNUM(ND3) -> Semaine 14 | OF1: ="Semaine "&WEEKNUM(OF3) -> Semaine 15 | PH1: ="Semaine "&WEEKNUM(PH3) -> Semaine 16 | QJ1: ="Semaine "&WEEKNUM(QJ3) -> Semaine 17 | RL1: ="Semaine "&WEEKNUM(RL3) -> Semaine 18 | SN1: ="Semaine "&WEEKNUM(SN3) -> Semaine 19 | TP1: ="Semaine "&WEEKNUM(TP3) -> Semaine 20 | UR1: ="Semaine "&WEEKNUM(UR3) -> Semaine 21 | VT1: ="Semaine "&WEEKNUM(VT3) -> Semaine 22 | WV1: ="Semaine "&WEEKNUM(WV3) -> Semaine 23 | XX1: ="Semaine "&WEEKNUM(XX3) -> Semaine 24 | YZ1: ="Semaine "&WEEKNUM(YZ3) -> Semaine 25 | AAB1: ="Semaine "&WEEKNUM(AAB3) -> Semaine 26 | ABD1: ="Semaine "&WEEKNUM(ABD3) -> Semaine 27 | ACF1: ="Semaine "&WEEKNUM(ACF3) -> Semaine 28 | ADH1: ="Semaine "&WEEKNUM(ADH3) -> Semaine 29 | AEJ1: ="Semaine "&WEEKNUM(AEJ3) -> Semaine 30 | AFL1: ="Semaine "&WEEKNUM(AFL3) -> Semaine 31 | AGN1: ="Semaine "&WEEKNUM(AGN3) -> Semaine 32 | AHP1: ="Semaine "&WEEKNUM(AHP3) -> Semaine 33 | AIR1: ="Semaine "&WEEKNUM(AIR3) -> Semaine 34 | AJT1: ="Semaine "&WEEKNUM(AJT3) -> Semaine 35 | AKV1: ="Semaine "&WEEKNUM(AKV3) -> Semaine 36 | ALX1: ="Semaine "&WEEKNUM(ALX3) -> Semaine 37 | AMZ1: ="Semaine "&WEEKNUM(AMZ3) -> Semaine 38 | AOB1: ="Semaine "&WEEKNUM(AOB3) -> Semaine 39 | APD1: ="Semaine "&WEEKNUM(APD3) -> Semaine 40 | AQF1: ="Semaine "&WEEKNUM(AQF3) -> Semaine 41 | ARH1: ="Semaine "&WEEKNUM(ARH3) -> Semaine 42 | ASJ1: ="Semaine "&WEEKNUM(ASJ3) -> Semaine 43 | ATL1: ="Semaine "&WEEKNUM(ATL3) -> Semaine 44 | AUN1: ="Semaine "&WEEKNUM(AUN3) -> Semaine 45 | AVP1: ="Semaine "&WEEKNUM(AVP3) -> Semaine 46 | AWR1: ="Semaine "&WEEKNUM(AWR3) -> Semaine 47 | AXT1: ="Semaine "&WEEKNUM(AXT3) -> Semaine 48 | AYV1: ="Semaine "&WEEKNUM(AYV3) -> Semaine 49 | AZX1: ="Semaine "&WEEKNUM(AZX3) -> Semaine 50 | BAZ1: ="Semaine "&WEEKNUM(BAZ3) -> Semaine 51 | BCB1: ="Semaine "&WEEKNUM(BCB3) -> Semaine 52 | BDD1: ="Semaine "&WEEKNUM(BDD3) -> Semaine 1
D2: Lun | H2: Mar. | L2: Mer. | P2: Jeu. | T2: Ven. | X2: Sam. | AB2: Total | AF2: Lun | AJ2: Mar. | AN2: Mer. | AR2: Jeu. | AV2: Ven. | AZ2: Sam. | BD2: Total | BH2: Lun | BL2: Mar. | BP2: Mer. | BT2: Jeu. | BX2: Ven. | CB2: Sam. | CF2: Total | CJ2: Lun | CN2: Mar. | CR2: Mer. | CV2: Jeu. | CZ2: Ven. | DD2: Sam. | DH2: Total | DL2: Lun | DP2: Mar. | DT2: Mer. | DX2: Jeu. | EB2: Ven. | EF2: Sam. | EJ2: Total | EN2: Lun | ER2: Mar. | EV2: Mer. | EZ2: Jeu. | FD2: Ven. | FH2: Sam. | FL2: Total | FP2: Lun | FT2: Mar. | FX2: Mer. | GB2: Jeu. | GF2: Ven. | GJ2: Sam. | GN2: Total | GR2: Lun | GV2: Mar. | GZ2: Mer. | HD2: Jeu. | HH2: Ven. | HL2: Sam. | HP2: Total | HT2: Lun | HX2: Mar. | IB2: Mer. | IF2: Jeu. | IJ2: Ven. | IN2: Sam. | IR2: Total | IV2: Lun | IZ2: Mar. | JD2: Mer. | JH2: Jeu. | JL2: Ven. | JP2: Sam. | JT2: Total | JX2: Lun | KB2: Mar. | KF2: Mer. | KJ2: Jeu. | KN2: Ven. | KR2: Sam. | KV2: Total | KZ2: Lun | LD2: Mar. | LH2: Mer. | LL2: Jeu. | LP2: Ven. | LT2: Sam. | LX2: Total | MB2: Lun | MF2: Mar. | MJ2: Mer. | MN2: Jeu. | MR2: Ven. | MV2: Sam. | MZ2: Total | ND2: Lun | NH2: Mar. | NL2: Mer. | NP2: Jeu. | NT2: Ven. | NX2: Sam. | OB2: Total | OF2: Lun | OJ2: Mar. | ON2: Mer. | OR2: Jeu. | OV2: Ven. | OZ2: Sam. | PD2: Total | PH2: Lun | PL2: Mar. | PP2: Mer. | PT2: Jeu. | PX2: Ven. | QB2: Sam. | QF2: Total | QJ2: Lun | QN2: Mar. | QR2: Mer. | QV2: Jeu. | QZ2: Ven. | RD2: Sam. | RH2: Total | RL2: Lun | RP2: Mar. | RT2: Mer. | RX2: Jeu. | SB2: Ven. | SF2: Sam. | SJ2: Total | SN2: Lun | SR2: Mar. | SV2: Mer. | SZ2: Jeu. | TD2: Ven. | TH2: Sam. | TL2: Total | TP2: Lun | TT2: Mar. | TX2: Mer. | UB2: Jeu. | UF2: Ven. | UJ2: Sam. | UN2: Total | UR2: Lun | UV2: Mar. | UZ2: Mer. | VD2: Jeu. | VH2: Ven. | VL2: Sam. | VP2: Total | VT2: Lun | VX2: Mar. | WB2: Mer. | WF2: Jeu. | WJ2: Ven. | WN2: Sam. | WR2: Total | WV2: Lun | WZ2: Mar. | XD2: Mer. | XH2: Jeu. | XL2: Ven. | XP2: Sam. | XT2: Total | XX2: Lun | YB2: Mar. | YF2: Mer. | YJ2: Jeu. | YN2: Ven. | YR2: Sam. | YV2: Total | YZ2: Lun | ZD2: Mar. | ZH2: Mer. | ZL2: Jeu. | ZP2: Ven. | ZT2: Sam. | ZX2: Total | AAB2: Lun | AAF2: Mar. | AAJ2: Mer. | AAN2: Jeu. | AAR2: Ven. | AAV2: Sam. | AAZ2: Total | ABD2: Lun | ABH2: Mar. | ABL2: Mer. | ABP2: Jeu. | ABT2: Ven. | ABX2: Sam. | ACB2: Total | ACF2: Lun | ACJ2: Mar. | ACN2: Mer. | ACR2: Jeu. | ACV2: Ven. | ACZ2: Sam. | ADD2: Total | ADH2: Lun | ADL2: Mar. | ADP2: Mer. | ADT2: Jeu. | ADX2: Ven. | AEB2: Sam. | AEF2: Total | AEJ2: Lun | AEN2: Mar. | AER2: Mer. | AEV2: Jeu. | AEZ2: Ven. | AFD2: Sam. | AFH2: Total | AFL2: Lun | AFP2: Mar. | AFT2: Mer. | AFX2: Jeu. | AGB2: Ven. | AGF2: Sam. | AGJ2: Total | AGN2: Lun | AGR2: Mar. | AGV2: Mer. | AGZ2: Jeu. | AHD2: Ven. | AHH2: Sam. | AHL2: Total | AHP2: Lun | AHT2: Mar. | AHX2: Mer. | AIB2: Jeu. | AIF2: Ven. | AIJ2: Sam. | AIN2: Total | AIR2: Lun | AIV2: Mar. | AIZ2: Mer. | AJD2: Jeu. | AJH2: Ven. | AJL2: Sam. | AJP2: Total | AJT2: Lun | AJX2: Mar. | AKB2: Mer. | AKF2: Jeu. | AKJ2: Ven. | AKN2: Sam. | AKR2: Total | AKV2: Lun | AKZ2: Mar. | ALD2: Mer. | ALH2: Jeu. | ALL2: Ven. | ALP2: Sam. | ALT2: Total | ALX2: Lun | AMB2: Mar. | AMF2: Mer. | AMJ2: Jeu. | AMN2: Ven. | AMR2: Sam. | AMV2: Total | AMZ2: Lun | AND2: Mar. | ANH2: Mer. | ANL2: Jeu. | ANP2: Ven. | ANT2: Sam. | ANX2: Total | AOB2: Lun | AOF2: Mar. | AOJ2: Mer. | AON2: Jeu. | AOR2: Ven. | AOV2: Sam. | AOZ2: Total | APD2: Lun | APH2: Mar. | APL2: Mer. | APP2: Jeu. | APT2: Ven. | APX2: Sam. | AQB2: Total | AQF2: Lun | AQJ2: Mar. | AQN2: Mer. | AQR2: Jeu. | AQV2: Ven. | AQZ2: Sam. | ARD2: Total | ARH2: Lun | ARL2: Mar. | ARP2: Mer. | ART2: Jeu. | ARX2: Ven. | ASB2: Sam. | ASF2: Total | ASJ2: Lun | ASN2: Mar. | ASR2: Mer. | ASV2: Jeu. | ASZ2: Ven. | ATD2: Sam. | ATH2: Total | ATL2: Lun | ATP2: Mar. | ATT2: Mer. | ATX2: Jeu. | AUB2: Ven. | AUF2: Sam. | AUJ2: Total | AUN2: Lun | AUR2: Mar. | AUV2: Mer. | AUZ2: Jeu. | AVD2: Ven. | AVH2: Sam. | AVL2: Total | AVP2: Lun | AVT2: Mar. | AVX2: Mer. | AWB2: Jeu. | AWF2: Ven. | AWJ2: Sam. | AWN2: Total | AWR2: Lun | AWV2: Mar. | AWZ2: Mer. | AXD2: Jeu. | AXH2: Ven. | AXL2: Sam. | AXP2: Total | AXT2: Lun | AXX2: Mar. | AYB2: Mer. | AYF2: Jeu. | AYJ2: Ven. | AYN2: Sam. | AYR2: Total | AYV2: Lun | AYZ2: Mar. | AZD2: Mer. | AZH2: Jeu. | AZL2: Ven. | AZP2: Sam. | AZT2: Total | AZX2: Lun | BAB2: Mar. | BAF2: Mer. | BAJ2: Jeu. | BAN2: Ven. | BAR2: Sam. | BAV2: Total | BAZ2: Lun | BBD2: Mar. | BBH2: Mer. | BBL2: Jeu. | BBP2: Ven. | BBT2: Sam. | BBX2: Total | BCB2: Lun | BCF2: Mar. | BCJ2: Mer. | BCN2: Jeu. | BCR2: Ven. | BCV2: Sam. | BCZ2: Total | BDD2: Lun | BDH2: Mar. | BDL2: Mer. | BDP2: Jeu. | BDT2: Ven. | BDX2: Sam. | BEB2: Total
D3: 43101 | H3: =D3+1 -> 43102 | L3: =H3+1 -> 43103 | P3: =L3+1 -> 43104 | T3: =P3+1 -> 43105 | X3: =T3+1 -> 43106 | AF3: =X3+2 -> 43108 | AJ3: =AF3+1 -> 43109 | AN3: =AJ3+1 -> 43110 | AR3: =AN3+1 -> 43111 | AV3: =AR3+1 -> 43112 | AZ3: =AV3+1 -> 43113 | BH3: =AZ3+2 -> 43115 | BL3: =BH3+1 -> 43116 | BP3: =BL3+1 -> 43117 | BT3: =BP3+1 -> 43118 | BX3: =BT3+1 -> 43119 | CB3: =BX3+1 -> 43120 | CJ3: =CB3+2 -> 43122 | CN3: =CJ3+1 -> 43123 | CR3: =CN3+1 -> 43124 | CV3: =CR3+1 -> 43125 | CZ3: =CV3+1 -> 43126 | DD3: =CZ3+1 -> 43127 | DL3: =DD3+2 -> 43129 | DP3: =DL3+1 -> 43130 | DT3: =DP3+1 -> 43131 | DX3: =DT3+1 -> 43132 | EB3: =DX3+1 -> 43133 | EF3: =EB3+1 -> 43134 | EN3: =EF3+2 -> 43136 | ER3: =EN3+1 -> 43137 | EV3: =ER3+1 -> 43138 | EZ3: =EV3+1 -> 43139 | FD3: =EZ3+1 -> 43140 | FH3: =FD3+1 -> 43141 | FP3: =FH3+2 -> 43143 | FT3: =FP3+1 -> 43144 | FX3: =FT3+1 -> 43145 | GB3: =FX3+1 -> 43146 | GF3: =GB3+1 -> 43147 | GJ3: =GF3+1 -> 43148 | GR3: =GJ3+2 -> 43150 | GV3: =GR3+1 -> 43151 | GZ3: =GV3+1 -> 43152 | HD3: =GZ3+1 -> 43153 | HH3: =HD3+1 -> 43154 | HL3: =HH3+1 -> 43155 | HT3: =HL3+2 -> 43157 | HX3: =HT3+1 -> 43158 | IB3: =HX3+1 -> 43159 | IF3: =IB3+1 -> 43160 | IJ3: =IF3+1 -> 43161 | IN3: =IJ3+1 -> 43162 | IV3: =IN3+2 -> 43164 | IZ3: =IV3+1 -> 43165 | JD3: =IZ3+1 -> 43166 | JH3: =JD3+1 -> 43167 | JL3: =JH3+1 -> 43168 | JP3: =JL3+1 -> 43169 | JX3: =JP3+2 -> 43171 | KB3: =JX3+1 -> 43172 | KF3: =KB3+1 -> 43173 | KJ3: =KF3+1 -> 43174 | KN3: =KJ3+1 -> 43175 | KR3: =KN3+1 -> 43176 | KZ3: =KR3+2 -> 43178 | LD3: =KZ3+1 -> 43179 | LH3: =LD3+1 -> 43180 | LL3: =LH3+1 -> 43181 | LP3: =LL3+1 -> 43182 | LT3: =LP3+1 -> 43183 | MB3: =LT3+2 -> 43185 | MF3: =MB3+1 -> 43186 | MJ3: =MF3+1 -> 43187 | MN3: =MJ3+1 -> 43188 | MR3: =MN3+1 -> 43189 | MV3: =MR3+1 -> 43190 | ND3: =MV3+2 -> 43192 | NH3: =ND3+1 -> 43193 | NL3: =NH3+1 -> 43194 | NP3: =NL3+1 -> 43195 | NT3: =NP3+1 -> 43196 | NX3: =NT3+1 -> 43197 | OF3: =NX3+2 -> 43199 | OJ3: =OF3+1 -> 43200 | ON3: =OJ3+1 -> 43201 | OR3: =ON3+1 -> 43202 | OV3: =OR3+1 -> 43203 | OZ3: =OV3+1 -> 43204 | PH3: =OZ3+2 -> 43206 | PL3: =PH3+1 -> 43207 | PP3: =PL3+1 -> 43208 | PT3: =PP3+1 -> 43209 | PX3: =PT3+1 -> 43210 | QB3: =PX3+1 -> 43211 | QJ3: =QB3+2 -> 43213 | QN3: =QJ3+1 -> 43214 | QR3: =QN3+1 -> 43215 | QV3: =QR3+1 -> 43216 | QZ3: =QV3+1 -> 43217 | RD3: =QZ3+1 -> 43218 | RL3: =RD3+2 -> 43220 | RP3: =RL3+1 -> 43221 | RT3: =RP3+1 -> 43222 | RX3: =RT3+1 -> 43223 | SB3: =RX3+1 -> 43224 | SF3: =SB3+1 -> 43225 | SN3: =SF3+2 -> 43227 | SR3: =SN3+1 -> 43228 | SV3: =SR3+1 -> 43229 | SZ3: =SV3+1 -> 43230 | TD3: =SZ3+1 -> 43231 | TH3: =TD3+1 -> 43232 | TP3: =TH3+2 -> 43234 | TT3: =TP3+1 -> 43235 | TX3: =TT3+1 -> 43236 | UB3: =TX3+1 -> 43237 | UF3: =UB3+1 -> 43238 | UJ3: =UF3+1 -> 43239 | UR3: =UJ3+2 -> 43241 | UV3: =UR3+1 -> 43242 | UZ3: =UV3+1 -> 43243 | VD3: =UZ3+1 -> 43244 | VH3: =VD3+1 -> 43245 | VL3: =VH3+1 -> 43246 | VT3: =VL3+2 -> 43248 | VX3: =VT3+1 -> 43249 | WB3: =VX3+1 -> 43250 | WF3: =WB3+1 -> 43251 | WJ3: =WF3+1 -> 43252 | WN3: =WJ3+1 -> 43253 | WV3: =WN3+2 -> 43255 | WZ3: =WV3+1 -> 43256 | XD3: =WZ3+1 -> 43257 | XH3: =XD3+1 -> 43258 | XL3: =XH3+1 -> 43259 | XP3: =XL3+1 -> 43260 | XX3: =XP3+2 -> 43262 | YB3: =XX3+1 -> 43263 | YF3: =YB3+1 -> 43264 | YJ3: =YF3+1 -> 43265 | YN3: =YJ3+1 -> 43266 | YR3: =YN3+1 -> 43267 | YZ3: =YR3+2 -> 43269 | ZD3: =YZ3+1 -> 43270 | ZH3: =ZD3+1 -> 43271 | ZL3: =ZH3+1 -> 43272 | ZP3: =ZL3+1 -> 43273 | ZT3: =ZP3+1 -> 43274 | AAB3: =ZT3+2 -> 43276 | AAF3: =AAB3+1 -> 43277 | AAJ3: =AAF3+1 -> 43278 | AAN3: =AAJ3+1 -> 43279 | AAR3: =AAN3+1 -> 43280 | AAV3: =AAR3+1 -> 43281 | ABD3: =AAV3+2 -> 43283 | ABH3: =ABD3+1 -> 43284 | ABL3: =ABH3+1 -> 43285 | ABP3: =ABL3+1 -> 43286 | ABT3: =ABP3+1 -> 43287 | ABX3: =ABT3+1 -> 43288 | ACF3: =ABX3+2 -> 43290 | ACJ3: =ACF3+1 -> 43291 | ACN3: =ACJ3+1 -> 43292 | ACR3: =ACN3+1 -> 43293 | ACV3: =ACR3+1 -> 43294 | ACZ3: =ACV3+1 -> 43295 | ADH3: =ACZ3+2 -> 43297 | ADL3: =ADH3+1 -> 43298 | ADP3: =ADL3+1 -> 43299 | ADT3: =ADP3+1 -> 43300 | ADX3: =ADT3+1 -> 43301 | AEB3: =ADX3+1 -> 43302 | AEJ3: =AEB3+2 -> 43304 | AEN3: =AEJ3+1 -> 43305 | AER3: =AEN3+1 -> 43306 | AEV3: =AER3+1 -> 43307 | AEZ3: =AEV3+1 -> 43308 | AFD3: =AEZ3+1 -> 43309 | AFL3: =AFD3+2 -> 43311 | AFP3: =AFL3+1 -> 43312 | AFT3: =AFP3+1 -> 43313 | AFX3: =AFT3+1 -> 43314 | AGB3: =AFX3+1 -> 43315 | AGF3: =AGB3+1 -> 43316 | AGN3: =AGF3+2 -> 43318 | AGR3: =AGN3+1 -> 43319 | AGV3: =AGR3+1 -> 43320 | AGZ3: =AGV3+1 -> 43321 | AHD3: =AGZ3+1 -> 43322 | AHH3: =AHD3+1 -> 43323 | AHP3: =AHH3+2 -> 43325 | AHT3: =AHP3+1 -> 43326 | AHX3: =AHT3+1 -> 43327 | AIB3: =AHX3+1 -> 43328 | AIF3: =AIB3+1 -> 43329 | AIJ3: =AIF3+1 -> 43330 | AIR3: =AIJ3+2 -> 43332 | AIV3: =AIR3+1 -> 43333 | AIZ3: =AIV3+1 -> 43334 | AJD3: =AIZ3+1 -> 43335 | AJH3: =AJD3+1 -> 43336 | AJL3: =AJH3+1 -> 43337 | AJT3: =AJL3+2 -> 43339 | AJX3: =AJT3+1 -> 43340 | AKB3: =AJX3+1 -> 43341 | AKF3: =AKB3+1 -> 43342 | AKJ3: =AKF3+1 -> 43343 | AKN3: =AKJ3+1 -> 43344 | AKV3: =AKN3+2 -> 43346 | AKZ3: =AKV3+1 -> 43347 | ALD3: =AKZ3+1 -> 43348 | ALH3: =ALD3+1 -> 43349 | ALL3: =ALH3+1 -> 43350 | ALP3: =ALL3+1 -> 43351 | ALX3: =ALP3+2 -> 43353 | AMB3: =ALX3+1 -> 43354 | AMF3: =AMB3+1 -> 43355 | AMJ3: =AMF3+1 -> 43356 | AMN3: =AMJ3+1 -> 43357 | AMR3: =AMN3+1 -> 43358 | AMZ3: =AMR3+2 -> 43360 | AND3: =AMZ3+1 -> 43361 | ANH3: =AND3+1 -> 43362 | ANL3: =ANH3+1 -> 43363 | ANP3: =ANL3+1 -> 43364 | ANT3: =ANP3+1 -> 43365 | AOB3: =ANT3+2 -> 43367 | AOF3: =AOB3+1 -> 43368 | AOJ3: =AOF3+1 -> 43369 | AON3: =AOJ3+1 -> 43370 | AOR3: =AON3+1 -> 43371 | AOV3: =AOR3+1 -> 43372 | APD3: =AOV3+2 -> 43374 | APH3: =APD3+1 -> 43375 | APL3: =APH3+1 -> 43376 | APP3: =APL3+1 -> 43377 | APT3: =APP3+1 -> 43378 | APX3: =APT3+1 -> 43379 | AQF3: =APX3+2 -> 43381 | AQJ3: =AQF3+1 -> 43382 | AQN3: =AQJ3+1 -> 43383 | AQR3: =AQN3+1 -> 43384 | AQV3: =AQR3+1 -> 43385 | AQZ3: =AQV3+1 -> 43386 | ARH3: =AQZ3+2 -> 43388 | ARL3: =ARH3+1 -> 43389 | ARP3: =ARL3+1 -> 43390 | ART3: =ARP3+1 -> 43391 | ARX3: =ART3+1 -> 43392 | ASB3: =ARX3+1 -> 43393 | ASJ3: =ASB3+2 -> 43395 | ASN3: =ASJ3+1 -> 43396 | ASR3: =ASN3+1 -> 43397 | ASV3: =ASR3+1 -> 43398 | ASZ3: =ASV3+1 -> 43399 | ATD3: =ASZ3+1 -> 43400 | ATL3: =ATD3+2 -> 43402 | ATP3: =ATL3+1 -> 43403 | ATT3: =ATP3+1 -> 43404 | ATX3: =ATT3+1 -> 43405 | AUB3: =ATX3+1 -> 43406 | AUF3: =AUB3+1 -> 43407 | AUN3: =AUF3+2 -> 43409 | AUR3: =AUN3+1 -> 43410 | AUV3: =AUR3+1 -> 43411 | AUZ3: =AUV3+1 -> 43412 | AVD3: =AUZ3+1 -> 43413 | AVH3: =AVD3+1 -> 43414 | AVP3: =AVH3+2 -> 43416 | AVT3: =AVP3+1 -> 43417 | AVX3: =AVT3+1 -> 43418 | AWB3: =AVX3+1 -> 43419 | AWF3: =AWB3+1 -> 43420 | AWJ3: =AWF3+1 -> 43421 | AWR3: =AWJ3+2 -> 43423 | AWV3: =AWR3+1 -> 43424 | AWZ3: =AWV3+1 -> 43425 | AXD3: =AWZ3+1 -> 43426 | AXH3: =AXD3+1 -> 43427 | AXL3: =AXH3+1 -> 43428 | AXT3: =AXL3+2 -> 43430 | AXX3: =AXT3+1 -> 43431 | AYB3: =AXX3+1 -> 43432 | AYF3: =AYB3+1 -> 43433 | AYJ3: =AYF3+1 -> 43434 | AYN3: =AYJ3+1 -> 43435 | AYV3: =AYN3+2 -> 43437 | AYZ3: =AYV3+1 -> 43438 | AZD3: =AYZ3+1 -> 43439 | AZH3: =AZD3+1 -> 43440 | AZL3: =AZH3+1 -> 43441 | AZP3: =AZL3+1 -> 43442 | AZX3: =AZP3+2 -> 43444 | BAB3: =AZX3+1 -> 43445 | BAF3: =BAB3+1 -> 43446 | BAJ3: =BAF3+1 -> 43447 | BAN3: =BAJ3+1 -> 43448 | BAR3: =BAN3+1 -> 43449 | BAZ3: =BAR3+2 -> 43451 | BBD3: =BAZ3+1 -> 43452 | BBH3: =BBD3+1 -> 43453 | BBL3: =BBH3+1 -> 43454 | BBP3: =BBL3+1 -> 43455 | BBT3: =BBP3+1 -> 43456 | BCB3: =BBT3+2 -> 43458 | BCF3: =BCB3+1 -> 43459 | BCJ3: =BCF3+1 -> 43460 | BCN3: =BCJ3+1 -> 43461 | BCR3: =BCN3+1 -> 43462 | BCV3: =BCR3+1 -> 43463 | BDD3: =BCY3+2 -> 2 | BDH3: =BDD3+1 -> 3 | BDL3: =BDH3+1 -> 4 | BDP3: =BDL3+1 -> 5 | BDT3: =BDP3+1 -> 6 | BDX3: =BDT3+1 -> 7
D4: =IFERROR(EOMONTH(D3,-1)+1,C4) -> 43101 | E4: =IFERROR(EOMONTH(E3,-1)+1,D4) -> 43101 | F4: =IFERROR(EOMONTH(F3,-1)+1,E4) -> 43101 | G4: =IFERROR(EOMONTH(G3,-1)+1,F4) -> 43101 | H4: =IFERROR(EOMONTH(H3,-1)+1,G4) -> 43101 | I4: =IFERROR(EOMONTH(I3,-1)+1,H4) -> 43101 | J4: =IFERROR(EOMONTH(J3,-1)+1,I4) -> 43101 | K4: =IFERROR(EOMONTH(K3,-1)+1,J4) -> 43101 | ... BEA4: =IFERROR(EOMONTH(BEA3,-1)+1,BDZ4) -> 43435
D5: =SUM(D7:D146,F7:F146) -> 124 | H5: =SUM(H7:H146,J7:J146) -> 124 | L5: =SUM(L7:L146,N7:N146) -> 124 | P5: =SUM(P7:P146,R7:R146) -> 124 | T5: =SUM(T7:T146,V7:V146) -> 124 | X5: =SUM(X7:X146,Z7:Z146) -> 124 | AB5: =SUM(AB7:AB146) -> 744 | AF5: =SUM(AF7:AF146,AH7:AH146) -> 124 | AJ5: =SUM(AJ7:AJ146,AL7:AL146) -> 124 | AN5: =SUM(AN7:AN146,AP7:AP146) -> 124 | AR5: =SUM(AR7:AR146,AT7:AT146) -> 124 | AV5: =SUM(AV7:AV146,AX7:AX146) -> 124 | AZ5: =SUM(AZ7:AZ146,BB7:BB146) -> 124 | BD5: =SUM(BD7:BD146) -> 744 | BH5: =SUM(BH7:BH146,BJ7:BJ146) -> 124 | BL5: =SUM(BL7:BL146,BN7:BN146) -> 124 | BP5: =SUM(BP7:BP146,BR7:BR146) -> 124 | BT5: =SUM(BT7:BT146,BV7:BV146) -> 124 | BX5: =SUM(BX7:BX146,BZ7:BZ146) -> 124 | CB5: =SUM(CB7:CB146,CD7:CD146) -> 124 | CF5: =SUM(CF7:CF146) -> 744 | CJ5: =SUM(CJ7:CJ146,CL7:CL146) -> 124 | CN5: =SUM(CN7:CN146,CP7:CP146) -> 124 | CR5: =SUM(CR7:CR146,CT7:CT146) -> 124 | CV5: =SUM(CV7:CV146,CX7:CX146) -> 124 | CZ5: =SUM(CZ7:CZ146,DB7:DB146) -> 124 | DD5: =SUM(DD7:DD146,DF7:DF146) -> 124 | DH5: =SUM(DH7:DH146) -> 744 | DL5: =SUM(DL7:DL146,DN7:DN146) -> 124 | DP5: =SUM(DP7:DP146,DR7:DR146) -> 124 | DT5: =SUM(DT7:DT146,DV7:DV146) -> 124 | DX5: =SUM(DX7:DX146,DZ7:DZ146) -> 124 | EB5: =SUM(EB7:EB146,ED7:ED146) -> 124 | EF5: =SUM(EF7:EF146,EH7:EH146) -> 124 | EJ5: =SUM(EJ7:EJ146) -> 744 | EN5: =SUM(EN7:EN146,EP7:EP146) -> 124 | ER5: =SUM(ER7:ER146,ET7:ET146) -> 124 | EV5: =SUM(EV7:EV146,EX7:EX146) -> 124 | EZ5: =SUM(EZ7:EZ146,FB7:FB146) -> 124 | FD5: =SUM(FD7:FD146,FF7:FF146) -> 124 | FH5: =SUM(FH7:FH146,FJ7:FJ146) -> 124 | FL5: =SUM(FL7:FL146) -> 744 | FP5: =SUM(FP7:FP146,FR7:FR146) -> 124 | FT5: =SUM(FT7:FT146,FV7:FV146) -> 124 | FX5: =SUM(FX7:FX146,FZ7:FZ146) -> 124 | GB5: =SUM(GB7:GB146,GD7:GD146) -> 124 | GF5: =SUM(GF7:GF146,GH7:GH146) -> 124 | GJ5: =SUM(GJ7:GJ146,GL7:GL146) -> 124 | GN5: =SUM(GN7:GN146) -> 744 | GR5: =SUM(GR7:GR146,GT7:GT146) -> 124 | GV5: =SUM(GV7:GV146,GX7:GX146) -> 124 | GZ5: =SUM(GZ7:GZ146,HB7:HB146) -> 124 | HD5: =SUM(HD7:HD146,HF7:HF146) -> 124 | HH5: =SUM(HH7:HH146,HJ7:HJ146) -> 124 | HL5: =SUM(HL7:HL146,HN7:HN146) -> 124 | HP5: =SUM(HP7:HP146) -> 744 | HT5: =SUM(HT7:HT146,HV7:HV146) -> 124 | HX5: =SUM(HX7:HX146,HZ7:HZ146) -> 124 | IB5: =SUM(IB7:IB146,ID7:ID146) -> 124 | IF5: =SUM(IF7:IF146,IH7:IH146) -> 124 | IJ5: =SUM(IJ7:IJ146,IL7:IL146) -> 124 | IN5: =SUM(IN7:IN146,IP7:IP146) -> 124 | IR5: =SUM(IR7:IR146) -> 744 | IV5: =SUM(IV7:IV146,IX7:IX146) -> 124 | IZ5: =SUM(IZ7:IZ146,JB7:JB146) -> 124 | JD5: =SUM(JD7:JD146,JF7:JF146) -> 124 | JH5: =SUM(JH7:JH146,JJ7:JJ146) -> 124 | JL5: =SUM(JL7:JL146,JN7:JN146) -> 124 | JP5: =SUM(JP7:JP146,JR7:JR146) -> 124 | JT5: =SUM(JT7:JT146) -> 744 | JX5: =SUM(JX7:JX146,JZ7:JZ146) -> 124 | KB5: =SUM(KB7:KB146,KD7:KD146) -> 124 | KF5: =SUM(KF7:KF146,KH7:KH146) -> 124 | KJ5: =SUM(KJ7:KJ146,KL7:KL146) -> 124 | KN5: =SUM(KN7:KN146,KP7:KP146) -> 124 | KR5: =SUM(KR7:KR146,KT7:KT146) -> 124 | KV5: =SUM(KV7:KV146) -> 744 | KZ5: =SUM(KZ7:KZ146,LB7:LB146) -> 124 | LD5: =SUM(LD7:LD146,LF7:LF146) -> 124 | LH5: =SUM(LH7:LH146,LJ7:LJ146) -> 124 | LL5: =SUM(LL7:LL146,LN7:LN146) -> 124 | LP5: =SUM(LP7:LP146,LR7:LR146) -> 124 | LT5: =SUM(LT7:LT146,LV7:LV146) -> 124 | LX5: =SUM(LX7:LX146) -> 744 | MB5: =SUM(MB7:MB146,MD7:MD146) -> 124 | MF5: =SUM(MF7:MF146,MH7:MH146) -> 124 | MJ5: =SUM(MJ7:MJ146,ML7:ML146) -> 124 | MN5: =SUM(MN7:MN146,MP7:MP146) -> 124 | MR5: =SUM(MR7:MR146,MT7:MT146) -> 124 | MV5: =SUM(MV7:MV146,MX7:MX146) -> 124 | MZ5: =SUM(MZ7:MZ146) -> 744 | ND5: =SUM(ND7:ND146,NF7:NF146) -> 124 | NH5: =SUM(NH7:NH146,NJ7:NJ146) -> 124 | NL5: =SUM(NL7:NL146,NN7:NN146) -> 124 | NP5: =SUM(NP7:NP146,NR7:NR146) -> 124 | NT5: =SUM(NT7:NT146,NV7:NV146) -> 124 | NX5: =SUM(NX7:NX146,NZ7:NZ146) -> 124 | OB5: =SUM(OB7:OB146) -> 744 | OF5: =SUM(OF7:OF146,OH7:OH146) -> 124 | OJ5: =SUM(OJ7:OJ146,OL7:OL146) -> 124 | ON5: =SUM(ON7:ON146,OP7:OP146) -> 124 | OR5: =SUM(OR7:OR146,OT7:OT146) -> 124 | OV5: =SUM(OV7:OV146,OX7:OX146) -> 124 | OZ5: =SUM(OZ7:OZ146,PB7:PB146) -> 124 | PD5: =SUM(PD7:PD146) -> 744 | PH5: =SUM(PH7:PH146,PJ7:PJ146) -> 124 | PL5: =SUM(PL7:PL146,PN7:PN146) -> 124 | PP5: =SUM(PP7:PP146,PR7:PR146) -> 124 | PT5: =SUM(PT7:PT146,PV7:PV146) -> 124 | PX5: =SUM(PX7:PX146,PZ7:PZ146) -> 124 | QB5: =SUM(QB7:QB146,QD7:QD146) -> 124 | QF5: =SUM(QF7:QF146) -> 744 | QJ5: =SUM(QJ7:QJ146,QL7:QL146) -> 124 | QN5: =SUM(QN7:QN146,QP7:QP146) -> 124 | QR5: =SUM(QR7:QR146,QT7:QT146) -> 124 | QV5: =SUM(QV7:QV146,QX7:QX146) -> 124 | QZ5: =SUM(QZ7:QZ146,RB7:RB146) -> 124 | RD5: =SUM(RD7:RD146,RF7:RF146) -> 124 | RH5: =SUM(RH7:RH146) -> 744 | RL5: =SUM(RL7:RL146,RN7:RN146) -> 124 | RP5: =SUM(RP7:RP146,RR7:RR146) -> 124 | RT5: =SUM(RT7:RT146,RV7:RV146) -> 124 | RX5: =SUM(RX7:RX146,RZ7:RZ146) -> 124 | SB5: =SUM(SB7:SB146,SD7:SD146) -> 124 | SF5: =SUM(SF7:SF146,SH7:SH146) -> 124 | SJ5: =SUM(SJ7:SJ146) -> 744 | SN5: =SUM(SN7:SN146,SP7:SP146) -> 124 | SR5: =SUM(SR7:SR146,ST7:ST146) -> 124 | SV5: =SUM(SV7:SV146,SX7:SX146) -> 124 | SZ5: =SUM(SZ7:SZ146,TB7:TB146) -> 124 | TD5: =SUM(TD7:TD146,TF7:TF146) -> 124 | TH5: =SUM(TH7:TH146,TJ7:TJ146) -> 124 | TL5: =SUM(TL7:TL146) -> 744 | TP5: =SUM(TP7:TP146,TR7:TR146) -> 124 | TT5: =SUM(TT7:TT146,TV7:TV146) -> 124 | TX5: =SUM(TX7:TX146,TZ7:TZ146) -> 124 | UB5: =SUM(UB7:UB146,UD7:UD146) -> 124 | UF5: =SUM(UF7:UF146,UH7:UH146) -> 124 | UJ5: =SUM(UJ7:UJ146,UL7:UL146) -> 124 | UN5: =SUM(UN7:UN146) -> 744 | UR5: =SUM(UR7:UR146,UT7:UT146) -> 124 | UV5: =SUM(UV7:UV146,UX7:UX146) -> 124 | UZ5: =SUM(UZ7:UZ146,VB7:VB146) -> 124 | VD5: =SUM(VD7:VD146,VF7:VF146) -> 124 | VH5: =SUM(VH7:VH146,VJ7:VJ146) -> 124 | VL5: =SUM(VL7:VL146,VN7:VN146) -> 124 | VP5: =SUM(VP7:VP146) -> 744 | VT5: =SUM(VT7:VT146,VV7:VV146) -> 124 | VX5: =SUM(VX7:VX146,VZ7:VZ146) -> 124 | WB5: =SUM(WB7:WB146,WD7:WD146) -> 124 | WF5: =SUM(WF7:WF146,WH7:WH146) -> 124 | WJ5: =SUM(WJ7:WJ146,WL7:WL146) -> 124 | WN5: =SUM(WN7:WN146,WP7:WP146) -> 124 | WR5: =SUM(WR7:WR146) -> 744 | WV5: =SUM(WV7:WV146,WX7:WX146) -> 124 | WZ5: =SUM(WZ7:WZ146,XB7:XB146) -> 124 | XD5: =SUM(XD7:XD146,XF7:XF146) -> 124 | XH5: =SUM(XH7:XH146,XJ7:XJ146) -> 124 | XL5: =SUM(XL7:XL146,XN7:XN146) -> 124 | XP5: =SUM(XP7:XP146,XR7:XR146) -> 124 | XT5: =SUM(XT7:XT146) -> 744 | XX5: =SUM(XX7:XX146,XZ7:XZ146) -> 124 | YB5: =SUM(YB7:YB146,YD7:YD146) -> 124 | YF5: =SUM(YF7:YF146,YH7:YH146) -> 124 | YJ5: =SUM(YJ7:YJ146,YL7:YL146) -> 124 | YN5: =SUM(YN7:YN146,YP7:YP146) -> 124 | YR5: =SUM(YR7:YR146,YT7:YT146) -> 124 | YV5: =SUM(YV7:YV146) -> 744 | YZ5: =SUM(YZ7:YZ146,ZB7:ZB146) -> 124 | ZD5: =SUM(ZD7:ZD146,ZF7:ZF146) -> 124 | ZH5: =SUM(ZH7:ZH146,ZJ7:ZJ146) -> 124 | ZL5: =SUM(ZL7:ZL146,ZN7:ZN146) -> 124 | ZP5: =SUM(ZP7:ZP146,ZR7:ZR146) -> 124 | ZT5: =SUM(ZT7:ZT146,ZV7:ZV146) -> 124 | ZX5: =SUM(ZX7:ZX146) -> 744 | AAB5: =SUM(AAB7:AAB146,AAD7:AAD146) -> 124 | AAF5: =SUM(AAF7:AAF146,AAH7:AAH146) -> 124 | AAJ5: =SUM(AAJ7:AAJ146,AAL7:AAL146) -> 124 | AAN5: =SUM(AAN7:AAN146,AAP7:AAP146) -> 124 | AAR5: =SUM(AAR7:AAR146,AAT7:AAT146) -> 124 | AAV5: =SUM(AAV7:AAV146,AAX7:AAX146) -> 124 | AAZ5: =SUM(AAZ7:AAZ146) -> 744 | ABD5: =SUM(ABD7:ABD146,ABF7:ABF146) -> 124 | ABH5: =SUM(ABH7:ABH146,ABJ7:ABJ146) -> 124 | ABL5: =SUM(ABL7:ABL146,ABN7:ABN146) -> 124 | ABP5: =SUM(ABP7:ABP146,ABR7:ABR146) -> 124 | ABT5: =SUM(ABT7:ABT146,ABV7:ABV146) -> 124 | ABX5: =SUM(ABX7:ABX146,ABZ7:ABZ146) -> 124 | ACB5: =SUM(ACB7:ACB146) -> 744 | ACF5: =SUM(ACF7:ACF146,ACH7:ACH146) -> 124 | ACJ5: =SUM(ACJ7:ACJ146,ACL7:ACL146) -> 124 | ACN5: =SUM(ACN7:ACN146,ACP7:ACP146) -> 124 | ACR5: =SUM(ACR7:ACR146,ACT7:ACT146) -> 124 | ACV5: =SUM(ACV7:ACV146,ACX7:ACX146) -> 124 | ACZ5: =SUM(ACZ7:ACZ146,ADB7:ADB146) -> 124 | ADD5: =SUM(ADD7:ADD146) -> 744 | ADH5: =SUM(ADH7:ADH146,ADJ7:ADJ146) -> 124 | ADL5: =SUM(ADL7:ADL146,ADN7:ADN146) -> 124 | ADP5: =SUM(ADP7:ADP146,ADR7:ADR146) -> 124 | ADT5: =SUM(ADT7:ADT146,ADV7:ADV146) -> 124 | ADX5: =SUM(ADX7:ADX146,ADZ7:ADZ146) -> 124 | AEB5: =SUM(AEB7:AEB146,AED7:AED146) -> 124 | AEF5: =SUM(AEF7:AEF146) -> 744 | AEJ5: =SUM(AEJ7:AEJ146,AEL7:AEL146) -> 124 | AEN5: =SUM(AEN7:AEN146,AEP7:AEP146) -> 124 | AER5: =SUM(AER7:AER146,AET7:AET146) -> 124 | AEV5: =SUM(AEV7:AEV146,AEX7:AEX146) -> 124 | AEZ5: =SUM(AEZ7:AEZ146,AFB7:AFB146) -> 124 | AFD5: =SUM(AFD7:AFD146,AFF7:AFF146) -> 124 | AFH5: =SUM(AFH7:AFH146) -> 744 | AFL5: =SUM(AFL7:AFL146,AFN7:AFN146) -> 124 | AFP5: =SUM(AFP7:AFP146,AFR7:AFR146) -> 124 | AFT5: =SUM(AFT7:AFT146,AFV7:AFV146) -> 124 | AFX5: =SUM(AFX7:AFX146,AFZ7:AFZ146) -> 124 | AGB5: =SUM(AGB7:AGB146,AGD7:AGD146) -> 124 | AGF5: =SUM(AGF7:AGF146,AGH7:AGH146) -> 124 | AGJ5: =SUM(AGJ7:AGJ146) -> 744 | AGN5: =SUM(AGN7:AGN146,AGP7:AGP146) -> 124 | AGR5: =SUM(AGR7:AGR146,AGT7:AGT146) -> 124 | AGV5: =SUM(AGV7:AGV146,AGX7:AGX146) -> 124 | AGZ5: =SUM(AGZ7:AGZ146,AHB7:AHB146) -> 124 | AHD5: =SUM(AHD7:AHD146,AHF7:AHF146) -> 124 | AHH5: =SUM(AHH7:AHH146,AHJ7:AHJ146) -> 124 | AHL5: =SUM(AHL7:AHL146) -> 744 | AHP5: =SUM(AHP7:AHP146,AHR7:AHR146) -> 124 | AHT5: =SUM(AHT7:AHT146,AHV7:AHV146) -> 124 | AHX5: =SUM(AHX7:AHX146,AHZ7:AHZ146) -> 124 | AIB5: =SUM(AIB7:AIB146,AID7:AID146) -> 124 | AIF5: =SUM(AIF7:AIF146,AIH7:AIH146) -> 124 | AIJ5: =SUM(AIJ7:AIJ146,AIL7:AIL146) -> 124 | AIN5: =SUM(AIN7:AIN146) -> 744 | AIR5: =SUM(AIR7:AIR146,AIT7:AIT146) -> 124 | AIV5: =SUM(AIV7:AIV146,AIX7:AIX146) -> 124 | AIZ5: =SUM(AIZ7:AIZ146,AJB7:AJB146) -> 124 | AJD5: =SUM(AJD7:AJD146,AJF7:AJF146) -> 124 | AJH5: =SUM(AJH7:AJH146,AJJ7:AJJ146) -> 124 | AJL5: =SUM(AJL7:AJL146,AJN7:AJN146) -> 124 | AJP5: =SUM(AJP7:AJP146) -> 744 | AJT5: =SUM(AJT7:AJT146,AJV7:AJV146) -> 124 | AJX5: =SUM(AJX7:AJX146,AJZ7:AJZ146) -> 124 | AKB5: =SUM(AKB7:AKB146,AKD7:AKD146) -> 124 | AKF5: =SUM(AKF7:AKF146,AKH7:AKH146) -> 124 | AKJ5: =SUM(AKJ7:AKJ146,AKL7:AKL146) -> 124 | AKN5: =SUM(AKN7:AKN146,AKP7:AKP146) -> 124 | AKR5: =SUM(AKR7:AKR146) -> 744 | AKV5: =SUM(AKV7:AKV146,AKX7:AKX146) -> 124 | AKZ5: =SUM(AKZ7:AKZ146,ALB7:ALB146) -> 124 | ALD5: =SUM(ALD7:ALD146,ALF7:ALF146) -> 124 | ALH5: =SUM(ALH7:ALH146,ALJ7:ALJ146) -> 124 | ALL5: =SUM(ALL7:ALL146,ALN7:ALN146) -> 124 | ALP5: =SUM(ALP7:ALP146,ALR7:ALR146) -> 124 | ALT5: =SUM(ALT7:ALT146) -> 744 | ALX5: =SUM(ALX7:ALX146,ALZ7:ALZ146) -> 124 | AMB5: =SUM(AMB7:AMB146,AMD7:AMD146) -> 124 | AMF5: =SUM(AMF7:AMF146,AMH7:AMH146) -> 124 | AMJ5: =SUM(AMJ7:AMJ146,AML7:AML146) -> 124 | AMN5: =SUM(AMN7:AMN146,AMP7:AMP146) -> 124 | AMR5: =SUM(AMR7:AMR146,AMT7:AMT146) -> 124 | AMV5: =SUM(AMV7:AMV146) -> 744 | AMZ5: =SUM(AMZ7:AMZ146,ANB7:ANB146) -> 124 | AND5: =SUM(AND7:AND146,ANF7:ANF146) -> 124 | ANH5: =SUM(ANH7:ANH146,ANJ7:ANJ146) -> 124 | ANL5: =SUM(ANL7:ANL146,ANN7:ANN146) -> 124 | ANP5: =SUM(ANP7:ANP146,ANR7:ANR146) -> 124 | ANT5: =SUM(ANT7:ANT146,ANV7:ANV146) -> 124 | ANX5: =SUM(ANX7:ANX146) -> 744 | AOB5: =SUM(AOB7:AOB146,AOD7:AOD146) -> 124 | AOF5: =SUM(AOF7:AOF146,AOH7:AOH146) -> 124 | AOJ5: =SUM(AOJ7:AOJ146,AOL7:AOL146) -> 124 | AON5: =SUM(AON7:AON146,AOP7:AOP146) -> 124 | AOR5: =SUM(AOR7:AOR146,AOT7:AOT146) -> 124 | AOV5: =SUM(AOV7:AOV146,AOX7:AOX146) -> 124 | AOZ5: =SUM(AOZ7:AOZ146) -> 744 | APD5: =SUM(APD7:APD146,APF7:APF146) -> 124 | APH5: =SUM(APH7:APH146,APJ7:APJ146) -> 124 | APL5: =SUM(APL7:APL146,APN7:APN146) -> 124 | APP5: =SUM(APP7:APP146,APR7:APR146) -> 124 | APT5: =SUM(APT7:APT146,APV7:APV146) -> 124 | APX5: =SUM(APX7:APX146,APZ7:APZ146) -> 124 | AQB5: =SUM(AQB7:AQB146) -> 744 | AQF5: =SUM(AQF7:AQF146,AQH7:AQH146) -> 124 | AQJ5: =SUM(AQJ7:AQJ146,AQL7:AQL146) -> 124 | AQN5: =SUM(AQN7:AQN146,AQP7:AQP146) -> 124 | AQR5: =SUM(AQR7:AQR146,AQT7:AQT146) -> 124 | AQV5: =SUM(AQV7:AQV146,AQX7:AQX146) -> 124 | AQZ5: =SUM(AQZ7:AQZ146,ARB7:ARB146) -> 124 | ARD5: =SUM(ARD7:ARD146) -> 744 | ARH5: =SUM(ARH7:ARH146,ARJ7:ARJ146) -> 124 | ARL5: =SUM(ARL7:ARL146,ARN7:ARN146) -> 124 | ARP5: =SUM(ARP7:ARP146,ARR7:ARR146) -> 124 | ART5: =SUM(ART7:ART146,ARV7:ARV146) -> 124 | ARX5: =SUM(ARX7:ARX146,ARZ7:ARZ146) -> 124 | ASB5: =SUM(ASB7:ASB146,ASD7:ASD146) -> 124 | ASF5: =SUM(ASF7:ASF146) -> 744 | ASJ5: =SUM(ASJ7:ASJ146,ASL7:ASL146) -> 124 | ASN5: =SUM(ASN7:ASN146,ASP7:ASP146) -> 124 | ASR5: =SUM(ASR7:ASR146,AST7:AST146) -> 124 | ASV5: =SUM(ASV7:ASV146,ASX7:ASX146) -> 124 | ASZ5: =SUM(ASZ7:ASZ146,ATB7:ATB146) -> 124 | ATD5: =SUM(ATD7:ATD146,ATF7:ATF146) -> 124 | ATH5: =SUM(ATH7:ATH146) -> 744 | ATL5: =SUM(ATL7:ATL146,ATN7:ATN146) -> 124 | ATP5: =SUM(ATP7:ATP146,ATR7:ATR146) -> 124 | ATT5: =SUM(ATT7:ATT146,ATV7:ATV146) -> 124 | ATX5: =SUM(ATX7:ATX146,ATZ7:ATZ146) -> 124 | AUB5: =SUM(AUB7:AUB146,AUD7:AUD146) -> 124 | AUF5: =SUM(AUF7:AUF146,AUH7:AUH146) -> 124 | AUJ5: =SUM(AUJ7:AUJ146) -> 744 | AUN5: =SUM(AUN7:AUN146,AUP7:AUP146) -> 124 | AUR5: =SUM(AUR7:AUR146,AUT7:AUT146) -> 124 | AUV5: =SUM(AUV7:AUV146,AUX7:AUX146) -> 124 | AUZ5: =SUM(AUZ7:AUZ146,AVB7:AVB146) -> 124 | AVD5: =SUM(AVD7:AVD146,AVF7:AVF146) -> 124 | AVH5: =SUM(AVH7:AVH146,AVJ7:AVJ146) -> 124 | AVL5: =SUM(AVL7:AVL146) -> 744 | AVP5: =SUM(AVP7:AVP146,AVR7:AVR146) -> 124 | AVT5: =SUM(AVT7:AVT146,AVV7:AVV146) -> 124 | AVX5: =SUM(AVX7:AVX146,AVZ7:AVZ146) -> 124 | AWB5: =SUM(AWB7:AWB146,AWD7:AWD146) -> 124 | AWF5: =SUM(AWF7:AWF146,AWH7:AWH146) -> 124 | AWJ5: =SUM(AWJ7:AWJ146,AWL7:AWL146) -> 124 | AWN5: =SUM(AWN7:AWN146) -> 744 | AWR5: =SUM(AWR7:AWR146,AWT7:AWT146) -> 124 | AWV5: =SUM(AWV7:AWV146,AWX7:AWX146) -> 124 | AWZ5: =SUM(AWZ7:AWZ146,AXB7:AXB146) -> 124 | AXD5: =SUM(AXD7:AXD146,AXF7:AXF146) -> 124 | AXH5: =SUM(AXH7:AXH146,AXJ7:AXJ146) -> 124 | AXL5: =SUM(AXL7:AXL146,AXN7:AXN146) -> 124 | AXP5: =SUM(AXP7:AXP146) -> 744 | AXT5: =SUM(AXT7:AXT146,AXV7:AXV146) -> 124 | AXX5: =SUM(AXX7:AXX146,AXZ7:AXZ146) -> 124 | AYB5: =SUM(AYB7:AYB146,AYD7:AYD146) -> 124 | AYF5: =SUM(AYF7:AYF146,AYH7:AYH146) -> 124 | AYJ5: =SUM(AYJ7:AYJ146,AYL7:AYL146) -> 124 | AYN5: =SUM(AYN7:AYN146,AYP7:AYP146) -> 124 | AYR5: =SUM(AYR7:AYR146) -> 744 | AYV5: =SUM(AYV7:AYV146,AYX7:AYX146) -> 124 | AYZ5: =SUM(AYZ7:AYZ146,AZB7:AZB146) -> 124 | AZD5: =SUM(AZD7:AZD146,AZF7:AZF146) -> 124 | AZH5: =SUM(AZH7:AZH146,AZJ7:AZJ146) -> 124 | AZL5: =SUM(AZL7:AZL146,AZN7:AZN146) -> 124 | AZP5: =SUM(AZP7:AZP146,AZR7:AZR146) -> 124 | AZT5: =SUM(AZT7:AZT146) -> 744 | AZX5: =SUM(AZX7:AZX146,AZZ7:AZZ146) -> 124 | BAB5: =SUM(BAB7:BAB146,BAD7:BAD146) -> 124 | BAF5: =SUM(BAF7:BAF146,BAH7:BAH146) -> 124 | BAJ5: =SUM(BAJ7:BAJ146,BAL7:BAL146) -> 124 | BAN5: =SUM(BAN7:BAN146,BAP7:BAP146) -> 124 | BAR5: =SUM(BAR7:BAR146,BAT7:BAT146) -> 124 | BAV5: =SUM(BAV7:BAV146) -> 744 | BAZ5: =SUM(BAZ7:BAZ146,BBB7:BBB146) -> 124 | BBD5: =SUM(BBD7:BBD146,BBF7:BBF146) -> 124 | BBH5: =SUM(BBH7:BBH146,BBJ7:BBJ146) -> 124 | BBL5: =SUM(BBL7:BBL146,BBN7:BBN146) -> 124 | BBP5: =SUM(BBP7:BBP146,BBR7:BBR146) -> 124 | BBT5: =SUM(BBT7:BBT146,BBV7:BBV146) -> 124 | BBX5: =SUM(BBX7:BBX146) -> 744 | BCB5: =SUM(BCB7:BCB146,BCD7:BCD146) -> 124 | BCF5: =SUM(BCF7:BCF146,BCH7:BCH146) -> 124 | BCJ5: =SUM(BCJ7:BCJ146,BCL7:BCL146) -> 124 | BCN5: =SUM(BCN7:BCN146,BCP7:BCP146) -> 124 | BCR5: =SUM(BCR7:BCR146,BCT7:BCT146) -> 124 | BCV5: =SUM(BCV7:BCV146,BCX7:BCX146) -> 124 | BCZ5: =SUM(BCZ7:BCZ146) -> 744 | BDD5: =SUM(BDD7:BDD146,BDF7:BDF146) -> 0 | BDH5: =SUM(BDH7:BDH146,BDJ7:BDJ146) -> 0 | BDL5: =SUM(BDL7:BDL146,BDN7:BDN146) -> 0 | BDP5: =SUM(BDP7:BDP146,BDR7:BDR146) -> 0 | BDT5: =SUM(BDT7:BDT146,BDV7:BDV146) -> 0 | BDX5: =SUM(BDX7:BDX146,BDZ7:BDZ146) -> 0 | BEB5: =SUM(BEB7:BEB146) -> 0
A6: Service: | B6: NOM | C6: Prénom | D6: Nb. H | E6: Tâche : | F6: Nb. H: | G6: Tâche :2 | H6: Nb. H3 | I6: Tâche :4 | J6: Nb. H:5 | K6: Tâche :6 | L6: Nb. H7 | M6: Tâche :8 | N6: Nb. H:9 | O6: Tâche :10 | P6: Nb. H11 | Q6: Tâche :12 | R6: Nb. H:13 | S6: Tâche :14 | T6: Nb. H15 | U6: Tâche :16 | V6: Nb. H:17 | W6: Tâche :18 | X6: Nb. H19 | Y6: Tâche :20 | Z6: Nb. H:21 | AA6: Tâche :22 | AB6: Colonne23 | AC6: Colonne24 | AD6: Colonne25 | AE6: Colonne26 | AF6: Nb. H27 | AG6: Tâche :28 | AH6: Nb. H:29 | AI6: Tâche :30 | AJ6: Nb. H31 | AK6: Tâche :32 | AL6: Nb. H:33 | AM6: Tâche :34 | AN6: Nb. H35 | AO6: Tâche :36 | AP6: Nb. H:37 | AQ6: Tâche :38 | AR6: Nb. H39 | AS6: Tâche :40 | AT6: Nb. H:41 | AU6: Tâche :42 | AV6: Nb. H43 | AW6: Tâche :44 | AX6: Nb. H:45 | AY6: Tâche :46 | AZ6: Nb. H47 | BA6: Tâche :48 | BB6: Nb. H:49 | BC6: Tâche :50 | BD6: Colonne51 | BE6: Colonne52 | BF6: Colonne53 | BG6: Colonne54 | BH6: Nb. H55 | BI6: Tâche :56 | BJ6: Nb. H:57 | BK6: Tâche :58 | BL6: Nb. H59 | BM6: Tâche :60 | BN6: Nb. H:61 | BO6: Tâche :62 | BP6: Nb. H63 | BQ6: Tâche :64 | BR6: Nb. H:65 | BS6: Tâche :66 | BT6: Nb. H67 | BU6: Tâche :68 | BV6: Nb. H:69 | BW6: Tâche :70 | BX6: Nb. H71 | BY6: Tâche :72 | BZ6: Nb. H:73 | CA6: Tâche :74 | CB6: Nb. H75 | CC6: Tâche :76 | CD6: Nb. H:77 | CE6: Tâche :78 | CF6: Colonne79 | CG6: Colonne80 | CH6: Colonne81 | CI6: Colonne82 | CJ6: Nb. H83 | CK6: Tâche :84 | CL6: Nb. H:85 | CM6: Tâche :86 | CN6: Nb. H87 | CO6: Tâche :88 | CP6: Nb. H:89 | CQ6: Tâche :90 | CR6: Nb. H91 | CS6: Tâche :92 | CT6: Nb. H:93 | CU6: Tâche :94 | CV6: Nb. H95 | CW6: Tâche :96 | CX6: Nb. H:97 | CY6: Tâche :98 | CZ6: Nb. H99 | DA6: Tâche :100 | DB6: Nb. H:101 | DC6: Tâche :102 | DD6: Nb. H103 | DE6: Tâche :104 | DF6: Nb. H:105 | DG6: Tâche :106 | DH6: Colonne107 | DI6: Colonne108 | DJ6: Colonne109 | DK6: Colonne110 | DL6: Nb. H111 | DM6: Tâche :112 | DN6: Nb. H:113 | DO6: Tâche :114 | DP6: Nb. H115 | DQ6: Tâche :116 | DR6: Nb. H:117 | DS6: Tâche :118 | DT6: Nb. H119 | DU6: Tâche :120 | DV6: Nb. H:121 | DW6: Tâche :122 | DX6: Nb. H123 | DY6: Tâche :124 | DZ6: Nb. H:125 | EA6: Tâche :126 | EB6: Nb. H127 | EC6: Tâche :128 | ED6: Nb. H:129 | EE6: Tâche :130 | EF6: Nb. H131 | EG6: Tâche :132 | EH6: Nb. H:133 | EI6: Tâche :134 | EJ6: Colonne135 | EK6: Colonne136 | EL6: Colonne137 | EM6: Colonne138 | EN6: Nb. H139 | EO6: Tâche :140 | EP6: Nb. H:141 | EQ6: Tâche :142 | ER6: Nb. H143 | ES6: Tâche :144 | ET6: Nb. H:145 | EU6: Tâche :146 | EV6: Nb. H147 | EW6: Tâche :148 | EX6: Nb. H:149 | EY6: Tâche :150 | EZ6: Nb. H151 | FA6: Tâche :152 | FB6: Nb. H:153 | FC6: Tâche :154 | FD6: Nb. H155 | FE6: Tâche :156 | FF6: Nb. H:157 | FG6: Tâche :158 | FH6: Nb. H159 | FI6: Tâche :160 | FJ6: Nb. H:161 | FK6: Tâche :162 | FL6: Colonne163 | FM6: Colonne164 | FN6: Colonne165 | FO6: Colonne166 | FP6: Nb. H167 | FQ6: Tâche :168 | FR6: Nb. H:169 | FS6: Tâche :170 | FT6: Nb. H171 | FU6: Tâche :172 | FV6: Nb. H:173 | FW6: Tâche :174 | FX6: Nb. H175 | FY6: Tâche :176 | FZ6: Nb. H:177 | GA6: Tâche :178 | GB6: Nb. H179 | GC6: Tâche :180 | GD6: Nb. H:181 | GE6: Tâche :182 | GF6: Nb. H183 | GG6: Tâche :184 | GH6: Nb. H:185 | GI6: Tâche :186 | GJ6: Nb. H187 | GK6: Tâche :188 | GL6: Nb. H:189 | GM6: Tâche :190 | GN6: Colonne191 | GO6: Colonne192 | GP6: Colonne193 | GQ6: Colonne194 | GR6: Nb. H195 | GS6: Tâche :196 | GT6: Nb. H:197 | GU6: Tâche :198 | GV6: Nb. H199 | GW6: Tâche :200 | GX6: Nb. H:201 | GY6: Tâche :202 | GZ6: Nb. H203 | HA6: Tâche :204 | HB6: Nb. H:205 | HC6: Tâche :206 | HD6: Nb. H207 | HE6: Tâche :208 | HF6: Nb. H:209 | HG6: Tâche :210 | HH6: Nb. H211 | HI6: Tâche :212 | HJ6: Nb. H:213 | HK6: Tâche :214 | HL6: Nb. H215 | HM6: Tâche :216 | HN6: Nb. H:217 | HO6: Tâche :218 | HP6: Colonne219 | HQ6: Colonne220 | HR6: Colonne221 | HS6: Colonne222 | HT6: Nb. H223 | HU6: Tâche :224 | HV6: Nb. H:225 | HW6: Tâche :226 | HX6: Nb. H227 | HY6: Tâche :228 | HZ6: Nb. H:229 | IA6: Tâche :230 | IB6: Nb. H231 | IC6: Tâche :232 | ID6: Nb. H:233 | IE6: Tâche :234 | IF6: Nb. H235 | IG6: Tâche :236 | IH6: Nb. H:237 | II6: Tâche :238 | IJ6: Nb. H239 | IK6: Tâche :240 | IL6: Nb. H:241 | IM6: Tâche :242 | IN6: Nb. H243 | IO6: Tâche :244 | IP6: Nb. H:245 | IQ6: Tâche :246 | IR6: Colonne247 | IS6: Colonne248 | IT6: Colonne249 | IU6: Colonne250 | IV6: Nb. H251 | IW6: Tâche :252 | IX6: Nb. H:253 | IY6: Tâche :254 | IZ6: Nb. H255 | JA6: Tâche :256 | JB6: Nb. H:257 | JC6: Tâche :258 | JD6: Nb. H259 | JE6: Tâche :260 | JF6: Nb. H:261 | JG6: Tâche :262 | JH6: Nb. H263 | JI6: Tâche :264 | JJ6: Nb. H:265 | JK6: Tâche :266 | JL6: Nb. H267 | JM6: Tâche :268 | JN6: Nb. H:269 | JO6: Tâche :270 | JP6: Nb. H271 | JQ6: Tâche :272 | JR6: Nb. H:273 | JS6: Tâche :274 | JT6: Colonne275 | JU6: Colonne276 | JV6: Colonne277 | JW6: Colonne278 | JX6: Nb. H279 | JY6: Tâche :280 | JZ6: Nb. H:281 | KA6: Tâche :282 | KB6: Nb. H283 | KC6: Tâche :284 | KD6: Nb. H:285 | KE6: Tâche :286 | KF6: Nb. H287 | KG6: Tâche :288 | KH6: Nb. H:289 | KI6: Tâche :290 | KJ6: Nb. H291 | KK6: Tâche :292 | KL6: Nb. H:293 | KM6: Tâche :294 | KN6: Nb. H295 | KO6: Tâche :296 | KP6: Nb. H:297 | KQ6: Tâche :298 | KR6: Nb. H299 | KS6: Tâche :300 | KT6: Nb. H:301 | KU6: Tâche :302 | KV6: Colonne303 | KW6: Colonne304 | KX6: Colonne305 | KY6: Colonne306 | KZ6: Nb. H307 | LA6: Tâche :308 | LB6: Nb. H:309 | LC6: Tâche :310 | LD6: Nb. H311 | LE6: Tâche :312 | LF6: Nb. H:313 | LG6: Tâche :314 | LH6: Nb. H315 | LI6: Tâche :316 | LJ6: Nb. H:317 | LK6: Tâche :318 | LL6: Nb. H319 | LM6: Tâche :320 | LN6: Nb. H:321 | LO6: Tâche :322 | LP6: Nb. H323 | LQ6: Tâche :324 | LR6: Nb. H:325 | LS6: Tâche :326 | LT6: Nb. H327 | LU6: Tâche :328 | LV6: Nb. H:329 | LW6: Tâche :330 | LX6: Colonne331 | LY6: Colonne332 | LZ6: Colonne333 | MA6: Colonne334 | MB6: Nb. H335 | MC6: Tâche :336 | MD6: Nb. H:337 | ME6: Tâche :338 | MF6: Nb. H339 | MG6: Tâche :340 | MH6: Nb. H:341 | MI6: Tâche :342 | MJ6: Nb. H343 | MK6: Tâche :344 | ML6: Nb. H:345 | MM6: Tâche :346 | MN6: Nb. H347 | MO6: Tâche :348 | MP6: Nb. H:349 | MQ6: Tâche :350 | MR6: Nb. H351 | MS6: Tâche :352 | MT6: Nb. H:353 | MU6: Tâche :354 | MV6: Nb. H355 | MW6: Tâche :356 | MX6: Nb. H:357 | MY6: Tâche :358 | MZ6: Colonne359 | NA6: Colonne360 | NB6: Colonne361 | NC6: Colonne362 | ND6: Nb. H363 | NE6: Tâche :364 | NF6: Nb. H:365 | NG6: Tâche :366 | NH6: Nb. H367 | NI6: Tâche :368 | NJ6: Nb. H:369 | NK6: Tâche :370 | NL6: Nb. H371 | NM6: Tâche :372 | NN6: Nb. H:373 | NO6: Tâche :374 | NP6: Nb. H375 | NQ6: Tâche :376 | NR6: Nb. H:377 | NS6: Tâche :378 | NT6: Nb. H379 | NU6: Tâche :380 | NV6: Nb. H:381 | NW6: Tâche :382 | NX6: Nb. H383 | NY6: Tâche :384 | NZ6: Nb. H:385 | OA6: Tâche :386 | OB6: Colonne387 | OC6: Colonne388 | OD6: Colonne389 | OE6: Colonne390 | OF6: Nb. H391 | OG6: Tâche :392 | OH6: Nb. H:393 | OI6: Tâche :394 | OJ6: Nb. H395 | OK6: Tâche :396 | OL6: Nb. H:397 | OM6: Tâche :398 | ON6: Nb. H399 | OO6: Tâche :400 | OP6: Nb. H:401 | OQ6: Tâche :402 | OR6: Nb. H403 | OS6: Tâche :404 | OT6: Nb. H:405 | OU6: Tâche :406 | OV6: Nb. H407 | OW6: Tâche :408 | OX6: Nb. H:409 | OY6: Tâche :410 | OZ6: Nb. H411 | PA6: Tâche :412 | PB6: Nb. H:413 | PC6: Tâche :414 | PD6: Colonne415 | PE6: Colonne416 | PF6: Colonne417 | PG6: Colonne418 | PH6: Nb. H419 | PI6: Tâche :420 | PJ6: Nb. H:421 | PK6: Tâche :422 | PL6: Nb. H423 | PM6: Tâche :424 | PN6: Nb. H:425 | PO6: Tâche :426 | PP6: Nb. H427 | PQ6: Tâche :428 | PR6: Nb. H:429 | PS6: Tâche :430 | PT6: Nb. H431 | PU6: Tâche :432 | PV6: Nb. H:433 | PW6: Tâche :434 | PX6: Nb. H435 | PY6: Tâche :436 | PZ6: Nb. H:437 | QA6: Tâche :438 | QB6: Nb. H439 | QC6: Tâche :440 | QD6: Nb. H:441 | QE6: Tâche :442 | QF6: Colonne443 | QG6: Colonne444 | QH6: Colonne445 | QI6: Colonne446 | QJ6: Nb. H447 | QK6: Tâche :448 | QL6: Nb. H:449 | QM6: Tâche :450 | QN6: Nb. H451 | QO6: Tâche :452 | QP6: Nb. H:453 | QQ6: Tâche :454 | QR6: Nb. H455 | QS6: Tâche :456 | QT6: Nb. H:457 | QU6: Tâche :458 | QV6: Nb. H459 | QW6: Tâche :460 | QX6: Nb. H:461 | QY6: Tâche :462 | QZ6: Nb. H463 | RA6: Tâche :464 | RB6: Nb. H:465 | RC6: Tâche :466 | RD6: Nb. H467 | RE6: Tâche :468 | RF6: Nb. H:469 | RG6: Tâche :470 | RH6: Colonne471 | RI6: Colonne472 | RJ6: Colonne473 | RK6: Colonne474 | RL6: Nb. H475 | RM6: Tâche :476 | RN6: Nb. H:477 | RO6: Tâche :478 | RP6: Nb. H479 | RQ6: Tâche :480 | RR6: Nb. H:481 | RS6: Tâche :482 | RT6: Nb. H483 | RU6: Tâche :484 | RV6: Nb. H:485 | RW6: Tâche :486 | RX6: Nb. H487 | RY6: Tâche :488 | RZ6: Nb. H:489 | SA6: Tâche :490 | SB6: Nb. H491 | SC6: Tâche :492 | SD6: Nb. H:493 | SE6: Tâche :494 | SF6: Nb. H495 | SG6: Tâche :496 | SH6: Nb. H:497 | SI6: Tâche :498 | SJ6: Colonne499 | SK6: Colonne500 | SL6: Colonne501 | SM6: Colonne502 | SN6: Nb. H503 | SO6: Tâche :504 | SP6: Nb. H:505 | SQ6: Tâche :506 | SR6: Nb. H507 | SS6: Tâche :508 | ST6: Nb. H:509 | SU6: Tâche :510 | SV6: Nb. H511 | SW6: Tâche :512 | SX6: Nb. H:513 | SY6: Tâche :514 | SZ6: Nb. H515 | TA6: Tâche :516 | TB6: Nb. H:517 | TC6: Tâche :518 | TD6: Nb. H519 | TE6: Tâche :520 | TF6: Nb. H:521 | TG6: Tâche :522 | TH6: Nb. H523 | TI6: Tâche :524 | TJ6: Nb. H:525 | TK6: Tâche :526 | TL6: Colonne527 | TM6: Colonne528 | TN6: Colonne529 | TO6: Colonne530 | TP6: Nb. H531 | TQ6: Tâche :532 | TR6: Nb. H:533 | TS6: Tâche :534 | TT6: Nb. H535 | TU6: Tâche :536 | TV6: Nb. H:537 | TW6: Tâche :538 | TX6: Nb. H539 | TY6: Tâche :540 | TZ6: Nb. H:541 | UA6: Tâche :542 | UB6: Nb. H543 | UC6: Tâche :544 | UD6: Nb. H:545 | UE6: Tâche :546 | UF6: Nb. H547 | UG6: Tâche :548 | UH6: Nb. H:549 | UI6: Tâche :550 | UJ6: Nb. H551 | UK6: Tâche :552 | UL6: Nb. H:553 | UM6: Tâche :554 | UN6: Colonne555 | UO6: Colonne556 | UP6: Colonne557 | UQ6: Colonne558 | UR6: Nb. H559 | US6: Tâche :560 | UT6: Nb. H:561 | UU6: Tâche :562 | UV6: Nb. H563 | UW6: Tâche :564 | UX6: Nb. H:565 | UY6: Tâche :566 | UZ6: Nb. H567 | VA6: Tâche :568 | VB6: Nb. H:569 | VC6: Tâche :570 | VD6: Nb. H571 | VE6: Tâche :572 | VF6: Nb. H:573 | VG6: Tâche :574 | VH6: Nb. H575 | VI6: Tâche :576 | VJ6: Nb. H:577 | VK6: Tâche :578 | VL6: Nb. H579 | VM6: Tâche :580 | VN6: Nb. H:581 | VO6: Tâche :582 | VP6: Colonne583 | VQ6: Colonne584 | VR6: Colonne585 | VS6: Colonne586 | VT6: Nb. H587 | VU6: Tâche :588 | VV6: Nb. H:589 | VW6: Tâche :590 | VX6: Nb. H591 | VY6: Tâche :592 | VZ6: Nb. H:593 | WA6: Tâche :594 | WB6: Nb. H595 | WC6: Tâche :596 | WD6: Nb. H:597 | WE6: Tâche :598 | WF6: Nb. H599 | WG6: Tâche :600 | WH6: Nb. H:601 | WI6: Tâche :602 | WJ6: Nb. H603 | WK6: Tâche :604 | WL6: Nb. H:605 | WM6: Tâche :606 | WN6: Nb. H607 | WO6: Tâche :608 | WP6: Nb. H:609 | WQ6: Tâche :610 | WR6: Colonne611 | WS6: Colonne612 | WT6: Colonne613 | WU6: Colonne614 | WV6: Nb. H615 | WW6: Tâche :616 | WX6: Nb. H:617 | WY6: Tâche :618 | WZ6: Nb. H619 | XA6: Tâche :620 | XB6: Nb. H:621 | XC6: Tâche :622 | XD6: Nb. H623 | XE6: Tâche :624 | XF6: Nb. H:625 | XG6: Tâche :626 | XH6: Nb. H627 | XI6: Tâche :628 | XJ6: Nb. H:629 | XK6: Tâche :630 | XL6: Nb. H631 | XM6: Tâche :632 | XN6: Nb. H:633 | XO6: Tâche :634 | XP6: Nb. H635 | XQ6: Tâche :636 | XR6: Nb. H:637 | XS6: Tâche :638 | XT6: Colonne639 | XU6: Colonne640 | XV6: Colonne641 | XW6: Colonne642 | XX6: Nb. H643 | XY6: Tâche :644 | XZ6: Nb. H:645 | YA6: Tâche :646 | YB6: Nb. H647 | YC6: Tâche :648 | YD6: Nb. H:649 | YE6: Tâche :650 | YF6: Nb. H651 | YG6: Tâche :652 | YH6: Nb. H:653 | YI6: Tâche :654 | YJ6: Nb. H655 | YK6: Tâche :656 | YL6: Nb. H:657 | YM6: Tâche :658 | YN6: Nb. H659 | YO6: Tâche :660 | YP6: Nb. H:661 | YQ6: Tâche :662 | YR6: Nb. H663 | YS6: Tâche :664 | YT6: Nb. H:665 | YU6: Tâche :666 | YV6: Colonne667 | YW6: Colonne668 | YX6: Colonne669 | YY6: Colonne670 | YZ6: Nb. H671 | ZA6: Tâche :672 | ZB6: Nb. H:673 | ZC6: Tâche :674 | ZD6: Nb. H675 | ZE6: Tâche :676 | ZF6: Nb. H:677 | ZG6: Tâche :678 | ZH6: Nb. H679 | ZI6: Tâche :680 | ZJ6: Nb. H:681 | ZK6: Tâche :682 | ZL6: Nb. H683 | ZM6: Tâche :684 | ZN6: Nb. H:685 | ZO6: Tâche :686 | ZP6: Nb. H687 | ZQ6: Tâche :688 | ZR6: Nb. H:689 | ZS6: Tâche :690 | ZT6: Nb. H691 | ZU6: Tâche :692 | ZV6: Nb. H:693 | ZW6: Tâche :694 | ZX6: Colonne695 | ZY6: Colonne696 | ZZ6: Colonne697 | AAA6: Colonne698 | AAB6: Nb. H699 | AAC6: Tâche :700 | AAD6: Nb. H:701 | AAE6: Tâche :702 | AAF6: Nb. H703 | AAG6: Tâche :704 | AAH6: Nb. H:705 | AAI6: Tâche :706 | AAJ6: Nb. H707 | AAK6: Tâche :708 | AAL6: Nb. H:709 | AAM6: Tâche :710 | AAN6: Nb. H711 | AAO6: Tâche :712 | AAP6: Nb. H:713 | AAQ6: Tâche :714 | AAR6: Nb. H715 | AAS6: Tâche :716 | AAT6: Nb. H:717 | AAU6: Tâche :718 | AAV6: Nb. H719 | AAW6: Tâche :720 | AAX6: Nb. H:721 | AAY6: Tâche :722 | AAZ6: Colonne723 | ABA6: Colonne724 | ABB6: Colonne725 | ABC6: Colonne726 | ABD6: Nb. H727 | ABE6: Tâche :728 | ABF6: Nb. H:729 | ABG6: Tâche :730 | ABH6: Nb. H731 | ABI6: Tâche :732 | ABJ6: Nb. H:733 | ABK6: Tâche :734 | ABL6: Nb. H735 | ABM6: Tâche :736 | ABN6: Nb. H:737 | ABO6: Tâche :738 | ABP6: Nb. H739 | ABQ6: Tâche :740 | ABR6: Nb. H:741 | ABS6: Tâche :742 | ABT6: Nb. H743 | ABU6: Tâche :744 | ABV6: Nb. H:745 | ABW6: Tâche :746 | ABX6: Nb. H747 | ABY6: Tâche :748 | ABZ6: Nb. H:749 | ACA6: Tâche :750 | ACB6: Colonne751 | ACC6: Colonne752 | ACD6: Colonne753 | ACE6: Colonne754 | ACF6: Nb. H755 | ACG6: Tâche :756 | ACH6: Nb. H:757 | ACI6: Tâche :758 | ACJ6: Nb. H759 | ACK6: Tâche :760 | ACL6: Nb. H:761 | ACM6: Tâche :762 | ACN6: Nb. H763 | ACO6: Tâche :764 | ACP6: Nb. H:765 | ACQ6: Tâche :766 | ACR6: Nb. H767 | ACS6: Tâche :768 | ACT6: Nb. H:769 | ACU6: Tâche :770 | ACV6: Nb. H771 | ACW6: Tâche :772 | ACX6: Nb. H:773 | ACY6: Tâche :774 | ACZ6: Nb. H775 | ADA6: Tâche :776 | ADB6: Nb. H:777 | ADC6: Tâche :778 | ADD6: Colonne779 | ADE6: Colonne780 | ADF6: Colonne781 | ADG6: Colonne782 | ADH6: Nb. H783 | ADI6: Tâche :784 | ADJ6: Nb. H:785 | ADK6: Tâche :786 | ADL6: Nb. H787 | ADM6: Tâche :788 | ADN6: Nb. H:789 | ADO6: Tâche :790 | ADP6: Nb. H791 | ADQ6: Tâche :792 | ADR6: Nb. H:793 | ADS6: Tâche :794 | ADT6: Nb. H795 | ADU6: Tâche :796 | ADV6: Nb. H:797 | ADW6: Tâche :798 | ADX6: Nb. H799 | ADY6: Tâche :800 | ADZ6: Nb. H:801 | AEA6: Tâche :802 | AEB6: Nb. H803 | AEC6: Tâche :804 | AED6: Nb. H:805 | AEE6: Tâche :806 | AEF6: Colonne807 | AEG6: Colonne808 | AEH6: Colonne809 | AEI6: Colonne810 | AEJ6: Nb. H811 | AEK6: Tâche :812 | AEL6: Nb. H:813 | AEM6: Tâche :814 | AEN6: Nb. H815 | AEO6: Tâche :816 | AEP6: Nb. H:817 | AEQ6: Tâche :818 | AER6: Nb. H819 | AES6: Tâche :820 | AET6: Nb. H:821 | AEU6: Tâche :822 | AEV6: Nb. H823 | AEW6: Tâche :824 | AEX6: Nb. H:825 | AEY6: Tâche :826 | AEZ6: Nb. H827 | AFA6: Tâche :828 | AFB6: Nb. H:829 | AFC6: Tâche :830 | AFD6: Nb. H831 | AFE6: Tâche :832 | AFF6: Nb. H:833 | AFG6: Tâche :834 | AFH6: Colonne835 | AFI6: Colonne836 | AFJ6: Colonne837 | AFK6: Colonne838 | AFL6: Nb. H839 | AFM6: Tâche :840 | AFN6: Nb. H:841 | AFO6: Tâche :842 | AFP6: Nb. H843 | AFQ6: Tâche :844 | AFR6: Nb. H:845 | AFS6: Tâche :846 | AFT6: Nb. H847 | AFU6: Tâche :848 | AFV6: Nb. H:849 | AFW6: Tâche :850 | AFX6: Nb. H851 | AFY6: Tâche :852 | AFZ6: Nb. H:853 | AGA6: Tâche :854 | AGB6: Nb. H855 | AGC6: Tâche :856 | AGD6: Nb. H:857 | AGE6: Tâche :858 | AGF6: Nb. H859 | AGG6: Tâche :860 | AGH6: Nb. H:861 | AGI6: Tâche :862 | AGJ6: Colonne863 | AGK6: Colonne864 | AGL6: Colonne865 | AGM6: Colonne866 | AGN6: Nb. H867 | AGO6: Tâche :868 | AGP6: Nb. H:869 | AGQ6: Tâche :870 | AGR6: Nb. H871 | AGS6: Tâche :872 | AGT6: Nb. H:873 | AGU6: Tâche :874 | AGV6: Nb. H875 | AGW6: Tâche :876 | AGX6: Nb. H:877 | AGY6: Tâche :878 | AGZ6: Nb. H879 | AHA6: Tâche :880 | AHB6: Nb. H:881 | AHC6: Tâche :882 | AHD6: Nb. H883 | AHE6: Tâche :884 | AHF6: Nb. H:885 | AHG6: Tâche :886 | AHH6: Nb. H887 | AHI6: Tâche :888 | AHJ6: Nb. H:889 | AHK6: Tâche :890 | AHL6: Colonne891 | AHM6: Colonne892 | AHN6: Colonne893 | AHO6: Colonne894 | AHP6: Nb. H895 | AHQ6: Tâche :896 | AHR6: Nb. H:897 | AHS6: Tâche :898 | AHT6: Nb. H899 | AHU6: Tâche :900 | AHV6: Nb. H:901 | AHW6: Tâche :902 | AHX6: Nb. H903 | AHY6: Tâche :904 | AHZ6: Nb. H:905 | AIA6: Tâche :906 | AIB6: Nb. H907 | AIC6: Tâche :908 | AID6: Nb. H:909 | AIE6: Tâche :910 | AIF6: Nb. H911 | AIG6: Tâche :912 | AIH6: Nb. H:913 | AII6: Tâche :914 | AIJ6: Nb. H915 | AIK6: Tâche :916 | AIL6: Nb. H:917 | AIM6: Tâche :918 | AIN6: Colonne919 | AIO6: Colonne920 | AIP6: Colonne921 | AIQ6: Colonne922 | AIR6: Nb. H923 | AIS6: Tâche :924 | AIT6: Nb. H:925 | AIU6: Tâche :926 | AIV6: Nb. H927 | AIW6: Tâche :928 | AIX6: Nb. H:929 | AIY6: Tâche :930 | AIZ6: Nb. H931 | AJA6: Tâche :932 | AJB6: Nb. H:933 | AJC6: Tâche :934 | AJD6: Nb. H935 | AJE6: Tâche :936 | AJF6: Nb. H:937 | AJG6: Tâche :938 | AJH6: Nb. H939 | AJI6: Tâche :940 | AJJ6: Nb. H:941 | AJK6: Tâche :942 | AJL6: Nb. H943 | AJM6: Tâche :944 | AJN6: Nb. H:945 | AJO6: Tâche :946 | AJP6: Colonne947 | AJQ6: Colonne948 | AJR6: Colonne949 | AJS6: Colonne950 | AJT6: Nb. H951 | AJU6: Tâche :952 | AJV6: Nb. H:953 | AJW6: Tâche :954 | AJX6: Nb. H955 | AJY6: Tâche :956 | AJZ6: Nb. H:957 | AKA6: Tâche :958 | AKB6: Nb. H959 | AKC6: Tâche :960 | AKD6: Nb. H:961 | AKE6: Tâche :962 | AKF6: Nb. H963 | AKG6: Tâche :964 | AKH6: Nb. H:965 | AKI6: Tâche :966 | AKJ6: Nb. H967 | AKK6: Tâche :968 | AKL6: Nb. H:969 | AKM6: Tâche :970 | AKN6: Nb. H971 | AKO6: Tâche :972 | AKP6: Nb. H:973 | AKQ6: Tâche :974 | AKR6: Colonne975 | AKS6: Colonne976 | AKT6: Colonne977 | AKU6: Colonne978 | AKV6: Nb. H979 | AKW6: Tâche :980 | AKX6: Nb. H:981 | AKY6: Tâche :982 | AKZ6: Nb. H983 | ALA6: Tâche :984 | ALB6: Nb. H:985 | ALC6: Tâche :986 | ALD6: Nb. H987 | ALE6: Tâche :988 | ALF6: Nb. H:989 | ALG6: Tâche :990 | ALH6: Nb. H991 | ALI6: Tâche :992 | ALJ6: Nb. H:993 | ALK6: Tâche :994 | ALL6: Nb. H995 | ALM6: Tâche :996 | ALN6: Nb. H:997 | ALO6: Tâche :998 | ALP6: Nb. H999 | ALQ6: Tâche :1000 | ALR6: Nb. H:1001 | ALS6: Tâche :1002 | ALT6: Colonne1003 | ALU6: Colonne1004 | ALV6: Colonne1005 | ALW6: Colonne1006 | ALX6: Nb. H1007 | ALY6: Tâche :1008 | ALZ6: Nb. H:1009 | AMA6: Tâche :1010 | AMB6: Nb. H1011 | AMC6: Tâche :1012 | AMD6: Nb. H:1013 | AME6: Tâche :1014 | AMF6: Nb. H1015 | AMG6: Tâche :1016 | AMH6: Nb. H:1017 | AMI6: Tâche :1018 | AMJ6: Nb. H1019 | AMK6: Tâche :1020 | AML6: Nb. H:1021 | AMM6: Tâche :1022 | AMN6: Nb. H1023 | AMO6: Tâche :1024 | AMP6: Nb. H:1025 | AMQ6: Tâche :1026 | AMR6: Nb. H1027 | AMS6: Tâche :1028 | AMT6: Nb. H:1029 | AMU6: Tâche :1030 | AMV6: Colonne1031 | AMW6: Colonne1032 | AMX6: Colonne1033 | AMY6: Colonne1034 | AMZ6: Nb. H1035 | ANA6: Tâche :1036 | ANB6: Nb. H:1037 | ANC6: Tâche :1038 | AND6: Nb. H1039 | ANE6: Tâche :1040 | ANF6: Nb. H:1041 | ANG6: Tâche :1042 | ANH6: Nb. H1043 | ANI6: Tâche :1044 | ANJ6: Nb. H:1045 | ANK6: Tâche :1046 | ANL6: Nb. H1047 | ANM6: Tâche :1048 | ANN6: Nb. H:1049 | ANO6: Tâche :1050 | ANP6: Nb. H1051 | ANQ6: Tâche :1052 | ANR6: Nb. H:1053 | ANS6: Tâche :1054 | ANT6: Nb. H1055 | ANU6: Tâche :1056 | ANV6: Nb. H:1057 | ANW6: Tâche :1058 | ANX6: Colonne1059 | ANY6: Colonne1060 | ANZ6: Colonne1061 | AOA6: Colonne1062 | AOB6: Nb. H1063 | AOC6: Tâche :1064 | AOD6: Nb. H:1065 | AOE6: Tâche :1066 | AOF6: Nb. H1067 | AOG6: Tâche :1068 | AOH6: Nb. H:1069 | AOI6: Tâche :1070 | AOJ6: Nb. H1071 | AOK6: Tâche :1072 | AOL6: Nb. H:1073 | AOM6: Tâche :1074 | AON6: Nb. H1075 | AOO6: Tâche :1076 | AOP6: Nb. H:1077 | AOQ6: Tâche :1078 | AOR6: Nb. H1079 | AOS6: Tâche :1080 | AOT6: Nb. H:1081 | AOU6: Tâche :1082 | AOV6: Nb. H1083 | AOW6: Tâche :1084 | AOX6: Nb. H:1085 | AOY6: Tâche :1086 | AOZ6: Colonne1087 | APA6: Colonne1088 | APB6: Colonne1089 | APC6: Colonne1090 | APD6: Nb. H1091 | APE6: Tâche :1092 | APF6: Nb. H:1093 | APG6: Tâche :1094 | APH6: Nb. H1095 | API6: Tâche :1096 | APJ6: Nb. H:1097 | APK6: Tâche :1098 | APL6: Nb. H1099 | APM6: Tâche :1100 | APN6: Nb. H:1101 | APO6: Tâche :1102 | APP6: Nb. H1103 | APQ6: Tâche :1104 | APR6: Nb. H:1105 | APS6: Tâche :1106 | APT6: Nb. H1107 | APU6: Tâche :1108 | APV6: Nb. H:1109 | APW6: Tâche :1110 | APX6: Nb. H1111 | APY6: Tâche :1112 | APZ6: Nb. H:1113 | AQA6: Tâche :1114 | AQB6: Colonne1115 | AQC6: Colonne1116 | AQD6: Colonne1117 | AQE6: Colonne1118 | AQF6: Nb. H1119 | AQG6: Tâche :1120 | AQH6: Nb. H:1121 | AQI6: Tâche :1122 | AQJ6: Nb. H1123 | AQK6: Tâche :1124 | AQL6: Nb. H:1125 | AQM6: Tâche :1126 | AQN6: Nb. H1127 | AQO6: Tâche :1128 | AQP6: Nb. H:1129 | AQQ6: Tâche :1130 | AQR6: Nb. H1131 | AQS6: Tâche :1132 | AQT6: Nb. H:1133 | AQU6: Tâche :1134 | AQV6: Nb. H1135 | AQW6: Tâche :1136 | AQX6: Nb. H:1137 | AQY6: Tâche :1138 | AQZ6: Nb. H1139 | ARA6: Tâche :1140 | ARB6: Nb. H:1141 | ARC6: Tâche :1142 | ARD6: Colonne1143 | ARE6: Colonne1144 | ARF6: Colonne1145 | ARG6: Colonne1146 | ARH6: Nb. H1147 | ARI6: Tâche :1148 | ARJ6: Nb. H:1149 | ARK6: Tâche :1150 | ARL6: Nb. H1151 | ARM6: Tâche :1152 | ARN6: Nb. H:1153 | ARO6: Tâche :1154 | ARP6: Nb. H1155 | ARQ6: Tâche :1156 | ARR6: Nb. H:1157 | ARS6: Tâche :1158 | ART6: Nb. H1159 | ARU6: Tâche :1160 | ARV6: Nb. H:1161 | ARW6: Tâche :1162 | ARX6: Nb. H1163 | ARY6: Tâche :1164 | ARZ6: Nb. H:1165 | ASA6: Tâche :1166 | ASB6: Nb. H1167 | ASC6: Tâche :1168 | ASD6: Nb. H:1169 | ASE6: Tâche :1170 | ASF6: Colonne1171 | ASG6: Colonne1172 | ASH6: Colonne1173 | ASI6: Colonne1174 | ASJ6: Nb. H1175 | ASK6: Tâche :1176 | ASL6: Nb. H:1177 | ASM6: Tâche :1178 | ASN6: Nb. H1179 | ASO6: Tâche :1180 | ASP6: Nb. H:1181 | ASQ6: Tâche :1182 | ASR6: Nb. H1183 | ASS6: Tâche :1184 | AST6: Nb. H:1185 | ASU6: Tâche :1186 | ASV6: Nb. H1187 | ASW6: Tâche :1188 | ASX6: Nb. H:1189 | ASY6: Tâche :1190 | ASZ6: Nb. H1191 | ATA6: Tâche :1192 | ATB6: Nb. H:1193 | ATC6: Tâche :1194 | ATD6: Nb. H1195 | ATE6: Tâche :1196 | ATF6: Nb. H:1197 | ATG6: Tâche :1198 | ATH6: Colonne1199 | ATI6: Colonne1200 | ATJ6: Colonne1201 | ATK6: Colonne1202 | ATL6: Nb. H1203 | ATM6: Tâche :1204 | ATN6: Nb. H:1205 | ATO6: Tâche :1206 | ATP6: Nb. H1207 | ATQ6: Tâche :1208 | ATR6: Nb. H:1209 | ATS6: Tâche :1210 | ATT6: Nb. H1211 | ATU6: Tâche :1212 | ATV6: Nb. H:1213 | ATW6: Tâche :1214 | ATX6: Nb. H1215 | ATY6: Tâche :1216 | ATZ6: Nb. H:1217 | AUA6: Tâche :1218 | AUB6: Nb. H1219 | AUC6: Tâche :1220 | AUD6: Nb. H:1221 | AUE6: Tâche :1222 | AUF6: Nb. H1223 | AUG6: Tâche :1224 | AUH6: Nb. H:1225 | AUI6: Tâche :1226 | AUJ6: Colonne1227 | AUK6: Colonne1228 | AUL6: Colonne1229 | AUM6: Colonne1230 | AUN6: Nb. H1231 | AUO6: Tâche :1232 | AUP6: Nb. H:1233 | AUQ6: Tâche :1234 | AUR6: Nb. H1235 | AUS6: Tâche :1236 | AUT6: Nb. H:1237 | AUU6: Tâche :1238 | AUV6: Nb. H1239 | AUW6: Tâche :1240 | AUX6: Nb. H:1241 | AUY6: Tâche :1242 | AUZ6: Nb. H1243 | AVA6: Tâche :1244 | AVB6: Nb. H:1245 | AVC6: Tâche :1246 | AVD6: Nb. H1247 | AVE6: Tâche :1248 | AVF6: Nb. H:1249 | AVG6: Tâche :1250 | AVH6: Nb. H1251 | AVI6: Tâche :1252 | AVJ6: Nb. H:1253 | AVK6: Tâche :1254 | AVL6: Colonne1255 | AVM6: Colonne1256 | AVN6: Colonne1257 | AVO6: Colonne1258 | AVP6: Nb. H1259 | AVQ6: Tâche :1260 | AVR6: Nb. H:1261 | AVS6: Tâche :1262 | AVT6: Nb. H1263 | AVU6: Tâche :1264 | AVV6: Nb. H:1265 | AVW6: Tâche :1266 | AVX6: Nb. H1267 | AVY6: Tâche :1268 | AVZ6: Nb. H:1269 | AWA6: Tâche :1270 | AWB6: Nb. H1271 | AWC6: Tâche :1272 | AWD6: Nb. H:1273 | AWE6: Tâche :1274 | AWF6: Nb. H1275 | AWG6: Tâche :1276 | AWH6: Nb. H:1277 | AWI6: Tâche :1278 | AWJ6: Nb. H1279 | AWK6: Tâche :1280 | AWL6: Nb. H:1281 | AWM6: Tâche :1282 | AWN6: Colonne1283 | AWO6: Colonne1284 | AWP6: Colonne1285 | AWQ6: Colonne1286 | AWR6: Nb. H1287 | AWS6: Tâche :1288 | AWT6: Nb. H:1289 | AWU6: Tâche :1290 | AWV6: Nb. H1291 | AWW6: Tâche :1292 | AWX6: Nb. H:1293 | AWY6: Tâche :1294 | AWZ6: Nb. H1295 | AXA6: Tâche :1296 | AXB6: Nb. H:1297 | AXC6: Tâche :1298 | AXD6: Nb. H1299 | AXE6: Tâche :1300 | AXF6: Nb. H:1301 | AXG6: Tâche :1302 | AXH6: Nb. H1303 | AXI6: Tâche :1304 | AXJ6: Nb. H:1305 | AXK6: Tâche :1306 | AXL6: Nb. H1307 | AXM6: Tâche :1308 | AXN6: Nb. H:1309 | AXO6: Tâche :1310 | AXP6: Colonne1311 | AXQ6: Colonne1312 | AXR6: Colonne1313 | AXS6: Colonne1314 | AXT6: Nb. H1315 | AXU6: Tâche :1316 | AXV6: Nb. H:1317 | AXW6: Tâche :1318 | AXX6: Nb. H1319 | AXY6: Tâche :1320 | AXZ6: Nb. H:1321 | AYA6: Tâche :1322 | AYB6: Nb. H1323 | AYC6: Tâche :1324 | AYD6: Nb. H:1325 | AYE6: Tâche :1326 | AYF6: Nb. H1327 | AYG6: Tâche :1328 | AYH6: Nb. H:1329 | AYI6: Tâche :1330 | AYJ6: Nb. H1331 | AYK6: Tâche :1332 | AYL6: Nb. H:1333 | AYM6: Tâche :1334 | AYN6: Nb. H1335 | AYO6: Tâche :1336 | AYP6: Nb. H:1337 | AYQ6: Tâche :1338 | AYR6: Colonne1339 | AYS6: Colonne1340 | AYT6: Colonne1341 | AYU6: Colonne1342 | AYV6: Nb. H1343 | AYW6: Tâche :1344 | AYX6: Nb. H:1345 | AYY6: Tâche :1346 | AYZ6: Nb. H1347 | AZA6: Tâche :1348 | AZB6: Nb. H:1349 | AZC6: Tâche :1350 | AZD6: Nb. H1351 | AZE6: Tâche :1352 | AZF6: Nb. H:1353 | AZG6: Tâche :1354 | AZH6: Nb. H1355 | AZI6: Tâche :1356 | AZJ6: Nb. H:1357 | AZK6: Tâche :1358 | AZL6: Nb. H1359 | AZM6: Tâche :1360 | AZN6: Nb. H:1361 | AZO6: Tâche :1362 | AZP6: Nb. H1363 | AZQ6: Tâche :1364 | AZR6: Nb. H:1365 | AZS6: Tâche :1366 | AZT6: Colonne1367 | AZU6: Colonne1368 | AZV6: Colonne1369 | AZW6: Colonne1370 | AZX6: Nb. H1371 | AZY6: Tâche :1372 | AZZ6: Nb. H:1373 | BAA6: Tâche :1374 | BAB6: Nb. H1375 | BAC6: Tâche :1376 | BAD6: Nb. H:1377 | BAE6: Tâche :1378 | BAF6: Nb. H1379 | BAG6: Tâche :1380 | BAH6: Nb. H:1381 | BAI6: Tâche :1382 | BAJ6: Nb. H1383 | BAK6: Tâche :1384 | BAL6: Nb. H:1385 | BAM6: Tâche :1386 | BAN6: Nb. H1387 | BAO6: Tâche :1388 | BAP6: Nb. H:1389 | BAQ6: Tâche :1390 | BAR6: Nb. H1391 | BAS6: Tâche :1392 | BAT6: Nb. H:1393 | BAU6: Tâche :1394 | BAV6: Colonne1395 | BAW6: Colonne1396 | BAX6: Colonne1397 | BAY6: Colonne1398 | BAZ6: Nb. H1399 | BBA6: Tâche :1400 | BBB6: Nb. H:1401 | BBC6: Tâche :1402 | BBD6: Nb. H1403 | BBE6: Tâche :1404 | BBF6: Nb. H:1405 | BBG6: Tâche :1406 | BBH6: Nb. H1407 | BBI6: Tâche :1408 | BBJ6: Nb. H:1409 | BBK6: Tâche :1410 | BBL6: Nb. H1411 | BBM6: Tâche :1412 | BBN6: Nb. H:1413 | BBO6: Tâche :1414 | BBP6: Nb. H1415 | BBQ6: Tâche :1416 | BBR6: Nb. H:1417 | BBS6: Tâche :1418 | BBT6: Nb. H1419 | BBU6: Tâche :1420 | BBV6: Nb. H:1421 | BBW6: Tâche :1422 | BBX6: Colonne1423 | BBY6: Colonne1424 | BBZ6: Colonne1425 | BCA6: Colonne1426 | BCB6: Nb. H1427 | BCC6: Tâche :1428 | BCD6: Nb. H:1429 | BCE6: Tâche :1430 | BCF6: Nb. H1431 | BCG6: Tâche :1432 | BCH6: Nb. H:1433 | BCI6: Tâche :1434 | BCJ6: Nb. H1435 | BCK6: Tâche :1436 | BCL6: Nb. H:1437 | BCM6: Tâche :1438 | BCN6: Nb. H1439 | BCO6: Tâche :1440 | BCP6: Nb. H:1441 | BCQ6: Tâche :1442 | BCR6: Nb. H1443 | BCS6: Tâche :1444 | BCT6: Nb. H:1445 | BCU6: Tâche :1446 | BCV6: Nb. H1447 | BCW6: Tâche :1448 | BCX6: Nb. H:1449 | BCY6: Tâche :1450 | BCZ6: Colonne1451 | BDA6: Colonne1452 | BDB6: Colonne1453 | BDC6: Colonne1454 | BDD6: Nb. H1455 | BDE6: Tâche :1456 | BDF6: Nb. H:1457 | BDG6: Tâche :1458 | BDH6: Nb. H1459 | BDI6: Tâche :1460 | BDJ6: Nb. H:1461 | BDK6: Tâche :1462 | BDL6: Nb. H1463 | BDM6: Tâche :1464 | BDN6: Nb. H:1465 | BDO6: Tâche :1466 | BDP6: Nb. H1467 | BDQ6: Tâche :1468 | BDR6: Nb. H:1469 | BDS6: Tâche :1470 | BDT6: Nb. H1471 | BDU6: Tâche :1472 | BDV6: Nb. H:1473 | BDW6: Tâche :1474 | BDX6: Nb. H1475 | BDY6: Tâche :1476 | BDZ6: Nb. H:1477 | BEA6: Tâche :1478 | BEB6: Colonne1479
A7: Informatique | B7: A | C7: R | D7: 4 | E7: Stratégie | F7: 4 | G7: Maintenance | H7: 4 | I7: Stratégie | J7: 4 | K7: Maintenance | L7: 4 | M7: Stratégie | N7: 4 | O7: Maintenance | P7: 4 | Q7: Stratégie | R7: 4 | S7: Maintenance | T7: 4 | U7: Stratégie | V7: 4 | W7: Maintenance | X7: 4 | Y7: Stratégie | Z7: 4 | AA7: Maintenance | AB7: =SUM(D7:AA7) -> 48 | AF7: 4 | AG7: Stratégie | AH7: 4 | AI7: Maintenance | AJ7: 4 | AK7: Stratégie | AL7: 4 | AM7: Maintenance | AN7: 4 | AO7: Stratégie | AP7: 4 | AQ7: Maintenance | AR7: 4 | AS7: Stratégie | AT7: 4 | AU7: Maintenance | AV7: 4 | AW7: Stratégie | AX7: 4 | AY7: Maintenance | AZ7: 4 | BA7: Stratégie | BB7: 4 | BC7: Maintenance | BD7: =SUM(AF7:BC7) -> 48 | BH7: 4 | BI7: Stratégie | BJ7: 4 | BK7: Maintenance | BL7: 4 | BM7: Stratégie | BN7: 4 | BO7: Maintenance | BP7: 4 | BQ7: Stratégie | BR7: 4 | BS7: Maintenance | BT7: 4 | BU7: Stratégie | BV7: 4 | BW7: Maintenance | BX7: 4 | BY7: Stratégie | BZ7: 4 | CA7: Maintenance | CB7: 4 | CC7: Stratégie | CD7: 4 | CE7: Maintenance | CF7: =SUM(BH7:CE7) -> 48 | CJ7: 4 | CK7: Stratégie | CL7: 4 | CM7: Maintenance | CN7: 4 | CO7: Stratégie | CP7: 4 | CQ7: Maintenance | CR7: 4 | CS7: Stratégie | CT7: 4 | CU7: Maintenance | CV7: 4 | CW7: Stratégie | CX7: 4 | CY7: Maintenance | CZ7: 4 | DA7: Stratégie | DB7: 4 | DC7: Maintenance | DD7: 4 | DE7: Stratégie | DF7: 4 | DG7: Maintenance | DH7: =SUM(CJ7:DG7) -> 48 | DL7: 4 | DM7: Stratégie | DN7: 4 | DO7: Maintenance | DP7: 4 | DQ7: Stratégie | DR7: 4 | DS7: Maintenance | DT7: 4 | DU7: Stratégie | DV7: 4 | DW7: Maintenance | DX7: 4 | DY7: Stratégie | DZ7: 4 | EA7: Maintenance | EB7: 4 | EC7: Stratégie | ED7: 4 | EE7: Maintenance | EF7: 4 | EG7: Stratégie | EH7: 4 | EI7: Maintenance | EJ7: =SUM(DL7:EI7) -> 48 | EN7: 4 | EO7: Stratégie | EP7: 4 | EQ7: Maintenance | ER7: 4 | ES7: Stratégie | ET7: 4 | EU7: Maintenance | EV7: 4 | EW7: Stratégie | EX7: 4 | EY7: Maintenance | EZ7: 4 | FA7: Stratégie | FB7: 4 | FC7: Maintenance | FD7: 4 | FE7: Stratégie | FF7: 4 | FG7: Maintenance | FH7: 4 | FI7: Stratégie | FJ7: 4 | FK7: Maintenance | FL7: =SUM(EN7:FK7) -> 48 | FP7: 4 | FQ7: Stratégie | FR7: 4 | FS7: Maintenance | FT7: 4 | FU7: Stratégie | FV7: 4 | FW7: Maintenance | FX7: 4 | FY7: Stratégie | FZ7: 4 | GA7: Maintenance | GB7: 4 | GC7: Stratégie | GD7: 4 | GE7: Maintenance | GF7: 4 | GG7: Stratégie | GH7: 4 | GI7: Maintenance | GJ7: 4 | GK7: Stratégie | GL7: 4 | GM7: Maintenance | GN7: =SUM(FP7:GM7) -> 48 | GR7: 4 | GS7: Stratégie | GT7: 4 | GU7: Maintenance | GV7: 4 | GW7: Stratégie | GX7: 4 | GY7: Maintenance | GZ7: 4 | HA7: Stratégie | HB7: 4 | HC7: Maintenance | HD7: 4 | HE7: Stratégie | HF7: 4 | HG7: Maintenance | HH7: 4 | HI7: Stratégie | HJ7: 4 | HK7: Maintenance | HL7: 4 | HM7: Stratégie | HN7: 4 | HO7: Maintenance | HP7: =SUM(GR7:HO7) -> 48 | HT7: 4 | HU7: Stratégie | HV7: 4 | HW7: Maintenance | HX7: 4 | HY7: Stratégie | HZ7: 4 | IA7: Maintenance | IB7: 4 | IC7: Stratégie | ID7: 4 | IE7: Maintenance | IF7: 4 | IG7: Stratégie | IH7: 4 | II7: Maintenance | IJ7: 4 | IK7: Stratégie | IL7: 4 | IM7: Maintenance | IN7: 4 | IO7: Stratégie | IP7: 4 | IQ7: Maintenance | IR7: =SUM(HT7:IQ7) -> 48 | IV7: 4 | IW7: Stratégie | IX7: 4 | IY7: Maintenance | IZ7: 4 | JA7: Stratégie | JB7: 4 | JC7: Maintenance | JD7: 4 | JE7: Stratégie | JF7: 4 | JG7: Maintenance | JH7: 4 | JI7: Stratégie | JJ7: 4 | JK7: Maintenance | JL7: 4 | JM7: Stratégie | JN7: 4 | JO7: Maintenance | JP7: 4 | JQ7: Stratégie | JR7: 4 | JS7: Maintenance | JT7: =SUM(IV7:JS7) -> 48 | JX7: 4 | JY7: Stratégie | JZ7: 4 | KA7: Maintenance | KB7: 4 | KC7: Stratégie | KD7: 4 | KE7: Maintenance | KF7: 4 | KG7: Stratégie | KH7: 4 | KI7: Maintenance | KJ7: 4 | KK7: Stratégie | KL7: 4 | KM7: Maintenance | KN7: 4 | KO7: Stratégie | KP7: 4 | KQ7: Maintenance | KR7: 4 | KS7: Stratégie | KT7: 4 | KU7: Maintenance | KV7: =SUM(JX7:KU7) -> 48 | KZ7: 4 | LA7: Stratégie | LB7: 4 | LC7: Maintenance | LD7: 4 | LE7: Stratégie | LF7: 4 | LG7: Maintenance | LH7: 4 | LI7: Stratégie | LJ7: 4 | LK7: Maintenance | LL7: 4 | LM7: Stratégie | LN7: 4 | LO7: Maintenance | LP7: 4 | LQ7: Stratégie | LR7: 4 | LS7: Maintenance | LT7: 4 | LU7: Stratégie | LV7: 4 | LW7: Maintenance | LX7: =SUM(KZ7:LW7) -> 48 | MB7: 4 | MC7: Stratégie | MD7: 4 | ME7: Maintenance | MF7: 4 | MG7: Stratégie | MH7: 4 | MI7: Maintenance | MJ7: 4 | MK7: Stratégie | ML7: 4 | MM7: Maintenance | MN7: 4 | MO7: Stratégie | MP7: 4 | MQ7: Maintenance | MR7: 4 | MS7: Stratégie | MT7: 4 | MU7: Maintenance | MV7: 4 | MW7: Stratégie | MX7: 4 | MY7: Maintenance | MZ7: =SUM(MB7:MY7) -> 48 | ND7: 4 | NE7: Stratégie | NF7: 4 | NG7: Maintenance | NH7: 4 | NI7: Stratégie | NJ7: 4 | NK7: Maintenance | NL7: 4 | NM7: Stratégie | NN7: 4 | NO7: Maintenance | NP7: 4 | NQ7: Stratégie | NR7: 4 | NS7: Maintenance | NT7: 4 | NU7: Stratégie | NV7: 4 | NW7: Maintenance | NX7: 4 | NY7: Stratégie | NZ7: 4 | OA7: Maintenance | OB7: =SUM(ND7:OA7) -> 48 | OF7: 4 | OG7: Stratégie | OH7: 4 | OI7: Maintenance | OJ7: 4 | OK7: Stratégie | OL7: 4 | OM7: Maintenance | ON7: 4 | OO7: Stratégie | OP7: 4 | OQ7: Maintenance | OR7: 4 | OS7: Stratégie | OT7: 4 | OU7: Maintenance | OV7: 4 | OW7: Stratégie | OX7: 4 | OY7: Maintenance | OZ7: 4 | PA7: Stratégie | PB7: 4 | PC7: Maintenance | PD7: =SUM(OF7:PC7) -> 48 | PH7: 4 | PI7: Stratégie | PJ7: 4 | PK7: Maintenance | PL7: 4 | PM7: Stratégie | PN7: 4 | PO7: Maintenance | PP7: 4 | PQ7: Stratégie | PR7: 4 | PS7: Maintenance | PT7: 4 | PU7: Stratégie | PV7: 4 | PW7: Maintenance | PX7: 4 | PY7: Stratégie | PZ7: 4 | QA7: Maintenance | QB7: 4 | QC7: Stratégie | QD7: 4 | QE7: Maintenance | QF7: =SUM(PH7:QE7) -> 48 | QJ7: 4 | QK7: Stratégie | QL7: 4 | QM7: Maintenance | QN7: 4 | QO7: Stratégie | QP7: 4 | QQ7: Maintenance | QR7: 4 | QS7: Stratégie | QT7: 4 | QU7: Maintenance | QV7: 4 | QW7: Stratégie | QX7: 4 | QY7: Maintenance | QZ7: 4 | RA7: Stratégie | RB7: 4 | RC7: Maintenance | RD7: 4 | RE7: Stratégie | RF7: 4 | RG7: Maintenance | RH7: =SUM(QJ7:RG7) -> 48 | RL7: 4 | RM7: Stratégie | RN7: 4 | RO7: Maintenance | RP7: 4 | RQ7: Stratégie | RR7: 4 | RS7: Maintenance | RT7: 4 | RU7: Stratégie | RV7: 4 | RW7: Maintenance | RX7: 4 | RY7: Stratégie | RZ7: 4 | SA7: Maintenance | SB7: 4 | SC7: Stratégie | SD7: 4 | SE7: Maintenance | SF7: 4 | SG7: Stratégie | SH7: 4 | SI7: Maintenance | SJ7: =SUM(RL7:SI7) -> 48 | SN7: 4 | SO7: Stratégie | SP7: 4 | SQ7: Maintenance | SR7: 4 | SS7: Stratégie | ST7: 4 | SU7: Maintenance | SV7: 4 | SW7: Stratégie | SX7: 4 | SY7: Maintenance | SZ7: 4 | TA7: Stratégie | TB7: 4 | TC7: Maintenance | TD7: 4 | TE7: Stratégie | TF7: 4 | TG7: Maintenance | TH7: 4 | TI7: Stratégie | TJ7: 4 | TK7: Maintenance | TL7: =SUM(SN7:TK7) -> 48 | TP7: 4 | TQ7: Stratégie | TR7: 4 | TS7: Maintenance | TT7: 4 | TU7: Stratégie | TV7: 4 | TW7: Maintenance | TX7: 4 | TY7: Stratégie | TZ7: 4 | UA7: Maintenance | UB7: 4 | UC7: Stratégie | UD7: 4 | UE7: Maintenance | UF7: 4 | UG7: Stratégie | UH7: 4 | UI7: Maintenance | UJ7: 4 | UK7: Stratégie | UL7: 4 | UM7: Maintenance | UN7: =SUM(TP7:UM7) -> 48 | UR7: 4 | US7: Stratégie | UT7: 4 | UU7: Maintenance | UV7: 4 | UW7: Stratégie | UX7: 4 | UY7: Maintenance | UZ7: 4 | VA7: Stratégie | VB7: 4 | VC7: Maintenance | VD7: 4 | VE7: Stratégie | VF7: 4 | VG7: Maintenance | VH7: 4 | VI7: Stratégie | VJ7: 4 | VK7: Maintenance | VL7: 4 | VM7: Stratégie | VN7: 4 | VO7: Maintenance | VP7: =SUM(UR7:VO7) -> 48 | VT7: 4 | VU7: Stratégie | VV7: 4 | VW7: Maintenance | VX7: 4 | VY7: Stratégie | VZ7: 4 | WA7: Maintenance | WB7: 4 | WC7: Stratégie | WD7: 4 | WE7: Maintenance | WF7: 4 | WG7: Stratégie | WH7: 4 | WI7: Maintenance | WJ7: 4 | WK7: Stratégie | WL7: 4 | WM7: Maintenance | WN7: 4 | WO7: Stratégie | WP7: 4 | WQ7: Maintenance | WR7: =SUM(VT7:WQ7) -> 48 | WV7: 4 | WW7: Stratégie | WX7: 4 | WY7: Maintenance | WZ7: 4 | XA7: Stratégie | XB7: 4 | XC7: Maintenance | XD7: 4 | XE7: Stratégie | XF7: 4 | XG7: Maintenance | XH7: 4 | XI7: Stratégie | XJ7: 4 | XK7: Maintenance | XL7: 4 | XM7: Stratégie | XN7: 4 | XO7: Maintenance | XP7: 4 | XQ7: Stratégie | XR7: 4 | XS7: Maintenance | XT7: =SUM(WV7:XS7) -> 48 | XX7: 4 | XY7: Stratégie | XZ7: 4 | YA7: Maintenance | YB7: 4 | YC7: Stratégie | YD7: 4 | YE7: Maintenance | YF7: 4 | YG7: Stratégie | YH7: 4 | YI7: Maintenance | YJ7: 4 | YK7: Stratégie | YL7: 4 | YM7: Maintenance | YN7: 4 | YO7: Stratégie | YP7: 4 | YQ7: Maintenance | YR7: 4 | YS7: Stratégie | YT7: 4 | YU7: Maintenance | YV7: =SUM(XX7:YU7) -> 48 | YZ7: 4 | ZA7: Stratégie | ZB7: 4 | ZC7: Maintenance | ZD7: 4 | ZE7: Stratégie | ZF7: 4 | ZG7: Maintenance | ZH7: 4 | ZI7: Stratégie | ZJ7: 4 | ZK7: Maintenance | ZL7: 4 | ZM7: Stratégie | ZN7: 4 | ZO7: Maintenance | ZP7: 4 | ZQ7: Stratégie | ZR7: 4 | ZS7: Maintenance | ZT7: 4 | ZU7: Stratégie | ZV7: 4 | ZW7: Maintenance | ZX7: =SUM(YZ7:ZW7) -> 48 | AAB7: 4 | AAC7: Stratégie | AAD7: 4 | AAE7: Maintenance | AAF7: 4 | AAG7: Stratégie | AAH7: 4 | AAI7: Maintenance | AAJ7: 4 | AAK7: Stratégie | AAL7: 4 | AAM7: Maintenance | AAN7: 4 | AAO7: Stratégie | AAP7: 4 | AAQ7: Maintenance | AAR7: 4 | AAS7: Stratégie | AAT7: 4 | AAU7: Maintenance | AAV7: 4 | AAW7: Stratégie | AAX7: 4 | AAY7: Maintenance | AAZ7: =SUM(AAB7:AAY7) -> 48 | ABD7: 4 | ABE7: Stratégie | ABF7: 4 | ABG7: Maintenance | ABH7: 4 | ABI7: Stratégie | ABJ7: 4 | ABK7: Maintenance | ABL7: 4 | ABM7: Stratégie | ABN7: 4 | ABO7: Maintenance | ABP7: 4 | ABQ7: Stratégie | ABR7: 4 | ABS7: Maintenance | ABT7: 4 | ABU7: Stratégie | ABV7: 4 | ABW7: Maintenance | ABX7: 4 | ABY7: Stratégie | ABZ7: 4 | ACA7: Maintenance | ACB7: =SUM(ABD7:ACA7) -> 48 | ACF7: 4 | ACG7: Stratégie | ACH7: 4 | ACI7: Maintenance | ACJ7: 4 | ACK7: Stratégie | ACL7: 4 | ACM7: Maintenance | ACN7: 4 | ACO7: Stratégie | ACP7: 4 | ACQ7: Maintenance | ACR7: 4 | ACS7: Stratégie | ACT7: 4 | ACU7: Maintenance | ACV7: 4 | ACW7: Stratégie | ACX7: 4 | ACY7: Maintenance | ACZ7: 4 | ADA7: Stratégie | ADB7: 4 | ADC7: Maintenance | ADD7: =SUM(ACF7:ADC7) -> 48 | ADH7: 4 | ADI7: Stratégie | ADJ7: 4 | ADK7: Maintenance | ADL7: 4 | ADM7: Stratégie | ADN7: 4 | ADO7: Maintenance | ADP7: 4 | ADQ7: Stratégie | ADR7: 4 | ADS7: Maintenance | ADT7: 4 | ADU7: Stratégie | ADV7: 4 | ADW7: Maintenance | ADX7: 4 | ADY7: Stratégie | ADZ7: 4 | AEA7: Maintenance | AEB7: 4 | AEC7: Stratégie | AED7: 4 | AEE7: Maintenance | AEF7: =SUM(ADH7:AEE7) -> 48 | AEJ7: 4 | AEK7: Stratégie | AEL7: 4 | AEM7: Maintenance | AEN7: 4 | AEO7: Stratégie | AEP7: 4 | AEQ7: Maintenance | AER7: 4 | AES7: Stratégie | AET7: 4 | AEU7: Maintenance | AEV7: 4 | AEW7: Stratégie | AEX7: 4 | AEY7: Maintenance | AEZ7: 4 | AFA7: Stratégie | AFB7: 4 | AFC7: Maintenance | AFD7: 4 | AFE7: Stratégie | AFF7: 4 | AFG7: Maintenance | AFH7: =SUM(AEJ7:AFG7) -> 48 | AFL7: 4 | AFM7: Stratégie | AFN7: 4 | AFO7: Maintenance | AFP7: 4 | AFQ7: Stratégie | AFR7: 4 | AFS7: Maintenance | AFT7: 4 | AFU7: Stratégie | AFV7: 4 | AFW7: Maintenance | AFX7: 4 | AFY7: Stratégie | AFZ7: 4 | AGA7: Maintenance | AGB7: 4 | AGC7: Stratégie | AGD7: 4 | AGE7: Maintenance | AGF7: 4 | AGG7: Stratégie | AGH7: 4 | AGI7: Maintenance | AGJ7: =SUM(AFL7:AGI7) -> 48 | AGN7: 4 | AGO7: Stratégie | AGP7: 4 | AGQ7: Maintenance | AGR7: 4 | AGS7: Stratégie | AGT7: 4 | AGU7: Maintenance | AGV7: 4 | AGW7: Stratégie | AGX7: 4 | AGY7: Maintenance | AGZ7: 4 | AHA7: Stratégie | AHB7: 4 | AHC7: Maintenance | AHD7: 4 | AHE7: Stratégie | AHF7: 4 | AHG7: Maintenance | AHH7: 4 | AHI7: Stratégie | AHJ7: 4 | AHK7: Maintenance | AHL7: =SUM(AGN7:AHK7) -> 48 | AHP7: 4 | AHQ7: Stratégie | AHR7: 4 | AHS7: Maintenance | AHT7: 4 | AHU7: Stratégie | AHV7: 4 | AHW7: Maintenance | AHX7: 4 | AHY7: Stratégie | AHZ7: 4 | AIA7: Maintenance | AIB7: 4 | AIC7: Stratégie | AID7: 4 | AIE7: Maintenance | AIF7: 4 | AIG7: Stratégie | AIH7: 4 | AII7: Maintenance | AIJ7: 4 | AIK7: Stratégie | AIL7: 4 | AIM7: Maintenance | AIN7: =SUM(AHP7:AIM7) -> 48 | AIR7: 4 | AIS7: Stratégie | AIT7: 4 | AIU7: Maintenance | AIV7: 4 | AIW7: Stratégie | AIX7: 4 | AIY7: Maintenance | AIZ7: 4 | AJA7: Stratégie | AJB7: 4 | AJC7: Maintenance | AJD7: 4 | AJE7: Stratégie | AJF7: 4 | AJG7: Maintenance | AJH7: 4 | AJI7: Stratégie | AJJ7: 4 | AJK7: Maintenance | AJL7: 4 | AJM7: Stratégie | AJN7: 4 | AJO7: Maintenance | AJP7: =SUM(AIR7:AJO7) -> 48 | AJT7: 4 | AJU7: Stratégie | AJV7: 4 | AJW7: Maintenance | AJX7: 4 | AJY7: Stratégie | AJZ7: 4 | AKA7: Maintenance | AKB7: 4 | AKC7: Stratégie | AKD7: 4 | AKE7: Maintenance | AKF7: 4 | AKG7: Stratégie | AKH7: 4 | AKI7: Maintenance | AKJ7: 4 | AKK7: Stratégie | AKL7: 4 | AKM7: Maintenance | AKN7: 4 | AKO7: Stratégie | AKP7: 4 | AKQ7: Maintenance | AKR7: =SUM(AJT7:AKQ7) -> 48 | AKV7: 4 | AKW7: Stratégie | AKX7: 4 | AKY7: Maintenance | AKZ7: 4 | ALA7: Stratégie | ALB7: 4 | ALC7: Maintenance | ALD7: 4 | ALE7: Stratégie | ALF7: 4 | ALG7: Maintenance | ALH7: 4 | ALI7: Stratégie | ALJ7: 4 | ALK7: Maintenance | ALL7: 4 | ALM7: Stratégie | ALN7: 4 | ALO7: Maintenance | ALP7: 4 | ALQ7: Stratégie | ALR7: 4 | ALS7: Maintenance | ALT7: =SUM(AKV7:ALS7) -> 48 | ALX7: 4 | ALY7: Stratégie | ALZ7: 4 | AMA7: Maintenance | AMB7: 4 | AMC7: Stratégie | AMD7: 4 | AME7: Maintenance | AMF7: 4 | AMG7: Stratégie | AMH7: 4 | AMI7: Maintenance | AMJ7: 4 | AMK7: Stratégie | AML7: 4 | AMM7: Maintenance | AMN7: 4 | AMO7: Stratégie | AMP7: 4 | AMQ7: Maintenance | AMR7: 4 | AMS7: Stratégie | AMT7: 4 | AMU7: Maintenance | AMV7: =SUM(ALX7:AMU7) -> 48 | AMZ7: 4 | ANA7: Stratégie | ANB7: 4 | ANC7: Maintenance | AND7: 4 | ANE7: Stratégie | ANF7: 4 | ANG7: Maintenance | ANH7: 4 | ANI7: Stratégie | ANJ7: 4 | ANK7: Maintenance | ANL7: 4 | ANM7: Stratégie | ANN7: 4 | ANO7: Maintenance | ANP7: 4 | ANQ7: Stratégie | ANR7: 4 | ANS7: Maintenance | ANT7: 4 | ANU7: Stratégie | ANV7: 4 | ANW7: Maintenance | ANX7: =SUM(AMZ7:ANW7) -> 48 | AOB7: 4 | AOC7: Stratégie | AOD7: 4 | AOE7: Maintenance | AOF7: 4 | AOG7: Stratégie | AOH7: 4 | AOI7: Maintenance | AOJ7: 4 | AOK7: Stratégie | AOL7: 4 | AOM7: Maintenance | AON7: 4 | AOO7: Stratégie | AOP7: 4 | AOQ7: Maintenance | AOR7: 4 | AOS7: Stratégie | AOT7: 4 | AOU7: Maintenance | AOV7: 4 | AOW7: Stratégie | AOX7: 4 | AOY7: Maintenance | AOZ7: =SUM(AOB7:AOY7) -> 48 | APD7: 4 | APE7: Stratégie | APF7: 4 | APG7: Maintenance | APH7: 4 | API7: Stratégie | APJ7: 4 | APK7: Maintenance | APL7: 4 | APM7: Stratégie | APN7: 4 | APO7: Maintenance | APP7: 4 | APQ7: Stratégie | APR7: 4 | APS7: Maintenance | APT7: 4 | APU7: Stratégie | APV7: 4 | APW7: Maintenance | APX7: 4 | APY7: Stratégie | APZ7: 4 | AQA7: Maintenance | AQB7: =SUM(APD7:AQA7) -> 48 | AQF7: 4 | AQG7: Stratégie | AQH7: 4 | AQI7: Maintenance | AQJ7: 4 | AQK7: Stratégie | AQL7: 4 | AQM7: Maintenance | AQN7: 4 | AQO7: Stratégie | AQP7: 4 | AQQ7: Maintenance | AQR7: 4 | AQS7: Stratégie | AQT7: 4 | AQU7: Maintenance | AQV7: 4 | AQW7: Stratégie | AQX7: 4 | AQY7: Maintenance | AQZ7: 4 | ARA7: Stratégie | ARB7: 4 | ARC7: Maintenance | ARD7: =SUM(AQF7:ARC7) -> 48 | ARH7: 4 | ARI7: Stratégie | ARJ7: 4 | ARK7: Maintenance | ARL7: 4 | ARM7: Stratégie | ARN7: 4 | ARO7: Maintenance | ARP7: 4 | ARQ7: Stratégie | ARR7: 4 | ARS7: Maintenance | ART7: 4 | ARU7: Stratégie | ARV7: 4 | ARW7: Maintenance | ARX7: 4 | ARY7: Stratégie | ARZ7: 4 | ASA7: Maintenance | ASB7: 4 | ASC7: Stratégie | ASD7: 4 | ASE7: Maintenance | ASF7: =SUM(ARH7:ASE7) -> 48 | ASJ7: 4 | ASK7: Stratégie | ASL7: 4 | ASM7: Maintenance | ASN7: 4 | ASO7: Stratégie | ASP7: 4 | ASQ7: Maintenance | ASR7: 4 | ASS7: Stratégie | AST7: 4 | ASU7: Maintenance | ASV7: 4 | ASW7: Stratégie | ASX7: 4 | ASY7: Maintenance | ASZ7: 4 | ATA7: Stratégie | ATB7: 4 | ATC7: Maintenance | ATD7: 4 | ATE7: Stratégie | ATF7: 4 | ATG7: Maintenance | ATH7: =SUM(ASJ7:ATG7) -> 48 | ATL7: 4 | ATM7: Stratégie | ATN7: 4 | ATO7: Maintenance | ATP7: 4 | ATQ7: Stratégie | ATR7: 4 | ATS7: Maintenance | ATT7: 4 | ATU7: Stratégie | ATV7: 4 | ATW7: Maintenance | ATX7: 4 | ATY7: Stratégie | ATZ7: 4 | AUA7: Maintenance | AUB7: 4 | AUC7: Stratégie | AUD7: 4 | AUE7: Maintenance | AUF7: 4 | AUG7: Stratégie | AUH7: 4 | AUI7: Maintenance | AUJ7: =SUM(ATL7:AUI7) -> 48 | AUN7: 4 | AUO7: Stratégie | AUP7: 4 | AUQ7: Maintenance | AUR7: 4 | AUS7: Stratégie | AUT7: 4 | AUU7: Maintenance | AUV7: 4 | AUW7: Stratégie | AUX7: 4 | AUY7: Maintenance | AUZ7: 4 | AVA7: Stratégie | AVB7: 4 | AVC7: Maintenance | AVD7: 4 | AVE7: Stratégie | AVF7: 4 | AVG7: Maintenance | AVH7: 4 | AVI7: Stratégie | AVJ7: 4 | AVK7: Maintenance | AVL7: =SUM(AUN7:AVK7) -> 48 | AVP7: 4 | AVQ7: Stratégie | AVR7: 4 | AVS7: Maintenance | AVT7: 4 | AVU7: Stratégie | AVV7: 4 | AVW7: Maintenance | AVX7: 4 | AVY7: Stratégie | AVZ7: 4 | AWA7: Maintenance | AWB7: 4 | AWC7: Stratégie | AWD7: 4 | AWE7: Maintenance | AWF7: 4 | AWG7: Stratégie | AWH7: 4 | AWI7: Maintenance | AWJ7: 4 | AWK7: Stratégie | AWL7: 4 | AWM7: Maintenance | AWN7: =SUM(AVP7:AWM7) -> 48 | AWR7: 4 | AWS7: Stratégie | AWT7: 4 | AWU7: Maintenance | AWV7: 4 | AWW7: Stratégie | AWX7: 4 | AWY7: Maintenance | AWZ7: 4 | AXA7: Stratégie | AXB7: 4 | AXC7: Maintenance | AXD7: 4 | AXE7: Stratégie | AXF7: 4 | AXG7: Maintenance | AXH7: 4 | AXI7: Stratégie | AXJ7: 4 | AXK7: Maintenance | AXL7: 4 | AXM7: Stratégie | AXN7: 4 | AXO7: Maintenance | AXP7: =SUM(AWR7:AXO7) -> 48 | AXT7: 4 | AXU7: Stratégie | AXV7: 4 | AXW7: Maintenance | AXX7: 4 | AXY7: Stratégie | AXZ7: 4 | AYA7: Maintenance | AYB7: 4 | AYC7: Stratégie | AYD7: 4 | AYE7: Maintenance | AYF7: 4 | AYG7: Stratégie | AYH7: 4 | AYI7: Maintenance | AYJ7: 4 | AYK7: Stratégie | AYL7: 4 | AYM7: Maintenance | AYN7: 4 | AYO7: Stratégie | AYP7: 4 | AYQ7: Maintenance | AYR7: =SUM(AXT7:AYQ7) -> 48 | AYV7: 4 | AYW7: Stratégie | AYX7: 4 | AYY7: Maintenance | AYZ7: 4 | AZA7: Stratégie | AZB7: 4 | AZC7: Maintenance | AZD7: 4 | AZE7: Stratégie | AZF7: 4 | AZG7: Maintenance | AZH7: 4 | AZI7: Stratégie | AZJ7: 4 | AZK7: Maintenance | AZL7: 4 | AZM7: Stratégie | AZN7: 4 | AZO7: Maintenance | AZP7: 4 | AZQ7: Stratégie | AZR7: 4 | AZS7: Maintenance | AZT7: =SUM(AYV7:AZS7) -> 48 | AZX7: 4 | AZY7: Stratégie | AZZ7: 4 | BAA7: Maintenance | BAB7: 4 | BAC7: Stratégie | BAD7: 4 | BAE7: Maintenance | BAF7: 4 | BAG7: Stratégie | BAH7: 4 | BAI7: Maintenance | BAJ7: 4 | BAK7: Stratégie | BAL7: 4 | BAM7: Maintenance | BAN7: 4 | BAO7: Stratégie | BAP7: 4 | BAQ7: Maintenance | BAR7: 4 | BAS7: Stratégie | BAT7: 4 | BAU7: Maintenance | BAV7: =SUM(AZX7:BAU7) -> 48 | BAZ7: 4 | BBA7: Stratégie | BBB7: 4 | BBC7: Maintenance | BBD7: 4 | BBE7: Stratégie | BBF7: 4 | BBG7: Maintenance | BBH7: 4 | BBI7: Stratégie | BBJ7: 4 | BBK7: Maintenance | BBL7: 4 | BBM7: Stratégie | BBN7: 4 | BBO7: Maintenance | BBP7: 4 | BBQ7: Stratégie | BBR7: 4 | BBS7: Maintenance | BBT7: 4 | BBU7: Stratégie | BBV7: 4 | BBW7: Maintenance | BBX7: =SUM(BAZ7:BBW7) -> 48 | BCB7: 4 | BCC7: Stratégie | BCD7: 4 | BCE7: Maintenance | BCF7: 4 | BCG7: Stratégie | BCH7: 4 | BCI7: Maintenance | BCJ7: 4 | BCK7: Stratégie | BCL7: 4 | BCM7: Maintenance | BCN7: 4 | BCO7: Stratégie | BCP7: 4 | BCQ7: Maintenance | BCR7: 4 | BCS7: Stratégie | BCT7: 4 | BCU7: Maintenance | BCV7: 4 | BCW7: Stratégie | BCX7: 4 | BCY7: Maintenance | BCZ7: =SUM(BCB7:BCY7) -> 48 | BEB7: =SUM(BDD7:BEA7) -> 0
A8: Marketing | B8: B | C8: S | D8: 8 | E8: Développement | H8: 8 | I8: Développement | L8: 8 | M8: Développement | P8: 8 | Q8: Développement | T8: 8 | U8: Développement | X8: 8 | Y8: Développement | AB8: =SUM(D8:AA8) -> 48 | AF8: 8 | AG8: Développement | AJ8: 8 | AK8: Développement | AN8: 8 | AO8: Développement | AR8: 8 | AS8: Développement | AV8: 8 | AW8: Développement | AZ8: 8 | BA8: Développement | BD8: =SUM(AF8:BC8) -> 48 | BH8: 8 | BI8: Développement | BL8: 8 | BM8: Développement | BP8: 8 | BQ8: Développement | BT8: 8 | BU8: Développement | BX8: 8 | BY8: Développement | CB8: 8 | CC8: Développement | CF8: =SUM(BH8:CE8) -> 48 | CJ8: 8 | CK8: Développement | CN8: 8 | CO8: Développement | CR8: 8 | CS8: Développement | CV8: 8 | CW8: Développement | CZ8: 8 | DA8: Développement | DD8: 8 | DE8: Développement | DH8: =SUM(CJ8:DG8) -> 48 | DL8: 8 | DM8: Développement | DP8: 8 | DQ8: Développement | DT8: 8 | DU8: Développement | DX8: 8 | DY8: Développement | EB8: 8 | EC8: Développement | EF8: 8 | EG8: Développement | EJ8: =SUM(DL8:EI8) -> 48 | EN8: 8 | EO8: Développement | ER8: 8 | ES8: Développement | EV8: 8 | EW8: Développement | EZ8: 8 | FA8: Développement | FD8: 8 | FE8: Développement | FH8: 8 | FI8: Développement | FL8: =SUM(EN8:FK8) -> 48 | FP8: 8 | FQ8: Développement | FT8: 8 | FU8: Développement | FX8: 8 | FY8: Développement | GB8: 8 | GC8: Développement | GF8: 8 | GG8: Développement | GJ8: 8 | GK8: Développement | GN8: =SUM(FP8:GM8) -> 48 | GR8: 8 | GS8: Développement | GV8: 8 | GW8: Développement | GZ8: 8 | HA8: Développement | HD8: 8 | HE8: Développement | HH8: 8 | HI8: Développement | HL8: 8 | HM8: Développement | HP8: =SUM(GR8:HO8) -> 48 | HT8: 8 | HU8: Développement | HX8: 8 | HY8: Développement | IB8: 8 | IC8: Développement | IF8: 8 | IG8: Développement | IJ8: 8 | IK8: Développement | IN8: 8 | IO8: Développement | IR8: =SUM(HT8:IQ8) -> 48 | IV8: 8 | IW8: Développement | IZ8: 8 | JA8: Développement | JD8: 8 | JE8: Développement | JH8: 8 | JI8: Développement | JL8: 8 | JM8: Développement | JP8: 8 | JQ8: Développement | JT8: =SUM(IV8:JS8) -> 48 | JX8: 8 | JY8: Développement | KB8: 8 | KC8: Développement | KF8: 8 | KG8: Développement | KJ8: 8 | KK8: Développement | KN8: 8 | KO8: Développement | KR8: 8 | KS8: Développement | KV8: =SUM(JX8:KU8) -> 48 | KZ8: 8 | LA8: Développement | LD8: 8 | LE8: Développement | LH8: 8 | LI8: Développement | LL8: 8 | LM8: Développement | LP8: 8 | LQ8: Développement | LT8: 8 | LU8: Développement | LX8: =SUM(KZ8:LW8) -> 48 | MB8: 8 | MC8: Développement | MF8: 8 | MG8: Développement | MJ8: 8 | MK8: Développement | MN8: 8 | MO8: Développement | MR8: 8 | MS8: Développement | MV8: 8 | MW8: Développement | MZ8: =SUM(MB8:MY8) -> 48 | ND8: 8 | NE8: Développement | NH8: 8 | NI8: Développement | NL8: 8 | NM8: Développement | NP8: 8 | NQ8: Développement | NT8: 8 | NU8: Développement | NX8: 8 | NY8: Développement | OB8: =SUM(ND8:OA8) -> 48 | OF8: 8 | OG8: Développement | OJ8: 8 | OK8: Développement | ON8: 8 | OO8: Développement | OR8: 8 | OS8: Développement | OV8: 8 | OW8: Développement | OZ8: 8 | PA8: Développement | PD8: =SUM(OF8:PC8) -> 48 | PH8: 8 | PI8: Développement | PL8: 8 | PM8: Développement | PP8: 8 | PQ8: Développement | PT8: 8 | PU8: Développement | PX8: 8 | PY8: Développement | QB8: 8 | QC8: Développement | QF8: =SUM(PH8:QE8) -> 48 | QJ8: 8 | QK8: Développement | QN8: 8 | QO8: Développement | QR8: 8 | QS8: Développement | QV8: 8 | QW8: Développement | QZ8: 8 | RA8: Développement | RD8: 8 | RE8: Développement | RH8: =SUM(QJ8:RG8) -> 48 | RL8: 8 | RM8: Développement | RP8: 8 | RQ8: Développement | RT8: 8 | RU8: Développement | RX8: 8 | RY8: Développement | SB8: 8 | SC8: Développement | SF8: 8 | SG8: Développement | SJ8: =SUM(RL8:SI8) -> 48 | SN8: 8 | SO8: Développement | SR8: 8 | SS8: Développement | SV8: 8 | SW8: Développement | SZ8: 8 | TA8: Développement | TD8: 8 | TE8: Développement | TH8: 8 | TI8: Développement | TL8: =SUM(SN8:TK8) -> 48 | TP8: 8 | TQ8: Développement | TT8: 8 | TU8: Développement | TX8: 8 | TY8: Développement | UB8: 8 | UC8: Développement | UF8: 8 | UG8: Développement | UJ8: 8 | UK8: Développement | UN8: =SUM(TP8:UM8) -> 48 | UR8: 8 | US8: Développement | UV8: 8 | UW8: Développement | UZ8: 8 | VA8: Développement | VD8: 8 | VE8: Développement | VH8: 8 | VI8: Développement | VL8: 8 | VM8: Développement | VP8: =SUM(UR8:VO8) -> 48 | VT8: 8 | VU8: Développement | VX8: 8 | VY8: Développement | WB8: 8 | WC8: Développement | WF8: 8 | WG8: Développement | WJ8: 8 | WK8: Développement | WN8: 8 | WO8: Développement | WR8: =SUM(VT8:WQ8) -> 48 | WV8: 8 | WW8: Développement | WZ8: 8 | XA8: Développement | XD8: 8 | XE8: Développement | XH8: 8 | XI8: Développement | XL8: 8 | XM8: Développement | XP8: 8 | XQ8: Développement | XT8: =SUM(WV8:XS8) -> 48 | XX8: 8 | XY8: Développement | YB8: 8 | YC8: Développement | YF8: 8 | YG8: Développement | YJ8: 8 | YK8: Développement | YN8: 8 | YO8: Développement | YR8: 8 | YS8: Développement | YV8: =SUM(XX8:YU8) -> 48 | YZ8: 8 | ZA8: Développement | ZD8: 8 | ZE8: Développement | ZH8: 8 | ZI8: Développement | ZL8: 8 | ZM8: Développement | ZP8: 8 | ZQ8: Développement | ZT8: 8 | ZU8: Développement | ZX8: =SUM(YZ8:ZW8) -> 48 | AAB8: 8 | AAC8: Développement | AAF8: 8 | AAG8: Développement | AAJ8: 8 | AAK8: Développement | AAN8: 8 | AAO8: Développement | AAR8: 8 | AAS8: Développement | AAV8: 8 | AAW8: Développement | AAZ8: =SUM(AAB8:AAY8) -> 48 | ABD8: 8 | ABE8: Développement | ABH8: 8 | ABI8: Développement | ABL8: 8 | ABM8: Développement | ABP8: 8 | ABQ8: Développement | ABT8: 8 | ABU8: Développement | ABX8: 8 | ABY8: Développement | ACB8: =SUM(ABD8:ACA8) -> 48 | ACF8: 8 | ACG8: Développement | ACJ8: 8 | ACK8: Développement | ACN8: 8 | ACO8: Développement | ACR8: 8 | ACS8: Développement | ACV8: 8 | ACW8: Développement | ACZ8: 8 | ADA8: Développement | ADD8: =SUM(ACF8:ADC8) -> 48 | ADH8: 8 | ADI8: Développement | ADL8: 8 | ADM8: Développement | ADP8: 8 | ADQ8: Développement | ADT8: 8 | ADU8: Développement | ADX8: 8 | ADY8: Développement | AEB8: 8 | AEC8: Développement | AEF8: =SUM(ADH8:AEE8) -> 48 | AEJ8: 8 | AEK8: Développement | AEN8: 8 | AEO8: Développement | AER8: 8 | AES8: Développement | AEV8: 8 | AEW8: Développement | AEZ8: 8 | AFA8: Développement | AFD8: 8 | AFE8: Développement | AFH8: =SUM(AEJ8:AFG8) -> 48 | AFL8: 8 | AFM8: Développement | AFP8: 8 | AFQ8: Développement | AFT8: 8 | AFU8: Développement | AFX8: 8 | AFY8: Développement | AGB8: 8 | AGC8: Développement | AGF8: 8 | AGG8: Développement | AGJ8: =SUM(AFL8:AGI8) -> 48 | AGN8: 8 | AGO8: Développement | AGR8: 8 | AGS8: Développement | AGV8: 8 | AGW8: Développement | AGZ8: 8 | AHA8: Développement | AHD8: 8 | AHE8: Développement | AHH8: 8 | AHI8: Développement | AHL8: =SUM(AGN8:AHK8) -> 48 | AHP8: 8 | AHQ8: Développement | AHT8: 8 | AHU8: Développement | AHX8: 8 | AHY8: Développement | AIB8: 8 | AIC8: Développement | AIF8: 8 | AIG8: Développement | AIJ8: 8 | AIK8: Développement | AIN8: =SUM(AHP8:AIM8) -> 48 | AIR8: 8 | AIS8: Développement | AIV8: 8 | AIW8: Développement | AIZ8: 8 | AJA8: Développement | AJD8: 8 | AJE8: Développement | AJH8: 8 | AJI8: Développement | AJL8: 8 | AJM8: Développement | AJP8: =SUM(AIR8:AJO8) -> 48 | AJT8: 8 | AJU8: Développement | AJX8: 8 | AJY8: Développement | AKB8: 8 | AKC8: Développement | AKF8: 8 | AKG8: Développement | AKJ8: 8 | AKK8: Développement | AKN8: 8 | AKO8: Développement | AKR8: =SUM(AJT8:AKQ8) -> 48 | AKV8: 8 | AKW8: Développement | AKZ8: 8 | ALA8: Développement | ALD8: 8 | ALE8: Développement | ALH8: 8 | ALI8: Développement | ALL8: 8 | ALM8: Développement | ALP8: 8 | ALQ8: Développement | ALT8: =SUM(AKV8:ALS8) -> 48 | ALX8: 8 | ALY8: Développement | AMB8: 8 | AMC8: Développement | AMF8: 8 | AMG8: Développement | AMJ8: 8 | AMK8: Développement | AMN8: 8 | AMO8: Développement | AMR8: 8 | AMS8: Développement | AMV8: =SUM(ALX8:AMU8) -> 48 | AMZ8: 8 | ANA8: Développement | AND8: 8 | ANE8: Développement | ANH8: 8 | ANI8: Développement | ANL8: 8 | ANM8: Développement | ANP8: 8 | ANQ8: Développement | ANT8: 8 | ANU8: Développement | ANX8: =SUM(AMZ8:ANW8) -> 48 | AOB8: 8 | AOC8: Développement | AOF8: 8 | AOG8: Développement | AOJ8: 8 | AOK8: Développement | AON8: 8 | AOO8: Développement | AOR8: 8 | AOS8: Développement | AOV8: 8 | AOW8: Développement | AOZ8: =SUM(AOB8:AOY8) -> 48 | APD8: 8 | APE8: Développement | APH8: 8 | API8: Développement | APL8: 8 | APM8: Développement | APP8: 8 | APQ8: Développement | APT8: 8 | APU8: Développement | APX8: 8 | APY8: Développement | AQB8: =SUM(APD8:AQA8) -> 48 | AQF8: 8 | AQG8: Développement | AQJ8: 8 | AQK8: Développement | AQN8: 8 | AQO8: Développement | AQR8: 8 | AQS8: Développement | AQV8: 8 | AQW8: Développement | AQZ8: 8 | ARA8: Développement | ARD8: =SUM(AQF8:ARC8) -> 48 | ARH8: 8 | ARI8: Développement | ARL8: 8 | ARM8: Développement | ARP8: 8 | ARQ8: Développement | ART8: 8 | ARU8: Développement | ARX8: 8 | ARY8: Développement | ASB8: 8 | ASC8: Développement | ASF8: =SUM(ARH8:ASE8) -> 48 | ASJ8: 8 | ASK8: Développement | ASN8: 8 | ASO8: Développement | ASR8: 8 | ASS8: Développement | ASV8: 8 | ASW8: Développement | ASZ8: 8 | ATA8: Développement | ATD8: 8 | ATE8: Développement | ATH8: =SUM(ASJ8:ATG8) -> 48 | ATL8: 8 | ATM8: Développement | ATP8: 8 | ATQ8: Développement | ATT8: 8 | ATU8: Développement | ATX8: 8 | ATY8: Développement | AUB8: 8 | AUC8: Développement | AUF8: 8 | AUG8: Développement | AUJ8: =SUM(ATL8:AUI8) -> 48 | AUN8: 8 | AUO8: Développement | AUR8: 8 | AUS8: Développement | AUV8: 8 | AUW8: Développement | AUZ8: 8 | AVA8: Développement | AVD8: 8 | AVE8: Développement | AVH8: 8 | AVI8: Développement | AVL8: =SUM(AUN8:AVK8) -> 48 | AVP8: 8 | AVQ8: Développement | AVT8: 8 | AVU8: Développement | AVX8: 8 | AVY8: Développement | AWB8: 8 | AWC8: Développement | AWF8: 8 | AWG8: Développement | AWJ8: 8 | AWK8: Développement | AWN8: =SUM(AVP8:AWM8) -> 48 | AWR8: 8 | AWS8: Développement | AWV8: 8 | AWW8: Développement | AWZ8: 8 | AXA8: Développement | AXD8: 8 | AXE8: Développement | AXH8: 8 | AXI8: Développement | AXL8: 8 | AXM8: Développement | AXP8: =SUM(AWR8:AXO8) -> 48 | AXT8: 8 | AXU8: Développement | AXX8: 8 | AXY8: Développement | AYB8: 8 | AYC8: Développement | AYF8: 8 | AYG8: Développement | AYJ8: 8 | AYK8: Développement | AYN8: 8 | AYO8: Développement | AYR8: =SUM(AXT8:AYQ8) -> 48 | AYV8: 8 | AYW8: Développement | AYZ8: 8 | AZA8: Développement | AZD8: 8 | AZE8: Développement | AZH8: 8 | AZI8: Développement | AZL8: 8 | AZM8: Développement | AZP8: 8 | AZQ8: Développement | AZT8: =SUM(AYV8:AZS8) -> 48 | AZX8: 8 | AZY8: Développement | BAB8: 8 | BAC8: Développement | BAF8: 8 | BAG8: Développement | BAJ8: 8 | BAK8: Développement | BAN8: 8 | BAO8: Développement | BAR8: 8 | BAS8: Développement | BAV8: =SUM(AZX8:BAU8) -> 48 | BAZ8: 8 | BBA8: Développement | BBD8: 8 | BBE8: Développement | BBH8: 8 | BBI8: Développement | BBL8: 8 | BBM8: Développement | BBP8: 8 | BBQ8: Développement | BBT8: 8 | BBU8: Développement | BBX8: =SUM(BAZ8:BBW8) -> 48 | BCB8: 8 | BCC8: Développement | BCF8: 8 | BCG8: Développement | BCJ8: 8 | BCK8: Développement | BCN8: 8 | BCO8: Développement | BCR8: 8 | BCS8: Développement | BCV8: 8 | BCW8: Développement | BCZ8: =SUM(BCB8:BCY8) -> 48 | BEB8: =SUM(BDD8:BEA8) -> 0
A9: Recherche | B9: C | C9: T | D9: 8 | E9: Absent | H9: 8 | I9: Absent | L9: 8 | M9: Absent | P9: 8 | Q9: Absent | T9: 8 | U9: Absent | X9: 8 | Y9: Absent | AB9: =SUM(D9:AA9) -> 48 | AF9: 8 | AG9: Absent | AJ9: 8 | AK9: Absent | AN9: 8 | AO9: Absent | AR9: 8 | AS9: Absent | AV9: 8 | AW9: Absent | AZ9: 8 | BA9: Absent | BD9: =SUM(AF9:BC9) -> 48 | BH9: 8 | BI9: Absent | BL9: 8 | BM9: Absent | BP9: 8 | BQ9: Absent | BT9: 8 | BU9: Absent | BX9: 8 | BY9: Absent | CB9: 8 | CC9: Absent | CF9: =SUM(BH9:CE9) -> 48 | CJ9: 8 | CK9: Absent | CN9: 8 | CO9: Absent | CR9: 8 | CS9: Absent | CV9: 8 | CW9: Absent | CZ9: 8 | DA9: Absent | DD9: 8 | DE9: Absent | DH9: =SUM(CJ9:DG9) -> 48 | DL9: 8 | DM9: Absent | DP9: 8 | DQ9: Absent | DT9: 8 | DU9: Absent | DX9: 8 | DY9: Absent | EB9: 8 | EC9: Absent | EF9: 8 | EG9: Absent | EJ9: =SUM(DL9:EI9) -> 48 | EN9: 8 | EO9: Absent | ER9: 8 | ES9: Absent | EV9: 8 | EW9: Absent | EZ9: 8 | FA9: Absent | FD9: 8 | FE9: Absent | FH9: 8 | FI9: Absent | FL9: =SUM(EN9:FK9) -> 48 | FP9: 8 | FQ9: Absent | FT9: 8 | FU9: Absent | FX9: 8 | FY9: Absent | GB9: 8 | GC9: Absent | GF9: 8 | GG9: Absent | GJ9: 8 | GK9: Absent | GN9: =SUM(FP9:GM9) -> 48 | GR9: 8 | GS9: Absent | GV9: 8 | GW9: Absent | GZ9: 8 | HA9: Absent | HD9: 8 | HE9: Absent | HH9: 8 | HI9: Absent | HL9: 8 | HM9: Absent | HP9: =SUM(GR9:HO9) -> 48 | HT9: 8 | HU9: Absent | HX9: 8 | HY9: Absent | IB9: 8 | IC9: Absent | IF9: 8 | IG9: Absent | IJ9: 8 | IK9: Absent | IN9: 8 | IO9: Absent | IR9: =SUM(HT9:IQ9) -> 48 | IV9: 8 | IW9: Absent | IZ9: 8 | JA9: Absent | JD9: 8 | JE9: Absent | JH9: 8 | JI9: Absent | JL9: 8 | JM9: Absent | JP9: 8 | JQ9: Absent | JT9: =SUM(IV9:JS9) -> 48 | JX9: 8 | JY9: Absent | KB9: 8 | KC9: Absent | KF9: 8 | KG9: Absent | KJ9: 8 | KK9: Absent | KN9: 8 | KO9: Absent | KR9: 8 | KS9: Absent | KV9: =SUM(JX9:KU9) -> 48 | KZ9: 8 | LA9: Absent | LD9: 8 | LE9: Absent | LH9: 8 | LI9: Absent | LL9: 8 | LM9: Absent | LP9: 8 | LQ9: Absent | LT9: 8 | LU9: Absent | LX9: =SUM(KZ9:LW9) -> 48 | MB9: 8 | MC9: Absent | MF9: 8 | MG9: Absent | MJ9: 8 | MK9: Absent | MN9: 8 | MO9: Absent | MR9: 8 | MS9: Absent | MV9: 8 | MW9: Absent | MZ9: =SUM(MB9:MY9) -> 48 | ND9: 8 | NE9: Absent | NH9: 8 | NI9: Absent | NL9: 8 | NM9: Absent | NP9: 8 | NQ9: Absent | NT9: 8 | NU9: Absent | NX9: 8 | NY9: Absent | OB9: =SUM(ND9:OA9) -> 48 | OF9: 8 | OG9: Absent | OJ9: 8 | OK9: Absent | ON9: 8 | OO9: Absent | OR9: 8 | OS9: Absent | OV9: 8 | OW9: Absent | OZ9: 8 | PA9: Absent | PD9: =SUM(OF9:PC9) -> 48 | PH9: 8 | PI9: Absent | PL9: 8 | PM9: Absent | PP9: 8 | PQ9: Absent | PT9: 8 | PU9: Absent | PX9: 8 | PY9: Absent | QB9: 8 | QC9: Absent | QF9: =SUM(PH9:QE9) -> 48 | QJ9: 8 | QK9: Absent | QN9: 8 | QO9: Absent | QR9: 8 | QS9: Absent | QV9: 8 | QW9: Absent | QZ9: 8 | RA9: Absent | RD9: 8 | RE9: Absent | RH9: =SUM(QJ9:RG9) -> 48 | RL9: 8 | RM9: Absent | RP9: 8 | RQ9: Absent | RT9: 8 | RU9: Absent | RX9: 8 | RY9: Absent | SB9: 8 | SC9: Absent | SF9: 8 | SG9: Absent | SJ9: =SUM(RL9:SI9) -> 48 | SN9: 8 | SO9: Absent | SR9: 8 | SS9: Absent | SV9: 8 | SW9: Absent | SZ9: 8 | TA9: Absent | TD9: 8 | TE9: Absent | TH9: 8 | TI9: Absent | TL9: =SUM(SN9:TK9) -> 48 | TP9: 8 | TQ9: Absent | TT9: 8 | TU9: Absent | TX9: 8 | TY9: Absent | UB9: 8 | UC9: Absent | UF9: 8 | UG9: Absent | UJ9: 8 | UK9: Absent | UN9: =SUM(TP9:UM9) -> 48 | UR9: 8 | US9: Absent | UV9: 8 | UW9: Absent | UZ9: 8 | VA9: Absent | VD9: 8 | VE9: Absent | VH9: 8 | VI9: Absent | VL9: 8 | VM9: Absent | VP9: =SUM(UR9:VO9) -> 48 | VT9: 8 | VU9: Absent | VX9: 8 | VY9: Absent | WB9: 8 | WC9: Absent | WF9: 8 | WG9: Absent | WJ9: 8 | WK9: Absent | WN9: 8 | WO9: Absent | WR9: =SUM(VT9:WQ9) -> 48 | WV9: 8 | WW9: Absent | WZ9: 8 | XA9: Absent | XD9: 8 | XE9: Absent | XH9: 8 | XI9: Absent | XL9: 8 | XM9: Absent | XP9: 8 | XQ9: Absent | XT9: =SUM(WV9:XS9) -> 48 | XX9: 8 | XY9: Absent | YB9: 8 | YC9: Absent | YF9: 8 | YG9: Absent | YJ9: 8 | YK9: Absent | YN9: 8 | YO9: Absent | YR9: 8 | YS9: Absent | YV9: =SUM(XX9:YU9) -> 48 | YZ9: 8 | ZA9: Absent | ZD9: 8 | ZE9: Absent | ZH9: 8 | ZI9: Absent | ZL9: 8 | ZM9: Absent | ZP9: 8 | ZQ9: Absent | ZT9: 8 | ZU9: Absent | ZX9: =SUM(YZ9:ZW9) -> 48 | AAB9: 8 | AAC9: Absent | AAF9: 8 | AAG9: Absent | AAJ9: 8 | AAK9: Absent | AAN9: 8 | AAO9: Absent | AAR9: 8 | AAS9: Absent | AAV9: 8 | AAW9: Absent | AAZ9: =SUM(AAB9:AAY9) -> 48 | ABD9: 8 | ABE9: Absent | ABH9: 8 | ABI9: Absent | ABL9: 8 | ABM9: Absent | ABP9: 8 | ABQ9: Absent | ABT9: 8 | ABU9: Absent | ABX9: 8 | ABY9: Absent | ACB9: =SUM(ABD9:ACA9) -> 48 | ACF9: 8 | ACG9: Absent | ACJ9: 8 | ACK9: Absent | ACN9: 8 | ACO9: Absent | ACR9: 8 | ACS9: Absent | ACV9: 8 | ACW9: Absent | ACZ9: 8 | ADA9: Absent | ADD9: =SUM(ACF9:ADC9) -> 48 | ADH9: 8 | ADI9: Absent | ADL9: 8 | ADM9: Absent | ADP9: 8 | ADQ9: Absent | ADT9: 8 | ADU9: Absent | ADX9: 8 | ADY9: Absent | AEB9: 8 | AEC9: Absent | AEF9: =SUM(ADH9:AEE9) -> 48 | AEJ9: 8 | AEK9: Absent | AEN9: 8 | AEO9: Absent | AER9: 8 | AES9: Absent | AEV9: 8 | AEW9: Absent | AEZ9: 8 | AFA9: Absent | AFD9: 8 | AFE9: Absent | AFH9: =SUM(AEJ9:AFG9) -> 48 | AFL9: 8 | AFM9: Absent | AFP9: 8 | AFQ9: Absent | AFT9: 8 | AFU9: Absent | AFX9: 8 | AFY9: Absent | AGB9: 8 | AGC9: Absent | AGF9: 8 | AGG9: Absent | AGJ9: =SUM(AFL9:AGI9) -> 48 | AGN9: 8 | AGO9: Absent | AGR9: 8 | AGS9: Absent | AGV9: 8 | AGW9: Absent | AGZ9: 8 | AHA9: Absent | AHD9: 8 | AHE9: Absent | AHH9: 8 | AHI9: Absent | AHL9: =SUM(AGN9:AHK9) -> 48 | AHP9: 8 | AHQ9: Absent | AHT9: 8 | AHU9: Absent | AHX9: 8 | AHY9: Absent | AIB9: 8 | AIC9: Absent | AIF9: 8 | AIG9: Absent | AIJ9: 8 | AIK9: Absent | AIN9: =SUM(AHP9:AIM9) -> 48 | AIR9: 8 | AIS9: Absent | AIV9: 8 | AIW9: Absent | AIZ9: 8 | AJA9: Absent | AJD9: 8 | AJE9: Absent | AJH9: 8 | AJI9: Absent | AJL9: 8 | AJM9: Absent | AJP9: =SUM(AIR9:AJO9) -> 48 | AJT9: 8 | AJU9: Absent | AJX9: 8 | AJY9: Absent | AKB9: 8 | AKC9: Absent | AKF9: 8 | AKG9: Absent | AKJ9: 8 | AKK9: Absent | AKN9: 8 | AKO9: Absent | AKR9: =SUM(AJT9:AKQ9) -> 48 | AKV9: 8 | AKW9: Absent | AKZ9: 8 | ALA9: Absent | ALD9: 8 | ALE9: Absent | ALH9: 8 | ALI9: Absent | ALL9: 8 | ALM9: Absent | ALP9: 8 | ALQ9: Absent | ALT9: =SUM(AKV9:ALS9) -> 48 | ALX9: 8 | ALY9: Absent | AMB9: 8 | AMC9: Absent | AMF9: 8 | AMG9: Absent | AMJ9: 8 | AMK9: Absent | AMN9: 8 | AMO9: Absent | AMR9: 8 | AMS9: Absent | AMV9: =SUM(ALX9:AMU9) -> 48 | AMZ9: 8 | ANA9: Absent | AND9: 8 | ANE9: Absent | ANH9: 8 | ANI9: Absent | ANL9: 8 | ANM9: Absent | ANP9: 8 | ANQ9: Absent | ANT9: 8 | ANU9: Absent | ANX9: =SUM(AMZ9:ANW9) -> 48 | AOB9: 8 | AOC9: Absent | AOF9: 8 | AOG9: Absent | AOJ9: 8 | AOK9: Absent | AON9: 8 | AOO9: Absent | AOR9: 8 | AOS9: Absent | AOV9: 8 | AOW9: Absent | AOZ9: =SUM(AOB9:AOY9) -> 48 | APD9: 8 | APE9: Absent | APH9: 8 | API9: Absent | APL9: 8 | APM9: Absent | APP9: 8 | APQ9: Absent | APT9: 8 | APU9: Absent | APX9: 8 | APY9: Absent | AQB9: =SUM(APD9:AQA9) -> 48 | AQF9: 8 | AQG9: Absent | AQJ9: 8 | AQK9: Absent | AQN9: 8 | AQO9: Absent | AQR9: 8 | AQS9: Absent | AQV9: 8 | AQW9: Absent | AQZ9: 8 | ARA9: Absent | ARD9: =SUM(AQF9:ARC9) -> 48 | ARH9: 8 | ARI9: Absent | ARL9: 8 | ARM9: Absent | ARP9: 8 | ARQ9: Absent | ART9: 8 | ARU9: Absent | ARX9: 8 | ARY9: Absent | ASB9: 8 | ASC9: Absent | ASF9: =SUM(ARH9:ASE9) -> 48 | ASJ9: 8 | ASK9: Absent | ASN9: 8 | ASO9: Absent | ASR9: 8 | ASS9: Absent | ASV9: 8 | ASW9: Absent | ASZ9: 8 | ATA9: Absent | ATD9: 8 | ATE9: Absent | ATH9: =SUM(ASJ9:ATG9) -> 48 | ATL9: 8 | ATM9: Absent | ATP9: 8 | ATQ9: Absent | ATT9: 8 | ATU9: Absent | ATX9: 8 | ATY9: Absent | AUB9: 8 | AUC9: Absent | AUF9: 8 | AUG9: Absent | AUJ9: =SUM(ATL9:AUI9) -> 48 | AUN9: 8 | AUO9: Absent | AUR9: 8 | AUS9: Absent | AUV9: 8 | AUW9: Absent | AUZ9: 8 | AVA9: Absent | AVD9: 8 | AVE9: Absent | AVH9: 8 | AVI9: Absent | AVL9: =SUM(AUN9:AVK9) -> 48 | AVP9: 8 | AVQ9: Absent | AVT9: 8 | AVU9: Absent | AVX9: 8 | AVY9: Absent | AWB9: 8 | AWC9: Absent | AWF9: 8 | AWG9: Absent | AWJ9: 8 | AWK9: Absent | AWN9: =SUM(AVP9:AWM9) -> 48 | AWR9: 8 | AWS9: Absent | AWV9: 8 | AWW9: Absent | AWZ9: 8 | AXA9: Absent | AXD9: 8 | AXE9: Absent | AXH9: 8 | AXI9: Absent | AXL9: 8 | AXM9: Absent | AXP9: =SUM(AWR9:AXO9) -> 48 | AXT9: 8 | AXU9: Absent | AXX9: 8 | AXY9: Absent | AYB9: 8 | AYC9: Absent | AYF9: 8 | AYG9: Absent | AYJ9: 8 | AYK9: Absent | AYN9: 8 | AYO9: Absent | AYR9: =SUM(AXT9:AYQ9) -> 48 | AYV9: 8 | AYW9: Absent | AYZ9: 8 | AZA9: Absent | AZD9: 8 | AZE9: Absent | AZH9: 8 | AZI9: Absent | AZL9: 8 | AZM9: Absent | AZP9: 8 | AZQ9: Absent | AZT9: =SUM(AYV9:AZS9) -> 48 | AZX9: 8 | AZY9: Absent | BAB9: 8 | BAC9: Absent | BAF9: 8 | BAG9: Absent | BAJ9: 8 | BAK9: Absent | BAN9: 8 | BAO9: Absent | BAR9: 8 | BAS9: Absent | BAV9: =SUM(AZX9:BAU9) -> 48 | BAZ9: 8 | BBA9: Absent | BBD9: 8 | BBE9: Absent | BBH9: 8 | BBI9: Absent | BBL9: 8 | BBM9: Absent | BBP9: 8 | BBQ9: Absent | BBT9: 8 | BBU9: Absent | BBX9: =SUM(BAZ9:BBW9) -> 48 | BCB9: 8 | BCC9: Absent | BCF9: 8 | BCG9: Absent | BCJ9: 8 | BCK9: Absent | BCN9: 8 | BCO9: Absent | BCR9: 8 | BCS9: Absent | BCV9: 8 | BCW9: Absent | BCZ9: =SUM(BCB9:BCY9) -> 48 | BEB9: =SUM(BDD9:BEA9) -> 0
A10: Marketing | B10: D | C10: U | D10: 8 | E10: Rendez-vous | H10: 8 | I10: Rendez-vous | L10: 8 | M10: Rendez-vous | P10: 8 | Q10: Rendez-vous | T10: 8 | U10: Rendez-vous | X10: 8 | Y10: Rendez-vous | AB10: =SUM(D10:AA10) -> 48 | AF10: 8 | AG10: Rendez-vous | AJ10: 8 | AK10: Rendez-vous | AN10: 8 | AO10: Rendez-vous | AR10: 8 | AS10: Rendez-vous | AV10: 8 | AW10: Rendez-vous | AZ10: 8 | BA10: Rendez-vous | BD10: =SUM(AF10:BC10) -> 48 | BH10: 8 | BI10: Rendez-vous | BL10: 8 | BM10: Rendez-vous | BP10: 8 | BQ10: Rendez-vous | BT10: 8 | BU10: Rendez-vous | BX10: 8 | BY10: Rendez-vous | CB10: 8 | CC10: Rendez-vous | CF10: =SUM(BH10:CE10) -> 48 | CJ10: 8 | CK10: Rendez-vous | CN10: 8 | CO10: Rendez-vous | CR10: 8 | CS10: Rendez-vous | CV10: 8 | CW10: Rendez-vous | CZ10: 8 | DA10: Rendez-vous | DD10: 8 | DE10: Rendez-vous | DH10: =SUM(CJ10:DG10) -> 48 | DL10: 8 | DM10: Rendez-vous | DP10: 8 | DQ10: Rendez-vous | DT10: 8 | DU10: Rendez-vous | DX10: 8 | DY10: Rendez-vous | EB10: 8 | EC10: Rendez-vous | EF10: 8 | EG10: Rendez-vous | EJ10: =SUM(DL10:EI10) -> 48 | EN10: 8 | EO10: Rendez-vous | ER10: 8 | ES10: Rendez-vous | EV10: 8 | EW10: Rendez-vous | EZ10: 8 | FA10: Rendez-vous | FD10: 8 | FE10: Rendez-vous | FH10: 8 | FI10: Rendez-vous | FL10: =SUM(EN10:FK10) -> 48 | FP10: 8 | FQ10: Rendez-vous | FT10: 8 | FU10: Rendez-vous | FX10: 8 | FY10: Rendez-vous | GB10: 8 | GC10: Rendez-vous | GF10: 8 | GG10: Rendez-vous | GJ10: 8 | GK10: Rendez-vous | GN10: =SUM(FP10:GM10) -> 48 | GR10: 8 | GS10: Rendez-vous | GV10: 8 | GW10: Rendez-vous | GZ10: 8 | HA10: Rendez-vous | HD10: 8 | HE10: Rendez-vous | HH10: 8 | HI10: Rendez-vous | HL10: 8 | HM10: Rendez-vous | HP10: =SUM(GR10:HO10) -> 48 | HT10: 8 | HU10: Rendez-vous | HX10: 8 | HY10: Rendez-vous | IB10: 8 | IC10: Rendez-vous | IF10: 8 | IG10: Rendez-vous | IJ10: 8 | IK10: Rendez-vous | IN10: 8 | IO10: Rendez-vous | IR10: =SUM(HT10:IQ10) -> 48 | IV10: 8 | IW10: Rendez-vous | IZ10: 8 | JA10: Rendez-vous | JD10: 8 | JE10: Rendez-vous | JH10: 8 | JI10: Rendez-vous | JL10: 8 | JM10: Rendez-vous | JP10: 8 | JQ10: Rendez-vous | JT10: =SUM(IV10:JS10) -> 48 | JX10: 8 | JY10: Rendez-vous | KB10: 8 | KC10: Rendez-vous | KF10: 8 | KG10: Rendez-vous | KJ10: 8 | KK10: Rendez-vous | KN10: 8 | KO10: Rendez-vous | KR10: 8 | KS10: Rendez-vous | KV10: =SUM(JX10:KU10) -> 48 | KZ10: 8 | LA10: Rendez-vous | LD10: 8 | LE10: Rendez-vous | LH10: 8 | LI10: Rendez-vous | LL10: 8 | LM10: Rendez-vous | LP10: 8 | LQ10: Rendez-vous | LT10: 8 | LU10: Rendez-vous | LX10: =SUM(KZ10:LW10) -> 48 | MB10: 8 | MC10: Rendez-vous | MF10: 8 | MG10: Rendez-vous | MJ10: 8 | MK10: Rendez-vous | MN10: 8 | MO10: Rendez-vous | MR10: 8 | MS10: Rendez-vous | MV10: 8 | MW10: Rendez-vous | MZ10: =SUM(MB10:MY10) -> 48 | ND10: 8 | NE10: Rendez-vous | NH10: 8 | NI10: Rendez-vous | NL10: 8 | NM10: Rendez-vous | NP10: 8 | NQ10: Rendez-vous | NT10: 8 | NU10: Rendez-vous | NX10: 8 | NY10: Rendez-vous | OB10: =SUM(ND10:OA10) -> 48 | OF10: 8 | OG10: Rendez-vous | OJ10: 8 | OK10: Rendez-vous | ON10: 8 | OO10: Rendez-vous | OR10: 8 | OS10: Rendez-vous | OV10: 8 | OW10: Rendez-vous | OZ10: 8 | PA10: Rendez-vous | PD10: =SUM(OF10:PC10) -> 48 | PH10: 8 | PI10: Rendez-vous | PL10: 8 | PM10: Rendez-vous | PP10: 8 | PQ10: Rendez-vous | PT10: 8 | PU10: Rendez-vous | PX10: 8 | PY10: Rendez-vous | QB10: 8 | QC10: Rendez-vous | QF10: =SUM(PH10:QE10) -> 48 | QJ10: 8 | QK10: Rendez-vous | QN10: 8 | QO10: Rendez-vous | QR10: 8 | QS10: Rendez-vous | QV10: 8 | QW10: Rendez-vous | QZ10: 8 | RA10: Rendez-vous | RD10: 8 | RE10: Rendez-vous | RH10: =SUM(QJ10:RG10) -> 48 | RL10: 8 | RM10: Rendez-vous | RP10: 8 | RQ10: Rendez-vous | RT10: 8 | RU10: Rendez-vous | RX10: 8 | RY10: Rendez-vous | SB10: 8 | SC10: Rendez-vous | SF10: 8 | SG10: Rendez-vous | SJ10: =SUM(RL10:SI10) -> 48 | SN10: 8 | SO10: Rendez-vous | SR10: 8 | SS10: Rendez-vous | SV10: 8 | SW10: Rendez-vous | SZ10: 8 | TA10: Rendez-vous | TD10: 8 | TE10: Rendez-vous | TH10: 8 | TI10: Rendez-vous | TL10: =SUM(SN10:TK10) -> 48 | TP10: 8 | TQ10: Rendez-vous | TT10: 8 | TU10: Rendez-vous | TX10: 8 | TY10: Rendez-vous | UB10: 8 | UC10: Rendez-vous | UF10: 8 | UG10: Rendez-vous | UJ10: 8 | UK10: Rendez-vous | UN10: =SUM(TP10:UM10) -> 48 | UR10: 8 | US10: Rendez-vous | UV10: 8 | UW10: Rendez-vous | UZ10: 8 | VA10: Rendez-vous | VD10: 8 | VE10: Rendez-vous | VH10: 8 | VI10: Rendez-vous | VL10: 8 | VM10: Rendez-vous | VP10: =SUM(UR10:VO10) -> 48 | VT10: 8 | VU10: Rendez-vous | VX10: 8 | VY10: Rendez-vous | WB10: 8 | WC10: Rendez-vous | WF10: 8 | WG10: Rendez-vous | WJ10: 8 | WK10: Rendez-vous | WN10: 8 | WO10: Rendez-vous | WR10: =SUM(VT10:WQ10) -> 48 | WV10: 8 | WW10: Rendez-vous | WZ10: 8 | XA10: Rendez-vous | XD10: 8 | XE10: Rendez-vous | XH10: 8 | XI10: Rendez-vous | XL10: 8 | XM10: Rendez-vous | XP10: 8 | XQ10: Rendez-vous | XT10: =SUM(WV10:XS10) -> 48 | XX10: 8 | XY10: Rendez-vous | YB10: 8 | YC10: Rendez-vous | YF10: 8 | YG10: Rendez-vous | YJ10: 8 | YK10: Rendez-vous | YN10: 8 | YO10: Rendez-vous | YR10: 8 | YS10: Rendez-vous | YV10: =SUM(XX10:YU10) -> 48 | YZ10: 8 | ZA10: Rendez-vous | ZD10: 8 | ZE10: Rendez-vous | ZH10: 8 | ZI10: Rendez-vous | ZL10: 8 | ZM10: Rendez-vous | ZP10: 8 | ZQ10: Rendez-vous | ZT10: 8 | ZU10: Rendez-vous | ZX10: =SUM(YZ10:ZW10) -> 48 | AAB10: 8 | AAC10: Rendez-vous | AAF10: 8 | AAG10: Rendez-vous | AAJ10: 8 | AAK10: Rendez-vous | AAN10: 8 | AAO10: Rendez-vous | AAR10: 8 | AAS10: Rendez-vous | AAV10: 8 | AAW10: Rendez-vous | AAZ10: =SUM(AAB10:AAY10) -> 48 | ABD10: 8 | ABE10: Rendez-vous | ABH10: 8 | ABI10: Rendez-vous | ABL10: 8 | ABM10: Rendez-vous | ABP10: 8 | ABQ10: Rendez-vous | ABT10: 8 | ABU10: Rendez-vous | ABX10: 8 | ABY10: Rendez-vous | ACB10: =SUM(ABD10:ACA10) -> 48 | ACF10: 8 | ACG10: Rendez-vous | ACJ10: 8 | ACK10: Rendez-vous | ACN10: 8 | ACO10: Rendez-vous | ACR10: 8 | ACS10: Rendez-vous | ACV10: 8 | ACW10: Rendez-vous | ACZ10: 8 | ADA10: Rendez-vous | ADD10: =SUM(ACF10:ADC10) -> 48 | ADH10: 8 | ADI10: Rendez-vous | ADL10: 8 | ADM10: Rendez-vous | ADP10: 8 | ADQ10: Rendez-vous | ADT10: 8 | ADU10: Rendez-vous | ADX10: 8 | ADY10: Rendez-vous | AEB10: 8 | AEC10: Rendez-vous | AEF10: =SUM(ADH10:AEE10) -> 48 | AEJ10: 8 | AEK10: Rendez-vous | AEN10: 8 | AEO10: Rendez-vous | AER10: 8 | AES10: Rendez-vous | AEV10: 8 | AEW10: Rendez-vous | AEZ10: 8 | AFA10: Rendez-vous | AFD10: 8 | AFE10: Rendez-vous | AFH10: =SUM(AEJ10:AFG10) -> 48 | AFL10: 8 | AFM10: Rendez-vous | AFP10: 8 | AFQ10: Rendez-vous | AFT10: 8 | AFU10: Rendez-vous | AFX10: 8 | AFY10: Rendez-vous | AGB10: 8 | AGC10: Rendez-vous | AGF10: 8 | AGG10: Rendez-vous | AGJ10: =SUM(AFL10:AGI10) -> 48 | AGN10: 8 | AGO10: Rendez-vous | AGR10: 8 | AGS10: Rendez-vous | AGV10: 8 | AGW10: Rendez-vous | AGZ10: 8 | AHA10: Rendez-vous | AHD10: 8 | AHE10: Rendez-vous | AHH10: 8 | AHI10: Rendez-vous | AHL10: =SUM(AGN10:AHK10) -> 48 | AHP10: 8 | AHQ10: Rendez-vous | AHT10: 8 | AHU10: Rendez-vous | AHX10: 8 | AHY10: Rendez-vous | AIB10: 8 | AIC10: Rendez-vous | AIF10: 8 | AIG10: Rendez-vous | AIJ10: 8 | AIK10: Rendez-vous | AIN10: =SUM(AHP10:AIM10) -> 48 | AIR10: 8 | AIS10: Rendez-vous | AIV10: 8 | AIW10: Rendez-vous | AIZ10: 8 | AJA10: Rendez-vous | AJD10: 8 | AJE10: Rendez-vous | AJH10: 8 | AJI10: Rendez-vous | AJL10: 8 | AJM10: Rendez-vous | AJP10: =SUM(AIR10:AJO10) -> 48 | AJT10: 8 | AJU10: Rendez-vous | AJX10: 8 | AJY10: Rendez-vous | AKB10: 8 | AKC10: Rendez-vous | AKF10: 8 | AKG10: Rendez-vous | AKJ10: 8 | AKK10: Rendez-vous | AKN10: 8 | AKO10: Rendez-vous | AKR10: =SUM(AJT10:AKQ10) -> 48 | AKV10: 8 | AKW10: Rendez-vous | AKZ10: 8 | ALA10: Rendez-vous | ALD10: 8 | ALE10: Rendez-vous | ALH10: 8 | ALI10: Rendez-vous | ALL10: 8 | ALM10: Rendez-vous | ALP10: 8 | ALQ10: Rendez-vous | ALT10: =SUM(AKV10:ALS10) -> 48 | ALX10: 8 | ALY10: Rendez-vous | AMB10: 8 | AMC10: Rendez-vous | AMF10: 8 | AMG10: Rendez-vous | AMJ10: 8 | AMK10: Rendez-vous | AMN10: 8 | AMO10: Rendez-vous | AMR10: 8 | AMS10: Rendez-vous | AMV10: =SUM(ALX10:AMU10) -> 48 | AMZ10: 8 | ANA10: Rendez-vous | AND10: 8 | ANE10: Rendez-vous | ANH10: 8 | ANI10: Rendez-vous | ANL10: 8 | ANM10: Rendez-vous | ANP10: 8 | ANQ10: Rendez-vous | ANT10: 8 | ANU10: Rendez-vous | ANX10: =SUM(AMZ10:ANW10) -> 48 | AOB10: 8 | AOC10: Rendez-vous | AOF10: 8 | AOG10: Rendez-vous | AOJ10: 8 | AOK10: Rendez-vous | AON10: 8 | AOO10: Rendez-vous | AOR10: 8 | AOS10: Rendez-vous | AOV10: 8 | AOW10: Rendez-vous | AOZ10: =SUM(AOB10:AOY10) -> 48 | APD10: 8 | APE10: Rendez-vous | APH10: 8 | API10: Rendez-vous | APL10: 8 | APM10: Rendez-vous | APP10: 8 | APQ10: Rendez-vous | APT10: 8 | APU10: Rendez-vous | APX10: 8 | APY10: Rendez-vous | AQB10: =SUM(APD10:AQA10) -> 48 | AQF10: 8 | AQG10: Rendez-vous | AQJ10: 8 | AQK10: Rendez-vous | AQN10: 8 | AQO10: Rendez-vous | AQR10: 8 | AQS10: Rendez-vous | AQV10: 8 | AQW10: Rendez-vous | AQZ10: 8 | ARA10: Rendez-vous | ARD10: =SUM(AQF10:ARC10) -> 48 | ARH10: 8 | ARI10: Rendez-vous | ARL10: 8 | ARM10: Rendez-vous | ARP10: 8 | ARQ10: Rendez-vous | ART10: 8 | ARU10: Rendez-vous | ARX10: 8 | ARY10: Rendez-vous | ASB10: 8 | ASC10: Rendez-vous | ASF10: =SUM(ARH10:ASE10) -> 48 | ASJ10: 8 | ASK10: Rendez-vous | ASN10: 8 | ASO10: Rendez-vous | ASR10: 8 | ASS10: Rendez-vous | ASV10: 8 | ASW10: Rendez-vous | ASZ10: 8 | ATA10: Rendez-vous | ATD10: 8 | ATE10: Rendez-vous | ATH10: =SUM(ASJ10:ATG10) -> 48 | ATL10: 8 | ATM10: Rendez-vous | ATP10: 8 | ATQ10: Rendez-vous | ATT10: 8 | ATU10: Rendez-vous | ATX10: 8 | ATY10: Rendez-vous | AUB10: 8 | AUC10: Rendez-vous | AUF10: 8 | AUG10: Rendez-vous | AUJ10: =SUM(ATL10:AUI10) -> 48 | AUN10: 8 | AUO10: Rendez-vous | AUR10: 8 | AUS10: Rendez-vous | AUV10: 8 | AUW10: Rendez-vous | AUZ10: 8 | AVA10: Rendez-vous | AVD10: 8 | AVE10: Rendez-vous | AVH10: 8 | AVI10: Rendez-vous | AVL10: =SUM(AUN10:AVK10) -> 48 | AVP10: 8 | AVQ10: Rendez-vous | AVT10: 8 | AVU10: Rendez-vous | AVX10: 8 | AVY10: Rendez-vous | AWB10: 8 | AWC10: Rendez-vous | AWF10: 8 | AWG10: Rendez-vous | AWJ10: 8 | AWK10: Rendez-vous | AWN10: =SUM(AVP10:AWM10) -> 48 | AWR10: 8 | AWS10: Rendez-vous | AWV10: 8 | AWW10: Rendez-vous | AWZ10: 8 | AXA10: Rendez-vous | AXD10: 8 | AXE10: Rendez-vous | AXH10: 8 | AXI10: Rendez-vous | AXL10: 8 | AXM10: Rendez-vous | AXP10: =SUM(AWR10:AXO10) -> 48 | AXT10: 8 | AXU10: Rendez-vous | AXX10: 8 | AXY10: Rendez-vous | AYB10: 8 | AYC10: Rendez-vous | AYF10: 8 | AYG10: Rendez-vous | AYJ10: 8 | AYK10: Rendez-vous | AYN10: 8 | AYO10: Rendez-vous | AYR10: =SUM(AXT10:AYQ10) -> 48 | AYV10: 8 | AYW10: Rendez-vous | AYZ10: 8 | AZA10: Rendez-vous | AZD10: 8 | AZE10: Rendez-vous | AZH10: 8 | AZI10: Rendez-vous | AZL10: 8 | AZM10: Rendez-vous | AZP10: 8 | AZQ10: Rendez-vous | AZT10: =SUM(AYV10:AZS10) -> 48 | AZX10: 8 | AZY10: Rendez-vous | BAB10: 8 | BAC10: Rendez-vous | BAF10: 8 | BAG10: Rendez-vous | BAJ10: 8 | BAK10: Rendez-vous | BAN10: 8 | BAO10: Rendez-vous | BAR10: 8 | BAS10: Rendez-vous | BAV10: =SUM(AZX10:BAU10) -> 48 | BAZ10: 8 | BBA10: Rendez-vous | BBD10: 8 | BBE10: Rendez-vous | BBH10: 8 | BBI10: Rendez-vous | BBL10: 8 | BBM10: Rendez-vous | BBP10: 8 | BBQ10: Rendez-vous | BBT10: 8 | BBU10: Rendez-vous | BBX10: =SUM(BAZ10:BBW10) -> 48 | BCB10: 8 | BCC10: Rendez-vous | BCF10: 8 | BCG10: Rendez-vous | BCJ10: 8 | BCK10: Rendez-vous | BCN10: 8 | BCO10: Rendez-vous | BCR10: 8 | BCS10: Rendez-vous | BCV10: 8 | BCW10: Rendez-vous | BCZ10: =SUM(BCB10:BCY10) -> 48 | BEB10: =SUM(BDD10:BEA10) -> 0
A11: Recherche | B11: E | C11: V | D11: 4 | E11: Maintenance | F11: 4 | G11: Développement | H11: 4 | I11: Maintenance | J11: 4 | K11: Développement | L11: 4 | M11: Maintenance | N11: 4 | O11: Développement | P11: 4 | Q11: Maintenance | R11: 4 | S11: Développement | T11: 4 | U11: Maintenance | V11: 4 | W11: Développement | X11: 4 | Y11: Maintenance | Z11: 4 | AA11: Développement | AB11: =SUM(D11:AA11) -> 48 | AF11: 4 | AG11: Maintenance | AH11: 4 | AI11: Développement | AJ11: 4 | AK11: Maintenance | AL11: 4 | AM11: Développement | AN11: 4 | AO11: Maintenance | AP11: 4 | AQ11: Développement | AR11: 4 | AS11: Maintenance | AT11: 4 | AU11: Développement | AV11: 4 | AW11: Maintenance | AX11: 4 | AY11: Développement | AZ11: 4 | BA11: Maintenance | BB11: 4 | BC11: Développement | BD11: =SUM(AF11:BC11) -> 48 | BH11: 4 | BI11: Maintenance | BJ11: 4 | BK11: Développement | BL11: 4 | BM11: Maintenance | BN11: 4 | BO11: Développement | BP11: 4 | BQ11: Maintenance | BR11: 4 | BS11: Développement | BT11: 4 | BU11: Maintenance | BV11: 4 | BW11: Développement | BX11: 4 | BY11: Maintenance | BZ11: 4 | CA11: Développement | CB11: 4 | CC11: Maintenance | CD11: 4 | CE11: Développement | CF11: =SUM(BH11:CE11) -> 48 | CJ11: 4 | CK11: Maintenance | CL11: 4 | CM11: Développement | CN11: 4 | CO11: Maintenance | CP11: 4 | CQ11: Développement | CR11: 4 | CS11: Maintenance | CT11: 4 | CU11: Développement | CV11: 4 | CW11: Maintenance | CX11: 4 | CY11: Développement | CZ11: 4 | DA11: Maintenance | DB11: 4 | DC11: Développement | DD11: 4 | DE11: Maintenance | DF11: 4 | DG11: Développement | DH11: =SUM(CJ11:DG11) -> 48 | DL11: 4 | DM11: Maintenance | DN11: 4 | DO11: Développement | DP11: 4 | DQ11: Maintenance | DR11: 4 | DS11: Développement | DT11: 4 | DU11: Maintenance | DV11: 4 | DW11: Développement | DX11: 4 | DY11: Maintenance | DZ11: 4 | EA11: Développement | EB11: 4 | EC11: Maintenance | ED11: 4 | EE11: Développement | EF11: 4 | EG11: Maintenance | EH11: 4 | EI11: Développement | EJ11: =SUM(DL11:EI11) -> 48 | EN11: 4 | EO11: Maintenance | EP11: 4 | EQ11: Développement | ER11: 4 | ES11: Maintenance | ET11: 4 | EU11: Développement | EV11: 4 | EW11: Maintenance | EX11: 4 | EY11: Développement | EZ11: 4 | FA11: Maintenance | FB11: 4 | FC11: Développement | FD11: 4 | FE11: Maintenance | FF11: 4 | FG11: Développement | FH11: 4 | FI11: Maintenance | FJ11: 4 | FK11: Développement | FL11: =SUM(EN11:FK11) -> 48 | FP11: 4 | FQ11: Maintenance | FR11: 4 | FS11: Développement | FT11: 4 | FU11: Maintenance | FV11: 4 | FW11: Développement | FX11: 4 | FY11: Maintenance | FZ11: 4 | GA11: Développement | GB11: 4 | GC11: Maintenance | GD11: 4 | GE11: Développement | GF11: 4 | GG11: Maintenance | GH11: 4 | GI11: Développement | GJ11: 4 | GK11: Maintenance | GL11: 4 | GM11: Développement | GN11: =SUM(FP11:GM11) -> 48 | GR11: 4 | GS11: Maintenance | GT11: 4 | GU11: Développement | GV11: 4 | GW11: Maintenance | GX11: 4 | GY11: Développement | GZ11: 4 | HA11: Maintenance | HB11: 4 | HC11: Développement | HD11: 4 | HE11: Maintenance | HF11: 4 | HG11: Développement | HH11: 4 | HI11: Maintenance | HJ11: 4 | HK11: Développement | HL11: 4 | HM11: Maintenance | HN11: 4 | HO11: Développement | HP11: =SUM(GR11:HO11) -> 48 | HT11: 4 | HU11: Maintenance | HV11: 4 | HW11: Développement | HX11: 4 | HY11: Maintenance | HZ11: 4 | IA11: Développement | IB11: 4 | IC11: Maintenance | ID11: 4 | IE11: Développement | IF11: 4 | IG11: Maintenance | IH11: 4 | II11: Développement | IJ11: 4 | IK11: Maintenance | IL11: 4 | IM11: Développement | IN11: 4 | IO11: Maintenance | IP11: 4 | IQ11: Développement | IR11: =SUM(HT11:IQ11) -> 48 | IV11: 4 | IW11: Maintenance | IX11: 4 | IY11: Développement | IZ11: 4 | JA11: Maintenance | JB11: 4 | JC11: Développement | JD11: 4 | JE11: Maintenance | JF11: 4 | JG11: Développement | JH11: 4 | JI11: Maintenance | JJ11: 4 | JK11: Développement | JL11: 4 | JM11: Maintenance | JN11: 4 | JO11: Développement | JP11: 4 | JQ11: Maintenance | JR11: 4 | JS11: Développement | JT11: =SUM(IV11:JS11) -> 48 | JX11: 4 | JY11: Maintenance | JZ11: 4 | KA11: Développement | KB11: 4 | KC11: Maintenance | KD11: 4 | KE11: Développement | KF11: 4 | KG11: Maintenance | KH11: 4 | KI11: Développement | KJ11: 4 | KK11: Maintenance | KL11: 4 | KM11: Développement | KN11: 4 | KO11: Maintenance | KP11: 4 | KQ11: Développement | KR11: 4 | KS11: Maintenance | KT11: 4 | KU11: Développement | KV11: =SUM(JX11:KU11) -> 48 | KZ11: 4 | LA11: Maintenance | LB11: 4 | LC11: Développement | LD11: 4 | LE11: Maintenance | LF11: 4 | LG11: Développement | LH11: 4 | LI11: Maintenance | LJ11: 4 | LK11: Développement | LL11: 4 | LM11: Maintenance | LN11: 4 | LO11: Développement | LP11: 4 | LQ11: Maintenance | LR11: 4 | LS11: Développement | LT11: 4 | LU11: Maintenance | LV11: 4 | LW11: Développement | LX11: =SUM(KZ11:LW11) -> 48 | MB11: 4 | MC11: Maintenance | MD11: 4 | ME11: Développement | MF11: 4 | MG11: Maintenance | MH11: 4 | MI11: Développement | MJ11: 4 | MK11: Maintenance | ML11: 4 | MM11: Développement | MN11: 4 | MO11: Maintenance | MP11: 4 | MQ11: Développement | MR11: 4 | MS11: Maintenance | MT11: 4 | MU11: Développement | MV11: 4 | MW11: Maintenance | MX11: 4 | MY11: Développement | MZ11: =SUM(MB11:MY11) -> 48 | ND11: 4 | NE11: Maintenance | NF11: 4 | NG11: Développement | NH11: 4 | NI11: Maintenance | NJ11: 4 | NK11: Développement | NL11: 4 | NM11: Maintenance | NN11: 4 | NO11: Développement | NP11: 4 | NQ11: Maintenance | NR11: 4 | NS11: Développement | NT11: 4 | NU11: Maintenance | NV11: 4 | NW11: Développement | NX11: 4 | NY11: Maintenance | NZ11: 4 | OA11: Développement | OB11: =SUM(ND11:OA11) -> 48 | OF11: 4 | OG11: Maintenance | OH11: 4 | OI11: Développement | OJ11: 4 | OK11: Maintenance | OL11: 4 | OM11: Développement | ON11: 4 | OO11: Maintenance | OP11: 4 | OQ11: Développement | OR11: 4 | OS11: Maintenance | OT11: 4 | OU11: Développement | OV11: 4 | OW11: Maintenance | OX11: 4 | OY11: Développement | OZ11: 4 | PA11: Maintenance | PB11: 4 | PC11: Développement | PD11: =SUM(OF11:PC11) -> 48 | PH11: 4 | PI11: Maintenance | PJ11: 4 | PK11: Développement | PL11: 4 | PM11: Maintenance | PN11: 4 | PO11: Développement | PP11: 4 | PQ11: Maintenance | PR11: 4 | PS11: Développement | PT11: 4 | PU11: Maintenance | PV11: 4 | PW11: Développement | PX11: 4 | PY11: Maintenance | PZ11: 4 | QA11: Développement | QB11: 4 | QC11: Maintenance | QD11: 4 | QE11: Développement | QF11: =SUM(PH11:QE11) -> 48 | QJ11: 4 | QK11: Maintenance | QL11: 4 | QM11: Développement | QN11: 4 | QO11: Maintenance | QP11: 4 | QQ11: Développement | QR11: 4 | QS11: Maintenance | QT11: 4 | QU11: Développement | QV11: 4 | QW11: Maintenance | QX11: 4 | QY11: Développement | QZ11: 4 | RA11: Maintenance | RB11: 4 | RC11: Développement | RD11: 4 | RE11: Maintenance | RF11: 4 | RG11: Développement | RH11: =SUM(QJ11:RG11) -> 48 | RL11: 4 | RM11: Maintenance | RN11: 4 | RO11: Développement | RP11: 4 | RQ11: Maintenance | RR11: 4 | RS11: Développement | RT11: 4 | RU11: Maintenance | RV11: 4 | RW11: Développement | RX11: 4 | RY11: Maintenance | RZ11: 4 | SA11: Développement | SB11: 4 | SC11: Maintenance | SD11: 4 | SE11: Développement | SF11: 4 | SG11: Maintenance | SH11: 4 | SI11: Développement | SJ11: =SUM(RL11:SI11) -> 48 | SN11: 4 | SO11: Maintenance | SP11: 4 | SQ11: Développement | SR11: 4 | SS11: Maintenance | ST11: 4 | SU11: Développement | SV11: 4 | SW11: Maintenance | SX11: 4 | SY11: Développement | SZ11: 4 | TA11: Maintenance | TB11: 4 | TC11: Développement | TD11: 4 | TE11: Maintenance | TF11: 4 | TG11: Développement | TH11: 4 | TI11: Maintenance | TJ11: 4 | TK11: Développement | TL11: =SUM(SN11:TK11) -> 48 | TP11: 4 | TQ11: Maintenance | TR11: 4 | TS11: Développement | TT11: 4 | TU11: Maintenance | TV11: 4 | TW11: Développement | TX11: 4 | TY11: Maintenance | TZ11: 4 | UA11: Développement | UB11: 4 | UC11: Maintenance | UD11: 4 | UE11: Développement | UF11: 4 | UG11: Maintenance | UH11: 4 | UI11: Développement | UJ11: 4 | UK11: Maintenance | UL11: 4 | UM11: Développement | UN11: =SUM(TP11:UM11) -> 48 | UR11: 4 | US11: Maintenance | UT11: 4 | UU11: Développement | UV11: 4 | UW11: Maintenance | UX11: 4 | UY11: Développement | UZ11: 4 | VA11: Maintenance | VB11: 4 | VC11: Développement | VD11: 4 | VE11: Maintenance | VF11: 4 | VG11: Développement | VH11: 4 | VI11: Maintenance | VJ11: 4 | VK11: Développement | VL11: 4 | VM11: Maintenance | VN11: 4 | VO11: Développement | VP11: =SUM(UR11:VO11) -> 48 | VT11: 4 | VU11: Maintenance | VV11: 4 | VW11: Développement | VX11: 4 | VY11: Maintenance | VZ11: 4 | WA11: Développement | WB11: 4 | WC11: Maintenance | WD11: 4 | WE11: Développement | WF11: 4 | WG11: Maintenance | WH11: 4 | WI11: Développement | WJ11: 4 | WK11: Maintenance | WL11: 4 | WM11: Développement | WN11: 4 | WO11: Maintenance | WP11: 4 | WQ11: Développement | WR11: =SUM(VT11:WQ11) -> 48 | WV11: 4 | WW11: Maintenance | WX11: 4 | WY11: Développement | WZ11: 4 | XA11: Maintenance | XB11: 4 | XC11: Développement | XD11: 4 | XE11: Maintenance | XF11: 4 | XG11: Développement | XH11: 4 | XI11: Maintenance | XJ11: 4 | XK11: Développement | XL11: 4 | XM11: Maintenance | XN11: 4 | XO11: Développement | XP11: 4 | XQ11: Maintenance | XR11: 4 | XS11: Développement | XT11: =SUM(WV11:XS11) -> 48 | XX11: 4 | XY11: Maintenance | XZ11: 4 | YA11: Développement | YB11: 4 | YC11: Maintenance | YD11: 4 | YE11: Développement | YF11: 4 | YG11: Maintenance | YH11: 4 | YI11: Développement | YJ11: 4 | YK11: Maintenance | YL11: 4 | YM11: Développement | YN11: 4 | YO11: Maintenance | YP11: 4 | YQ11: Développement | YR11: 4 | YS11: Maintenance | YT11: 4 | YU11: Développement | YV11: =SUM(XX11:YU11) -> 48 | YZ11: 4 | ZA11: Maintenance | ZB11: 4 | ZC11: Développement | ZD11: 4 | ZE11: Maintenance | ZF11: 4 | ZG11: Développement | ZH11: 4 | ZI11: Maintenance | ZJ11: 4 | ZK11: Développement | ZL11: 4 | ZM11: Maintenance | ZN11: 4 | ZO11: Développement | ZP11: 4 | ZQ11: Maintenance | ZR11: 4 | ZS11: Développement | ZT11: 4 | ZU11: Maintenance | ZV11: 4 | ZW11: Développement | ZX11: =SUM(YZ11:ZW11) -> 48 | AAB11: 4 | AAC11: Maintenance | AAD11: 4 | AAE11: Développement | AAF11: 4 | AAG11: Maintenance | AAH11: 4 | AAI11: Développement | AAJ11: 4 | AAK11: Maintenance | AAL11: 4 | AAM11: Développement | AAN11: 4 | AAO11: Maintenance | AAP11: 4 | AAQ11: Développement | AAR11: 4 | AAS11: Maintenance | AAT11: 4 | AAU11: Développement | AAV11: 4 | AAW11: Maintenance | AAX11: 4 | AAY11: Développement | AAZ11: =SUM(AAB11:AAY11) -> 48 | ABD11: 4 | ABE11: Maintenance | ABF11: 4 | ABG11: Développement | ABH11: 4 | ABI11: Maintenance | ABJ11: 4 | ABK11: Développement | ABL11: 4 | ABM11: Maintenance | ABN11: 4 | ABO11: Développement | ABP11: 4 | ABQ11: Maintenance | ABR11: 4 | ABS11: Développement | ABT11: 4 | ABU11: Maintenance | ABV11: 4 | ABW11: Développement | ABX11: 4 | ABY11: Maintenance | ABZ11: 4 | ACA11: Développement | ACB11: =SUM(ABD11:ACA11) -> 48 | ACF11: 4 | ACG11: Maintenance | ACH11: 4 | ACI11: Développement | ACJ11: 4 | ACK11: Maintenance | ACL11: 4 | ACM11: Développement | ACN11: 4 | ACO11: Maintenance | ACP11: 4 | ACQ11: Développement | ACR11: 4 | ACS11: Maintenance | ACT11: 4 | ACU11: Développement | ACV11: 4 | ACW11: Maintenance | ACX11: 4 | ACY11: Développement | ACZ11: 4 | ADA11: Maintenance | ADB11: 4 | ADC11: Développement | ADD11: =SUM(ACF11:ADC11) -> 48 | ADH11: 4 | ADI11: Maintenance | ADJ11: 4 | ADK11: Développement | ADL11: 4 | ADM11: Maintenance | ADN11: 4 | ADO11: Développement | ADP11: 4 | ADQ11: Maintenance | ADR11: 4 | ADS11: Développement | ADT11: 4 | ADU11: Maintenance | ADV11: 4 | ADW11: Développement | ADX11: 4 | ADY11: Maintenance | ADZ11: 4 | AEA11: Développement | AEB11: 4 | AEC11: Maintenance | AED11: 4 | AEE11: Développement | AEF11: =SUM(ADH11:AEE11) -> 48 | AEJ11: 4 | AEK11: Maintenance | AEL11: 4 | AEM11: Développement | AEN11: 4 | AEO11: Maintenance | AEP11: 4 | AEQ11: Développement | AER11: 4 | AES11: Maintenance | AET11: 4 | AEU11: Développement | AEV11: 4 | AEW11: Maintenance | AEX11: 4 | AEY11: Développement | AEZ11: 4 | AFA11: Maintenance | AFB11: 4 | AFC11: Développement | AFD11: 4 | AFE11: Maintenance | AFF11: 4 | AFG11: Développement | AFH11: =SUM(AEJ11:AFG11) -> 48 | AFL11: 4 | AFM11: Maintenance | AFN11: 4 | AFO11: Développement | AFP11: 4 | AFQ11: Maintenance | AFR11: 4 | AFS11: Développement | AFT11: 4 | AFU11: Maintenance | AFV11: 4 | AFW11: Développement | AFX11: 4 | AFY11: Maintenance | AFZ11: 4 | AGA11: Développement | AGB11: 4 | AGC11: Maintenance | AGD11: 4 | AGE11: Développement | AGF11: 4 | AGG11: Maintenance | AGH11: 4 | AGI11: Développement | AGJ11: =SUM(AFL11:AGI11) -> 48 | AGN11: 4 | AGO11: Maintenance | AGP11: 4 | AGQ11: Développement | AGR11: 4 | AGS11: Maintenance | AGT11: 4 | AGU11: Développement | AGV11: 4 | AGW11: Maintenance | AGX11: 4 | AGY11: Développement | AGZ11: 4 | AHA11: Maintenance | AHB11: 4 | AHC11: Développement | AHD11: 4 | AHE11: Maintenance | AHF11: 4 | AHG11: Développement | AHH11: 4 | AHI11: Maintenance | AHJ11: 4 | AHK11: Développement | AHL11: =SUM(AGN11:AHK11) -> 48 | AHP11: 4 | AHQ11: Maintenance | AHR11: 4 | AHS11: Développement | AHT11: 4 | AHU11: Maintenance | AHV11: 4 | AHW11: Développement | AHX11: 4 | AHY11: Maintenance | AHZ11: 4 | AIA11: Développement | AIB11: 4 | AIC11: Maintenance | AID11: 4 | AIE11: Développement | AIF11: 4 | AIG11: Maintenance | AIH11: 4 | AII11: Développement | AIJ11: 4 | AIK11: Maintenance | AIL11: 4 | AIM11: Développement | AIN11: =SUM(AHP11:AIM11) -> 48 | AIR11: 4 | AIS11: Maintenance | AIT11: 4 | AIU11: Développement | AIV11: 4 | AIW11: Maintenance | AIX11: 4 | AIY11: Développement | AIZ11: 4 | AJA11: Maintenance | AJB11: 4 | AJC11: Développement | AJD11: 4 | AJE11: Maintenance | AJF11: 4 | AJG11: Développement | AJH11: 4 | AJI11: Maintenance | AJJ11: 4 | AJK11: Développement | AJL11: 4 | AJM11: Maintenance | AJN11: 4 | AJO11: Développement | AJP11: =SUM(AIR11:AJO11) -> 48 | AJT11: 4 | AJU11: Maintenance | AJV11: 4 | AJW11: Développement | AJX11: 4 | AJY11: Maintenance | AJZ11: 4 | AKA11: Développement | AKB11: 4 | AKC11: Maintenance | AKD11: 4 | AKE11: Développement | AKF11: 4 | AKG11: Maintenance | AKH11: 4 | AKI11: Développement | AKJ11: 4 | AKK11: Maintenance | AKL11: 4 | AKM11: Développement | AKN11: 4 | AKO11: Maintenance | AKP11: 4 | AKQ11: Développement | AKR11: =SUM(AJT11:AKQ11) -> 48 | AKV11: 4 | AKW11: Maintenance | AKX11: 4 | AKY11: Développement | AKZ11: 4 | ALA11: Maintenance | ALB11: 4 | ALC11: Développement | ALD11: 4 | ALE11: Maintenance | ALF11: 4 | ALG11: Développement | ALH11: 4 | ALI11: Maintenance | ALJ11: 4 | ALK11: Développement | ALL11: 4 | ALM11: Maintenance | ALN11: 4 | ALO11: Développement | ALP11: 4 | ALQ11: Maintenance | ALR11: 4 | ALS11: Développement | ALT11: =SUM(AKV11:ALS11) -> 48 | ALX11: 4 | ALY11: Maintenance | ALZ11: 4 | AMA11: Développement | AMB11: 4 | AMC11: Maintenance | AMD11: 4 | AME11: Développement | AMF11: 4 | AMG11: Maintenance | AMH11: 4 | AMI11: Développement | AMJ11: 4 | AMK11: Maintenance | AML11: 4 | AMM11: Développement | AMN11: 4 | AMO11: Maintenance | AMP11: 4 | AMQ11: Développement | AMR11: 4 | AMS11: Maintenance | AMT11: 4 | AMU11: Développement | AMV11: =SUM(ALX11:AMU11) -> 48 | AMZ11: 4 | ANA11: Maintenance | ANB11: 4 | ANC11: Développement | AND11: 4 | ANE11: Maintenance | ANF11: 4 | ANG11: Développement | ANH11: 4 | ANI11: Maintenance | ANJ11: 4 | ANK11: Développement | ANL11: 4 | ANM11: Maintenance | ANN11: 4 | ANO11: Développement | ANP11: 4 | ANQ11: Maintenance | ANR11: 4 | ANS11: Développement | ANT11: 4 | ANU11: Maintenance | ANV11: 4 | ANW11: Développement | ANX11: =SUM(AMZ11:ANW11) -> 48 | AOB11: 4 | AOC11: Maintenance | AOD11: 4 | AOE11: Développement | AOF11: 4 | AOG11: Maintenance | AOH11: 4 | AOI11: Développement | AOJ11: 4 | AOK11: Maintenance | AOL11: 4 | AOM11: Développement | AON11: 4 | AOO11: Maintenance | AOP11: 4 | AOQ11: Développement | AOR11: 4 | AOS11: Maintenance | AOT11: 4 | AOU11: Développement | AOV11: 4 | AOW11: Maintenance | AOX11: 4 | AOY11: Développement | AOZ11: =SUM(AOB11:AOY11) -> 48 | APD11: 4 | APE11: Maintenance | APF11: 4 | APG11: Développement | APH11: 4 | API11: Maintenance | APJ11: 4 | APK11: Développement | APL11: 4 | APM11: Maintenance | APN11: 4 | APO11: Développement | APP11: 4 | APQ11: Maintenance | APR11: 4 | APS11: Développement | APT11: 4 | APU11: Maintenance | APV11: 4 | APW11: Développement | APX11: 4 | APY11: Maintenance | APZ11: 4 | AQA11: Développement | AQB11: =SUM(APD11:AQA11) -> 48 | AQF11: 4 | AQG11: Maintenance | AQH11: 4 | AQI11: Développement | AQJ11: 4 | AQK11: Maintenance | AQL11: 4 | AQM11: Développement | AQN11: 4 | AQO11: Maintenance | AQP11: 4 | AQQ11: Développement | AQR11: 4 | AQS11: Maintenance | AQT11: 4 | AQU11: Développement | AQV11: 4 | AQW11: Maintenance | AQX11: 4 | AQY11: Développement | AQZ11: 4 | ARA11: Maintenance | ARB11: 4 | ARC11: Développement | ARD11: =SUM(AQF11:ARC11) -> 48 | ARH11: 4 | ARI11: Maintenance | ARJ11: 4 | ARK11: Développement | ARL11: 4 | ARM11: Maintenance | ARN11: 4 | ARO11: Développement | ARP11: 4 | ARQ11: Maintenance | ARR11: 4 | ARS11: Développement | ART11: 4 | ARU11: Maintenance | ARV11: 4 | ARW11: Développement | ARX11: 4 | ARY11: Maintenance | ARZ11: 4 | ASA11: Développement | ASB11: 4 | ASC11: Maintenance | ASD11: 4 | ASE11: Développement | ASF11: =SUM(ARH11:ASE11) -> 48 | ASJ11: 4 | ASK11: Maintenance | ASL11: 4 | ASM11: Développement | ASN11: 4 | ASO11: Maintenance | ASP11: 4 | ASQ11: Développement | ASR11: 4 | ASS11: Maintenance | AST11: 4 | ASU11: Développement | ASV11: 4 | ASW11: Maintenance | ASX11: 4 | ASY11: Développement | ASZ11: 4 | ATA11: Maintenance | ATB11: 4 | ATC11: Développement | ATD11: 4 | ATE11: Maintenance | ATF11: 4 | ATG11: Développement | ATH11: =SUM(ASJ11:ATG11) -> 48 | ATL11: 4 | ATM11: Maintenance | ATN11: 4 | ATO11: Développement | ATP11: 4 | ATQ11: Maintenance | ATR11: 4 | ATS11: Développement | ATT11: 4 | ATU11: Maintenance | ATV11: 4 | ATW11: Développement | ATX11: 4 | ATY11: Maintenance | ATZ11: 4 | AUA11: Développement | AUB11: 4 | AUC11: Maintenance | AUD11: 4 | AUE11: Développement | AUF11: 4 | AUG11: Maintenance | AUH11: 4 | AUI11: Développement | AUJ11: =SUM(ATL11:AUI11) -> 48 | AUN11: 4 | AUO11: Maintenance | AUP11: 4 | AUQ11: Développement | AUR11: 4 | AUS11: Maintenance | AUT11: 4 | AUU11: Développement | AUV11: 4 | AUW11: Maintenance | AUX11: 4 | AUY11: Développement | AUZ11: 4 | AVA11: Maintenance | AVB11: 4 | AVC11: Développement | AVD11: 4 | AVE11: Maintenance | AVF11: 4 | AVG11: Développement | AVH11: 4 | AVI11: Maintenance | AVJ11: 4 | AVK11: Développement | AVL11: =SUM(AUN11:AVK11) -> 48 | AVP11: 4 | AVQ11: Maintenance | AVR11: 4 | AVS11: Développement | AVT11: 4 | AVU11: Maintenance | AVV11: 4 | AVW11: Développement | AVX11: 4 | AVY11: Maintenance | AVZ11: 4 | AWA11: Développement | AWB11: 4 | AWC11: Maintenance | AWD11: 4 | AWE11: Développement | AWF11: 4 | AWG11: Maintenance | AWH11: 4 | AWI11: Développement | AWJ11: 4 | AWK11: Maintenance | AWL11: 4 | AWM11: Développement | AWN11: =SUM(AVP11:AWM11) -> 48 | AWR11: 4 | AWS11: Maintenance | AWT11: 4 | AWU11: Développement | AWV11: 4 | AWW11: Maintenance | AWX11: 4 | AWY11: Développement | AWZ11: 4 | AXA11: Maintenance | AXB11: 4 | AXC11: Développement | AXD11: 4 | AXE11: Maintenance | AXF11: 4 | AXG11: Développement | AXH11: 4 | AXI11: Maintenance | AXJ11: 4 | AXK11: Développement | AXL11: 4 | AXM11: Maintenance | AXN11: 4 | AXO11: Développement | AXP11: =SUM(AWR11:AXO11) -> 48 | AXT11: 4 | AXU11: Maintenance | AXV11: 4 | AXW11: Développement | AXX11: 4 | AXY11: Maintenance | AXZ11: 4 | AYA11: Développement | AYB11: 4 | AYC11: Maintenance | AYD11: 4 | AYE11: Développement | AYF11: 4 | AYG11: Maintenance | AYH11: 4 | AYI11: Développement | AYJ11: 4 | AYK11: Maintenance | AYL11: 4 | AYM11: Développement | AYN11: 4 | AYO11: Maintenance | AYP11: 4 | AYQ11: Développement | AYR11: =SUM(AXT11:AYQ11) -> 48 | AYV11: 4 | AYW11: Maintenance | AYX11: 4 | AYY11: Développement | AYZ11: 4 | AZA11: Maintenance | AZB11: 4 | AZC11: Développement | AZD11: 4 | AZE11: Maintenance | AZF11: 4 | AZG11: Développement | AZH11: 4 | AZI11: Maintenance | AZJ11: 4 | AZK11: Développement | AZL11: 4 | AZM11: Maintenance | AZN11: 4 | AZO11: Développement | AZP11: 4 | AZQ11: Maintenance | AZR11: 4 | AZS11: Développement | AZT11: =SUM(AYV11:AZS11) -> 48 | AZX11: 4 | AZY11: Maintenance | AZZ11: 4 | BAA11: Développement | BAB11: 4 | BAC11: Maintenance | BAD11: 4 | BAE11: Développement | BAF11: 4 | BAG11: Maintenance | BAH11: 4 | BAI11: Développement | BAJ11: 4 | BAK11: Maintenance | BAL11: 4 | BAM11: Développement | BAN11: 4 | BAO11: Maintenance | BAP11: 4 | BAQ11: Développement | BAR11: 4 | BAS11: Maintenance | BAT11: 4 | BAU11: Développement | BAV11: =SUM(AZX11:BAU11) -> 48 | BAZ11: 4 | BBA11: Maintenance | BBB11: 4 | BBC11: Développement | BBD11: 4 | BBE11: Maintenance | BBF11: 4 | BBG11: Développement | BBH11: 4 | BBI11: Maintenance | BBJ11: 4 | BBK11: Développement | BBL11: 4 | BBM11: Maintenance | BBN11: 4 | BBO11: Développement | BBP11: 4 | BBQ11: Maintenance | BBR11: 4 | BBS11: Développement | BBT11: 4 | BBU11: Maintenance | BBV11: 4 | BBW11: Développement | BBX11: =SUM(BAZ11:BBW11) -> 48 | BCB11: 4 | BCC11: Maintenance | BCD11: 4 | BCE11: Développement | BCF11: 4 | BCG11: Maintenance | BCH11: 4 | BCI11: Développement | BCJ11: 4 | BCK11: Maintenance | BCL11: 4 | BCM11: Développement | BCN11: 4 | BCO11: Maintenance | BCP11: 4 | BCQ11: Développement | BCR11: 4 | BCS11: Maintenance | BCT11: 4 | BCU11: Développement | BCV11: 4 | BCW11: Maintenance | BCX11: 4 | BCY11: Développement | BCZ11: =SUM(BCB11:BCY11) -> 48 | BEB11: =SUM(BDD11:BEA11) -> 0
A12: Informatique | B12: F | C12: W | D12: 4 | E12: Stratégie | F12: 4 | G12: Maintenance | H12: 4 | I12: Stratégie | J12: 4 | K12: Maintenance | L12: 4 | M12: Stratégie | N12: 4 | O12: Maintenance | P12: 4 | Q12: Stratégie | R12: 4 | S12: Maintenance | T12: 4 | U12: Stratégie | V12: 4 | W12: Maintenance | X12: 4 | Y12: Stratégie | Z12: 4 | AA12: Maintenance | AB12: =SUM(D12:AA12) -> 48 | AF12: 4 | AG12: Stratégie | AH12: 4 | AI12: Maintenance | AJ12: 4 | AK12: Stratégie | AL12: 4 | AM12: Maintenance | AN12: 4 | AO12: Stratégie | AP12: 4 | AQ12: Maintenance | AR12: 4 | AS12: Stratégie | AT12: 4 | AU12: Maintenance | AV12: 4 | AW12: Stratégie | AX12: 4 | AY12: Maintenance | AZ12: 4 | BA12: Stratégie | BB12: 4 | BC12: Maintenance | BD12: =SUM(AF12:BC12) -> 48 | BH12: 4 | BI12: Stratégie | BJ12: 4 | BK12: Maintenance | BL12: 4 | BM12: Stratégie | BN12: 4 | BO12: Maintenance | BP12: 4 | BQ12: Stratégie | BR12: 4 | BS12: Maintenance | BT12: 4 | BU12: Stratégie | BV12: 4 | BW12: Maintenance | BX12: 4 | BY12: Stratégie | BZ12: 4 | CA12: Maintenance | CB12: 4 | CC12: Stratégie | CD12: 4 | CE12: Maintenance | CF12: =SUM(BH12:CE12) -> 48 | CJ12: 4 | CK12: Stratégie | CL12: 4 | CM12: Maintenance | CN12: 4 | CO12: Stratégie | CP12: 4 | CQ12: Maintenance | CR12: 4 | CS12: Stratégie | CT12: 4 | CU12: Maintenance | CV12: 4 | CW12: Stratégie | CX12: 4 | CY12: Maintenance | CZ12: 4 | DA12: Stratégie | DB12: 4 | DC12: Maintenance | DD12: 4 | DE12: Stratégie | DF12: 4 | DG12: Maintenance | DH12: =SUM(CJ12:DG12) -> 48 | DL12: 4 | DM12: Stratégie | DN12: 4 | DO12: Maintenance | DP12: 4 | DQ12: Stratégie | DR12: 4 | DS12: Maintenance | DT12: 4 | DU12: Stratégie | DV12: 4 | DW12: Maintenance | DX12: 4 | DY12: Stratégie | DZ12: 4 | EA12: Maintenance | EB12: 4 | EC12: Stratégie | ED12: 4 | EE12: Maintenance | EF12: 4 | EG12: Stratégie | EH12: 4 | EI12: Maintenance | EJ12: =SUM(DL12:EI12) -> 48 | EN12: 4 | EO12: Stratégie | EP12: 4 | EQ12: Maintenance | ER12: 4 | ES12: Stratégie | ET12: 4 | EU12: Maintenance | EV12: 4 | EW12: Stratégie | EX12: 4 | EY12: Maintenance | EZ12: 4 | FA12: Stratégie | FB12: 4 | FC12: Maintenance | FD12: 4 | FE12: Stratégie | FF12: 4 | FG12: Maintenance | FH12: 4 | FI12: Stratégie | FJ12: 4 | FK12: Maintenance | FL12: =SUM(EN12:FK12) -> 48 | FP12: 4 | FQ12: Stratégie | FR12: 4 | FS12: Maintenance | FT12: 4 | FU12: Stratégie | FV12: 4 | FW12: Maintenance | FX12: 4 | FY12: Stratégie | FZ12: 4 | GA12: Maintenance | GB12: 4 | GC12: Stratégie | GD12: 4 | GE12: Maintenance | GF12: 4 | GG12: Stratégie | GH12: 4 | GI12: Maintenance | GJ12: 4 | GK12: Stratégie | GL12: 4 | GM12: Maintenance | GN12: =SUM(FP12:GM12) -> 48 | GR12: 4 | GS12: Stratégie | GT12: 4 | GU12: Maintenance | GV12: 4 | GW12: Stratégie | GX12: 4 | GY12: Maintenance | GZ12: 4 | HA12: Stratégie | HB12: 4 | HC12: Maintenance | HD12: 4 | HE12: Stratégie | HF12: 4 | HG12: Maintenance | HH12: 4 | HI12: Stratégie | HJ12: 4 | HK12: Maintenance | HL12: 4 | HM12: Stratégie | HN12: 4 | HO12: Maintenance | HP12: =SUM(GR12:HO12) -> 48 | HT12: 4 | HU12: Stratégie | HV12: 4 | HW12: Maintenance | HX12: 4 | HY12: Stratégie | HZ12: 4 | IA12: Maintenance | IB12: 4 | IC12: Stratégie | ID12: 4 | IE12: Maintenance | IF12: 4 | IG12: Stratégie | IH12: 4 | II12: Maintenance | IJ12: 4 | IK12: Stratégie | IL12: 4 | IM12: Maintenance | IN12: 4 | IO12: Stratégie | IP12: 4 | IQ12: Maintenance | IR12: =SUM(HT12:IQ12) -> 48 | IV12: 4 | IW12: Stratégie | IX12: 4 | IY12: Maintenance | IZ12: 4 | JA12: Stratégie | JB12: 4 | JC12: Maintenance | JD12: 4 | JE12: Stratégie | JF12: 4 | JG12: Maintenance | JH12: 4 | JI12: Stratégie | JJ12: 4 | JK12: Maintenance | JL12: 4 | JM12: Stratégie | JN12: 4 | JO12: Maintenance | JP12: 4 | JQ12: Stratégie | JR12: 4 | JS12: Maintenance | JT12: =SUM(IV12:JS12) -> 48 | JX12: 4 | JY12: Stratégie | JZ12: 4 | KA12: Maintenance | KB12: 4 | KC12: Stratégie | KD12: 4 | KE12: Maintenance | KF12: 4 | KG12: Stratégie | KH12: 4 | KI12: Maintenance | KJ12: 4 | KK12: Stratégie | KL12: 4 | KM12: Maintenance | KN12: 4 | KO12: Stratégie | KP12: 4 | KQ12: Maintenance | KR12: 4 | KS12: Stratégie | KT12: 4 | KU12: Maintenance | KV12: =SUM(JX12:KU12) -> 48 | KZ12: 4 | LA12: Stratégie | LB12: 4 | LC12: Maintenance | LD12: 4 | LE12: Stratégie | LF12: 4 | LG12: Maintenance | LH12: 4 | LI12: Stratégie | LJ12: 4 | LK12: Maintenance | LL12: 4 | LM12: Stratégie | LN12: 4 | LO12: Maintenance | LP12: 4 | LQ12: Stratégie | LR12: 4 | LS12: Maintenance | LT12: 4 | LU12: Stratégie | LV12: 4 | LW12: Maintenance | LX12: =SUM(KZ12:LW12) -> 48 | MB12: 4 | MC12: Stratégie | MD12: 4 | ME12: Maintenance | MF12: 4 | MG12: Stratégie | MH12: 4 | MI12: Maintenance | MJ12: 4 | MK12: Stratégie | ML12: 4 | MM12: Maintenance | MN12: 4 | MO12: Stratégie | MP12: 4 | MQ12: Maintenance | MR12: 4 | MS12: Stratégie | MT12: 4 | MU12: Maintenance | MV12: 4 | MW12: Stratégie | MX12: 4 | MY12: Maintenance | MZ12: =SUM(MB12:MY12) -> 48 | ND12: 4 | NE12: Stratégie | NF12: 4 | NG12: Maintenance | NH12: 4 | NI12: Stratégie | NJ12: 4 | NK12: Maintenance | NL12: 4 | NM12: Stratégie | NN12: 4 | NO12: Maintenance | NP12: 4 | NQ12: Stratégie | NR12: 4 | NS12: Maintenance | NT12: 4 | NU12: Stratégie | NV12: 4 | NW12: Maintenance | NX12: 4 | NY12: Stratégie | NZ12: 4 | OA12: Maintenance | OB12: =SUM(ND12:OA12) -> 48 | OF12: 4 | OG12: Stratégie | OH12: 4 | OI12: Maintenance | OJ12: 4 | OK12: Stratégie | OL12: 4 | OM12: Maintenance | ON12: 4 | OO12: Stratégie | OP12: 4 | OQ12: Maintenance | OR12: 4 | OS12: Stratégie | OT12: 4 | OU12: Maintenance | OV12: 4 | OW12: Stratégie | OX12: 4 | OY12: Maintenance | OZ12: 4 | PA12: Stratégie | PB12: 4 | PC12: Maintenance | PD12: =SUM(OF12:PC12) -> 48 | PH12: 4 | PI12: Stratégie | PJ12: 4 | PK12: Maintenance | PL12: 4 | PM12: Stratégie | PN12: 4 | PO12: Maintenance | PP12: 4 | PQ12: Stratégie | PR12: 4 | PS12: Maintenance | PT12: 4 | PU12: Stratégie | PV12: 4 | PW12: Maintenance | PX12: 4 | PY12: Stratégie | PZ12: 4 | QA12: Maintenance | QB12: 4 | QC12: Stratégie | QD12: 4 | QE12: Maintenance | QF12: =SUM(PH12:QE12) -> 48 | QJ12: 4 | QK12: Stratégie | QL12: 4 | QM12: Maintenance | QN12: 4 | QO12: Stratégie | QP12: 4 | QQ12: Maintenance | QR12: 4 | QS12: Stratégie | QT12: 4 | QU12: Maintenance | QV12: 4 | QW12: Stratégie | QX12: 4 | QY12: Maintenance | QZ12: 4 | RA12: Stratégie | RB12: 4 | RC12: Maintenance | RD12: 4 | RE12: Stratégie | RF12: 4 | RG12: Maintenance | RH12: =SUM(QJ12:RG12) -> 48 | RL12: 4 | RM12: Stratégie | RN12: 4 | RO12: Maintenance | RP12: 4 | RQ12: Stratégie | RR12: 4 | RS12: Maintenance | RT12: 4 | RU12: Stratégie | RV12: 4 | RW12: Maintenance | RX12: 4 | RY12: Stratégie | RZ12: 4 | SA12: Maintenance | SB12: 4 | SC12: Stratégie | SD12: 4 | SE12: Maintenance | SF12: 4 | SG12: Stratégie | SH12: 4 | SI12: Maintenance | SJ12: =SUM(RL12:SI12) -> 48 | SN12: 4 | SO12: Stratégie | SP12: 4 | SQ12: Maintenance | SR12: 4 | SS12: Stratégie | ST12: 4 | SU12: Maintenance | SV12: 4 | SW12: Stratégie | SX12: 4 | SY12: Maintenance | SZ12: 4 | TA12: Stratégie | TB12: 4 | TC12: Maintenance | TD12: 4 | TE12: Stratégie | TF12: 4 | TG12: Maintenance | TH12: 4 | TI12: Stratégie | TJ12: 4 | TK12: Maintenance | TL12: =SUM(SN12:TK12) -> 48 | TP12: 4 | TQ12: Stratégie | TR12: 4 | TS12: Maintenance | TT12: 4 | TU12: Stratégie | TV12: 4 | TW12: Maintenance | TX12: 4 | TY12: Stratégie | TZ12: 4 | UA12: Maintenance | UB12: 4 | UC12: Stratégie | UD12: 4 | UE12: Maintenance | UF12: 4 | UG12: Stratégie | UH12: 4 | UI12: Maintenance | UJ12: 4 | UK12: Stratégie | UL12: 4 | UM12: Maintenance | UN12: =SUM(TP12:UM12) -> 48 | UR12: 4 | US12: Stratégie | UT12: 4 | UU12: Maintenance | UV12: 4 | UW12: Stratégie | UX12: 4 | UY12: Maintenance | UZ12: 4 | VA12: Stratégie | VB12: 4 | VC12: Maintenance | VD12: 4 | VE12: Stratégie | VF12: 4 | VG12: Maintenance | VH12: 4 | VI12: Stratégie | VJ12: 4 | VK12: Maintenance | VL12: 4 | VM12: Stratégie | VN12: 4 | VO12: Maintenance | VP12: =SUM(UR12:VO12) -> 48 | VT12: 4 | VU12: Stratégie | VV12: 4 | VW12: Maintenance | VX12: 4 | VY12: Stratégie | VZ12: 4 | WA12: Maintenance | WB12: 4 | WC12: Stratégie | WD12: 4 | WE12: Maintenance | WF12: 4 | WG12: Stratégie | WH12: 4 | WI12: Maintenance | WJ12: 4 | WK12: Stratégie | WL12: 4 | WM12: Maintenance | WN12: 4 | WO12: Stratégie | WP12: 4 | WQ12: Maintenance | WR12: =SUM(VT12:WQ12) -> 48 | WV12: 4 | WW12: Stratégie | WX12: 4 | WY12: Maintenance | WZ12: 4 | XA12: Stratégie | XB12: 4 | XC12: Maintenance | XD12: 4 | XE12: Stratégie | XF12: 4 | XG12: Maintenance | XH12: 4 | XI12: Stratégie | XJ12: 4 | XK12: Maintenance | XL12: 4 | XM12: Stratégie | XN12: 4 | XO12: Maintenance | XP12: 4 | XQ12: Stratégie | XR12: 4 | XS12: Maintenance | XT12: =SUM(WV12:XS12) -> 48 | XX12: 4 | XY12: Stratégie | XZ12: 4 | YA12: Maintenance | YB12: 4 | YC12: Stratégie | YD12: 4 | YE12: Maintenance | YF12: 4 | YG12: Stratégie | YH12: 4 | YI12: Maintenance | YJ12: 4 | YK12: Stratégie | YL12: 4 | YM12: Maintenance | YN12: 4 | YO12: Stratégie | YP12: 4 | YQ12: Maintenance | YR12: 4 | YS12: Stratégie | YT12: 4 | YU12: Maintenance | YV12: =SUM(XX12:YU12) -> 48 | YZ12: 4 | ZA12: Stratégie | ZB12: 4 | ZC12: Maintenance | ZD12: 4 | ZE12: Stratégie | ZF12: 4 | ZG12: Maintenance | ZH12: 4 | ZI12: Stratégie | ZJ12: 4 | ZK12: Maintenance | ZL12: 4 | ZM12: Stratégie | ZN12: 4 | ZO12: Maintenance | ZP12: 4 | ZQ12: Stratégie | ZR12: 4 | ZS12: Maintenance | ZT12: 4 | ZU12: Stratégie | ZV12: 4 | ZW12: Maintenance | ZX12: =SUM(YZ12:ZW12) -> 48 | AAB12: 4 | AAC12: Stratégie | AAD12: 4 | AAE12: Maintenance | AAF12: 4 | AAG12: Stratégie | AAH12: 4 | AAI12: Maintenance | AAJ12: 4 | AAK12: Stratégie | AAL12: 4 | AAM12: Maintenance | AAN12: 4 | AAO12: Stratégie | AAP12: 4 | AAQ12: Maintenance | AAR12: 4 | AAS12: Stratégie | AAT12: 4 | AAU12: Maintenance | AAV12: 4 | AAW12: Stratégie | AAX12: 4 | AAY12: Maintenance | AAZ12: =SUM(AAB12:AAY12) -> 48 | ABD12: 4 | ABE12: Stratégie | ABF12: 4 | ABG12: Maintenance | ABH12: 4 | ABI12: Stratégie | ABJ12: 4 | ABK12: Maintenance | ABL12: 4 | ABM12: Stratégie | ABN12: 4 | ABO12: Maintenance | ABP12: 4 | ABQ12: Stratégie | ABR12: 4 | ABS12: Maintenance | ABT12: 4 | ABU12: Stratégie | ABV12: 4 | ABW12: Maintenance | ABX12: 4 | ABY12: Stratégie | ABZ12: 4 | ACA12: Maintenance | ACB12: =SUM(ABD12:ACA12) -> 48 | ACF12: 4 | ACG12: Stratégie | ACH12: 4 | ACI12: Maintenance | ACJ12: 4 | ACK12: Stratégie | ACL12: 4 | ACM12: Maintenance | ACN12: 4 | ACO12: Stratégie | ACP12: 4 | ACQ12: Maintenance | ACR12: 4 | ACS12: Stratégie | ACT12: 4 | ACU12: Maintenance | ACV12: 4 | ACW12: Stratégie | ACX12: 4 | ACY12: Maintenance | ACZ12: 4 | ADA12: Stratégie | ADB12: 4 | ADC12: Maintenance | ADD12: =SUM(ACF12:ADC12) -> 48 | ADH12: 4 | ADI12: Stratégie | ADJ12: 4 | ADK12: Maintenance | ADL12: 4 | ADM12: Stratégie | ADN12: 4 | ADO12: Maintenance | ADP12: 4 | ADQ12: Stratégie | ADR12: 4 | ADS12: Maintenance | ADT12: 4 | ADU12: Stratégie | ADV12: 4 | ADW12: Maintenance | ADX12: 4 | ADY12: Stratégie | ADZ12: 4 | AEA12: Maintenance | AEB12: 4 | AEC12: Stratégie | AED12: 4 | AEE12: Maintenance | AEF12: =SUM(ADH12:AEE12) -> 48 | AEJ12: 4 | AEK12: Stratégie | AEL12: 4 | AEM12: Maintenance | AEN12: 4 | AEO12: Stratégie | AEP12: 4 | AEQ12: Maintenance | AER12: 4 | AES12: Stratégie | AET12: 4 | AEU12: Maintenance | AEV12: 4 | AEW12: Stratégie | AEX12: 4 | AEY12: Maintenance | AEZ12: 4 | AFA12: Stratégie | AFB12: 4 | AFC12: Maintenance | AFD12: 4 | AFE12: Stratégie | AFF12: 4 | AFG12: Maintenance | AFH12: =SUM(AEJ12:AFG12) -> 48 | AFL12: 4 | AFM12: Stratégie | AFN12: 4 | AFO12: Maintenance | AFP12: 4 | AFQ12: Stratégie | AFR12: 4 | AFS12: Maintenance | AFT12: 4 | AFU12: Stratégie | AFV12: 4 | AFW12: Maintenance | AFX12: 4 | AFY12: Stratégie | AFZ12: 4 | AGA12: Maintenance | AGB12: 4 | AGC12: Stratégie | AGD12: 4 | AGE12: Maintenance | AGF12: 4 | AGG12: Stratégie | AGH12: 4 | AGI12: Maintenance | AGJ12: =SUM(AFL12:AGI12) -> 48 | AGN12: 4 | AGO12: Stratégie | AGP12: 4 | AGQ12: Maintenance | AGR12: 4 | AGS12: Stratégie | AGT12: 4 | AGU12: Maintenance | AGV12: 4 | AGW12: Stratégie | AGX12: 4 | AGY12: Maintenance | AGZ12: 4 | AHA12: Stratégie | AHB12: 4 | AHC12: Maintenance | AHD12: 4 | AHE12: Stratégie | AHF12: 4 | AHG12: Maintenance | AHH12: 4 | AHI12: Stratégie | AHJ12: 4 | AHK12: Maintenance | AHL12: =SUM(AGN12:AHK12) -> 48 | AHP12: 4 | AHQ12: Stratégie | AHR12: 4 | AHS12: Maintenance | AHT12: 4 | AHU12: Stratégie | AHV12: 4 | AHW12: Maintenance | AHX12: 4 | AHY12: Stratégie | AHZ12: 4 | AIA12: Maintenance | AIB12: 4 | AIC12: Stratégie | AID12: 4 | AIE12: Maintenance | AIF12: 4 | AIG12: Stratégie | AIH12: 4 | AII12: Maintenance | AIJ12: 4 | AIK12: Stratégie | AIL12: 4 | AIM12: Maintenance | AIN12: =SUM(AHP12:AIM12) -> 48 | AIR12: 4 | AIS12: Stratégie | AIT12: 4 | AIU12: Maintenance | AIV12: 4 | AIW12: Stratégie | AIX12: 4 | AIY12: Maintenance | AIZ12: 4 | AJA12: Stratégie | AJB12: 4 | AJC12: Maintenance | AJD12: 4 | AJE12: Stratégie | AJF12: 4 | AJG12: Maintenance | AJH12: 4 | AJI12: Stratégie | AJJ12: 4 | AJK12: Maintenance | AJL12: 4 | AJM12: Stratégie | AJN12: 4 | AJO12: Maintenance | AJP12: =SUM(AIR12:AJO12) -> 48 | AJT12: 4 | AJU12: Stratégie | AJV12: 4 | AJW12: Maintenance | AJX12: 4 | AJY12: Stratégie | AJZ12: 4 | AKA12: Maintenance | AKB12: 4 | AKC12: Stratégie | AKD12: 4 | AKE12: Maintenance | AKF12: 4 | AKG12: Stratégie | AKH12: 4 | AKI12: Maintenance | AKJ12: 4 | AKK12: Stratégie | AKL12: 4 | AKM12: Maintenance | AKN12: 4 | AKO12: Stratégie | AKP12: 4 | AKQ12: Maintenance | AKR12: =SUM(AJT12:AKQ12) -> 48 | AKV12: 4 | AKW12: Stratégie | AKX12: 4 | AKY12: Maintenance | AKZ12: 4 | ALA12: Stratégie | ALB12: 4 | ALC12: Maintenance | ALD12: 4 | ALE12: Stratégie | ALF12: 4 | ALG12: Maintenance | ALH12: 4 | ALI12: Stratégie | ALJ12: 4 | ALK12: Maintenance | ALL12: 4 | ALM12: Stratégie | ALN12: 4 | ALO12: Maintenance | ALP12: 4 | ALQ12: Stratégie | ALR12: 4 | ALS12: Maintenance | ALT12: =SUM(AKV12:ALS12) -> 48 | ALX12: 4 | ALY12: Stratégie | ALZ12: 4 | AMA12: Maintenance | AMB12: 4 | AMC12: Stratégie | AMD12: 4 | AME12: Maintenance | AMF12: 4 | AMG12: Stratégie | AMH12: 4 | AMI12: Maintenance | AMJ12: 4 | AMK12: Stratégie | AML12: 4 | AMM12: Maintenance | AMN12: 4 | AMO12: Stratégie | AMP12: 4 | AMQ12: Maintenance | AMR12: 4 | AMS12: Stratégie | AMT12: 4 | AMU12: Maintenance | AMV12: =SUM(ALX12:AMU12) -> 48 | AMZ12: 4 | ANA12: Stratégie | ANB12: 4 | ANC12: Maintenance | AND12: 4 | ANE12: Stratégie | ANF12: 4 | ANG12: Maintenance | ANH12: 4 | ANI12: Stratégie | ANJ12: 4 | ANK12: Maintenance | ANL12: 4 | ANM12: Stratégie | ANN12: 4 | ANO12: Maintenance | ANP12: 4 | ANQ12: Stratégie | ANR12: 4 | ANS12: Maintenance | ANT12: 4 | ANU12: Stratégie | ANV12: 4 | ANW12: Maintenance | ANX12: =SUM(AMZ12:ANW12) -> 48 | AOB12: 4 | AOC12: Stratégie | AOD12: 4 | AOE12: Maintenance | AOF12: 4 | AOG12: Stratégie | AOH12: 4 | AOI12: Maintenance | AOJ12: 4 | AOK12: Stratégie | AOL12: 4 | AOM12: Maintenance | AON12: 4 | AOO12: Stratégie | AOP12: 4 | AOQ12: Maintenance | AOR12: 4 | AOS12: Stratégie | AOT12: 4 | AOU12: Maintenance | AOV12: 4 | AOW12: Stratégie | AOX12: 4 | AOY12: Maintenance | AOZ12: =SUM(AOB12:AOY12) -> 48 | APD12: 4 | APE12: Stratégie | APF12: 4 | APG12: Maintenance | APH12: 4 | API12: Stratégie | APJ12: 4 | APK12: Maintenance | APL12: 4 | APM12: Stratégie | APN12: 4 | APO12: Maintenance | APP12: 4 | APQ12: Stratégie | APR12: 4 | APS12: Maintenance | APT12: 4 | APU12: Stratégie | APV12: 4 | APW12: Maintenance | APX12: 4 | APY12: Stratégie | APZ12: 4 | AQA12: Maintenance | AQB12: =SUM(APD12:AQA12) -> 48 | AQF12: 4 | AQG12: Stratégie | AQH12: 4 | AQI12: Maintenance | AQJ12: 4 | AQK12: Stratégie | AQL12: 4 | AQM12: Maintenance | AQN12: 4 | AQO12: Stratégie | AQP12: 4 | AQQ12: Maintenance | AQR12: 4 | AQS12: Stratégie | AQT12: 4 | AQU12: Maintenance | AQV12: 4 | AQW12: Stratégie | AQX12: 4 | AQY12: Maintenance | AQZ12: 4 | ARA12: Stratégie | ARB12: 4 | ARC12: Maintenance | ARD12: =SUM(AQF12:ARC12) -> 48 | ARH12: 4 | ARI12: Stratégie | ARJ12: 4 | ARK12: Maintenance | ARL12: 4 | ARM12: Stratégie | ARN12: 4 | ARO12: Maintenance | ARP12: 4 | ARQ12: Stratégie | ARR12: 4 | ARS12: Maintenance | ART12: 4 | ARU12: Stratégie | ARV12: 4 | ARW12: Maintenance | ARX12: 4 | ARY12: Stratégie | ARZ12: 4 | ASA12: Maintenance | ASB12: 4 | ASC12: Stratégie | ASD12: 4 | ASE12: Maintenance | ASF12: =SUM(ARH12:ASE12) -> 48 | ASJ12: 4 | ASK12: Stratégie | ASL12: 4 | ASM12: Maintenance | ASN12: 4 | ASO12: Stratégie | ASP12: 4 | ASQ12: Maintenance | ASR12: 4 | ASS12: Stratégie | AST12: 4 | ASU12: Maintenance | ASV12: 4 | ASW12: Stratégie | ASX12: 4 | ASY12: Maintenance | ASZ12: 4 | ATA12: Stratégie | ATB12: 4 | ATC12: Maintenance | ATD12: 4 | ATE12: Stratégie | ATF12: 4 | ATG12: Maintenance | ATH12: =SUM(ASJ12:ATG12) -> 48 | ATL12: 4 | ATM12: Stratégie | ATN12: 4 | ATO12: Maintenance | ATP12: 4 | ATQ12: Stratégie | ATR12: 4 | ATS12: Maintenance | ATT12: 4 | ATU12: Stratégie | ATV12: 4 | ATW12: Maintenance | ATX12: 4 | ATY12: Stratégie | ATZ12: 4 | AUA12: Maintenance | AUB12: 4 | AUC12: Stratégie | AUD12: 4 | AUE12: Maintenance | AUF12: 4 | AUG12: Stratégie | AUH12: 4 | AUI12: Maintenance | AUJ12: =SUM(ATL12:AUI12) -> 48 | AUN12: 4 | AUO12: Stratégie | AUP12: 4 | AUQ12: Maintenance | AUR12: 4 | AUS12: Stratégie | AUT12: 4 | AUU12: Maintenance | AUV12: 4 | AUW12: Stratégie | AUX12: 4 | AUY12: Maintenance | AUZ12: 4 | AVA12: Stratégie | AVB12: 4 | AVC12: Maintenance | AVD12: 4 | AVE12: Stratégie | AVF12: 4 | AVG12: Maintenance | AVH12: 4 | AVI12: Stratégie | AVJ12: 4 | AVK12: Maintenance | AVL12: =SUM(AUN12:AVK12) -> 48 | AVP12: 4 | AVQ12: Stratégie | AVR12: 4 | AVS12: Maintenance | AVT12: 4 | AVU12: Stratégie | AVV12: 4 | AVW12: Maintenance | AVX12: 4 | AVY12: Stratégie | AVZ12: 4 | AWA12: Maintenance | AWB12: 4 | AWC12: Stratégie | AWD12: 4 | AWE12: Maintenance | AWF12: 4 | AWG12: Stratégie | AWH12: 4 | AWI12: Maintenance | AWJ12: 4 | AWK12: Stratégie | AWL12: 4 | AWM12: Maintenance | AWN12: =SUM(AVP12:AWM12) -> 48 | AWR12: 4 | AWS12: Stratégie | AWT12: 4 | AWU12: Maintenance | AWV12: 4 | AWW12: Stratégie | AWX12: 4 | AWY12: Maintenance | AWZ12: 4 | AXA12: Stratégie | AXB12: 4 | AXC12: Maintenance | AXD12: 4 | AXE12: Stratégie | AXF12: 4 | AXG12: Maintenance | AXH12: 4 | AXI12: Stratégie | AXJ12: 4 | AXK12: Maintenance | AXL12: 4 | AXM12: Stratégie | AXN12: 4 | AXO12: Maintenance | AXP12: =SUM(AWR12:AXO12) -> 48 | AXT12: 4 | AXU12: Stratégie | AXV12: 4 | AXW12: Maintenance | AXX12: 4 | AXY12: Stratégie | AXZ12: 4 | AYA12: Maintenance | AYB12: 4 | AYC12: Stratégie | AYD12: 4 | AYE12: Maintenance | AYF12: 4 | AYG12: Stratégie | AYH12: 4 | AYI12: Maintenance | AYJ12: 4 | AYK12: Stratégie | AYL12: 4 | AYM12: Maintenance | AYN12: 4 | AYO12: Stratégie | AYP12: 4 | AYQ12: Maintenance | AYR12: =SUM(AXT12:AYQ12) -> 48 | AYV12: 4 | AYW12: Stratégie | AYX12: 4 | AYY12: Maintenance | AYZ12: 4 | AZA12: Stratégie | AZB12: 4 | AZC12: Maintenance | AZD12: 4 | AZE12: Stratégie | AZF12: 4 | AZG12: Maintenance | AZH12: 4 | AZI12: Stratégie | AZJ12: 4 | AZK12: Maintenance | AZL12: 4 | AZM12: Stratégie | AZN12: 4 | AZO12: Maintenance | AZP12: 4 | AZQ12: Stratégie | AZR12: 4 | AZS12: Maintenance | AZT12: =SUM(AYV12:AZS12) -> 48 | AZX12: 4 | AZY12: Stratégie | AZZ12: 4 | BAA12: Maintenance | BAB12: 4 | BAC12: Stratégie | BAD12: 4 | BAE12: Maintenance | BAF12: 4 | BAG12: Stratégie | BAH12: 4 | BAI12: Maintenance | BAJ12: 4 | BAK12: Stratégie | BAL12: 4 | BAM12: Maintenance | BAN12: 4 | BAO12: Stratégie | BAP12: 4 | BAQ12: Maintenance | BAR12: 4 | BAS12: Stratégie | BAT12: 4 | BAU12: Maintenance | BAV12: =SUM(AZX12:BAU12) -> 48 | BAZ12: 4 | BBA12: Stratégie | BBB12: 4 | BBC12: Maintenance | BBD12: 4 | BBE12: Stratégie | BBF12: 4 | BBG12: Maintenance | BBH12: 4 | BBI12: Stratégie | BBJ12: 4 | BBK12: Maintenance | BBL12: 4 | BBM12: Stratégie | BBN12: 4 | BBO12: Maintenance | BBP12: 4 | BBQ12: Stratégie | BBR12: 4 | BBS12: Maintenance | BBT12: 4 | BBU12: Stratégie | BBV12: 4 | BBW12: Maintenance | BBX12: =SUM(BAZ12:BBW12) -> 48 | BCB12: 4 | BCC12: Stratégie | BCD12: 4 | BCE12: Maintenance | BCF12: 4 | BCG12: Stratégie | BCH12: 4 | BCI12: Maintenance | BCJ12: 4 | BCK12: Stratégie | BCL12: 4 | BCM12: Maintenance | BCN12: 4 | BCO12: Stratégie | BCP12: 4 | BCQ12: Maintenance | BCR12: 4 | BCS12: Stratégie | BCT12: 4 | BCU12: Maintenance | BCV12: 4 | BCW12: Stratégie | BCX12: 4 | BCY12: Maintenance | BCZ12: =SUM(BCB12:BCY12) -> 48 | BEB12: =SUM(BDD12:BEA12) -> 0
A13: Recherche | B13: G | C13: X | D13: 8 | E13: Développement | H13: 8 | I13: Développement | L13: 8 | M13: Développement | P13: 8 | Q13: Développement | T13: 8 | U13: Développement | X13: 8 | Y13: Développement | AB13: =SUM(D13:AA13) -> 48 | AF13: 8 | AG13: Développement | AJ13: 8 | AK13: Développement | AN13: 8 | AO13: Développement | AR13: 8 | AS13: Développement | AV13: 8 | AW13: Développement | AZ13: 8 | BA13: Développement | BD13: =SUM(AF13:BC13) -> 48 | BH13: 8 | BI13: Développement | BL13: 8 | BM13: Développement | BP13: 8 | BQ13: Développement | BT13: 8 | BU13: Développement | BX13: 8 | BY13: Développement | CB13: 8 | CC13: Développement | CF13: =SUM(BH13:CE13) -> 48 | CJ13: 8 | CK13: Développement | CN13: 8 | CO13: Développement | CR13: 8 | CS13: Développement | CV13: 8 | CW13: Développement | CZ13: 8 | DA13: Développement | DD13: 8 | DE13: Développement | DH13: =SUM(CJ13:DG13) -> 48 | DL13: 8 | DM13: Développement | DP13: 8 | DQ13: Développement | DT13: 8 | DU13: Développement | DX13: 8 | DY13: Développement | EB13: 8 | EC13: Développement | EF13: 8 | EG13: Développement | EJ13: =SUM(DL13:EI13) -> 48 | EN13: 8 | EO13: Développement | ER13: 8 | ES13: Développement | EV13: 8 | EW13: Développement | EZ13: 8 | FA13: Développement | FD13: 8 | FE13: Développement | FH13: 8 | FI13: Développement | FL13: =SUM(EN13:FK13) -> 48 | FP13: 8 | FQ13: Développement | FT13: 8 | FU13: Développement | FX13: 8 | FY13: Développement | GB13: 8 | GC13: Développement | GF13: 8 | GG13: Développement | GJ13: 8 | GK13: Développement | GN13: =SUM(FP13:GM13) -> 48 | GR13: 8 | GS13: Développement | GV13: 8 | GW13: Développement | GZ13: 8 | HA13: Développement | HD13: 8 | HE13: Développement | HH13: 8 | HI13: Développement | HL13: 8 | HM13: Développement | HP13: =SUM(GR13:HO13) -> 48 | HT13: 8 | HU13: Développement | HX13: 8 | HY13: Développement | IB13: 8 | IC13: Développement | IF13: 8 | IG13: Développement | IJ13: 8 | IK13: Développement | IN13: 8 | IO13: Développement | IR13: =SUM(HT13:IQ13) -> 48 | IV13: 8 | IW13: Développement | IZ13: 8 | JA13: Développement | JD13: 8 | JE13: Développement | JH13: 8 | JI13: Développement | JL13: 8 | JM13: Développement | JP13: 8 | JQ13: Développement | JT13: =SUM(IV13:JS13) -> 48 | JX13: 8 | JY13: Développement | KB13: 8 | KC13: Développement | KF13: 8 | KG13: Développement | KJ13: 8 | KK13: Développement | KN13: 8 | KO13: Développement | KR13: 8 | KS13: Développement | KV13: =SUM(JX13:KU13) -> 48 | KZ13: 8 | LA13: Développement | LD13: 8 | LE13: Développement | LH13: 8 | LI13: Développement | LL13: 8 | LM13: Développement | LP13: 8 | LQ13: Développement | LT13: 8 | LU13: Développement | LX13: =SUM(KZ13:LW13) -> 48 | MB13: 8 | MC13: Développement | MF13: 8 | MG13: Développement | MJ13: 8 | MK13: Développement | MN13: 8 | MO13: Développement | MR13: 8 | MS13: Développement | MV13: 8 | MW13: Développement | MZ13: =SUM(MB13:MY13) -> 48 | ND13: 8 | NE13: Développement | NH13: 8 | NI13: Développement | NL13: 8 | NM13: Développement | NP13: 8 | NQ13: Développement | NT13: 8 | NU13: Développement | NX13: 8 | NY13: Développement | OB13: =SUM(ND13:OA13) -> 48 | OF13: 8 | OG13: Développement | OJ13: 8 | OK13: Développement | ON13: 8 | OO13: Développement | OR13: 8 | OS13: Développement | OV13: 8 | OW13: Développement | OZ13: 8 | PA13: Développement | PD13: =SUM(OF13:PC13) -> 48 | PH13: 8 | PI13: Développement | PL13: 8 | PM13: Développement | PP13: 8 | PQ13: Développement | PT13: 8 | PU13: Développement | PX13: 8 | PY13: Développement | QB13: 8 | QC13: Développement | QF13: =SUM(PH13:QE13) -> 48 | QJ13: 8 | QK13: Développement | QN13: 8 | QO13: Développement | QR13: 8 | QS13: Développement | QV13: 8 | QW13: Développement | QZ13: 8 | RA13: Développement | RD13: 8 | RE13: Développement | RH13: =SUM(QJ13:RG13) -> 48 | RL13: 8 | RM13: Développement | RP13: 8 | RQ13: Développement | RT13: 8 | RU13: Développement | RX13: 8 | RY13: Développement | SB13: 8 | SC13: Développement | SF13: 8 | SG13: Développement | SJ13: =SUM(RL13:SI13) -> 48 | SN13: 8 | SO13: Développement | SR13: 8 | SS13: Développement | SV13: 8 | SW13: Développement | SZ13: 8 | TA13: Développement | TD13: 8 | TE13: Développement | TH13: 8 | TI13: Développement | TL13: =SUM(SN13:TK13) -> 48 | TP13: 8 | TQ13: Développement | TT13: 8 | TU13: Développement | TX13: 8 | TY13: Développement | UB13: 8 | UC13: Développement | UF13: 8 | UG13: Développement | UJ13: 8 | UK13: Développement | UN13: =SUM(TP13:UM13) -> 48 | UR13: 8 | US13: Développement | UV13: 8 | UW13: Développement | UZ13: 8 | VA13: Développement | VD13: 8 | VE13: Développement | VH13: 8 | VI13: Développement | VL13: 8 | VM13: Développement | VP13: =SUM(UR13:VO13) -> 48 | VT13: 8 | VU13: Développement | VX13: 8 | VY13: Développement | WB13: 8 | WC13: Développement | WF13: 8 | WG13: Développement | WJ13: 8 | WK13: Développement | WN13: 8 | WO13: Développement | WR13: =SUM(VT13:WQ13) -> 48 | WV13: 8 | WW13: Développement | WZ13: 8 | XA13: Développement | XD13: 8 | XE13: Développement | XH13: 8 | XI13: Développement | XL13: 8 | XM13: Développement | XP13: 8 | XQ13: Développement | XT13: =SUM(WV13:XS13) -> 48 | XX13: 8 | XY13: Développement | YB13: 8 | YC13: Développement | YF13: 8 | YG13: Développement | YJ13: 8 | YK13: Développement | YN13: 8 | YO13: Développement | YR13: 8 | YS13: Développement | YV13: =SUM(XX13:YU13) -> 48 | YZ13: 8 | ZA13: Développement | ZD13: 8 | ZE13: Développement | ZH13: 8 | ZI13: Développement | ZL13: 8 | ZM13: Développement | ZP13: 8 | ZQ13: Développement | ZT13: 8 | ZU13: Développement | ZX13: =SUM(YZ13:ZW13) -> 48 | AAB13: 8 | AAC13: Développement | AAF13: 8 | AAG13: Développement | AAJ13: 8 | AAK13: Développement | AAN13: 8 | AAO13: Développement | AAR13: 8 | AAS13: Développement | AAV13: 8 | AAW13: Développement | AAZ13: =SUM(AAB13:AAY13) -> 48 | ABD13: 8 | ABE13: Développement | ABH13: 8 | ABI13: Développement | ABL13: 8 | ABM13: Développement | ABP13: 8 | ABQ13: Développement | ABT13: 8 | ABU13: Développement | ABX13: 8 | ABY13: Développement | ACB13: =SUM(ABD13:ACA13) -> 48 | ACF13: 8 | ACG13: Développement | ACJ13: 8 | ACK13: Développement | ACN13: 8 | ACO13: Développement | ACR13: 8 | ACS13: Développement | ACV13: 8 | ACW13: Développement | ACZ13: 8 | ADA13: Développement | ADD13: =SUM(ACF13:ADC13) -> 48 | ADH13: 8 | ADI13: Développement | ADL13: 8 | ADM13: Développement | ADP13: 8 | ADQ13: Développement | ADT13: 8 | ADU13: Développement | ADX13: 8 | ADY13: Développement | AEB13: 8 | AEC13: Développement | AEF13: =SUM(ADH13:AEE13) -> 48 | AEJ13: 8 | AEK13: Développement | AEN13: 8 | AEO13: Développement | AER13: 8 | AES13: Développement | AEV13: 8 | AEW13: Développement | AEZ13: 8 | AFA13: Développement | AFD13: 8 | AFE13: Développement | AFH13: =SUM(AEJ13:AFG13) -> 48 | AFL13: 8 | AFM13: Développement | AFP13: 8 | AFQ13: Développement | AFT13: 8 | AFU13: Développement | AFX13: 8 | AFY13: Développement | AGB13: 8 | AGC13: Développement | AGF13: 8 | AGG13: Développement | AGJ13: =SUM(AFL13:AGI13) -> 48 | AGN13: 8 | AGO13: Développement | AGR13: 8 | AGS13: Développement | AGV13: 8 | AGW13: Développement | AGZ13: 8 | AHA13: Développement | AHD13: 8 | AHE13: Développement | AHH13: 8 | AHI13: Développement | AHL13: =SUM(AGN13:AHK13) -> 48 | AHP13: 8 | AHQ13: Développement | AHT13: 8 | AHU13: Développement | AHX13: 8 | AHY13: Développement | AIB13: 8 | AIC13: Développement | AIF13: 8 | AIG13: Développement | AIJ13: 8 | AIK13: Développement | AIN13: =SUM(AHP13:AIM13) -> 48 | AIR13: 8 | AIS13: Développement | AIV13: 8 | AIW13: Développement | AIZ13: 8 | AJA13: Développement | AJD13: 8 | AJE13: Développement | AJH13: 8 | AJI13: Développement | AJL13: 8 | AJM13: Développement | AJP13: =SUM(AIR13:AJO13) -> 48 | AJT13: 8 | AJU13: Développement | AJX13: 8 | AJY13: Développement | AKB13: 8 | AKC13: Développement | AKF13: 8 | AKG13: Développement | AKJ13: 8 | AKK13: Développement | AKN13: 8 | AKO13: Développement | AKR13: =SUM(AJT13:AKQ13) -> 48 | AKV13: 8 | AKW13: Développement | AKZ13: 8 | ALA13: Développement | ALD13: 8 | ALE13: Développement | ALH13: 8 | ALI13: Développement | ALL13: 8 | ALM13: Développement | ALP13: 8 | ALQ13: Développement | ALT13: =SUM(AKV13:ALS13) -> 48 | ALX13: 8 | ALY13: Développement | AMB13: 8 | AMC13: Développement | AMF13: 8 | AMG13: Développement | AMJ13: 8 | AMK13: Développement | AMN13: 8 | AMO13: Développement | AMR13: 8 | AMS13: Développement | AMV13: =SUM(ALX13:AMU13) -> 48 | AMZ13: 8 | ANA13: Développement | AND13: 8 | ANE13: Développement | ANH13: 8 | ANI13: Développement | ANL13: 8 | ANM13: Développement | ANP13: 8 | ANQ13: Développement | ANT13: 8 | ANU13: Développement | ANX13: =SUM(AMZ13:ANW13) -> 48 | AOB13: 8 | AOC13: Développement | AOF13: 8 | AOG13: Développement | AOJ13: 8 | AOK13: Développement | AON13: 8 | AOO13: Développement | AOR13: 8 | AOS13: Développement | AOV13: 8 | AOW13: Développement | AOZ13: =SUM(AOB13:AOY13) -> 48 | APD13: 8 | APE13: Développement | APH13: 8 | API13: Développement | APL13: 8 | APM13: Développement | APP13: 8 | APQ13: Développement | APT13: 8 | APU13: Développement | APX13: 8 | APY13: Développement | AQB13: =SUM(APD13:AQA13) -> 48 | AQF13: 8 | AQG13: Développement | AQJ13: 8 | AQK13: Développement | AQN13: 8 | AQO13: Développement | AQR13: 8 | AQS13: Développement | AQV13: 8 | AQW13: Développement | AQZ13: 8 | ARA13: Développement | ARD13: =SUM(AQF13:ARC13) -> 48 | ARH13: 8 | ARI13: Développement | ARL13: 8 | ARM13: Développement | ARP13: 8 | ARQ13: Développement | ART13: 8 | ARU13: Développement | ARX13: 8 | ARY13: Développement | ASB13: 8 | ASC13: Développement | ASF13: =SUM(ARH13:ASE13) -> 48 | ASJ13: 8 | ASK13: Développement | ASN13: 8 | ASO13: Développement | ASR13: 8 | ASS13: Développement | ASV13: 8 | ASW13: Développement | ASZ13: 8 | ATA13: Développement | ATD13: 8 | ATE13: Développement | ATH13: =SUM(ASJ13:ATG13) -> 48 | ATL13: 8 | ATM13: Développement | ATP13: 8 | ATQ13: Développement | ATT13: 8 | ATU13: Développement | ATX13: 8 | ATY13: Développement | AUB13: 8 | AUC13: Développement | AUF13: 8 | AUG13: Développement | AUJ13: =SUM(ATL13:AUI13) -> 48 | AUN13: 8 | AUO13: Développement | AUR13: 8 | AUS13: Développement | AUV13: 8 | AUW13: Développement | AUZ13: 8 | AVA13: Développement | AVD13: 8 | AVE13: Développement | AVH13: 8 | AVI13: Développement | AVL13: =SUM(AUN13:AVK13) -> 48 | AVP13: 8 | AVQ13: Développement | AVT13: 8 | AVU13: Développement | AVX13: 8 | AVY13: Développement | AWB13: 8 | AWC13: Développement | AWF13: 8 | AWG13: Développement | AWJ13: 8 | AWK13: Développement | AWN13: =SUM(AVP13:AWM13) -> 48 | AWR13: 8 | AWS13: Développement | AWV13: 8 | AWW13: Développement | AWZ13: 8 | AXA13: Développement | AXD13: 8 | AXE13: Développement | AXH13: 8 | AXI13: Développement | AXL13: 8 | AXM13: Développement | AXP13: =SUM(AWR13:AXO13) -> 48 | AXT13: 8 | AXU13: Développement | AXX13: 8 | AXY13: Développement | AYB13: 8 | AYC13: Développement | AYF13: 8 | AYG13: Développement | AYJ13: 8 | AYK13: Développement | AYN13: 8 | AYO13: Développement | AYR13: =SUM(AXT13:AYQ13) -> 48 | AYV13: 8 | AYW13: Développement | AYZ13: 8 | AZA13: Développement | AZD13: 8 | AZE13: Développement | AZH13: 8 | AZI13: Développement | AZL13: 8 | AZM13: Développement | AZP13: 8 | AZQ13: Développement | AZT13: =SUM(AYV13:AZS13) -> 48 | AZX13: 8 | AZY13: Développement | BAB13: 8 | BAC13: Développement | BAF13: 8 | BAG13: Développement | BAJ13: 8 | BAK13: Développement | BAN13: 8 | BAO13: Développement | BAR13: 8 | BAS13: Développement | BAV13: =SUM(AZX13:BAU13) -> 48 | BAZ13: 8 | BBA13: Développement | BBD13: 8 | BBE13: Développement | BBH13: 8 | BBI13: Développement | BBL13: 8 | BBM13: Développement | BBP13: 8 | BBQ13: Développement | BBT13: 8 | BBU13: Développement | BBX13: =SUM(BAZ13:BBW13) -> 48 | BCB13: 8 | BCC13: Développement | BCF13: 8 | BCG13: Développement | BCJ13: 8 | BCK13: Développement | BCN13: 8 | BCO13: Développement | BCR13: 8 | BCS13: Développement | BCV13: 8 | BCW13: Développement | BCZ13: =SUM(BCB13:BCY13) -> 48 | BEB13: =SUM(BDD13:BEA13) -> 0
A14: Recherche | B14: H | C14: Y | D14: ABS | E14: Absent | H14: ABS | I14: Absent | L14: ABS | M14: Absent | P14: ABS | Q14: Absent | T14: ABS | U14: Absent | X14: ABS | Y14: Absent | AB14: =SUM(D14:AA14) -> 0 | AF14: ABS | AG14: Absent | AJ14: ABS | AK14: Absent | AN14: ABS | AO14: Absent | AR14: ABS | AS14: Absent | AV14: ABS | AW14: Absent | AZ14: ABS | BA14: Absent | BD14: =SUM(AF14:BC14) -> 0 | BH14: ABS | BI14: Absent | BL14: ABS | BM14: Absent | BP14: ABS | BQ14: Absent | BT14: ABS | BU14: Absent | BX14: ABS | BY14: Absent | CB14: ABS | CC14: Absent | CF14: =SUM(BH14:CE14) -> 0 | CJ14: ABS | CK14: Absent | CN14: ABS | CO14: Absent | CR14: ABS | CS14: Absent | CV14: ABS | CW14: Absent | CZ14: ABS | DA14: Absent | DD14: ABS | DE14: Absent | DH14: =SUM(CJ14:DG14) -> 0 | DL14: ABS | DM14: Absent | DP14: ABS | DQ14: Absent | DT14: ABS | DU14: Absent | DX14: ABS | DY14: Absent | EB14: ABS | EC14: Absent | EF14: ABS | EG14: Absent | EJ14: =SUM(DL14:EI14) -> 0 | EN14: ABS | EO14: Absent | ER14: ABS | ES14: Absent | EV14: ABS | EW14: Absent | EZ14: ABS | FA14: Absent | FD14: ABS | FE14: Absent | FH14: ABS | FI14: Absent | FL14: =SUM(EN14:FK14) -> 0 | FP14: ABS | FQ14: Absent | FT14: ABS | FU14: Absent | FX14: ABS | FY14: Absent | GB14: ABS | GC14: Absent | GF14: ABS | GG14: Absent | GJ14: ABS | GK14: Absent | GN14: =SUM(FP14:GM14) -> 0 | GR14: ABS | GS14: Absent | GV14: ABS | GW14: Absent | GZ14: ABS | HA14: Absent | HD14: ABS | HE14: Absent | HH14: ABS | HI14: Absent | HL14: ABS | HM14: Absent | HP14: =SUM(GR14:HO14) -> 0 | HT14: ABS | HU14: Absent | HX14: ABS | HY14: Absent | IB14: ABS | IC14: Absent | IF14: ABS | IG14: Absent | IJ14: ABS | IK14: Absent | IN14: ABS | IO14: Absent | IR14: =SUM(HT14:IQ14) -> 0 | IV14: ABS | IW14: Absent | IZ14: ABS | JA14: Absent | JD14: ABS | JE14: Absent | JH14: ABS | JI14: Absent | JL14: ABS | JM14: Absent | JP14: ABS | JQ14: Absent | JT14: =SUM(IV14:JS14) -> 0 | JX14: ABS | JY14: Absent | KB14: ABS | KC14: Absent | KF14: ABS | KG14: Absent | KJ14: ABS | KK14: Absent | KN14: ABS | KO14: Absent | KR14: ABS | KS14: Absent | KV14: =SUM(JX14:KU14) -> 0 | KZ14: ABS | LA14: Absent | LD14: ABS | LE14: Absent | LH14: ABS | LI14: Absent | LL14: ABS | LM14: Absent | LP14: ABS | LQ14: Absent | LT14: ABS | LU14: Absent | LX14: =SUM(KZ14:LW14) -> 0 | MB14: ABS | MC14: Absent | MF14: ABS | MG14: Absent | MJ14: ABS | MK14: Absent | MN14: ABS | MO14: Absent | MR14: ABS | MS14: Absent | MV14: ABS | MW14: Absent | MZ14: =SUM(MB14:MY14) -> 0 | ND14: ABS | NE14: Absent | NH14: ABS | NI14: Absent | NL14: ABS | NM14: Absent | NP14: ABS | NQ14: Absent | NT14: ABS | NU14: Absent | NX14: ABS | NY14: Absent | OB14: =SUM(ND14:OA14) -> 0 | OF14: ABS | OG14: Absent | OJ14: ABS | OK14: Absent | ON14: ABS | OO14: Absent | OR14: ABS | OS14: Absent | OV14: ABS | OW14: Absent | OZ14: ABS | PA14: Absent | PD14: =SUM(OF14:PC14) -> 0 | PH14: ABS | PI14: Absent | PL14: ABS | PM14: Absent | PP14: ABS | PQ14: Absent | PT14: ABS | PU14: Absent | PX14: ABS | PY14: Absent | QB14: ABS | QC14: Absent | QF14: =SUM(PH14:QE14) -> 0 | QJ14: ABS | QK14: Absent | QN14: ABS | QO14: Absent | QR14: ABS | QS14: Absent | QV14: ABS | QW14: Absent | QZ14: ABS | RA14: Absent | RD14: ABS | RE14: Absent | RH14: =SUM(QJ14:RG14) -> 0 | RL14: ABS | RM14: Absent | RP14: ABS | RQ14: Absent | RT14: ABS | RU14: Absent | RX14: ABS | RY14: Absent | SB14: ABS | SC14: Absent | SF14: ABS | SG14: Absent | SJ14: =SUM(RL14:SI14) -> 0 | SN14: ABS | SO14: Absent | SR14: ABS | SS14: Absent | SV14: ABS | SW14: Absent | SZ14: ABS | TA14: Absent | TD14: ABS | TE14: Absent | TH14: ABS | TI14: Absent | TL14: =SUM(SN14:TK14) -> 0 | TP14: ABS | TQ14: Absent | TT14: ABS | TU14: Absent | TX14: ABS | TY14: Absent | UB14: ABS | UC14: Absent | UF14: ABS | UG14: Absent | UJ14: ABS | UK14: Absent | UN14: =SUM(TP14:UM14) -> 0 | UR14: ABS | US14: Absent | UV14: ABS | UW14: Absent | UZ14: ABS | VA14: Absent | VD14: ABS | VE14: Absent | VH14: ABS | VI14: Absent | VL14: ABS | VM14: Absent | VP14: =SUM(UR14:VO14) -> 0 | VT14: ABS | VU14: Absent | VX14: ABS | VY14: Absent | WB14: ABS | WC14: Absent | WF14: ABS | WG14: Absent | WJ14: ABS | WK14: Absent | WN14: ABS | WO14: Absent | WR14: =SUM(VT14:WQ14) -> 0 | WV14: ABS | WW14: Absent | WZ14: ABS | XA14: Absent | XD14: ABS | XE14: Absent | XH14: ABS | XI14: Absent | XL14: ABS | XM14: Absent | XP14: ABS | XQ14: Absent | XT14: =SUM(WV14:XS14) -> 0 | XX14: ABS | XY14: Absent | YB14: ABS | YC14: Absent | YF14: ABS | YG14: Absent | YJ14: ABS | YK14: Absent | YN14: ABS | YO14: Absent | YR14: ABS | YS14: Absent | YV14: =SUM(XX14:YU14) -> 0 | YZ14: ABS | ZA14: Absent | ZD14: ABS | ZE14: Absent | ZH14: ABS | ZI14: Absent | ZL14: ABS | ZM14: Absent | ZP14: ABS | ZQ14: Absent | ZT14: ABS | ZU14: Absent | ZX14: =SUM(YZ14:ZW14) -> 0 | AAB14: ABS | AAC14: Absent | AAF14: ABS | AAG14: Absent | AAJ14: ABS | AAK14: Absent | AAN14: ABS | AAO14: Absent | AAR14: ABS | AAS14: Absent | AAV14: ABS | AAW14: Absent | AAZ14: =SUM(AAB14:AAY14) -> 0 | ABD14: ABS | ABE14: Absent | ABH14: ABS | ABI14: Absent | ABL14: ABS | ABM14: Absent | ABP14: ABS | ABQ14: Absent | ABT14: ABS | ABU14: Absent | ABX14: ABS | ABY14: Absent | ACB14: =SUM(ABD14:ACA14) -> 0 | ACF14: ABS | ACG14: Absent | ACJ14: ABS | ACK14: Absent | ACN14: ABS | ACO14: Absent | ACR14: ABS | ACS14: Absent | ACV14: ABS | ACW14: Absent | ACZ14: ABS | ADA14: Absent | ADD14: =SUM(ACF14:ADC14) -> 0 | ADH14: ABS | ADI14: Absent | ADL14: ABS | ADM14: Absent | ADP14: ABS | ADQ14: Absent | ADT14: ABS | ADU14: Absent | ADX14: ABS | ADY14: Absent | AEB14: ABS | AEC14: Absent | AEF14: =SUM(ADH14:AEE14) -> 0 | AEJ14: ABS | AEK14: Absent | AEN14: ABS | AEO14: Absent | AER14: ABS | AES14: Absent | AEV14: ABS | AEW14: Absent | AEZ14: ABS | AFA14: Absent | AFD14: ABS | AFE14: Absent | AFH14: =SUM(AEJ14:AFG14) -> 0 | AFL14: ABS | AFM14: Absent | AFP14: ABS | AFQ14: Absent | AFT14: ABS | AFU14: Absent | AFX14: ABS | AFY14: Absent | AGB14: ABS | AGC14: Absent | AGF14: ABS | AGG14: Absent | AGJ14: =SUM(AFL14:AGI14) -> 0 | AGN14: ABS | AGO14: Absent | AGR14: ABS | AGS14: Absent | AGV14: ABS | AGW14: Absent | AGZ14: ABS | AHA14: Absent | AHD14: ABS | AHE14: Absent | AHH14: ABS | AHI14: Absent | AHL14: =SUM(AGN14:AHK14) -> 0 | AHP14: ABS | AHQ14: Absent | AHT14: ABS | AHU14: Absent | AHX14: ABS | AHY14: Absent | AIB14: ABS | AIC14: Absent | AIF14: ABS | AIG14: Absent | AIJ14: ABS | AIK14: Absent | AIN14: =SUM(AHP14:AIM14) -> 0 | AIR14: ABS | AIS14: Absent | AIV14: ABS | AIW14: Absent | AIZ14: ABS | AJA14: Absent | AJD14: ABS | AJE14: Absent | AJH14: ABS | AJI14: Absent | AJL14: ABS | AJM14: Absent | AJP14: =SUM(AIR14:AJO14) -> 0 | AJT14: ABS | AJU14: Absent | AJX14: ABS | AJY14: Absent | AKB14: ABS | AKC14: Absent | AKF14: ABS | AKG14: Absent | AKJ14: ABS | AKK14: Absent | AKN14: ABS | AKO14: Absent | AKR14: =SUM(AJT14:AKQ14) -> 0 | AKV14: ABS | AKW14: Absent | AKZ14: ABS | ALA14: Absent | ALD14: ABS | ALE14: Absent | ALH14: ABS | ALI14: Absent | ALL14: ABS | ALM14: Absent | ALP14: ABS | ALQ14: Absent | ALT14: =SUM(AKV14:ALS14) -> 0 | ALX14: ABS | ALY14: Absent | AMB14: ABS | AMC14: Absent | AMF14: ABS | AMG14: Absent | AMJ14: ABS | AMK14: Absent | AMN14: ABS | AMO14: Absent | AMR14: ABS | AMS14: Absent | AMV14: =SUM(ALX14:AMU14) -> 0 | AMZ14: ABS | ANA14: Absent | AND14: ABS | ANE14: Absent | ANH14: ABS | ANI14: Absent | ANL14: ABS | ANM14: Absent | ANP14: ABS | ANQ14: Absent | ANT14: ABS | ANU14: Absent | ANX14: =SUM(AMZ14:ANW14) -> 0 | AOB14: ABS | AOC14: Absent | AOF14: ABS | AOG14: Absent | AOJ14: ABS | AOK14: Absent | AON14: ABS | AOO14: Absent | AOR14: ABS | AOS14: Absent | AOV14: ABS | AOW14: Absent | AOZ14: =SUM(AOB14:AOY14) -> 0 | APD14: ABS | APE14: Absent | APH14: ABS | API14: Absent | APL14: ABS | APM14: Absent | APP14: ABS | APQ14: Absent | APT14: ABS | APU14: Absent | APX14: ABS | APY14: Absent | AQB14: =SUM(APD14:AQA14) -> 0 | AQF14: ABS | AQG14: Absent | AQJ14: ABS | AQK14: Absent | AQN14: ABS | AQO14: Absent | AQR14: ABS | AQS14: Absent | AQV14: ABS | AQW14: Absent | AQZ14: ABS | ARA14: Absent | ARD14: =SUM(AQF14:ARC14) -> 0 | ARH14: ABS | ARI14: Absent | ARL14: ABS | ARM14: Absent | ARP14: ABS | ARQ14: Absent | ART14: ABS | ARU14: Absent | ARX14: ABS | ARY14: Absent | ASB14: ABS | ASC14: Absent | ASF14: =SUM(ARH14:ASE14) -> 0 | ASJ14: ABS | ASK14: Absent | ASN14: ABS | ASO14: Absent | ASR14: ABS | ASS14: Absent | ASV14: ABS | ASW14: Absent | ASZ14: ABS | ATA14: Absent | ATD14: ABS | ATE14: Absent | ATH14: =SUM(ASJ14:ATG14) -> 0 | ATL14: ABS | ATM14: Absent | ATP14: ABS | ATQ14: Absent | ATT14: ABS | ATU14: Absent | ATX14: ABS | ATY14: Absent | AUB14: ABS | AUC14: Absent | AUF14: ABS | AUG14: Absent | AUJ14: =SUM(ATL14:AUI14) -> 0 | AUN14: ABS | AUO14: Absent | AUR14: ABS | AUS14: Absent | AUV14: ABS | AUW14: Absent | AUZ14: ABS | AVA14: Absent | AVD14: ABS | AVE14: Absent | AVH14: ABS | AVI14: Absent | AVL14: =SUM(AUN14:AVK14) -> 0 | AVP14: ABS | AVQ14: Absent | AVT14: ABS | AVU14: Absent | AVX14: ABS | AVY14: Absent | AWB14: ABS | AWC14: Absent | AWF14: ABS | AWG14: Absent | AWJ14: ABS | AWK14: Absent | AWN14: =SUM(AVP14:AWM14) -> 0 | AWR14: ABS | AWS14: Absent | AWV14: ABS | AWW14: Absent | AWZ14: ABS | AXA14: Absent | AXD14: ABS | AXE14: Absent | AXH14: ABS | AXI14: Absent | AXL14: ABS | AXM14: Absent | AXP14: =SUM(AWR14:AXO14) -> 0 | AXT14: ABS | AXU14: Absent | AXX14: ABS | AXY14: Absent | AYB14: ABS | AYC14: Absent | AYF14: ABS | AYG14: Absent | AYJ14: ABS | AYK14: Absent | AYN14: ABS | AYO14: Absent | AYR14: =SUM(AXT14:AYQ14) -> 0 | AYV14: ABS | AYW14: Absent | AYZ14: ABS | AZA14: Absent | AZD14: ABS | AZE14: Absent | AZH14: ABS | AZI14: Absent | AZL14: ABS | AZM14: Absent | AZP14: ABS | AZQ14: Absent | AZT14: =SUM(AYV14:AZS14) -> 0 | AZX14: ABS | AZY14: Absent | BAB14: ABS | BAC14: Absent | BAF14: ABS | BAG14: Absent | BAJ14: ABS | BAK14: Absent | BAN14: ABS | BAO14: Absent | BAR14: ABS | BAS14: Absent | BAV14: =SUM(AZX14:BAU14) -> 0 | BAZ14: ABS | BBA14: Absent | BBD14: ABS | BBE14: Absent | BBH14: ABS | BBI14: Absent | BBL14: ABS | BBM14: Absent | BBP14: ABS | BBQ14: Absent | BBT14: ABS | BBU14: Absent | BBX14: =SUM(BAZ14:BBW14) -> 0 | BCB14: ABS | BCC14: Absent | BCF14: ABS | BCG14: Absent | BCJ14: ABS | BCK14: Absent | BCN14: ABS | BCO14: Absent | BCR14: ABS | BCS14: Absent | BCV14: ABS | BCW14: Absent | BCZ14: =SUM(BCB14:BCY14) -> 0 | BEB14: =SUM(BDD14:BEA14) -> 0
A15: Marketing | B15: I | C15: Z | D15: 8 | E15: Rendez-vous | H15: 8 | I15: Rendez-vous | L15: 8 | M15: Rendez-vous | P15: 8 | Q15: Rendez-vous | T15: 8 | U15: Rendez-vous | X15: 8 | Y15: Rendez-vous | AB15: =SUM(D15:AA15) -> 48 | AF15: 8 | AG15: Rendez-vous | AJ15: 8 | AK15: Rendez-vous | AN15: 8 | AO15: Rendez-vous | AR15: 8 | AS15: Rendez-vous | AV15: 8 | AW15: Rendez-vous | AZ15: 8 | BA15: Rendez-vous | BD15: =SUM(AF15:BC15) -> 48 | BH15: 8 | BI15: Rendez-vous | BL15: 8 | BM15: Rendez-vous | BP15: 8 | BQ15: Rendez-vous | BT15: 8 | BU15: Rendez-vous | BX15: 8 | BY15: Rendez-vous | CB15: 8 | CC15: Rendez-vous | CF15: =SUM(BH15:CE15) -> 48 | CJ15: 8 | CK15: Rendez-vous | CN15: 8 | CO15: Rendez-vous | CR15: 8 | CS15: Rendez-vous | CV15: 8 | CW15: Rendez-vous | CZ15: 8 | DA15: Rendez-vous | DD15: 8 | DE15: Rendez-vous | DH15: =SUM(CJ15:DG15) -> 48 | DL15: 8 | DM15: Rendez-vous | DP15: 8 | DQ15: Rendez-vous | DT15: 8 | DU15: Rendez-vous | DX15: 8 | DY15: Rendez-vous | EB15: 8 | EC15: Rendez-vous | EF15: 8 | EG15: Rendez-vous | EJ15: =SUM(DL15:EI15) -> 48 | EN15: 8 | EO15: Rendez-vous | ER15: 8 | ES15: Rendez-vous | EV15: 8 | EW15: Rendez-vous | EZ15: 8 | FA15: Rendez-vous | FD15: 8 | FE15: Rendez-vous | FH15: 8 | FI15: Rendez-vous | FL15: =SUM(EN15:FK15) -> 48 | FP15: 8 | FQ15: Rendez-vous | FT15: 8 | FU15: Rendez-vous | FX15: 8 | FY15: Rendez-vous | GB15: 8 | GC15: Rendez-vous | GF15: 8 | GG15: Rendez-vous | GJ15: 8 | GK15: Rendez-vous | GN15: =SUM(FP15:GM15) -> 48 | GR15: 8 | GS15: Rendez-vous | GV15: 8 | GW15: Rendez-vous | GZ15: 8 | HA15: Rendez-vous | HD15: 8 | HE15: Rendez-vous | HH15: 8 | HI15: Rendez-vous | HL15: 8 | HM15: Rendez-vous | HP15: =SUM(GR15:HO15) -> 48 | HT15: 8 | HU15: Rendez-vous | HX15: 8 | HY15: Rendez-vous | IB15: 8 | IC15: Rendez-vous | IF15: 8 | IG15: Rendez-vous | IJ15: 8 | IK15: Rendez-vous | IN15: 8 | IO15: Rendez-vous | IR15: =SUM(HT15:IQ15) -> 48 | IV15: 8 | IW15: Rendez-vous | IZ15: 8 | JA15: Rendez-vous | JD15: 8 | JE15: Rendez-vous | JH15: 8 | JI15: Rendez-vous | JL15: 8 | JM15: Rendez-vous | JP15: 8 | JQ15: Rendez-vous | JT15: =SUM(IV15:JS15) -> 48 | JX15: 8 | JY15: Rendez-vous | KB15: 8 | KC15: Rendez-vous | KF15: 8 | KG15: Rendez-vous | KJ15: 8 | KK15: Rendez-vous | KN15: 8 | KO15: Rendez-vous | KR15: 8 | KS15: Rendez-vous | KV15: =SUM(JX15:KU15) -> 48 | KZ15: 8 | LA15: Rendez-vous | LD15: 8 | LE15: Rendez-vous | LH15: 8 | LI15: Rendez-vous | LL15: 8 | LM15: Rendez-vous | LP15: 8 | LQ15: Rendez-vous | LT15: 8 | LU15: Rendez-vous | LX15: =SUM(KZ15:LW15) -> 48 | MB15: 8 | MC15: Rendez-vous | MF15: 8 | MG15: Rendez-vous | MJ15: 8 | MK15: Rendez-vous | MN15: 8 | MO15: Rendez-vous | MR15: 8 | MS15: Rendez-vous | MV15: 8 | MW15: Rendez-vous | MZ15: =SUM(MB15:MY15) -> 48 | ND15: 8 | NE15: Rendez-vous | NH15: 8 | NI15: Rendez-vous | NL15: 8 | NM15: Rendez-vous | NP15: 8 | NQ15: Rendez-vous | NT15: 8 | NU15: Rendez-vous | NX15: 8 | NY15: Rendez-vous | OB15: =SUM(ND15:OA15) -> 48 | OF15: 8 | OG15: Rendez-vous | OJ15: 8 | OK15: Rendez-vous | ON15: 8 | OO15: Rendez-vous | OR15: 8 | OS15: Rendez-vous | OV15: 8 | OW15: Rendez-vous | OZ15: 8 | PA15: Rendez-vous | PD15: =SUM(OF15:PC15) -> 48 | PH15: 8 | PI15: Rendez-vous | PL15: 8 | PM15: Rendez-vous | PP15: 8 | PQ15: Rendez-vous | PT15: 8 | PU15: Rendez-vous | PX15: 8 | PY15: Rendez-vous | QB15: 8 | QC15: Rendez-vous | QF15: =SUM(PH15:QE15) -> 48 | QJ15: 8 | QK15: Rendez-vous | QN15: 8 | QO15: Rendez-vous | QR15: 8 | QS15: Rendez-vous | QV15: 8 | QW15: Rendez-vous | QZ15: 8 | RA15: Rendez-vous | RD15: 8 | RE15: Rendez-vous | RH15: =SUM(QJ15:RG15) -> 48 | RL15: 8 | RM15: Rendez-vous | RP15: 8 | RQ15: Rendez-vous | RT15: 8 | RU15: Rendez-vous | RX15: 8 | RY15: Rendez-vous | SB15: 8 | SC15: Rendez-vous | SF15: 8 | SG15: Rendez-vous | SJ15: =SUM(RL15:SI15) -> 48 | SN15: 8 | SO15: Rendez-vous | SR15: 8 | SS15: Rendez-vous | SV15: 8 | SW15: Rendez-vous | SZ15: 8 | TA15: Rendez-vous | TD15: 8 | TE15: Rendez-vous | TH15: 8 | TI15: Rendez-vous | TL15: =SUM(SN15:TK15) -> 48 | TP15: 8 | TQ15: Rendez-vous | TT15: 8 | TU15: Rendez-vous | TX15: 8 | TY15: Rendez-vous | UB15: 8 | UC15: Rendez-vous | UF15: 8 | UG15: Rendez-vous | UJ15: 8 | UK15: Rendez-vous | UN15: =SUM(TP15:UM15) -> 48 | UR15: 8 | US15: Rendez-vous | UV15: 8 | UW15: Rendez-vous | UZ15: 8 | VA15: Rendez-vous | VD15: 8 | VE15: Rendez-vous | VH15: 8 | VI15: Rendez-vous | VL15: 8 | VM15: Rendez-vous | VP15: =SUM(UR15:VO15) -> 48 | VT15: 8 | VU15: Rendez-vous | VX15: 8 | VY15: Rendez-vous | WB15: 8 | WC15: Rendez-vous | WF15: 8 | WG15: Rendez-vous | WJ15: 8 | WK15: Rendez-vous | WN15: 8 | WO15: Rendez-vous | WR15: =SUM(VT15:WQ15) -> 48 | WV15: 8 | WW15: Rendez-vous | WZ15: 8 | XA15: Rendez-vous | XD15: 8 | XE15: Rendez-vous | XH15: 8 | XI15: Rendez-vous | XL15: 8 | XM15: Rendez-vous | XP15: 8 | XQ15: Rendez-vous | XT15: =SUM(WV15:XS15) -> 48 | XX15: 8 | XY15: Rendez-vous | YB15: 8 | YC15: Rendez-vous | YF15: 8 | YG15: Rendez-vous | YJ15: 8 | YK15: Rendez-vous | YN15: 8 | YO15: Rendez-vous | YR15: 8 | YS15: Rendez-vous | YV15: =SUM(XX15:YU15) -> 48 | YZ15: 8 | ZA15: Rendez-vous | ZD15: 8 | ZE15: Rendez-vous | ZH15: 8 | ZI15: Rendez-vous | ZL15: 8 | ZM15: Rendez-vous | ZP15: 8 | ZQ15: Rendez-vous | ZT15: 8 | ZU15: Rendez-vous | ZX15: =SUM(YZ15:ZW15) -> 48 | AAB15: 8 | AAC15: Rendez-vous | AAF15: 8 | AAG15: Rendez-vous | AAJ15: 8 | AAK15: Rendez-vous | AAN15: 8 | AAO15: Rendez-vous | AAR15: 8 | AAS15: Rendez-vous | AAV15: 8 | AAW15: Rendez-vous | AAZ15: =SUM(AAB15:AAY15) -> 48 | ABD15: 8 | ABE15: Rendez-vous | ABH15: 8 | ABI15: Rendez-vous | ABL15: 8 | ABM15: Rendez-vous | ABP15: 8 | ABQ15: Rendez-vous | ABT15: 8 | ABU15: Rendez-vous | ABX15: 8 | ABY15: Rendez-vous | ACB15: =SUM(ABD15:ACA15) -> 48 | ACF15: 8 | ACG15: Rendez-vous | ACJ15: 8 | ACK15: Rendez-vous | ACN15: 8 | ACO15: Rendez-vous | ACR15: 8 | ACS15: Rendez-vous | ACV15: 8 | ACW15: Rendez-vous | ACZ15: 8 | ADA15: Rendez-vous | ADD15: =SUM(ACF15:ADC15) -> 48 | ADH15: 8 | ADI15: Rendez-vous | ADL15: 8 | ADM15: Rendez-vous | ADP15: 8 | ADQ15: Rendez-vous | ADT15: 8 | ADU15: Rendez-vous | ADX15: 8 | ADY15: Rendez-vous | AEB15: 8 | AEC15: Rendez-vous | AEF15: =SUM(ADH15:AEE15) -> 48 | AEJ15: 8 | AEK15: Rendez-vous | AEN15: 8 | AEO15: Rendez-vous | AER15: 8 | AES15: Rendez-vous | AEV15: 8 | AEW15: Rendez-vous | AEZ15: 8 | AFA15: Rendez-vous | AFD15: 8 | AFE15: Rendez-vous | AFH15: =SUM(AEJ15:AFG15) -> 48 | AFL15: 8 | AFM15: Rendez-vous | AFP15: 8 | AFQ15: Rendez-vous | AFT15: 8 | AFU15: Rendez-vous | AFX15: 8 | AFY15: Rendez-vous | AGB15: 8 | AGC15: Rendez-vous | AGF15: 8 | AGG15: Rendez-vous | AGJ15: =SUM(AFL15:AGI15) -> 48 | AGN15: 8 | AGO15: Rendez-vous | AGR15: 8 | AGS15: Rendez-vous | AGV15: 8 | AGW15: Rendez-vous | AGZ15: 8 | AHA15: Rendez-vous | AHD15: 8 | AHE15: Rendez-vous | AHH15: 8 | AHI15: Rendez-vous | AHL15: =SUM(AGN15:AHK15) -> 48 | AHP15: 8 | AHQ15: Rendez-vous | AHT15: 8 | AHU15: Rendez-vous | AHX15: 8 | AHY15: Rendez-vous | AIB15: 8 | AIC15: Rendez-vous | AIF15: 8 | AIG15: Rendez-vous | AIJ15: 8 | AIK15: Rendez-vous | AIN15: =SUM(AHP15:AIM15) -> 48 | AIR15: 8 | AIS15: Rendez-vous | AIV15: 8 | AIW15: Rendez-vous | AIZ15: 8 | AJA15: Rendez-vous | AJD15: 8 | AJE15: Rendez-vous | AJH15: 8 | AJI15: Rendez-vous | AJL15: 8 | AJM15: Rendez-vous | AJP15: =SUM(AIR15:AJO15) -> 48 | AJT15: 8 | AJU15: Rendez-vous | AJX15: 8 | AJY15: Rendez-vous | AKB15: 8 | AKC15: Rendez-vous | AKF15: 8 | AKG15: Rendez-vous | AKJ15: 8 | AKK15: Rendez-vous | AKN15: 8 | AKO15: Rendez-vous | AKR15: =SUM(AJT15:AKQ15) -> 48 | AKV15: 8 | AKW15: Rendez-vous | AKZ15: 8 | ALA15: Rendez-vous | ALD15: 8 | ALE15: Rendez-vous | ALH15: 8 | ALI15: Rendez-vous | ALL15: 8 | ALM15: Rendez-vous | ALP15: 8 | ALQ15: Rendez-vous | ALT15: =SUM(AKV15:ALS15) -> 48 | ALX15: 8 | ALY15: Rendez-vous | AMB15: 8 | AMC15: Rendez-vous | AMF15: 8 | AMG15: Rendez-vous | AMJ15: 8 | AMK15: Rendez-vous | AMN15: 8 | AMO15: Rendez-vous | AMR15: 8 | AMS15: Rendez-vous | AMV15: =SUM(ALX15:AMU15) -> 48 | AMZ15: 8 | ANA15: Rendez-vous | AND15: 8 | ANE15: Rendez-vous | ANH15: 8 | ANI15: Rendez-vous | ANL15: 8 | ANM15: Rendez-vous | ANP15: 8 | ANQ15: Rendez-vous | ANT15: 8 | ANU15: Rendez-vous | ANX15: =SUM(AMZ15:ANW15) -> 48 | AOB15: 8 | AOC15: Rendez-vous | AOF15: 8 | AOG15: Rendez-vous | AOJ15: 8 | AOK15: Rendez-vous | AON15: 8 | AOO15: Rendez-vous | AOR15: 8 | AOS15: Rendez-vous | AOV15: 8 | AOW15: Rendez-vous | AOZ15: =SUM(AOB15:AOY15) -> 48 | APD15: 8 | APE15: Rendez-vous | APH15: 8 | API15: Rendez-vous | APL15: 8 | APM15: Rendez-vous | APP15: 8 | APQ15: Rendez-vous | APT15: 8 | APU15: Rendez-vous | APX15: 8 | APY15: Rendez-vous | AQB15: =SUM(APD15:AQA15) -> 48 | AQF15: 8 | AQG15: Rendez-vous | AQJ15: 8 | AQK15: Rendez-vous | AQN15: 8 | AQO15: Rendez-vous | AQR15: 8 | AQS15: Rendez-vous | AQV15: 8 | AQW15: Rendez-vous | AQZ15: 8 | ARA15: Rendez-vous | ARD15: =SUM(AQF15:ARC15) -> 48 | ARH15: 8 | ARI15: Rendez-vous | ARL15: 8 | ARM15: Rendez-vous | ARP15: 8 | ARQ15: Rendez-vous | ART15: 8 | ARU15: Rendez-vous | ARX15: 8 | ARY15: Rendez-vous | ASB15: 8 | ASC15: Rendez-vous | ASF15: =SUM(ARH15:ASE15) -> 48 | ASJ15: 8 | ASK15: Rendez-vous | ASN15: 8 | ASO15: Rendez-vous | ASR15: 8 | ASS15: Rendez-vous | ASV15: 8 | ASW15: Rendez-vous | ASZ15: 8 | ATA15: Rendez-vous | ATD15: 8 | ATE15: Rendez-vous | ATH15: =SUM(ASJ15:ATG15) -> 48 | ATL15: 8 | ATM15: Rendez-vous | ATP15: 8 | ATQ15: Rendez-vous | ATT15: 8 | ATU15: Rendez-vous | ATX15: 8 | ATY15: Rendez-vous | AUB15: 8 | AUC15: Rendez-vous | AUF15: 8 | AUG15: Rendez-vous | AUJ15: =SUM(ATL15:AUI15) -> 48 | AUN15: 8 | AUO15: Rendez-vous | AUR15: 8 | AUS15: Rendez-vous | AUV15: 8 | AUW15: Rendez-vous | AUZ15: 8 | AVA15: Rendez-vous | AVD15: 8 | AVE15: Rendez-vous | AVH15: 8 | AVI15: Rendez-vous | AVL15: =SUM(AUN15:AVK15) -> 48 | AVP15: 8 | AVQ15: Rendez-vous | AVT15: 8 | AVU15: Rendez-vous | AVX15: 8 | AVY15: Rendez-vous | AWB15: 8 | AWC15: Rendez-vous | AWF15: 8 | AWG15: Rendez-vous | AWJ15: 8 | AWK15: Rendez-vous | AWN15: =SUM(AVP15:AWM15) -> 48 | AWR15: 8 | AWS15: Rendez-vous | AWV15: 8 | AWW15: Rendez-vous | AWZ15: 8 | AXA15: Rendez-vous | AXD15: 8 | AXE15: Rendez-vous | AXH15: 8 | AXI15: Rendez-vous | AXL15: 8 | AXM15: Rendez-vous | AXP15: =SUM(AWR15:AXO15) -> 48 | AXT15: 8 | AXU15: Rendez-vous | AXX15: 8 | AXY15: Rendez-vous | AYB15: 8 | AYC15: Rendez-vous | AYF15: 8 | AYG15: Rendez-vous | AYJ15: 8 | AYK15: Rendez-vous | AYN15: 8 | AYO15: Rendez-vous | AYR15: =SUM(AXT15:AYQ15) -> 48 | AYV15: 8 | AYW15: Rendez-vous | AYZ15: 8 | AZA15: Rendez-vous | AZD15: 8 | AZE15: Rendez-vous | AZH15: 8 | AZI15: Rendez-vous | AZL15: 8 | AZM15: Rendez-vous | AZP15: 8 | AZQ15: Rendez-vous | AZT15: =SUM(AYV15:AZS15) -> 48 | AZX15: 8 | AZY15: Rendez-vous | BAB15: 8 | BAC15: Rendez-vous | BAF15: 8 | BAG15: Rendez-vous | BAJ15: 8 | BAK15: Rendez-vous | BAN15: 8 | BAO15: Rendez-vous | BAR15: 8 | BAS15: Rendez-vous | BAV15: =SUM(AZX15:BAU15) -> 48 | BAZ15: 8 | BBA15: Rendez-vous | BBD15: 8 | BBE15: Rendez-vous | BBH15: 8 | BBI15: Rendez-vous | BBL15: 8 | BBM15: Rendez-vous | BBP15: 8 | BBQ15: Rendez-vous | BBT15: 8 | BBU15: Rendez-vous | BBX15: =SUM(BAZ15:BBW15) -> 48 | BCB15: 8 | BCC15: Rendez-vous | BCF15: 8 | BCG15: Rendez-vous | BCJ15: 8 | BCK15: Rendez-vous | BCN15: 8 | BCO15: Rendez-vous | BCR15: 8 | BCS15: Rendez-vous | BCV15: 8 | BCW15: Rendez-vous | BCZ15: =SUM(BCB15:BCY15) -> 48 | BEB15: =SUM(BDD15:BEA15) -> 0
