Workbook
Name JoursFériés: 'Jours Fériés'!$C$1:$C$12

Sheet Jours Fériés
A1: =+Calendrier!A1 -> 2019 | B1: Premier de l'AN | C1: =DATE(A1,1,1) -> 43466
B2: Pâques | C2: =ROUND(DATE(A1,4,MOD(234-11*MOD(A1,19),30))/7,0)*7-6 -> 43576
B3: Lundi de Pâques | C3: =C2+1 -> 43577
B4: Fête du travail | C4: =DATE(A1,5,1) -> 43586
B5: Victoire de 1945 | C5: =DATE(A1,5,8) -> 43593
B6: Ascension | C6: =C2+39 -> 43615
B7: Pentecôte | C7: =C2+50 -> 43626
B8: Fête nationale | C8: =DATE(A1,7,14) -> 43660
B9: Assomption | C9: =DATE(A1,8,15) -> 43692
B10: Toussaint | C10: =DATE(A1,11,1) -> 43770
B11: Armistice | C11: =DATE(A1,11,11) -> 43780
B12: Noël | C12: =DATE(A1,12,25) -> 43824

Sheet Calendrier
A1: 2019 | B1: January | C1: February | D1: March | E1: April | F1: May | G1: June | H1: July | I1: August | J1: September | K1: October | L1: November | M1: December
B2: =IF(AND(COUNTIF(JoursFériés,DATE($A$1,COLUMN()-1,ROW()-1))=0,MONTH(DATE($A$1,COLUMN()-1,ROW()-1))=COLUMN()-1,WEEKDAY(DATE($A$1,COLUMN()-1,ROW()-1),2)<6),DATE($A$1,COLUMN()-1,ROW()-1),"") | C2: =IF(AND(COUNTIF(JoursFériés,DATE($A$1,COLUMN()-1,ROW()-1))=0,MONTH(DATE($A$1,COLUMN()-1,ROW()-1))=COLUMN()-1,WEEKDAY(DATE($A$1,COLUMN()-1,ROW()-1),2)<6),DATE($A$1,COLUMN()-1,ROW()-1),"") -> 43497 | D2: =IF(AND(COUNTIF(JoursFériés,DATE($A$1,COLUMN()-1,ROW()-1))=0,MONTH(DATE($A$1,COLUMN()-1,ROW()-1))=COLUMN()-1,WEEKDAY(DATE($A$1,COLUMN()-1,ROW()-1),2)<6),DATE($A$1,COLUMN()-1,ROW()-1),"") -> 43525 | E2: =IF(AND(COUNTIF(JoursFériés,DATE($A$1,COLUMN()-1,ROW()-1))=0,MONTH(DATE($A$1,COLUMN()-1,ROW()-1))=COLUMN()-1,WEEKDAY(DATE($A$1,COLUMN()-1,ROW()-1),2)<6),DATE($A$1,COLUMN()-1,ROW()-1),"") -> 43556 | F2: =IF(AND(COUNTIF(JoursFériés,DATE($A$1,COLUMN()-1,ROW()-1))=0,MONTH(DATE($A$1,COLUMN()-1,ROW()-1))=COLUMN()-1,WEEKDAY(DATE($A$1,COLUMN()-1,ROW()-1),2)<6),DATE($A$1,COLUMN()-1,ROW()-1),"") | G2: =IF(AND(COUNTIF(JoursFériés,DATE($A$1,COLUMN()-1,ROW()-1))=0,MONTH(DATE($A$1,COLUMN()-1,ROW()-1))=COLUMN()-1,WEEKDAY(DATE($A$1,COLUMN()-1,ROW()-1),2)<6),DATE($A$1,COLUMN()-1,ROW()-1),"") | H2: =IF(AND(COUNTIF(JoursFériés,DATE($A$1,COLUMN()-1,ROW()-1))=0,MONTH(DATE($A$1,COLUMN()-1,ROW()-1))=COLUMN()-1,WEEKDAY(DATE($A$1,COLUMN()-1,ROW()-1),2)<6),DATE($A$1,COLUMN()-1,ROW()-1),"") -> 43647 | I2: =IF(AND(COUNTIF(JoursFériés,DATE($A$1,COLUMN()-1,ROW()-1))=0,MONTH(DATE($A$1,COLUMN()-1,ROW()-1))=COLUMN()-1,WEEKDAY(DATE($A$1,COLUMN()-1,ROW()-1),2)<6),DATE($A$1,COLUMN()-1,ROW()-1),"") -> 43678 | ... M2: =IF(AND(COUNTIF(JoursFériés,DATE($A$1,COLUMN()-1,ROW()-1))=0,MONTH(DATE($A$1,COLUMN()-1,ROW()-1))=COLUMN()-1,WEEKDAY(DATE($A$1,COLUMN()-1,ROW()-1),2)<6),DATE($A$1,COLUMN()-1,ROW()-1),"")
B3: =IF(AND(COUNTIF(JoursFériés,DATE($A$1,COLUMN()-1,ROW()-1))=0,MONTH(DATE($A$1,COLUMN()-1,ROW()-1))=COLUMN()-1,WEEKDAY(DATE($A$1,COLUMN()-1,ROW()-1),2)<6),DATE($A$1,COLUMN()-1,ROW()-1),"") -> 43467 | C3: =IF(AND(COUNTIF(JoursFériés,DATE($A$1,COLUMN()-1,ROW()-1))=0,MONTH(DATE($A$1,COLUMN()-1,ROW()-1))=COLUMN()-1,WEEKDAY(DATE($A$1,COLUMN()-1,ROW()-1),2)<6),DATE($A$1,COLUMN()-1,ROW()-1),"") | D3: =IF(AND(COUNTIF(JoursFériés,DATE($A$1,COLUMN()-1,ROW()-1))=0,MONTH(DATE($A$1,COLUMN()-1,ROW()-1))=COLUMN()-1,WEEKDAY(DATE($A$1,COLUMN()-1,ROW()-1),2)<6),DATE($A$1,COLUMN()-1,ROW()-1),"") | E3: =IF(AND(COUNTIF(JoursFériés,DATE($A$1,COLUMN()-1,ROW()-1))=0,MONTH(DATE($A$1,COLUMN()-1,ROW()-1))=COLUMN()-1,WEEKDAY(DATE($A$1,COLUMN()-1,ROW()-1),2)<6),DATE($A$1,COLUMN()-1,ROW()-1),"") -> 43557 | F3: =IF(AND(COUNTIF(JoursFériés,DATE($A$1,COLUMN()-1,ROW()-1))=0,MONTH(DATE($A$1,COLUMN()-1,ROW()-1))=COLUMN()-1,WEEKDAY(DATE($A$1,COLUMN()-1,ROW()-1),2)<6),DATE($A$1,COLUMN()-1,ROW()-1),"") -> 43587 | G3: =IF(AND(COUNTIF(JoursFériés,DATE($A$1,COLUMN()-1,ROW()-1))=0,MONTH(DATE($A$1,COLUMN()-1,ROW()-1))=COLUMN()-1,WEEKDAY(DATE($A$1,COLUMN()-1,ROW()-1),2)<6),DATE($A$1,COLUMN()-1,ROW()-1),"") | H3: =IF(AND(COUNTIF(JoursFériés,DATE($A$1,COLUMN()-1,ROW()-1))=0,MONTH(DATE($A$1,COLUMN()-1,ROW()-1))=COLUMN()-1,WEEKDAY(DATE($A$1,COLUMN()-1,ROW()-1),2)<6),DATE($A$1,COLUMN()-1,ROW()-1),"") -> 43648 | I3: =IF(AND(COUNTIF(JoursFériés,DATE($A$1,COLUMN()-1,ROW()-1))=0,MONTH(DATE($A$1,COLUMN()-1,ROW()-1))=COLUMN()-1,WEEKDAY(DATE($A$1,COLUMN()-1,ROW()-1),2)<6),DATE($A$1,COLUMN()-1,ROW()-1),"") -> 43679 | ... M3: =IF(AND(COUNTIF(JoursFériés,DATE($A$1,COLUMN()-1,ROW()-1))=0,MONTH(DATE($A$1,COLUMN()-1,ROW()-1))=COLUMN()-1,WEEKDAY(DATE($A$1,COLUMN()-1,ROW()-1),2)<6),DATE($A$1,COLUMN()-1,ROW()-1),"") -> 43801
B4: =IF(AND(COUNTIF(JoursFériés,DATE($A$1,COLUMN()-1,ROW()-1))=0,MONTH(DATE($A$1,COLUMN()-1,ROW()-1))=COLUMN()-1,WEEKDAY(DATE($A$1,COLUMN()-1,ROW()-1),2)<6),DATE($A$1,COLUMN()-1,ROW()-1),"") -> 43468 | C4: =IF(AND(COUNTIF(JoursFériés,DATE($A$1,COLUMN()-1,ROW()-1))=0,MONTH(DATE($A$1,COLUMN()-1,ROW()-1))=COLUMN()-1,WEEKDAY(DATE($A$1,COLUMN()-1,ROW()-1),2)<6),DATE($A$1,COLUMN()-1,ROW()-1),"") | D4: =IF(AND(COUNTIF(JoursFériés,DATE($A$1,COLUMN()-1,ROW()-1))=0,MONTH(DATE($A$1,COLUMN()-1,ROW()-1))=COLUMN()-1,WEEKDAY(DATE($A$1,COLUMN()-1,ROW()-1),2)<6),DATE($A$1,COLUMN()-1,ROW()-1),"") | E4: =IF(AND(COUNTIF(JoursFériés,DATE($A$1,COLUMN()-1,ROW()-1))=0,MONTH(DATE($A$1,COLUMN()-1,ROW()-1))=COLUMN()-1,WEEKDAY(DATE($A$1,COLUMN()-1,ROW()-1),2)<6),DATE($A$1,COLUMN()-1,ROW()-1),"") -> 43558 | F4: =IF(AND(COUNTIF(JoursFériés,DATE($A$1,COLUMN()-1,ROW()-1))=0,MONTH(DATE($A$1,COLUMN()-1,ROW()-1))=COLUMN()-1,WEEKDAY(DATE($A$1,COLUMN()-1,ROW()-1),2)<6),DATE($A$1,COLUMN()-1,ROW()-1),"") -> 43588 | G4: =IF(AND(COUNTIF(JoursFériés,DATE($A$1,COLUMN()-1,ROW()-1))=0,MONTH(DATE($A$1,COLUMN()-1,ROW()-1))=COLUMN()-1,WEEKDAY(DATE($A$1,COLUMN()-1,ROW()-1),2)<6),DATE($A$1,COLUMN()-1,ROW()-1),"") -> 43619 | H4: =IF(AND(COUNTIF(JoursFériés,DATE($A$1,COLUMN()-1,ROW()-1))=0,MONTH(DATE($A$1,COLUMN()-1,ROW()-1))=COLUMN()-1,WEEKDAY(DATE($A$1,COLUMN()-1,ROW()-1),2)<6),DATE($A$1,COLUMN()-1,ROW()-1),"") -> 43649 | I4: =IF(AND(COUNTIF(JoursFériés,DATE($A$1,COLUMN()-1,ROW()-1))=0,MONTH(DATE($A$1,COLUMN()-1,ROW()-1))=COLUMN()-1,WEEKDAY(DATE($A$1,COLUMN()-1,ROW()-1),2)<6),DATE($A$1,COLUMN()-1,ROW()-1),"") | ... M4: =IF(AND(COUNTIF(JoursFériés,DATE($A$1,COLUMN()-1,ROW()-1))=0,MONTH(DATE($A$1,COLUMN()-1,ROW()-1))=COLUMN()-1,WEEKDAY(DATE($A$1,COLUMN()-1,ROW()-1),2)<6),DATE($A$1,COLUMN()-1,ROW()-1),"") -> 43802
B5: =IF(AND(COUNTIF(JoursFériés,DATE($A$1,COLUMN()-1,ROW()-1))=0,MONTH(DATE($A$1,COLUMN()-1,ROW()-1))=COLUMN()-1,WEEKDAY(DATE($A$1,COLUMN()-1,ROW()-1),2)<6),DATE($A$1,COLUMN()-1,ROW()-1),"") -> 43469 | C5: =IF(AND(COUNTIF(JoursFériés,DATE($A$1,COLUMN()-1,ROW()-1))=0,MONTH(DATE($A$1,COLUMN()-1,ROW()-1))=COLUMN()-1,WEEKDAY(DATE($A$1,COLUMN()-1,ROW()-1),2)<6),DATE($A$1,COLUMN()-1,ROW()-1),"") -> 43500 | D5: =IF(AND(COUNTIF(JoursFériés,DATE($A$1,COLUMN()-1,ROW()-1))=0,MONTH(DATE($A$1,COLUMN()-1,ROW()-1))=COLUMN()-1,WEEKDAY(DATE($A$1,COLUMN()-1,ROW()-1),2)<6),DATE($A$1,COLUMN()-1,ROW()-1),"") -> 43528 | E5: =IF(AND(COUNTIF(JoursFériés,DATE($A$1,COLUMN()-1,ROW()-1))=0,MONTH(DATE($A$1,COLUMN()-1,ROW()-1))=COLUMN()-1,WEEKDAY(DATE($A$1,COLUMN()-1,ROW()-1),2)<6),DATE($A$1,COLUMN()-1,ROW()-1),"") -> 43559 | F5: =IF(AND(COUNTIF(JoursFériés,DATE($A$1,COLUMN()-1,ROW()-1))=0,MONTH(DATE($A$1,COLUMN()-1,ROW()-1))=COLUMN()-1,WEEKDAY(DATE($A$1,COLUMN()-1,ROW()-1),2)<6),DATE($A$1,COLUMN()-1,ROW()-1),"") | G5: =IF(AND(COUNTIF(JoursFériés,DATE($A$1,COLUMN()-1,ROW()-1))=0,MONTH(DATE($A$1,COLUMN()-1,ROW()-1))=COLUMN()-1,WEEKDAY(DATE($A$1,COLUMN()-1,ROW()-1),2)<6),DATE($A$1,COLUMN()-1,ROW()-1),"") -> 43620 | H5: =IF(AND(COUNTIF(JoursFériés,DATE($A$1,COLUMN()-1,ROW()-1))=0,MONTH(DATE($A$1,COLUMN()-1,ROW()-1))=COLUMN()-1,WEEKDAY(DATE($A$1,COLUMN()-1,ROW()-1),2)<6),DATE($A$1,COLUMN()-1,ROW()-1),"") -> 43650 | I5: =IF(AND(COUNTIF(JoursFériés,DATE($A$1,COLUMN()-1,ROW()-1))=0,MONTH(DATE($A$1,COLUMN()-1,ROW()-1))=COLUMN()-1,WEEKDAY(DATE($A$1,COLUMN()-1,ROW()-1),2)<6),DATE($A$1,COLUMN()-1,ROW()-1),"") | ... M5: =IF(AND(COUNTIF(JoursFériés,DATE($A$1,COLUMN()-1,ROW()-1))=0,MONTH(DATE($A$1,COLUMN()-1,ROW()-1))=COLUMN()-1,WEEKDAY(DATE($A$1,COLUMN()-1,ROW()-1),2)<6),DATE($A$1,COLUMN()-1,ROW()-1),"") -> 43803
B6: =IF(AND(COUNTIF(JoursFériés,DATE($A$1,COLUMN()-1,ROW()-1))=0,MONTH(DATE($A$1,COLUMN()-1,ROW()-1))=COLUMN()-1,WEEKDAY(DATE($A$1,COLUMN()-1,ROW()-1),2)<6),DATE($A$1,COLUMN()-1,ROW()-1),"") | C6: =IF(AND(COUNTIF(JoursFériés,DATE($A$1,COLUMN()-1,ROW()-1))=0,MONTH(DATE($A$1,COLUMN()-1,ROW()-1))=COLUMN()-1,WEEKDAY(DATE($A$1,COLUMN()-1,ROW()-1),2)<6),DATE($A$1,COLUMN()-1,ROW()-1),"") -> 43501 | D6: =IF(AND(COUNTIF(JoursFériés,DATE($A$1,COLUMN()-1,ROW()-1))=0,MONTH(DATE($A$1,COLUMN()-1,ROW()-1))=COLUMN()-1,WEEKDAY(DATE($A$1,COLUMN()-1,ROW()-1),2)<6),DATE($A$1,COLUMN()-1,ROW()-1),"") -> 43529 | E6: =IF(AND(COUNTIF(JoursFériés,DATE($A$1,COLUMN()-1,ROW()-1))=0,MONTH(DATE($A$1,COLUMN()-1,ROW()-1))=COLUMN()-1,WEEKDAY(DATE($A$1,COLUMN()-1,ROW()-1),2)<6),DATE($A$1,COLUMN()-1,ROW()-1),"") -> 43560 | F6: =IF(AND(COUNTIF(JoursFériés,DATE($A$1,COLUMN()-1,ROW()-1))=0,MONTH(DATE($A$1,COLUMN()-1,ROW()-1))=COLUMN()-1,WEEKDAY(DATE($A$1,COLUMN()-1,ROW()-1),2)<6),DATE($A$1,COLUMN()-1,ROW()-1),"") | G6: =IF(AND(COUNTIF(JoursFériés,DATE($A$1,COLUMN()-1,ROW()-1))=0,MONTH(DATE($A$1,COLUMN()-1,ROW()-1))=COLUMN()-1,WEEKDAY(DATE($A$1,COLUMN()-1,ROW()-1),2)<6),DATE($A$1,COLUMN()-1,ROW()-1),"") -> 43621 | H6: =IF(AND(COUNTIF(JoursFériés,DATE($A$1,COLUMN()-1,ROW()-1))=0,MONTH(DATE($A$1,COLUMN()-1,ROW()-1))=COLUMN()-1,WEEKDAY(DATE($A$1,COLUMN()-1,ROW()-1),2)<6),DATE($A$1,COLUMN()-1,ROW()-1),"") -> 43651 | I6: =IF(AND(COUNTIF(JoursFériés,DATE($A$1,COLUMN()-1,ROW()-1))=0,MONTH(DATE($A$1,COLUMN()-1,ROW()-1))=COLUMN()-1,WEEKDAY(DATE($A$1,COLUMN()-1,ROW()-1),2)<6),DATE($A$1,COLUMN()-1,ROW()-1),"") -> 43682 | ... M6: =IF(AND(COUNTIF(JoursFériés,DATE($A$1,COLUMN()-1,ROW()-1))=0,MONTH(DATE($A$1,COLUMN()-1,ROW()-1))=COLUMN()-1,WEEKDAY(DATE($A$1,COLUMN()-1,ROW()-1),2)<6),DATE($A$1,COLUMN()-1,ROW()-1),"") -> 43804
B7: =IF(AND(COUNTIF(JoursFériés,DATE($A$1,COLUMN()-1,ROW()-1))=0,MONTH(DATE($A$1,COLUMN()-1,ROW()-1))=COLUMN()-1,WEEKDAY(DATE($A$1,COLUMN()-1,ROW()-1),2)<6),DATE($A$1,COLUMN()-1,ROW()-1),"") | C7: =IF(AND(COUNTIF(JoursFériés,DATE($A$1,COLUMN()-1,ROW()-1))=0,MONTH(DATE($A$1,COLUMN()-1,ROW()-1))=COLUMN()-1,WEEKDAY(DATE($A$1,COLUMN()-1,ROW()-1),2)<6),DATE($A$1,COLUMN()-1,ROW()-1),"") -> 43502 | D7: =IF(AND(COUNTIF(JoursFériés,DATE($A$1,COLUMN()-1,ROW()-1))=0,MONTH(DATE($A$1,COLUMN()-1,ROW()-1))=COLUMN()-1,WEEKDAY(DATE($A$1,COLUMN()-1,ROW()-1),2)<6),DATE($A$1,COLUMN()-1,ROW()-1),"") -> 43530 | E7: =IF(AND(COUNTIF(JoursFériés,DATE($A$1,COLUMN()-1,ROW()-1))=0,MONTH(DATE($A$1,COLUMN()-1,ROW()-1))=COLUMN()-1,WEEKDAY(DATE($A$1,COLUMN()-1,ROW()-1),2)<6),DATE($A$1,COLUMN()-1,ROW()-1),"") | F7: =IF(AND(COUNTIF(JoursFériés,DATE($A$1,COLUMN()-1,ROW()-1))=0,MONTH(DATE($A$1,COLUMN()-1,ROW()-1))=COLUMN()-1,WEEKDAY(DATE($A$1,COLUMN()-1,ROW()-1),2)<6),DATE($A$1,COLUMN()-1,ROW()-1),"") -> 43591 | G7: =IF(AND(COUNTIF(JoursFériés,DATE($A$1,COLUMN()-1,ROW()-1))=0,MONTH(DATE($A$1,COLUMN()-1,ROW()-1))=COLUMN()-1,WEEKDAY(DATE($A$1,COLUMN()-1,ROW()-1),2)<6),DATE($A$1,COLUMN()-1,ROW()-1),"") -> 43622 | H7: =IF(AND(COUNTIF(JoursFériés,DATE($A$1,COLUMN()-1,ROW()-1))=0,MONTH(DATE($A$1,COLUMN()-1,ROW()-1))=COLUMN()-1,WEEKDAY(DATE($A$1,COLUMN()-1,ROW()-1),2)<6),DATE($A$1,COLUMN()-1,ROW()-1),"") | I7: =IF(AND(COUNTIF(JoursFériés,DATE($A$1,COLUMN()-1,ROW()-1))=0,MONTH(DATE($A$1,COLUMN()-1,ROW()-1))=COLUMN()-1,WEEKDAY(DATE($A$1,COLUMN()-1,ROW()-1),2)<6),DATE($A$1,COLUMN()-1,ROW()-1),"") -> 43683 | ... M7: =IF(AND(COUNTIF(JoursFériés,DATE($A$1,COLUMN()-1,ROW()-1))=0,MONTH(DATE($A$1,COLUMN()-1,ROW()-1))=COLUMN()-1,WEEKDAY(DATE($A$1,COLUMN()-1,ROW()-1),2)<6),DATE($A$1,COLUMN()-1,ROW()-1),"") -> 43805
B8: =IF(AND(COUNTIF(JoursFériés,DATE($A$1,COLUMN()-1,ROW()-1))=0,MONTH(DATE($A$1,COLUMN()-1,ROW()-1))=COLUMN()-1,WEEKDAY(DATE($A$1,COLUMN()-1,ROW()-1),2)<6),DATE($A$1,COLUMN()-1,ROW()-1),"") -> 43472 | C8: =IF(AND(COUNTIF(JoursFériés,DATE($A$1,COLUMN()-1,ROW()-1))=0,MONTH(DATE($A$1,COLUMN()-1,ROW()-1))=COLUMN()-1,WEEKDAY(DATE($A$1,COLUMN()-1,ROW()-1),2)<6),DATE($A$1,COLUMN()-1,ROW()-1),"") -> 43503 | D8: =IF(AND(COUNTIF(JoursFériés,DATE($A$1,COLUMN()-1,ROW()-1))=0,MONTH(DATE($A$1,COLUMN()-1,ROW()-1))=COLUMN()-1,WEEKDAY(DATE($A$1,COLUMN()-1,ROW()-1),2)<6),DATE($A$1,COLUMN()-1,ROW()-1),"") -> 43531 | E8: =IF(AND(COUNTIF(JoursFériés,DATE($A$1,COLUMN()-1,ROW()-1))=0,MONTH(DATE($A$1,COLUMN()-1,ROW()-1))=COLUMN()-1,WEEKDAY(DATE($A$1,COLUMN()-1,ROW()-1),2)<6),DATE($A$1,COLUMN()-1,ROW()-1),"") | F8: =IF(AND(COUNTIF(JoursFériés,DATE($A$1,COLUMN()-1,ROW()-1))=0,MONTH(DATE($A$1,COLUMN()-1,ROW()-1))=COLUMN()-1,WEEKDAY(DATE($A$1,COLUMN()-1,ROW()-1),2)<6),DATE($A$1,COLUMN()-1,ROW()-1),"") -> 43592 | G8: =IF(AND(COUNTIF(JoursFériés,DATE($A$1,COLUMN()-1,ROW()-1))=0,MONTH(DATE($A$1,COLUMN()-1,ROW()-1))=COLUMN()-1,WEEKDAY(DATE($A$1,COLUMN()-1,ROW()-1),2)<6),DATE($A$1,COLUMN()-1,ROW()-1),"") -> 43623 | H8: =IF(AND(COUNTIF(JoursFériés,DATE($A$1,COLUMN()-1,ROW()-1))=0,MONTH(DATE($A$1,COLUMN()-1,ROW()-1))=COLUMN()-1,WEEKDAY(DATE($A$1,COLUMN()-1,ROW()-1),2)<6),DATE($A$1,COLUMN()-1,ROW()-1),"") | I8: =IF(AND(COUNTIF(JoursFériés,DATE($A$1,COLUMN()-1,ROW()-1))=0,MONTH(DATE($A$1,COLUMN()-1,ROW()-1))=COLUMN()-1,WEEKDAY(DATE($A$1,COLUMN()-1,ROW()-1),2)<6),DATE($A$1,COLUMN()-1,ROW()-1),"") -> 43684 | ... M8: =IF(AND(COUNTIF(JoursFériés,DATE($A$1,COLUMN()-1,ROW()-1))=0,MONTH(DATE($A$1,COLUMN()-1,ROW()-1))=COLUMN()-1,WEEKDAY(DATE($A$1,COLUMN()-1,ROW()-1),2)<6),DATE($A$1,COLUMN()-1,ROW()-1),"")
B9: =IF(AND(COUNTIF(JoursFériés,DATE($A$1,COLUMN()-1,ROW()-1))=0,MONTH(DATE($A$1,COLUMN()-1,ROW()-1))=COLUMN()-1,WEEKDAY(DATE($A$1,COLUMN()-1,ROW()-1),2)<6),DATE($A$1,COLUMN()-1,ROW()-1),"") -> 43473 | C9: =IF(AND(COUNTIF(JoursFériés,DATE($A$1,COLUMN()-1,ROW()-1))=0,MONTH(DATE($A$1,COLUMN()-1,ROW()-1))=COLUMN()-1,WEEKDAY(DATE($A$1,COLUMN()-1,ROW()-1),2)<6),DATE($A$1,COLUMN()-1,ROW()-1),"") -> 43504 | D9: =IF(AND(COUNTIF(JoursFériés,DATE($A$1,COLUMN()-1,ROW()-1))=0,MONTH(DATE($A$1,COLUMN()-1,ROW()-1))=COLUMN()-1,WEEKDAY(DATE($A$1,COLUMN()-1,ROW()-1),2)<6),DATE($A$1,COLUMN()-1,ROW()-1),"") -> 43532 | E9: =IF(AND(COUNTIF(JoursFériés,DATE($A$1,COLUMN()-1,ROW()-1))=0,MONTH(DATE($A$1,COLUMN()-1,ROW()-1))=COLUMN()-1,WEEKDAY(DATE($A$1,COLUMN()-1,ROW()-1),2)<6),DATE($A$1,COLUMN()-1,ROW()-1),"") -> 43563 | F9: =IF(AND(COUNTIF(JoursFériés,DATE($A$1,COLUMN()-1,ROW()-1))=0,MONTH(DATE($A$1,COLUMN()-1,ROW()-1))=COLUMN()-1,WEEKDAY(DATE($A$1,COLUMN()-1,ROW()-1),2)<6),DATE($A$1,COLUMN()-1,ROW()-1),"") | G9: =IF(AND(COUNTIF(JoursFériés,DATE($A$1,COLUMN()-1,ROW()-1))=0,MONTH(DATE($A$1,COLUMN()-1,ROW()-1))=COLUMN()-1,WEEKDAY(DATE($A$1,COLUMN()-1,ROW()-1),2)<6),DATE($A$1,COLUMN()-1,ROW()-1),"") | H9: =IF(AND(COUNTIF(JoursFériés,DATE($A$1,COLUMN()-1,ROW()-1))=0,MONTH(DATE($A$1,COLUMN()-1,ROW()-1))=COLUMN()-1,WEEKDAY(DATE($A$1,COLUMN()-1,ROW()-1),2)<6),DATE($A$1,COLUMN()-1,ROW()-1),"") -> 43654 | I9: =IF(AND(COUNTIF(JoursFériés,DATE($A$1,COLUMN()-1,ROW()-1))=0,MONTH(DATE($A$1,COLUMN()-1,ROW()-1))=COLUMN()-1,WEEKDAY(DATE($A$1,COLUMN()-1,ROW()-1),2)<6),DATE($A$1,COLUMN()-1,ROW()-1),"") -> 43685 | ... M9: =IF(AND(COUNTIF(JoursFériés,DATE($A$1,COLUMN()-1,ROW()-1))=0,MONTH(DATE($A$1,COLUMN()-1,ROW()-1))=COLUMN()-1,WEEKDAY(DATE($A$1,COLUMN()-1,ROW()-1),2)<6),DATE($A$1,COLUMN()-1,ROW()-1),"")
B10: =IF(AND(COUNTIF(JoursFériés,DATE($A$1,COLUMN()-1,ROW()-1))=0,MONTH(DATE($A$1,COLUMN()-1,ROW()-1))=COLUMN()-1,WEEKDAY(DATE($A$1,COLUMN()-1,ROW()-1),2)<6),DATE($A$1,COLUMN()-1,ROW()-1),"") -> 43474 | C10: =IF(AND(COUNTIF(JoursFériés,DATE($A$1,COLUMN()-1,ROW()-1))=0,MONTH(DATE($A$1,COLUMN()-1,ROW()-1))=COLUMN()-1,WEEKDAY(DATE($A$1,COLUMN()-1,ROW()-1),2)<6),DATE($A$1,COLUMN()-1,ROW()-1),"") | D10: =IF(AND(COUNTIF(JoursFériés,DATE($A$1,COLUMN()-1,ROW()-1))=0,MONTH(DATE($A$1,COLUMN()-1,ROW()-1))=COLUMN()-1,WEEKDAY(DATE($A$1,COLUMN()-1,ROW()-1),2)<6),DATE($A$1,COLUMN()-1,ROW()-1),"") | E10: =IF(AND(COUNTIF(JoursFériés,DATE($A$1,COLUMN()-1,ROW()-1))=0,MONTH(DATE($A$1,COLUMN()-1,ROW()-1))=COLUMN()-1,WEEKDAY(DATE($A$1,COLUMN()-1,ROW()-1),2)<6),DATE($A$1,COLUMN()-1,ROW()-1),"") -> 43564 | F10: =IF(AND(COUNTIF(JoursFériés,DATE($A$1,COLUMN()-1,ROW()-1))=0,MONTH(DATE($A$1,COLUMN()-1,ROW()-1))=COLUMN()-1,WEEKDAY(DATE($A$1,COLUMN()-1,ROW()-1),2)<6),DATE($A$1,COLUMN()-1,ROW()-1),"") -> 43594 | G10: =IF(AND(COUNTIF(JoursFériés,DATE($A$1,COLUMN()-1,ROW()-1))=0,MONTH(DATE($A$1,COLUMN()-1,ROW()-1))=COLUMN()-1,WEEKDAY(DATE($A$1,COLUMN()-1,ROW()-1),2)<6),DATE($A$1,COLUMN()-1,ROW()-1),"") | H10: =IF(AND(COUNTIF(JoursFériés,DATE($A$1,COLUMN()-1,ROW()-1))=0,MONTH(DATE($A$1,COLUMN()-1,ROW()-1))=COLUMN()-1,WEEKDAY(DATE($A$1,COLUMN()-1,ROW()-1),2)<6),DATE($A$1,COLUMN()-1,ROW()-1),"") -> 43655 | I10: =IF(AND(COUNTIF(JoursFériés,DATE($A$1,COLUMN()-1,ROW()-1))=0,MONTH(DATE($A$1,COLUMN()-1,ROW()-1))=COLUMN()-1,WEEKDAY(DATE($A$1,COLUMN()-1,ROW()-1),2)<6),DATE($A$1,COLUMN()-1,ROW()-1),"") -> 43686 | ... M10: =IF(AND(COUNTIF(JoursFériés,DATE($A$1,COLUMN()-1,ROW()-1))=0,MONTH(DATE($A$1,COLUMN()-1,ROW()-1))=COLUMN()-1,WEEKDAY(DATE($A$1,COLUMN()-1,ROW()-1),2)<6),DATE($A$1,COLUMN()-1,ROW()-1),"") -> 43808
B11: =IF(AND(COUNTIF(JoursFériés,DATE($A$1,COLUMN()-1,ROW()-1))=0,MONTH(DATE($A$1,COLUMN()-1,ROW()-1))=COLUMN()-1,WEEKDAY(DATE($A$1,COLUMN()-1,ROW()-1),2)<6),DATE($A$1,COLUMN()-1,ROW()-1),"") -> 43475 | C11: =IF(AND(COUNTIF(JoursFériés,DATE($A$1,COLUMN()-1,ROW()-1))=0,MONTH(DATE($A$1,COLUMN()-1,ROW()-1))=COLUMN()-1,WEEKDAY(DATE($A$1,COLUMN()-1,ROW()-1),2)<6),DATE($A$1,COLUMN()-1,ROW()-1),"") | D11: =IF(AND(COUNTIF(JoursFériés,DATE($A$1,COLUMN()-1,ROW()-1))=0,MONTH(DATE($A$1,COLUMN()-1,ROW()-1))=COLUMN()-1,WEEKDAY(DATE($A$1,COLUMN()-1,ROW()-1),2)<6),DATE($A$1,COLUMN()-1,ROW()-1),"") | E11: =IF(AND(COUNTIF(JoursFériés,DATE($A$1,COLUMN()-1,ROW()-1))=0,MONTH(DATE($A$1,COLUMN()-1,ROW()-1))=COLUMN()-1,WEEKDAY(DATE($A$1,COLUMN()-1,ROW()-1),2)<6),DATE($A$1,COLUMN()-1,ROW()-1),"") -> 43565 | F11: =IF(AND(COUNTIF(JoursFériés,DATE($A$1,COLUMN()-1,ROW()-1))=0,MONTH(DATE($A$1,COLUMN()-1,ROW()-1))=COLUMN()-1,WEEKDAY(DATE($A$1,COLUMN()-1,ROW()-1),2)<6),DATE($A$1,COLUMN()-1,ROW()-1),"") -> 43595 | G11: =IF(AND(COUNTIF(JoursFériés,DATE($A$1,COLUMN()-1,ROW()-1))=0,MONTH(DATE($A$1,COLUMN()-1,ROW()-1))=COLUMN()-1,WEEKDAY(DATE($A$1,COLUMN()-1,ROW()-1),2)<6),DATE($A$1,COLUMN()-1,ROW()-1),"") | H11: =IF(AND(COUNTIF(JoursFériés,DATE($A$1,COLUMN()-1,ROW()-1))=0,MONTH(DATE($A$1,COLUMN()-1,ROW()-1))=COLUMN()-1,WEEKDAY(DATE($A$1,COLUMN()-1,ROW()-1),2)<6),DATE($A$1,COLUMN()-1,ROW()-1),"") -> 43656 | I11: =IF(AND(COUNTIF(JoursFériés,DATE($A$1,COLUMN()-1,ROW()-1))=0,MONTH(DATE($A$1,COLUMN()-1,ROW()-1))=COLUMN()-1,WEEKDAY(DATE($A$1,COLUMN()-1,ROW()-1),2)<6),DATE($A$1,COLUMN()-1,ROW()-1),"") | ... M11: =IF(AND(COUNTIF(JoursFériés,DATE($A$1,COLUMN()-1,ROW()-1))=0,MONTH(DATE($A$1,COLUMN()-1,ROW()-1))=COLUMN()-1,WEEKDAY(DATE($A$1,COLUMN()-1,ROW()-1),2)<6),DATE($A$1,COLUMN()-1,ROW()-1),"") -> 43809
B12: =IF(AND(COUNTIF(JoursFériés,DATE($A$1,COLUMN()-1,ROW()-1))=0,MONTH(DATE($A$1,COLUMN()-1,ROW()-1))=COLUMN()-1,WEEKDAY(DATE($A$1,COLUMN()-1,ROW()-1),2)<6),DATE($A$1,COLUMN()-1,ROW()-1),"") -> 43476 | C12: =IF(AND(COUNTIF(JoursFériés,DATE($A$1,COLUMN()-1,ROW()-1))=0,MONTH(DATE($A$1,COLUMN()-1,ROW()-1))=COLUMN()-1,WEEKDAY(DATE($A$1,COLUMN()-1,ROW()-1),2)<6),DATE($A$1,COLUMN()-1,ROW()-1),"") -> 43507 | D12: =IF(AND(COUNTIF(JoursFériés,DATE($A$1,COLUMN()-1,ROW()-1))=0,MONTH(DATE($A$1,COLUMN()-1,ROW()-1))=COLUMN()-1,WEEKDAY(DATE($A$1,COLUMN()-1,ROW()-1),2)<6),DATE($A$1,COLUMN()-1,ROW()-1),"") -> 43535 | E12: =IF(AND(COUNTIF(JoursFériés,DATE($A$1,COLUMN()-1,ROW()-1))=0,MONTH(DATE($A$1,COLUMN()-1,ROW()-1))=COLUMN()-1,WEEKDAY(DATE($A$1,COLUMN()-1,ROW()-1),2)<6),DATE($A$1,COLUMN()-1,ROW()-1),"") -> 43566 | F12: =IF(AND(COUNTIF(JoursFériés,DATE($A$1,COLUMN()-1,ROW()-1))=0,MONTH(DATE($A$1,COLUMN()-1,ROW()-1))=COLUMN()-1,WEEKDAY(DATE($A$1,COLUMN()-1,ROW()-1),2)<6),DATE($A$1,COLUMN()-1,ROW()-1),"") | G12: =IF(AND(COUNTIF(JoursFériés,DATE($A$1,COLUMN()-1,ROW()-1))=0,MONTH(DATE($A$1,COLUMN()-1,ROW()-1))=COLUMN()-1,WEEKDAY(DATE($A$1,COLUMN()-1,ROW()-1),2)<6),DATE($A$1,COLUMN()-1,ROW()-1),"") -> 43627 | H12: =IF(AND(COUNTIF(JoursFériés,DATE($A$1,COLUMN()-1,ROW()-1))=0,MONTH(DATE($A$1,COLUMN()-1,ROW()-1))=COLUMN()-1,WEEKDAY(DATE($A$1,COLUMN()-1,ROW()-1),2)<6),DATE($A$1,COLUMN()-1,ROW()-1),"") -> 43657 | I12: =IF(AND(COUNTIF(JoursFériés,DATE($A$1,COLUMN()-1,ROW()-1))=0,MONTH(DATE($A$1,COLUMN()-1,ROW()-1))=COLUMN()-1,WEEKDAY(DATE($A$1,COLUMN()-1,ROW()-1),2)<6),DATE($A$1,COLUMN()-1,ROW()-1),"") | ... M12: =IF(AND(COUNTIF(JoursFériés,DATE($A$1,COLUMN()-1,ROW()-1))=0,MONTH(DATE($A$1,COLUMN()-1,ROW()-1))=COLUMN()-1,WEEKDAY(DATE($A$1,COLUMN()-1,ROW()-1),2)<6),DATE($A$1,COLUMN()-1,ROW()-1),"") -> 43810
B13: =IF(AND(COUNTIF(JoursFériés,DATE($A$1,COLUMN()-1,ROW()-1))=0,MONTH(DATE($A$1,COLUMN()-1,ROW()-1))=COLUMN()-1,WEEKDAY(DATE($A$1,COLUMN()-1,ROW()-1),2)<6),DATE($A$1,COLUMN()-1,ROW()-1),"") | C13: =IF(AND(COUNTIF(JoursFériés,DATE($A$1,COLUMN()-1,ROW()-1))=0,MONTH(DATE($A$1,COLUMN()-1,ROW()-1))=COLUMN()-1,WEEKDAY(DATE($A$1,COLUMN()-1,ROW()-1),2)<6),DATE($A$1,COLUMN()-1,ROW()-1),"") -> 43508 | D13: =IF(AND(COUNTIF(JoursFériés,DATE($A$1,COLUMN()-1,ROW()-1))=0,MONTH(DATE($A$1,COLUMN()-1,ROW()-1))=COLUMN()-1,WEEKDAY(DATE($A$1,COLUMN()-1,ROW()-1),2)<6),DATE($A$1,COLUMN()-1,ROW()-1),"") -> 43536 | E13: =IF(AND(COUNTIF(JoursFériés,DATE($A$1,COLUMN()-1,ROW()-1))=0,MONTH(DATE($A$1,COLUMN()-1,ROW()-1))=COLUMN()-1,WEEKDAY(DATE($A$1,COLUMN()-1,ROW()-1),2)<6),DATE($A$1,COLUMN()-1,ROW()-1),"") -> 43567 | F13: =IF(AND(COUNTIF(JoursFériés,DATE($A$1,COLUMN()-1,ROW()-1))=0,MONTH(DATE($A$1,COLUMN()-1,ROW()-1))=COLUMN()-1,WEEKDAY(DATE($A$1,COLUMN()-1,ROW()-1),2)<6),DATE($A$1,COLUMN()-1,ROW()-1),"") | G13: =IF(AND(COUNTIF(JoursFériés,DATE($A$1,COLUMN()-1,ROW()-1))=0,MONTH(DATE($A$1,COLUMN()-1,ROW()-1))=COLUMN()-1,WEEKDAY(DATE($A$1,COLUMN()-1,ROW()-1),2)<6),DATE($A$1,COLUMN()-1,ROW()-1),"") -> 43628 | H13: =IF(AND(COUNTIF(JoursFériés,DATE($A$1,COLUMN()-1,ROW()-1))=0,MONTH(DATE($A$1,COLUMN()-1,ROW()-1))=COLUMN()-1,WEEKDAY(DATE($A$1,COLUMN()-1,ROW()-1),2)<6),DATE($A$1,COLUMN()-1,ROW()-1),"") -> 43658 | I13: =IF(AND(COUNTIF(JoursFériés,DATE($A$1,COLUMN()-1,ROW()-1))=0,MONTH(DATE($A$1,COLUMN()-1,ROW()-1))=COLUMN()-1,WEEKDAY(DATE($A$1,COLUMN()-1,ROW()-1),2)<6),DATE($A$1,COLUMN()-1,ROW()-1),"") -> 43689 | ... M13: =IF(AND(COUNTIF(JoursFériés,DATE($A$1,COLUMN()-1,ROW()-1))=0,MONTH(DATE($A$1,COLUMN()-1,ROW()-1))=COLUMN()-1,WEEKDAY(DATE($A$1,COLUMN()-1,ROW()-1),2)<6),DATE($A$1,COLUMN()-1,ROW()-1),"") -> 43811
... B32: =IF(AND(COUNTIF(JoursFériés,DATE($A$1,COLUMN()-1,ROW()-1))=0,MONTH(DATE($A$1,COLUMN()-1,ROW()-1))=COLUMN()-1,WEEKDAY(DATE($A$1,COLUMN()-1,ROW()-1),2)<6),DATE($A$1,COLUMN()-1,ROW()-1),"") -> 43496 | C32: =IF(AND(COUNTIF(JoursFériés,DATE($A$1,COLUMN()-1,ROW()-1))=0,MONTH(DATE($A$1,COLUMN()-1,ROW()-1))=COLUMN()-1,WEEKDAY(DATE($A$1,COLUMN()-1,ROW()-1),2)<6),DATE($A$1,COLUMN()-1,ROW()-1),"") | D32: =IF(AND(COUNTIF(JoursFériés,DATE($A$1,COLUMN()-1,ROW()-1))=0,MONTH(DATE($A$1,COLUMN()-1,ROW()-1))=COLUMN()-1,WEEKDAY(DATE($A$1,COLUMN()-1,ROW()-1),2)<6),DATE($A$1,COLUMN()-1,ROW()-1),"") | E32: =IF(AND(COUNTIF(JoursFériés,DATE($A$1,COLUMN()-1,ROW()-1))=0,MONTH(DATE($A$1,COLUMN()-1,ROW()-1))=COLUMN()-1,WEEKDAY(DATE($A$1,COLUMN()-1,ROW()-1),2)<6),DATE($A$1,COLUMN()-1,ROW()-1),"") | F32: =IF(AND(COUNTIF(JoursFériés,DATE($A$1,COLUMN()-1,ROW()-1))=0,MONTH(DATE($A$1,COLUMN()-1,ROW()-1))=COLUMN()-1,WEEKDAY(DATE($A$1,COLUMN()-1,ROW()-1),2)<6),DATE($A$1,COLUMN()-1,ROW()-1),"") -> 43616 | G32: =IF(AND(COUNTIF(JoursFériés,DATE($A$1,COLUMN()-1,ROW()-1))=0,MONTH(DATE($A$1,COLUMN()-1,ROW()-1))=COLUMN()-1,WEEKDAY(DATE($A$1,COLUMN()-1,ROW()-1),2)<6),DATE($A$1,COLUMN()-1,ROW()-1),"") | H32: =IF(AND(COUNTIF(JoursFériés,DATE($A$1,COLUMN()-1,ROW()-1))=0,MONTH(DATE($A$1,COLUMN()-1,ROW()-1))=COLUMN()-1,WEEKDAY(DATE($A$1,COLUMN()-1,ROW()-1),2)<6),DATE($A$1,COLUMN()-1,ROW()-1),"") -> 43677 | I32: =IF(AND(COUNTIF(JoursFériés,DATE($A$1,COLUMN()-1,ROW()-1))=0,MONTH(DATE($A$1,COLUMN()-1,ROW()-1))=COLUMN()-1,WEEKDAY(DATE($A$1,COLUMN()-1,ROW()-1),2)<6),DATE($A$1,COLUMN()-1,ROW()-1),"") | ... M32: =IF(AND(COUNTIF(JoursFériés,DATE($A$1,COLUMN()-1,ROW()-1))=0,MONTH(DATE($A$1,COLUMN()-1,ROW()-1))=COLUMN()-1,WEEKDAY(DATE($A$1,COLUMN()-1,ROW()-1),2)<6),DATE($A$1,COLUMN()-1,ROW()-1),"") -> 43830

Sheet Jours Ouvrés
A1: =Calendrier!A1 -> 2019 | B1: January | C1: February | D1: March | E1: April | F1: May | G1: June | H1: July | I1: August | J1: September | K1: October | L1: November | M1: December
A2: 1 | B2: =IFERROR(SMALL(Calendrier!B$2:B$32,ROW()-1),"") -> 43467 | C2: =IFERROR(SMALL(Calendrier!C$2:C$32,ROW()-1),"") -> 43497 | D2: =IFERROR(SMALL(Calendrier!D$2:D$32,ROW()-1),"") -> 43525 | E2: =IFERROR(SMALL(Calendrier!E$2:E$32,ROW()-1),"") -> 43556 | F2: =IFERROR(SMALL(Calendrier!F$2:F$32,ROW()-1),"") -> 43587 | G2: =IFERROR(SMALL(Calendrier!G$2:G$32,ROW()-1),"") -> 43619 | H2: =IFERROR(SMALL(Calendrier!H$2:H$32,ROW()-1),"") -> 43647 | I2: =IFERROR(SMALL(Calendrier!I$2:I$32,ROW()-1),"") -> 43678 | ... M2: =IFERROR(SMALL(Calendrier!M$2:M$32,ROW()-1),"") -> 43801
A3: 2 | B3: =IFERROR(SMALL(Calendrier!B$2:B$32,ROW()-1),"") -> 43468 | C3: =IFERROR(SMALL(Calendrier!C$2:C$32,ROW()-1),"") -> 43500 | D3: =IFERROR(SMALL(Calendrier!D$2:D$32,ROW()-1),"") -> 43528 | E3: =IFERROR(SMALL(Calendrier!E$2:E$32,ROW()-1),"") -> 43557 | F3: =IFERROR(SMALL(Calendrier!F$2:F$32,ROW()-1),"") -> 43588 | G3: =IFERROR(SMALL(Calendrier!G$2:G$32,ROW()-1),"") -> 43620 | H3: =IFERROR(SMALL(Calendrier!H$2:H$32,ROW()-1),"") -> 43648 | I3: =IFERROR(SMALL(Calendrier!I$2:I$32,ROW()-1),"") -> 43679 | ... M3: =IFERROR(SMALL(Calendrier!M$2:M$32,ROW()-1),"") -> 43802
A4: 3 | B4: =IFERROR(SMALL(Calendrier!B$2:B$32,ROW()-1),"") -> 43469 | C4: =IFERROR(SMALL(Calendrier!C$2:C$32,ROW()-1),"") -> 43501 | D4: =IFERROR(SMALL(Calendrier!D$2:D$32,ROW()-1),"") -> 43529 | E4: =IFERROR(SMALL(Calendrier!E$2:E$32,ROW()-1),"") -> 43558 | F4: =IFERROR(SMALL(Calendrier!F$2:F$32,ROW()-1),"") -> 43591 | G4: =IFERROR(SMALL(Calendrier!G$2:G$32,ROW()-1),"") -> 43621 | H4: =IFERROR(SMALL(Calendrier!H$2:H$32,ROW()-1),"") -> 43649 | I4: =IFERROR(SMALL(Calendrier!I$2:I$32,ROW()-1),"") -> 43682 | ... M4: =IFERROR(SMALL(Calendrier!M$2:M$32,ROW()-1),"") -> 43803
A5: 4 | B5: =IFERROR(SMALL(Calendrier!B$2:B$32,ROW()-1),"") -> 43472 | C5: =IFERROR(SMALL(Calendrier!C$2:C$32,ROW()-1),"") -> 43502 | D5: =IFERROR(SMALL(Calendrier!D$2:D$32,ROW()-1),"") -> 43530 | E5: =IFERROR(SMALL(Calendrier!E$2:E$32,ROW()-1),"") -> 43559 | F5: =IFERROR(SMALL(Calendrier!F$2:F$32,ROW()-1),"") -> 43592 | G5: =IFERROR(SMALL(Calendrier!G$2:G$32,ROW()-1),"") -> 43622 | H5: =IFERROR(SMALL(Calendrier!H$2:H$32,ROW()-1),"") -> 43650 | I5: =IFERROR(SMALL(Calendrier!I$2:I$32,ROW()-1),"") -> 43683 | ... M5: =IFERROR(SMALL(Calendrier!M$2:M$32,ROW()-1),"") -> 43804
A6: 5 | B6: =IFERROR(SMALL(Calendrier!B$2:B$32,ROW()-1),"") -> 43473 | C6: =IFERROR(SMALL(Calendrier!C$2:C$32,ROW()-1),"") -> 43503 | D6: =IFERROR(SMALL(Calendrier!D$2:D$32,ROW()-1),"") -> 43531 | E6: =IFERROR(SMALL(Calendrier!E$2:E$32,ROW()-1),"") -> 43560 | F6: =IFERROR(SMALL(Calendrier!F$2:F$32,ROW()-1),"") -> 43594 | G6: =IFERROR(SMALL(Calendrier!G$2:G$32,ROW()-1),"") -> 43623 | H6: =IFERROR(SMALL(Calendrier!H$2:H$32,ROW()-1),"") -> 43651 | I6: =IFERROR(SMALL(Calendrier!I$2:I$32,ROW()-1),"") -> 43684 | ... M6: =IFERROR(SMALL(Calendrier!M$2:M$32,ROW()-1),"") -> 43805
A7: 6 | B7: =IFERROR(SMALL(Calendrier!B$2:B$32,ROW()-1),"") -> 43474 | C7: =IFERROR(SMALL(Calendrier!C$2:C$32,ROW()-1),"") -> 43504 | D7: =IFERROR(SMALL(Calendrier!D$2:D$32,ROW()-1),"") -> 43532 | E7: =IFERROR(SMALL(Calendrier!E$2:E$32,ROW()-1),"") -> 43563 | F7: =IFERROR(SMALL(Calendrier!F$2:F$32,ROW()-1),"") -> 43595 | G7: =IFERROR(SMALL(Calendrier!G$2:G$32,ROW()-1),"") -> 43627 | H7: =IFERROR(SMALL(Calendrier!H$2:H$32,ROW()-1),"") -> 43654 | I7: =IFERROR(SMALL(Calendrier!I$2:I$32,ROW()-1),"") -> 43685 | ... M7: =IFERROR(SMALL(Calendrier!M$2:M$32,ROW()-1),"") -> 43808
A8: 7 | B8: =IFERROR(SMALL(Calendrier!B$2:B$32,ROW()-1),"") -> 43475 | C8: =IFERROR(SMALL(Calendrier!C$2:C$32,ROW()-1),"") -> 43507 | D8: =IFERROR(SMALL(Calendrier!D$2:D$32,ROW()-1),"") -> 43535 | E8: =IFERROR(SMALL(Calendrier!E$2:E$32,ROW()-1),"") -> 43564 | F8: =IFERROR(SMALL(Calendrier!F$2:F$32,ROW()-1),"") -> 43598 | G8: =IFERROR(SMALL(Calendrier!G$2:G$32,ROW()-1),"") -> 43628 | H8: =IFERROR(SMALL(Calendrier!H$2:H$32,ROW()-1),"") -> 43655 | I8: =IFERROR(SMALL(Calendrier!I$2:I$32,ROW()-1),"") -> 43686 | ... M8: =IFERROR(SMALL(Calendrier!M$2:M$32,ROW()-1),"") -> 43809
A9: 8 | B9: =IFERROR(SMALL(Calendrier!B$2:B$32,ROW()-1),"") -> 43476 | C9: =IFERROR(SMALL(Calendrier!C$2:C$32,ROW()-1),"") -> 43508 | D9: =IFERROR(SMALL(Calendrier!D$2:D$32,ROW()-1),"") -> 43536 | E9: =IFERROR(SMALL(Calendrier!E$2:E$32,ROW()-1),"") -> 43565 | F9: =IFERROR(SMALL(Calendrier!F$2:F$32,ROW()-1),"") -> 43599 | G9: =IFERROR(SMALL(Calendrier!G$2:G$32,ROW()-1),"") -> 43629 | H9: =IFERROR(SMALL(Calendrier!H$2:H$32,ROW()-1),"") -> 43656 | I9: =IFERROR(SMALL(Calendrier!I$2:I$32,ROW()-1),"") -> 43689 | ... M9: =IFERROR(SMALL(Calendrier!M$2:M$32,ROW()-1),"") -> 43810
A10: 9 | B10: =IFERROR(SMALL(Calendrier!B$2:B$32,ROW()-1),"") -> 43479 | C10: =IFERROR(SMALL(Calendrier!C$2:C$32,ROW()-1),"") -> 43509 | D10: =IFERROR(SMALL(Calendrier!D$2:D$32,ROW()-1),"") -> 43537 | E10: =IFERROR(SMALL(Calendrier!E$2:E$32,ROW()-1),"") -> 43566 | F10: =IFERROR(SMALL(Calendrier!F$2:F$32,ROW()-1),"") -> 43600 | G10: =IFERROR(SMALL(Calendrier!G$2:G$32,ROW()-1),"") -> 43630 | H10: =IFERROR(SMALL(Calendrier!H$2:H$32,ROW()-1),"") -> 43657 | I10: =IFERROR(SMALL(Calendrier!I$2:I$32,ROW()-1),"") -> 43690 | ... M10: =IFERROR(SMALL(Calendrier!M$2:M$32,ROW()-1),"") -> 43811
A11: 10 | B11: =IFERROR(SMALL(Calendrier!B$2:B$32,ROW()-1),"") -> 43480 | C11: =IFERROR(SMALL(Calendrier!C$2:C$32,ROW()-1),"") -> 43510 | D11: =IFERROR(SMALL(Calendrier!D$2:D$32,ROW()-1),"") -> 43538 | E11: =IFERROR(SMALL(Calendrier!E$2:E$32,ROW()-1),"") -> 43567 | F11: =IFERROR(SMALL(Calendrier!F$2:F$32,ROW()-1),"") -> 43601 | G11: =IFERROR(SMALL(Calendrier!G$2:G$32,ROW()-1),"") -> 43633 | H11: =IFERROR(SMALL(Calendrier!H$2:H$32,ROW()-1),"") -> 43658 | I11: =IFERROR(SMALL(Calendrier!I$2:I$32,ROW()-1),"") -> 43691 | ... M11: =IFERROR(SMALL(Calendrier!M$2:M$32,ROW()-1),"") -> 43812
A12: 11 | B12: =IFERROR(SMALL(Calendrier!B$2:B$32,ROW()-1),"") -> 43481 | C12: =IFERROR(SMALL(Calendrier!C$2:C$32,ROW()-1),"") -> 43511 | D12: =IFERROR(SMALL(Calendrier!D$2:D$32,ROW()-1),"") -> 43539 | E12: =IFERROR(SMALL(Calendrier!E$2:E$32,ROW()-1),"") -> 43570 | F12: =IFERROR(SMALL(Calendrier!F$2:F$32,ROW()-1),"") -> 43602 | G12: =IFERROR(SMALL(Calendrier!G$2:G$32,ROW()-1),"") -> 43634 | H12: =IFERROR(SMALL(Calendrier!H$2:H$32,ROW()-1),"") -> 43661 | I12: =IFERROR(SMALL(Calendrier!I$2:I$32,ROW()-1),"") -> 43693 | ... M12: =IFERROR(SMALL(Calendrier!M$2:M$32,ROW()-1),"") -> 43815
A13: 12 | B13: =IFERROR(SMALL(Calendrier!B$2:B$32,ROW()-1),"") -> 43482 | C13: =IFERROR(SMALL(Calendrier!C$2:C$32,ROW()-1),"") -> 43514 | D13: =IFERROR(SMALL(Calendrier!D$2:D$32,ROW()-1),"") -> 43542 | E13: =IFERROR(SMALL(Calendrier!E$2:E$32,ROW()-1),"") -> 43571 | F13: =IFERROR(SMALL(Calendrier!F$2:F$32,ROW()-1),"") -> 43605 | G13: =IFERROR(SMALL(Calendrier!G$2:G$32,ROW()-1),"") -> 43635 | H13: =IFERROR(SMALL(Calendrier!H$2:H$32,ROW()-1),"") -> 43662 | I13: =IFERROR(SMALL(Calendrier!I$2:I$32,ROW()-1),"") -> 43696 | ... M13: =IFERROR(SMALL(Calendrier!M$2:M$32,ROW()-1),"") -> 43816
... A24: 23 | B24: =IFERROR(SMALL(Calendrier!B$2:B$32,ROW()-1),"") | C24: =IFERROR(SMALL(Calendrier!C$2:C$32,ROW()-1),"") | D24: =IFERROR(SMALL(Calendrier!D$2:D$32,ROW()-1),"") | E24: =IFERROR(SMALL(Calendrier!E$2:E$32,ROW()-1),"") | F24: =IFERROR(SMALL(Calendrier!F$2:F$32,ROW()-1),"") | G24: =IFERROR(SMALL(Calendrier!G$2:G$32,ROW()-1),"") | H24: =IFERROR(SMALL(Calendrier!H$2:H$32,ROW()-1),"") -> 43677 | I24: =IFERROR(SMALL(Calendrier!I$2:I$32,ROW()-1),"") | ... M24: =IFERROR(SMALL(Calendrier!M$2:M$32,ROW()-1),"")
