Workbook
Name aa: Scheduled_Payment+Extra_Payment
Name Agence: OFFSET([1]Saisie!$B$3,,,COUNTA([1]Saisie!$B$1:$B$65536)-1)
Name An: #REF!
Name Base: [2]Répertoire!$A$2:$M$1000
Name Beg_Bal: #REF!
Name ColonneInterimaire: [1]Saisie!$C$1:$C$65536
Name Data: #REF!
Name Date: OFFSET([1]Saisie!$E$3,,,COUNTA([1]Saisie!$B$1:$B$65536)-1)
Name dd: DATE(YEAR([0]!Loan_Start),MONTH([0]!Loan_Start)+Payment_Number,DAY([0]!Loan_Start))
Name DECEMBRE: #REF!
Name DECEMBRE2: #REF!
Name End_Bal: #REF!
Name Extra_Pay: #REF!
Name Full_Print: #REF!
Name Header_Row: ROW(#REF!)
Name hgjgj: #REF!
Name HHGT: #REF!
Name Int: #REF!
Name Interest_Rate: #REF!
Name Interimaire: OFFSET([1]Saisie!$C$3,,,COUNTA([1]Saisie!$B$1:$B$65536)-1)
Name JF: JF!$B$2:$K$13
Name jguh: OFFSET(#REF!,,,COUNTIF(#REF!,"><0"),20)
Name Last_Row: IF(Values_Entered,Header_Row+Number_of_Payments,Header_Row)
Name ListePostes: [1]Donnees!$H$2:$H$5
Name LK: IF(Values_Entered,Header_Row+Number_of_Payments,Header_Row)
Name Loan_Amount: #REF!
Name Loan_Start: #REF!
Name Loan_Years: #REF!
Name N: #REF!
Name Num_Pmt_Per_Year: #REF!
Name Number_of_Payments: MATCH(0.01,End_Bal,-1)+1
Name Pause: OFFSET([1]Saisie!$K$3,,,COUNTA([1]Saisie!$B$1:$B$65536)-1)
Name Pay_Date: #REF!
Name Pay_Num: #REF!
Name Payment_Date: DATE(YEAR(Loan_Start),MONTH(Loan_Start)+Payment_Number,DAY(Loan_Start))
Name Plage_TCD: OFFSET(#REF!,,,COUNTIF(#REF!,"><0"),20)
Name Poste: OFFSET([1]Saisie!$D$3,,,COUNTA([1]Saisie!$B$1:$B$65536)-1)
Name Princ: #REF!
Name Print_Area_Reset: OFFSET(Full_Print,0,0,Last_Row)
Name Pseudo: '[3]base de données'!$E$2:$E$50
Name rr: DATE(YEAR([0]!Loan_Start),MONTH([0]!Loan_Start)+Payment_Number,DAY([0]!Loan_Start))
Name Sched_Pay: #REF!
Name Scheduled_Extra_Payments: #REF!
Name Scheduled_Interest_Rate: #REF!
Name Scheduled_Monthly_Payment: #REF!
Name Semaine: OFFSET([1]Saisie!$G$3,,,COUNTA([1]Saisie!$B$1:$B$65536)-1)
Name septembre: DATE(YEAR([0]!Loan_Start),MONTH([0]!Loan_Start)+Payment_Number,DAY([0]!Loan_Start))
Name ss: MATCH(0.01,[0]!End_Bal,-1)+1
Name TempsEffectif: OFFSET([1]Saisie!$L$3,,,COUNTA([1]Saisie!$B$1:$B$65536)-1)
Name Total_Interest: #REF!
Name Total_Pay: #REF!
Name Total_Payment: Scheduled_Payment+Extra_Payment
Name Values_Entered: IF(Loan_Amount*Interest_Rate*Loan_Years*Loan_Start>0,1,0)

Sheet Heures
A1: ANNEE | B1: MOIS | C1: SEMAINE | D1: JOUR | E1: karim | F1: marc | G1: ursula | H1: carl | I1: sandie | J1: wissem | K1: julien | L1: jérémy | M1: gregory | N1: sébastien | O1: aymeric | P1: jean | Q1: laetitia | R1: virginie | S1: david
A2: =IF(ISNUMBER(D2),YEAR(D2),A1) -> 2016 | B2: =IF(ISNUMBER(D2),MONTH(D2),B1) -> 10 | C2: =IF(ISNUMBER(D2),INT(MOD(INT((D2-2)/7)+3/5,52+5/28))+1,C1) -> 44 | D2: 42674 | F2: 7 | G2: 7 | H2: 7 | I2: 7 | J2: 6.18 | K2: 7 | L2: 5.5 | N2: 8 | O2: 8 | P2: 8 | R2: 7
A3: =IF(ISNUMBER(D3),YEAR(D3),A2) -> 2016 | B3: =IF(ISNUMBER(D3),MONTH(D3),B2) -> 11 | C3: =IF(ISNUMBER(D3),INT(MOD(INT((D3-2)/7)+3/5,52+5/28))+1,C2) -> 44 | D3: 42675
A4: =IF(ISNUMBER(D4),YEAR(D4),A3) -> 2016 | B4: =IF(ISNUMBER(D4),MONTH(D4),B3) -> 11 | C4: =IF(ISNUMBER(D4),INT(MOD(INT((D4-2)/7)+3/5,52+5/28))+1,C3) -> 44 | D4: 42676 | F4: 7 | G4: 7 | H4: 7 | J4: 7 | K4: 7 | L4: 7 | N4: 8 | P4: 8 | Q4: 9.25 | R4: 6.25
A5: =IF(ISNUMBER(D5),YEAR(D5),A4) -> 2016 | B5: =IF(ISNUMBER(D5),MONTH(D5),B4) -> 11 | C5: =IF(ISNUMBER(D5),INT(MOD(INT((D5-2)/7)+3/5,52+5/28))+1,C4) -> 44 | D5: 42677 | F5: 7.25 | G5: 7.25 | H5: 7.25 | J5: 7.25 | K5: 7.25 | L5: 6.32 | N5: 8 | O5: 8 | P5: 8 | Q5: 7.5 | R5: 7
A6: =IF(ISNUMBER(D6),YEAR(D6),A5) -> 2016 | B6: =IF(ISNUMBER(D6),MONTH(D6),B5) -> 11 | C6: =IF(ISNUMBER(D6),INT(MOD(INT((D6-2)/7)+3/5,52+5/28))+1,C5) -> 44 | D6: 42678 | F6: 7.07 | G6: 7.07 | H6: 7.07 | I6: 7.07 | J6: 7.07 | K6: 7.07 | L6: 7.07 | N6: 7 | O6: 7 | P6: 7 | Q6: 7.5 | R6: 7
A7: =IF(ISNUMBER(D7),YEAR(D7),A6) -> 2016 | B7: =IF(ISNUMBER(D7),MONTH(D7),B6) -> 11 | C7: =IF(ISNUMBER(D7),INT(MOD(INT((D7-2)/7)+3/5,52+5/28))+1,C6) -> 44 | D7: TOTAL | E7: =SUM(E2:E6) -> 0 | F7: =SUM(F2:F6) -> 28.32 | G7: =SUM(G2:G6) -> 28.32 | H7: =SUM(H2:H6) -> 28.32 | I7: =SUM(I2:I6) -> 14.07 | J7: =SUM(J2:J6) -> 27.5 | K7: =SUM(K2:K6) -> 28.32 | L7: =SUM(L2:L6) -> 25.89 | ... S7: =SUM(S2:S6) -> 0
A8: =IF(ISNUMBER(D8),YEAR(D8),A7) -> 2016 | B8: =IF(ISNUMBER(D8),MONTH(D8),B7) -> 11 | C8: =IF(ISNUMBER(D8),INT(MOD(INT((D8-2)/7)+3/5,52+5/28))+1,C7) -> 44 | D8: NORMAL | E8: =MIN(E7,35) -> 0 | F8: =MIN(F7,35) -> 28.32 | G8: =MIN(G7,35) -> 28.32 | H8: =MIN(H7,35) -> 28.32 | I8: =MIN(I7,35) -> 14.07 | J8: =MIN(J7,35) -> 27.5 | K8: =MIN(K7,35) -> 28.32 | L8: =MIN(L7,35) -> 25.89 | ... S8: =MIN(S7,35) -> 0
A9: =IF(ISNUMBER(D9),YEAR(D9),A8) -> 2016 | B9: =IF(ISNUMBER(D9),MONTH(D9),B8) -> 11 | C9: =IF(ISNUMBER(D9),INT(MOD(INT((D9-2)/7)+3/5,52+5/28))+1,C8) -> 44 | D9: HEURES SUP | E9: =E7-E8 -> 0 | F9: =F7-F8 -> 0 | G9: =G7-G8 -> 0 | H9: =H7-H8 -> 0 | I9: =I7-I8 -> 0 | J9: =J7-J8 -> 0 | K9: =K7-K8 -> 0 | L9: =L7-L8 -> 0 | ... S9: =S7-S8 -> 0
A10: =IF(ISNUMBER(D10),YEAR(D10),A9) -> 2016 | B10: =IF(ISNUMBER(D10),MONTH(D10),B9) -> 11 | C10: =IF(ISNUMBER(D10),INT(MOD(INT((D10-2)/7)+3/5,52+5/28))+1,C9) -> 45 | D10: =D2+7 -> 42681 | F10: 7 | G10: 7.25 | H10: 7.25 | I10: 7.25 | K10: 7.25 | L10: 7.25 | N10: 8 | O10: 8 | P10: 8 | Q10: 7 | R10: 8.5 | S10: 8
A11: =IF(ISNUMBER(D11),YEAR(D11),A10) -> 2016 | B11: =IF(ISNUMBER(D11),MONTH(D11),B10) -> 11 | C11: =IF(ISNUMBER(D11),INT(MOD(INT((D11-2)/7)+3/5,52+5/28))+1,C10) -> 45 | D11: =D3+7 -> 42682 | F11: 7 | G11: 7.07 | H11: 7.07 | I11: 7.07 | K11: 7.07 | L11: 7.07 | N11: 8 | O11: 8 | P11: 8 | Q11: 7 | S11: 7
A12: =IF(ISNUMBER(D12),YEAR(D12),A11) -> 2016 | B12: =IF(ISNUMBER(D12),MONTH(D12),B11) -> 11 | C12: =IF(ISNUMBER(D12),INT(MOD(INT((D12-2)/7)+3/5,52+5/28))+1,C11) -> 45 | D12: =D4+7 -> 42683 | F12: 7 | G12: 7 | H12: 7 | I12: 7 | K12: 7 | L12: 7 | N12: 8 | O12: 8 | P12: 8 | Q12: 7.25 | S12: 7
A13: =IF(ISNUMBER(D13),YEAR(D13),A12) -> 2016 | B13: =IF(ISNUMBER(D13),MONTH(D13),B12) -> 11 | C13: =IF(ISNUMBER(D13),INT(MOD(INT((D13-2)/7)+3/5,52+5/28))+1,C12) -> 45 | D13: =D5+7 -> 42684 | F13: 6.75 | G13: 6.75 | H13: 6.75 | I13: 6.75 | J13: 6.75 | K13: 6.75 | L13: 6.75 | N13: 7 | O13: 7 | P13: 7 | S13: 7
A14: =IF(ISNUMBER(D14),YEAR(D14),A13) -> 2016 | B14: =IF(ISNUMBER(D14),MONTH(D14),B13) -> 11 | C14: =IF(ISNUMBER(D14),INT(MOD(INT((D14-2)/7)+3/5,52+5/28))+1,C13) -> 45 | D14: =D6+7 -> 42685
A15: =IF(ISNUMBER(D15),YEAR(D15),A14) -> 2016 | B15: =IF(ISNUMBER(D15),MONTH(D15),B14) -> 11 | C15: =IF(ISNUMBER(D15),INT(MOD(INT((D15-2)/7)+3/5,52+5/28))+1,C14) -> 45 | D15: TOTAL | E15: =SUM(E10:E14) -> 0 | F15: =SUM(F10:F14) -> 27.75 | G15: =SUM(G10:G14) -> 28.07 | H15: =SUM(H10:H14) -> 28.07 | I15: =SUM(I10:I14) -> 28.07 | J15: =SUM(J10:J14) -> 6.75 | K15: =SUM(K10:K14) -> 28.07 | L15: =SUM(L10:L14) -> 28.07 | ... S15: =SUM(S10:S14) -> 29
A16: =IF(ISNUMBER(D16),YEAR(D16),A15) -> 2016 | B16: =IF(ISNUMBER(D16),MONTH(D16),B15) -> 11 | C16: =IF(ISNUMBER(D16),INT(MOD(INT((D16-2)/7)+3/5,52+5/28))+1,C15) -> 45 | D16: NORMAL | E16: =MIN(E15,35) -> 0 | F16: =MIN(F15,35) -> 27.75 | G16: =MIN(G15,35) -> 28.07 | H16: =MIN(H15,35) -> 28.07 | I16: =MIN(I15,35) -> 28.07 | J16: =MIN(J15,35) -> 6.75 | K16: =MIN(K15,35) -> 28.07 | L16: =MIN(L15,35) -> 28.07 | ... S16: =MIN(S15,35) -> 29
A17: =IF(ISNUMBER(D17),YEAR(D17),A16) -> 2016 | B17: =IF(ISNUMBER(D17),MONTH(D17),B16) -> 11 | C17: =IF(ISNUMBER(D17),INT(MOD(INT((D17-2)/7)+3/5,52+5/28))+1,C16) -> 45 | D17: HEURES SUP | E17: =E15-E16 -> 0 | F17: =F15-F16 -> 0 | G17: =G15-G16 -> 0 | H17: =H15-H16 -> 0 | I17: =I15-I16 -> 0 | J17: =J15-J16 -> 0 | K17: =K15-K16 -> 0 | L17: =L15-L16 -> 0 | ... S17: =S15-S16 -> 0
A18: =IF(ISNUMBER(D18),YEAR(D18),A17) -> 2016 | B18: =IF(ISNUMBER(D18),MONTH(D18),B17) -> 11 | C18: =IF(ISNUMBER(D18),INT(MOD(INT((D18-2)/7)+3/5,52+5/28))+1,C17) -> 46 | D18: =D10+7 -> 42688 | F18: 7 | G18: 7 | I18: 7 | J18: 7 | K18: 7 | L18: 7 | N18: 8 | O18: 8 | P18: 8 | Q18: 7 | R18: 7 | S18: 7
A19: =IF(ISNUMBER(D19),YEAR(D19),A18) -> 2016 | B19: =IF(ISNUMBER(D19),MONTH(D19),B18) -> 11 | C19: =IF(ISNUMBER(D19),INT(MOD(INT((D19-2)/7)+3/5,52+5/28))+1,C18) -> 46 | D19: =D11+7 -> 42689 | F19: 7 | G19: 7 | I19: 7 | J19: 7 | K19: 7 | L19: 7 | M19: 7 | N19: 8 | O19: 8 | P19: 8 | Q19: 7.5 | R19: 7 | S19: 7
A20: =IF(ISNUMBER(D20),YEAR(D20),A19) -> 2016 | B20: =IF(ISNUMBER(D20),MONTH(D20),B19) -> 11 | C20: =IF(ISNUMBER(D20),INT(MOD(INT((D20-2)/7)+3/5,52+5/28))+1,C19) -> 46 | D20: =D12+7 -> 42690 | F20: 7 | G20: 7 | H20: 7 | I20: 7 | K20: 7 | L20: 7 | M20: 7 | N20: 8 | O20: 8 | P20: 8 | Q20: 7.5 | R20: 7 | S20: 7
A21: =IF(ISNUMBER(D21),YEAR(D21),A20) -> 2016 | B21: =IF(ISNUMBER(D21),MONTH(D21),B20) -> 11 | C21: =IF(ISNUMBER(D21),INT(MOD(INT((D21-2)/7)+3/5,52+5/28))+1,C20) -> 46 | D21: =D13+7 -> 42691 | F21: 7 | G21: 7 | H21: 7 | I21: 7 | J21: 7.25 | K21: 7 | L21: 7 | M21: 7 | N21: 8 | O21: 8 | P21: 8 | Q21: 9.5 | R21: 8.5 | S21: 8
A22: =IF(ISNUMBER(D22),YEAR(D22),A21) -> 2016 | B22: =IF(ISNUMBER(D22),MONTH(D22),B21) -> 11 | C22: =IF(ISNUMBER(D22),INT(MOD(INT((D22-2)/7)+3/5,52+5/28))+1,C21) -> 46 | D22: =D14+7 -> 42692 | F22: 7 | G22: 7 | H22: 7 | I22: 7 | J22: 7 | K22: 7 | L22: 7 | M22: 7 | N22: 7 | O22: 7 | P22: 7 | Q22: 8.75 | R22: 6 | S22: 6
A23: =IF(ISNUMBER(D23),YEAR(D23),A22) -> 2016 | B23: =IF(ISNUMBER(D23),MONTH(D23),B22) -> 11 | C23: =IF(ISNUMBER(D23),INT(MOD(INT((D23-2)/7)+3/5,52+5/28))+1,C22) -> 46 | D23: TOTAL | E23: =SUM(E18:E22) -> 0 | F23: =SUM(F18:F22) -> 35 | G23: =SUM(G18:G22) -> 35 | H23: =SUM(H18:H22) -> 21 | I23: =SUM(I18:I22) -> 35 | J23: =SUM(J18:J22) -> 28.25 | K23: =SUM(K18:K22) -> 35 | L23: =SUM(L18:L22) -> 35 | ... S23: =SUM(S18:S22) -> 35
A24: =IF(ISNUMBER(D24),YEAR(D24),A23) -> 2016 | B24: =IF(ISNUMBER(D24),MONTH(D24),B23) -> 11 | C24: =IF(ISNUMBER(D24),INT(MOD(INT((D24-2)/7)+3/5,52+5/28))+1,C23) -> 46 | D24: NORMAL | E24: =MIN(E23,35) -> 0 | F24: =MIN(F23,35) -> 35 | G24: =MIN(G23,35) -> 35 | H24: =MIN(H23,35) -> 21 | I24: =MIN(I23,35) -> 35 | J24: =MIN(J23,35) -> 28.25 | K24: =MIN(K23,35) -> 35 | L24: =MIN(L23,35) -> 35 | ... S24: =MIN(S23,35) -> 35
A25: =IF(ISNUMBER(D25),YEAR(D25),A24) -> 2016 | B25: =IF(ISNUMBER(D25),MONTH(D25),B24) -> 11 | C25: =IF(ISNUMBER(D25),INT(MOD(INT((D25-2)/7)+3/5,52+5/28))+1,C24) -> 46 | D25: HEURES SUP | E25: =E23-E24 -> 0 | F25: =F23-F24 -> 0 | G25: =G23-G24 -> 0 | H25: =H23-H24 -> 0 | I25: =I23-I24 -> 0 | J25: =J23-J24 -> 0 | K25: =K23-K24 -> 0 | L25: =L23-L24 -> 0 | ... S25: =S23-S24 -> 0
A26: =IF(ISNUMBER(D26),YEAR(D26),A25) -> 2016 | B26: =IF(ISNUMBER(D26),MONTH(D26),B25) -> 11 | C26: =IF(ISNUMBER(D26),INT(MOD(INT((D26-2)/7)+3/5,52+5/28))+1,C25) -> 47 | D26: =D18+7 -> 42695 | F26: 7.28 | G26: 7 | H26: 7 | I26: 7 | J26: 7 | K26: 7 | L26: 7 | M26: 7 | N26: 8 | O26: 8 | P26: 8 | Q26: 7.25 | R26: 8 | S26: 7
A27: =IF(ISNUMBER(D27),YEAR(D27),A26) -> 2016 | B27: =IF(ISNUMBER(D27),MONTH(D27),B26) -> 11 | C27: =IF(ISNUMBER(D27),INT(MOD(INT((D27-2)/7)+3/5,52+5/28))+1,C26) -> 47 | D27: =D19+7 -> 42696 | F27: 7 | G27: 7 | H27: 7 | I27: 7 | J27: 7 | K27: 7 | L27: 7 | M27: 7 | N27: 8 | O27: 8 | P27: 8 | Q27: 8.25 | R27: 7.14 | S27: 7
A28: =IF(ISNUMBER(D28),YEAR(D28),A27) -> 2016 | B28: =IF(ISNUMBER(D28),MONTH(D28),B27) -> 11 | C28: =IF(ISNUMBER(D28),INT(MOD(INT((D28-2)/7)+3/5,52+5/28))+1,C27) -> 47 | D28: =D20+7 -> 42697 | F28: 7 | G28: 7 | H28: 7 | I28: 7 | J28: 7 | K28: 7 | L28: 7 | M28: 7 | N28: 8 | O28: 8 | P28: 8 | Q28: 8 | R28: 8 | S28: 7
A29: =IF(ISNUMBER(D29),YEAR(D29),A28) -> 2016 | B29: =IF(ISNUMBER(D29),MONTH(D29),B28) -> 11 | C29: =IF(ISNUMBER(D29),INT(MOD(INT((D29-2)/7)+3/5,52+5/28))+1,C28) -> 47 | D29: =D21+7 -> 42698 | F29: 7 | G29: 7 | H29: 7 | I29: 7 | J29: 7 | K29: 7 | L29: 7 | M29: 7 | N29: 8 | O29: 8 | P29: 8 | Q29: 7 | R29: 6.75 | S29: 7
A30: =IF(ISNUMBER(D30),YEAR(D30),A29) -> 2016 | B30: =IF(ISNUMBER(D30),MONTH(D30),B29) -> 11 | C30: =IF(ISNUMBER(D30),INT(MOD(INT((D30-2)/7)+3/5,52+5/28))+1,C29) -> 47 | D30: =D22+7 -> 42699 | G30: 7 | H30: 7 | I30: 6.25 | J30: 7 | L30: 7 | M30: 7 | N30: 7 | O30: 7 | P30: 7 | Q30: 8.75 | R30: 8.5 | S30: 8.5
A31: =IF(ISNUMBER(D31),YEAR(D31),A30) -> 2016 | B31: =IF(ISNUMBER(D31),MONTH(D31),B30) -> 11 | C31: =IF(ISNUMBER(D31),INT(MOD(INT((D31-2)/7)+3/5,52+5/28))+1,C30) -> 47 | D31: TOTAL | E31: =SUM(E26:E30) -> 0 | F31: =SUM(F26:F30) -> 28.28 | G31: =SUM(G26:G30) -> 35 | H31: =SUM(H26:H30) -> 35 | I31: =SUM(I26:I30) -> 34.25 | J31: =SUM(J26:J30) -> 35 | K31: =SUM(K26:K30) -> 28 | L31: =SUM(L26:L30) -> 35 | ... S31: =SUM(S26:S30) -> 36.5
A32: =IF(ISNUMBER(D32),YEAR(D32),A31) -> 2016 | B32: =IF(ISNUMBER(D32),MONTH(D32),B31) -> 11 | C32: =IF(ISNUMBER(D32),INT(MOD(INT((D32-2)/7)+3/5,52+5/28))+1,C31) -> 47 | D32: NORMAL | E32: =MIN(E31,35) -> 0 | F32: =MIN(F31,35) -> 28.28 | G32: =MIN(G31,35) -> 35 | H32: =MIN(H31,35) -> 35 | I32: =MIN(I31,35) -> 34.25 | J32: =MIN(J31,35) -> 35 | K32: =MIN(K31,35) -> 28 | L32: =MIN(L31,35) -> 35 | ... S32: =MIN(S31,35) -> 35
A33: =IF(ISNUMBER(D33),YEAR(D33),A32) -> 2016 | B33: =IF(ISNUMBER(D33),MONTH(D33),B32) -> 11 | C33: =IF(ISNUMBER(D33),INT(MOD(INT((D33-2)/7)+3/5,52+5/28))+1,C32) -> 47 | D33: HEURES SUP | E33: =E31-E32 -> 0 | F33: =F31-F32 -> 0 | G33: =G31-G32 -> 0 | H33: =H31-H32 -> 0 | I33: =I31-I32 -> 0 | J33: =J31-J32 -> 0 | K33: =K31-K32 -> 0 | L33: =L31-L32 -> 0 | ... S33: =S31-S32 -> 1.5
A34: =IF(ISNUMBER(D34),YEAR(D34),A33) -> 2016 | B34: =IF(ISNUMBER(D34),MONTH(D34),B33) -> 11 | C34: =IF(ISNUMBER(D34),INT(MOD(INT((D34-2)/7)+3/5,52+5/28))+1,C33) -> 48 | D34: =D26+7 -> 42702 | F34: 7.5 | H34: 7.5 | I34: 7.5 | J34: 7.5 | L34: 7.5 | M34: 7.5 | N34: 8 | O34: 8 | P34: 8 | Q34: 8 | R34: 8 | S34: 7
A35: =IF(ISNUMBER(D35),YEAR(D35),A34) -> 2016 | B35: =IF(ISNUMBER(D35),MONTH(D35),B34) -> 11 | C35: =IF(ISNUMBER(D35),INT(MOD(INT((D35-2)/7)+3/5,52+5/28))+1,C34) -> 48 | D35: =D27+7 -> 42703 | F35: 7 | H35: 7 | I35: 7 | J35: 7 | L35: 7 | M35: 7 | N35: 8 | O35: 8 | P35: 8 | Q35: 7.25 | R35: 7.25 | S35: 7
A36: =IF(ISNUMBER(D36),YEAR(D36),A35) -> 2016 | B36: =IF(ISNUMBER(D36),MONTH(D36),B35) -> 11 | C36: =IF(ISNUMBER(D36),INT(MOD(INT((D36-2)/7)+3/5,52+5/28))+1,C35) -> 48 | D36: =D28+7 -> 42704 | F36: 7 | G36: 7 | H36: 7 | I36: 7 | J36: 7 | L36: 6.5 | M36: 7 | N36: 8 | O36: 8 | P36: 8 | Q36: 8.75 | R36: 6.75 | S36: 7
A37: =IF(ISNUMBER(D37),YEAR(D37),A36) -> 2016 | B37: =IF(ISNUMBER(D37),MONTH(D37),B36) -> 12 | C37: =IF(ISNUMBER(D37),INT(MOD(INT((D37-2)/7)+3/5,52+5/28))+1,C36) -> 48 | D37: =D29+7 -> 42705 | F37: 7 | G37: 7 | H37: 7 | I37: 7 | J37: 7 | K37: 7 | L37: 6.75 | M37: 7 | N37: 8 | O37: 8 | P37: 8 | Q37: 9.17 | R37: 7.75 | S37: 7.25
A38: =IF(ISNUMBER(D38),YEAR(D38),A37) -> 2016 | B38: =IF(ISNUMBER(D38),MONTH(D38),B37) -> 12 | C38: =IF(ISNUMBER(D38),INT(MOD(INT((D38-2)/7)+3/5,52+5/28))+1,C37) -> 48 | D38: =D30+7 -> 42706 | F38: 7 | G38: 7 | H38: 7 | I38: 6.25 | J38: 7 | K38: 6.5 | L38: 6 | M38: 7 | N38: 7 | O38: 7 | P38: 7 | Q38: 7.25 | R38: 7 | S38: 6.75
A39: =IF(ISNUMBER(D39),YEAR(D39),A38) -> 2016 | B39: =IF(ISNUMBER(D39),MONTH(D39),B38) -> 12 | C39: =IF(ISNUMBER(D39),INT(MOD(INT((D39-2)/7)+3/5,52+5/28))+1,C38) -> 48 | D39: TOTAL | E39: =SUM(E34:E38) -> 0 | F39: =SUM(F34:F38) -> 35.5 | G39: =SUM(G34:G38) -> 21 | H39: =SUM(H34:H38) -> 35.5 | I39: =SUM(I34:I38) -> 34.75 | J39: =SUM(J34:J38) -> 35.5 | K39: =SUM(K34:K38) -> 13.5 | L39: =SUM(L34:L38) -> 33.75 | ... S39: =SUM(S34:S38) -> 35
A40: =IF(ISNUMBER(D40),YEAR(D40),A39) -> 2016 | B40: =IF(ISNUMBER(D40),MONTH(D40),B39) -> 12 | C40: =IF(ISNUMBER(D40),INT(MOD(INT((D40-2)/7)+3/5,52+5/28))+1,C39) -> 48 | D40: NORMAL | E40: =MIN(E39,35) -> 0 | F40: =MIN(F39,35) -> 35 | G40: =MIN(G39,35) -> 21 | H40: =MIN(H39,35) -> 35 | I40: =MIN(I39,35) -> 34.75 | J40: =MIN(J39,35) -> 35 | K40: =MIN(K39,35) -> 13.5 | L40: =MIN(L39,35) -> 33.75 | ... S40: =MIN(S39,35) -> 35
...

Sheet Total heures
A1: ANNEE | B1: MOIS | C1: TOTAL | D1: karim | E1: marc | F1: ursula | G1: carl | H1: sandie | I1: wissem | J1: julien | K1: jérémy | L1: gregory | M1: sébastien | N1: aymeric | O1: jean | P1: laetitia | Q1: virginie | R1: david
A2: 2016 | B2: 11 | C2: NORMAL | D2: =SUMPRODUCT((Heures!$A$2:$A$89=$A2)*(Heures!$B$2:$B$89=$B2)*(ISNUMBER(Heures!$D$2:$D$89))*(Heures!E$2:E$89)) -> 0 | E2: =SUMPRODUCT((Heures!$A$2:$A$89=$A2)*(Heures!$B$2:$B$89=$B2)*(ISNUMBER(Heures!$D$2:$D$89))*(Heures!F$2:F$89)) -> 133.85 | F2: =SUMPRODUCT((Heures!$A$2:$A$89=$A2)*(Heures!$B$2:$B$89=$B2)*(ISNUMBER(Heures!$D$2:$D$89))*(Heures!G$2:G$89)) -> 126.39 | G2: =SUMPRODUCT((Heures!$A$2:$A$89=$A2)*(Heures!$B$2:$B$89=$B2)*(ISNUMBER(Heures!$D$2:$D$89))*(Heures!H$2:H$89)) -> 126.89 | H2: =SUMPRODUCT((Heures!$A$2:$A$89=$A2)*(Heures!$B$2:$B$89=$B2)*(ISNUMBER(Heures!$D$2:$D$89))*(Heures!I$2:I$89)) -> 125.89 | I2: =SUMPRODUCT((Heures!$A$2:$A$89=$A2)*(Heures!$B$2:$B$89=$B2)*(ISNUMBER(Heures!$D$2:$D$89))*(Heures!J$2:J$89)) -> 112.82 | J2: =SUMPRODUCT((Heures!$A$2:$A$89=$A2)*(Heures!$B$2:$B$89=$B2)*(ISNUMBER(Heures!$D$2:$D$89))*(Heures!K$2:K$89)) -> 112.39 | K2: =SUMPRODUCT((Heures!$A$2:$A$89=$A2)*(Heures!$B$2:$B$89=$B2)*(ISNUMBER(Heures!$D$2:$D$89))*(Heures!L$2:L$89)) -> 139.46 | ... R2: =SUMPRODUCT((Heures!$A$2:$A$89=$A2)*(Heures!$B$2:$B$89=$B2)*(ISNUMBER(Heures!$D$2:$D$89))*(Heures!S$2:S$89)) -> 121.5
C3: HEURES SUP | D3: =SUMPRODUCT((Heures!$A$2:$A$89=$A2)*(Heures!$B$2:$B$89=$B2)*(Heures!$D$2:$D$89="HEURES SUP")*(Heures!E$2:E$89)) -> 0 | E3: =SUMPRODUCT((Heures!$A$2:$A$89=$A2)*(Heures!$B$2:$B$89=$B2)*(Heures!$D$2:$D$89="HEURES SUP")*(Heures!F$2:F$89)) -> 0 | F3: =SUMPRODUCT((Heures!$A$2:$A$89=$A2)*(Heures!$B$2:$B$89=$B2)*(Heures!$D$2:$D$89="HEURES SUP")*(Heures!G$2:G$89)) -> 0 | G3: =SUMPRODUCT((Heures!$A$2:$A$89=$A2)*(Heures!$B$2:$B$89=$B2)*(Heures!$D$2:$D$89="HEURES SUP")*(Heures!H$2:H$89)) -> 0 | H3: =SUMPRODUCT((Heures!$A$2:$A$89=$A2)*(Heures!$B$2:$B$89=$B2)*(Heures!$D$2:$D$89="HEURES SUP")*(Heures!I$2:I$89)) -> 0 | I3: =SUMPRODUCT((Heures!$A$2:$A$89=$A2)*(Heures!$B$2:$B$89=$B2)*(Heures!$D$2:$D$89="HEURES SUP")*(Heures!J$2:J$89)) -> 0 | J3: =SUMPRODUCT((Heures!$A$2:$A$89=$A2)*(Heures!$B$2:$B$89=$B2)*(Heures!$D$2:$D$89="HEURES SUP")*(Heures!K$2:K$89)) -> 0 | K3: =SUMPRODUCT((Heures!$A$2:$A$89=$A2)*(Heures!$B$2:$B$89=$B2)*(Heures!$D$2:$D$89="HEURES SUP")*(Heures!L$2:L$89)) -> 0 | ... R3: =SUMPRODUCT((Heures!$A$2:$A$89=$A2)*(Heures!$B$2:$B$89=$B2)*(Heures!$D$2:$D$89="HEURES SUP")*(Heures!S$2:S$89)) -> 1.5
A4: 2016 | B4: 12 | C4: NORMAL | D4: =SUMPRODUCT((Heures!$A$2:$A$89=$A4)*(Heures!$B$2:$B$89=$B4)*(ISNUMBER(Heures!$D$2:$D$89))*(Heures!E$2:E$89)) -> 0 | E4: =SUMPRODUCT((Heures!$A$2:$A$89=$A4)*(Heures!$B$2:$B$89=$B4)*(ISNUMBER(Heures!$D$2:$D$89))*(Heures!F$2:F$89)) -> 42.25 | F4: =SUMPRODUCT((Heures!$A$2:$A$89=$A4)*(Heures!$B$2:$B$89=$B4)*(ISNUMBER(Heures!$D$2:$D$89))*(Heures!G$2:G$89)) -> 39 | G4: =SUMPRODUCT((Heures!$A$2:$A$89=$A4)*(Heures!$B$2:$B$89=$B4)*(ISNUMBER(Heures!$D$2:$D$89))*(Heures!H$2:H$89)) -> 35 | H4: =SUMPRODUCT((Heures!$A$2:$A$89=$A4)*(Heures!$B$2:$B$89=$B4)*(ISNUMBER(Heures!$D$2:$D$89))*(Heures!I$2:I$89)) -> 34.25 | I4: =SUMPRODUCT((Heures!$A$2:$A$89=$A4)*(Heures!$B$2:$B$89=$B4)*(ISNUMBER(Heures!$D$2:$D$89))*(Heures!J$2:J$89)) -> 42 | J4: =SUMPRODUCT((Heures!$A$2:$A$89=$A4)*(Heures!$B$2:$B$89=$B4)*(ISNUMBER(Heures!$D$2:$D$89))*(Heures!K$2:K$89)) -> 41.5 | K4: =SUMPRODUCT((Heures!$A$2:$A$89=$A4)*(Heures!$B$2:$B$89=$B4)*(ISNUMBER(Heures!$D$2:$D$89))*(Heures!L$2:L$89)) -> 26.75 | ... R4: =SUMPRODUCT((Heures!$A$2:$A$89=$A4)*(Heures!$B$2:$B$89=$B4)*(ISNUMBER(Heures!$D$2:$D$89))*(Heures!S$2:S$89)) -> 49
C5: HEURES SUP | D5: =SUMPRODUCT((Heures!$A$2:$A$89=$A4)*(Heures!$B$2:$B$89=$B4)*(Heures!$D$2:$D$89="HEURES SUP")*(Heures!E$2:E$89)) -> 0 | E5: =SUMPRODUCT((Heures!$A$2:$A$89=$A4)*(Heures!$B$2:$B$89=$B4)*(Heures!$D$2:$D$89="HEURES SUP")*(Heures!F$2:F$89)) -> 0.5 | F5: =SUMPRODUCT((Heures!$A$2:$A$89=$A4)*(Heures!$B$2:$B$89=$B4)*(Heures!$D$2:$D$89="HEURES SUP")*(Heures!G$2:G$89)) -> 0 | G5: =SUMPRODUCT((Heures!$A$2:$A$89=$A4)*(Heures!$B$2:$B$89=$B4)*(Heures!$D$2:$D$89="HEURES SUP")*(Heures!H$2:H$89)) -> 0.5 | H5: =SUMPRODUCT((Heures!$A$2:$A$89=$A4)*(Heures!$B$2:$B$89=$B4)*(Heures!$D$2:$D$89="HEURES SUP")*(Heures!I$2:I$89)) -> 0 | I5: =SUMPRODUCT((Heures!$A$2:$A$89=$A4)*(Heures!$B$2:$B$89=$B4)*(Heures!$D$2:$D$89="HEURES SUP")*(Heures!J$2:J$89)) -> 0.5 | J5: =SUMPRODUCT((Heures!$A$2:$A$89=$A4)*(Heures!$B$2:$B$89=$B4)*(Heures!$D$2:$D$89="HEURES SUP")*(Heures!K$2:K$89)) -> 0 | K5: =SUMPRODUCT((Heures!$A$2:$A$89=$A4)*(Heures!$B$2:$B$89=$B4)*(Heures!$D$2:$D$89="HEURES SUP")*(Heures!L$2:L$89)) -> 0 | ... R5: =SUMPRODUCT((Heures!$A$2:$A$89=$A4)*(Heures!$B$2:$B$89=$B4)*(Heures!$D$2:$D$89="HEURES SUP")*(Heures!S$2:S$89)) -> 0

Sheet JF
A1: JF | B1: 2016 | C1: =B1+1 -> 2017 | D1: =C1+1 -> 2018 | E1: =D1+1 -> 2019 | F1: =E1+1 -> 2020 | G1: =F1+1 -> 2021 | H1: =G1+1 -> 2022 | I1: =H1+1 -> 2023 | J1: =I1+1 -> 2024 | K1: =J1+1 -> 2025
A2: Pâques | B2: =ROUND(DATE(B1,4,MOD(234-11*MOD(B1,19),30))/7,0)*7-6 -> 42456 | C2: =ROUND(DATE(C1,4,MOD(234-11*MOD(C1,19),30))/7,0)*7-6 -> 42841 | D2: =ROUND(DATE(D1,4,MOD(234-11*MOD(D1,19),30))/7,0)*7-6 -> 43191 | E2: =ROUND(DATE(E1,4,MOD(234-11*MOD(E1,19),30))/7,0)*7-6 -> 43576 | F2: =ROUND(DATE(F1,4,MOD(234-11*MOD(F1,19),30))/7,0)*7-6 -> 43933 | G2: =ROUND(DATE(G1,4,MOD(234-11*MOD(G1,19),30))/7,0)*7-6 -> 44290 | H2: =ROUND(DATE(H1,4,MOD(234-11*MOD(H1,19),30))/7,0)*7-6 -> 44668 | I2: =ROUND(DATE(I1,4,MOD(234-11*MOD(I1,19),30))/7,0)*7-6 -> 45025 | ... K2: =ROUND(DATE(K1,4,MOD(234-11*MOD(K1,19),30))/7,0)*7-6 -> 45767
A3: Lundi de Pâques | B3: =B2+1 -> 42457 | C3: =C2+1 -> 42842 | D3: =D2+1 -> 43192 | E3: =E2+1 -> 43577 | F3: =F2+1 -> 43934 | G3: =G2+1 -> 44291 | H3: =H2+1 -> 44669 | I3: =I2+1 -> 45026 | ... K3: =K2+1 -> 45768
A4: Ascension | B4: =B2+39 -> 42495 | C4: =C2+39 -> 42880 | D4: =D2+39 -> 43230 | E4: =E2+39 -> 43615 | F4: =F2+39 -> 43972 | G4: =G2+39 -> 44329 | H4: =H2+39 -> 44707 | I4: =I2+39 -> 45064 | ... K4: =K2+39 -> 45806
A5: Pentecôte | B5: =B2+50 -> 42506 | C5: =C2+50 -> 42891 | D5: =D2+50 -> 43241 | E5: =E2+50 -> 43626 | F5: =F2+50 -> 43983 | G5: =G2+50 -> 44340 | H5: =H2+50 -> 44718 | I5: =I2+50 -> 45075 | ... K5: =K2+50 -> 45817
A6: Premier de l'AN | B6: =DATE(B1,1,1) -> 42370 | C6: =DATE(C1,1,1) -> 42736 | D6: =DATE(D1,1,1) -> 43101 | E6: =DATE(E1,1,1) -> 43466 | F6: =DATE(F1,1,1) -> 43831 | G6: =DATE(G1,1,1) -> 44197 | H6: =DATE(H1,1,1) -> 44562 | I6: =DATE(I1,1,1) -> 44927 | ... K6: =DATE(K1,1,1) -> 45658
A7: Fête du travail | B7: =DATE(B1,5,1) -> 42491 | C7: =DATE(C1,5,1) -> 42856 | D7: =DATE(D1,5,1) -> 43221 | E7: =DATE(E1,5,1) -> 43586 | F7: =DATE(F1,5,1) -> 43952 | G7: =DATE(G1,5,1) -> 44317 | H7: =DATE(H1,5,1) -> 44682 | I7: =DATE(I1,5,1) -> 45047 | ... K7: =DATE(K1,5,1) -> 45778
A8: Victoire de 1945 | B8: =DATE(B1,5,8) -> 42498 | C8: =DATE(C1,5,8) -> 42863 | D8: =DATE(D1,5,8) -> 43228 | E8: =DATE(E1,5,8) -> 43593 | F8: =DATE(F1,5,8) -> 43959 | G8: =DATE(G1,5,8) -> 44324 | H8: =DATE(H1,5,8) -> 44689 | I8: =DATE(I1,5,8) -> 45054 | ... K8: =DATE(K1,5,8) -> 45785
A9: Fête nationale | B9: =DATE(B1,7,14) -> 42565 | C9: =DATE(C1,7,14) -> 42930 | D9: =DATE(D1,7,14) -> 43295 | E9: =DATE(E1,7,14) -> 43660 | F9: =DATE(F1,7,14) -> 44026 | G9: =DATE(G1,7,14) -> 44391 | H9: =DATE(H1,7,14) -> 44756 | I9: =DATE(I1,7,14) -> 45121 | ... K9: =DATE(K1,7,14) -> 45852
A10: Assomption | B10: =DATE(B1,8,15) -> 42597 | C10: =DATE(C1,8,15) -> 42962 | D10: =DATE(D1,8,15) -> 43327 | E10: =DATE(E1,8,15) -> 43692 | F10: =DATE(F1,8,15) -> 44058 | G10: =DATE(G1,8,15) -> 44423 | H10: =DATE(H1,8,15) -> 44788 | I10: =DATE(I1,8,15) -> 45153 | ... K10: =DATE(K1,8,15) -> 45884
A11: Toussaint | B11: =DATE(B1,11,1) -> 42675 | C11: =DATE(C1,11,1) -> 43040 | D11: =DATE(D1,11,1) -> 43405 | E11: =DATE(E1,11,1) -> 43770 | F11: =DATE(F1,11,1) -> 44136 | G11: =DATE(G1,11,1) -> 44501 | H11: =DATE(H1,11,1) -> 44866 | I11: =DATE(I1,11,1) -> 45231 | ... K11: =DATE(K1,11,1) -> 45962
A12: Armistice | B12: =DATE(B1,11,11) -> 42685 | C12: =DATE(C1,11,11) -> 43050 | D12: =DATE(D1,11,11) -> 43415 | E12: =DATE(E1,11,11) -> 43780 | F12: =DATE(F1,11,11) -> 44146 | G12: =DATE(G1,11,11) -> 44511 | H12: =DATE(H1,11,11) -> 44876 | I12: =DATE(I1,11,11) -> 45241 | ... K12: =DATE(K1,11,11) -> 45972
A13: Noël | B13: =DATE(B1,12,25) -> 42729 | C13: =DATE(C1,12,25) -> 43094 | D13: =DATE(D1,12,25) -> 43459 | E13: =DATE(E1,12,25) -> 43824 | F13: =DATE(F1,12,25) -> 44190 | G13: =DATE(G1,12,25) -> 44555 | H13: =DATE(H1,12,25) -> 44920 | I13: =DATE(I1,12,25) -> 45285 | ... K13: =DATE(K1,12,25) -> 46016
A15: jours confondus
A16: jours consécutifs
A17: jours séparés d'un seul jour
A18: week end
