Workbook
Name aa: Scheduled_Payment+Extra_Payment
Name Agence: OFFSET([1]Saisie!$B$3,,,COUNTA([1]Saisie!$B$1:$B$65536)-1)
Name An: #REF!
Name Base: [2]Répertoire!$A$2:$M$1000
Name Beg_Bal: #REF!
Name ColonneInterimaire: [1]Saisie!$C$1:$C$65536
Name Data: #REF!
Name Date: OFFSET([1]Saisie!$E$3,,,COUNTA([1]Saisie!$B$1:$B$65536)-1)
Name dd: DATE(YEAR([0]!Loan_Start),MONTH([0]!Loan_Start)+Payment_Number,DAY([0]!Loan_Start))
Name DECEMBRE: #REF!
Name DECEMBRE2: #REF!
Name End_Bal: #REF!
Name Extra_Pay: #REF!
Name Full_Print: #REF!
Name Header_Row: ROW(#REF!)
Name hgjgj: #REF!
Name HHGT: #REF!
Name Int: #REF!
Name Interest_Rate: #REF!
Name Interimaire: OFFSET([1]Saisie!$C$3,,,COUNTA([1]Saisie!$B$1:$B$65536)-1)
Name JF: JF!$B$2:$K$13
Name jguh: OFFSET(#REF!,,,COUNTIF(#REF!,"><0"),20)
Name Last_Row: IF(Values_Entered,Header_Row+Number_of_Payments,Header_Row)
Name ListePostes: [1]Donnees!$H$2:$H$5
Name LK: IF(Values_Entered,Header_Row+Number_of_Payments,Header_Row)
Name Loan_Amount: #REF!
Name Loan_Start: #REF!
Name Loan_Years: #REF!
Name N: #REF!
Name Num_Pmt_Per_Year: #REF!
Name Number_of_Payments: MATCH(0.01,End_Bal,-1)+1
Name Pause: OFFSET([1]Saisie!$K$3,,,COUNTA([1]Saisie!$B$1:$B$65536)-1)
Name Pay_Date: #REF!
Name Pay_Num: #REF!
Name Payment_Date: DATE(YEAR(Loan_Start),MONTH(Loan_Start)+Payment_Number,DAY(Loan_Start))
Name Plage_TCD: OFFSET(#REF!,,,COUNTIF(#REF!,"><0"),20)
Name Poste: OFFSET([1]Saisie!$D$3,,,COUNTA([1]Saisie!$B$1:$B$65536)-1)
Name Princ: #REF!
Name Print_Area_Reset: OFFSET(Full_Print,0,0,Last_Row)
Name Pseudo: '[3]base de données'!$E$2:$E$50
Name rr: DATE(YEAR([0]!Loan_Start),MONTH([0]!Loan_Start)+Payment_Number,DAY([0]!Loan_Start))
Name Sched_Pay: #REF!
Name Scheduled_Extra_Payments: #REF!
Name Scheduled_Interest_Rate: #REF!
Name Scheduled_Monthly_Payment: #REF!
Name Semaine: OFFSET([1]Saisie!$G$3,,,COUNTA([1]Saisie!$B$1:$B$65536)-1)
Name septembre: DATE(YEAR([0]!Loan_Start),MONTH([0]!Loan_Start)+Payment_Number,DAY([0]!Loan_Start))
Name ss: MATCH(0.01,[0]!End_Bal,-1)+1
Name TempsEffectif: OFFSET([1]Saisie!$L$3,,,COUNTA([1]Saisie!$B$1:$B$65536)-1)
Name Total_Interest: #REF!
Name Total_Pay: #REF!
Name Total_Payment: Scheduled_Payment+Extra_Payment
Name Values_Entered: IF(Loan_Amount*Interest_Rate*Loan_Years*Loan_Start>0,1,0)

Sheet Heures
A1: ANNEE | B1: MOIS | C1: SEMAINE | D1: JOUR | E1: karim | F1: marc | G1: ursula | H1: carl | I1: sandie | J1: wissem | K1: julien | L1: jérémy | M1: gregory | N1: sébastien | O1: aymeric | P1: jean | Q1: laetitia | R1: virginie | S1: david
A2: =IF(ISNUMBER(D2),YEAR(D2),A1) -> 2016 | B2: =IF(ISNUMBER(D2),MONTH(D2),B1) -> 10 | C2: =IF(ISNUMBER(D2),INT(MOD(INT((D2-2)/7)+3/5,52+5/28))+1,C1) -> 44 | D2: 42674 | F2: 7 | G2: 7 | H2: 7 | I2: 7 | J2: 6.18 | K2: 7 | L2: 5.5 | N2: 8 | O2: 8 | P2: 8 | R2: 7
A3: =IF(ISNUMBER(D3),YEAR(D3),A2) -> 2016 | B3: =IF(ISNUMBER(D3),MONTH(D3),B2) -> 11 | C3: =IF(ISNUMBER(D3),INT(MOD(INT((D3-2)/7)+3/5,52+5/28))+1,C2) -> 44 | D3: 42675
A4: =IF(ISNUMBER(D4),YEAR(D4),A3) -> 2016 | B4: =IF(ISNUMBER(D4),MONTH(D4),B3) -> 11 | C4: =IF(ISNUMBER(D4),INT(MOD(INT((D4-2)/7)+3/5,52+5/28))+1,C3) -> 44 | D4: 42676 | F4: 7 | G4: 7 | H4: 7 | J4: 7 | K4: 7 | L4: 7 | N4: 8 | P4: 8 | Q4: 9.25 | R4: 6.25
A5: =IF(ISNUMBER(D5),YEAR(D5),A4) -> 2016 | B5: =IF(ISNUMBER(D5),MONTH(D5),B4) -> 11 | C5: =IF(ISNUMBER(D5),INT(MOD(INT((D5-2)/7)+3/5,52+5/28))+1,C4) -> 44 | D5: 42677 | F5: 7.25 | G5: 7.25 | H5: 7.25 | J5: 7.25 | K5: 7.25 | L5: 6.32 | N5: 8 | O5: 8 | P5: 8 | Q5: 7.5 | R5: 7
A6: =IF(ISNUMBER(D6),YEAR(D6),A5) -> 2016 | B6: =IF(ISNUMBER(D6),MONTH(D6),B5) -> 11 | C6: =IF(ISNUMBER(D6),INT(MOD(INT((D6-2)/7)+3/5,52+5/28))+1,C5) -> 44 | D6: 42678 | F6: 7.07 | G6: 7.07 | H6: 7.07 | I6: 7.07 | J6: 7.07 | K6: 7.07 | L6: 7.07 | N6: 7 | O6: 7 | P6: 7 | Q6: 7.5 | R6: 7
A7: =IF(ISNUMBER(D7),YEAR(D7),A6) -> 2016 | B7: =IF(ISNUMBER(D7),MONTH(D7),B6) -> 11 | C7: =IF(ISNUMBER(D7),INT(MOD(INT((D7-2)/7)+3/5,52+5/28))+1,C6) -> 44 | D7: TOTAL | E7: =SUM(E2:E6) -> 0 | F7: =SUM(F2:F6) -> 28.32 | G7: =SUM(G2:G6) -> 28.32 | H7: =SUM(H2:H6) -> 28.32 | I7: =SUM(I2:I6) -> 14.07 | J7: =SUM(J2:J6) -> 27.5 | K7: =SUM(K2:K6) -> 28.32 | L7: =SUM(L2:L6) -> 25.89 | ... S7: =SUM(S2:S6) -> 0
A8: =IF(ISNUMBER(D8),YEAR(D8),A7) -> 2016 | B8: =IF(ISNUMBER(D8),MONTH(D8),B7) -> 11 | C8: =IF(ISNUMBER(D8),INT(MOD(INT((D8-2)/7)+3/5,52+5/28))+1,C7) -> 44 | D8: NORMAL | E8: =MIN(E7,35) -> 0 | F8: =MIN(F7,35) -> 28.32 | G8: =MIN(G7,35) -> 28.32 | H8: =MIN(H7,35) -> 28.32 | I8: =MIN(I7,35) -> 14.07 | J8: =MIN(J7,35) -> 27.5 | K8: =MIN(K7,35) -> 28.32 | L8: =MIN(L7,35) -> 25.89 | ... S8: =MIN(S7,35) -> 0
A9: =IF(ISNUMBER(D9),YEAR(D9),A8) -> 2016 | B9: =IF(ISNUMBER(D9),MONTH(D9),B8) -> 11 | C9: =IF(ISNUMBER(D9),INT(MOD(INT((D9-2)/7)+3/5,52+5/28))+1,C8) -> 44 | D9: HEURES SUP | E9: =E7-E8 -> 0 | F9: =F7-F8 -> 0 | G9: =G7-G8 -> 0 | H9: =H7-H8 -> 0 | I9: =I7-I8 -> 0 | J9: =J7-J8 -> 0 | K9: =K7-K8 -> 0 | L9: =L7-L8 -> 0 | ... S9: =S7-S8 -> 0
A10: =IF(ISNUMBER(D10),YEAR(D10),A9) -> 2016 | B10: =IF(ISNUMBER(D10),MONTH(D10),B9) -> 11 | C10: =IF(ISNUMBER(D10),INT(MOD(INT((D10-2)/7)+3/5,52+5/28))+1,C9) -> 45 | D10: =D2+7 -> 42681 | F10: 7 | G10: 7.25 | H10: 7.25 | I10: 7.25 | K10: 7.25 | L10: 7.25 | N10: 8 | O10: 8 | P10: 8 | Q10: 7 | R10: 8.5 | S10: 8
A11: =IF(ISNUMBER(D11),YEAR(D11),A10) -> 2016 | B11: =IF(ISNUMBER(D11),MONTH(D11),B10) -> 11 | C11: =IF(ISNUMBER(D11),INT(MOD(INT((D11-2)/7)+3/5,52+5/28))+1,C10) -> 45 | D11: =D3+7 -> 42682 | F11: 7 | G11: 7.07 | H11: 7.07 | I11: 7.07 | K11: 7.07 | L11: 7.07 | N11: 8 | O11: 8 | P11: 8 | Q11: 7 | S11: 7
A12: =IF(ISNUMBER(D12),YEAR(D12),A11) -> 2016 | B12: =IF(ISNUMBER(D12),MONTH(D12),B11) -> 11 | C12: =IF(ISNUMBER(D12),INT(MOD(INT((D12-2)/7)+3/5,52+5/28))+1,C11) -> 45 | D12: =D4+7 -> 42683 | F12: 7 | G12: 7 | H12: 7 | I12: 7 | K12: 7 | L12: 7 | N12: 8 | O12: 8 | P12: 8 | Q12: 7.25 | S12: 7
A13: =IF(ISNUMBER(D13),YEAR(D13),A12) -> 2016 | B13: =IF(ISNUMBER(D13),MONTH(D13),B12) -> 11 | C13: =IF(ISNUMBER(D13),INT(MOD(INT((D13-2)/7)+3/5,52+5/28))+1,C12) -> 45 | D13: =D5+7 -> 42684 | F13: 6.75 | G13: 6.75 | H13: 6.75 | I13: 6.75 | J13: 6.75 | K13: 6.75 | L13: 6.75 | N13: 7 | O13: 7 | P13: 7 | S13: 7
A14: =IF(ISNUMBER(D14),YEAR(D14),A13) -> 2016 | B14: =IF(ISNUMBER(D14),MONTH(D14),B13) -> 11 | C14: =IF(ISNUMBER(D14),INT(MOD(INT((D14-2)/7)+3/5,52+5/28))+1,C13) -> 45 | D14: =D6+7 -> 42685
A15: =IF(ISNUMBER(D15),YEAR(D15),A14) -> 2016 | B15: =IF(ISNUMBER(D15),MONTH(D15),B14) -> 11 | C15: =IF(ISNUMBER(D15),INT(MOD(INT((D15-2)/7)+3/5,52+5/28))+1,C14) -> 45 | D15: TOTAL | E15: =SUM(E10:E14) -> 0 | F15: =SUM(F10:F14) -> 27.75 | G15: =SUM(G10:G14) -> 28.07 | H15: =SUM(H10:H14) -> 28.07 | I15: =SUM(I10:I14) -> 28.07 | J15: =SUM(J10:J14) -> 6.75 | K15: =SUM(K10:K14) -> 28.07 | L15: =SUM(L10:L14) -> 28.07 | ... S15: =SUM(S10:S14) -> 29
A16: =IF(ISNUMBER(D16),YEAR(D16),A15) -> 2016 | B16: =IF(ISNUMBER(D16),MONTH(D16),B15) -> 11 | C16: =IF(ISNUMBER(D16),INT(MOD(INT((D16-2)/7)+3/5,52+5/28))+1,C15) -> 45 | D16: NORMAL | E16: =MIN(E15,35) -> 0 | F16: =MIN(F15,35) -> 27.75 | G16: =MIN(G15,35) -> 28.07 | H16: =MIN(H15,35) -> 28.07 | I16: =MIN(I15,35) -> 28.07 | J16: =MIN(J15,35) -> 6.75 | K16: =MIN(K15,35) -> 28.07 | L16: =MIN(L15,35) -> 28.07 | ... S16: =MIN(S15,35) -> 29
A17: =IF(ISNUMBER(D17),YEAR(D17),A16) -> 2016 | B17: =IF(ISNUMBER(D17),MONTH(D17),B16) -> 11 | C17: =IF(ISNUMBER(D17),INT(MOD(INT((D17-2)/7)+3/5,52+5/28))+1,C16) -> 45 | D17: HEURES SUP | E17: =E15-E16 -> 0 | F17: =F15-F16 -> 0 | G17: =G15-G16 -> 0 | H17: =H15-H16 -> 0 | I17: =I15-I16 -> 0 | J17: =J15-J16 -> 0 | K17: =K15-K16 -> 0 | L17: =L15-L16 -> 0 | ... S17: =S15-S16 -> 0
A18: =IF(ISNUMBER(D18),YEAR(D18),A17) -> 2016 | B18: =IF(ISNUMBER(D18),MONTH(D18),B17) -> 11 | C18: =IF(ISNUMBER(D18),INT(MOD(INT((D18-2)/7)+3/5,52+5/28))+1,C17) -> 46 | D18: =D10+7 -> 42688 | F18: 7 | G18: 7 | I18: 7 | J18: 7 | K18: 7 | L18: 7 | N18: 8 | O18: 8 | P18: 8 | Q18: 7 | R18: 7 | S18: 7
A19: =IF(ISNUMBER(D19),YEAR(D19),A18) -> 2016 | B19: =IF(ISNUMBER(D19),MONTH(D19),B18) -> 11 | C19: =IF(ISNUMBER(D19),INT(MOD(INT((D19-2)/7)+3/5,52+5/28))+1,C18) -> 46 | D19: =D11+7 -> 42689 | F19: 7 | G19: 7 | I19: 7 | J19: 7 | K19: 7 | L19: 7 | M19: 7 | N19: 8 | O19: 8 | P19: 8 | Q19: 7.5 | R19: 7 | S19: 7
A20: =IF(ISNUMBER(D20),YEAR(D20),A19) -> 2016 | B20: =IF(ISNUMBER(D20),MONTH(D20),B19) -> 11 | C20: =IF(ISNUMBER(D20),INT(MOD(INT((D20-2)/7)+3/5,52+5/28))+1,C19) -> 46 | D20: =D12+7 -> 42690 | F20: 7 | G20: 7 | H20: 7 | I20: 7 | K20: 7 | L20: 7 | M20: 7 | N20: 8 | O20: 8 | P20: 8 | Q20: 7.5 | R20: 7 | S20: 7
A21: =IF(ISNUMBER(D21),YEAR(D21),A20) -> 2016 | B21: =IF(ISNUMBER(D21),MONTH(D21),B20) -> 11 | C21: =IF(ISNUMBER(D21),INT(MOD(INT((D21-2)/7)+3/5,52+5/28))+1,C20) -> 46 | D21: =D13+7 -> 42691 | F21: 7 | G21: 7 | H21: 7 | I21: 7 | J21: 7.25 | K21: 7 | L21: 7 | M21: 7 | N21: 8 | O21: 8 | P21: 8 | Q21: 9.5 | R21: 8.5 | S21: 8
A22: =IF(ISNUMBER(D22),YEAR(D22),A21) -> 2016 | B22: =IF(ISNUMBER(D22),MONTH(D22),B21) -> 11 | C22: =IF(ISNUMBER(D22),INT(MOD(INT((D22-2)/7)+3/5,52+5/28))+1,C21) -> 46 | D22: =D14+7 -> 42692 | F22: 7 | G22: 7 | H22: 7 | I22: 7 | J22: 7 | K22: 7 | L22: 7 | M22: 7 | N22: 7 | O22: 7 | P22: 7 | Q22: 8.75 | R22: 6 | S22: 6
A23: =IF(ISNUMBER(D23),YEAR(D23),A22) -> 2016 | B23: =IF(ISNUMBER(D23),MONTH(D23),B22) -> 11 | C23: =IF(ISNUMBER(D23),INT(MOD(INT((D23-2)/7)+3/5,52+5/28))+1,C22) -> 46 | D23: TOTAL | E23: =SUM(E18:E22) -> 0 | F23: =SUM(F18:F22) -> 35 | G23: =SUM(G18:G22) -> 35 | H23: =SUM(H18:H22) -> 21 | I23: =SUM(I18:I22) -> 35 | J23: =SUM(J18:J22) -> 28.25 | K23: =SUM(K18:K22) -> 35 | L23: =SUM(L18:L22) -> 35 | ... S23: =SUM(S18:S22) -> 35
A24: =IF(ISNUMBER(D24),YEAR(D24),A23) -> 2016 | B24: =IF(ISNUMBER(D24),MONTH(D24),B23) -> 11 | C24: =IF(ISNUMBER(D24),INT(MOD(INT((D24-2)/7)+3/5,52+5/28))+1,C23) -> 46 | D24: NORMAL | E24: =MIN(E23,35) -> 0 | F24: =MIN(F23,35) -> 35 | G24: =MIN(G23,35) -> 35 | H24: =MIN(H23,35) -> 21 | I24: =MIN(I23,35) -> 35 | J24: =MIN(J23,35) -> 28.25 | K24: =MIN(K23,35) -> 35 | L24: =MIN(L23,35) -> 35 | ... S24: =MIN(S23,35) -> 35
A25: =IF(ISNUMBER(D25),YEAR(D25),A24) -> 2016 | B25: =IF(ISNUMBER(D25),MONTH(D25),B24) -> 11 | C25: =IF(ISNUMBER(D25),INT(MOD(INT((D25-2)/7)+3/5,52+5/28))+1,C24) -> 46 | D25: HEURES SUP | E25: =E23-E24 -> 0 | F25: =F23-F24 -> 0 | G25: =G23-G24 -> 0 | H25: =H23-H24 -> 0 | I25: =I23-I24 -> 0 | J25: =J23-J24 -> 0 | K25: =K23-K24 -> 0 | L25: =L23-L24 -> 0 | ... S25: =S23-S24 -> 0
A26: =IF(ISNUMBER(D26),YEAR(D26),A25) -> 2016 | B26: =IF(ISNUMBER(D26),MONTH(D26),B25) -> 11 | C26: =IF(ISNUMBER(D26),INT(MOD(INT((D26-2)/7)+3/5,52+5/28))+1,C25) -> 47 | D26: =D18+7 -> 42695 | F26: 7.28 | G26: 7 | H26: 7 | I26: 7 | J26: 7 | K26: 7 | L26: 7 | M26: 7 | N26: 8 | O26: 8 | P26: 8 | Q26: 7.25 | R26: 8 | S26: 7
A27: =IF(ISNUMBER(D27),YEAR(D27),A26) -> 2016 | B27: =IF(ISNUMBER(D27),MONTH(D27),B26) -> 11 | C27: =IF(ISNUMBER(D27),INT(MOD(INT((D27-2)/7)+3/5,52+5/28))+1,C26) -> 47 | D27: =D19+7 -> 42696 | F27: 7 | G27: 7 | H27: 7 | I27: 7 | J27: 7 | K27: 7 | L27: 7 | M27: 7 | N27: 8 | O27: 8 | P27: 8 | Q27: 8.25 | R27: 7.14 | S27: 7
A28: =IF(ISNUMBER(D28),YEAR(D28),A27) -> 2016 | B28: =IF(ISNUMBER(D28),MONTH(D28),B27) -> 11 | C28: =IF(ISNUMBER(D28),INT(MOD(INT((D28-2)/7)+3/5,52+5/28))+1,C27) -> 47 | D28: =D20+7 -> 42697 | F28: 7 | G28: 7 | H28: 7 | I28: 7 | J28: 7 | K28: 7 | L28: 7 | M28: 7 | N28: 8 | O28: 8 | P28: 8 | Q28: 8 | R28: 8 | S28: 7
A29: =IF(ISNUMBER(D29),YEAR(D29),A28) -> 2016 | B29: =IF(ISNUMBER(D29),MONTH(D29),B28) -> 11 | C29: =IF(ISNUMBER(D29),INT(MOD(INT((D29-2)/7)+3/5,52+5/28))+1,C28) -> 47 | D29: =D21+7 -> 42698 | F29: 7 | G29: 7 | H29: 7 | I29: 7 | J29: 7 | K29: 7 | L29: 7 | M29: 7 | N29: 8 | O29: 8 | P29: 8 | Q29: 7 | R29: 6.75 | S29: 7
A30: =IF(ISNUMBER(D30),YEAR(D30),A29) -> 2016 | B30: =IF(ISNUMBER(D30),MONTH(D30),B29) -> 11 | C30: =IF(ISNUMBER(D30),INT(MOD(INT((D30-2)/7)+3/5,52+5/28))+1,C29) -> 47 | D30: =D22+7 -> 42699 | G30: 7 | H30: 7 | I30: 6.25 | J30: 7 | L30: 7 | M30: 7 | N30: 7 | O30: 7 | P30: 7 | Q30: 8.75 | R30: 8.5 | S30: 8.5
A31: =IF(ISNUMBER(D31),YEAR(D31),A30) -> 2016 | B31: =IF(ISNUMBER(D31),MONTH(D31),B30) -> 11 | C31: =IF(ISNUMBER(D31),INT(MOD(INT((D31-2)/7)+3/5,52+5/28))+1,C30) -> 47 | D31: TOTAL | E31: =SUM(E26:E30) -> 0 | F31: =SUM(F26:F30) -> 28.28 | G31: =SUM(G26:G30) -> 35 | H31: =SUM(H26:H30) -> 35 | I31: =SUM(I26:I30) -> 34.25 | J31: =SUM(J26:J30) -> 35 | K31: =SUM(K26:K30) -> 28 | L31: =SUM(L26:L30) -> 35 | ... S31: =SUM(S26:S30) -> 36.5
A32: =IF(ISNUMBER(D32),YEAR(D32),A31) -> 2016 | B32: =IF(ISNUMBER(D32),MONTH(D32),B31) -> 11 | C32: =IF(ISNUMBER(D32),INT(MOD(INT((D32-2)/7)+3/5,52+5/28))+1,C31) -> 47 | D32: NORMAL | E32: =MIN(E31,35) -> 0 | F32: =MIN(F31,35) -> 28.28 | G32: =MIN(G31,35) -> 35 | H32: =MIN(H31,35) -> 35 | I32: =MIN(I31,35) -> 34.25 | J32: =MIN(J31,35) -> 35 | K32: =MIN(K31,35) -> 28 | L32: =MIN(L31,35) -> 35 | ... S32: =MIN(S31,35) -> 35
A33: =IF(ISNUMBER(D33),YEAR(D33),A32) -> 2016 | B33: =IF(ISNUMBER(D33),MONTH(D33),B32) -> 11 | C33: =IF(ISNUMBER(D33),INT(MOD(INT((D33-2)/7)+3/5,52+5/28))+1,C32) -> 47 | D33: HEURES SUP | E33: =E31-E32 -> 0 | F33: =F31-F32 -> 0 | G33: =G31-G32 -> 0 | H33: =H31-H32 -> 0 | I33: =I31-I32 -> 0 | J33: =J31-J32 -> 0 | K33: =K31-K32 -> 0 | L33: =L31-L32 -> 0 | ... S33: =S31-S32 -> 1.5
A34: =IF(ISNUMBER(D34),YEAR(D34),A33) -> 2016 | B34: =IF(ISNUMBER(D34),MONTH(D34),B33) -> 11 | C34: =IF(ISNUMBER(D34),INT(MOD(INT((D34-2)/7)+3/5,52+5/28))+1,C33) -> 48 | D34: =D26+7 -> 42702 | F34: 7.5 | H34: 7.5 | I34: 7.5 | J34: 7.5 | L34: 7.5 | M34: 7.5 | N34: 8 | O34: 8 | P34: 8 | Q34: 8 | R34: 8 | S34: 7
A35: =IF(ISNUMBER(D35),YEAR(D35),A34) -> 2016 | B35: =IF(ISNUMBER(D35),MONTH(D35),B34) -> 11 | C35: =IF(ISNUMBER(D35),INT(MOD(INT((D35-2)/7)+3/5,52+5/28))+1,C34) -> 48 | D35: =D27+7 -> 42703 | F35: 7 | H35: 7 | I35: 7 | J35: 7 | L35: 7 | M35: 7 | N35: 8 | O35: 8 | P35: 8 | Q35: 7.25 | R35: 7.25 | S35: 7
A36: =IF(ISNUMBER(D36),YEAR(D36),A35) -> 2016 | B36: =IF(ISNUMBER(D36),MONTH(D36),B35) -> 11 | C36: =IF(ISNUMBER(D36),INT(MOD(INT((D36-2)/7)+3/5,52+5/28))+1,C35) -> 48 | D36: =D28+7 -> 42704 | F36: 7 | G36: 7 | H36: 7 | I36: 7 | J36: 7 | L36: 6.5 | M36: 7 | N36: 8 | O36: 8 | P36: 8 | Q36: 8.75 | R36: 6.75 | S36: 7
A37: =IF(ISNUMBER(D37),YEAR(D37),A36) -> 2016 | B37: =IF(ISNUMBER(D37),MONTH(D37),B36) -> 12 | C37: =IF(ISNUMBER(D37),INT(MOD(INT((D37-2)/7)+3/5,52+5/28))+1,C36) -> 48 | D37: =D29+7 -> 42705 | F37: 7 | G37: 7 | H37: 7 | I37: 7 | J37: 7 | K37: 7 | L37: 6.75 | M37: 7 | N37: 8 | O37: 8 | P37: 8 | Q37: 9.17 | R37: 7.75 | S37: 7.25
A38: =IF(ISNUMBER(D38),YEAR(D38),A37) -> 2016 | B38: =IF(ISNUMBER(D38),MONTH(D38),B37) -> 12 | C38: =IF(ISNUMBER(D38),INT(MOD(INT((D38-2)/7)+3/5,52+5/28))+1,C37) -> 48 | D38: =D30+7 -> 42706 | F38: 7 | G38: 7 | H38: 7 | I38: 6.25 | J38: 7 | K38: 6.5 | L38: 6 | M38: 7 | N38: 7 | O38: 7 | P38: 7 | Q38: 7.25 | R38: 7 | S38: 6.75
A39: =IF(ISNUMBER(D39),YEAR(D39),A38) -> 2016 | B39: =IF(ISNUMBER(D39),MONTH(D39),B38) -> 12 | C39: =IF(ISNUMBER(D39),INT(MOD(INT((D39-2)/7)+3/5,52+5/28))+1,C38) -> 48 | D39: TOTAL | E39: =SUM(E34:E38) -> 0 | F39: =SUM(F34:F38) -> 35.5 | G39: =SUM(G34:G38) -> 21 | H39: =SUM(H34:H38) -> 35.5 | I39: =SUM(I34:I38) -> 34.75 | J39: =SUM(J34:J38) -> 35.5 | K39: =SUM(K34:K38) -> 13.5 | L39: =SUM(L34:L38) -> 33.75 | ... S39: =SUM(S34:S38) -> 35
A40: =IF(ISNUMBER(D40),YEAR(D40),A39) -> 2016 | B40: =IF(ISNUMBER(D40),MONTH(D40),B39) -> 12 | C40: =IF(ISNUMBER(D40),INT(MOD(INT((D40-2)/7)+3/5,52+5/28))+1,C39) -> 48 | D40: NORMAL | E40: =MIN(E39,35) -> 0 | F40: =MIN(F39,35) -> 35 | G40: =MIN(G39,35) -> 21 | H40: =MIN(H39,35) -> 35 | I40: =MIN(I39,35) -> 34.75 | J40: =MIN(J39,35) -> 35 | K40: =MIN(K39,35) -> 13.5 | L40: =MIN(L39,35) -> 33.75 | ... S40: =MIN(S39,35) -> 35
A41: =IF(ISNUMBER(D41),YEAR(D41),A40) -> 2016 | B41: =IF(ISNUMBER(D41),MONTH(D41),B40) -> 12 | C41: =IF(ISNUMBER(D41),INT(MOD(INT((D41-2)/7)+3/5,52+5/28))+1,C40) -> 48 | D41: HEURES SUP | E41: =E39-E40 -> 0 | F41: =F39-F40 -> 0.5 | G41: =G39-G40 -> 0 | H41: =H39-H40 -> 0.5 | I41: =I39-I40 -> 0 | J41: =J39-J40 -> 0.5 | K41: =K39-K40 -> 0 | L41: =L39-L40 -> 0 | ... S41: =S39-S40 -> 0
A42: =IF(ISNUMBER(D42),YEAR(D42),A41) -> 2016 | B42: =IF(ISNUMBER(D42),MONTH(D42),B41) -> 12 | C42: =IF(ISNUMBER(D42),INT(MOD(INT((D42-2)/7)+3/5,52+5/28))+1,C41) -> 49 | D42: =D34+7 -> 42709 | F42: 7 | G42: 7 | H42: 7 | J42: 7 | K42: 7 | L42: 7 | M42: 7 | N42: 8 | O42: 8 | P42: 8 | Q42: 7.25 | S42: 7
A43: =IF(ISNUMBER(D43),YEAR(D43),A42) -> 2016 | B43: =IF(ISNUMBER(D43),MONTH(D43),B42) -> 12 | C43: =IF(ISNUMBER(D43),INT(MOD(INT((D43-2)/7)+3/5,52+5/28))+1,C42) -> 49 | D43: =D35+7 -> 42710 | F43: 7 | G43: 7 | H43: 7 | I43: 7 | J43: 7 | K43: 7 | L43: 7 | M43: 7 | N43: 8 | O43: 8 | P43: 8 | Q43: 7.5 | R43: 7 | S43: 7
A44: =IF(ISNUMBER(D44),YEAR(D44),A43) -> 2016 | B44: =IF(ISNUMBER(D44),MONTH(D44),B43) -> 12 | C44: =IF(ISNUMBER(D44),INT(MOD(INT((D44-2)/7)+3/5,52+5/28))+1,C43) -> 49 | D44: =D36+7 -> 42711 | F44: 7.25 | G44: 7 | I44: 7 | J44: 7 | K44: 7 | M44: 7 | N44: 8 | O44: 8 | P44: 8 | Q44: 7.67 | R44: 7.25 | S44: 7
A45: =IF(ISNUMBER(D45),YEAR(D45),A44) -> 2016 | B45: =IF(ISNUMBER(D45),MONTH(D45),B44) -> 12 | C45: =IF(ISNUMBER(D45),INT(MOD(INT((D45-2)/7)+3/5,52+5/28))+1,C44) -> 49 | D45: =D37+7 -> 42712 | F45: 7 | G45: 4 | H45: 7 | I45: 7 | J45: 7 | K45: 7 | M45: 7 | N45: 8 | O45: 8 | P45: 8 | Q45: 7 | R45: 7 | S45: 7
A46: =IF(ISNUMBER(D46),YEAR(D46),A45) -> 2016 | B46: =IF(ISNUMBER(D46),MONTH(D46),B45) -> 12 | C46: =IF(ISNUMBER(D46),INT(MOD(INT((D46-2)/7)+3/5,52+5/28))+1,C45) -> 49 | D46: =D38+7 -> 42713 | N46: 7 | O46: 7 | P46: 7 | Q46: 7 | R46: 4 | S46: 7
A47: =IF(ISNUMBER(D47),YEAR(D47),A46) -> 2016 | B47: =IF(ISNUMBER(D47),MONTH(D47),B46) -> 12 | C47: =IF(ISNUMBER(D47),INT(MOD(INT((D47-2)/7)+3/5,52+5/28))+1,C46) -> 49 | D47: TOTAL | E47: =SUM(E42:E46) -> 0 | F47: =SUM(F42:F46) -> 28.25 | G47: =SUM(G42:G46) -> 25 | H47: =SUM(H42:H46) -> 21 | I47: =SUM(I42:I46) -> 21 | J47: =SUM(J42:J46) -> 28 | K47: =SUM(K42:K46) -> 28 | L47: =SUM(L42:L46) -> 14 | ... S47: =SUM(S42:S46) -> 35
A48: =IF(ISNUMBER(D48),YEAR(D48),A47) -> 2016 | B48: =IF(ISNUMBER(D48),MONTH(D48),B47) -> 12 | C48: =IF(ISNUMBER(D48),INT(MOD(INT((D48-2)/7)+3/5,52+5/28))+1,C47) -> 49 | D48: NORMAL | E48: =MIN(E47,35) -> 0 | F48: =MIN(F47,35) -> 28.25 | G48: =MIN(G47,35) -> 25 | H48: =MIN(H47,35) -> 21 | I48: =MIN(I47,35) -> 21 | J48: =MIN(J47,35) -> 28 | K48: =MIN(K47,35) -> 28 | L48: =MIN(L47,35) -> 14 | ... S48: =MIN(S47,35) -> 35
A49: =IF(ISNUMBER(D49),YEAR(D49),A48) -> 2016 | B49: =IF(ISNUMBER(D49),MONTH(D49),B48) -> 12 | C49: =IF(ISNUMBER(D49),INT(MOD(INT((D49-2)/7)+3/5,52+5/28))+1,C48) -> 49 | D49: HEURES SUP | E49: =E47-E48 -> 0 | F49: =F47-F48 -> 0 | G49: =G47-G48 -> 0 | H49: =H47-H48 -> 0 | I49: =I47-I48 -> 0 | J49: =J47-J48 -> 0 | K49: =K47-K48 -> 0 | L49: =L47-L48 -> 0 | ... S49: =S47-S48 -> 0
A50: =IF(ISNUMBER(D50),YEAR(D50),A49) -> 2016 | B50: =IF(ISNUMBER(D50),MONTH(D50),B49) -> 12 | C50: =IF(ISNUMBER(D50),INT(MOD(INT((D50-2)/7)+3/5,52+5/28))+1,C49) -> 50 | D50: =D42+7 -> 42716
A51: =IF(ISNUMBER(D51),YEAR(D51),A50) -> 2016 | B51: =IF(ISNUMBER(D51),MONTH(D51),B50) -> 12 | C51: =IF(ISNUMBER(D51),INT(MOD(INT((D51-2)/7)+3/5,52+5/28))+1,C50) -> 50 | D51: =D43+7 -> 42717
A52: =IF(ISNUMBER(D52),YEAR(D52),A51) -> 2016 | B52: =IF(ISNUMBER(D52),MONTH(D52),B51) -> 12 | C52: =IF(ISNUMBER(D52),INT(MOD(INT((D52-2)/7)+3/5,52+5/28))+1,C51) -> 50 | D52: =D44+7 -> 42718
A53: =IF(ISNUMBER(D53),YEAR(D53),A52) -> 2016 | B53: =IF(ISNUMBER(D53),MONTH(D53),B52) -> 12 | C53: =IF(ISNUMBER(D53),INT(MOD(INT((D53-2)/7)+3/5,52+5/28))+1,C52) -> 50 | D53: =D45+7 -> 42719
A54: =IF(ISNUMBER(D54),YEAR(D54),A53) -> 2016 | B54: =IF(ISNUMBER(D54),MONTH(D54),B53) -> 12 | C54: =IF(ISNUMBER(D54),INT(MOD(INT((D54-2)/7)+3/5,52+5/28))+1,C53) -> 50 | D54: =D46+7 -> 42720
A55: =IF(ISNUMBER(D55),YEAR(D55),A54) -> 2016 | B55: =IF(ISNUMBER(D55),MONTH(D55),B54) -> 12 | C55: =IF(ISNUMBER(D55),INT(MOD(INT((D55-2)/7)+3/5,52+5/28))+1,C54) -> 50 | D55: TOTAL | E55: =SUM(E50:E54) -> 0 | F55: =SUM(F50:F54) -> 0 | G55: =SUM(G50:G54) -> 0 | H55: =SUM(H50:H54) -> 0 | I55: =SUM(I50:I54) -> 0 | J55: =SUM(J50:J54) -> 0 | K55: =SUM(K50:K54) -> 0 | L55: =SUM(L50:L54) -> 0 | ... S55: =SUM(S50:S54) -> 0
A56: =IF(ISNUMBER(D56),YEAR(D56),A55) -> 2016 | B56: =IF(ISNUMBER(D56),MONTH(D56),B55) -> 12 | C56: =IF(ISNUMBER(D56),INT(MOD(INT((D56-2)/7)+3/5,52+5/28))+1,C55) -> 50 | D56: NORMAL | E56: =MIN(E55,35) -> 0 | F56: =MIN(F55,35) -> 0 | G56: =MIN(G55,35) -> 0 | H56: =MIN(H55,35) -> 0 | I56: =MIN(I55,35) -> 0 | J56: =MIN(J55,35) -> 0 | K56: =MIN(K55,35) -> 0 | L56: =MIN(L55,35) -> 0 | ... S56: =MIN(S55,35) -> 0
A57: =IF(ISNUMBER(D57),YEAR(D57),A56) -> 2016 | B57: =IF(ISNUMBER(D57),MONTH(D57),B56) -> 12 | C57: =IF(ISNUMBER(D57),INT(MOD(INT((D57-2)/7)+3/5,52+5/28))+1,C56) -> 50 | D57: HEURES SUP | E57: =E55-E56 -> 0 | F57: =F55-F56 -> 0 | G57: =G55-G56 -> 0 | H57: =H55-H56 -> 0 | I57: =I55-I56 -> 0 | J57: =J55-J56 -> 0 | K57: =K55-K56 -> 0 | L57: =L55-L56 -> 0 | ... S57: =S55-S56 -> 0
A58: =IF(ISNUMBER(D58),YEAR(D58),A57) -> 2016 | B58: =IF(ISNUMBER(D58),MONTH(D58),B57) -> 12 | C58: =IF(ISNUMBER(D58),INT(MOD(INT((D58-2)/7)+3/5,52+5/28))+1,C57) -> 51 | D58: =D50+7 -> 42723
A59: =IF(ISNUMBER(D59),YEAR(D59),A58) -> 2016 | B59: =IF(ISNUMBER(D59),MONTH(D59),B58) -> 12 | C59: =IF(ISNUMBER(D59),INT(MOD(INT((D59-2)/7)+3/5,52+5/28))+1,C58) -> 51 | D59: =D51+7 -> 42724
A60: =IF(ISNUMBER(D60),YEAR(D60),A59) -> 2016 | B60: =IF(ISNUMBER(D60),MONTH(D60),B59) -> 12 | C60: =IF(ISNUMBER(D60),INT(MOD(INT((D60-2)/7)+3/5,52+5/28))+1,C59) -> 51 | D60: =D52+7 -> 42725
A61: =IF(ISNUMBER(D61),YEAR(D61),A60) -> 2016 | B61: =IF(ISNUMBER(D61),MONTH(D61),B60) -> 12 | C61: =IF(ISNUMBER(D61),INT(MOD(INT((D61-2)/7)+3/5,52+5/28))+1,C60) -> 51 | D61: =D53+7 -> 42726
A62: =IF(ISNUMBER(D62),YEAR(D62),A61) -> 2016 | B62: =IF(ISNUMBER(D62),MONTH(D62),B61) -> 12 | C62: =IF(ISNUMBER(D62),INT(MOD(INT((D62-2)/7)+3/5,52+5/28))+1,C61) -> 51 | D62: =D54+7 -> 42727
A63: =IF(ISNUMBER(D63),YEAR(D63),A62) -> 2016 | B63: =IF(ISNUMBER(D63),MONTH(D63),B62) -> 12 | C63: =IF(ISNUMBER(D63),INT(MOD(INT((D63-2)/7)+3/5,52+5/28))+1,C62) -> 51 | D63: TOTAL | E63: =SUM(E58:E62) -> 0 | F63: =SUM(F58:F62) -> 0 | G63: =SUM(G58:G62) -> 0 | H63: =SUM(H58:H62) -> 0 | I63: =SUM(I58:I62) -> 0 | J63: =SUM(J58:J62) -> 0 | K63: =SUM(K58:K62) -> 0 | L63: =SUM(L58:L62) -> 0 | ... S63: =SUM(S58:S62) -> 0
A64: =IF(ISNUMBER(D64),YEAR(D64),A63) -> 2016 | B64: =IF(ISNUMBER(D64),MONTH(D64),B63) -> 12 | C64: =IF(ISNUMBER(D64),INT(MOD(INT((D64-2)/7)+3/5,52+5/28))+1,C63) -> 51 | D64: NORMAL | E64: =MIN(E63,35) -> 0 | F64: =MIN(F63,35) -> 0 | G64: =MIN(G63,35) -> 0 | H64: =MIN(H63,35) -> 0 | I64: =MIN(I63,35) -> 0 | J64: =MIN(J63,35) -> 0 | K64: =MIN(K63,35) -> 0 | L64: =MIN(L63,35) -> 0 | ... S64: =MIN(S63,35) -> 0
A65: =IF(ISNUMBER(D65),YEAR(D65),A64) -> 2016 | B65: =IF(ISNUMBER(D65),MONTH(D65),B64) -> 12 | C65: =IF(ISNUMBER(D65),INT(MOD(INT((D65-2)/7)+3/5,52+5/28))+1,C64) -> 51 | D65: HEURES SUP | E65: =E63-E64 -> 0 | F65: =F63-F64 -> 0 | G65: =G63-G64 -> 0 | H65: =H63-H64 -> 0 | I65: =I63-I64 -> 0 | J65: =J63-J64 -> 0 | K65: =K63-K64 -> 0 | L65: =L63-L64 -> 0 | ... S65: =S63-S64 -> 0
A66: =IF(ISNUMBER(D66),YEAR(D66),A65) -> 2016 | B66: =IF(ISNUMBER(D66),MONTH(D66),B65) -> 12 | C66: =IF(ISNUMBER(D66),INT(MOD(INT((D66-2)/7)+3/5,52+5/28))+1,C65) -> 52 | D66: =D58+7 -> 42730
A67: =IF(ISNUMBER(D67),YEAR(D67),A66) -> 2016 | B67: =IF(ISNUMBER(D67),MONTH(D67),B66) -> 12 | C67: =IF(ISNUMBER(D67),INT(MOD(INT((D67-2)/7)+3/5,52+5/28))+1,C66) -> 52 | D67: =D59+7 -> 42731
A68: =IF(ISNUMBER(D68),YEAR(D68),A67) -> 2016 | B68: =IF(ISNUMBER(D68),MONTH(D68),B67) -> 12 | C68: =IF(ISNUMBER(D68),INT(MOD(INT((D68-2)/7)+3/5,52+5/28))+1,C67) -> 52 | D68: =D60+7 -> 42732
A69: =IF(ISNUMBER(D69),YEAR(D69),A68) -> 2016 | B69: =IF(ISNUMBER(D69),MONTH(D69),B68) -> 12 | C69: =IF(ISNUMBER(D69),INT(MOD(INT((D69-2)/7)+3/5,52+5/28))+1,C68) -> 52 | D69: =D61+7 -> 42733
A70: =IF(ISNUMBER(D70),YEAR(D70),A69) -> 2016 | B70: =IF(ISNUMBER(D70),MONTH(D70),B69) -> 12 | C70: =IF(ISNUMBER(D70),INT(MOD(INT((D70-2)/7)+3/5,52+5/28))+1,C69) -> 52 | D70: =D62+7 -> 42734
A71: =IF(ISNUMBER(D71),YEAR(D71),A70) -> 2016 | B71: =IF(ISNUMBER(D71),MONTH(D71),B70) -> 12 | C71: =IF(ISNUMBER(D71),INT(MOD(INT((D71-2)/7)+3/5,52+5/28))+1,C70) -> 52 | D71: TOTAL | E71: =SUM(E66:E70) -> 0 | F71: =SUM(F66:F70) -> 0 | G71: =SUM(G66:G70) -> 0 | H71: =SUM(H66:H70) -> 0 | I71: =SUM(I66:I70) -> 0 | J71: =SUM(J66:J70) -> 0 | K71: =SUM(K66:K70) -> 0 | L71: =SUM(L66:L70) -> 0 | ... S71: =SUM(S66:S70) -> 0
A72: =IF(ISNUMBER(D72),YEAR(D72),A71) -> 2016 | B72: =IF(ISNUMBER(D72),MONTH(D72),B71) -> 12 | C72: =IF(ISNUMBER(D72),INT(MOD(INT((D72-2)/7)+3/5,52+5/28))+1,C71) -> 52 | D72: NORMAL | E72: =MIN(E71,35) -> 0 | F72: =MIN(F71,35) -> 0 | G72: =MIN(G71,35) -> 0 | H72: =MIN(H71,35) -> 0 | I72: =MIN(I71,35) -> 0 | J72: =MIN(J71,35) -> 0 | K72: =MIN(K71,35) -> 0 | L72: =MIN(L71,35) -> 0 | ... S72: =MIN(S71,35) -> 0
A73: =IF(ISNUMBER(D73),YEAR(D73),A72) -> 2016 | B73: =IF(ISNUMBER(D73),MONTH(D73),B72) -> 12 | C73: =IF(ISNUMBER(D73),INT(MOD(INT((D73-2)/7)+3/5,52+5/28))+1,C72) -> 52 | D73: HEURES SUP | E73: =E71-E72 -> 0 | F73: =F71-F72 -> 0 | G73: =G71-G72 -> 0 | H73: =H71-H72 -> 0 | I73: =I71-I72 -> 0 | J73: =J71-J72 -> 0 | K73: =K71-K72 -> 0 | L73: =L71-L72 -> 0 | ... S73: =S71-S72 -> 0
A74: =IF(ISNUMBER(D74),YEAR(D74),A73) -> 2017 | B74: =IF(ISNUMBER(D74),MONTH(D74),B73) -> 1 | C74: =IF(ISNUMBER(D74),INT(MOD(INT((D74-2)/7)+3/5,52+5/28))+1,C73) -> 1 | D74: =D66+7 -> 42737
A75: =IF(ISNUMBER(D75),YEAR(D75),A74) -> 2017 | B75: =IF(ISNUMBER(D75),MONTH(D75),B74) -> 1 | C75: =IF(ISNUMBER(D75),INT(MOD(INT((D75-2)/7)+3/5,52+5/28))+1,C74) -> 1 | D75: =D67+7 -> 42738
A76: =IF(ISNUMBER(D76),YEAR(D76),A75) -> 2017 | B76: =IF(ISNUMBER(D76),MONTH(D76),B75) -> 1 | C76: =IF(ISNUMBER(D76),INT(MOD(INT((D76-2)/7)+3/5,52+5/28))+1,C75) -> 1 | D76: =D68+7 -> 42739
A77: =IF(ISNUMBER(D77),YEAR(D77),A76) -> 2017 | B77: =IF(ISNUMBER(D77),MONTH(D77),B76) -> 1 | C77: =IF(ISNUMBER(D77),INT(MOD(INT((D77-2)/7)+3/5,52+5/28))+1,C76) -> 1 | D77: =D69+7 -> 42740
A78: =IF(ISNUMBER(D78),YEAR(D78),A77) -> 2017 | B78: =IF(ISNUMBER(D78),MONTH(D78),B77) -> 1 | C78: =IF(ISNUMBER(D78),INT(MOD(INT((D78-2)/7)+3/5,52+5/28))+1,C77) -> 1 | D78: =D70+7 -> 42741
A79: =IF(ISNUMBER(D79),YEAR(D79),A78) -> 2017 | B79: =IF(ISNUMBER(D79),MONTH(D79),B78) -> 1 | C79: =IF(ISNUMBER(D79),INT(MOD(INT((D79-2)/7)+3/5,52+5/28))+1,C78) -> 1 | D79: TOTAL | E79: =SUM(E74:E78) -> 0 | F79: =SUM(F74:F78) -> 0 | G79: =SUM(G74:G78) -> 0 | H79: =SUM(H74:H78) -> 0 | I79: =SUM(I74:I78) -> 0 | J79: =SUM(J74:J78) -> 0 | K79: =SUM(K74:K78) -> 0 | L79: =SUM(L74:L78) -> 0 | ... S79: =SUM(S74:S78) -> 0
A80: =IF(ISNUMBER(D80),YEAR(D80),A79) -> 2017 | B80: =IF(ISNUMBER(D80),MONTH(D80),B79) -> 1 | C80: =IF(ISNUMBER(D80),INT(MOD(INT((D80-2)/7)+3/5,52+5/28))+1,C79) -> 1 | D80: NORMAL | E80: =MIN(E79,35) -> 0 | F80: =MIN(F79,35) -> 0 | G80: =MIN(G79,35) -> 0 | H80: =MIN(H79,35) -> 0 | I80: =MIN(I79,35) -> 0 | J80: =MIN(J79,35) -> 0 | K80: =MIN(K79,35) -> 0 | L80: =MIN(L79,35) -> 0 | ... S80: =MIN(S79,35) -> 0
A81: =IF(ISNUMBER(D81),YEAR(D81),A80) -> 2017 | B81: =IF(ISNUMBER(D81),MONTH(D81),B80) -> 1 | C81: =IF(ISNUMBER(D81),INT(MOD(INT((D81-2)/7)+3/5,52+5/28))+1,C80) -> 1 | D81: HEURES SUP | E81: =E79-E80 -> 0 | F81: =F79-F80 -> 0 | G81: =G79-G80 -> 0 | H81: =H79-H80 -> 0 | I81: =I79-I80 -> 0 | J81: =J79-J80 -> 0 | K81: =K79-K80 -> 0 | L81: =L79-L80 -> 0 | ... S81: =S79-S80 -> 0
A82: =IF(ISNUMBER(D82),YEAR(D82),A81) -> 2017 | B82: =IF(ISNUMBER(D82),MONTH(D82),B81) -> 1 | C82: =IF(ISNUMBER(D82),INT(MOD(INT((D82-2)/7)+3/5,52+5/28))+1,C81) -> 2 | D82: =D74+7 -> 42744
A83: =IF(ISNUMBER(D83),YEAR(D83),A82) -> 2017 | B83: =IF(ISNUMBER(D83),MONTH(D83),B82) -> 1 | C83: =IF(ISNUMBER(D83),INT(MOD(INT((D83-2)/7)+3/5,52+5/28))+1,C82) -> 2 | D83: =D75+7 -> 42745
A84: =IF(ISNUMBER(D84),YEAR(D84),A83) -> 2017 | B84: =IF(ISNUMBER(D84),MONTH(D84),B83) -> 1 | C84: =IF(ISNUMBER(D84),INT(MOD(INT((D84-2)/7)+3/5,52+5/28))+1,C83) -> 2 | D84: =D76+7 -> 42746
A85: =IF(ISNUMBER(D85),YEAR(D85),A84) -> 2017 | B85: =IF(ISNUMBER(D85),MONTH(D85),B84) -> 1 | C85: =IF(ISNUMBER(D85),INT(MOD(INT((D85-2)/7)+3/5,52+5/28))+1,C84) -> 2 | D85: =D77+7 -> 42747
A86: =IF(ISNUMBER(D86),YEAR(D86),A85) -> 2017 | B86: =IF(ISNUMBER(D86),MONTH(D86),B85) -> 1 | C86: =IF(ISNUMBER(D86),INT(MOD(INT((D86-2)/7)+3/5,52+5/28))+1,C85) -> 2 | D86: =D78+7 -> 42748
A87: =IF(ISNUMBER(D87),YEAR(D87),A86) -> 2017 | B87: =IF(ISNUMBER(D87),MONTH(D87),B86) -> 1 | C87: =IF(ISNUMBER(D87),INT(MOD(INT((D87-2)/7)+3/5,52+5/28))+1,C86) -> 2 | D87: TOTAL | E87: =SUM(E82:E86) -> 0 | F87: =SUM(F82:F86) -> 0 | G87: =SUM(G82:G86) -> 0 | H87: =SUM(H82:H86) -> 0 | I87: =SUM(I82:I86) -> 0 | J87: =SUM(J82:J86) -> 0 | K87: =SUM(K82:K86) -> 0 | L87: =SUM(L82:L86) -> 0 | ... S87: =SUM(S82:S86) -> 0
A88: =IF(ISNUMBER(D88),YEAR(D88),A87) -> 2017 | B88: =IF(ISNUMBER(D88),MONTH(D88),B87) -> 1 | C88: =IF(ISNUMBER(D88),INT(MOD(INT((D88-2)/7)+3/5,52+5/28))+1,C87) -> 2 | D88: NORMAL | E88: =MIN(E87,35) -> 0 | F88: =MIN(F87,35) -> 0 | G88: =MIN(G87,35) -> 0 | H88: =MIN(H87,35) -> 0 | I88: =MIN(I87,35) -> 0 | J88: =MIN(J87,35) -> 0 | K88: =MIN(K87,35) -> 0 | L88: =MIN(L87,35) -> 0 | ... S88: =MIN(S87,35) -> 0
A89: =IF(ISNUMBER(D89),YEAR(D89),A88) -> 2017 | B89: =IF(ISNUMBER(D89),MONTH(D89),B88) -> 1 | C89: =IF(ISNUMBER(D89),INT(MOD(INT((D89-2)/7)+3/5,52+5/28))+1,C88) -> 2 | D89: HEURES SUP | E89: =E87-E88 -> 0 | F89: =F87-F88 -> 0 | G89: =G87-G88 -> 0 | H89: =H87-H88 -> 0 | I89: =I87-I88 -> 0 | J89: =J87-J88 -> 0 | K89: =K87-K88 -> 0 | L89: =L87-L88 -> 0 | ... S89: =S87-S88 -> 0

Sheet Total heures
A1: ANNEE | B1: MOIS | C1: TOTAL | D1: karim | E1: marc | F1: ursula | G1: carl | H1: sandie | I1: wissem | J1: julien | K1: jérémy | L1: gregory | M1: sébastien | N1: aymeric | O1: jean | P1: laetitia | Q1: virginie | R1: david
A2: 2016 | B2: 11 | C2: NORMAL | D2: =SUMPRODUCT((Heures!$A$2:$A$89=$A2)*(Heures!$B$2:$B$89=$B2)*(ISNUMBER(Heures!$D$2:$D$89))*(Heures!E$2:E$89)) -> 0 | E2: =SUMPRODUCT((Heures!$A$2:$A$89=$A2)*(Heures!$B$2:$B$89=$B2)*(ISNUMBER(Heures!$D$2:$D$89))*(Heures!F$2:F$89)) -> 133.85 | F2: =SUMPRODUCT((Heures!$A$2:$A$89=$A2)*(Heures!$B$2:$B$89=$B2)*(ISNUMBER(Heures!$D$2:$D$89))*(Heures!G$2:G$89)) -> 126.39 | G2: =SUMPRODUCT((Heures!$A$2:$A$89=$A2)*(Heures!$B$2:$B$89=$B2)*(ISNUMBER(Heures!$D$2:$D$89))*(Heures!H$2:H$89)) -> 126.89 | H2: =SUMPRODUCT((Heures!$A$2:$A$89=$A2)*(Heures!$B$2:$B$89=$B2)*(ISNUMBER(Heures!$D$2:$D$89))*(Heures!I$2:I$89)) -> 125.89 | I2: =SUMPRODUCT((Heures!$A$2:$A$89=$A2)*(Heures!$B$2:$B$89=$B2)*(ISNUMBER(Heures!$D$2:$D$89))*(Heures!J$2:J$89)) -> 112.82 | J2: =SUMPRODUCT((Heures!$A$2:$A$89=$A2)*(Heures!$B$2:$B$89=$B2)*(ISNUMBER(Heures!$D$2:$D$89))*(Heures!K$2:K$89)) -> 112.39 | K2: =SUMPRODUCT((Heures!$A$2:$A$89=$A2)*(Heures!$B$2:$B$89=$B2)*(ISNUMBER(Heures!$D$2:$D$89))*(Heures!L$2:L$89)) -> 139.46 | ... R2: =SUMPRODUCT((Heures!$A$2:$A$89=$A2)*(Heures!$B$2:$B$89=$B2)*(ISNUMBER(Heures!$D$2:$D$89))*(Heures!S$2:S$89)) -> 121.5
C3: HEURES SUP | D3: =SUMPRODUCT((Heures!$A$2:$A$89=$A2)*(Heures!$B$2:$B$89=$B2)*(Heures!$D$2:$D$89="HEURES SUP")*(Heures!E$2:E$89)) -> 0 | E3: =SUMPRODUCT((Heures!$A$2:$A$89=$A2)*(Heures!$B$2:$B$89=$B2)*(Heures!$D$2:$D$89="HEURES SUP")*(Heures!F$2:F$89)) -> 0 | F3: =SUMPRODUCT((Heures!$A$2:$A$89=$A2)*(Heures!$B$2:$B$89=$B2)*(Heures!$D$2:$D$89="HEURES SUP")*(Heures!G$2:G$89)) -> 0 | G3: =SUMPRODUCT((Heures!$A$2:$A$89=$A2)*(Heures!$B$2:$B$89=$B2)*(Heures!$D$2:$D$89="HEURES SUP")*(Heures!H$2:H$89)) -> 0 | H3: =SUMPRODUCT((Heures!$A$2:$A$89=$A2)*(Heures!$B$2:$B$89=$B2)*(Heures!$D$2:$D$89="HEURES SUP")*(Heures!I$2:I$89)) -> 0 | I3: =SUMPRODUCT((Heures!$A$2:$A$89=$A2)*(Heures!$B$2:$B$89=$B2)*(Heures!$D$2:$D$89="HEURES SUP")*(Heures!J$2:J$89)) -> 0 | J3: =SUMPRODUCT((Heures!$A$2:$A$89=$A2)*(Heures!$B$2:$B$89=$B2)*(Heures!$D$2:$D$89="HEURES SUP")*(Heures!K$2:K$89)) -> 0 | K3: =SUMPRODUCT((Heures!$A$2:$A$89=$A2)*(Heures!$B$2:$B$89=$B2)*(Heures!$D$2:$D$89="HEURES SUP")*(Heures!L$2:L$89)) -> 0 | ... R3: =SUMPRODUCT((Heures!$A$2:$A$89=$A2)*(Heures!$B$2:$B$89=$B2)*(Heures!$D$2:$D$89="HEURES SUP")*(Heures!S$2:S$89)) -> 1.5
A4: 2016 | B4: 12 | C4: NORMAL | D4: =SUMPRODUCT((Heures!$A$2:$A$89=$A4)*(Heures!$B$2:$B$89=$B4)*(ISNUMBER(Heures!$D$2:$D$89))*(Heures!E$2:E$89)) -> 0 | E4: =SUMPRODUCT((Heures!$A$2:$A$89=$A4)*(Heures!$B$2:$B$89=$B4)*(ISNUMBER(Heures!$D$2:$D$89))*(Heures!F$2:F$89)) -> 42.25 | F4: =SUMPRODUCT((Heures!$A$2:$A$89=$A4)*(Heures!$B$2:$B$89=$B4)*(ISNUMBER(Heures!$D$2:$D$89))*(Heures!G$2:G$89)) -> 39 | G4: =SUMPRODUCT((Heures!$A$2:$A$89=$A4)*(Heures!$B$2:$B$89=$B4)*(ISNUMBER(Heures!$D$2:$D$89))*(Heures!H$2:H$89)) -> 35 | H4: =SUMPRODUCT((Heures!$A$2:$A$89=$A4)*(Heures!$B$2:$B$89=$B4)*(ISNUMBER(Heures!$D$2:$D$89))*(Heures!I$2:I$89)) -> 34.25 | I4: =SUMPRODUCT((Heures!$A$2:$A$89=$A4)*(Heures!$B$2:$B$89=$B4)*(ISNUMBER(Heures!$D$2:$D$89))*(Heures!J$2:J$89)) -> 42 | J4: =SUMPRODUCT((Heures!$A$2:$A$89=$A4)*(Heures!$B$2:$B$89=$B4)*(ISNUMBER(Heures!$D$2:$D$89))*(Heures!K$2:K$89)) -> 41.5 | K4: =SUMPRODUCT((Heures!$A$2:$A$89=$A4)*(Heures!$B$2:$B$89=$B4)*(ISNUMBER(Heures!$D$2:$D$89))*(Heures!L$2:L$89)) -> 26.75 | ... R4: =SUMPRODUCT((Heures!$A$2:$A$89=$A4)*(Heures!$B$2:$B$89=$B4)*(ISNUMBER(Heures!$D$2:$D$89))*(Heures!S$2:S$89)) -> 49
C5: HEURES SUP | D5: =SUMPRODUCT((Heures!$A$2:$A$89=$A4)*(Heures!$B$2:$B$89=$B4)*(Heures!$D$2:$D$89="HEURES SUP")*(Heures!E$2:E$89)) -> 0 | E5: =SUMPRODUCT((Heures!$A$2:$A$89=$A4)*(Heures!$B$2:$B$89=$B4)*(Heures!$D$2:$D$89="HEURES SUP")*(Heures!F$2:F$89)) -> 0.5 | F5: =SUMPRODUCT((Heures!$A$2:$A$89=$A4)*(Heures!$B$2:$B$89=$B4)*(Heures!$D$2:$D$89="HEURES SUP")*(Heures!G$2:G$89)) -> 0 | G5: =SUMPRODUCT((Heures!$A$2:$A$89=$A4)*(Heures!$B$2:$B$89=$B4)*(Heures!$D$2:$D$89="HEURES SUP")*(Heures!H$2:H$89)) -> 0.5 | H5: =SUMPRODUCT((Heures!$A$2:$A$89=$A4)*(Heures!$B$2:$B$89=$B4)*(Heures!$D$2:$D$89="HEURES SUP")*(Heures!I$2:I$89)) -> 0 | I5: =SUMPRODUCT((Heures!$A$2:$A$89=$A4)*(Heures!$B$2:$B$89=$B4)*(Heures!$D$2:$D$89="HEURES SUP")*(Heures!J$2:J$89)) -> 0.5 | J5: =SUMPRODUCT((Heures!$A$2:$A$89=$A4)*(Heures!$B$2:$B$89=$B4)*(Heures!$D$2:$D$89="HEURES SUP")*(Heures!K$2:K$89)) -> 0 | K5: =SUMPRODUCT((Heures!$A$2:$A$89=$A4)*(Heures!$B$2:$B$89=$B4)*(Heures!$D$2:$D$89="HEURES SUP")*(Heures!L$2:L$89)) -> 0 | ... R5: =SUMPRODUCT((Heures!$A$2:$A$89=$A4)*(Heures!$B$2:$B$89=$B4)*(Heures!$D$2:$D$89="HEURES SUP")*(Heures!S$2:S$89)) -> 0

Sheet JF
A1: JF | B1: 2016 | C1: =B1+1 -> 2017 | D1: =C1+1 -> 2018 | E1: =D1+1 -> 2019 | F1: =E1+1 -> 2020 | G1: =F1+1 -> 2021 | H1: =G1+1 -> 2022 | I1: =H1+1 -> 2023 | J1: =I1+1 -> 2024 | K1: =J1+1 -> 2025
A2: Pâques | B2: =ROUND(DATE(B1,4,MOD(234-11*MOD(B1,19),30))/7,0)*7-6 -> 42456 | C2: =ROUND(DATE(C1,4,MOD(234-11*MOD(C1,19),30))/7,0)*7-6 -> 42841 | D2: =ROUND(DATE(D1,4,MOD(234-11*MOD(D1,19),30))/7,0)*7-6 -> 43191 | E2: =ROUND(DATE(E1,4,MOD(234-11*MOD(E1,19),30))/7,0)*7-6 -> 43576 | F2: =ROUND(DATE(F1,4,MOD(234-11*MOD(F1,19),30))/7,0)*7-6 -> 43933 | G2: =ROUND(DATE(G1,4,MOD(234-11*MOD(G1,19),30))/7,0)*7-6 -> 44290 | H2: =ROUND(DATE(H1,4,MOD(234-11*MOD(H1,19),30))/7,0)*7-6 -> 44668 | I2: =ROUND(DATE(I1,4,MOD(234-11*MOD(I1,19),30))/7,0)*7-6 -> 45025 | ... K2: =ROUND(DATE(K1,4,MOD(234-11*MOD(K1,19),30))/7,0)*7-6 -> 45767
A3: Lundi de Pâques | B3: =B2+1 -> 42457 | C3: =C2+1 -> 42842 | D3: =D2+1 -> 43192 | E3: =E2+1 -> 43577 | F3: =F2+1 -> 43934 | G3: =G2+1 -> 44291 | H3: =H2+1 -> 44669 | I3: =I2+1 -> 45026 | ... K3: =K2+1 -> 45768
A4: Ascension | B4: =B2+39 -> 42495 | C4: =C2+39 -> 42880 | D4: =D2+39 -> 43230 | E4: =E2+39 -> 43615 | F4: =F2+39 -> 43972 | G4: =G2+39 -> 44329 | H4: =H2+39 -> 44707 | I4: =I2+39 -> 45064 | ... K4: =K2+39 -> 45806
A5: Pentecôte | B5: =B2+50 -> 42506 | C5: =C2+50 -> 42891 | D5: =D2+50 -> 43241 | E5: =E2+50 -> 43626 | F5: =F2+50 -> 43983 | G5: =G2+50 -> 44340 | H5: =H2+50 -> 44718 | I5: =I2+50 -> 45075 | ... K5: =K2+50 -> 45817
A6: Premier de l'AN | B6: =DATE(B1,1,1) -> 42370 | C6: =DATE(C1,1,1) -> 42736 | D6: =DATE(D1,1,1) -> 43101 | E6: =DATE(E1,1,1) -> 43466 | F6: =DATE(F1,1,1) -> 43831 | G6: =DATE(G1,1,1) -> 44197 | H6: =DATE(H1,1,1) -> 44562 | I6: =DATE(I1,1,1) -> 44927 | ... K6: =DATE(K1,1,1) -> 45658
A7: Fête du travail | B7: =DATE(B1,5,1) -> 42491 | C7: =DATE(C1,5,1) -> 42856 | D7: =DATE(D1,5,1) -> 43221 | E7: =DATE(E1,5,1) -> 43586 | F7: =DATE(F1,5,1) -> 43952 | G7: =DATE(G1,5,1) -> 44317 | H7: =DATE(H1,5,1) -> 44682 | I7: =DATE(I1,5,1) -> 45047 | ... K7: =DATE(K1,5,1) -> 45778
A8: Victoire de 1945 | B8: =DATE(B1,5,8) -> 42498 | C8: =DATE(C1,5,8) -> 42863 | D8: =DATE(D1,5,8) -> 43228 | E8: =DATE(E1,5,8) -> 43593 | F8: =DATE(F1,5,8) -> 43959 | G8: =DATE(G1,5,8) -> 44324 | H8: =DATE(H1,5,8) -> 44689 | I8: =DATE(I1,5,8) -> 45054 | ... K8: =DATE(K1,5,8) -> 45785
A9: Fête nationale | B9: =DATE(B1,7,14) -> 42565 | C9: =DATE(C1,7,14) -> 42930 | D9: =DATE(D1,7,14) -> 43295 | E9: =DATE(E1,7,14) -> 43660 | F9: =DATE(F1,7,14) -> 44026 | G9: =DATE(G1,7,14) -> 44391 | H9: =DATE(H1,7,14) -> 44756 | I9: =DATE(I1,7,14) -> 45121 | ... K9: =DATE(K1,7,14) -> 45852
A10: Assomption | B10: =DATE(B1,8,15) -> 42597 | C10: =DATE(C1,8,15) -> 42962 | D10: =DATE(D1,8,15) -> 43327 | E10: =DATE(E1,8,15) -> 43692 | F10: =DATE(F1,8,15) -> 44058 | G10: =DATE(G1,8,15) -> 44423 | H10: =DATE(H1,8,15) -> 44788 | I10: =DATE(I1,8,15) -> 45153 | ... K10: =DATE(K1,8,15) -> 45884
A11: Toussaint | B11: =DATE(B1,11,1) -> 42675 | C11: =DATE(C1,11,1) -> 43040 | D11: =DATE(D1,11,1) -> 43405 | E11: =DATE(E1,11,1) -> 43770 | F11: =DATE(F1,11,1) -> 44136 | G11: =DATE(G1,11,1) -> 44501 | H11: =DATE(H1,11,1) -> 44866 | I11: =DATE(I1,11,1) -> 45231 | ... K11: =DATE(K1,11,1) -> 45962
A12: Armistice | B12: =DATE(B1,11,11) -> 42685 | C12: =DATE(C1,11,11) -> 43050 | D12: =DATE(D1,11,11) -> 43415 | E12: =DATE(E1,11,11) -> 43780 | F12: =DATE(F1,11,11) -> 44146 | G12: =DATE(G1,11,11) -> 44511 | H12: =DATE(H1,11,11) -> 44876 | I12: =DATE(I1,11,11) -> 45241 | ... K12: =DATE(K1,11,11) -> 45972
A13: Noël | B13: =DATE(B1,12,25) -> 42729 | C13: =DATE(C1,12,25) -> 43094 | D13: =DATE(D1,12,25) -> 43459 | E13: =DATE(E1,12,25) -> 43824 | F13: =DATE(F1,12,25) -> 44190 | G13: =DATE(G1,12,25) -> 44555 | H13: =DATE(H1,12,25) -> 44920 | I13: =DATE(I1,12,25) -> 45285 | ... K13: =DATE(K1,12,25) -> 46016
A15: jours confondus
A16: jours consécutifs
A17: jours séparés d'un seul jour
A18: week end
