Workbook

Sheet Prevision
B2: Semaine 48 | C2: Semaine 49 | D2: Semaine 50
A3: Employé 1 | B3: 4 | C3: 1 | D3: 2
A4: Employé 2 | B4: 3 | C4: 4 | D4: 1
A5: Employé 3 | B5: 2 | C5: 3 | D5: 4
A6: Employé 4 | B6: 1 | C6: 2 | D6: 3

Sheet D

Sheet S48
B1: Nom | C1: =OFFSET(Prevision!$A$2,MATCH('S48'!C2,Prevision!$B$3:$B$6,0),0) -> Employé 4 | D1: =OFFSET(Prevision!$A$2,MATCH('S48'!D2,Prevision!$B$3:$B$6,0),0) -> Employé 3 | E1: =OFFSET(Prevision!$A$2,MATCH('S48'!E2,Prevision!$B$3:$B$6,0),0) -> Employé 2 | F1: =OFFSET(Prevision!$A$2,MATCH('S48'!F2,Prevision!$B$3:$B$6,0),0) -> Employé 1
B2: Poste | C2: 1 | D2: 2 | E2: 3 | F2: 4
A3: Lundi | C3: 06h-14h | D3: 08h-16h | E3: 14h-21h | F3: 10h-18h
A4: mardi | C4: Repos | D4: 08h-16h | E4: 14h-21h | F4: 10h-18h
A5: mercredi | C5: 06h-14h | D5: Repos | E5: 06h-14h | F5: 10h-18h
A6: jeudi | C6: 14h-21h | D6: 08h-16h | E6: 06h-14h | F6: 10h-18h
A7: vendredi | C7: 14h-21h | D7: 08h-16h | E7: 06h-14h | F7: 10h-18h
A8: samedi | C8: 08h-20h | D8: Repos | E8: Repos | F8: Repos
A9: dimanche | C9: Repos | D9: Repos | E9: 08h-20h | F9: Repos
C11: Employé 1 | D11: Employé 2 | E11: Employé 3 | F11: Employé 4
A12: 06h-14h | C12: =COUNTIF(OFFSET($A$3:$A$9,,MATCH(C$11,$1:$1,0)-1),$A12) -> 0 | D12: =COUNTIF(OFFSET($A$3:$A$9,,MATCH(D$11,$1:$1,0)-1),$A12) -> 3 | E12: =COUNTIF(OFFSET($A$3:$A$9,,MATCH(E$11,$1:$1,0)-1),$A12) -> 0 | F12: =COUNTIF(OFFSET($A$3:$A$9,,MATCH(F$11,$1:$1,0)-1),$A12) -> 2
A13: 08h-16h | C13: =COUNTIF(OFFSET($A$3:$A$9,,MATCH(C$11,$1:$1,0)-1),$A13) -> 0 | D13: =COUNTIF(OFFSET($A$3:$A$9,,MATCH(D$11,$1:$1,0)-1),$A13) -> 0 | E13: =COUNTIF(OFFSET($A$3:$A$9,,MATCH(E$11,$1:$1,0)-1),$A13) -> 4 | F13: =COUNTIF(OFFSET($A$3:$A$9,,MATCH(F$11,$1:$1,0)-1),$A13) -> 0
A14: 10h-18h | C14: =COUNTIF(OFFSET($A$3:$A$9,,MATCH(C$11,$1:$1,0)-1),$A14) -> 5 | D14: =COUNTIF(OFFSET($A$3:$A$9,,MATCH(D$11,$1:$1,0)-1),$A14) -> 0 | E14: =COUNTIF(OFFSET($A$3:$A$9,,MATCH(E$11,$1:$1,0)-1),$A14) -> 0 | F14: =COUNTIF(OFFSET($A$3:$A$9,,MATCH(F$11,$1:$1,0)-1),$A14) -> 0
A15: 14h-21h | C15: =COUNTIF(OFFSET($A$3:$A$9,,MATCH(C$11,$1:$1,0)-1),$A15) -> 0 | D15: =COUNTIF(OFFSET($A$3:$A$9,,MATCH(D$11,$1:$1,0)-1),$A15) -> 2 | E15: =COUNTIF(OFFSET($A$3:$A$9,,MATCH(E$11,$1:$1,0)-1),$A15) -> 0 | F15: =COUNTIF(OFFSET($A$3:$A$9,,MATCH(F$11,$1:$1,0)-1),$A15) -> 2

Sheet S49
B1: Nom | C1: =OFFSET(Prevision!$A$2,MATCH('S49'!C2,Prevision!$C$3:$C$6,0),0) -> Employé 1 | D1: =OFFSET(Prevision!$A$2,MATCH('S49'!D2,Prevision!$C$3:$C$6,0),0) -> Employé 4 | E1: =OFFSET(Prevision!$A$2,MATCH('S49'!E2,Prevision!$C$3:$C$6,0),0) -> Employé 3 | F1: =OFFSET(Prevision!$A$2,MATCH('S49'!F2,Prevision!$C$3:$C$6,0),0) -> Employé 2
B2: Poste | C2: 1 | D2: 2 | E2: 3 | F2: 4
A3: Lundi | C3: 06h-14h | D3: 08h-16h | E3: 14h-21h | F3: 10h-18h
A4: mardi | C4: 06h-14h | D4: 08h-16h | E4: 14h-21h | F4: 10h-18h
A5: mercredi | C5: 06h-14h | D5: 08h-16h | E5: Repos | F5: 10h-18h
A6: jeudi | C6: 14h-21h | D6: 08h-16h | E6: 06h-14h | F6: Repos
A7: vendredi | C7: 14h-21h | D7: 08h-16h | E7: 06h-14h | F7: 10h-18h
A8: samedi | C8: 08h-20h | D8: Repos | E8: Repos | F8: Repos
A9: dimanche | C9: Repos | D9: Repos | E9: 08h-20h | F9: Repos
C11: Employé 1 | D11: Employé 2 | E11: Employé 3 | F11: Employé 4
A12: 06h-14h | C12: =COUNTIF(OFFSET($A$3:$A$9,,MATCH(C$11,$1:$1,0)-1),$A12) -> 3 | D12: =COUNTIF(OFFSET($A$3:$A$9,,MATCH(D$11,$1:$1,0)-1),$A12) -> 0 | E12: =COUNTIF(OFFSET($A$3:$A$9,,MATCH(E$11,$1:$1,0)-1),$A12) -> 2 | F12: =COUNTIF(OFFSET($A$3:$A$9,,MATCH(F$11,$1:$1,0)-1),$A12) -> 0
A13: 08h-16h | C13: =COUNTIF(OFFSET($A$3:$A$9,,MATCH(C$11,$1:$1,0)-1),$A13) -> 0 | D13: =COUNTIF(OFFSET($A$3:$A$9,,MATCH(D$11,$1:$1,0)-1),$A13) -> 0 | E13: =COUNTIF(OFFSET($A$3:$A$9,,MATCH(E$11,$1:$1,0)-1),$A13) -> 0 | F13: =COUNTIF(OFFSET($A$3:$A$9,,MATCH(F$11,$1:$1,0)-1),$A13) -> 5
A14: 10h-18h | C14: =COUNTIF(OFFSET($A$3:$A$9,,MATCH(C$11,$1:$1,0)-1),$A14) -> 0 | D14: =COUNTIF(OFFSET($A$3:$A$9,,MATCH(D$11,$1:$1,0)-1),$A14) -> 4 | E14: =COUNTIF(OFFSET($A$3:$A$9,,MATCH(E$11,$1:$1,0)-1),$A14) -> 0 | F14: =COUNTIF(OFFSET($A$3:$A$9,,MATCH(F$11,$1:$1,0)-1),$A14) -> 0
A15: 14h-21h | C15: =COUNTIF(OFFSET($A$3:$A$9,,MATCH(C$11,$1:$1,0)-1),$A15) -> 2 | D15: =COUNTIF(OFFSET($A$3:$A$9,,MATCH(D$11,$1:$1,0)-1),$A15) -> 0 | E15: =COUNTIF(OFFSET($A$3:$A$9,,MATCH(E$11,$1:$1,0)-1),$A15) -> 2 | F15: =COUNTIF(OFFSET($A$3:$A$9,,MATCH(F$11,$1:$1,0)-1),$A15) -> 0

Sheet S50
B1: Nom | C1: =OFFSET(Prevision!$A$2,MATCH('S50'!C2,Prevision!$D$3:$D$6,0),0) -> Employé 2 | D1: =OFFSET(Prevision!$A$2,MATCH('S50'!D2,Prevision!$D$3:$D$6,0),0) -> Employé 1 | E1: =OFFSET(Prevision!$A$2,MATCH('S50'!E2,Prevision!$D$3:$D$6,0),0) -> Employé 4 | F1: =OFFSET(Prevision!$A$2,MATCH('S50'!F2,Prevision!$D$3:$D$6,0),0) -> Employé 3
B2: Poste | C2: 1 | D2: 2 | E2: 3 | F2: 4
A3: Lundi | C3: 06h-14h | D3: Repos | E3: 14h-21h | F3: 10h-18h
A4: mardi | C4: 06h-14h | D4: 08h-16h | E4: 14h-21h | F4: 10h-18h
A5: mercredi | C5: 06h-14h | D5: 08h-16h | E5: 06h-14h | F5: 10h-18h
A6: jeudi | C6: 14h-21h | D6: 08h-16h | E6: 06h-14h | F6: 10h-18h
A7: vendredi | C7: 14h-21h | D7: 08h-16h | E7: Repos | F7: 10h-18h
A8: samedi | C8: 08h-20h | D8: Repos | E8: Repos | F8: Repos
A9: dimanche | C9: Repos | D9: Repos | E9: 08h-20h | F9: Repos
C11: Employé 1 | D11: Employé 2 | E11: Employé 3 | F11: Employé 4
A12: 06h-14h | C12: =COUNTIF(OFFSET($A$3:$A$9,,MATCH(C$11,$1:$1,0)-1),$A12) -> 0 | D12: =COUNTIF(OFFSET($A$3:$A$9,,MATCH(D$11,$1:$1,0)-1),$A12) -> 3 | E12: =COUNTIF(OFFSET($A$3:$A$9,,MATCH(E$11,$1:$1,0)-1),$A12) -> 0 | F12: =COUNTIF(OFFSET($A$3:$A$9,,MATCH(F$11,$1:$1,0)-1),$A12) -> 2
A13: 08h-16h | C13: =COUNTIF(OFFSET($A$3:$A$9,,MATCH(C$11,$1:$1,0)-1),$A13) -> 4 | D13: =COUNTIF(OFFSET($A$3:$A$9,,MATCH(D$11,$1:$1,0)-1),$A13) -> 0 | E13: =COUNTIF(OFFSET($A$3:$A$9,,MATCH(E$11,$1:$1,0)-1),$A13) -> 0 | F13: =COUNTIF(OFFSET($A$3:$A$9,,MATCH(F$11,$1:$1,0)-1),$A13) -> 0
A14: 10h-18h | C14: =COUNTIF(OFFSET($A$3:$A$9,,MATCH(C$11,$1:$1,0)-1),$A14) -> 0 | D14: =COUNTIF(OFFSET($A$3:$A$9,,MATCH(D$11,$1:$1,0)-1),$A14) -> 0 | E14: =COUNTIF(OFFSET($A$3:$A$9,,MATCH(E$11,$1:$1,0)-1),$A14) -> 5 | F14: =COUNTIF(OFFSET($A$3:$A$9,,MATCH(F$11,$1:$1,0)-1),$A14) -> 0
A15: 14h-21h | C15: =COUNTIF(OFFSET($A$3:$A$9,,MATCH(C$11,$1:$1,0)-1),$A15) -> 0 | D15: =COUNTIF(OFFSET($A$3:$A$9,,MATCH(D$11,$1:$1,0)-1),$A15) -> 2 | E15: =COUNTIF(OFFSET($A$3:$A$9,,MATCH(E$11,$1:$1,0)-1),$A15) -> 0 | F15: =COUNTIF(OFFSET($A$3:$A$9,,MATCH(F$11,$1:$1,0)-1),$A15) -> 2

Sheet F

Sheet RECAP
B2: Employé 1 | C2: Employé 2 | D2: Employé 3 | E2: Employé 4
A3: 06h-14h | B3: =SUM(D:F!C12) -> 3 | C3: =SUM(D:F!D12) -> 6 | D3: =SUM(D:F!E12) -> 2 | E3: =SUM(D:F!F12) -> 4
A4: 08h-16h | B4: =SUM(D:F!C13) -> 4 | C4: =SUM(D:F!D13) -> 0 | D4: =SUM(D:F!E13) -> 4 | E4: =SUM(D:F!F13) -> 5
A5: 10h-18h | B5: =SUM(D:F!C14) -> 5 | C5: =SUM(D:F!D14) -> 4 | D5: =SUM(D:F!E14) -> 5 | E5: =SUM(D:F!F14) -> 0
A6: 14h-21h | B6: =SUM(D:F!C15) -> 2 | C6: =SUM(D:F!D15) -> 4 | D6: =SUM(D:F!E15) -> 2 | E6: =SUM(D:F!F15) -> 4
