Workbook
Name SALARIES: Salariés!$A$3:$C$7

Sheet Salariés
A1: LISTE DES SALARIES
A3: MATRICULE | B3: NOM | C3: SALAIRE DE BASE | D3: SEM. 1 | E3: SEM. 2 | F3: SEM. 3 | G3: SEM. 4
A4: 1 | B4: HAMALIBOU | C4: 1570 | D4: 41 | E4: 42 | F4: 35 | G4: 45
A5: 2 | B5: GALLS | C5: 2170 | D5: 24 | E5: 24 | F5: 24 | G5: 20
A6: 3 | B6: CEHEF | C6: 1780 | D6: 40 | E6: 35 | F6: 39 | G6: 41
A7: 4 | B7: HOUDA | C7: 2630 | D7: 45 | E7: 41 | F7: 35 | G7: 35
A8: 5 | B8: TATOUILLE | C8: 1480 | D8: 35 | E8: 37 | F8: 48 | G8: 39
A9: 6 | B9: ROUANA | C9: 2520 | D9: 40 | E9: 35 | F9: 35 | G9: 36

Sheet Salarié 1
A1: HEURES SUPPLEMENTAIRES
A3: MATRICULE | B3: 5
A5: NOM | B5: =VLOOKUP('Salarié 1'!B3,Salariés!A3:G9,2) -> TATOUILLE
B7: HEURES TRAVAILLEES SEMAINE | C7: HEURES NORMALES | D7: Contrat type | E7: NOMBRE HEURES SUP | F7: NOMBRE D'HEURES SUP 25 % | G7: NOMBRE D'HEURES SUP 50 % | H7: NOMBRE D'HEURES COMP 25 % | I7: NOMBRE D'HEURES COMP 50 %
A8: SEMAINE 1 | B8: =VLOOKUP($B$3,Salariés!$A$3:$G$9,4) -> 35 | C8: 35 | D8: =IF(B8>=C8,"tc","tp") -> tc | E8: =IF(C8>=B8,"non concerné","=C8-B8") -> non concerné | F8: =IF($B$8<=$C$8,"Non concerné",$C$8-$B$8) -> Non concerné | G8: =IF($B$8<=$C$8,"Non concerné",$C$8-$B$8) -> Non concerné | H8: =IF(G8<=8,G8,8) -> 8 | I8: =IFERROR(G8-H8,0) -> 0
A9: SEMAINE 2 | B9: =VLOOKUP($B$3,Salariés!$A$3:$G$9,5) -> 37 | C9: 35 | D9: =IF(B9>=C9,"tc","tp") -> tc | E9: =IF(B$8<=C9,"Non concerné",C$8-B$8) -> Non concerné | F9: =IF($B$8<=$C$8,"Non concerné",$C$8-$B$8) -> Non concerné | G9: =IF($B$8<=$C$8,"Non concerné",$C$8-$B$8) -> Non concerné | H9: =IF(G9<=8,G9,8) -> 8 | I9: =IFERROR(G9-H9,0) -> 0
A10: SEMAINE 3 | B10: =VLOOKUP($B$3,Salariés!$A$3:$G$9,6) -> 48 | C10: 35 | D10: =IF(B10>=C10,"tc","tp") -> tc | E10: =IF(B$8<=C10,"Non concerné",C$8-B$8) -> Non concerné | F10: =IF($B$8<=$C$8,"Non concerné",$C$8-$B$8) -> Non concerné | G10: =IF($B$8<=$C$8,"Non concerné",$C$8-$B$8) -> Non concerné | H10: =IF(G10<=8,G10,8) -> 8 | I10: =IFERROR(G10-H10,0) -> 0
A11: SEMAINE 4 | B11: =VLOOKUP($B$3,Salariés!$A$3:$G$9,7) -> 39 | C11: 35 | D11: =IF(B11>=C11,"tc","tp") -> tc | E11: =IF(B$8<=C11,"Non concerné",C$8-B$8) -> Non concerné | F11: =IF($B$8<=$C$8,"Non concerné",$C$8-$B$8) -> Non concerné | G11: =IF($B$8<=$C$8,"Non concerné",$C$8-$B$8) -> Non concerné | H11: =IF(G11<=8,G11,8) -> 8 | I11: =IFERROR(G11-H11,0) -> 0
A12: TOTAL MOIS | B12: =SUM(B8:B11) -> 159 | E12: =SUM(IF(ISNUMBER(E8:E11),E8:E11)) -> 0 | F12: =SUM(IF(ISNUMBER(F8:F11),F8:F11)) -> 0 | G12: =E12-F12 -> 0 | H12: =SUM(H8:H11) -> 32 | I12: =IFERROR(G12-H12,0) -> -32
A15: DECOMPTE DU SALAIRE BRUT
A17: NOMBRE HEURES TRAVAILLEES | D17: =B12 -> 159
A20: SALAIRE DE BASE | D20: =VLOOKUP('Salarié 1'!B3,Salariés!A3:G9,3) -> 1480 | G20: taux horaire normal : | I20: =D20/151.66 -> 9.7586707
A21: MONTANT HEURES SUPPLEMENTAIRES 25 % | D21: =F12*I21 -> 0 | G21: taux horaire majoré à | H21: 0.25 | I21: =I20*(1+H21) -> 12.198338
A22: MONTANT HEURES SUPPLEMENTAIRES 50 % | D22: =G12*I22 -> 0 | G22: taux horaire majoré à | H22: 0.5 | I22: =I20*(1+H22) -> 14.638006
A24: SALAIRE BRUT | D24: =SUM(D20:D22) -> 1480
