Workbook

Sheet Feuil1
A1: Film | B1: Acteur1 | C1: Acteur2 | D1: Acteur3 | F1: Acteur =
B2: =F2 -> Adjani | F2: Adjani
C3: =F2 -> Adjani
D4: =F2 -> Adjani
A6: Film | B6: Acteur1 | C6: Acteur2 | D6: Acteur3
A7: Film1 | B7: Adjani | C7: de Niro | D7: Cotillard
A8: Film2 | B8: Depp | C8: Cotillard | D8: Reno
A9: Film3 | B9: Reno | C9: Adjani | D9: DiCaprio
A10: Film4 | B10: Adjani | C10: Dubosc | D10: Dubosc
A11: Film5 | B11: Cotillard | C11: DiCaprio | D11: Cotillard
A12: Film6 | B12: DiCaprio | C12: DiCaprio | D12: Reno
A13: Film7 | B13: Adjani | C13: DiCaprio | D13: Cotillard
A14: Film8 | B14: Bourvil | C14: Villeret | D14: Cotillard
A15: Film9 | B15: Reno | C15: de Niro | D15: Villeret

Sheet Feuil3
A1: Acteur | B1: Trié Sans doublons
A2: =IF(OFFSET(Feuil1!$B$6,MOD(ROW()-2,COUNTA(Feuil1!A:A)-1)+1,INT((ROW()-2)/(COUNTA(Feuil1!A:A)-1)))=""," Choisir ...",OFFSET(Feuil1!$B$6,MOD(ROW()-2,COUNTA(Feuil1!A:A)-1)+1,INT((ROW()-2)/(COUNTA(Feuil1!A:A)-1)))) -> Adjani | B2: {=IF(ROW(A1)>SUM(1/COUNTIF(A$2:A$49,A$2:A$49)),0,INDEX(A$2:A$49,MATCH(MIN(IF(COUNTIF(B$1:B1,A$2:A$49)=0,COUNTIF(A$2:A$49,"<"&A$2:A$49))),COUNTIF(A$2:A$49,"<"&A$2:A$49),0)))} -> Choisir ...
A3: =IF(OFFSET(Feuil1!$B$6,MOD(ROW()-2,COUNTA(Feuil1!A:A)-1)+1,INT((ROW()-2)/(COUNTA(Feuil1!A:A)-1)))=""," Choisir ...",OFFSET(Feuil1!$B$6,MOD(ROW()-2,COUNTA(Feuil1!A:A)-1)+1,INT((ROW()-2)/(COUNTA(Feuil1!A:A)-1)))) -> Depp | B3: {=IF(ROW(A2)>SUM(1/COUNTIF(A$2:A$49,A$2:A$49)),0,INDEX(A$2:A$49,MATCH(MIN(IF(COUNTIF(B$1:B2,A$2:A$49)=0,COUNTIF(A$2:A$49,"<"&A$2:A$49))),COUNTIF(A$2:A$49,"<"&A$2:A$49),0)))} -> Adjani
A4: =IF(OFFSET(Feuil1!$B$6,MOD(ROW()-2,COUNTA(Feuil1!A:A)-1)+1,INT((ROW()-2)/(COUNTA(Feuil1!A:A)-1)))=""," Choisir ...",OFFSET(Feuil1!$B$6,MOD(ROW()-2,COUNTA(Feuil1!A:A)-1)+1,INT((ROW()-2)/(COUNTA(Feuil1!A:A)-1)))) -> Reno | B4: {=IF(ROW(A3)>SUM(1/COUNTIF(A$2:A$49,A$2:A$49)),0,INDEX(A$2:A$49,MATCH(MIN(IF(COUNTIF(B$1:B3,A$2:A$49)=0,COUNTIF(A$2:A$49,"<"&A$2:A$49))),COUNTIF(A$2:A$49,"<"&A$2:A$49),0)))} -> Bourvil
A5: =IF(OFFSET(Feuil1!$B$6,MOD(ROW()-2,COUNTA(Feuil1!A:A)-1)+1,INT((ROW()-2)/(COUNTA(Feuil1!A:A)-1)))=""," Choisir ...",OFFSET(Feuil1!$B$6,MOD(ROW()-2,COUNTA(Feuil1!A:A)-1)+1,INT((ROW()-2)/(COUNTA(Feuil1!A:A)-1)))) -> Adjani | B5: {=IF(ROW(A4)>SUM(1/COUNTIF(A$2:A$49,A$2:A$49)),0,INDEX(A$2:A$49,MATCH(MIN(IF(COUNTIF(B$1:B4,A$2:A$49)=0,COUNTIF(A$2:A$49,"<"&A$2:A$49))),COUNTIF(A$2:A$49,"<"&A$2:A$49),0)))} -> Cotillard
A6: =IF(OFFSET(Feuil1!$B$6,MOD(ROW()-2,COUNTA(Feuil1!A:A)-1)+1,INT((ROW()-2)/(COUNTA(Feuil1!A:A)-1)))=""," Choisir ...",OFFSET(Feuil1!$B$6,MOD(ROW()-2,COUNTA(Feuil1!A:A)-1)+1,INT((ROW()-2)/(COUNTA(Feuil1!A:A)-1)))) -> Cotillard | B6: {=IF(ROW(A5)>SUM(1/COUNTIF(A$2:A$49,A$2:A$49)),0,INDEX(A$2:A$49,MATCH(MIN(IF(COUNTIF(B$1:B5,A$2:A$49)=0,COUNTIF(A$2:A$49,"<"&A$2:A$49))),COUNTIF(A$2:A$49,"<"&A$2:A$49),0)))} -> de Niro
A7: =IF(OFFSET(Feuil1!$B$6,MOD(ROW()-2,COUNTA(Feuil1!A:A)-1)+1,INT((ROW()-2)/(COUNTA(Feuil1!A:A)-1)))=""," Choisir ...",OFFSET(Feuil1!$B$6,MOD(ROW()-2,COUNTA(Feuil1!A:A)-1)+1,INT((ROW()-2)/(COUNTA(Feuil1!A:A)-1)))) -> DiCaprio | B7: {=IF(ROW(A6)>SUM(1/COUNTIF(A$2:A$49,A$2:A$49)),0,INDEX(A$2:A$49,MATCH(MIN(IF(COUNTIF(B$1:B6,A$2:A$49)=0,COUNTIF(A$2:A$49,"<"&A$2:A$49))),COUNTIF(A$2:A$49,"<"&A$2:A$49),0)))} -> Depp
A8: =IF(OFFSET(Feuil1!$B$6,MOD(ROW()-2,COUNTA(Feuil1!A:A)-1)+1,INT((ROW()-2)/(COUNTA(Feuil1!A:A)-1)))=""," Choisir ...",OFFSET(Feuil1!$B$6,MOD(ROW()-2,COUNTA(Feuil1!A:A)-1)+1,INT((ROW()-2)/(COUNTA(Feuil1!A:A)-1)))) -> Adjani | B8: {=IF(ROW(A7)>SUM(1/COUNTIF(A$2:A$49,A$2:A$49)),0,INDEX(A$2:A$49,MATCH(MIN(IF(COUNTIF(B$1:B7,A$2:A$49)=0,COUNTIF(A$2:A$49,"<"&A$2:A$49))),COUNTIF(A$2:A$49,"<"&A$2:A$49),0)))} -> DiCaprio
A9: =IF(OFFSET(Feuil1!$B$6,MOD(ROW()-2,COUNTA(Feuil1!A:A)-1)+1,INT((ROW()-2)/(COUNTA(Feuil1!A:A)-1)))=""," Choisir ...",OFFSET(Feuil1!$B$6,MOD(ROW()-2,COUNTA(Feuil1!A:A)-1)+1,INT((ROW()-2)/(COUNTA(Feuil1!A:A)-1)))) -> Bourvil | B9: {=IF(ROW(A8)>SUM(1/COUNTIF(A$2:A$49,A$2:A$49)),0,INDEX(A$2:A$49,MATCH(MIN(IF(COUNTIF(B$1:B8,A$2:A$49)=0,COUNTIF(A$2:A$49,"<"&A$2:A$49))),COUNTIF(A$2:A$49,"<"&A$2:A$49),0)))} -> Dubosc
A10: =IF(OFFSET(Feuil1!$B$6,MOD(ROW()-2,COUNTA(Feuil1!A:A)-1)+1,INT((ROW()-2)/(COUNTA(Feuil1!A:A)-1)))=""," Choisir ...",OFFSET(Feuil1!$B$6,MOD(ROW()-2,COUNTA(Feuil1!A:A)-1)+1,INT((ROW()-2)/(COUNTA(Feuil1!A:A)-1)))) -> Reno | B10: {=IF(ROW(A9)>SUM(1/COUNTIF(A$2:A$49,A$2:A$49)),0,INDEX(A$2:A$49,MATCH(MIN(IF(COUNTIF(B$1:B9,A$2:A$49)=0,COUNTIF(A$2:A$49,"<"&A$2:A$49))),COUNTIF(A$2:A$49,"<"&A$2:A$49),0)))} -> Reno
A11: =IF(OFFSET(Feuil1!$B$6,MOD(ROW()-2,COUNTA(Feuil1!A:A)-1)+1,INT((ROW()-2)/(COUNTA(Feuil1!A:A)-1)))=""," Choisir ...",OFFSET(Feuil1!$B$6,MOD(ROW()-2,COUNTA(Feuil1!A:A)-1)+1,INT((ROW()-2)/(COUNTA(Feuil1!A:A)-1)))) -> Choisir ... | B11: {=IF(ROW(A10)>SUM(1/COUNTIF(A$2:A$49,A$2:A$49)),0,INDEX(A$2:A$49,MATCH(MIN(IF(COUNTIF(B$1:B10,A$2:A$49)=0,COUNTIF(A$2:A$49,"<"&A$2:A$49))),COUNTIF(A$2:A$49,"<"&A$2:A$49),0)))} -> Villeret
A12: =IF(OFFSET(Feuil1!$B$6,MOD(ROW()-2,COUNTA(Feuil1!A:A)-1)+1,INT((ROW()-2)/(COUNTA(Feuil1!A:A)-1)))=""," Choisir ...",OFFSET(Feuil1!$B$6,MOD(ROW()-2,COUNTA(Feuil1!A:A)-1)+1,INT((ROW()-2)/(COUNTA(Feuil1!A:A)-1)))) -> de Niro | B12: {=IF(ROW(A11)>SUM(1/COUNTIF(A$2:A$49,A$2:A$49)),0,INDEX(A$2:A$49,MATCH(MIN(IF(COUNTIF(B$1:B11,A$2:A$49)=0,COUNTIF(A$2:A$49,"<"&A$2:A$49))),COUNTIF(A$2:A$49,"<"&A$2:A$49),0)))} -> 0
A13: =IF(OFFSET(Feuil1!$B$6,MOD(ROW()-2,COUNTA(Feuil1!A:A)-1)+1,INT((ROW()-2)/(COUNTA(Feuil1!A:A)-1)))=""," Choisir ...",OFFSET(Feuil1!$B$6,MOD(ROW()-2,COUNTA(Feuil1!A:A)-1)+1,INT((ROW()-2)/(COUNTA(Feuil1!A:A)-1)))) -> Cotillard | B13: {=IF(ROW(A12)>SUM(1/COUNTIF(A$2:A$49,A$2:A$49)),0,INDEX(A$2:A$49,MATCH(MIN(IF(COUNTIF(B$1:B12,A$2:A$49)=0,COUNTIF(A$2:A$49,"<"&A$2:A$49))),COUNTIF(A$2:A$49,"<"&A$2:A$49),0)))} -> 0
... A49: =IF(OFFSET(Feuil1!$B$6,MOD(ROW()-2,COUNTA(Feuil1!A:A)-1)+1,INT((ROW()-2)/(COUNTA(Feuil1!A:A)-1)))=""," Choisir ...",OFFSET(Feuil1!$B$6,MOD(ROW()-2,COUNTA(Feuil1!A:A)-1)+1,INT((ROW()-2)/(COUNTA(Feuil1!A:A)-1)))) -> Choisir ... | B49: {=IF(ROW(A48)>SUM(1/COUNTIF(A$2:A$49,A$2:A$49)),0,INDEX(A$2:A$49,MATCH(MIN(IF(COUNTIF(B$1:B48,A$2:A$49)=0,COUNTIF(A$2:A$49,"<"&A$2:A$49))),COUNTIF(A$2:A$49,"<"&A$2:A$49),0)))} -> 0
