Workbook

Sheet Planning avec dates
F1: Date | G1: Planning
B2: level 0 | C2: level 1 | D2: level 2 | E2: level 3 | F2: applicable | G2: 2017 | X2: 2018 | BX2: 2019 | DX2: 2020
F3: 0 = NA | G3: September | K3: October | O3: November | T3: December | X3: January | AC3: February | AG3: March | AK3: April | AO3: May | AT3: June | AX3: July | BB3: August | BG3: September | BK3: October | BP3: November | BT3: December | BX3: January | CC3: February | CG3: March | CK3: April | CO3: May | CT3: June | CX3: July | DB3: August | DG3: September | DK3: October | DP3: November | DT3: December | DX3: January | EC3: February | EG3: March | EK3: April | EO3: May | ET3: June | EX3: July | FB3: August | FG3: September | FK3: October | FP3: November | FT3: December
A4: ID | G4: W36 | H4: W37 | I4: W38 | J4: W39 | K4: W40 | L4: W41 | M4: W42 | N4: W43 | O4: W44 | P4: W45 | Q4: W46 | R4: W47 | S4: W48 | T4: W49 | U4: W50 | V4: W51 | W4: W52 | X4: W01 | Y4: W02 | Z4: W03 | AA4: W04 | AB4: W05 | AC4: W06 | AD4: W07 | AE4: W08 | AF4: W09 | AG4: W10 | AH4: W11 | AI4: W12 | AJ4: W13 | AK4: W14 | AL4: W15 | AM4: W16 | AN4: W17 | AO4: W18 | AP4: W19 | AQ4: W20 | AR4: W21 | AS4: W22 | AT4: W23 | AU4: W24 | AV4: W25 | AW4: W26 | AX4: W27 | AY4: W28 | AZ4: W29 | BA4: W30 | BB4: W31 | BC4: W32 | BD4: W33 | BE4: W34 | BF4: W35 | BG4: W36 | BH4: W37 | BI4: W38 | BJ4: W39 | BK4: W40 | BL4: W41 | BM4: W42 | BN4: W43 | BO4: W44 | BP4: W45 | BQ4: W46 | BR4: W47 | BS4: W48 | BT4: W49 | BU4: W50 | BV4: W51 | BW4: W52 | BX4: W01 | BY4: W02 | BZ4: W03 | CA4: W04 | CB4: W05 | CC4: W06 | CD4: W07 | CE4: W08 | CF4: W09 | CG4: W10 | CH4: W11 | CI4: W12 | CJ4: W13 | CK4: W14 | CL4: W15 | CM4: W16 | CN4: W17 | CO4: W18 | CP4: W19 | CQ4: W20 | CR4: W21 | CS4: W22 | CT4: W23 | CU4: W24 | CV4: W25 | CW4: W26 | CX4: W27 | CY4: W28 | CZ4: W29 | DA4: W30 | DB4: W31 | DC4: W32 | DD4: W33 | DE4: W34 | DF4: W35 | DG4: W36 | DH4: W37 | DI4: W38 | DJ4: W39 | DK4: W40 | DL4: W41 | DM4: W42 | DN4: W43 | DO4: W44 | DP4: W45 | DQ4: W46 | DR4: W47 | DS4: W48 | DT4: W49 | DU4: W50 | DV4: W51 | DW4: W52 | DX4: W01 | DY4: W02 | DZ4: W03 | EA4: W04 | EB4: W05 | EC4: W06 | ED4: W07 | EE4: W08 | EF4: W09 | EG4: W10 | EH4: W11 | EI4: W12 | EJ4: W13 | EK4: W14 | EL4: W15 | EM4: W16 | EN4: W17 | EO4: W18 | EP4: W19 | EQ4: W20 | ER4: W21 | ES4: W22 | ET4: W23 | EU4: W24 | EV4: W25 | EW4: W26 | EX4: W27 | EY4: W28 | EZ4: W29 | FA4: W30 | FB4: W31 | FC4: W32 | FD4: W33 | FE4: W34 | FF4: W35 | FG4: W36 | FH4: W37 | FI4: W38 | FJ4: W39 | FK4: W40 | FL4: W41 | FM4: W42 | FN4: W43 | FO4: W44 | FP4: W45 | FQ4: W46 | FR4: W47 | FS4: W48 | FT4: W49 | FU4: W50 | FV4: W51 | FW4: W52
A5: 1 | B5: A | G5: X | H5: X | I5: X | J5: X | K5: X | L5: X | M5: X | N5: X | O5: X | P5: X | Q5: X | R5: X | S5: X | T5: X | U5: X
A6: 2 | C6: A1 | G6: X | H6: X | I6: X
A7: 3 | D7: B1 | G7: X | H7: X | I7: X | J7: X | K7: X
A8: 4 | D8: B2 | G8: X | H8: X | I8: X | J8: X | K8: X
A9: 5 | D9: B3 | G9: X | H9: X | I9: X | J9: X | K9: X
A10: 6 | E10: B4 | K10: X | L10: X | M10: X | N10: X | O10: X | P10: X | Q10: X | R10: X
A11: 7 | E11: B5 | K11: X | L11: X | M11: X | N11: X | O11: X | P11: X | Q11: X | R11: X
A12: 8 | E12: B6 | K12: X | L12: X | M12: X | N12: X | O12: X | P12: X | Q12: X | R12: X
A13: 9 | B13: B | G13: X | H13: X | I13: X | J13: X | K13: X | L13: X | M13: X | N13: X | O13: X | P13: X | Q13: X | R13: X | S13: X | T13: X | U13: X | V13: X | W13: X | X13: X | Y13: X | Z13: X | AA13: X
A14: 10 | C14: A2 | G14: X | H14: X | I14: X | J14: X | K14: X | L14: X | M14: X | N14: X
A15: 11 | D15: B7 | V15: X | W15: X | X15: X | Y15: X | Z15: X | AA15: X | AB15: X | AC15: X | AD15: X
A16: 12 | D16: B8 | V16: X | W16: X | X16: X | Y16: X | Z16: X | AA16: X | AB16: X | AC16: X | AD16: X
A17: 13 | D17: B9 | V17: X | W17: X | X17: X | Y17: X | Z17: X | AA17: X | AB17: X | AC17: X | AD17: X
A18: 14 | D18: B10 | V18: X | W18: X | X18: X | Y18: X | Z18: X | AA18: X | AB18: X | AC18: X | AD18: X
A19: 15 | D19: B11 | V19: X | W19: X | X19: X | Y19: X | Z19: X | AA19: X | AB19: X | AC19: X | AD19: X
A20: 16 | E20: B12 | P20: X | Q20: X | R20: X | S20: X | T20: X | U20: X
A21: 17 | E21: B13 | P21: X | Q21: X | R21: X | S21: X | T21: X | U21: X
A22: 18 | E22: B14 | P22: X | Q22: X | R22: X | S22: X | T22: X | U22: X
A23: 19 | E23: B15 | P23: X | Q23: X | R23: X | S23: X | T23: X | U23: X
A24: 20 | C24: A3 | R24: X | S24: X | T24: X | U24: X | V24: X | W24: X | X24: X | Y24: X | Z24: X | AA24: X | AB24: X | AC24: X | AD24: X | AE24: X | AF24: X | AG24: X | AH24: X | AI24: X | AJ24: X | AK24: X | AL24: X | AM24: X
A25: 21 | D25: B16 | AH25: X | AI25: X | AJ25: X | AK25: X
A26: 22 | D26: B17 | AH26: X | AI26: X | AJ26: X | AK26: X
A27: 23 | E27: B18 | AN27: X | AO27: X | AP27: X | AQ27: X
A28: 24 | E28: B19 | AN28: X | AO28: X | AP28: X | AQ28: X
A29: 25 | E29: B20 | AN29: X | AO29: X | AP29: X | AQ29: X
A30: 26 | D30: B21 | AT30: X | AU30: X | AV30: X
A31: 27 | D31: B22 | AT31: X | AU31: X | AV31: X
A32: 28 | E32: B23 | AZ32: X | BA32: X | BB32: X | BC32: X | BD32: X | BE32: X | BF32: X | BG32: X | BH32: X | BI32: X | BJ32: X | BK32: X | BL32: X
A33: 29 | E33: B24 | AZ33: X | BA33: X | BB33: X | BC33: X | BD33: X | BE33: X | BF33: X | BG33: X | BH33: X | BI33: X | BJ33: X | BK33: X | BL33: X
A34: 30 | E34: B25 | AZ34: X | BA34: X | BB34: X | BC34: X | BD34: X | BE34: X | BF34: X | BG34: X | BH34: X | BI34: X | BJ34: X | BK34: X | BL34: X
A35: 31 | B35: C | BA35: X | BB35: X | BC35: X | BD35: X | BE35: X | BF35: X | BG35: X | BH35: X | BI35: X | BJ35: X | BK35: X | BL35: X | BM35: X | BN35: X | BO35: X | BP35: X | BQ35: X | BR35: X | BS35: X
A36: 32 | C36: A4 | AX36: X | AY36: X | AZ36: X | BA36: X
A37: 33 | E37: B26 | AZ37: X | BA37: X | BB37: X | BC37: X | BD37: X | BE37: X | BF37: X | BG37: X | BH37: X | BI37: X
A38: 34 | E38: B27 | AZ38: X | BA38: X | BB38: X | BC38: X | BD38: X | BE38: X | BF38: X | BG38: X | BH38: X | BI38: X
A39: 35 | C39: A5 | AZ39: X | BA39: X | BB39: X | BC39: X | BD39: X | BE39: X | BF39: X | BG39: X | BH39: X | BI39: X | BJ39: X | BK39: X | BL39: X | BM39: X | BN39: X | BO39: X | BP39: X | BQ39: X
A40: 36 | D40: B28 | BE40: X | BF40: X | BG40: X | BH40: X | BI40: X | BJ40: X | BK40: X | BL40: X | BM40: X | BN40: X | BO40: X | BP40: X | BQ40: X | BR40: X | BS40: X | BT40: X | BU40: X | BV40: X
...

Sheet Dates
B1: Tâche | C1: Début | D1: Fin
B2: =INDEX('Planning avec dates'!$B5:$E5,MATCH("*",'Planning avec dates'!$B5:$E5,0)) -> A | C2: =INDEX('Planning avec dates'!$4:$4,MATCH("X",'Planning avec dates'!5:5,0)) -> W36 | D2: =INDEX('Planning avec dates'!$4:$4,MATCH("X",'Planning avec dates'!5:5,1)) -> W50
B3: =INDEX('Planning avec dates'!$B6:$E6,MATCH("*",'Planning avec dates'!$B6:$E6,0)) -> A1
B4: =INDEX('Planning avec dates'!$B7:$E7,MATCH("*",'Planning avec dates'!$B7:$E7,0)) -> B1
B5: =INDEX('Planning avec dates'!$B8:$E8,MATCH("*",'Planning avec dates'!$B8:$E8,0)) -> B2
B6: =INDEX('Planning avec dates'!$B9:$E9,MATCH("*",'Planning avec dates'!$B9:$E9,0)) -> B3
B7: =INDEX('Planning avec dates'!$B10:$E10,MATCH("*",'Planning avec dates'!$B10:$E10,0)) -> B4
B8: =INDEX('Planning avec dates'!$B11:$E11,MATCH("*",'Planning avec dates'!$B11:$E11,0)) -> B5
B9: =INDEX('Planning avec dates'!$B12:$E12,MATCH("*",'Planning avec dates'!$B12:$E12,0)) -> B6
B10: =INDEX('Planning avec dates'!$B13:$E13,MATCH("*",'Planning avec dates'!$B13:$E13,0)) -> B
B11: =INDEX('Planning avec dates'!$B14:$E14,MATCH("*",'Planning avec dates'!$B14:$E14,0)) -> A2
B12: =INDEX('Planning avec dates'!$B15:$E15,MATCH("*",'Planning avec dates'!$B15:$E15,0)) -> B7
B13: =INDEX('Planning avec dates'!$B16:$E16,MATCH("*",'Planning avec dates'!$B16:$E16,0)) -> B8
B14: =INDEX('Planning avec dates'!$B17:$E17,MATCH("*",'Planning avec dates'!$B17:$E17,0)) -> B9
... B169: =INDEX('Planning avec dates'!$B172:$E172,MATCH("*",'Planning avec dates'!$B172:$E172,0)) -> B157
