Workbook

Sheet Planning avec dates
F1: Date | G1: Planning
B2: level 0 | C2: level 1 | D2: level 2 | E2: level 3 | F2: applicable | G2: 2017 | X2: 2018 | BX2: 2019 | DX2: 2020
F3: 0 = NA | G3: September | K3: October | O3: November | T3: December | X3: January | AC3: February | AG3: March | AK3: April | AO3: May | AT3: June | AX3: July | BB3: August | BG3: September | BK3: October | BP3: November | BT3: December | BX3: January | CC3: February | CG3: March | CK3: April | CO3: May | CT3: June | CX3: July | DB3: August | DG3: September | DK3: October | DP3: November | DT3: December | DX3: January | EC3: February | EG3: March | EK3: April | EO3: May | ET3: June | EX3: July | FB3: August | FG3: September | FK3: October | FP3: November | FT3: December
A4: ID | G4: W36 | H4: W37 | I4: W38 | J4: W39 | K4: W40 | L4: W41 | M4: W42 | N4: W43 | O4: W44 | P4: W45 | Q4: W46 | R4: W47 | S4: W48 | T4: W49 | U4: W50 | V4: W51 | W4: W52 | X4: W01 | Y4: W02 | Z4: W03 | AA4: W04 | AB4: W05 | AC4: W06 | AD4: W07 | AE4: W08 | AF4: W09 | AG4: W10 | AH4: W11 | AI4: W12 | AJ4: W13 | AK4: W14 | AL4: W15 | AM4: W16 | AN4: W17 | AO4: W18 | AP4: W19 | AQ4: W20 | AR4: W21 | AS4: W22 | AT4: W23 | AU4: W24 | AV4: W25 | AW4: W26 | AX4: W27 | AY4: W28 | AZ4: W29 | BA4: W30 | BB4: W31 | BC4: W32 | BD4: W33 | BE4: W34 | BF4: W35 | BG4: W36 | BH4: W37 | BI4: W38 | BJ4: W39 | BK4: W40 | BL4: W41 | BM4: W42 | BN4: W43 | BO4: W44 | BP4: W45 | BQ4: W46 | BR4: W47 | BS4: W48 | BT4: W49 | BU4: W50 | BV4: W51 | BW4: W52 | BX4: W01 | BY4: W02 | BZ4: W03 | CA4: W04 | CB4: W05 | CC4: W06 | CD4: W07 | CE4: W08 | CF4: W09 | CG4: W10 | CH4: W11 | CI4: W12 | CJ4: W13 | CK4: W14 | CL4: W15 | CM4: W16 | CN4: W17 | CO4: W18 | CP4: W19 | CQ4: W20 | CR4: W21 | CS4: W22 | CT4: W23 | CU4: W24 | CV4: W25 | CW4: W26 | CX4: W27 | CY4: W28 | CZ4: W29 | DA4: W30 | DB4: W31 | DC4: W32 | DD4: W33 | DE4: W34 | DF4: W35 | DG4: W36 | DH4: W37 | DI4: W38 | DJ4: W39 | DK4: W40 | DL4: W41 | DM4: W42 | DN4: W43 | DO4: W44 | DP4: W45 | DQ4: W46 | DR4: W47 | DS4: W48 | DT4: W49 | DU4: W50 | DV4: W51 | DW4: W52 | DX4: W01 | DY4: W02 | DZ4: W03 | EA4: W04 | EB4: W05 | EC4: W06 | ED4: W07 | EE4: W08 | EF4: W09 | EG4: W10 | EH4: W11 | EI4: W12 | EJ4: W13 | EK4: W14 | EL4: W15 | EM4: W16 | EN4: W17 | EO4: W18 | EP4: W19 | EQ4: W20 | ER4: W21 | ES4: W22 | ET4: W23 | EU4: W24 | EV4: W25 | EW4: W26 | EX4: W27 | EY4: W28 | EZ4: W29 | FA4: W30 | FB4: W31 | FC4: W32 | FD4: W33 | FE4: W34 | FF4: W35 | FG4: W36 | FH4: W37 | FI4: W38 | FJ4: W39 | FK4: W40 | FL4: W41 | FM4: W42 | FN4: W43 | FO4: W44 | FP4: W45 | FQ4: W46 | FR4: W47 | FS4: W48 | FT4: W49 | FU4: W50 | FV4: W51 | FW4: W52
A5: 1 | B5: A | G5: X | H5: X | I5: X | J5: X | K5: X | L5: X | M5: X | N5: X | O5: X | P5: X | Q5: X | R5: X | S5: X | T5: X | U5: X
A6: 2 | C6: A1 | G6: X | H6: X | I6: X
A7: 3 | D7: B1 | G7: X | H7: X | I7: X | J7: X | K7: X
A8: 4 | D8: B2 | G8: X | H8: X | I8: X | J8: X | K8: X
A9: 5 | D9: B3 | G9: X | H9: X | I9: X | J9: X | K9: X
A10: 6 | E10: B4 | K10: X | L10: X | M10: X | N10: X | O10: X | P10: X | Q10: X | R10: X
A11: 7 | E11: B5 | K11: X | L11: X | M11: X | N11: X | O11: X | P11: X | Q11: X | R11: X
A12: 8 | E12: B6 | K12: X | L12: X | M12: X | N12: X | O12: X | P12: X | Q12: X | R12: X
A13: 9 | B13: B | G13: X | H13: X | I13: X | J13: X | K13: X | L13: X | M13: X | N13: X | O13: X | P13: X | Q13: X | R13: X | S13: X | T13: X | U13: X | V13: X | W13: X | X13: X | Y13: X | Z13: X | AA13: X
A14: 10 | C14: A2 | G14: X | H14: X | I14: X | J14: X | K14: X | L14: X | M14: X | N14: X
A15: 11 | D15: B7 | V15: X | W15: X | X15: X | Y15: X | Z15: X | AA15: X | AB15: X | AC15: X | AD15: X
A16: 12 | D16: B8 | V16: X | W16: X | X16: X | Y16: X | Z16: X | AA16: X | AB16: X | AC16: X | AD16: X
A17: 13 | D17: B9 | V17: X | W17: X | X17: X | Y17: X | Z17: X | AA17: X | AB17: X | AC17: X | AD17: X
A18: 14 | D18: B10 | V18: X | W18: X | X18: X | Y18: X | Z18: X | AA18: X | AB18: X | AC18: X | AD18: X
A19: 15 | D19: B11 | V19: X | W19: X | X19: X | Y19: X | Z19: X | AA19: X | AB19: X | AC19: X | AD19: X
A20: 16 | E20: B12 | P20: X | Q20: X | R20: X | S20: X | T20: X | U20: X
A21: 17 | E21: B13 | P21: X | Q21: X | R21: X | S21: X | T21: X | U21: X
A22: 18 | E22: B14 | P22: X | Q22: X | R22: X | S22: X | T22: X | U22: X
A23: 19 | E23: B15 | P23: X | Q23: X | R23: X | S23: X | T23: X | U23: X
A24: 20 | C24: A3 | R24: X | S24: X | T24: X | U24: X | V24: X | W24: X | X24: X | Y24: X | Z24: X | AA24: X | AB24: X | AC24: X | AD24: X | AE24: X | AF24: X | AG24: X | AH24: X | AI24: X | AJ24: X | AK24: X | AL24: X | AM24: X
A25: 21 | D25: B16 | AH25: X | AI25: X | AJ25: X | AK25: X
A26: 22 | D26: B17 | AH26: X | AI26: X | AJ26: X | AK26: X
A27: 23 | E27: B18 | AN27: X | AO27: X | AP27: X | AQ27: X
A28: 24 | E28: B19 | AN28: X | AO28: X | AP28: X | AQ28: X
A29: 25 | E29: B20 | AN29: X | AO29: X | AP29: X | AQ29: X
A30: 26 | D30: B21 | AT30: X | AU30: X | AV30: X
A31: 27 | D31: B22 | AT31: X | AU31: X | AV31: X
A32: 28 | E32: B23 | AZ32: X | BA32: X | BB32: X | BC32: X | BD32: X | BE32: X | BF32: X | BG32: X | BH32: X | BI32: X | BJ32: X | BK32: X | BL32: X
A33: 29 | E33: B24 | AZ33: X | BA33: X | BB33: X | BC33: X | BD33: X | BE33: X | BF33: X | BG33: X | BH33: X | BI33: X | BJ33: X | BK33: X | BL33: X
A34: 30 | E34: B25 | AZ34: X | BA34: X | BB34: X | BC34: X | BD34: X | BE34: X | BF34: X | BG34: X | BH34: X | BI34: X | BJ34: X | BK34: X | BL34: X
A35: 31 | B35: C | BA35: X | BB35: X | BC35: X | BD35: X | BE35: X | BF35: X | BG35: X | BH35: X | BI35: X | BJ35: X | BK35: X | BL35: X | BM35: X | BN35: X | BO35: X | BP35: X | BQ35: X | BR35: X | BS35: X
A36: 32 | C36: A4 | AX36: X | AY36: X | AZ36: X | BA36: X
A37: 33 | E37: B26 | AZ37: X | BA37: X | BB37: X | BC37: X | BD37: X | BE37: X | BF37: X | BG37: X | BH37: X | BI37: X
A38: 34 | E38: B27 | AZ38: X | BA38: X | BB38: X | BC38: X | BD38: X | BE38: X | BF38: X | BG38: X | BH38: X | BI38: X
A39: 35 | C39: A5 | AZ39: X | BA39: X | BB39: X | BC39: X | BD39: X | BE39: X | BF39: X | BG39: X | BH39: X | BI39: X | BJ39: X | BK39: X | BL39: X | BM39: X | BN39: X | BO39: X | BP39: X | BQ39: X
A40: 36 | D40: B28 | BE40: X | BF40: X | BG40: X | BH40: X | BI40: X | BJ40: X | BK40: X | BL40: X | BM40: X | BN40: X | BO40: X | BP40: X | BQ40: X | BR40: X | BS40: X | BT40: X | BU40: X | BV40: X
A41: 37 | E41: B29 | BA41: X | BB41: X | BC41: X | BD41: X | BE41: X | BF41: X | BG41: X | BH41: X
A42: 38 | E42: B30 | BH42: X | BI42: X | BJ42: X | BK42: X | BL42: X | BM42: X | BN42: X | BO42: X | BP42: X | BQ42: X | BR42: X | BS42: X | BT42: X | BU42: X | BV42: X | BW42: X
A43: 39 | E43: B31 | BH43: X | BI43: X | BJ43: X | BK43: X | BL43: X | BM43: X | BN43: X | BO43: X | BP43: X | BQ43: X | BR43: X | BS43: X | BT43: X | BU43: X | BV43: X | BW43: X
A44: 40 | E44: B32 | BH44: X | BI44: X | BJ44: X | BK44: X | BL44: X | BM44: X | BN44: X | BO44: X | BP44: X | BQ44: X | BR44: X | BS44: X | BT44: X | BU44: X | BV44: X | BW44: X
A45: 41 | E45: B33 | BH45: X | BI45: X | BJ45: X | BK45: X | BL45: X | BM45: X | BN45: X | BO45: X | BP45: X | BQ45: X | BR45: X | BS45: X | BT45: X | BU45: X | BV45: X | BW45: X
A46: 42 | E46: B34 | BH46: X | BI46: X | BJ46: X | BK46: X | BL46: X | BM46: X | BN46: X | BO46: X | BP46: X | BQ46: X | BR46: X | BS46: X | BT46: X | BU46: X | BV46: X | BW46: X
A47: 43 | E47: B35 | BH47: X | BI47: X | BJ47: X | BK47: X | BL47: X | BM47: X | BN47: X | BO47: X | BP47: X | BQ47: X | BR47: X | BS47: X | BT47: X | BU47: X | BV47: X | BW47: X
A48: 44 | E48: B36 | BH48: X | BI48: X | BJ48: X | BK48: X | BL48: X | BM48: X | BN48: X | BO48: X | BP48: X | BQ48: X | BR48: X | BS48: X | BT48: X | BU48: X | BV48: X | BW48: X
A49: 45 | E49: B37 | BH49: X | BI49: X | BJ49: X | BK49: X | BL49: X | BM49: X | BN49: X | BO49: X | BP49: X | BQ49: X | BR49: X | BS49: X | BT49: X | BU49: X | BV49: X | BW49: X
A50: 46 | E50: B38 | BH50: X | BI50: X | BJ50: X | BK50: X | BL50: X | BM50: X | BN50: X | BO50: X | BP50: X | BQ50: X | BR50: X | BS50: X | BT50: X | BU50: X | BV50: X | BW50: X
A51: 47 | E51: B39 | BH51: X | BI51: X | BJ51: X | BK51: X | BL51: X | BM51: X | BN51: X | BO51: X | BP51: X | BQ51: X | BR51: X | BS51: X | BT51: X | BU51: X | BV51: X | BW51: X
A52: 48 | E52: B40 | BH52: X | BI52: X | BJ52: X | BK52: X | BL52: X | BM52: X | BN52: X | BO52: X | BP52: X | BQ52: X | BR52: X | BS52: X | BT52: X | BU52: X | BV52: X | BW52: X
A53: 49 | E53: B41 | BH53: X | BI53: X | BJ53: X | BK53: X | BL53: X | BM53: X | BN53: X | BO53: X | BP53: X | BQ53: X | BR53: X | BS53: X | BT53: X | BU53: X | BV53: X | BW53: X
... A57: 53 | E57: B45 | BH57: X | BI57: X | BJ57: X | BK57: X | BL57: X | BM57: X | BN57: X | BO57: X | BP57: X | BQ57: X | BR57: X | BS57: X | BT57: X | BU57: X | BV57: X | BW57: X
A58: 54 | D58: B46
A59: 55 | E59: B47
A60: 56 | E60: B48
A61: 57 | E61: B49 | AS61: X | AT61: X | AU61: X | AV61: X | AW61: X | AX61: X | AY61: X | AZ61: X | BA61: X | BB61: X | BC61: X | BD61: X | BE61: X | BF61: X | BG61: X | BH61: X | BI61: X | BJ61: X | BK61: X | BL61: X | BM61: X | BN61: X | BO61: X
A62: 58 | E62: B50 | AS62: X | AT62: X | AU62: X | AV62: X | AW62: X | AX62: X | AY62: X | AZ62: X | BA62: X | BB62: X | BC62: X | BD62: X | BE62: X | BF62: X | BG62: X | BH62: X | BI62: X | BJ62: X | BK62: X | BL62: X | BM62: X | BN62: X | BO62: X
A63: 59 | E63: B51 | AS63: X | AT63: X | AU63: X | AV63: X | AW63: X | AX63: X | AY63: X | AZ63: X | BA63: X | BB63: X | BC63: X | BD63: X | BE63: X | BF63: X | BG63: X | BH63: X | BI63: X | BJ63: X | BK63: X | BL63: X | BM63: X | BN63: X | BO63: X
A64: 60 | D64: B52 | AS64: X | AT64: X | AU64: X | AV64: X | AW64: X | AX64: X | AY64: X | AZ64: X | BA64: X | BB64: X | BC64: X | BD64: X | BE64: X | BF64: X | BG64: X | BH64: X | BI64: X | BJ64: X | BK64: X | BL64: X | BM64: X | BN64: X | BO64: X
A65: 61 | E65: B53 | AS65: X | AT65: X | AU65: X | AV65: X | AW65: X | AX65: X | AY65: X | AZ65: X | BA65: X | BB65: X | BC65: X | BD65: X | BE65: X | BF65: X | BG65: X | BH65: X | BI65: X | BJ65: X | BK65: X | BL65: X | BM65: X | BN65: X | BO65: X
A66: 62 | E66: B54 | AS66: X | AT66: X | AU66: X | AV66: X | AW66: X | AX66: X | AY66: X | AZ66: X | BA66: X | BB66: X | BC66: X | BD66: X | BE66: X | BF66: X | BG66: X | BH66: X | BI66: X | BJ66: X | BK66: X | BL66: X | BM66: X | BN66: X | BO66: X
A67: 63 | D67: B55 | AS67: X | AT67: X | AU67: X | AV67: X | AW67: X | AX67: X | AY67: X | AZ67: X | BA67: X | BB67: X | BC67: X | BD67: X | BE67: X | BF67: X | BG67: X | BH67: X | BI67: X | BJ67: X | BK67: X | BL67: X | BM67: X | BN67: X | BO67: X
A68: 64 | D68: B56 | AS68: X | AT68: X | AU68: X | AV68: X | AW68: X | AX68: X | AY68: X | AZ68: X | BA68: X | BB68: X | BC68: X | BD68: X | BE68: X | BF68: X | BG68: X | BH68: X | BI68: X | BJ68: X | BK68: X | BL68: X | BM68: X | BN68: X | BO68: X
A69: 65 | E69: B57 | AS69: X | AT69: X | AU69: X | AV69: X | AW69: X | AX69: X | AY69: X | AZ69: X | BA69: X | BB69: X | BC69: X | BD69: X | BE69: X | BF69: X | BG69: X | BH69: X | BI69: X | BJ69: X | BK69: X | BL69: X | BM69: X | BN69: X | BO69: X
A70: 66 | E70: B58 | AS70: X | AT70: X | AU70: X | AV70: X | AW70: X | AX70: X | AY70: X | AZ70: X | BA70: X | BB70: X | BC70: X | BD70: X | BE70: X | BF70: X | BG70: X | BH70: X | BI70: X | BJ70: X | BK70: X | BL70: X | BM70: X | BN70: X | BO70: X
A71: 67 | D71: B59 | AS71: X | AT71: X | AU71: X | AV71: X | AW71: X | AX71: X | AY71: X | AZ71: X | BA71: X | BB71: X | BC71: X | BD71: X | BE71: X | BF71: X | BG71: X | BH71: X | BI71: X | BJ71: X | BK71: X | BL71: X | BM71: X | BN71: X | BO71: X
A72: 68 | D72: B60 | AS72: X | AT72: X | AU72: X | AV72: X | AW72: X | AX72: X | AY72: X | AZ72: X | BA72: X | BB72: X | BC72: X | BD72: X | BE72: X | BF72: X | BG72: X | BH72: X | BI72: X | BJ72: X | BK72: X | BL72: X | BM72: X | BN72: X | BO72: X
A73: 69 | D73: B61 | AS73: X | AT73: X | AU73: X | AV73: X | AW73: X | AX73: X | AY73: X | AZ73: X | BA73: X | BB73: X | BC73: X | BD73: X | BE73: X | BF73: X | BG73: X | BH73: X | BI73: X | BJ73: X | BK73: X | BL73: X | BM73: X | BN73: X | BO73: X
A74: 70 | D74: B62 | BB74: X | BC74: X | BD74: X | BE74: X | BF74: X | BG74: X | BH74: X | BI74: X | BJ74: X | BK74: X | BL74: X | BM74: X | BN74: X | BO74: X | BP74: X | BQ74: X | BR74: X | BS74: X
A75: 71 | D75: B63 | AV75: X | AW75: X | AX75: X | AY75: X | AZ75: X | BA75: X | BB75: X | BC75: X | BD75: X | BE75: X | BF75: X | BG75: X | BH75: X | BI75: X | BJ75: X
A76: 72 | E76: B64 | AV76: X | AW76: X | AX76: X | AY76: X | AZ76: X | BA76: X | BB76: X | BC76: X | BD76: X | BE76: X | BF76: X | BG76: X | BH76: X | BI76: X | BJ76: X
A77: 73 | E77: B65 | AV77: X | AW77: X | AX77: X | AY77: X | AZ77: X | BA77: X | BB77: X | BC77: X | BD77: X | BE77: X | BF77: X | BG77: X | BH77: X | BI77: X | BJ77: X
A78: 74 | D78: B66 | AV78: X | AW78: X | AX78: X | AY78: X | AZ78: X | BA78: X | BB78: X | BC78: X | BD78: X | BE78: X | BF78: X | BG78: X | BH78: X | BI78: X | BJ78: X
A79: 75 | E79: B67 | AS79: X | AT79: X | AU79: X | AV79: X | AW79: X | AX79: X | AY79: X | AZ79: X | BA79: X | BB79: X | BC79: X | BD79: X | BE79: X | BF79: X | BG79: X | BH79: X | BI79: X | BJ79: X | BK79: X | BL79: X | BM79: X | BN79: X | BO79: X | BP79: X | BQ79: X | BR79: X | BS79: X | BT79: X | BU79: X | BV79: X | BW79: X | BX79: X | BY79: X
A80: 76 | E80: B68 | AS80: X | AT80: X | AU80: X | AV80: X | AW80: X | AX80: X | AY80: X | AZ80: X | BA80: X | BB80: X | BC80: X | BD80: X | BE80: X | BF80: X | BG80: X | BH80: X | BI80: X | BJ80: X | BK80: X | BL80: X | BM80: X | BN80: X | BO80: X | BP80: X | BQ80: X | BR80: X | BS80: X | BT80: X | BU80: X | BV80: X | BW80: X | BX80: X | BY80: X
A81: 77 | E81: B69 | AS81: X | AT81: X | AU81: X | AV81: X | AW81: X | AX81: X | AY81: X | AZ81: X | BA81: X | BB81: X | BC81: X | BD81: X | BE81: X | BF81: X | BG81: X | BH81: X | BI81: X | BJ81: X | BK81: X | BL81: X | BM81: X | BN81: X | BO81: X | BP81: X | BQ81: X | BR81: X | BS81: X | BT81: X | BU81: X | BV81: X | BW81: X | BX81: X | BY81: X
A82: 78 | E82: B70 | AS82: X | AT82: X | AU82: X | AV82: X | AW82: X | AX82: X | AY82: X | AZ82: X | BA82: X | BB82: X | BC82: X | BD82: X | BE82: X | BF82: X | BG82: X | BH82: X | BI82: X | BJ82: X | BK82: X | BL82: X | BM82: X | BN82: X | BO82: X | BP82: X | BQ82: X | BR82: X | BS82: X | BT82: X | BU82: X | BV82: X | BW82: X | BX82: X | BY82: X
A83: 79 | E83: B71 | AS83: X | AT83: X | AU83: X | AV83: X | AW83: X | AX83: X | AY83: X | AZ83: X | BA83: X | BB83: X | BC83: X | BD83: X | BE83: X | BF83: X | BG83: X | BH83: X | BI83: X | BJ83: X | BK83: X | BL83: X | BM83: X | BN83: X | BO83: X | BP83: X | BQ83: X | BR83: X | BS83: X | BT83: X | BU83: X | BV83: X | BW83: X | BX83: X | BY83: X
A84: 80 | E84: B72 | AS84: X | AT84: X | AU84: X | AV84: X | AW84: X | AX84: X | AY84: X | AZ84: X | BA84: X | BB84: X | BC84: X | BD84: X | BE84: X | BF84: X | BG84: X | BH84: X | BI84: X | BJ84: X | BK84: X | BL84: X | BM84: X | BN84: X | BO84: X | BP84: X | BQ84: X | BR84: X | BS84: X | BT84: X | BU84: X | BV84: X | BW84: X | BX84: X | BY84: X
A85: 81 | E85: B73 | AS85: X | AT85: X | AU85: X | AV85: X | AW85: X | AX85: X | AY85: X | AZ85: X | BA85: X | BB85: X | BC85: X | BD85: X | BE85: X | BF85: X | BG85: X | BH85: X | BI85: X | BJ85: X | BK85: X | BL85: X | BM85: X | BN85: X | BO85: X | BP85: X | BQ85: X | BR85: X | BS85: X | BT85: X | BU85: X | BV85: X | BW85: X | BX85: X | BY85: X
A86: 82 | E86: B74 | AS86: X | AT86: X | AU86: X | AV86: X | AW86: X | AX86: X | AY86: X | AZ86: X | BA86: X | BB86: X | BC86: X | BD86: X | BE86: X | BF86: X | BG86: X | BH86: X | BI86: X | BJ86: X | BK86: X | BL86: X | BM86: X | BN86: X | BO86: X | BP86: X | BQ86: X | BR86: X | BS86: X | BT86: X | BU86: X | BV86: X | BW86: X | BX86: X | BY86: X
A87: 83 | E87: B75 | AS87: X | AT87: X | AU87: X | AV87: X | AW87: X | AX87: X | AY87: X | AZ87: X | BA87: X | BB87: X | BC87: X | BD87: X | BE87: X | BF87: X | BG87: X | BH87: X | BI87: X | BJ87: X | BK87: X | BL87: X | BM87: X | BN87: X | BO87: X | BP87: X | BQ87: X | BR87: X | BS87: X | BT87: X | BU87: X | BV87: X | BW87: X | BX87: X | BY87: X
A88: 84 | E88: B76 | AS88: X | AT88: X | AU88: X | AV88: X | AW88: X | AX88: X | AY88: X | AZ88: X | BA88: X | BB88: X | BC88: X | BD88: X | BE88: X | BF88: X | BG88: X | BH88: X | BI88: X | BJ88: X | BK88: X | BL88: X | BM88: X | BN88: X | BO88: X | BP88: X | BQ88: X | BR88: X | BS88: X | BT88: X | BU88: X | BV88: X | BW88: X | BX88: X | BY88: X
A89: 85 | D89: B77
A90: 86 | E90: B78
A91: 87 | C91: A6
A92: 88 | D92: B79
A93: 89 | E93: B80 | AS93: X | AT93: X | AU93: X | AV93: X | AW93: X | AX93: X | AY93: X | AZ93: X | BA93: X | BB93: X | BC93: X | BD93: X | BE93: X | BF93: X | BG93: X | BH93: X | BI93: X | BJ93: X | BK93: X | BL93: X | BM93: X | BN93: X | BO93: X | BP93: X | BQ93: X | BR93: X | BS93: X | BT93: X | BU93: X | BV93: X | BW93: X | BX93: X | BY93: X | BZ93: X | CA93: X | CB93: X | CC93: X | CD93: X | CE93: X | CF93: X
A94: 90 | E94: B81 | AS94: X | AT94: X | AU94: X | AV94: X | AW94: X | AX94: X | AY94: X | AZ94: X | BA94: X | BB94: X | BC94: X | BD94: X | BE94: X | BF94: X | BG94: X | BH94: X | BI94: X | BJ94: X | BK94: X | BL94: X | BM94: X | BN94: X | BO94: X | BP94: X | BQ94: X | BR94: X | BS94: X | BT94: X | BU94: X | BV94: X | BW94: X | BX94: X | BY94: X | BZ94: X | CA94: X | CB94: X | CC94: X | CD94: X | CE94: X | CF94: X
A95: 91 | D95: B82
A96: 92 | E96: B83 | BK96: X | BL96: X | BM96: X | BN96: X | BO96: X | BP96: X | BQ96: X | BR96: X | BS96: X | BT96: X | BU96: X | BV96: X | BW96: X | BX96: X | BY96: X | BZ96: X | CA96: X | CB96: X | CC96: X | CD96: X | CE96: X | CF96: X | CG96: X | CH96: X | CI96: X | CJ96: X | CK96: X | CL96: X | CM96: X | CN96: X | CO96: X | CP96: X | CQ96: X
A97: 93 | E97: B84 | BK97: X | BL97: X | BM97: X | BN97: X | BO97: X | BP97: X | BQ97: X | BR97: X | BS97: X | BT97: X | BU97: X | BV97: X | BW97: X | BX97: X | BY97: X | BZ97: X | CA97: X | CB97: X | CC97: X | CD97: X | CE97: X | CF97: X | CG97: X | CH97: X | CI97: X | CJ97: X | CK97: X | CL97: X | CM97: X | CN97: X | CO97: X | CP97: X | CQ97: X
A98: 94 | E98: B85 | BK98: X | BL98: X | BM98: X | BN98: X | BO98: X | BP98: X | BQ98: X | BR98: X | BS98: X | BT98: X | BU98: X | BV98: X | BW98: X | BX98: X | BY98: X | BZ98: X | CA98: X | CB98: X | CC98: X | CD98: X | CE98: X | CF98: X | CG98: X | CH98: X | CI98: X | CJ98: X | CK98: X | CL98: X | CM98: X | CN98: X | CO98: X | CP98: X | CQ98: X
A99: 95 | D99: B86
A100: 96 | E100: B87 | CN100: X | CO100: X | CP100: X | CQ100: X | CR100: X | CS100: X | CT100: X | CU100: X | CV100: X
A101: 97 | C101: A7
A102: 98 | D102: B88
A103: 99 | E103: B89 | BS103: X | BT103: X | BU103: X | BV103: X | BW103: X | BX103: X | BY103: X | BZ103: X | CA103: X | CB103: X | CC103: X | CD103: X | CE103: X | CF103: X
...

Sheet Dates
B1: Tâche | C1: Début | D1: Fin
B2: =INDEX('Planning avec dates'!$B5:$E5,MATCH("*",'Planning avec dates'!$B5:$E5,0)) -> A | C2: =INDEX('Planning avec dates'!$4:$4,MATCH("X",'Planning avec dates'!5:5,0)) -> W36 | D2: =INDEX('Planning avec dates'!$4:$4,MATCH("X",'Planning avec dates'!5:5,1)) -> W50
B3: =INDEX('Planning avec dates'!$B6:$E6,MATCH("*",'Planning avec dates'!$B6:$E6,0)) -> A1
B4: =INDEX('Planning avec dates'!$B7:$E7,MATCH("*",'Planning avec dates'!$B7:$E7,0)) -> B1
B5: =INDEX('Planning avec dates'!$B8:$E8,MATCH("*",'Planning avec dates'!$B8:$E8,0)) -> B2
B6: =INDEX('Planning avec dates'!$B9:$E9,MATCH("*",'Planning avec dates'!$B9:$E9,0)) -> B3
B7: =INDEX('Planning avec dates'!$B10:$E10,MATCH("*",'Planning avec dates'!$B10:$E10,0)) -> B4
B8: =INDEX('Planning avec dates'!$B11:$E11,MATCH("*",'Planning avec dates'!$B11:$E11,0)) -> B5
B9: =INDEX('Planning avec dates'!$B12:$E12,MATCH("*",'Planning avec dates'!$B12:$E12,0)) -> B6
B10: =INDEX('Planning avec dates'!$B13:$E13,MATCH("*",'Planning avec dates'!$B13:$E13,0)) -> B
B11: =INDEX('Planning avec dates'!$B14:$E14,MATCH("*",'Planning avec dates'!$B14:$E14,0)) -> A2
B12: =INDEX('Planning avec dates'!$B15:$E15,MATCH("*",'Planning avec dates'!$B15:$E15,0)) -> B7
B13: =INDEX('Planning avec dates'!$B16:$E16,MATCH("*",'Planning avec dates'!$B16:$E16,0)) -> B8
B14: =INDEX('Planning avec dates'!$B17:$E17,MATCH("*",'Planning avec dates'!$B17:$E17,0)) -> B9
... B169: =INDEX('Planning avec dates'!$B172:$E172,MATCH("*",'Planning avec dates'!$B172:$E172,0)) -> B157
